{"text_format":"1","workbook":"xlsx","n_sheets":10,"sheets":["設定","単元・内容","１学期","２学期","３学期","集計表","取説","更新履歴","有効化","処理"],"not_rendered":{"charts":0,"images":0,"macros":1,"external_links":1,"defined_names":11,"comments":0,"pivot_tables":0},"unopened":[],"bounds":{"document_bytes":16777216,"sheet_cells":100000,"rows_first":2000,"rows_last":500,"rows_between":2000,"halvings":0,"cell_chars":16384,"cell_head_chars":4096},"cells_cut":0,"cells_raw":0,"read":"whole","date_system":"1900"}

{"sheet":"設定","index":0,"n_rows":67,"n_cols":15,"rows_kept":67,"cut":false,"hidden":false,"merged":[[0,0,0,7],[16,7,17,7],[16,5,17,5],[16,6,17,6],[1,0,1,9]]}
[{"$f":"MID(CELL(\"filename\"),FIND(\"[\",CELL(\"filename\"))+1,FIND(\"]\",CELL(\"filename\"))-FIND(\"[\",CELL(\"filename\"))-6)","v":"日案作成ソフト【中学校版】"},null,null,null,null,null,null,null,null,null,null,"Ver1.1.0"]
["＜初期設定＞　下の１～７の質問にお答えください。"]
["　１．今年度の入学式の日にちを入力してください。"]
["西暦",null,"年４月",null,"日"]
[null,"※１学期は入学式を含む週、２・３学期は始業式を含む週を「第１週」として日案を作り始めます。"]
[]
["　２．貴校に主幹教諭がいるか、いないかを選択してください。"]
[null,"いない"]
[]
["　３．追加したい授業名、その他名等を入れてください。"]
[null,"※国語、社会、数学、理科、音楽、美術、保健体育、技術、家庭、英語はすでに設定されているので入力の必要はありません。"]
[]
[]
["　４．右の表に、担当する授業、クラス、何回で１時間分の授業になるのかを入力してください。"]
[null,null,null,null,null,"授業","クラス","回数"]
[null,"例１）","２年１組 国語の授業",null,null,"国語","２－１",1]
[null,"例２）","特別支援学級 総合",null,null,"総合","○○○\n(学級名)",3]
[null,null,"３回で１時間分になる帯タイム"]
[]
[null,"授業","クラス","回数","授業","クラス","回数","授業","クラス","回数","授業","クラス","回数","その他","クラス"]
[]
[]
[]
[]
[]
[]
[null,"※上記の表と日案の時間数集計が同じ配置になります。"]
[null,"※通常授業と同名教科の帯授業を行う場合は、それぞれ入力してください。"]
[null,"※行事や委員会など、授業時間数に合算したくないものについては「その他」に入力してください。"]
[]
["　５．帯授業の授業時間を、通常授業の同教科の授業時間と合算するかしないかを入力してください。"]
[null,"合　算 ","しない"]
[]
["　６．時間割を入力してください。"]
[null,null,"月","火","水","木","金"]
[null,"前"]
[null,"１時間目"]
[null,"２時間目"]
[null,"３時間目"]
[null,"４時間目"]
[null,"５時間目"]
[null,"６時間目"]
[null,"後"]
[null,"※隔週で授業が入れ替わる場合は、どちらかを入れておき、入力していない方の授業を日案上の授業枠に手入力してください。"]
[null,"※年度の途中で時間割を変えても、それまでに入力された日案の授業は変更されません。"]
[null,"※授業時間ではないところに「×」と入力すると、日案の該当時間の枠内が灰色になります。"]
[null,"　また、「なし」と入力すると、日案の該当時間の枠内は灰色にならず、授業枠に「なし」と表示されます。"]
[null,"　どちらも必要ない場合は、何も入力しないでください。"]
[]
["　７．取り込みたい知多カリデータを選んでください。選択後【知多ｶﾘ取込】ボタンを押してください。"]
[null,null,null,"１年","２年","３年","１２年","１２３年"]
[null,null,"全て選択"]
[]
[null,"国語"]
[null,"社会"]
[null,"数学"]
[null,"理科"]
[null,"音楽"]
[null,"美術"]
[null,"保健体育"]
[null,"技術"]
[null,"家庭"]
[null,"英語"]
[null,"※知多カリデータを取り込む場合は、事前に知多教育事務所ＨＰより最新の知多カリデータをダウンロードしておいてください。"]
[]
[null,"※全ての知多カリデータを取り込むこともできますが、その分ファイルサイズが大きくなるので注意してください。"]
[null,"※旧教科書を使用する場合は、その教科書が使われていた年度の知多カリデータも取り込んでください。"]

{"sheet":"単元・内容","index":1,"n_rows":1402,"n_cols":67,"rows_kept":1402,"cut":false,"hidden":false,"merged":[]}
[null,"国語",null,null,"社会",null,null,"数学",null,null,"理科",null,null,"音楽",null,null,"美術",null,null,"保健体育",null,null,"技術",null,null,"家庭",null,null,"英語",null,null,{"$f":"設定!B12&\"\"","v":""},null,null,{"$f":"設定!C12&\"\"","v":""},null,null,{"$f":"設定!D12&\"\"","v":""},null,null,{"$f":"設定!E12&\"\"","v":""},null,null,{"$f":"設定!F12&\"\"","v":""},null,null,{"$f":"設定!G12&\"\"","v":""},null,null,{"$f":"設定!H12&\"\"","v":""},null,null,{"$f":"設定!I12&\"\"","v":""},null,null,{"$f":"設定!J12&\"\"","v":""},null,null,{"$f":"設定!K12&\"\"","v":""},null,null,{"$f":"設定!L12&\"\"","v":""},null,null,{"$f":"設定!M12&\"\"","v":""}]
["No","学年","単元名","内容","学年","単元名","内容","学年","単元名","内容","学年","単元名","内容","学年","単元名","内容","学年","単元名","内容","学年","単元名","内容","学年","単元名","内容","学年","単元名","内容","学年","単元名","内容","学年","単元名","内容","学年","単元名","内容","学年","単元名","内容","学年","単元名","内容","学年","単元名","内容","学年","単元名","内容","学年","単元名","内容","学年","単元名","内容","学年","単元名","内容","学年","単元名","内容","学年","単元名","内容","学年","単元名","内容"]
[1]
[2]
[3]
[4]
[5]
[6]
[7]
[8]
[9]
[10]
[11]
[12]
[13]
[14]
[15]
[16]
[17]
[18]
[19]
[20]
[21]
[22]
[23]
[24]
[25]
[26]
[27]
[28]
[29]
[30]
[31]
[32]
[33]
[34]
[35]
[36]
[37]
[38]
[39]
[40]
[41]
[42]
[43]
[44]
[45]
[46]
[47]
[48]
[49]
[50]
[51]
[52]
[53]
[54]
[55]
[56]
[57]
[58]
[59]
[60]
[61]
[62]
[63]
[64]
[65]
[66]
[67]
[68]
[69]
[70]
[71]
[72]
[73]
[74]
[75]
[76]
[77]
[78]
[79]
[80]
[81]
[82]
[83]
[84]
[85]
[86]
[87]
[88]
[89]
[90]
[91]
[92]
[93]
[94]
[95]
[96]
[97]
[98]
[99]
[100]
[101]
[102]
[103]
[104]
[105]
[106]
[107]
[108]
[109]
[110]
[111]
[112]
[113]
[114]
[115]
[116]
[117]
[118]
[119]
[120]
[121]
[122]
[123]
[124]
[125]
[126]
[127]
[128]
[129]
[130]
[131]
[132]
[133]
[134]
[135]
[136]
[137]
[138]
[139]
[140]
[141]
[142]
[143]
[144]
[145]
[146]
[147]
[148]
[149]
[150]
[151]
[152]
[153]
[154]
[155]
[156]
[157]
[158]
[159]
[160]
[161]
[162]
[163]
[164]
[165]
[166]
[167]
[168]
[169]
[170]
[171]
[172]
[173]
[174]
[175]
[176]
[177]
[178]
[179]
[180]
[181]
[182]
[183]
[184]
[185]
[186]
[187]
[188]
[189]
[190]
[191]
[192]
[193]
[194]
[195]
[196]
[197]
[198]
[199]
[200]
[201]
[202]
[203]
[204]
[205]
[206]
[207]
[208]
[209]
[210]
[211]
[212]
[213]
[214]
[215]
[216]
[217]
[218]
[219]
[220]
[221]
[222]
[223]
[224]
[225]
[226]
[227]
[228]
[229]
[230]
[231]
[232]
[233]
[234]
[235]
[236]
[237]
[238]
[239]
[240]
[241]
[242]
[243]
[244]
[245]
[246]
[247]
[248]
[249]
[250]
[251]
[252]
[253]
[254]
[255]
[256]
[257]
[258]
[259]
[260]
[261]
[262]
[263]
[264]
[265]
[266]
[267]
[268]
[269]
[270]
[271]
[272]
[273]
[274]
[275]
[276]
[277]
[278]
[279]
[280]
[281]
[282]
[283]
[284]
[285]
[286]
[287]
[288]
[289]
[290]
[291]
[292]
[293]
[294]
[295]
[296]
[297]
[298]
[299]
[300]
[301]
[302]
[303]
[304]
[305]
[306]
[307]
[308]
[309]
[310]
[311]
[312]
[313]
[314]
[315]
[316]
[317]
[318]
[319]
[320]
[321]
[322]
[323]
[324]
[325]
[326]
[327]
[328]
[329]
[330]
[331]
[332]
[333]
[334]
[335]
[336]
[337]
[338]
[339]
[340]
[341]
[342]
[343]
[344]
[345]
[346]
[347]
[348]
[349]
[350]
[351]
[352]
[353]
[354]
[355]
[356]
[357]
[358]
[359]
[360]
[361]
[362]
[363]
[364]
[365]
[366]
[367]
[368]
[369]
[370]
[371]
[372]
[373]
[374]
[375]
[376]
[377]
[378]
[379]
[380]
[381]
[382]
[383]
[384]
[385]
[386]
[387]
[388]
[389]
[390]
[391]
[392]
[393]
[394]
[395]
[396]
[397]
[398]
[399]
[400]
[401]
[402]
[403]
[404]
[405]
[406]
[407]
[408]
[409]
[410]
[411]
[412]
[413]
[414]
[415]
[416]
[417]
[418]
[419]
[420]
[421]
[422]
[423]
[424]
[425]
[426]
[427]
[428]
[429]
[430]
[431]
[432]
[433]
[434]
[435]
[436]
[437]
[438]
[439]
[440]
[441]
[442]
[443]
[444]
[445]
[446]
[447]
[448]
[449]
[450]
[451]
[452]
[453]
[454]
[455]
[456]
[457]
[458]
[459]
[460]
[461]
[462]
[463]
[464]
[465]
[466]
[467]
[468]
[469]
[470]
[471]
[472]
[473]
[474]
[475]
[476]
[477]
[478]
[479]
[480]
[481]
[482]
[483]
[484]
[485]
[486]
[487]
[488]
[489]
[490]
[491]
[492]
[493]
[494]
[495]
[496]
[497]
[498]
[499]
[500]
[501]
[502]
[503]
[504]
[505]
[506]
[507]
[508]
[509]
[510]
[511]
[512]
[513]
[514]
[515]
[516]
[517]
[518]
[519]
[520]
[521]
[522]
[523]
[524]
[525]
[526]
[527]
[528]
[529]
[530]
[531]
[532]
[533]
[534]
[535]
[536]
[537]
[538]
[539]
[540]
[541]
[542]
[543]
[544]
[545]
[546]
[547]
[548]
[549]
[550]
[551]
[552]
[553]
[554]
[555]
[556]
[557]
[558]
[559]
[560]
[561]
[562]
[563]
[564]
[565]
[566]
[567]
[568]
[569]
[570]
[571]
[572]
[573]
[574]
[575]
[576]
[577]
[578]
[579]
[580]
[581]
[582]
[583]
[584]
[585]
[586]
[587]
[588]
[589]
[590]
[591]
[592]
[593]
[594]
[595]
[596]
[597]
[598]
[599]
[600]
[601]
[602]
[603]
[604]
[605]
[606]
[607]
[608]
[609]
[610]
[611]
[612]
[613]
[614]
[615]
[616]
[617]
[618]
[619]
[620]
[621]
[622]
[623]
[624]
[625]
[626]
[627]
[628]
[629]
[630]
[631]
[632]
[633]
[634]
[635]
[636]
[637]
[638]
[639]
[640]
[641]
[642]
[643]
[644]
[645]
[646]
[647]
[648]
[649]
[650]
[651]
[652]
[653]
[654]
[655]
[656]
[657]
[658]
[659]
[660]
[661]
[662]
[663]
[664]
[665]
[666]
[667]
[668]
[669]
[670]
[671]
[672]
[673]
[674]
[675]
[676]
[677]
[678]
[679]
[680]
[681]
[682]
[683]
[684]
[685]
[686]
[687]
[688]
[689]
[690]
[691]
[692]
[693]
[694]
[695]
[696]
[697]
[698]
[699]
[700]
[701]
[702]
[703]
[704]
[705]
[706]
[707]
[708]
[709]
[710]
[711]
[712]
[713]
[714]
[715]
[716]
[717]
[718]
[719]
[720]
[721]
[722]
[723]
[724]
[725]
[726]
[727]
[728]
[729]
[730]
[731]
[732]
[733]
[734]
[735]
[736]
[737]
[738]
[739]
[740]
[741]
[742]
[743]
[744]
[745]
[746]
[747]
[748]
[749]
[750]
[751]
[752]
[753]
[754]
[755]
[756]
[757]
[758]
[759]
[760]
[761]
[762]
[763]
[764]
[765]
[766]
[767]
[768]
[769]
[770]
[771]
[772]
[773]
[774]
[775]
[776]
[777]
[778]
[779]
[780]
[781]
[782]
[783]
[784]
[785]
[786]
[787]
[788]
[789]
[790]
[791]
[792]
[793]
[794]
[795]
[796]
[797]
[798]
[799]
[800]
[801]
[802]
[803]
[804]
[805]
[806]
[807]
[808]
[809]
[810]
[811]
[812]
[813]
[814]
[815]
[816]
[817]
[818]
[819]
[820]
[821]
[822]
[823]
[824]
[825]
[826]
[827]
[828]
[829]
[830]
[831]
[832]
[833]
[834]
[835]
[836]
[837]
[838]
[839]
[840]
[841]
[842]
[843]
[844]
[845]
[846]
[847]
[848]
[849]
[850]
[851]
[852]
[853]
[854]
[855]
[856]
[857]
[858]
[859]
[860]
[861]
[862]
[863]
[864]
[865]
[866]
[867]
[868]
[869]
[870]
[871]
[872]
[873]
[874]
[875]
[876]
[877]
[878]
[879]
[880]
[881]
[882]
[883]
[884]
[885]
[886]
[887]
[888]
[889]
[890]
[891]
[892]
[893]
[894]
[895]
[896]
[897]
[898]
[899]
[900]
[901]
[902]
[903]
[904]
[905]
[906]
[907]
[908]
[909]
[910]
[911]
[912]
[913]
[914]
[915]
[916]
[917]
[918]
[919]
[920]
[921]
[922]
[923]
[924]
[925]
[926]
[927]
[928]
[929]
[930]
[931]
[932]
[933]
[934]
[935]
[936]
[937]
[938]
[939]
[940]
[941]
[942]
[943]
[944]
[945]
[946]
[947]
[948]
[949]
[950]
[951]
[952]
[953]
[954]
[955]
[956]
[957]
[958]
[959]
[960]
[961]
[962]
[963]
[964]
[965]
[966]
[967]
[968]
[969]
[970]
[971]
[972]
[973]
[974]
[975]
[976]
[977]
[978]
[979]
[980]
[981]
[982]
[983]
[984]
[985]
[986]
[987]
[988]
[989]
[990]
[991]
[992]
[993]
[994]
[995]
[996]
[997]
[998]
[999]
[1000]
[1001]
[1002]
[1003]
[1004]
[1005]
[1006]
[1007]
[1008]
[1009]
[1010]
[1011]
[1012]
[1013]
[1014]
[1015]
[1016]
[1017]
[1018]
[1019]
[1020]
[1021]
[1022]
[1023]
[1024]
[1025]
[1026]
[1027]
[1028]
[1029]
[1030]
[1031]
[1032]
[1033]
[1034]
[1035]
[1036]
[1037]
[1038]
[1039]
[1040]
[1041]
[1042]
[1043]
[1044]
[1045]
[1046]
[1047]
[1048]
[1049]
[1050]
[1051]
[1052]
[1053]
[1054]
[1055]
[1056]
[1057]
[1058]
[1059]
[1060]
[1061]
[1062]
[1063]
[1064]
[1065]
[1066]
[1067]
[1068]
[1069]
[1070]
[1071]
[1072]
[1073]
[1074]
[1075]
[1076]
[1077]
[1078]
[1079]
[1080]
[1081]
[1082]
[1083]
[1084]
[1085]
[1086]
[1087]
[1088]
[1089]
[1090]
[1091]
[1092]
[1093]
[1094]
[1095]
[1096]
[1097]
[1098]
[1099]
[1100]
[1101]
[1102]
[1103]
[1104]
[1105]
[1106]
[1107]
[1108]
[1109]
[1110]
[1111]
[1112]
[1113]
[1114]
[1115]
[1116]
[1117]
[1118]
[1119]
[1120]
[1121]
[1122]
[1123]
[1124]
[1125]
[1126]
[1127]
[1128]
[1129]
[1130]
[1131]
[1132]
[1133]
[1134]
[1135]
[1136]
[1137]
[1138]
[1139]
[1140]
[1141]
[1142]
[1143]
[1144]
[1145]
[1146]
[1147]
[1148]
[1149]
[1150]
[1151]
[1152]
[1153]
[1154]
[1155]
[1156]
[1157]
[1158]
[1159]
[1160]
[1161]
[1162]
[1163]
[1164]
[1165]
[1166]
[1167]
[1168]
[1169]
[1170]
[1171]
[1172]
[1173]
[1174]
[1175]
[1176]
[1177]
[1178]
[1179]
[1180]
[1181]
[1182]
[1183]
[1184]
[1185]
[1186]
[1187]
[1188]
[1189]
[1190]
[1191]
[1192]
[1193]
[1194]
[1195]
[1196]
[1197]
[1198]
[1199]
[1200]
[1201]
[1202]
[1203]
[1204]
[1205]
[1206]
[1207]
[1208]
[1209]
[1210]
[1211]
[1212]
[1213]
[1214]
[1215]
[1216]
[1217]
[1218]
[1219]
[1220]
[1221]
[1222]
[1223]
[1224]
[1225]
[1226]
[1227]
[1228]
[1229]
[1230]
[1231]
[1232]
[1233]
[1234]
[1235]
[1236]
[1237]
[1238]
[1239]
[1240]
[1241]
[1242]
[1243]
[1244]
[1245]
[1246]
[1247]
[1248]
[1249]
[1250]
[1251]
[1252]
[1253]
[1254]
[1255]
[1256]
[1257]
[1258]
[1259]
[1260]
[1261]
[1262]
[1263]
[1264]
[1265]
[1266]
[1267]
[1268]
[1269]
[1270]
[1271]
[1272]
[1273]
[1274]
[1275]
[1276]
[1277]
[1278]
[1279]
[1280]
[1281]
[1282]
[1283]
[1284]
[1285]
[1286]
[1287]
[1288]
[1289]
[1290]
[1291]
[1292]
[1293]
[1294]
[1295]
[1296]
[1297]
[1298]
[1299]
[1300]
[1301]
[1302]
[1303]
[1304]
[1305]
[1306]
[1307]
[1308]
[1309]
[1310]
[1311]
[1312]
[1313]
[1314]
[1315]
[1316]
[1317]
[1318]
[1319]
[1320]
[1321]
[1322]
[1323]
[1324]
[1325]
[1326]
[1327]
[1328]
[1329]
[1330]
[1331]
[1332]
[1333]
[1334]
[1335]
[1336]
[1337]
[1338]
[1339]
[1340]
[1341]
[1342]
[1343]
[1344]
[1345]
[1346]
[1347]
[1348]
[1349]
[1350]
[1351]
[1352]
[1353]
[1354]
[1355]
[1356]
[1357]
[1358]
[1359]
[1360]
[1361]
[1362]
[1363]
[1364]
[1365]
[1366]
[1367]
[1368]
[1369]
[1370]
[1371]
[1372]
[1373]
[1374]
[1375]
[1376]
[1377]
[1378]
[1379]
[1380]
[1381]
[1382]
[1383]
[1384]
[1385]
[1386]
[1387]
[1388]
[1389]
[1390]
[1391]
[1392]
[1393]
[1394]
[1395]
[1396]
[1397]
[1398]
[1399]
[1400]

{"sheet":"１学期","index":2,"n_rows":35,"n_cols":342,"rows_kept":35,"cut":false,"hidden":false,"merged":[[31,322,31,323],[31,326,31,327],[31,330,31,331],[31,334,31,335],[31,338,31,339],[32,322,32,323],[32,326,32,327],[32,330,32,331],[32,334,32,335],[32,338,32,339],[33,322,33,323],[33,326,33,327],[33,330,33,331],[33,334,33,335],[33,338,33,339],[34,322,34,323],[34,326,34,327],[34,330,34,331],[34,334,34,335],[34,338,34,339],[27,322,27,325],[27,326,27,329],[27,330,27,333],[27,334,27,337],[27,338,27,341],[28,322,28,323],[28,326,28,327],[28,330,28,331],[28,334,28,335],[28,338,28,339],[29,322,29,323],[29,326,29,327],[29,330,29,331],[29,334,29,335],[29,338,29,339],[30,322,30,323],[30,326,30,327],[30,330,30,331],[30,334,30,335],[30,338,30,339],[23,322,23,325],[23,326,23,329],[23,330,23,333],[23,334,23,337],[23,338,23,341],[24,322,24,324],[24,326,24,328],[24,330,24,332],[24,334,24,336],[24,338,24,340],[25,322,25,325],[25,326,25,329],[25,330,25,333],[25,334,25,337],[25,338,25,341],[26,322,26,325],[26,326,26,329],[26,330,26,333],[26,334,26,337],[26,338,26,341],[19,322,19,325],[19,326,19,329],[19,330,19,333],[19,334,19,337],[19,338,19,341],[20,322,20,325],[20,326,20,329],[20,330,20,333],[20,334,20,337],[20,338,20,341],[21,322,21,324],[21,326,21,328],[21,330,21,332],[21,334,21,336],[21,338,21,340],[22,322,22,325],[22,326,22,329],[22,330,22,333],[22,334,22,337],[22,338,22,341],[15,322,15,324],[15,326,15,328],[15,330,15,332],[15,334,15,336],[15,338,15,340],[16,322,16,325],[16,326,16,329],[16,330,16,333],[16,334,16,337],[16,338,16,341],[17,322,17,325],[17,326,17,329],[17,330,17,333],[17,334,17,337],[17,338,17,341],[18,322,18,324],[18,326,18,328],[18,330,18,332],[18,334,18,336],[18,338,18,340],[11,322,11,325],[11,326,11,329],[11,330,11,333],[11,334,11,337],[11,338,11,341],[12,322,12,324],[12,326,12,328],[12,330,12,332],[12,334,12,336],[12,338,12,340],[13,322,13,325],[13,326,13,329],[13,330,13,333],[13,334,13,337],[13,338,13,341],[14,322,14,325],[14,326,14,329],[14,330,14,333],[14,334,14,337],[14,338,14,341],[7,322,7,325],[7,326,7,329],[7,330,7,333],[7,334,7,337],[7,338,7,341],[8,322,8,325],[8,326,8,329],[8,330,8,333],[8,334,8,337],[8,338,8,341],[9,322,9,324],[9,326,9,328],[9,330,9,332],[9,334,9,336],[9,338,9,340],[10,322,10,325],[10,326,10,329],[10,330,10,333],[10,334,10,337],[10,338,10,341],[2,328,2,339],[3,322,3,325],[3,326,3,329],[3,330,3,333],[3,334,3,337],[3,338,3,341],[4,322,4,325],[4,326,4,329],[4,330,4,333],[4,334,4,337],[4,338,4,341],[5,322,5,324],[5,326,5,328],[5,330,5,332],[5,334,5,336],[5,338,5,340],[6,322,6,324],[6,326,6,328],[6,330,6,332],[6,334,6,336],[6,338,6,340],[31,302,31,303],[31,306,31,307],[31,310,31,311],[31,314,31,315],[31,318,31,319],[32,302,32,303],[32,306,32,307],[32,310,32,311],[32,314,32,315],[32,318,32,319],[33,302,33,303],[33,306,33,307],[33,310,33,311],[33,314,33,315],[33,318,33,319],[34,302,34,303],[34,306,34,307],[34,310,34,311],[34,314,34,315],[34,318,34,319],[27,302,27,305],[27,306,27,309],[27,310,27,313],[27,314,27,317],[27,318,27,321],[28,302,28,303],[28,306,28,307],[28,310,28,311],[28,314,28,315],[28,318,28,319],[29,302,29,303],[29,306,29,307],[29,310,29,311],[29,314,29,315],[29,318,29,319],[30,302,30,303],[30,306,30,307],[30,310,30,311],[30,314,30,315],[30,318,30,319],[23,302,23,305],[23,306,23,309],[23,310,23,313],[23,314,23,317],[23,318,23,321],[24,302,24,304],[24,306,24,308],[24,310,24,312],[24,314,24,316],[24,318,24,320],[25,302,25,305],[25,306,25,309],[25,310,25,313],[25,314,25,317],[25,318,25,321],[26,302,26,305],[26,306,26,309],[26,310,26,313],[26,314,26,317],[26,318,26,321],[19,302,19,305],[19,306,19,309],[19,310,19,313],[19,314,19,317],[19,318,19,321],[20,302,20,305],[20,306,20,309],[20,310,20,313],[20,314,20,317],[20,318,20,321],[21,302,21,304],[21,306,21,308],[21,310,21,312],[21,314,21,316],[21,318,21,320],[22,302,22,305],[22,306,22,309],[22,310,22,313],[22,314,22,317],[22,318,22,321],[15,302,15,304],[15,306,15,308],[15,310,15,312],[15,314,15,316],[15,318,15,320],[16,302,16,305],[16,306,16,309],[16,310,16,313],[16,314,16,317],[16,318,16,321],[17,302,17,305],[17,306,17,309],[17,310,17,313],[17,314,17,317],[17,318,17,321],[18,302,18,304],[18,306,18,308],[18,310,18,312],[18,314,18,316],[18,318,18,320],[11,302,11,305],[11,306,11,309],[11,310,11,313],[11,314,11,317],[11,318,11,321],[12,302,12,304],[12,306,12,308],[12,310,12,312],[12,314,12,316],[12,318,12,320],[13,302,13,305],[13,306,13,309],[13,310,13,313],[13,314,13,317],[13,318,13,321],[14,302,14,305],[14,306,14,309],[14,310,14,313],[14,314,14,317],[14,318,14,321],[7,302,7,305],[7,306,7,309],[7,310,7,313],[7,314,7,317],[7,318,7,321],[8,302,8,305],[8,306,8,309],[8,310,8,313],[8,314,8,317],[8,318,8,321],[9,302,9,304],[9,306,9,308],[9,310,9,312],[9,314,9,316],[9,318,9,320],[10,302,10,305],[10,306,10,309],[10,310,10,313],[10,314,10,317],[10,318,10,321],[2,308,2,319],[3,302,3,305],[3,306,3,309],[3,310,3,313],[3,314,3,317],[3,318,3,321],[4,302,4,305],[4,306,4,309],[4,310,4,313],[4,314,4,317],[4,318,4,321],[5,302,5,304],[5,306,5,308],[5,310,5,312],[5,314,5,316],[5,318,5,320],[6,302,6,304],[6,306,6,308],[6,310,6,312],[6,314,6,316],[6,318,6,320],[31,282,31,283],[31,286,31,287],[31,290,31,291],[31,294,31,295],[31,298,31,299],[32,282,32,283],[32,286,32,287],[32,290,32,291],[32,294,32,295],[32,298,32,299],[33,282,33,283],[33,286,33,287],[33,290,33,291],[33,294,33,295],[33,298,33,299],[34,282,34,283],[34,286,34,287],[34,290,34,291],[34,294,34,295],[34,298,34,299],[27,282,27,285],[27,286,27,289],[27,290,27,293],[27,294,27,297],[27,298,27,301],[28,282,28,283],[28,286,28,287],[28,290,28,291],[28,294,28,295],[28,298,28,299],[29,282,29,283],[29,286,29,287],[29,290,29,291],[29,294,29,295],[29,298,29,299],[30,282,30,283],[30,286,30,287],[30,290,30,291],[30,294,30,295],[30,298,30,299],[23,282,23,285],[23,286,23,289],[23,290,23,293],[23,294,23,297],[23,298,23,301],[24,282,24,284],[24,286,24,288],[24,290,24,292],[24,294,24,296],[24,298,24,300],[25,282,25,285],[25,286,25,289],[25,290,25,293],[25,294,25,297],[25,298,25,301],[26,282,26,285],[26,286,26,289],[26,290,26,293],[26,294,26,297],[26,298,26,301],[19,282,19,285],[19,286,19,289],[19,290,19,293],[19,294,19,297],[19,298,19,301],[20,282,20,285],[20,286,20,289],[20,290,20,293],[20,294,20,297],[20,298,20,301],[21,282,21,284],[21,286,21,288],[21,290,21,292],[21,294,21,296],[21,298,21,300],[22,282,22,285],[22,286,22,289],[22,290,22,293],[22,294,22,297],[22,298,22,301],[15,282,15,284],[15,286,15,288],[15,290,15,292],[15,294,15,296],[15,298,15,300],[16,282,16,285],[16,286,16,289],[16,290,16,293],[16,294,16,297],[16,298,16,301],[17,282,17,285],[17,286,17,289],[17,290,17,293],[17,294,17,297],[17,298,17,301],[18,282,18,284],[18,286,18,288],[18,290,18,292],[18,294,18,296],[18,298,18,300],[11,282,11,285],[11,286,11,289],[11,290,11,293],[11,294,11,297],[11,298,11,301],[12,282,12,284],[12,286,12,288],[12,290,12,292],[12,294,12,296],[12,298,12,300],[13,282,13,285],[13,286,13,289],[13,290,13,293],[13,294,13,297],[13,298,13,301],[14,282,14,285],[14,286,14,289],[14,290,14,293],[14,294,14,297],[14,298,14,301],[7,282,7,285],[7,286,7,289],[7,290,7,293],[7,294,7,297],[7,298,7,301],[8,282,8,285],[8,286,8,289],[8,290,8,293],[8,294,8,297],[8,298,8,301],[9,282,9,284],[9,286,9,288],[9,290,9,292],[9,294,9,296],[9,298,9,300],[10,282,10,285],[10,286,10,289],[10,290,10,293],[10,294,10,297],[10,298,10,301],[2,288,2,299],[3,282,3,285],[3,286,3,289],[3,290,3,293],[3,294,3,297],[3,298,3,301],[4,282,4,285],[4,286,4,289],[4,290,4,293],[4,294,4,297],[4,298,4,301],[5,282,5,284],[5,286,5,288],[5,290,5,292],[5,294,5,296],[5,298,5,300],[6,282,6,284],[6,286,6,288],[6,290,6,292],[6,294,6,296],[6,298,6,300],[31,262,31,263],[31,266,31,267],[31,270,31,271],[31,274,31,275],[31,278,31,279],[32,262,32,263],[32,266,32,267],[32,270,32,271],[32,274,32,275],[32,278,32,279],[33,262,33,263],[33,266,33,267],[33,270,33,271],[33,274,33,275],[33,278,33,279],[34,262,34,263],[34,266,34,267],[34,270,34,271],[34,274,34,275],[34,278,34,279],[27,262,27,265],[27,266,27,269],[27,270,27,273],[27,274,27,277],[27,278,27,281],[28,262,28,263],[28,266,28,267],[28,270,28,271],[28,274,28,275],[28,278,28,279],[29,262,29,263],[29,266,29,267],[29,270,29,271],[29,274,29,275],[29,278,29,279],[30,262,30,263],[30,266,30,267],[30,270,30,271],[30,274,30,275],[30,278,30,279],[23,262,23,265],[23,266,23,269],[23,270,23,273],[23,274,23,277],[23,278,23,281],[24,262,24,264],[24,266,24,268],[24,270,24,272],[24,274,24,276],[24,278,24,280],[25,262,25,265],[25,266,25,269],[25,270,25,273],[25,274,25,277],[25,278,25,281],[26,262,26,265],[26,266,26,269],[26,270,26,273],[26,274,26,277],[26,278,26,281],[19,262,19,265],[19,266,19,269],[19,270,19,273],[19,274,19,277],[19,278,19,281],[20,262,20,265],[20,266,20,269],[20,270,20,273],[20,274,20,277],[20,278,20,281],[21,262,21,264],[21,266,21,268],[21,270,21,272],[21,274,21,276],[21,278,21,280],[22,262,22,265],[22,266,22,269],[22,270,22,273],[22,274,22,277],[22,278,22,281],[15,262,15,264],[15,266,15,268],[15,270,15,272],[15,274,15,276],[15,278,15,280],[16,262,16,265],[16,266,16,269],[16,270,16,273],[16,274,16,277],[16,278,16,281],[17,262,17,265],[17,266,17,269],[17,270,17,273],[17,274,17,277],[17,278,17,281],[18,262,18,264],[18,266,18,268],[18,270,18,272],[18,274,18,276],[18,278,18,280],[11,262,11,265],[11,266,11,269],[11,270,11,273],[11,274,11,277],[11,278,11,281],[12,262,12,264],[12,266,12,268],[12,270,12,272],[12,274,12,276],[12,278,12,280],[13,262,13,265],[13,266,13,269],[13,270,13,273],[13,274,13,277],[13,278,13,281],[14,262,14,265],[14,266,14,269],[14,270,14,273],[14,274,14,277],[14,278,14,281],[7,262,7,265],[7,266,7,269],[7,270,7,273],[7,274,7,277],[7,278,7,281],[8,262,8,265],[8,266,8,269],[8,270,8,273],[8,274,8,277],[8,278,8,281],[9,262,9,264],[9,266,9,268],[9,270,9,272],[9,274,9,276],[9,278,9,280],[10,262,10,265],[10,266,10,269],[10,270,10,273],[10,274,10,277],[10,278,10,281],[2,268,2,279],[3,262,3,265],[3,266,3,269],[3,270,3,273],[3,274,3,277],[3,278,3,281],[4,262,4,265],[4,266,4,269],[4,270,4,273],[4,274,4,277],[4,278,4,281],[5,262,5,264],[5,266,5,268],[5,270,5,272],[5,274,5,276],[5,278,5,280],[6,262,6,264],[6,266,6,268],[6,270,6,272],[6,274,6,276],[6,278,6,280],[31,242,31,243],[31,246,31,247],[31,250,31,251],[31,254,31,255],[31,258,31,259],[32,242,32,243],[32,246,32,247],[32,250,32,251],[32,254,32,255],[32,258,32,259],[33,242,33,243],[33,246,33,247],[33,250,33,251],[33,254,33,255],[33,258,33,259],[34,242,34,243],[34,246,34,247],[34,250,34,251],[34,254,34,255],[34,258,34,259],[27,242,27,245],[27,246,27,249],[27,250,27,253],[27,254,27,257],[27,258,27,261],[28,242,28,243],[28,246,28,247],[28,250,28,251],[28,254,28,255],[28,258,28,259],[29,242,29,243],[29,246,29,247],[29,250,29,251],[29,254,29,255],[29,258,29,259],[30,242,30,243],[30,246,30,247],[30,250,30,251],[30,254,30,255],[30,258,30,259],[23,242,23,245],[23,246,23,249],[23,250,23,253],[23,254,23,257],[23,258,23,261],[24,242,24,244],[24,246,24,248],[24,250,24,252],[24,254,24,256],[24,258,24,260],[25,242,25,245],[25,246,25,249],[25,250,25,253],[25,254,25,257],[25,258,25,261],[26,242,26,245],[26,246,26,249],[26,250,26,253],[26,254,26,257],[26,258,26,261],[19,242,19,245],[19,246,19,249],[19,250,19,253],[19,254,19,257],[19,258,19,261],[20,242,20,245],[20,246,20,249],[20,250,20,253],[20,254,20,257],[20,258,20,261],[21,242,21,244],[21,246,21,248],[21,250,21,252],[21,254,21,256],[21,258,21,260],[22,242,22,245],[22,246,22,249],[22,250,22,253],[22,254,22,257],[22,258,22,261],[15,242,15,244],[15,246,15,248],[15,250,15,252],[15,254,15,256],[15,258,15,260],[16,242,16,245],[16,246,16,249],[16,250,16,253],[16,254,16,257],[16,258,16,261],[17,242,17,245],[17,246,17,249],[17,250,17,253],[17,254,17,257],[17,258,17,261],[18,242,18,244],[18,246,18,248],[18,250,18,252],[18,254,18,256],[18,258,18,260],[11,242,11,245],[11,246,11,249],[11,250,11,253],[11,254,11,257],[11,258,11,261],[12,242,12,244],[12,246,12,248],[12,250,12,252],[12,254,12,256],[12,258,12,260],[13,242,13,245],[13,246,13,249],[13,250,13,253],[13,254,13,257],[13,258,13,261],[14,242,14,245],[14,246,14,249],[14,250,14,253],[14,254,14,257],[14,258,14,261],[7,242,7,245],[7,246,7,249],[7,250,7,253],[7,254,7,257],[7,258,7,261],[8,242,8,245],[8,246,8,249],[8,250,8,253],[8,254,8,257],[8,258,8,261],[9,242,9,244],[9,246,9,248],[9,250,9,252],[9,254,9,256],[9,258,9,260],[10,242,10,245],[10,246,10,249],[10,250,10,253],[10,254,10,257],[10,258,10,261],[2,248,2,259],[3,242,3,245],[3,246,3,249],[3,250,3,253],[3,254,3,257],[3,258,3,261],[4,242,4,245],[4,246,4,249],[4,250,4,253],[4,254,4,257],[4,258,4,261],[5,242,5,244],[5,246,5,248],[5,250,5,252],[5,254,5,256],[5,258,5,260],[6,242,6,244],[6,246,6,248],[6,250,6,252],[6,254,6,256],[6,258,6,260],[31,222,31,223],[31,226,31,227],[31,230,31,231],[31,234,31,235],[31,238,31,239],[32,222,32,223],[32,226,32,227],[32,230,32,231],[32,234,32,235],[32,238,32,239],[33,222,33,223],[33,226,33,227],[33,230,33,231],[33,234,33,235],[33,238,33,239],[34,222,34,223],[34,226,34,227],[34,230,34,231],[34,234,34,235],[34,238,34,239],[27,222,27,225],[27,226,27,229],[27,230,27,233],[27,234,27,237],[27,238,27,241],[28,222,28,223],[28,226,28,227],[28,230,28,231],[28,234,28,235],[28,238,28,239],[29,222,29,223],[29,226,29,227],[29,230,29,231],[29,234,29,235],[29,238,29,239],[30,222,30,223],[30,226,30,227],[30,230,30,231],[30,234,30,235],[30,238,30,239],[23,222,23,225],[23,226,23,229],[23,230,23,233],[23,234,23,237],[23,238,23,241],[24,222,24,224],[24,226,24,228],[24,230,24,232],[24,234,24,236],[24,238,24,240],[25,222,25,225],[25,226,25,229],[25,230,25,233],[25,234,25,237],[25,238,25,241],[26,222,26,225],[26,226,26,229],[26,230,26,233],[26,234,26,237],[26,238,26,241],[19,222,19,225],[19,226,19,229],[19,230,19,233],[19,234,19,237],[19,238,19,241],[20,222,20,225],[20,226,20,229],[20,230,20,233],[20,234,20,237],[20,238,20,241],[21,222,21,224],[21,226,21,228],[21,230,21,232],[21,234,21,236],[21,238,21,240],[22,222,22,225],[22,226,22,229],[22,230,22,233],[22,234,22,237],[22,238,22,241],[15,222,15,224],[15,226,15,228],[15,230,15,232],[15,234,15,236],[15,238,15,240],[16,222,16,225],[16,226,16,229],[16,230,16,233],[16,234,16,237],[16,238,16,241],[17,222,17,225],[17,226,17,229],[17,230,17,233],[17,234,17,237],[17,238,17,241],[18,222,18,224],[18,226,18,228],[18,230,18,232],[18,234,18,236],[18,238,18,240],[11,222,11,225],[11,226,11,229],[11,230,11,233],[11,234,11,237],[11,238,11,241],[12,222,12,224],[12,226,12,228],[12,230,12,232],[12,234,12,236],[12,238,12,240],[13,222,13,225],[13,226,13,229],[13,230,13,233],[13,234,13,237],[13,238,13,241],[14,222,14,225],[14,226,14,229],[14,230,14,233],[14,234,14,237],[14,238,14,241],[7,222,7,225],[7,226,7,229],[7,230,7,233],[7,234,7,237],[7,238,7,241],[8,222,8,225],[8,226,8,229],[8,230,8,233],[8,234,8,237],[8,238,8,241],[9,222,9,224],[9,226,9,228],[9,230,9,232],[9,234,9,236],[9,238,9,240],[10,222,10,225],[10,226,10,229],[10,230,10,233],[10,234,10,237],[10,238,10,241],[2,228,2,239],[3,222,3,225],[3,226,3,229],[3,230,3,233],[3,234,3,237],[3,238,3,241],[4,222,4,225],[4,226,4,229],[4,230,4,233],[4,234,4,237],[4,238,4,241],[5,222,5,224],[5,226,5,228],[5,230,5,232],[5,234,5,236],[5,238,5,240],[6,222,6,224],[6,226,6,228],[6,230,6,232],[6,234,6,236],[6,238,6,240],[31,202,31,203],[31,206,31,207],[31,210,31,211],[31,214,31,215],[31,218,31,219],[32,202,32,203],[32,206,32,207],[32,210,32,211],[32,214,32,215],[32,218,32,219],[33,202,33,203],[33,206,33,207],[33,210,33,211],[33,214,33,215],[33,218,33,219],[34,202,34,203],[34,206,34,207],[34,210,34,211],[34,214,34,215],[34,218,34,219],[27,202,27,205],[27,206,27,209],[27,210,27,213],[27,214,27,217],[27,218,27,221],[28,202,28,203],[28,206,28,207],[28,210,28,211],[28,214,28,215],[28,218,28,219],[29,202,29,203],[29,206,29,207],[29,210,29,211],[29,214,29,215]],"merged_total":2746,"flags":["merged_cut"]}
[]
[null,null,"１学期",null,null,null,null,null,null,null,null,null,null,null,null,null,null,null,null,null,null,null,"１学期",null,null,null,null,null,null,null,null,null,null,null,null,null,null,null,null,null,null,null,"１学期",null,null,null,null,null,null,null,null,null,null,null,null,null,null,null,null,null,null,null,"１学期",null,null,null,null,null,null,null,null,null,null,null,null,null,null,null,null,null,null,null,"１学期",null,null,null,null,null,null,null,null,null,null,null,null,null,null,null,null,null,null,null,"１学期",null,null,null,null,null,null,null,null,null,null,null,null,null,null,null,null,null,null,null,"１学期",null,null,null,null,null,null,null,null,null,null,null,null,null,null,null,null,null,null,null,"１学期",null,null,null,null,null,null,null,null,null,null,null,null,null,null,null,null,null,null,null,"１学期",null,null,null,null,null,null,null,null,null,null,null,null,null,null,null,null,null,null,null,"１学期",null,null,null,null,null,null,null,null,null,null,null,null,null,null,null,null,null,null,null,"１学期",null,null,null,null,null,null,null,null,null,null,null,null,null,null,null,null,null,null,null,"１学期",null,null,null,null,null,null,null,null,null,null,null,null,null,null,null,null,null,null,null,"１学期",null,null,null,null,null,null,null,null,null,null,null,null,null,null,null,null,null,null,null,"１学期",null,null,null,null,null,null,null,null,null,null,null,null,null,null,null,null,null,null,null,"１学期",null,null,null,null,null,null,null,null,null,null,null,null,null,null,null,null,null,null,null,"１学期",null,null,null,null,null,null,null,null,null,null,null,null,null,null,null,null,null,null,null,"１学期"]
[null,null,null,"第１週",null,null,null,{"$f":"IF(設定!$B$8=\"いる\",\"校長　　　　　教頭　　　　　主幹教諭　　　　　教務主任　　　　　担任\",\"校長　　　　　教頭　　　　　教務主任　　　　　担任\")","v":"校長　　　　　教頭　　　　　教務主任　　　　　担任"},null,null,null,null,null,null,null,null,null,null,null,null,null,null,null,"第２週",null,null,null,null,{"$f":"$H$3","v":"校長　　　　　教頭　　　　　教務主任　　　　　担任"},null,null,null,null,null,null,null,null,null,null,null,null,null,null,"第３週",null,null,null,null,{"$f":"$H$3","v":"校長　　　　　教頭　　　　　教務主任　　　　　担任"},null,null,null,null,null,null,null,null,null,null,null,null,null,null,"第４週",null,null,null,null,{"$f":"$H$3","v":"校長　　　　　教頭　　　　　教務主任　　　　　担任"},null,null,null,null,null,null,null,null,null,null,null,null,null,null,"第５週",null,null,null,null,{"$f":"$H$3","v":"校長　　　　　教頭　　　　　教務主任　　　　　担任"},null,null,null,null,null,null,null,null,null,null,null,null,null,null,"第６週",null,null,null,null,{"$f":"$H$3","v":"校長　　　　　教頭　　　　　教務主任　　　　　担任"},null,null,null,null,null,null,null,null,null,null,null,null,null,null,"第７週",null,null,null,null,{"$f":"$H$3","v":"校長　　　　　教頭　　　　　教務主任　　　　　担任"},null,null,null,null,null,null,null,null,null,null,null,null,null,null,"第８週",null,null,null,null,{"$f":"$H$3","v":"校長　　　　　教頭　　　　　教務主任　　　　　担任"},null,null,null,null,null,null,null,null,null,null,null,null,null,null,"第９週",null,null,null,null,{"$f":"$H$3","v":"校長　　　　　教頭　　　　　教務主任　　　　　担任"},null,null,null,null,null,null,null,null,null,null,null,null,null,null,"第10週",null,null,null,null,{"$f":"$H$3","v":"校長　　　　　教頭　　　　　教務主任　　　　　担任"},null,null,null,null,null,null,null,null,null,null,null,null,null,null,"第11週",null,null,null,null,{"$f":"$H$3","v":"校長　　　　　教頭　　　　　教務主任　　　　　担任"},null,null,null,null,null,null,null,null,null,null,null,null,null,null,"第12週",null,null,null,null,{"$f":"$H$3","v":"校長　　　　　教頭　　　　　教務主任　　　　　担任"},null,null,null,null,null,null,null,null,null,null,null,null,null,null,"第13週",null,null,null,null,{"$f":"$H$3","v":"校長　　　　　教頭　　　　　教務主任　　　　　担任"},null,null,null,null,null,null,null,null,null,null,null,null,null,null,"第14週",null,null,null,null,{"$f":"$H$3","v":"校長　　　　　教頭　　　　　教務主任　　　　　担任"},null,null,null,null,null,null,null,null,null,null,null,null,null,null,"第15週",null,null,null,null,{"$f":"$H$3","v":"校長　　　　　教頭　　　　　教務主任　　　　　担任"},null,null,null,null,null,null,null,null,null,null,null,null,null,null,"第16週",null,null,null,null,{"$f":"$H$3","v":"校長　　　　　教頭　　　　　教務主任　　　　　担任"},null,null,null,null,null,null,null,null,null,null,null,null,null,null,"第17週",null,null,null,null,{"$f":"$H$3","v":"校長　　　　　教頭　　　　　教務主任　　　　　担任"}]
[null,null,"1900-03-26",null,null,null,"1900-03-27",null,null,null,"1900-03-28",null,null,null,"1900-03-29",null,null,null,"1900-03-30",null,null,null,"1900-04-02",null,null,null,"1900-04-03",null,null,null,"1900-04-04",null,null,null,"1900-04-05",null,null,null,"1900-04-06",null,null,null,"1900-04-09",null,null,null,"1900-04-10",null,null,null,"1900-04-11",null,null,null,"1900-04-12",null,null,null,"1900-04-13",null,null,null,"1900-04-16",null,null,null,"1900-04-17",null,null,null,"1900-04-18",null,null,null,"1900-04-19",null,null,null,"1900-04-20",null,null,null,"1900-04-23",null,null,null,"1900-04-24",null,null,null,"1900-04-25",null,null,null,"1900-04-26",null,null,null,"1900-04-27",null,null,null,"1900-04-30",null,null,null,"1900-05-01",null,null,null,"1900-05-02",null,null,null,"1900-05-03",null,null,null,"1900-05-04",null,null,null,"1900-05-07",null,null,null,"1900-05-08",null,null,null,"1900-05-09",null,null,null,"1900-05-10",null,null,null,"1900-05-11",null,null,null,"1900-05-14",null,null,null,"1900-05-15",null,null,null,"1900-05-16",null,null,null,"1900-05-17",null,null,null,"1900-05-18",null,null,null,"1900-05-21",null,null,null,"1900-05-22",null,null,null,"1900-05-23",null,null,null,"1900-05-24",null,null,null,"1900-05-25",null,null,null,"1900-05-28",null,null,null,"1900-05-29",null,null,null,"1900-05-30",null,null,null,"1900-05-31",null,null,null,"1900-06-01",null,null,null,"1900-06-04",null,null,null,"1900-06-05",null,null,null,"1900-06-06",null,null,null,"1900-06-07",null,null,null,"1900-06-08",null,null,null,"1900-06-11",null,null,null,"1900-06-12",null,null,null,"1900-06-13",null,null,null,"1900-06-14",null,null,null,"1900-06-15",null,null,null,"1900-06-18",null,null,null,"1900-06-19",null,null,null,"1900-06-20",null,null,null,"1900-06-21",null,null,null,"1900-06-22",null,null,null,"1900-06-25",null,null,null,"1900-06-26",null,null,null,"1900-06-27",null,null,null,"1900-06-28",null,null,null,"1900-06-29",null,null,null,"1900-07-02",null,null,null,"1900-07-03",null,null,null,"1900-07-04",null,null,null,"1900-07-05",null,null,null,"1900-07-06",null,null,null,"1900-07-09",null,null,null,"1900-07-10",null,null,null,"1900-07-11",null,null,null,"1900-07-12",null,null,null,"1900-07-13",null,null,null,"1900-07-16",null,null,null,"1900-07-17",null,null,null,"1900-07-18",null,null,null,"1900-07-19",null,null,null,"1900-07-20"]
[null,null,"月",null,null,null,"火",null,null,null,"水",null,null,null,"木",null,null,null,"金",null,null,null,"月",null,null,null,"火",null,null,null,"水",null,null,null,"木",null,null,null,"金",null,null,null,"月",null,null,null,"火",null,null,null,"水",null,null,null,"木",null,null,null,"金",null,null,null,"月",null,null,null,"火",null,null,null,"水",null,null,null,"木",null,null,null,"金",null,null,null,"月",null,null,null,"火",null,null,null,"水",null,null,null,"木",null,null,null,"金",null,null,null,"月",null,null,null,"火",null,null,null,"水",null,null,null,"木",null,null,null,"金",null,null,null,"月",null,null,null,"火",null,null,null,"水",null,null,null,"木",null,null,null,"金",null,null,null,"月",null,null,null,"火",null,null,null,"水",null,null,null,"木",null,null,null,"金",null,null,null,"月",null,null,null,"火",null,null,null,"水",null,null,null,"木",null,null,null,"金",null,null,null,"月",null,null,null,"火",null,null,null,"水",null,null,null,"木",null,null,null,"金",null,null,null,"月",null,null,null,"火",null,null,null,"水",null,null,null,"木",null,null,null,"金",null,null,null,"月",null,null,null,"火",null,null,null,"水",null,null,null,"木",null,null,null,"金",null,null,null,"月",null,null,null,"火",null,null,null,"水",null,null,null,"木",null,null,null,"金",null,null,null,"月",null,null,null,"火",null,null,null,"水",null,null,null,"木",null,null,null,"金",null,null,null,"月",null,null,null,"火",null,null,null,"水",null,null,null,"木",null,null,null,"金",null,null,null,"月",null,null,null,"火",null,null,null,"水",null,null,null,"木",null,null,null,"金",null,null,null,"月",null,null,null,"火",null,null,null,"水",null,null,null,"木",null,null,null,"金"]
[null,"前"]
[null,1]
[]
[]
[null,2]
[]
[]
[null,3]
[]
[]
[null,4]
[]
[]
[null,5]
[]
[]
[null,6]
[]
[]
[null,"後"]
[null,"備考"]
[]
[]
[null,"時間数集計","授業",null,"実施","累計","授業",null,"実施","累計","授業",null,"実施","累計","授業",null,"実施","累計",null,null,"実施","累計","授業",null,"実施","累計","授業",null,"実施","累計","授業",null,"実施","累計","授業",null,"実施","累計",null,null,"実施","累計","授業",null,"実施","累計","授業",null,"実施","累計","授業",null,"実施","累計","授業",null,"実施","累計",null,null,"実施","累計","授業",null,"実施","累計","授業",null,"実施","累計","授業",null,"実施","累計","授業",null,"実施","累計",null,null,"実施","累計","授業",null,"実施","累計","授業",null,"実施","累計","授業",null,"実施","累計","授業",null,"実施","累計",null,null,"実施","累計","授業",null,"実施","累計","授業",null,"実施","累計","授業",null,"実施","累計","授業",null,"実施","累計",null,null,"実施","累計","授業",null,"実施","累計","授業",null,"実施","累計","授業",null,"実施","累計","授業",null,"実施","累計",null,null,"実施","累計","授業",null,"実施","累計","授業",null,"実施","累計","授業",null,"実施","累計","授業",null,"実施","累計",null,null,"実施","累計","授業",null,"実施","累計","授業",null,"実施","累計","授業",null,"実施","累計","授業",null,"実施","累計",null,null,"実施","累計","授業",null,"実施","累計","授業",null,"実施","累計","授業",null,"実施","累計","授業",null,"実施","累計",null,null,"実施","累計","授業",null,"実施","累計","授業",null,"実施","累計","授業",null,"実施","累計","授業",null,"実施","累計",null,null,"実施","累計","授業",null,"実施","累計","授業",null,"実施","累計","授業",null,"実施","累計","授業",null,"実施","累計",null,null,"実施","累計","授業",null,"実施","累計","授業",null,"実施","累計","授業",null,"実施","累計","授業",null,"実施","累計",null,null,"実施","累計","授業",null,"実施","累計","授業",null,"実施","累計","授業",null,"実施","累計","授業",null,"実施","累計",null,null,"実施","累計","授業",null,"実施","累計","授業",null,"実施","累計","授業",null,"実施","累計","授業",null,"実施","累計",null,null,"実施","累計","授業",null,"実施","累計","授業",null,"実施","累計","授業",null,"実施","累計","授業",null,"実施","累計",null,null,"実施","累計","授業",null,"実施","累計","授業",null,"実施","累計","授業",null,"実施","累計","授業",null,"実施","累計",null,null,"実施","累計"]
[null,null,{"$f":"IF(COUNTIF(処理!$J$2:$J$25,0)>0,処理!H2,\"\")","v":""},null,{"$f":"IF(LEN(C30)=0,\"\",(COUNTIF(C$6:V$7,C30)+COUNTIF(C$10:V$10,C30)+COUNTIF(C$13:V$13,C30)+COUNTIF(C$16:V$16,C30)+COUNTIF(C$19:V$19,C30)+COUNTIF(C$22:V$22,C30)+COUNTIF(C$25:V$25,C30))/設定!$D21+IFERROR((COUNTIF(C$6:V$7,処理!$L2)+COUNTIF(C$10:V$10,処理!$L2)+COUNTIF(C$13:V$13,処理!$L2)+COUNTIF(C$16:V$16,処理!$L2)+COUNTIF(C$19:V$19,処理!$L2)+COUNTIF(C$22:V$22,処理!$L2)+COUNTIF(C$25:V$25,処理!$L2))/処理!$M2,0))","v":""},{"$f":"E30","v":""},{"$f":"IF(COUNTIF(処理!$J$2:$J$25,6)>0,処理!H8,\"\")","v":""},null,{"$f":"IF(LEN(G30)=0,\"\",(COUNTIF(C$6:V$7,G30)+COUNTIF(C$10:V$10,G30)+COUNTIF(C$13:V$13,G30)+COUNTIF(C$16:V$16,G30)+COUNTIF(C$19:V$19,G30)+COUNTIF(C$22:V$22,G30)+COUNTIF(C$25:V$25,G30))/設定!$G21+IFERROR((COUNTIF(C$6:V$7,処理!$L8)+COUNTIF(C$10:V$10,処理!$L8)+COUNTIF(C$13:V$13,処理!$L8)+COUNTIF(C$16:V$16,処理!$L8)+COUNTIF(C$19:V$19,処理!$L8)+COUNTIF(C$22:V$22,処理!$L8)+COUNTIF(C$25:V$25,処理!$L8))/処理!$M8,0))","v":""},{"$f":"I30","v":""},{"$f":"IF(COUNTIF(処理!$J$2:$J$25,12)>0,処理!H14,\"\")","v":""},null,{"$f":"IF(LEN(K30)=0,\"\",(COUNTIF(C$6:V$7,K30)+COUNTIF(C$10:V$10,K30)+COUNTIF(C$13:V$13,K30)+COUNTIF(C$16:V$16,K30)+COUNTIF(C$19:V$19,K30)+COUNTIF(C$22:V$22,K30)+COUNTIF(C$25:V$25,K30))/設定!$J21+IFERROR((COUNTIF(C$6:V$7,処理!$L14)+COUNTIF(C$10:V$10,処理!$L14)+COUNTIF(C$13:V$13,処理!$L14)+COUNTIF(C$16:V$16,処理!$L14)+COUNTIF(C$19:V$19,処理!$L14)+COUNTIF(C$22:V$22,処理!$L14)+COUNTIF(C$25:V$25,処理!$L14))/処理!$M14,0))","v":""},{"$f":"M30","v":""},{"$f":"IF(COUNTIF(処理!$J$2:$J$25,18)>0,処理!H20,\"\")","v":""},null,{"$f":"IF(LEN(O30)=0,\"\",(COUNTIF(C$6:V$7,O30)+COUNTIF(C$10:V$10,O30)+COUNTIF(C$13:V$13,O30)+COUNTIF(C$16:V$16,O30)+COUNTIF(C$19:V$19,O30)+COUNTIF(C$22:V$22,O30)+COUNTIF(C$25:V$25,O30))/設定!$M21+IFERROR((COUNTIF(C$6:V$7,処理!$L20)+COUNTIF(C$10:V$10,処理!$L20)+COUNTIF(C$13:V$13,処理!$L20)+COUNTIF(C$16:V$16,処理!$L20)+COUNTIF(C$19:V$19,処理!$L20)+COUNTIF(C$22:V$22,処理!$L20)+COUNTIF(C$25:V$25,処理!$L20))/処理!$M20,0))","v":""},{"$f":"Q30","v":""},"授業合計",null,{"$f":"SUM(E30:E35,I30:I35,M30:M35,Q30:Q35)","v":0},{"$f":"U30","v":0},{"$f":"$C$30","v":""},null,{"$f":"IF(LEN(W30)=0,\"\",(COUNTIF(W$6:AP$7,W30)+COUNTIF(W$10:AP$10,W30)+COUNTIF(W$13:AP$13,W30)+COUNTIF(W$16:AP$16,W30)+COUNTIF(W$19:AP$19,W30)+COUNTIF(W$22:AP$22,W30)+COUNTIF(W$25:AP$25,W30))/設定!$D21+IFERROR((COUNTIF(W$6:AP$7,処理!$L2)+COUNTIF(W$10:AP$10,処理!$L2)+COUNTIF(W$13:AP$13,処理!$L2)+COUNTIF(W$16:AP$16,処理!$L2)+COUNTIF(W$19:AP$19,処理!$L2)+COUNTIF(W$22:AP$22,処理!$L2)+COUNTIF(W$25:AP$25,処理!$L2))/処理!$M2,0))","v":""},{"$f":"IF(LEN(W30)=0,\"\",SUM(F30,Y30))","v":""},{"$f":"$G$30","v":""},null,{"$f":"IF(LEN(AA30)=0,\"\",(COUNTIF(W$6:AP$7,AA30)+COUNTIF(W$10:AP$10,AA30)+COUNTIF(W$13:AP$13,AA30)+COUNTIF(W$16:AP$16,AA30)+COUNTIF(W$19:AP$19,AA30)+COUNTIF(W$22:AP$22,AA30)+COUNTIF(W$25:AP$25,AA30))/設定!$G21+IFERROR((COUNTIF(W$6:AP$7,処理!$L8)+COUNTIF(W$10:AP$10,処理!$L8)+COUNTIF(W$13:AP$13,処理!$L8)+COUNTIF(W$16:AP$16,処理!$L8)+COUNTIF(W$19:AP$19,処理!$L8)+COUNTIF(W$22:AP$22,処理!$L8)+COUNTIF(W$25:AP$25,処理!$L8))/処理!$M8,0))","v":""},{"$f":"IF(LEN(AA30)=0,\"\",SUM(J30,AC30))","v":""},{"$f":"$K$30","v":""},null,{"$f":"IF(LEN(AE30)=0,\"\",(COUNTIF(W$6:AP$7,AE30)+COUNTIF(W$10:AP$10,AE30)+COUNTIF(W$13:AP$13,AE30)+COUNTIF(W$16:AP$16,AE30)+COUNTIF(W$19:AP$19,AE30)+COUNTIF(W$22:AP$22,AE30)+COUNTIF(W$25:AP$25,AE30))/設定!$J21+IFERROR((COUNTIF(W$6:AP$7,処理!$L14)+COUNTIF(W$10:AP$10,処理!$L14)+COUNTIF(W$13:AP$13,処理!$L14)+COUNTIF(W$16:AP$16,処理!$L14)+COUNTIF(W$19:AP$19,処理!$L14)+COUNTIF(W$22:AP$22,処理!$L14)+COUNTIF(W$25:AP$25,処理!$L14))/処理!$M14,0))","v":""},{"$f":"IF(LEN(AE30)=0,\"\",SUM(N30,AG30))","v":""},{"$f":"$O$30","v":""},null,{"$f":"IF(LEN(AI30)=0,\"\",(COUNTIF(W$6:AP$7,AI30)+COUNTIF(W$10:AP$10,AI30)+COUNTIF(W$13:AP$13,AI30)+COUNTIF(W$16:AP$16,AI30)+COUNTIF(W$19:AP$19,AI30)+COUNTIF(W$22:AP$22,AI30)+COUNTIF(W$25:AP$25,AI30))/設定!$M21+IFERROR((COUNTIF(W$6:AP$7,処理!$L20)+COUNTIF(W$10:AP$10,処理!$L20)+COUNTIF(W$13:AP$13,処理!$L20)+COUNTIF(W$16:AP$16,処理!$L20)+COUNTIF(W$19:AP$19,処理!$L20)+COUNTIF(W$22:AP$22,処理!$L20)+COUNTIF(W$25:AP$25,処理!$L20))/処理!$M20,0))","v":""},{"$f":"IF(LEN(AI30)=0,\"\",SUM(R30,AK30))","v":""},"授業合計",null,{"$f":"SUM(Y30:Y35,AC30:AC35,AG30:AG35,AK30:AK35)","v":0},{"$f":"IF(LEN(AM30)=0,\"\",SUM(V30,AO30))","v":0},{"$f":"$C$30","v":""},null,{"$f":"IF(LEN(AQ30)=0,\"\",(COUNTIF(AQ$6:BJ$7,AQ30)+COUNTIF(AQ$10:BJ$10,AQ30)+COUNTIF(AQ$13:BJ$13,AQ30)+COUNTIF(AQ$16:BJ$16,AQ30)+COUNTIF(AQ$19:BJ$19,AQ30)+COUNTIF(AQ$22:BJ$22,AQ30)+COUNTIF(AQ$25:BJ$25,AQ30))/設定!$D21+IFERROR((COUNTIF(AQ$6:BJ$7,処理!$L2)+COUNTIF(AQ$10:BJ$10,処理!$L2)+COUNTIF(AQ$13:BJ$13,処理!$L2)+COUNTIF(AQ$16:BJ$16,処理!$L2)+COUNTIF(AQ$19:BJ$19,処理!$L2)+COUNTIF(AQ$22:BJ$22,処理!$L2)+COUNTIF(AQ$25:BJ$25,処理!$L2))/処理!$M2,0))","v":""},{"$f":"IF(LEN(AQ30)=0,\"\",SUM(Z30,AS30))","v":""},{"$f":"$G$30","v":""},null,{"$f":"IF(LEN(AU30)=0,\"\",(COUNTIF(AQ$6:BJ$7,AU30)+COUNTIF(AQ$10:BJ$10,AU30)+COUNTIF(AQ$13:BJ$13,AU30)+COUNTIF(AQ$16:BJ$16,AU30)+COUNTIF(AQ$19:BJ$19,AU30)+COUNTIF(AQ$22:BJ$22,AU30)+COUNTIF(AQ$25:BJ$25,AU30))/設定!$G21+IFERROR((COUNTIF(AQ$6:BJ$7,処理!$L8)+COUNTIF(AQ$10:BJ$10,処理!$L8)+COUNTIF(AQ$13:BJ$13,処理!$L8)+COUNTIF(AQ$16:BJ$16,処理!$L8)+COUNTIF(AQ$19:BJ$19,処理!$L8)+COUNTIF(AQ$22:BJ$22,処理!$L8)+COUNTIF(AQ$25:BJ$25,処理!$L8))/処理!$M8,0))","v":""},{"$f":"IF(LEN(AU30)=0,\"\",SUM(AD30,AW30))","v":""},{"$f":"$K$30","v":""},null,{"$f":"IF(LEN(AY30)=0,\"\",(COUNTIF(AQ$6:BJ$7,AY30)+COUNTIF(AQ$10:BJ$10,AY30)+COUNTIF(AQ$13:BJ$13,AY30)+COUNTIF(AQ$16:BJ$16,AY30)+COUNTIF(AQ$19:BJ$19,AY30)+COUNTIF(AQ$22:BJ$22,AY30)+COUNTIF(AQ$25:BJ$25,AY30))/設定!$J21+IFERROR((COUNTIF(AQ$6:BJ$7,処理!$L14)+COUNTIF(AQ$10:BJ$10,処理!$L14)+COUNTIF(AQ$13:BJ$13,処理!$L14)+COUNTIF(AQ$16:BJ$16,処理!$L14)+COUNTIF(AQ$19:BJ$19,処理!$L14)+COUNTIF(AQ$22:BJ$22,処理!$L14)+COUNTIF(AQ$25:BJ$25,処理!$L14))/処理!$M14,0))","v":""},{"$f":"IF(LEN(AY30)=0,\"\",SUM(AH30,BA30))","v":""},{"$f":"$O$30","v":""},null,{"$f":"IF(LEN(BC30)=0,\"\",(COUNTIF(AQ$6:BJ$7,BC30)+COUNTIF(AQ$10:BJ$10,BC30)+COUNTIF(AQ$13:BJ$13,BC30)+COUNTIF(AQ$16:BJ$16,BC30)+COUNTIF(AQ$19:BJ$19,BC30)+COUNTIF(AQ$22:BJ$22,BC30)+COUNTIF(AQ$25:BJ$25,BC30))/設定!$M21+IFERROR((COUNTIF(AQ$6:BJ$7,処理!$L20)+COUNTIF(AQ$10:BJ$10,処理!$L20)+COUNTIF(AQ$13:BJ$13,処理!$L20)+COUNTIF(AQ$16:BJ$16,処理!$L20)+COUNTIF(AQ$19:BJ$19,処理!$L20)+COUNTIF(AQ$22:BJ$22,処理!$L20)+COUNTIF(AQ$25:BJ$25,処理!$L20))/処理!$M20,0))","v":""},{"$f":"IF(LEN(BC30)=0,\"\",SUM(AL30,BE30))","v":""},"授業合計",null,{"$f":"SUM(AS30:AS35,AW30:AW35,BA30:BA35,BE30:BE35)","v":0},{"$f":"IF(LEN(BG30)=0,\"\",SUM(AP30,BI30))","v":0},{"$f":"$C$30","v":""},null,{"$f":"IF(LEN(BK30)=0,\"\",(COUNTIF(BK$6:CD$7,BK30)+COUNTIF(BK$10:CD$10,BK30)+COUNTIF(BK$13:CD$13,BK30)+COUNTIF(BK$16:CD$16,BK30)+COUNTIF(BK$19:CD$19,BK30)+COUNTIF(BK$22:CD$22,BK30)+COUNTIF(BK$25:CD$25,BK30))/設定!$D21+IFERROR((COUNTIF(BK$6:CD$7,処理!$L2)+COUNTIF(BK$10:CD$10,処理!$L2)+COUNTIF(BK$13:CD$13,処理!$L2)+COUNTIF(BK$16:CD$16,処理!$L2)+COUNTIF(BK$19:CD$19,処理!$L2)+COUNTIF(BK$22:CD$22,処理!$L2)+COUNTIF(BK$25:CD$25,処理!$L2))/処理!$M2,0))","v":""},{"$f":"IF(LEN(BK30)=0,\"\",SUM(AT30,BM30))","v":""},{"$f":"$G$30","v":""},null,{"$f":"IF(LEN(BO30)=0,\"\",(COUNTIF(BK$6:CD$7,BO30)+COUNTIF(BK$10:CD$10,BO30)+COUNTIF(BK$13:CD$13,BO30)+COUNTIF(BK$16:CD$16,BO30)+COUNTIF(BK$19:CD$19,BO30)+COUNTIF(BK$22:CD$22,BO30)+COUNTIF(BK$25:CD$25,BO30))/設定!$G21+IFERROR((COUNTIF(BK$6:CD$7,処理!$L8)+COUNTIF(BK$10:CD$10,処理!$L8)+COUNTIF(BK$13:CD$13,処理!$L8)+COUNTIF(BK$16:CD$16,処理!$L8)+COUNTIF(BK$19:CD$19,処理!$L8)+COUNTIF(BK$22:CD$22,処理!$L8)+COUNTIF(BK$25:CD$25,処理!$L8))/処理!$M8,0))","v":""},{"$f":"IF(LEN(BO30)=0,\"\",SUM(AX30,BQ30))","v":""},{"$f":"$K$30","v":""},null,{"$f":"IF(LEN(BS30)=0,\"\",(COUNTIF(BK$6:CD$7,BS30)+COUNTIF(BK$10:CD$10,BS30)+COUNTIF(BK$13:CD$13,BS30)+COUNTIF(BK$16:CD$16,BS30)+COUNTIF(BK$19:CD$19,BS30)+COUNTIF(BK$22:CD$22,BS30)+COUNTIF(BK$25:CD$25,BS30))/設定!$J21+IFERROR((COUNTIF(BK$6:CD$7,処理!$L14)+COUNTIF(BK$10:CD$10,処理!$L14)+COUNTIF(BK$13:CD$13,処理!$L14)+COUNTIF(BK$16:CD$16,処理!$L14)+COUNTIF(BK$19:CD$19,処理!$L14)+COUNTIF(BK$22:CD$22,処理!$L14)+COUNTIF(BK$25:CD$25,処理!$L14))/処理!$M14,0))","v":""},{"$f":"IF(LEN(BS30)=0,\"\",SUM(BB30,BU30))","v":""},{"$f":"$O$30","v":""},null,{"$f":"IF(LEN(BW30)=0,\"\",(COUNTIF(BK$6:CD$7,BW30)+COUNTIF(BK$10:CD$10,BW30)+COUNTIF(BK$13:CD$13,BW30)+COUNTIF(BK$16:CD$16,BW30)+COUNTIF(BK$19:CD$19,BW30)+COUNTIF(BK$22:CD$22,BW30)+COUNTIF(BK$25:CD$25,BW30))/設定!$M21+IFERROR((COUNTIF(BK$6:CD$7,処理!$L20)+COUNTIF(BK$10:CD$10,処理!$L20)+COUNTIF(BK$13:CD$13,処理!$L20)+COUNTIF(BK$16:CD$16,処理!$L20)+COUNTIF(BK$19:CD$19,処理!$L20)+COUNTIF(BK$22:CD$22,処理!$L20)+COUNTIF(BK$25:CD$25,処理!$L20))/処理!$M20,0))","v":""},{"$f":"IF(LEN(BW30)=0,\"\",SUM(BF30,BY30))","v":""},"授業合計",null,{"$f":"SUM(BM30:BM35,BQ30:BQ35,BU30:BU35,BY30:BY35)","v":0},{"$f":"IF(LEN(CA30)=0,\"\",SUM(BJ30,CC30))","v":0},{"$f":"$C$30","v":""},null,{"$f":"IF(LEN(CE30)=0,\"\",(COUNTIF(CE$6:CX$7,CE30)+COUNTIF(CE$10:CX$10,CE30)+COUNTIF(CE$13:CX$13,CE30)+COUNTIF(CE$16:CX$16,CE30)+COUNTIF(CE$19:CX$19,CE30)+COUNTIF(CE$22:CX$22,CE30)+COUNTIF(CE$25:CX$25,CE30))/設定!$D21+IFERROR((COUNTIF(CE$6:CX$7,処理!$L2)+COUNTIF(CE$10:CX$10,処理!$L2)+COUNTIF(CE$13:CX$13,処理!$L2)+COUNTIF(CE$16:CX$16,処理!$L2)+COUNTIF(CE$19:CX$19,処理!$L2)+COUNTIF(CE$22:CX$22,処理!$L2)+COUNTIF(CE$25:CX$25,処理!$L2))/処理!$M2,0))","v":""},{"$f":"IF(LEN(CE30)=0,\"\",SUM(BN30,CG30))","v":""},{"$f":"$G$30","v":""},null,{"$f":"IF(LEN(CI30)=0,\"\",(COUNTIF(CE$6:CX$7,CI30)+COUNTIF(CE$10:CX$10,CI30)+COUNTIF(CE$13:CX$13,CI30)+COUNTIF(CE$16:CX$16,CI30)+COUNTIF(CE$19:CX$19,CI30)+COUNTIF(CE$22:CX$22,CI30)+COUNTIF(CE$25:CX$25,CI30))/設定!$G21+IFERROR((COUNTIF(CE$6:CX$7,処理!$L8)+COUNTIF(CE$10:CX$10,処理!$L8)+COUNTIF(CE$13:CX$13,処理!$L8)+COUNTIF(CE$16:CX$16,処理!$L8)+COUNTIF(CE$19:CX$19,処理!$L8)+COUNTIF(CE$22:CX$22,処理!$L8)+COUNTIF(CE$25:CX$25,処理!$L8))/処理!$M8,0))","v":""},{"$f":"IF(LEN(CI30)=0,\"\",SUM(BR30,CK30))","v":""},{"$f":"$K$30","v":""},null,{"$f":"IF(LEN(CM30)=0,\"\",(COUNTIF(CE$6:CX$7,CM30)+COUNTIF(CE$10:CX$10,CM30)+COUNTIF(CE$13:CX$13,CM30)+COUNTIF(CE$16:CX$16,CM30)+COUNTIF(CE$19:CX$19,CM30)+COUNTIF(CE$22:CX$22,CM30)+COUNTIF(CE$25:CX$25,CM30))/設定!$J21+IFERROR((COUNTIF(CE$6:CX$7,処理!$L14)+COUNTIF(CE$10:CX$10,処理!$L14)+COUNTIF(CE$13:CX$13,処理!$L14)+COUNTIF(CE$16:CX$16,処理!$L14)+COUNTIF(CE$19:CX$19,処理!$L14)+COUNTIF(CE$22:CX$22,処理!$L14)+COUNTIF(CE$25:CX$25,処理!$L14))/処理!$M14,0))","v":""},{"$f":"IF(LEN(CM30)=0,\"\",SUM(BV30,CO30))","v":""},{"$f":"$O$30","v":""},null,{"$f":"IF(LEN(CQ30)=0,\"\",(COUNTIF(CE$6:CX$7,CQ30)+COUNTIF(CE$10:CX$10,CQ30)+COUNTIF(CE$13:CX$13,CQ30)+COUNTIF(CE$16:CX$16,CQ30)+COUNTIF(CE$19:CX$19,CQ30)+COUNTIF(CE$22:CX$22,CQ30)+COUNTIF(CE$25:CX$25,CQ30))/設定!$M21+IFERROR((COUNTIF(CE$6:CX$7,処理!$L20)+COUNTIF(CE$10:CX$10,処理!$L20)+COUNTIF(CE$13:CX$13,処理!$L20)+COUNTIF(CE$16:CX$16,処理!$L20)+COUNTIF(CE$19:CX$19,処理!$L20)+COUNTIF(CE$22:CX$22,処理!$L20)+COUNTIF(CE$25:CX$25,処理!$L20))/処理!$M20,0))","v":""},{"$f":"IF(LEN(CQ30)=0,\"\",SUM(BZ30,CS30))","v":""},"授業合計",null,{"$f":"SUM(CG30:CG35,CK30:CK35,CO30:CO35,CS30:CS35)","v":0},{"$f":"IF(LEN(CU30)=0,\"\",SUM(CD30,CW30))","v":0},{"$f":"$C$30","v":""},null,{"$f":"IF(LEN(CY30)=0,\"\",(COUNTIF(CY$6:DR$7,CY30)+COUNTIF(CY$10:DR$10,CY30)+COUNTIF(CY$13:DR$13,CY30)+COUNTIF(CY$16:DR$16,CY30)+COUNTIF(CY$19:DR$19,CY30)+COUNTIF(CY$22:DR$22,CY30)+COUNTIF(CY$25:DR$25,CY30))/設定!$D21+IFERROR((COUNTIF(CY$6:DR$7,処理!$L2)+COUNTIF(CY$10:DR$10,処理!$L2)+COUNTIF(CY$13:DR$13,処理!$L2)+COUNTIF(CY$16:DR$16,処理!$L2)+COUNTIF(CY$19:DR$19,処理!$L2)+COUNTIF(CY$22:DR$22,処理!$L2)+COUNTIF(CY$25:DR$25,処理!$L2))/処理!$M2,0))","v":""},{"$f":"IF(LEN(CY30)=0,\"\",SUM(CH30,DA30))","v":""},{"$f":"$G$30","v":""},null,{"$f":"IF(LEN(DC30)=0,\"\",(COUNTIF(CY$6:DR$7,DC30)+COUNTIF(CY$10:DR$10,DC30)+COUNTIF(CY$13:DR$13,DC30)+COUNTIF(CY$16:DR$16,DC30)+COUNTIF(CY$19:DR$19,DC30)+COUNTIF(CY$22:DR$22,DC30)+COUNTIF(CY$25:DR$25,DC30))/設定!$G21+IFERROR((COUNTIF(CY$6:DR$7,処理!$L8)+COUNTIF(CY$10:DR$10,処理!$L8)+COUNTIF(CY$13:DR$13,処理!$L8)+COUNTIF(CY$16:DR$16,処理!$L8)+COUNTIF(CY$19:DR$19,処理!$L8)+COUNTIF(CY$22:DR$22,処理!$L8)+COUNTIF(CY$25:DR$25,処理!$L8))/処理!$M8,0))","v":""},{"$f":"IF(LEN(DC30)=0,\"\",SUM(CL30,DE30))","v":""},{"$f":"$K$30","v":""},null,{"$f":"IF(LEN(DG30)=0,\"\",(COUNTIF(CY$6:DR$7,DG30)+COUNTIF(CY$10:DR$10,DG30)+COUNTIF(CY$13:DR$13,DG30)+COUNTIF(CY$16:DR$16,DG30)+COUNTIF(CY$19:DR$19,DG30)+COUNTIF(CY$22:DR$22,DG30)+COUNTIF(CY$25:DR$25,DG30))/設定!$J21+IFERROR((COUNTIF(CY$6:DR$7,処理!$L14)+COUNTIF(CY$10:DR$10,処理!$L14)+COUNTIF(CY$13:DR$13,処理!$L14)+COUNTIF(CY$16:DR$16,処理!$L14)+COUNTIF(CY$19:DR$19,処理!$L14)+COUNTIF(CY$22:DR$22,処理!$L14)+COUNTIF(CY$25:DR$25,処理!$L14))/処理!$M14,0))","v":""},{"$f":"IF(LEN(DG30)=0,\"\",SUM(CP30,DI30))","v":""},{"$f":"$O$30","v":""},null,{"$f":"IF(LEN(DK30)=0,\"\",(COUNTIF(CY$6:DR$7,DK30)+COUNTIF(CY$10:DR$10,DK30)+COUNTIF(CY$13:DR$13,DK30)+COUNTIF(CY$16:DR$16,DK30)+COUNTIF(CY$19:DR$19,DK30)+COUNTIF(CY$22:DR$22,DK30)+COUNTIF(CY$25:DR$25,DK30))/設定!$M21+IFERROR((COUNTIF(CY$6:DR$7,処理!$L20)+COUNTIF(CY$10:DR$10,処理!$L20)+COUNTIF(CY$13:DR$13,処理!$L20)+COUNTIF(CY$16:DR$16,処理!$L20)+COUNTIF(CY$19:DR$19,処理!$L20)+COUNTIF(CY$22:DR$22,処理!$L20)+COUNTIF(CY$25:DR$25,処理!$L20))/処理!$M20,0))","v":""},{"$f":"IF(LEN(DK30)=0,\"\",SUM(CT30,DM30))","v":""},"授業合計",null,{"$f":"SUM(DA30:DA35,DE30:DE35,DI30:DI35,DM30:DM35)","v":0},{"$f":"IF(LEN(DO30)=0,\"\",SUM(CX30,DQ30))","v":0},{"$f":"$C$30","v":""},null,{"$f":"IF(LEN(DS30)=0,\"\",(COUNTIF(DS$6:EL$7,DS30)+COUNTIF(DS$10:EL$10,DS30)+COUNTIF(DS$13:EL$13,DS30)+COUNTIF(DS$16:EL$16,DS30)+COUNTIF(DS$19:EL$19,DS30)+COUNTIF(DS$22:EL$22,DS30)+COUNTIF(DS$25:EL$25,DS30))/設定!$D21+IFERROR((COUNTIF(DS$6:EL$7,処理!$L2)+COUNTIF(DS$10:EL$10,処理!$L2)+COUNTIF(DS$13:EL$13,処理!$L2)+COUNTIF(DS$16:EL$16,処理!$L2)+COUNTIF(DS$19:EL$19,処理!$L2)+COUNTIF(DS$22:EL$22,処理!$L2)+COUNTIF(DS$25:EL$25,処理!$L2))/処理!$M2,0))","v":""},{"$f":"IF(LEN(DS30)=0,\"\",SUM(DB30,DU30))","v":""},{"$f":"$G$30","v":""},null,{"$f":"IF(LEN(DW30)=0,\"\",(COUNTIF(DS$6:EL$7,DW30)+COUNTIF(DS$10:EL$10,DW30)+COUNTIF(DS$13:EL$13,DW30)+COUNTIF(DS$16:EL$16,DW30)+COUNTIF(DS$19:EL$19,DW30)+COUNTIF(DS$22:EL$22,DW30)+COUNTIF(DS$25:EL$25,DW30))/設定!$G21+IFERROR((COUNTIF(DS$6:EL$7,処理!$L8)+COUNTIF(DS$10:EL$10,処理!$L8)+COUNTIF(DS$13:EL$13,処理!$L8)+COUNTIF(DS$16:EL$16,処理!$L8)+COUNTIF(DS$19:EL$19,処理!$L8)+COUNTIF(DS$22:EL$22,処理!$L8)+COUNTIF(DS$25:EL$25,処理!$L8))/処理!$M8,0))","v":""},{"$f":"IF(LEN(DW30)=0,\"\",SUM(DF30,DY30))","v":""},{"$f":"$K$30","v":""},null,{"$f":"IF(LEN(EA30)=0,\"\",(COUNTIF(DS$6:EL$7,EA30)+COUNTIF(DS$10:EL$10,EA30)+COUNTIF(DS$13:EL$13,EA30)+COUNTIF(DS$16:EL$16,EA30)+COUNTIF(DS$19:EL$19,EA30)+COUNTIF(DS$22:EL$22,EA30)+COUNTIF(DS$25:EL$25,EA30))/設定!$J21+IFERROR((COUNTIF(DS$6:EL$7,処理!$L14)+COUNTIF(DS$10:EL$10,処理!$L14)+COUNTIF(DS$13:EL$13,処理!$L14)+COUNTIF(DS$16:EL$16,処理!$L14)+COUNTIF(DS$19:EL$19,処理!$L14)+COUNTIF(DS$22:EL$22,処理!$L14)+COUNTIF(DS$25:EL$25,処理!$L14))/処理!$M14,0))","v":""},{"$f":"IF(LEN(EA30)=0,\"\",SUM(DJ30,EC30))","v":""},{"$f":"$O$30","v":""},null,{"$f":"IF(LEN(EE30)=0,\"\",(COUNTIF(DS$6:EL$7,EE30)+COUNTIF(DS$10:EL$10,EE30)+COUNTIF(DS$13:EL$13,EE30)+COUNTIF(DS$16:EL$16,EE30)+COUNTIF(DS$19:EL$19,EE30)+COUNTIF(DS$22:EL$22,EE30)+COUNTIF(DS$25:EL$25,EE30))/設定!$M21+IFERROR((COUNTIF(DS$6:EL$7,処理!$L20)+COUNTIF(DS$10:EL$10,処理!$L20)+COUNTIF(DS$13:EL$13,処理!$L20)+COUNTIF(DS$16:EL$16,処理!$L20)+COUNTIF(DS$19:EL$19,処理!$L20)+COUNTIF(DS$22:EL$22,処理!$L20)+COUNTIF(DS$25:EL$25,処理!$L20))/処理!$M20,0))","v":""},{"$f":"IF(LEN(EE30)=0,\"\",SUM(DN30,EG30))","v":""},"授業合計",null,{"$f":"SUM(DU30:DU35,DY30:DY35,EC30:EC35,EG30:EG35)","v":0},{"$f":"IF(LEN(EI30)=0,\"\",SUM(DR30,EK30))","v":0},{"$f":"$C$30","v":""},null,{"$f":"IF(LEN(EM30)=0,\"\",(COUNTIF(EM$6:FF$7,EM30)+COUNTIF(EM$10:FF$10,EM30)+COUNTIF(EM$13:FF$13,EM30)+COUNTIF(EM$16:FF$16,EM30)+COUNTIF(EM$19:FF$19,EM30)+COUNTIF(EM$22:FF$22,EM30)+COUNTIF(EM$25:FF$25,EM30))/設定!$D21+IFERROR((COUNTIF(EM$6:FF$7,処理!$L2)+COUNTIF(EM$10:FF$10,処理!$L2)+COUNTIF(EM$13:FF$13,処理!$L2)+COUNTIF(EM$16:FF$16,処理!$L2)+COUNTIF(EM$19:FF$19,処理!$L2)+COUNTIF(EM$22:FF$22,処理!$L2)+COUNTIF(EM$25:FF$25,処理!$L2))/処理!$M2,0))","v":""},{"$f":"IF(LEN(EM30)=0,\"\",SUM(DV30,EO30))","v":""},{"$f":"$G$30","v":""},null,{"$f":"IF(LEN(EQ30)=0,\"\",(COUNTIF(EM$6:FF$7,EQ30)+COUNTIF(EM$10:FF$10,EQ30)+COUNTIF(EM$13:FF$13,EQ30)+COUNTIF(EM$16:FF$16,EQ30)+COUNTIF(EM$19:FF$19,EQ30)+COUNTIF(EM$22:FF$22,EQ30)+COUNTIF(EM$25:FF$25,EQ30))/設定!$G21+IFERROR((COUNTIF(EM$6:FF$7,処理!$L8)+COUNTIF(EM$10:FF$10,処理!$L8)+COUNTIF(EM$13:FF$13,処理!$L8)+COUNTIF(EM$16:FF$16,処理!$L8)+COUNTIF(EM$19:FF$19,処理!$L8)+COUNTIF(EM$22:FF$22,処理!$L8)+COUNTIF(EM$25:FF$25,処理!$L8))/処理!$M8,0))","v":""},{"$f":"IF(LEN(EQ30)=0,\"\",SUM(DZ30,ES30))","v":""},{"$f":"$K$30","v":""},null,{"$f":"IF(LEN(EU30)=0,\"\",(COUNTIF(EM$6:FF$7,EU30)+COUNTIF(EM$10:FF$10,EU30)+COUNTIF(EM$13:FF$13,EU30)+COUNTIF(EM$16:FF$16,EU30)+COUNTIF(EM$19:FF$19,EU30)+COUNTIF(EM$22:FF$22,EU30)+COUNTIF(EM$25:FF$25,EU30))/設定!$J21+IFERROR((COUNTIF(EM$6:FF$7,処理!$L14)+COUNTIF(EM$10:FF$10,処理!$L14)+COUNTIF(EM$13:FF$13,処理!$L14)+COUNTIF(EM$16:FF$16,処理!$L14)+COUNTIF(EM$19:FF$19,処理!$L14)+COUNTIF(EM$22:FF$22,処理!$L14)+COUNTIF(EM$25:FF$25,処理!$L14))/処理!$M14,0))","v":""},{"$f":"IF(LEN(EU30)=0,\"\",SUM(ED30,EW30))","v":""},{"$f":"$O$30","v":""},null,{"$f":"IF(LEN(EY30)=0,\"\",(COUNTIF(EM$6:FF$7,EY30)+COUNTIF(EM$10:FF$10,EY30)+COUNTIF(EM$13:FF$13,EY30)+COUNTIF(EM$16:FF$16,EY30)+COUNTIF(EM$19:FF$19,EY30)+COUNTIF(EM$22:FF$22,EY30)+COUNTIF(EM$25:FF$25,EY30))/設定!$M21+IFERROR((COUNTIF(EM$6:FF$7,処理!$L20)+COUNTIF(EM$10:FF$10,処理!$L20)+COUNTIF(EM$13:FF$13,処理!$L20)+COUNTIF(EM$16:FF$16,処理!$L20)+COUNTIF(EM$19:FF$19,処理!$L20)+COUNTIF(EM$22:FF$22,処理!$L20)+COUNTIF(EM$25:FF$25,処理!$L20))/処理!$M20,0))","v":""},{"$f":"IF(LEN(EY30)=0,\"\",SUM(EH30,FA30))","v":""},"授業合計",null,{"$f":"SUM(EO30:EO35,ES30:ES35,EW30:EW35,FA30:FA35)","v":0},{"$f":"IF(LEN(FC30)=0,\"\",SUM(EL30,FE30))","v":0},{"$f":"$C$30","v":""},null,{"$f":"IF(LEN(FG30)=0,\"\",(COUNTIF(FG$6:FZ$7,FG30)+COUNTIF(FG$10:FZ$10,FG30)+COUNTIF(FG$13:FZ$13,FG30)+COUNTIF(FG$16:FZ$16,FG30)+COUNTIF(FG$19:FZ$19,FG30)+COUNTIF(FG$22:FZ$22,FG30)+COUNTIF(FG$25:FZ$25,FG30))/設定!$D21+IFERROR((COUNTIF(FG$6:FZ$7,処理!$L2)+COUNTIF(FG$10:FZ$10,処理!$L2)+COUNTIF(FG$13:FZ$13,処理!$L2)+COUNTIF(FG$16:FZ$16,処理!$L2)+COUNTIF(FG$19:FZ$19,処理!$L2)+COUNTIF(FG$22:FZ$22,処理!$L2)+COUNTIF(FG$25:FZ$25,処理!$L2))/処理!$M2,0))","v":""},{"$f":"IF(LEN(FG30)=0,\"\",SUM(EP30,FI30))","v":""},{"$f":"$G$30","v":""},null,{"$f":"IF(LEN(FK30)=0,\"\",(COUNTIF(FG$6:FZ$7,FK30)+COUNTIF(FG$10:FZ$10,FK30)+COUNTIF(FG$13:FZ$13,FK30)+COUNTIF(FG$16:FZ$16,FK30)+COUNTIF(FG$19:FZ$19,FK30)+COUNTIF(FG$22:FZ$22,FK30)+COUNTIF(FG$25:FZ$25,FK30))/設定!$G21+IFERROR((COUNTIF(FG$6:FZ$7,処理!$L8)+COUNTIF(FG$10:FZ$10,処理!$L8)+COUNTIF(FG$13:FZ$13,処理!$L8)+COUNTIF(FG$16:FZ$16,処理!$L8)+COUNTIF(FG$19:FZ$19,処理!$L8)+COUNTIF(FG$22:FZ$22,処理!$L8)+COUNTIF(FG$25:FZ$25,処理!$L8))/処理!$M8,0))","v":""},{"$f":"IF(LEN(FK30)=0,\"\",SUM(ET30,FM30))","v":""},{"$f":"$K$30","v":""},null,{"$f":"IF(LEN(FO30)=0,\"\",(COUNTIF(FG$6:FZ$7,FO30)+COUNTIF(FG$10:FZ$10,FO30)+COUNTIF(FG$13:FZ$13,FO30)+COUNTIF(FG$16:FZ$16,FO30)+COUNTIF(FG$19:FZ$19,FO30)+COUNTIF(FG$22:FZ$22,FO30)+COUNTIF(FG$25:FZ$25,FO30))/設定!$J21+IFERROR((COUNTIF(FG$6:FZ$7,処理!$L14)+COUNTIF(FG$10:FZ$10,処理!$L14)+COUNTIF(FG$13:FZ$13,処理!$L14)+COUNTIF(FG$16:FZ$16,処理!$L14)+COUNTIF(FG$19:FZ$19,処理!$L14)+COUNTIF(FG$22:FZ$22,処理!$L14)+COUNTIF(FG$25:FZ$25,処理!$L14))/処理!$M14,0))","v":""},{"$f":"IF(LEN(FO30)=0,\"\",SUM(EX30,FQ30))","v":""},{"$f":"$O$30","v":""},null,{"$f":"IF(LEN(FS30)=0,\"\",(COUNTIF(FG$6:FZ$7,FS30)+COUNTIF(FG$10:FZ$10,FS30)+COUNTIF(FG$13:FZ$13,FS30)+COUNTIF(FG$16:FZ$16,FS30)+COUNTIF(FG$19:FZ$19,FS30)+COUNTIF(FG$22:FZ$22,FS30)+COUNTIF(FG$25:FZ$25,FS30))/設定!$M21+IFERROR((COUNTIF(FG$6:FZ$7,処理!$L20)+COUNTIF(FG$10:FZ$10,処理!$L20)+COUNTIF(FG$13:FZ$13,処理!$L20)+COUNTIF(FG$16:FZ$16,処理!$L20)+COUNTIF(FG$19:FZ$19,処理!$L20)+COUNTIF(FG$22:FZ$22,処理!$L20)+COUNTIF(FG$25:FZ$25,処理!$L20))/処理!$M20,0))","v":""},{"$f":"IF(LEN(FS30)=0,\"\",SUM(FB30,FU30))","v":""},"授業合計",null,{"$f":"SUM(FI30:FI35,FM30:FM35,FQ30:FQ35,FU30:FU35)","v":0},{"$f":"IF(LEN(FW30)=0,\"\",SUM(FF30,FY30))","v":0},{"$f":"$C$30","v":""},null,{"$f":"IF(LEN(GA30)=0,\"\",(COUNTIF(GA$6:GT$7,GA30)+COUNTIF(GA$10:GT$10,GA30)+COUNTIF(GA$13:GT$13,GA30)+COUNTIF(GA$16:GT$16,GA30)+COUNTIF(GA$19:GT$19,GA30)+COUNTIF(GA$22:GT$22,GA30)+COUNTIF(GA$25:GT$25,GA30))/設定!$D21+IFERROR((COUNTIF(GA$6:GT$7,処理!$L2)+COUNTIF(GA$10:GT$10,処理!$L2)+COUNTIF(GA$13:GT$13,処理!$L2)+COUNTIF(GA$16:GT$16,処理!$L2)+COUNTIF(GA$19:GT$19,処理!$L2)+COUNTIF(GA$22:GT$22,処理!$L2)+COUNTIF(GA$25:GT$25,処理!$L2))/処理!$M2,0))","v":""},{"$f":"IF(LEN(GA30)=0,\"\",SUM(FJ30,GC30))","v":""},{"$f":"$G$30","v":""},null,{"$f":"IF(LEN(GE30)=0,\"\",(COUNTIF(GA$6:GT$7,GE30)+COUNTIF(GA$10:GT$10,GE30)+COUNTIF(GA$13:GT$13,GE30)+COUNTIF(GA$16:GT$16,GE30)+COUNTIF(GA$19:GT$19,GE30)+COUNTIF(GA$22:GT$22,GE30)+COUNTIF(GA$25:GT$25,GE30))/設定!$G21+IFERROR((COUNTIF(GA$6:GT$7,処理!$L8)+COUNTIF(GA$10:GT$10,処理!$L8)+COUNTIF(GA$13:GT$13,処理!$L8)+COUNTIF(GA$16:GT$16,処理!$L8)+COUNTIF(GA$19:GT$19,処理!$L8)+COUNTIF(GA$22:GT$22,処理!$L8)+COUNTIF(GA$25:GT$25,処理!$L8))/処理!$M8,0))","v":""},{"$f":"IF(LEN(GE30)=0,\"\",SUM(FN30,GG30))","v":""},{"$f":"$K$30","v":""},null,{"$f":"IF(LEN(GI30)=0,\"\",(COUNTIF(GA$6:GT$7,GI30)+COUNTIF(GA$10:GT$10,GI30)+COUNTIF(GA$13:GT$13,GI30)+COUNTIF(GA$16:GT$16,GI30)+COUNTIF(GA$19:GT$19,GI30)+COUNTIF(GA$22:GT$22,GI30)+COUNTIF(GA$25:GT$25,GI30))/設定!$J21+IFERROR((COUNTIF(GA$6:GT$7,処理!$L14)+COUNTIF(GA$10:GT$10,処理!$L14)+COUNTIF(GA$13:GT$13,処理!$L14)+COUNTIF(GA$16:GT$16,処理!$L14)+COUNTIF(GA$19:GT$19,処理!$L14)+COUNTIF(GA$22:GT$22,処理!$L14)+COUNTIF(GA$25:GT$25,処理!$L14))/処理!$M14,0))","v":""},{"$f":"IF(LEN(GI30)=0,\"\",SUM(FR30,GK30))","v":""},{"$f":"$O$30","v":""},null,{"$f":"IF(LEN(GM30)=0,\"\",(COUNTIF(GA$6:GT$7,GM30)+COUNTIF(GA$10:GT$10,GM30)+COUNTIF(GA$13:GT$13,GM30)+COUNTIF(GA$16:GT$16,GM30)+COUNTIF(GA$19:GT$19,GM30)+COUNTIF(GA$22:GT$22,GM30)+COUNTIF(GA$25:GT$25,GM30))/設定!$M21+IFERROR((COUNTIF(GA$6:GT$7,処理!$L20)+COUNTIF(GA$10:GT$10,処理!$L20)+COUNTIF(GA$13:GT$13,処理!$L20)+COUNTIF(GA$16:GT$16,処理!$L20)+COUNTIF(GA$19:GT$19,処理!$L20)+COUNTIF(GA$22:GT$22,処理!$L20)+COUNTIF(GA$25:GT$25,処理!$L20))/処理!$M20,0))","v":""},{"$f":"IF(LEN(GM30)=0,\"\",SUM(FV30,GO30))","v":""},"授業合計",null,{"$f":"SUM(GC30:GC35,GG30:GG35,GK30:GK35,GO30:GO35)","v":0},{"$f":"IF(LEN(GQ30)=0,\"\",SUM(FZ30,GS30))","v":0},{"$f":"$C$30","v":""},null,{"$f":"IF(LEN(GU30)=0,\"\",(COUNTIF(GU$6:HN$7,GU30)+COUNTIF(GU$10:HN$10,GU30)+COUNTIF(GU$13:HN$13,GU30)+COUNTIF(GU$16:HN$16,GU30)+COUNTIF(GU$19:HN$19,GU30)+COUNTIF(GU$22:HN$22,GU30)+COUNTIF(GU$25:HN$25,GU30))/設定!$D21+IFERROR((COUNTIF(GU$6:HN$7,処理!$L2)+COUNTIF(GU$10:HN$10,処理!$L2)+COUNTIF(GU$13:HN$13,処理!$L2)+COUNTIF(GU$16:HN$16,処理!$L2)+COUNTIF(GU$19:HN$19,処理!$L2)+COUNTIF(GU$22:HN$22,処理!$L2)+COUNTIF(GU$25:HN$25,処理!$L2))/処理!$M2,0))","v":""},{"$f":"IF(LEN(GU30)=0,\"\",SUM(GD30,GW30))","v":""},{"$f":"$G$30","v":""},null,{"$f":"IF(LEN(GY30)=0,\"\",(COUNTIF(GU$6:HN$7,GY30)+COUNTIF(GU$10:HN$10,GY30)+COUNTIF(GU$13:HN$13,GY30)+COUNTIF(GU$16:HN$16,GY30)+COUNTIF(GU$19:HN$19,GY30)+COUNTIF(GU$22:HN$22,GY30)+COUNTIF(GU$25:HN$25,GY30))/設定!$G21+IFERROR((COUNTIF(GU$6:HN$7,処理!$L8)+COUNTIF(GU$10:HN$10,処理!$L8)+COUNTIF(GU$13:HN$13,処理!$L8)+COUNTIF(GU$16:HN$16,処理!$L8)+COUNTIF(GU$19:HN$19,処理!$L8)+COUNTIF(GU$22:HN$22,処理!$L8)+COUNTIF(GU$25:HN$25,処理!$L8))/処理!$M8,0))","v":""},{"$f":"IF(LEN(GY30)=0,\"\",SUM(GH30,HA30))","v":""},{"$f":"$K$30","v":""},null,{"$f":"IF(LEN(HC30)=0,\"\",(COUNTIF(GU$6:HN$7,HC30)+COUNTIF(GU$10:HN$10,HC30)+COUNTIF(GU$13:HN$13,HC30)+COUNTIF(GU$16:HN$16,HC30)+COUNTIF(GU$19:HN$19,HC30)+COUNTIF(GU$22:HN$22,HC30)+COUNTIF(GU$25:HN$25,HC30))/設定!$J21+IFERROR((COUNTIF(GU$6:HN$7,処理!$L14)+COUNTIF(GU$10:HN$10,処理!$L14)+COUNTIF(GU$13:HN$13,処理!$L14)+COUNTIF(GU$16:HN$16,処理!$L14)+COUNTIF(GU$19:HN$19,処理!$L14)+COUNTIF(GU$22:HN$22,処理!$L14)+COUNTIF(GU$25:HN$25,処理!$L14))/処理!$M14,0))","v":""},{"$f":"IF(LEN(HC30)=0,\"\",SUM(GL30,HE30))","v":""},{"$f":"$O$30","v":""},null,{"$f":"IF(LEN(HG30)=0,\"\",(COUNTIF(GU$6:HN$7,HG30)+COUNTIF(GU$10:HN$10,HG30)+COUNTIF(GU$13:HN$13,HG30)+COUNTIF(GU$16:HN$16,HG30)+COUNTIF(GU$19:HN$19,HG30)+COUNTIF(GU$22:HN$22,HG30)+COUNTIF(GU$25:HN$25,HG30))/設定!$M21+IFERROR((COUNTIF(GU$6:HN$7,処理!$L20)+COUNTIF(GU$10:HN$10,処理!$L20)+COUNTIF(GU$13:HN$13,処理!$L20)+COUNTIF(GU$16:HN$16,処理!$L20)+COUNTIF(GU$19:HN$19,処理!$L20)+COUNTIF(GU$22:HN$22,処理!$L20)+COUNTIF(GU$25:HN$25,処理!$L20))/処理!$M20,0))","v":""},{"$f":"IF(LEN(HG30)=0,\"\",SUM(GP30,HI30))","v":""},"授業合計",null,{"$f":"SUM(GW30:GW35,HA30:HA35,HE30:HE35,HI30:HI35)","v":0},{"$f":"IF(LEN(HK30)=0,\"\",SUM(GT30,HM30))","v":0},{"$f":"$C$30","v":""},null,{"$f":"IF(LEN(HO30)=0,\"\",(COUNTIF(HO$6:IH$7,HO30)+COUNTIF(HO$10:IH$10,HO30)+COUNTIF(HO$13:IH$13,HO30)+COUNTIF(HO$16:IH$16,HO30)+COUNTIF(HO$19:IH$19,HO30)+COUNTIF(HO$22:IH$22,HO30)+COUNTIF(HO$25:IH$25,HO30))/設定!$D21+IFERROR((COUNTIF(HO$6:IH$7,処理!$L2)+COUNTIF(HO$10:IH$10,処理!$L2)+COUNTIF(HO$13:IH$13,処理!$L2)+COUNTIF(HO$16:IH$16,処理!$L2)+COUNTIF(HO$19:IH$19,処理!$L2)+COUNTIF(HO$22:IH$22,処理!$L2)+COUNTIF(HO$25:IH$25,処理!$L2))/処理!$M2,0))","v":""},{"$f":"IF(LEN(HO30)=0,\"\",SUM(GX30,HQ30))","v":""},{"$f":"$G$30","v":""},null,{"$f":"IF(LEN(HS30)=0,\"\",(COUNTIF(HO$6:IH$7,HS30)+COUNTIF(HO$10:IH$10,HS30)+COUNTIF(HO$13:IH$13,HS30)+COUNTIF(HO$16:IH$16,HS30)+COUNTIF(HO$19:IH$19,HS30)+COUNTIF(HO$22:IH$22,HS30)+COUNTIF(HO$25:IH$25,HS30))/設定!$G21+IFERROR((COUNTIF(HO$6:IH$7,処理!$L8)+COUNTIF(HO$10:IH$10,処理!$L8)+COUNTIF(HO$13:IH$13,処理!$L8)+COUNTIF(HO$16:IH$16,処理!$L8)+COUNTIF(HO$19:IH$19,処理!$L8)+COUNTIF(HO$22:IH$22,処理!$L8)+COUNTIF(HO$25:IH$25,処理!$L8))/処理!$M8,0))","v":""},{"$f":"IF(LEN(HS30)=0,\"\",SUM(HB30,HU30))","v":""},{"$f":"$K$30","v":""},null,{"$f":"IF(LEN(HW30)=0,\"\",(COUNTIF(HO$6:IH$7,HW30)+COUNTIF(HO$10:IH$10,HW30)+COUNTIF(HO$13:IH$13,HW30)+COUNTIF(HO$16:IH$16,HW30)+COUNTIF(HO$19:IH$19,HW30)+COUNTIF(HO$22:IH$22,HW30)+COUNTIF(HO$25:IH$25,HW30))/設定!$J21+IFERROR((COUNTIF(HO$6:IH$7,処理!$L14)+COUNTIF(HO$10:IH$10,処理!$L14)+COUNTIF(HO$13:IH$13,処理!$L14)+COUNTIF(HO$16:IH$16,処理!$L14)+COUNTIF(HO$19:IH$19,処理!$L14)+COUNTIF(HO$22:IH$22,処理!$L14)+COUNTIF(HO$25:IH$25,処理!$L14))/処理!$M14,0))","v":""},{"$f":"IF(LEN(HW30)=0,\"\",SUM(HF30,HY30))","v":""},{"$f":"$O$30","v":""},null,{"$f":"IF(LEN(IA30)=0,\"\",(COUNTIF(HO$6:IH$7,IA30)+COUNTIF(HO$10:IH$10,IA30)+COUNTIF(HO$13:IH$13,IA30)+COUNTIF(HO$16:IH$16,IA30)+COUNTIF(HO$19:IH$19,IA30)+COUNTIF(HO$22:IH$22,IA30)+COUNTIF(HO$25:IH$25,IA30))/設定!$M21+IFERROR((COUNTIF(HO$6:IH$7,処理!$L20)+COUNTIF(HO$10:IH$10,処理!$L20)+COUNTIF(HO$13:IH$13,処理!$L20)+COUNTIF(HO$16:IH$16,処理!$L20)+COUNTIF(HO$19:IH$19,処理!$L20)+COUNTIF(HO$22:IH$22,処理!$L20)+COUNTIF(HO$25:IH$25,処理!$L20))/処理!$M20,0))","v":""},{"$f":"IF(LEN(IA30)=0,\"\",SUM(HJ30,IC30))","v":""},"授業合計",null,{"$f":"SUM(HQ30:HQ35,HU30:HU35,HY30:HY35,IC30:IC35)","v":0},{"$f":"IF(LEN(IE30)=0,\"\",SUM(HN30,IG30))","v":0},{"$f":"$C$30","v":""},null,{"$f":"IF(LEN(II30)=0,\"\",(COUNTIF(II$6:JB$7,II30)+COUNTIF(II$10:JB$10,II30)+COUNTIF(II$13:JB$13,II30)+COUNTIF(II$16:JB$16,II30)+COUNTIF(II$19:JB$19,II30)+COUNTIF(II$22:JB$22,II30)+COUNTIF(II$25:JB$25,II30))/設定!$D21+IFERROR((COUNTIF(II$6:JB$7,処理!$L2)+COUNTIF(II$10:JB$10,処理!$L2)+COUNTIF(II$13:JB$13,処理!$L2)+COUNTIF(II$16:JB$16,処理!$L2)+COUNTIF(II$19:JB$19,処理!$L2)+COUNTIF(II$22:JB$22,処理!$L2)+COUNTIF(II$25:JB$25,処理!$L2))/処理!$M2,0))","v":""},{"$f":"IF(LEN(II30)=0,\"\",SUM(HR30,IK30))","v":""},{"$f":"$G$30","v":""},null,{"$f":"IF(LEN(IM30)=0,\"\",(COUNTIF(II$6:JB$7,IM30)+COUNTIF(II$10:JB$10,IM30)+COUNTIF(II$13:JB$13,IM30)+COUNTIF(II$16:JB$16,IM30)+COUNTIF(II$19:JB$19,IM30)+COUNTIF(II$22:JB$22,IM30)+COUNTIF(II$25:JB$25,IM30))/設定!$G21+IFERROR((COUNTIF(II$6:JB$7,処理!$L8)+COUNTIF(II$10:JB$10,処理!$L8)+COUNTIF(II$13:JB$13,処理!$L8)+COUNTIF(II$16:JB$16,処理!$L8)+COUNTIF(II$19:JB$19,処理!$L8)+COUNTIF(II$22:JB$22,処理!$L8)+COUNTIF(II$25:JB$25,処理!$L8))/処理!$M8,0))","v":""},{"$f":"IF(LEN(IM30)=0,\"\",SUM(HV30,IO30))","v":""},{"$f":"$K$30","v":""},null,{"$f":"IF(LEN(IQ30)=0,\"\",(COUNTIF(II$6:JB$7,IQ30)+COUNTIF(II$10:JB$10,IQ30)+COUNTIF(II$13:JB$13,IQ30)+COUNTIF(II$16:JB$16,IQ30)+COUNTIF(II$19:JB$19,IQ30)+COUNTIF(II$22:JB$22,IQ30)+COUNTIF(II$25:JB$25,IQ30))/設定!$J21+IFERROR((COUNTIF(II$6:JB$7,処理!$L14)+COUNTIF(II$10:JB$10,処理!$L14)+COUNTIF(II$13:JB$13,処理!$L14)+COUNTIF(II$16:JB$16,処理!$L14)+COUNTIF(II$19:JB$19,処理!$L14)+COUNTIF(II$22:JB$22,処理!$L14)+COUNTIF(II$25:JB$25,処理!$L14))/処理!$M14,0))","v":""},{"$f":"IF(LEN(IQ30)=0,\"\",SUM(HZ30,IS30))","v":""},{"$f":"$O$30","v":""},null,{"$f":"IF(LEN(IU30)=0,\"\",(COUNTIF(II$6:JB$7,IU30)+COUNTIF(II$10:JB$10,IU30)+COUNTIF(II$13:JB$13,IU30)+COUNTIF(II$16:JB$16,IU30)+COUNTIF(II$19:JB$19,IU30)+COUNTIF(II$22:JB$22,IU30)+COUNTIF(II$25:JB$25,IU30))/設定!$M21+IFERROR((COUNTIF(II$6:JB$7,処理!$L20)+COUNTIF(II$10:JB$10,処理!$L20)+COUNTIF(II$13:JB$13,処理!$L20)+COUNTIF(II$16:JB$16,処理!$L20)+COUNTIF(II$19:JB$19,処理!$L20)+COUNTIF(II$22:JB$22,処理!$L20)+COUNTIF(II$25:JB$25,処理!$L20))/処理!$M20,0))","v":""},{"$f":"IF(LEN(IU30)=0,\"\",SUM(ID30,IW30))","v":""},"授業合計",null,{"$f":"SUM(IK30:IK35,IO30:IO35,IS30:IS35,IW30:IW35)","v":0},{"$f":"IF(LEN(IY30)=0,\"\",SUM(IH30,JA30))","v":0},{"$f":"$C$30","v":""},null,{"$f":"IF(LEN(JC30)=0,\"\",(COUNTIF(JC$6:JV$7,JC30)+COUNTIF(JC$10:JV$10,JC30)+COUNTIF(JC$13:JV$13,JC30)+COUNTIF(JC$16:JV$16,JC30)+COUNTIF(JC$19:JV$19,JC30)+COUNTIF(JC$22:JV$22,JC30)+COUNTIF(JC$25:JV$25,JC30))/設定!$D21+IFERROR((COUNTIF(JC$6:JV$7,処理!$L2)+COUNTIF(JC$10:JV$10,処理!$L2)+COUNTIF(JC$13:JV$13,処理!$L2)+COUNTIF(JC$16:JV$16,処理!$L2)+COUNTIF(JC$19:JV$19,処理!$L2)+COUNTIF(JC$22:JV$22,処理!$L2)+COUNTIF(JC$25:JV$25,処理!$L2))/処理!$M2,0))","v":""},{"$f":"IF(LEN(JC30)=0,\"\",SUM(IL30,JE30))","v":""},{"$f":"$G$30","v":""},null,{"$f":"IF(LEN(JG30)=0,\"\",(COUNTIF(JC$6:JV$7,JG30)+COUNTIF(JC$10:JV$10,JG30)+COUNTIF(JC$13:JV$13,JG30)+COUNTIF(JC$16:JV$16,JG30)+COUNTIF(JC$19:JV$19,JG30)+COUNTIF(JC$22:JV$22,JG30)+COUNTIF(JC$25:JV$25,JG30))/設定!$G21+IFERROR((COUNTIF(JC$6:JV$7,処理!$L8)+COUNTIF(JC$10:JV$10,処理!$L8)+COUNTIF(JC$13:JV$13,処理!$L8)+COUNTIF(JC$16:JV$16,処理!$L8)+COUNTIF(JC$19:JV$19,処理!$L8)+COUNTIF(JC$22:JV$22,処理!$L8)+COUNTIF(JC$25:JV$25,処理!$L8))/処理!$M8,0))","v":""},{"$f":"IF(LEN(JG30)=0,\"\",SUM(IP30,JI30))","v":""},{"$f":"$K$30","v":""},null,{"$f":"IF(LEN(JK30)=0,\"\",(COUNTIF(JC$6:JV$7,JK30)+COUNTIF(JC$10:JV$10,JK30)+COUNTIF(JC$13:JV$13,JK30)+COUNTIF(JC$16:JV$16,JK30)+COUNTIF(JC$19:JV$19,JK30)+COUNTIF(JC$22:JV$22,JK30)+COUNTIF(JC$25:JV$25,JK30))/設定!$J21+IFERROR((COUNTIF(JC$6:JV$7,処理!$L14)+COUNTIF(JC$10:JV$10,処理!$L14)+COUNTIF(JC$13:JV$13,処理!$L14)+COUNTIF(JC$16:JV$16,処理!$L14)+COUNTIF(JC$19:JV$19,処理!$L14)+COUNTIF(JC$22:JV$22,処理!$L14)+COUNTIF(JC$25:JV$25,処理!$L14))/処理!$M14,0))","v":""},{"$f":"IF(LEN(JK30)=0,\"\",SUM(IT30,JM30))","v":""},{"$f":"$O$30","v":""},null,{"$f":"IF(LEN(JO30)=0,\"\",(COUNTIF(JC$6:JV$7,JO30)+COUNTIF(JC$10:JV$10,JO30)+COUNTIF(JC$13:JV$13,JO30)+COUNTIF(JC$16:JV$16,JO30)+COUNTIF(JC$19:JV$19,JO30)+COUNTIF(JC$22:JV$22,JO30)+COUNTIF(JC$25:JV$25,JO30))/設定!$M21+IFERROR((COUNTIF(JC$6:JV$7,処理!$L20)+COUNTIF(JC$10:JV$10,処理!$L20)+COUNTIF(JC$13:JV$13,処理!$L20)+COUNTIF(JC$16:JV$16,処理!$L20)+COUNTIF(JC$19:JV$19,処理!$L20)+COUNTIF(JC$22:JV$22,処理!$L20)+COUNTIF(JC$25:JV$25,処理!$L20))/処理!$M20,0))","v":""},{"$f":"IF(LEN(JO30)=0,\"\",SUM(IX30,JQ30))","v":""},"授業合計",null,{"$f":"SUM(JE30:JE35,JI30:JI35,JM30:JM35,JQ30:JQ35)","v":0},{"$f":"IF(LEN(JS30)=0,\"\",SUM(JB30,JU30))","v":0},{"$f":"$C$30","v":""},null,{"$f":"IF(LEN(JW30)=0,\"\",(COUNTIF(JW$6:KP$7,JW30)+COUNTIF(JW$10:KP$10,JW30)+COUNTIF(JW$13:KP$13,JW30)+COUNTIF(JW$16:KP$16,JW30)+COUNTIF(JW$19:KP$19,JW30)+COUNTIF(JW$22:KP$22,JW30)+COUNTIF(JW$25:KP$25,JW30))/設定!$D21+IFERROR((COUNTIF(JW$6:KP$7,処理!$L2)+COUNTIF(JW$10:KP$10,処理!$L2)+COUNTIF(JW$13:KP$13,処理!$L2)+COUNTIF(JW$16:KP$16,処理!$L2)+COUNTIF(JW$19:KP$19,処理!$L2)+COUNTIF(JW$22:KP$22,処理!$L2)+COUNTIF(JW$25:KP$25,処理!$L2))/処理!$M2,0))","v":""},{"$f":"IF(LEN(JW30)=0,\"\",SUM(JF30,JY30))","v":""},{"$f":"$G$30","v":""},null,{"$f":"IF(LEN(KA30)=0,\"\",(COUNTIF(JW$6:KP$7,KA30)+COUNTIF(JW$10:KP$10,KA30)+COUNTIF(JW$13:KP$13,KA30)+COUNTIF(JW$16:KP$16,KA30)+COUNTIF(JW$19:KP$19,KA30)+COUNTIF(JW$22:KP$22,KA30)+COUNTIF(JW$25:KP$25,KA30))/設定!$G21+IFERROR((COUNTIF(JW$6:KP$7,処理!$L8)+COUNTIF(JW$10:KP$10,処理!$L8)+COUNTIF(JW$13:KP$13,処理!$L8)+COUNTIF(JW$16:KP$16,処理!$L8)+COUNTIF(JW$19:KP$19,処理!$L8)+COUNTIF(JW$22:KP$22,処理!$L8)+COUNTIF(JW$25:KP$25,処理!$L8))/処理!$M8,0))","v":""},{"$f":"IF(LEN(KA30)=0,\"\",SUM(JJ30,KC30))","v":""},{"$f":"$K$30","v":""},null,{"$f":"IF(LEN(KE30)=0,\"\",(COUNTIF(JW$6:KP$7,KE30)+COUNTIF(JW$10:KP$10,KE30)+COUNTIF(JW$13:KP$13,KE30)+COUNTIF(JW$16:KP$16,KE30)+COUNTIF(JW$19:KP$19,KE30)+COUNTIF(JW$22:KP$22,KE30)+COUNTIF(JW$25:KP$25,KE30))/設定!$J21+IFERROR((COUNTIF(JW$6:KP$7,処理!$L14)+COUNTIF(JW$10:KP$10,処理!$L14)+COUNTIF(JW$13:KP$13,処理!$L14)+COUNTIF(JW$16:KP$16,処理!$L14)+COUNTIF(JW$19:KP$19,処理!$L14)+COUNTIF(JW$22:KP$22,処理!$L14)+COUNTIF(JW$25:KP$25,処理!$L14))/処理!$M14,0))","v":""},{"$f":"IF(LEN(KE30)=0,\"\",SUM(JN30,KG30))","v":""},{"$f":"$O$30","v":""},null,{"$f":"IF(LEN(KI30)=0,\"\",(COUNTIF(JW$6:KP$7,KI30)+COUNTIF(JW$10:KP$10,KI30)+COUNTIF(JW$13:KP$13,KI30)+COUNTIF(JW$16:KP$16,KI30)+COUNTIF(JW$19:KP$19,KI30)+COUNTIF(JW$22:KP$22,KI30)+COUNTIF(JW$25:KP$25,KI30))/設定!$M21+IFERROR((COUNTIF(JW$6:KP$7,処理!$L20)+COUNTIF(JW$10:KP$10,処理!$L20)+COUNTIF(JW$13:KP$13,処理!$L20)+COUNTIF(JW$16:KP$16,処理!$L20)+COUNTIF(JW$19:KP$19,処理!$L20)+COUNTIF(JW$22:KP$22,処理!$L20)+COUNTIF(JW$25:KP$25,処理!$L20))/処理!$M20,0))","v":""},{"$f":"IF(LEN(KI30)=0,\"\",SUM(JR30,KK30))","v":""},"授業合計",null,{"$f":"SUM(JY30:JY35,KC30:KC35,KG30:KG35,KK30:KK35)","v":0},{"$f":"IF(LEN(KM30)=0,\"\",SUM(JV30,KO30))","v":0},{"$f":"$C$30","v":""},null,{"$f":"IF(LEN(KQ30)=0,\"\",(COUNTIF(KQ$6:LJ$7,KQ30)+COUNTIF(KQ$10:LJ$10,KQ30)+COUNTIF(KQ$13:LJ$13,KQ30)+COUNTIF(KQ$16:LJ$16,KQ30)+COUNTIF(KQ$19:LJ$19,KQ30)+COUNTIF(KQ$22:LJ$22,KQ30)+COUNTIF(KQ$25:LJ$25,KQ30))/設定!$D21+IFERROR((COUNTIF(KQ$6:LJ$7,処理!$L2)+COUNTIF(KQ$10:LJ$10,処理!$L2)+COUNTIF(KQ$13:LJ$13,処理!$L2)+COUNTIF(KQ$16:LJ$16,処理!$L2)+COUNTIF(KQ$19:LJ$19,処理!$L2)+COUNTIF(KQ$22:LJ$22,処理!$L2)+COUNTIF(KQ$25:LJ$25,処理!$L2))/処理!$M2,0))","v":""},{"$f":"IF(LEN(KQ30)=0,\"\",SUM(JZ30,KS30))","v":""},{"$f":"$G$30","v":""},null,{"$f":"IF(LEN(KU30)=0,\"\",(COUNTIF(KQ$6:LJ$7,KU30)+COUNTIF(KQ$10:LJ$10,KU30)+COUNTIF(KQ$13:LJ$13,KU30)+COUNTIF(KQ$16:LJ$16,KU30)+COUNTIF(KQ$19:LJ$19,KU30)+COUNTIF(KQ$22:LJ$22,KU30)+COUNTIF(KQ$25:LJ$25,KU30))/設定!$G21+IFERROR((COUNTIF(KQ$6:LJ$7,処理!$L8)+COUNTIF(KQ$10:LJ$10,処理!$L8)+COUNTIF(KQ$13:LJ$13,処理!$L8)+COUNTIF(KQ$16:LJ$16,処理!$L8)+COUNTIF(KQ$19:LJ$19,処理!$L8)+COUNTIF(KQ$22:LJ$22,処理!$L8)+COUNTIF(KQ$25:LJ$25,処理!$L8))/処理!$M8,0))","v":""},{"$f":"IF(LEN(KU30)=0,\"\",SUM(KD30,KW30))","v":""},{"$f":"$K$30","v":""},null,{"$f":"IF(LEN(KY30)=0,\"\",(COUNTIF(KQ$6:LJ$7,KY30)+COUNTIF(KQ$10:LJ$10,KY30)+COUNTIF(KQ$13:LJ$13,KY30)+COUNTIF(KQ$16:LJ$16,KY30)+COUNTIF(KQ$19:LJ$19,KY30)+COUNTIF(KQ$22:LJ$22,KY30)+COUNTIF(KQ$25:LJ$25,KY30))/設定!$J21+IFERROR((COUNTIF(KQ$6:LJ$7,処理!$L14)+COUNTIF(KQ$10:LJ$10,処理!$L14)+COUNTIF(KQ$13:LJ$13,処理!$L14)+COUNTIF(KQ$16:LJ$16,処理!$L14)+COUNTIF(KQ$19:LJ$19,処理!$L14)+COUNTIF(KQ$22:LJ$22,処理!$L14)+COUNTIF(KQ$25:LJ$25,処理!$L14))/処理!$M14,0))","v":""},{"$f":"IF(LEN(KY30)=0,\"\",SUM(KH30,LA30))","v":""},{"$f":"$O$30","v":""},null,{"$f":"IF(LEN(LC30)=0,\"\",(COUNTIF(KQ$6:LJ$7,LC30)+COUNTIF(KQ$10:LJ$10,LC30)+COUNTIF(KQ$13:LJ$13,LC30)+COUNTIF(KQ$16:LJ$16,LC30)+COUNTIF(KQ$19:LJ$19,LC30)+COUNTIF(KQ$22:LJ$22,LC30)+COUNTIF(KQ$25:LJ$25,LC30))/設定!$M21+IFERROR((COUNTIF(KQ$6:LJ$7,処理!$L20)+COUNTIF(KQ$10:LJ$10,処理!$L20)+COUNTIF(KQ$13:LJ$13,処理!$L20)+COUNTIF(KQ$16:LJ$16,処理!$L20)+COUNTIF(KQ$19:LJ$19,処理!$L20)+COUNTIF(KQ$22:LJ$22,処理!$L20)+COUNTIF(KQ$25:LJ$25,処理!$L20))/処理!$M20,0))","v":""},{"$f":"IF(LEN(LC30)=0,\"\",SUM(KL30,LE30))","v":""},"授業合計",null,{"$f":"SUM(KS30:KS35,KW30:KW35,LA30:LA35,LE30:LE35)","v":0},{"$f":"IF(LEN(LG30)=0,\"\",SUM(KP30,LI30))","v":0},{"$f":"$C$30","v":""},null,{"$f":"IF(LEN(LK30)=0,\"\",(COUNTIF(LK$6:MD$7,LK30)+COUNTIF(LK$10:MD$10,LK30)+COUNTIF(LK$13:MD$13,LK30)+COUNTIF(LK$16:MD$16,LK30)+COUNTIF(LK$19:MD$19,LK30)+COUNTIF(LK$22:MD$22,LK30)+COUNTIF(LK$25:MD$25,LK30))/設定!$D21+IFERROR((COUNTIF(LK$6:MD$7,処理!$L2)+COUNTIF(LK$10:MD$10,処理!$L2)+COUNTIF(LK$13:MD$13,処理!$L2)+COUNTIF(LK$16:MD$16,処理!$L2)+COUNTIF(LK$19:MD$19,処理!$L2)+COUNTIF(LK$22:MD$22,処理!$L2)+COUNTIF(LK$25:MD$25,処理!$L2))/処理!$M2,0))","v":""},{"$f":"IF(LEN(LK30)=0,\"\",SUM(KT30,LM30))","v":""},{"$f":"$G$30","v":""},null,{"$f":"IF(LEN(LO30)=0,\"\",(COUNTIF(LK$6:MD$7,LO30)+COUNTIF(LK$10:MD$10,LO30)+COUNTIF(LK$13:MD$13,LO30)+COUNTIF(LK$16:MD$16,LO30)+COUNTIF(LK$19:MD$19,LO30)+COUNTIF(LK$22:MD$22,LO30)+COUNTIF(LK$25:MD$25,LO30))/設定!$G21+IFERROR((COUNTIF(LK$6:MD$7,処理!$L8)+COUNTIF(LK$10:MD$10,処理!$L8)+COUNTIF(LK$13:MD$13,処理!$L8)+COUNTIF(LK$16:MD$16,処理!$L8)+COUNTIF(LK$19:MD$19,処理!$L8)+COUNTIF(LK$22:MD$22,処理!$L8)+COUNTIF(LK$25:MD$25,処理!$L8))/処理!$M8,0))","v":""},{"$f":"IF(LEN(LO30)=0,\"\",SUM(KX30,LQ30))","v":""},{"$f":"$K$30","v":""},null,{"$f":"IF(LEN(LS30)=0,\"\",(COUNTIF(LK$6:MD$7,LS30)+COUNTIF(LK$10:MD$10,LS30)+COUNTIF(LK$13:MD$13,LS30)+COUNTIF(LK$16:MD$16,LS30)+COUNTIF(LK$19:MD$19,LS30)+COUNTIF(LK$22:MD$22,LS30)+COUNTIF(LK$25:MD$25,LS30))/設定!$J21+IFERROR((COUNTIF(LK$6:MD$7,処理!$L14)+COUNTIF(LK$10:MD$10,処理!$L14)+COUNTIF(LK$13:MD$13,処理!$L14)+COUNTIF(LK$16:MD$16,処理!$L14)+COUNTIF(LK$19:MD$19,処理!$L14)+COUNTIF(LK$22:MD$22,処理!$L14)+COUNTIF(LK$25:MD$25,処理!$L14))/処理!$M14,0))","v":""},{"$f":"IF(LEN(LS30)=0,\"\",SUM(LB30,LU30))","v":""},{"$f":"$O$30","v":""},null,{"$f":"IF(LEN(LW30)=0,\"\",(COUNTIF(LK$6:MD$7,LW30)+COUNTIF(LK$10:MD$10,LW30)+COUNTIF(LK$13:MD$13,LW30)+COUNTIF(LK$16:MD$16,LW30)+COUNTIF(LK$19:MD$19,LW30)+COUNTIF(LK$22:MD$22,LW30)+COUNTIF(LK$25:MD$25,LW30))/設定!$M21+IFERROR((COUNTIF(LK$6:MD$7,処理!$L20)+COUNTIF(LK$10:MD$10,処理!$L20)+COUNTIF(LK$13:MD$13,処理!$L20)+COUNTIF(LK$16:MD$16,処理!$L20)+COUNTIF(LK$19:MD$19,処理!$L20)+COUNTIF(LK$22:MD$22,処理!$L20)+COUNTIF(LK$25:MD$25,処理!$L20))/処理!$M20,0))","v":""},{"$f":"IF(LEN(LW30)=0,\"\",SUM(LF30,LY30))","v":""},"授業合計",null,{"$f":"SUM(LM30:LM35,LQ30:LQ35,LU30:LU35,LY30:LY35)","v":0},{"$f":"IF(LEN(MA30)=0,\"\",SUM(LJ30,MC30))","v":0}]
[null,null,{"$f":"IF(COUNTIF(処理!$J$2:$J$25,1)>0,処理!H3,\"\")","v":""},null,{"$f":"IF(LEN(C31)=0,\"\",(COUNTIF(C$6:V$7,C31)+COUNTIF(C$10:V$10,C31)+COUNTIF(C$13:V$13,C31)+COUNTIF(C$16:V$16,C31)+COUNTIF(C$19:V$19,C31)+COUNTIF(C$22:V$22,C31)+COUNTIF(C$25:V$25,C31))/設定!$D22+IFERROR((COUNTIF(C$6:V$7,処理!$L3)+COUNTIF(C$10:V$10,処理!$L3)+COUNTIF(C$13:V$13,処理!$L3)+COUNTIF(C$16:V$16,処理!$L3)+COUNTIF(C$19:V$19,処理!$L3)+COUNTIF(C$22:V$22,処理!$L3)+COUNTIF(C$25:V$25,処理!$L3))/処理!$M3,0))","v":""},{"$f":"E31","v":""},{"$f":"IF(COUNTIF(処理!$J$2:$J$25,7)>0,処理!H9,\"\")","v":""},null,{"$f":"IF(LEN(G31)=0,\"\",(COUNTIF(C$6:V$7,G31)+COUNTIF(C$10:V$10,G31)+COUNTIF(C$13:V$13,G31)+COUNTIF(C$16:V$16,G31)+COUNTIF(C$19:V$19,G31)+COUNTIF(C$22:V$22,G31)+COUNTIF(C$25:V$25,G31))/設定!$G22+IFERROR((COUNTIF(C$6:V$7,処理!$L9)+COUNTIF(C$10:V$10,処理!$L9)+COUNTIF(C$13:V$13,処理!$L9)+COUNTIF(C$16:V$16,処理!$L9)+COUNTIF(C$19:V$19,処理!$L9)+COUNTIF(C$22:V$22,処理!$L9)+COUNTIF(C$25:V$25,処理!$L9))/処理!$M9,0))","v":""},{"$f":"I31","v":""},{"$f":"IF(COUNTIF(処理!$J$2:$J$25,13)>0,処理!H15,\"\")","v":""},null,{"$f":"IF(LEN(K31)=0,\"\",(COUNTIF(C$6:V$7,K31)+COUNTIF(C$10:V$10,K31)+COUNTIF(C$13:V$13,K31)+COUNTIF(C$16:V$16,K31)+COUNTIF(C$19:V$19,K31)+COUNTIF(C$22:V$22,K31)+COUNTIF(C$25:V$25,K31))/設定!$J22+IFERROR((COUNTIF(C$6:V$7,処理!$L15)+COUNTIF(C$10:V$10,処理!$L15)+COUNTIF(C$13:V$13,処理!$L15)+COUNTIF(C$16:V$16,処理!$L15)+COUNTIF(C$19:V$19,処理!$L15)+COUNTIF(C$22:V$22,処理!$L15)+COUNTIF(C$25:V$25,処理!$L15))/処理!$M15,0))","v":""},{"$f":"M31","v":""},{"$f":"IF(COUNTIF(処理!$J$2:$J$25,19)>0,処理!H21,\"\")","v":""},null,{"$f":"IF(LEN(O31)=0,\"\",(COUNTIF(C$6:V$7,O31)+COUNTIF(C$10:V$10,O31)+COUNTIF(C$13:V$13,O31)+COUNTIF(C$16:V$16,O31)+COUNTIF(C$19:V$19,O31)+COUNTIF(C$22:V$22,O31)+COUNTIF(C$25:V$25,O31))/設定!$M22+IFERROR((COUNTIF(C$6:V$7,処理!$L21)+COUNTIF(C$10:V$10,処理!$L21)+COUNTIF(C$13:V$13,処理!$L21)+COUNTIF(C$16:V$16,処理!$L21)+COUNTIF(C$19:V$19,処理!$L21)+COUNTIF(C$22:V$22,処理!$L21)+COUNTIF(C$25:V$25,処理!$L21))/処理!$M21,0))","v":""},{"$f":"Q31","v":""},{"$f":"処理!H27&\"\"","v":""},null,{"$f":"IF(LEN(S31)=0,\"\",COUNTIF(C$6:V$7,S31)+COUNTIF(C$10:V$10,S31)+COUNTIF(C$13:V$13,S31)+COUNTIF(C$16:V$16,S31)+COUNTIF(C$19:V$19,S31)+COUNTIF(C$22:V$22,S31)+COUNTIF(C$25:V$25,S31))","v":""},{"$f":"U31","v":""},{"$f":"$C$31","v":""},null,{"$f":"IF(LEN(W31)=0,\"\",(COUNTIF(W$6:AP$7,W31)+COUNTIF(W$10:AP$10,W31)+COUNTIF(W$13:AP$13,W31)+COUNTIF(W$16:AP$16,W31)+COUNTIF(W$19:AP$19,W31)+COUNTIF(W$22:AP$22,W31)+COUNTIF(W$25:AP$25,W31))/設定!$D22+IFERROR((COUNTIF(W$6:AP$7,処理!$L3)+COUNTIF(W$10:AP$10,処理!$L3)+COUNTIF(W$13:AP$13,処理!$L3)+COUNTIF(W$16:AP$16,処理!$L3)+COUNTIF(W$19:AP$19,処理!$L3)+COUNTIF(W$22:AP$22,処理!$L3)+COUNTIF(W$25:AP$25,処理!$L3))/処理!$M3,0))","v":""},{"$f":"IF(LEN(W31)=0,\"\",SUM(F31,Y31))","v":""},{"$f":"$G$31","v":""},null,{"$f":"IF(LEN(AA31)=0,\"\",(COUNTIF(W$6:AP$7,AA31)+COUNTIF(W$10:AP$10,AA31)+COUNTIF(W$13:AP$13,AA31)+COUNTIF(W$16:AP$16,AA31)+COUNTIF(W$19:AP$19,AA31)+COUNTIF(W$22:AP$22,AA31)+COUNTIF(W$25:AP$25,AA31))/設定!$G22+IFERROR((COUNTIF(W$6:AP$7,処理!$L9)+COUNTIF(W$10:AP$10,処理!$L9)+COUNTIF(W$13:AP$13,処理!$L9)+COUNTIF(W$16:AP$16,処理!$L9)+COUNTIF(W$19:AP$19,処理!$L9)+COUNTIF(W$22:AP$22,処理!$L9)+COUNTIF(W$25:AP$25,処理!$L9))/処理!$M9,0))","v":""},"",{"$f":"$K$31","v":""},null,{"$f":"IF(LEN(AE31)=0,\"\",(COUNTIF(W$6:AP$7,AE31)+COUNTIF(W$10:AP$10,AE31)+COUNTIF(W$13:AP$13,AE31)+COUNTIF(W$16:AP$16,AE31)+COUNTIF(W$19:AP$19,AE31)+COUNTIF(W$22:AP$22,AE31)+COUNTIF(W$25:AP$25,AE31))/設定!$J22+IFERROR((COUNTIF(W$6:AP$7,処理!$L15)+COUNTIF(W$10:AP$10,処理!$L15)+COUNTIF(W$13:AP$13,処理!$L15)+COUNTIF(W$16:AP$16,処理!$L15)+COUNTIF(W$19:AP$19,処理!$L15)+COUNTIF(W$22:AP$22,処理!$L15)+COUNTIF(W$25:AP$25,処理!$L15))/処理!$M15,0))","v":""},"",{"$f":"$O$31","v":""},null,{"$f":"IF(LEN(AI31)=0,\"\",(COUNTIF(W$6:AP$7,AI31)+COUNTIF(W$10:AP$10,AI31)+COUNTIF(W$13:AP$13,AI31)+COUNTIF(W$16:AP$16,AI31)+COUNTIF(W$19:AP$19,AI31)+COUNTIF(W$22:AP$22,AI31)+COUNTIF(W$25:AP$25,AI31))/設定!$M22+IFERROR((COUNTIF(W$6:AP$7,処理!$L21)+COUNTIF(W$10:AP$10,処理!$L21)+COUNTIF(W$13:AP$13,処理!$L21)+COUNTIF(W$16:AP$16,処理!$L21)+COUNTIF(W$19:AP$19,処理!$L21)+COUNTIF(W$22:AP$22,処理!$L21)+COUNTIF(W$25:AP$25,処理!$L21))/処理!$M21,0))","v":""},"",{"$f":"$S$31","v":""},null,{"$f":"IF(LEN(AM31)=0,\"\",COUNTIF(W$6:AP$7,AM31)+COUNTIF(W$10:AP$10,AM31)+COUNTIF(W$13:AP$13,AM31)+COUNTIF(W$16:AP$16,AM31)+COUNTIF(W$19:AP$19,AM31)+COUNTIF(W$22:AP$22,AM31)+COUNTIF(W$25:AP$25,AM31))","v":""},"",{"$f":"$C$31","v":""},null,{"$f":"IF(LEN(AQ31)=0,\"\",(COUNTIF(AQ$6:BJ$7,AQ31)+COUNTIF(AQ$10:BJ$10,AQ31)+COUNTIF(AQ$13:BJ$13,AQ31)+COUNTIF(AQ$16:BJ$16,AQ31)+COUNTIF(AQ$19:BJ$19,AQ31)+COUNTIF(AQ$22:BJ$22,AQ31)+COUNTIF(AQ$25:BJ$25,AQ31))/設定!$D22+IFERROR((COUNTIF(AQ$6:BJ$7,処理!$L3)+COUNTIF(AQ$10:BJ$10,処理!$L3)+COUNTIF(AQ$13:BJ$13,処理!$L3)+COUNTIF(AQ$16:BJ$16,処理!$L3)+COUNTIF(AQ$19:BJ$19,処理!$L3)+COUNTIF(AQ$22:BJ$22,処理!$L3)+COUNTIF(AQ$25:BJ$25,処理!$L3))/処理!$M3,0))","v":""},{"$f":"IF(LEN(AQ31)=0,\"\",SUM(Z31,AS31))","v":""},{"$f":"$G$31","v":""},null,{"$f":"IF(LEN(AU31)=0,\"\",(COUNTIF(AQ$6:BJ$7,AU31)+COUNTIF(AQ$10:BJ$10,AU31)+COUNTIF(AQ$13:BJ$13,AU31)+COUNTIF(AQ$16:BJ$16,AU31)+COUNTIF(AQ$19:BJ$19,AU31)+COUNTIF(AQ$22:BJ$22,AU31)+COUNTIF(AQ$25:BJ$25,AU31))/設定!$G22+IFERROR((COUNTIF(AQ$6:BJ$7,処理!$L9)+COUNTIF(AQ$10:BJ$10,処理!$L9)+COUNTIF(AQ$13:BJ$13,処理!$L9)+COUNTIF(AQ$16:BJ$16,処理!$L9)+COUNTIF(AQ$19:BJ$19,処理!$L9)+COUNTIF(AQ$22:BJ$22,処理!$L9)+COUNTIF(AQ$25:BJ$25,処理!$L9))/処理!$M9,0))","v":""},"",{"$f":"$K$31","v":""},null,{"$f":"IF(LEN(AY31)=0,\"\",(COUNTIF(AQ$6:BJ$7,AY31)+COUNTIF(AQ$10:BJ$10,AY31)+COUNTIF(AQ$13:BJ$13,AY31)+COUNTIF(AQ$16:BJ$16,AY31)+COUNTIF(AQ$19:BJ$19,AY31)+COUNTIF(AQ$22:BJ$22,AY31)+COUNTIF(AQ$25:BJ$25,AY31))/設定!$J22+IFERROR((COUNTIF(AQ$6:BJ$7,処理!$L15)+COUNTIF(AQ$10:BJ$10,処理!$L15)+COUNTIF(AQ$13:BJ$13,処理!$L15)+COUNTIF(AQ$16:BJ$16,処理!$L15)+COUNTIF(AQ$19:BJ$19,処理!$L15)+COUNTIF(AQ$22:BJ$22,処理!$L15)+COUNTIF(AQ$25:BJ$25,処理!$L15))/処理!$M15,0))","v":""},"",{"$f":"$O$31","v":""},null,{"$f":"IF(LEN(BC31)=0,\"\",(COUNTIF(AQ$6:BJ$7,BC31)+COUNTIF(AQ$10:BJ$10,BC31)+COUNTIF(AQ$13:BJ$13,BC31)+COUNTIF(AQ$16:BJ$16,BC31)+COUNTIF(AQ$19:BJ$19,BC31)+COUNTIF(AQ$22:BJ$22,BC31)+COUNTIF(AQ$25:BJ$25,BC31))/設定!$M22+IFERROR((COUNTIF(AQ$6:BJ$7,処理!$L21)+COUNTIF(AQ$10:BJ$10,処理!$L21)+COUNTIF(AQ$13:BJ$13,処理!$L21)+COUNTIF(AQ$16:BJ$16,処理!$L21)+COUNTIF(AQ$19:BJ$19,処理!$L21)+COUNTIF(AQ$22:BJ$22,処理!$L21)+COUNTIF(AQ$25:BJ$25,処理!$L21))/処理!$M21,0))","v":""},"",{"$f":"$S$31","v":""},null,{"$f":"IF(LEN(BG31)=0,\"\",COUNTIF(AQ$6:BJ$7,BG31)+COUNTIF(AQ$10:BJ$10,BG31)+COUNTIF(AQ$13:BJ$13,BG31)+COUNTIF(AQ$16:BJ$16,BG31)+COUNTIF(AQ$19:BJ$19,BG31)+COUNTIF(AQ$22:BJ$22,BG31)+COUNTIF(AQ$25:BJ$25,BG31))","v":""},"",{"$f":"$C$31","v":""},null,{"$f":"IF(LEN(BK31)=0,\"\",(COUNTIF(BK$6:CD$7,BK31)+COUNTIF(BK$10:CD$10,BK31)+COUNTIF(BK$13:CD$13,BK31)+COUNTIF(BK$16:CD$16,BK31)+COUNTIF(BK$19:CD$19,BK31)+COUNTIF(BK$22:CD$22,BK31)+COUNTIF(BK$25:CD$25,BK31))/設定!$D22+IFERROR((COUNTIF(BK$6:CD$7,処理!$L3)+COUNTIF(BK$10:CD$10,処理!$L3)+COUNTIF(BK$13:CD$13,処理!$L3)+COUNTIF(BK$16:CD$16,処理!$L3)+COUNTIF(BK$19:CD$19,処理!$L3)+COUNTIF(BK$22:CD$22,処理!$L3)+COUNTIF(BK$25:CD$25,処理!$L3))/処理!$M3,0))","v":""},{"$f":"IF(LEN(BK31)=0,\"\",SUM(AT31,BM31))","v":""},{"$f":"$G$31","v":""},null,{"$f":"IF(LEN(BO31)=0,\"\",(COUNTIF(BK$6:CD$7,BO31)+COUNTIF(BK$10:CD$10,BO31)+COUNTIF(BK$13:CD$13,BO31)+COUNTIF(BK$16:CD$16,BO31)+COUNTIF(BK$19:CD$19,BO31)+COUNTIF(BK$22:CD$22,BO31)+COUNTIF(BK$25:CD$25,BO31))/設定!$G22+IFERROR((COUNTIF(BK$6:CD$7,処理!$L9)+COUNTIF(BK$10:CD$10,処理!$L9)+COUNTIF(BK$13:CD$13,処理!$L9)+COUNTIF(BK$16:CD$16,処理!$L9)+COUNTIF(BK$19:CD$19,処理!$L9)+COUNTIF(BK$22:CD$22,処理!$L9)+COUNTIF(BK$25:CD$25,処理!$L9))/処理!$M9,0))","v":""},"",{"$f":"$K$31","v":""},null,{"$f":"IF(LEN(BS31)=0,\"\",(COUNTIF(BK$6:CD$7,BS31)+COUNTIF(BK$10:CD$10,BS31)+COUNTIF(BK$13:CD$13,BS31)+COUNTIF(BK$16:CD$16,BS31)+COUNTIF(BK$19:CD$19,BS31)+COUNTIF(BK$22:CD$22,BS31)+COUNTIF(BK$25:CD$25,BS31))/設定!$J22+IFERROR((COUNTIF(BK$6:CD$7,処理!$L15)+COUNTIF(BK$10:CD$10,処理!$L15)+COUNTIF(BK$13:CD$13,処理!$L15)+COUNTIF(BK$16:CD$16,処理!$L15)+COUNTIF(BK$19:CD$19,処理!$L15)+COUNTIF(BK$22:CD$22,処理!$L15)+COUNTIF(BK$25:CD$25,処理!$L15))/処理!$M15,0))","v":""},"",{"$f":"$O$31","v":""},null,{"$f":"IF(LEN(BW31)=0,\"\",(COUNTIF(BK$6:CD$7,BW31)+COUNTIF(BK$10:CD$10,BW31)+COUNTIF(BK$13:CD$13,BW31)+COUNTIF(BK$16:CD$16,BW31)+COUNTIF(BK$19:CD$19,BW31)+COUNTIF(BK$22:CD$22,BW31)+COUNTIF(BK$25:CD$25,BW31))/設定!$M22+IFERROR((COUNTIF(BK$6:CD$7,処理!$L21)+COUNTIF(BK$10:CD$10,処理!$L21)+COUNTIF(BK$13:CD$13,処理!$L21)+COUNTIF(BK$16:CD$16,処理!$L21)+COUNTIF(BK$19:CD$19,処理!$L21)+COUNTIF(BK$22:CD$22,処理!$L21)+COUNTIF(BK$25:CD$25,処理!$L21))/処理!$M21,0))","v":""},"",{"$f":"$S$31","v":""},null,{"$f":"IF(LEN(CA31)=0,\"\",COUNTIF(BK$6:CD$7,CA31)+COUNTIF(BK$10:CD$10,CA31)+COUNTIF(BK$13:CD$13,CA31)+COUNTIF(BK$16:CD$16,CA31)+COUNTIF(BK$19:CD$19,CA31)+COUNTIF(BK$22:CD$22,CA31)+COUNTIF(BK$25:CD$25,CA31))","v":""},"",{"$f":"$C$31","v":""},null,{"$f":"IF(LEN(CE31)=0,\"\",(COUNTIF(CE$6:CX$7,CE31)+COUNTIF(CE$10:CX$10,CE31)+COUNTIF(CE$13:CX$13,CE31)+COUNTIF(CE$16:CX$16,CE31)+COUNTIF(CE$19:CX$19,CE31)+COUNTIF(CE$22:CX$22,CE31)+COUNTIF(CE$25:CX$25,CE31))/設定!$D22+IFERROR((COUNTIF(CE$6:CX$7,処理!$L3)+COUNTIF(CE$10:CX$10,処理!$L3)+COUNTIF(CE$13:CX$13,処理!$L3)+COUNTIF(CE$16:CX$16,処理!$L3)+COUNTIF(CE$19:CX$19,処理!$L3)+COUNTIF(CE$22:CX$22,処理!$L3)+COUNTIF(CE$25:CX$25,処理!$L3))/処理!$M3,0))","v":""},{"$f":"IF(LEN(CE31)=0,\"\",SUM(BN31,CG31))","v":""},{"$f":"$G$31","v":""},null,{"$f":"IF(LEN(CI31)=0,\"\",(COUNTIF(CE$6:CX$7,CI31)+COUNTIF(CE$10:CX$10,CI31)+COUNTIF(CE$13:CX$13,CI31)+COUNTIF(CE$16:CX$16,CI31)+COUNTIF(CE$19:CX$19,CI31)+COUNTIF(CE$22:CX$22,CI31)+COUNTIF(CE$25:CX$25,CI31))/設定!$G22+IFERROR((COUNTIF(CE$6:CX$7,処理!$L9)+COUNTIF(CE$10:CX$10,処理!$L9)+COUNTIF(CE$13:CX$13,処理!$L9)+COUNTIF(CE$16:CX$16,処理!$L9)+COUNTIF(CE$19:CX$19,処理!$L9)+COUNTIF(CE$22:CX$22,処理!$L9)+COUNTIF(CE$25:CX$25,処理!$L9))/処理!$M9,0))","v":""},"",{"$f":"$K$31","v":""},null,{"$f":"IF(LEN(CM31)=0,\"\",(COUNTIF(CE$6:CX$7,CM31)+COUNTIF(CE$10:CX$10,CM31)+COUNTIF(CE$13:CX$13,CM31)+COUNTIF(CE$16:CX$16,CM31)+COUNTIF(CE$19:CX$19,CM31)+COUNTIF(CE$22:CX$22,CM31)+COUNTIF(CE$25:CX$25,CM31))/設定!$J22+IFERROR((COUNTIF(CE$6:CX$7,処理!$L15)+COUNTIF(CE$10:CX$10,処理!$L15)+COUNTIF(CE$13:CX$13,処理!$L15)+COUNTIF(CE$16:CX$16,処理!$L15)+COUNTIF(CE$19:CX$19,処理!$L15)+COUNTIF(CE$22:CX$22,処理!$L15)+COUNTIF(CE$25:CX$25,処理!$L15))/処理!$M15,0))","v":""},"",{"$f":"$O$31","v":""},null,{"$f":"IF(LEN(CQ31)=0,\"\",(COUNTIF(CE$6:CX$7,CQ31)+COUNTIF(CE$10:CX$10,CQ31)+COUNTIF(CE$13:CX$13,CQ31)+COUNTIF(CE$16:CX$16,CQ31)+COUNTIF(CE$19:CX$19,CQ31)+COUNTIF(CE$22:CX$22,CQ31)+COUNTIF(CE$25:CX$25,CQ31))/設定!$M22+IFERROR((COUNTIF(CE$6:CX$7,処理!$L21)+COUNTIF(CE$10:CX$10,処理!$L21)+COUNTIF(CE$13:CX$13,処理!$L21)+COUNTIF(CE$16:CX$16,処理!$L21)+COUNTIF(CE$19:CX$19,処理!$L21)+COUNTIF(CE$22:CX$22,処理!$L21)+COUNTIF(CE$25:CX$25,処理!$L21))/処理!$M21,0))","v":""},"",{"$f":"$S$31","v":""},null,{"$f":"IF(LEN(CU31)=0,\"\",COUNTIF(CE$6:CX$7,CU31)+COUNTIF(CE$10:CX$10,CU31)+COUNTIF(CE$13:CX$13,CU31)+COUNTIF(CE$16:CX$16,CU31)+COUNTIF(CE$19:CX$19,CU31)+COUNTIF(CE$22:CX$22,CU31)+COUNTIF(CE$25:CX$25,CU31))","v":""},"",{"$f":"$C$31","v":""},null,{"$f":"IF(LEN(CY31)=0,\"\",(COUNTIF(CY$6:DR$7,CY31)+COUNTIF(CY$10:DR$10,CY31)+COUNTIF(CY$13:DR$13,CY31)+COUNTIF(CY$16:DR$16,CY31)+COUNTIF(CY$19:DR$19,CY31)+COUNTIF(CY$22:DR$22,CY31)+COUNTIF(CY$25:DR$25,CY31))/設定!$D22+IFERROR((COUNTIF(CY$6:DR$7,処理!$L3)+COUNTIF(CY$10:DR$10,処理!$L3)+COUNTIF(CY$13:DR$13,処理!$L3)+COUNTIF(CY$16:DR$16,処理!$L3)+COUNTIF(CY$19:DR$19,処理!$L3)+COUNTIF(CY$22:DR$22,処理!$L3)+COUNTIF(CY$25:DR$25,処理!$L3))/処理!$M3,0))","v":""},{"$f":"IF(LEN(CY31)=0,\"\",SUM(CH31,DA31))","v":""},{"$f":"$G$31","v":""},null,{"$f":"IF(LEN(DC31)=0,\"\",(COUNTIF(CY$6:DR$7,DC31)+COUNTIF(CY$10:DR$10,DC31)+COUNTIF(CY$13:DR$13,DC31)+COUNTIF(CY$16:DR$16,DC31)+COUNTIF(CY$19:DR$19,DC31)+COUNTIF(CY$22:DR$22,DC31)+COUNTIF(CY$25:DR$25,DC31))/設定!$G22+IFERROR((COUNTIF(CY$6:DR$7,処理!$L9)+COUNTIF(CY$10:DR$10,処理!$L9)+COUNTIF(CY$13:DR$13,処理!$L9)+COUNTIF(CY$16:DR$16,処理!$L9)+COUNTIF(CY$19:DR$19,処理!$L9)+COUNTIF(CY$22:DR$22,処理!$L9)+COUNTIF(CY$25:DR$25,処理!$L9))/処理!$M9,0))","v":""},"",{"$f":"$K$31","v":""},null,{"$f":"IF(LEN(DG31)=0,\"\",(COUNTIF(CY$6:DR$7,DG31)+COUNTIF(CY$10:DR$10,DG31)+COUNTIF(CY$13:DR$13,DG31)+COUNTIF(CY$16:DR$16,DG31)+COUNTIF(CY$19:DR$19,DG31)+COUNTIF(CY$22:DR$22,DG31)+COUNTIF(CY$25:DR$25,DG31))/設定!$J22+IFERROR((COUNTIF(CY$6:DR$7,処理!$L15)+COUNTIF(CY$10:DR$10,処理!$L15)+COUNTIF(CY$13:DR$13,処理!$L15)+COUNTIF(CY$16:DR$16,処理!$L15)+COUNTIF(CY$19:DR$19,処理!$L15)+COUNTIF(CY$22:DR$22,処理!$L15)+COUNTIF(CY$25:DR$25,処理!$L15))/処理!$M15,0))","v":""},"",{"$f":"$O$31","v":""},null,{"$f":"IF(LEN(DK31)=0,\"\",(COUNTIF(CY$6:DR$7,DK31)+COUNTIF(CY$10:DR$10,DK31)+COUNTIF(CY$13:DR$13,DK31)+COUNTIF(CY$16:DR$16,DK31)+COUNTIF(CY$19:DR$19,DK31)+COUNTIF(CY$22:DR$22,DK31)+COUNTIF(CY$25:DR$25,DK31))/設定!$M22+IFERROR((COUNTIF(CY$6:DR$7,処理!$L21)+COUNTIF(CY$10:DR$10,処理!$L21)+COUNTIF(CY$13:DR$13,処理!$L21)+COUNTIF(CY$16:DR$16,処理!$L21)+COUNTIF(CY$19:DR$19,処理!$L21)+COUNTIF(CY$22:DR$22,処理!$L21)+COUNTIF(CY$25:DR$25,処理!$L21))/処理!$M21,0))","v":""},"",{"$f":"$S$31","v":""},null,{"$f":"IF(LEN(DO31)=0,\"\",COUNTIF(CY$6:DR$7,DO31)+COUNTIF(CY$10:DR$10,DO31)+COUNTIF(CY$13:DR$13,DO31)+COUNTIF(CY$16:DR$16,DO31)+COUNTIF(CY$19:DR$19,DO31)+COUNTIF(CY$22:DR$22,DO31)+COUNTIF(CY$25:DR$25,DO31))","v":""},"",{"$f":"$C$31","v":""},null,{"$f":"IF(LEN(DS31)=0,\"\",(COUNTIF(DS$6:EL$7,DS31)+COUNTIF(DS$10:EL$10,DS31)+COUNTIF(DS$13:EL$13,DS31)+COUNTIF(DS$16:EL$16,DS31)+COUNTIF(DS$19:EL$19,DS31)+COUNTIF(DS$22:EL$22,DS31)+COUNTIF(DS$25:EL$25,DS31))/設定!$D22+IFERROR((COUNTIF(DS$6:EL$7,処理!$L3)+COUNTIF(DS$10:EL$10,処理!$L3)+COUNTIF(DS$13:EL$13,処理!$L3)+COUNTIF(DS$16:EL$16,処理!$L3)+COUNTIF(DS$19:EL$19,処理!$L3)+COUNTIF(DS$22:EL$22,処理!$L3)+COUNTIF(DS$25:EL$25,処理!$L3))/処理!$M3,0))","v":""},{"$f":"IF(LEN(DS31)=0,\"\",SUM(DB31,DU31))","v":""},{"$f":"$G$31","v":""},null,{"$f":"IF(LEN(DW31)=0,\"\",(COUNTIF(DS$6:EL$7,DW31)+COUNTIF(DS$10:EL$10,DW31)+COUNTIF(DS$13:EL$13,DW31)+COUNTIF(DS$16:EL$16,DW31)+COUNTIF(DS$19:EL$19,DW31)+COUNTIF(DS$22:EL$22,DW31)+COUNTIF(DS$25:EL$25,DW31))/設定!$G22+IFERROR((COUNTIF(DS$6:EL$7,処理!$L9)+COUNTIF(DS$10:EL$10,処理!$L9)+COUNTIF(DS$13:EL$13,処理!$L9)+COUNTIF(DS$16:EL$16,処理!$L9)+COUNTIF(DS$19:EL$19,処理!$L9)+COUNTIF(DS$22:EL$22,処理!$L9)+COUNTIF(DS$25:EL$25,処理!$L9))/処理!$M9,0))","v":""},"",{"$f":"$K$31","v":""},null,{"$f":"IF(LEN(EA31)=0,\"\",(COUNTIF(DS$6:EL$7,EA31)+COUNTIF(DS$10:EL$10,EA31)+COUNTIF(DS$13:EL$13,EA31)+COUNTIF(DS$16:EL$16,EA31)+COUNTIF(DS$19:EL$19,EA31)+COUNTIF(DS$22:EL$22,EA31)+COUNTIF(DS$25:EL$25,EA31))/設定!$J22+IFERROR((COUNTIF(DS$6:EL$7,処理!$L15)+COUNTIF(DS$10:EL$10,処理!$L15)+COUNTIF(DS$13:EL$13,処理!$L15)+COUNTIF(DS$16:EL$16,処理!$L15)+COUNTIF(DS$19:EL$19,処理!$L15)+COUNTIF(DS$22:EL$22,処理!$L15)+COUNTIF(DS$25:EL$25,処理!$L15))/処理!$M15,0))","v":""},"",{"$f":"$O$31","v":""},null,{"$f":"IF(LEN(EE31)=0,\"\",(COUNTIF(DS$6:EL$7,EE31)+COUNTIF(DS$10:EL$10,EE31)+COUNTIF(DS$13:EL$13,EE31)+COUNTIF(DS$16:EL$16,EE31)+COUNTIF(DS$19:EL$19,EE31)+COUNTIF(DS$22:EL$22,EE31)+COUNTIF(DS$25:EL$25,EE31))/設定!$M22+IFERROR((COUNTIF(DS$6:EL$7,処理!$L21)+COUNTIF(DS$10:EL$10,処理!$L21)+COUNTIF(DS$13:EL$13,処理!$L21)+COUNTIF(DS$16:EL$16,処理!$L21)+COUNTIF(DS$19:EL$19,処理!$L21)+COUNTIF(DS$22:EL$22,処理!$L21)+COUNTIF(DS$25:EL$25,処理!$L21))/処理!$M21,0))","v":""},"",{"$f":"$S$31","v":""},null,{"$f":"IF(LEN(EI31)=0,\"\",COUNTIF(DS$6:EL$7,EI31)+COUNTIF(DS$10:EL$10,EI31)+COUNTIF(DS$13:EL$13,EI31)+COUNTIF(DS$16:EL$16,EI31)+COUNTIF(DS$19:EL$19,EI31)+COUNTIF(DS$22:EL$22,EI31)+COUNTIF(DS$25:EL$25,EI31))","v":""},"",{"$f":"$C$31","v":""},null,{"$f":"IF(LEN(EM31)=0,\"\",(COUNTIF(EM$6:FF$7,EM31)+COUNTIF(EM$10:FF$10,EM31)+COUNTIF(EM$13:FF$13,EM31)+COUNTIF(EM$16:FF$16,EM31)+COUNTIF(EM$19:FF$19,EM31)+COUNTIF(EM$22:FF$22,EM31)+COUNTIF(EM$25:FF$25,EM31))/設定!$D22+IFERROR((COUNTIF(EM$6:FF$7,処理!$L3)+COUNTIF(EM$10:FF$10,処理!$L3)+COUNTIF(EM$13:FF$13,処理!$L3)+COUNTIF(EM$16:FF$16,処理!$L3)+COUNTIF(EM$19:FF$19,処理!$L3)+COUNTIF(EM$22:FF$22,処理!$L3)+COUNTIF(EM$25:FF$25,処理!$L3))/処理!$M3,0))","v":""},{"$f":"IF(LEN(EM31)=0,\"\",SUM(DV31,EO31))","v":""},{"$f":"$G$31","v":""},null,{"$f":"IF(LEN(EQ31)=0,\"\",(COUNTIF(EM$6:FF$7,EQ31)+COUNTIF(EM$10:FF$10,EQ31)+COUNTIF(EM$13:FF$13,EQ31)+COUNTIF(EM$16:FF$16,EQ31)+COUNTIF(EM$19:FF$19,EQ31)+COUNTIF(EM$22:FF$22,EQ31)+COUNTIF(EM$25:FF$25,EQ31))/設定!$G22+IFERROR((COUNTIF(EM$6:FF$7,処理!$L9)+COUNTIF(EM$10:FF$10,処理!$L9)+COUNTIF(EM$13:FF$13,処理!$L9)+COUNTIF(EM$16:FF$16,処理!$L9)+COUNTIF(EM$19:FF$19,処理!$L9)+COUNTIF(EM$22:FF$22,処理!$L9)+COUNTIF(EM$25:FF$25,処理!$L9))/処理!$M9,0))","v":""},"",{"$f":"$K$31","v":""},null,{"$f":"IF(LEN(EU31)=0,\"\",(COUNTIF(EM$6:FF$7,EU31)+COUNTIF(EM$10:FF$10,EU31)+COUNTIF(EM$13:FF$13,EU31)+COUNTIF(EM$16:FF$16,EU31)+COUNTIF(EM$19:FF$19,EU31)+COUNTIF(EM$22:FF$22,EU31)+COUNTIF(EM$25:FF$25,EU31))/設定!$J22+IFERROR((COUNTIF(EM$6:FF$7,処理!$L15)+COUNTIF(EM$10:FF$10,処理!$L15)+COUNTIF(EM$13:FF$13,処理!$L15)+COUNTIF(EM$16:FF$16,処理!$L15)+COUNTIF(EM$19:FF$19,処理!$L15)+COUNTIF(EM$22:FF$22,処理!$L15)+COUNTIF(EM$25:FF$25,処理!$L15))/処理!$M15,0))","v":""},"",{"$f":"$O$31","v":""},null,{"$f":"IF(LEN(EY31)=0,\"\",(COUNTIF(EM$6:FF$7,EY31)+COUNTIF(EM$10:FF$10,EY31)+COUNTIF(EM$13:FF$13,EY31)+COUNTIF(EM$16:FF$16,EY31)+COUNTIF(EM$19:FF$19,EY31)+COUNTIF(EM$22:FF$22,EY31)+COUNTIF(EM$25:FF$25,EY31))/設定!$M22+IFERROR((COUNTIF(EM$6:FF$7,処理!$L21)+COUNTIF(EM$10:FF$10,処理!$L21)+COUNTIF(EM$13:FF$13,処理!$L21)+COUNTIF(EM$16:FF$16,処理!$L21)+COUNTIF(EM$19:FF$19,処理!$L21)+COUNTIF(EM$22:FF$22,処理!$L21)+COUNTIF(EM$25:FF$25,処理!$L21))/処理!$M21,0))","v":""},"",{"$f":"$S$31","v":""},null,{"$f":"IF(LEN(FC31)=0,\"\",COUNTIF(EM$6:FF$7,FC31)+COUNTIF(EM$10:FF$10,FC31)+COUNTIF(EM$13:FF$13,FC31)+COUNTIF(EM$16:FF$16,FC31)+COUNTIF(EM$19:FF$19,FC31)+COUNTIF(EM$22:FF$22,FC31)+COUNTIF(EM$25:FF$25,FC31))","v":""},"",{"$f":"$C$31","v":""},null,{"$f":"IF(LEN(FG31)=0,\"\",(COUNTIF(FG$6:FZ$7,FG31)+COUNTIF(FG$10:FZ$10,FG31)+COUNTIF(FG$13:FZ$13,FG31)+COUNTIF(FG$16:FZ$16,FG31)+COUNTIF(FG$19:FZ$19,FG31)+COUNTIF(FG$22:FZ$22,FG31)+COUNTIF(FG$25:FZ$25,FG31))/設定!$D22+IFERROR((COUNTIF(FG$6:FZ$7,処理!$L3)+COUNTIF(FG$10:FZ$10,処理!$L3)+COUNTIF(FG$13:FZ$13,処理!$L3)+COUNTIF(FG$16:FZ$16,処理!$L3)+COUNTIF(FG$19:FZ$19,処理!$L3)+COUNTIF(FG$22:FZ$22,処理!$L3)+COUNTIF(FG$25:FZ$25,処理!$L3))/処理!$M3,0))","v":""},{"$f":"IF(LEN(FG31)=0,\"\",SUM(EP31,FI31))","v":""},{"$f":"$G$31","v":""},null,{"$f":"IF(LEN(FK31)=0,\"\",(COUNTIF(FG$6:FZ$7,FK31)+COUNTIF(FG$10:FZ$10,FK31)+COUNTIF(FG$13:FZ$13,FK31)+COUNTIF(FG$16:FZ$16,FK31)+COUNTIF(FG$19:FZ$19,FK31)+COUNTIF(FG$22:FZ$22,FK31)+COUNTIF(FG$25:FZ$25,FK31))/設定!$G22+IFERROR((COUNTIF(FG$6:FZ$7,処理!$L9)+COUNTIF(FG$10:FZ$10,処理!$L9)+COUNTIF(FG$13:FZ$13,処理!$L9)+COUNTIF(FG$16:FZ$16,処理!$L9)+COUNTIF(FG$19:FZ$19,処理!$L9)+COUNTIF(FG$22:FZ$22,処理!$L9)+COUNTIF(FG$25:FZ$25,処理!$L9))/処理!$M9,0))","v":""},"",{"$f":"$K$31","v":""},null,{"$f":"IF(LEN(FO31)=0,\"\",(COUNTIF(FG$6:FZ$7,FO31)+COUNTIF(FG$10:FZ$10,FO31)+COUNTIF(FG$13:FZ$13,FO31)+COUNTIF(FG$16:FZ$16,FO31)+COUNTIF(FG$19:FZ$19,FO31)+COUNTIF(FG$22:FZ$22,FO31)+COUNTIF(FG$25:FZ$25,FO31))/設定!$J22+IFERROR((COUNTIF(FG$6:FZ$7,処理!$L15)+COUNTIF(FG$10:FZ$10,処理!$L15)+COUNTIF(FG$13:FZ$13,処理!$L15)+COUNTIF(FG$16:FZ$16,処理!$L15)+COUNTIF(FG$19:FZ$19,処理!$L15)+COUNTIF(FG$22:FZ$22,処理!$L15)+COUNTIF(FG$25:FZ$25,処理!$L15))/処理!$M15,0))","v":""},"",{"$f":"$O$31","v":""},null,{"$f":"IF(LEN(FS31)=0,\"\",(COUNTIF(FG$6:FZ$7,FS31)+COUNTIF(FG$10:FZ$10,FS31)+COUNTIF(FG$13:FZ$13,FS31)+COUNTIF(FG$16:FZ$16,FS31)+COUNTIF(FG$19:FZ$19,FS31)+COUNTIF(FG$22:FZ$22,FS31)+COUNTIF(FG$25:FZ$25,FS31))/設定!$M22+IFERROR((COUNTIF(FG$6:FZ$7,処理!$L21)+COUNTIF(FG$10:FZ$10,処理!$L21)+COUNTIF(FG$13:FZ$13,処理!$L21)+COUNTIF(FG$16:FZ$16,処理!$L21)+COUNTIF(FG$19:FZ$19,処理!$L21)+COUNTIF(FG$22:FZ$22,処理!$L21)+COUNTIF(FG$25:FZ$25,処理!$L21))/処理!$M21,0))","v":""},"",{"$f":"$S$31","v":""},null,{"$f":"IF(LEN(FW31)=0,\"\",COUNTIF(FG$6:FZ$7,FW31)+COUNTIF(FG$10:FZ$10,FW31)+COUNTIF(FG$13:FZ$13,FW31)+COUNTIF(FG$16:FZ$16,FW31)+COUNTIF(FG$19:FZ$19,FW31)+COUNTIF(FG$22:FZ$22,FW31)+COUNTIF(FG$25:FZ$25,FW31))","v":""},"",{"$f":"$C$31","v":""},null,{"$f":"IF(LEN(GA31)=0,\"\",(COUNTIF(GA$6:GT$7,GA31)+COUNTIF(GA$10:GT$10,GA31)+COUNTIF(GA$13:GT$13,GA31)+COUNTIF(GA$16:GT$16,GA31)+COUNTIF(GA$19:GT$19,GA31)+COUNTIF(GA$22:GT$22,GA31)+COUNTIF(GA$25:GT$25,GA31))/設定!$D22+IFERROR((COUNTIF(GA$6:GT$7,処理!$L3)+COUNTIF(GA$10:GT$10,処理!$L3)+COUNTIF(GA$13:GT$13,処理!$L3)+COUNTIF(GA$16:GT$16,処理!$L3)+COUNTIF(GA$19:GT$19,処理!$L3)+COUNTIF(GA$22:GT$22,処理!$L3)+COUNTIF(GA$25:GT$25,処理!$L3))/処理!$M3,0))","v":""},{"$f":"IF(LEN(GA31)=0,\"\",SUM(FJ31,GC31))","v":""},{"$f":"$G$31","v":""},null,{"$f":"IF(LEN(GE31)=0,\"\",(COUNTIF(GA$6:GT$7,GE31)+COUNTIF(GA$10:GT$10,GE31)+COUNTIF(GA$13:GT$13,GE31)+COUNTIF(GA$16:GT$16,GE31)+COUNTIF(GA$19:GT$19,GE31)+COUNTIF(GA$22:GT$22,GE31)+COUNTIF(GA$25:GT$25,GE31))/設定!$G22+IFERROR((COUNTIF(GA$6:GT$7,処理!$L9)+COUNTIF(GA$10:GT$10,処理!$L9)+COUNTIF(GA$13:GT$13,処理!$L9)+COUNTIF(GA$16:GT$16,処理!$L9)+COUNTIF(GA$19:GT$19,処理!$L9)+COUNTIF(GA$22:GT$22,処理!$L9)+COUNTIF(GA$25:GT$25,処理!$L9))/処理!$M9,0))","v":""},"",{"$f":"$K$31","v":""},null,{"$f":"IF(LEN(GI31)=0,\"\",(COUNTIF(GA$6:GT$7,GI31)+COUNTIF(GA$10:GT$10,GI31)+COUNTIF(GA$13:GT$13,GI31)+COUNTIF(GA$16:GT$16,GI31)+COUNTIF(GA$19:GT$19,GI31)+COUNTIF(GA$22:GT$22,GI31)+COUNTIF(GA$25:GT$25,GI31))/設定!$J22+IFERROR((COUNTIF(GA$6:GT$7,処理!$L15)+COUNTIF(GA$10:GT$10,処理!$L15)+COUNTIF(GA$13:GT$13,処理!$L15)+COUNTIF(GA$16:GT$16,処理!$L15)+COUNTIF(GA$19:GT$19,処理!$L15)+COUNTIF(GA$22:GT$22,処理!$L15)+COUNTIF(GA$25:GT$25,処理!$L15))/処理!$M15,0))","v":""},"",{"$f":"$O$31","v":""},null,{"$f":"IF(LEN(GM31)=0,\"\",(COUNTIF(GA$6:GT$7,GM31)+COUNTIF(GA$10:GT$10,GM31)+COUNTIF(GA$13:GT$13,GM31)+COUNTIF(GA$16:GT$16,GM31)+COUNTIF(GA$19:GT$19,GM31)+COUNTIF(GA$22:GT$22,GM31)+COUNTIF(GA$25:GT$25,GM31))/設定!$M22+IFERROR((COUNTIF(GA$6:GT$7,処理!$L21)+COUNTIF(GA$10:GT$10,処理!$L21)+COUNTIF(GA$13:GT$13,処理!$L21)+COUNTIF(GA$16:GT$16,処理!$L21)+COUNTIF(GA$19:GT$19,処理!$L21)+COUNTIF(GA$22:GT$22,処理!$L21)+COUNTIF(GA$25:GT$25,処理!$L21))/処理!$M21,0))","v":""},"",{"$f":"$S$31","v":""},null,{"$f":"IF(LEN(GQ31)=0,\"\",COUNTIF(GA$6:GT$7,GQ31)+COUNTIF(GA$10:GT$10,GQ31)+COUNTIF(GA$13:GT$13,GQ31)+COUNTIF(GA$16:GT$16,GQ31)+COUNTIF(GA$19:GT$19,GQ31)+COUNTIF(GA$22:GT$22,GQ31)+COUNTIF(GA$25:GT$25,GQ31))","v":""},"",{"$f":"$C$31","v":""},null,{"$f":"IF(LEN(GU31)=0,\"\",(COUNTIF(GU$6:HN$7,GU31)+COUNTIF(GU$10:HN$10,GU31)+COUNTIF(GU$13:HN$13,GU31)+COUNTIF(GU$16:HN$16,GU31)+COUNTIF(GU$19:HN$19,GU31)+COUNTIF(GU$22:HN$22,GU31)+COUNTIF(GU$25:HN$25,GU31))/設定!$D22+IFERROR((COUNTIF(GU$6:HN$7,処理!$L3)+COUNTIF(GU$10:HN$10,処理!$L3)+COUNTIF(GU$13:HN$13,処理!$L3)+COUNTIF(GU$16:HN$16,処理!$L3)+COUNTIF(GU$19:HN$19,処理!$L3)+COUNTIF(GU$22:HN$22,処理!$L3)+COUNTIF(GU$25:HN$25,処理!$L3))/処理!$M3,0))","v":""},{"$f":"IF(LEN(GU31)=0,\"\",SUM(GD31,GW31))","v":""},{"$f":"$G$31","v":""},null,{"$f":"IF(LEN(GY31)=0,\"\",(COUNTIF(GU$6:HN$7,GY31)+COUNTIF(GU$10:HN$10,GY31)+COUNTIF(GU$13:HN$13,GY31)+COUNTIF(GU$16:HN$16,GY31)+COUNTIF(GU$19:HN$19,GY31)+COUNTIF(GU$22:HN$22,GY31)+COUNTIF(GU$25:HN$25,GY31))/設定!$G22+IFERROR((COUNTIF(GU$6:HN$7,処理!$L9)+COUNTIF(GU$10:HN$10,処理!$L9)+COUNTIF(GU$13:HN$13,処理!$L9)+COUNTIF(GU$16:HN$16,処理!$L9)+COUNTIF(GU$19:HN$19,処理!$L9)+COUNTIF(GU$22:HN$22,処理!$L9)+COUNTIF(GU$25:HN$25,処理!$L9))/処理!$M9,0))","v":""},"",{"$f":"$K$31","v":""},null,{"$f":"IF(LEN(HC31)=0,\"\",(COUNTIF(GU$6:HN$7,HC31)+COUNTIF(GU$10:HN$10,HC31)+COUNTIF(GU$13:HN$13,HC31)+COUNTIF(GU$16:HN$16,HC31)+COUNTIF(GU$19:HN$19,HC31)+COUNTIF(GU$22:HN$22,HC31)+COUNTIF(GU$25:HN$25,HC31))/設定!$J22+IFERROR((COUNTIF(GU$6:HN$7,処理!$L15)+COUNTIF(GU$10:HN$10,処理!$L15)+COUNTIF(GU$13:HN$13,処理!$L15)+COUNTIF(GU$16:HN$16,処理!$L15)+COUNTIF(GU$19:HN$19,処理!$L15)+COUNTIF(GU$22:HN$22,処理!$L15)+COUNTIF(GU$25:HN$25,処理!$L15))/処理!$M15,0))","v":""},"",{"$f":"$O$31","v":""},null,{"$f":"IF(LEN(HG31)=0,\"\",(COUNTIF(GU$6:HN$7,HG31)+COUNTIF(GU$10:HN$10,HG31)+COUNTIF(GU$13:HN$13,HG31)+COUNTIF(GU$16:HN$16,HG31)+COUNTIF(GU$19:HN$19,HG31)+COUNTIF(GU$22:HN$22,HG31)+COUNTIF(GU$25:HN$25,HG31))/設定!$M22+IFERROR((COUNTIF(GU$6:HN$7,処理!$L21)+COUNTIF(GU$10:HN$10,処理!$L21)+COUNTIF(GU$13:HN$13,処理!$L21)+COUNTIF(GU$16:HN$16,処理!$L21)+COUNTIF(GU$19:HN$19,処理!$L21)+COUNTIF(GU$22:HN$22,処理!$L21)+COUNTIF(GU$25:HN$25,処理!$L21))/処理!$M21,0))","v":""},"",{"$f":"$S$31","v":""},null,{"$f":"IF(LEN(HK31)=0,\"\",COUNTIF(GU$6:HN$7,HK31)+COUNTIF(GU$10:HN$10,HK31)+COUNTIF(GU$13:HN$13,HK31)+COUNTIF(GU$16:HN$16,HK31)+COUNTIF(GU$19:HN$19,HK31)+COUNTIF(GU$22:HN$22,HK31)+COUNTIF(GU$25:HN$25,HK31))","v":""},"",{"$f":"$C$31","v":""},null,{"$f":"IF(LEN(HO31)=0,\"\",(COUNTIF(HO$6:IH$7,HO31)+COUNTIF(HO$10:IH$10,HO31)+COUNTIF(HO$13:IH$13,HO31)+COUNTIF(HO$16:IH$16,HO31)+COUNTIF(HO$19:IH$19,HO31)+COUNTIF(HO$22:IH$22,HO31)+COUNTIF(HO$25:IH$25,HO31))/設定!$D22+IFERROR((COUNTIF(HO$6:IH$7,処理!$L3)+COUNTIF(HO$10:IH$10,処理!$L3)+COUNTIF(HO$13:IH$13,処理!$L3)+COUNTIF(HO$16:IH$16,処理!$L3)+COUNTIF(HO$19:IH$19,処理!$L3)+COUNTIF(HO$22:IH$22,処理!$L3)+COUNTIF(HO$25:IH$25,処理!$L3))/処理!$M3,0))","v":""},{"$f":"IF(LEN(HO31)=0,\"\",SUM(GX31,HQ31))","v":""},{"$f":"$G$31","v":""},null,{"$f":"IF(LEN(HS31)=0,\"\",(COUNTIF(HO$6:IH$7,HS31)+COUNTIF(HO$10:IH$10,HS31)+COUNTIF(HO$13:IH$13,HS31)+COUNTIF(HO$16:IH$16,HS31)+COUNTIF(HO$19:IH$19,HS31)+COUNTIF(HO$22:IH$22,HS31)+COUNTIF(HO$25:IH$25,HS31))/設定!$G22+IFERROR((COUNTIF(HO$6:IH$7,処理!$L9)+COUNTIF(HO$10:IH$10,処理!$L9)+COUNTIF(HO$13:IH$13,処理!$L9)+COUNTIF(HO$16:IH$16,処理!$L9)+COUNTIF(HO$19:IH$19,処理!$L9)+COUNTIF(HO$22:IH$22,処理!$L9)+COUNTIF(HO$25:IH$25,処理!$L9))/処理!$M9,0))","v":""},"",{"$f":"$K$31","v":""},null,{"$f":"IF(LEN(HW31)=0,\"\",(COUNTIF(HO$6:IH$7,HW31)+COUNTIF(HO$10:IH$10,HW31)+COUNTIF(HO$13:IH$13,HW31)+COUNTIF(HO$16:IH$16,HW31)+COUNTIF(HO$19:IH$19,HW31)+COUNTIF(HO$22:IH$22,HW31)+COUNTIF(HO$25:IH$25,HW31))/設定!$J22+IFERROR((COUNTIF(HO$6:IH$7,処理!$L15)+COUNTIF(HO$10:IH$10,処理!$L15)+COUNTIF(HO$13:IH$13,処理!$L15)+COUNTIF(HO$16:IH$16,処理!$L15)+COUNTIF(HO$19:IH$19,処理!$L15)+COUNTIF(HO$22:IH$22,処理!$L15)+COUNTIF(HO$25:IH$25,処理!$L15))/処理!$M15,0))","v":""},"",{"$f":"$O$31","v":""},null,{"$f":"IF(LEN(IA31)=0,\"\",(COUNTIF(HO$6:IH$7,IA31)+COUNTIF(HO$10:IH$10,IA31)+COUNTIF(HO$13:IH$13,IA31)+COUNTIF(HO$16:IH$16,IA31)+COUNTIF(HO$19:IH$19,IA31)+COUNTIF(HO$22:IH$22,IA31)+COUNTIF(HO$25:IH$25,IA31))/設定!$M22+IFERROR((COUNTIF(HO$6:IH$7,処理!$L21)+COUNTIF(HO$10:IH$10,処理!$L21)+COUNTIF(HO$13:IH$13,処理!$L21)+COUNTIF(HO$16:IH$16,処理!$L21)+COUNTIF(HO$19:IH$19,処理!$L21)+COUNTIF(HO$22:IH$22,処理!$L21)+COUNTIF(HO$25:IH$25,処理!$L21))/処理!$M21,0))","v":""},"",{"$f":"$S$31","v":""},null,{"$f":"IF(LEN(IE31)=0,\"\",COUNTIF(HO$6:IH$7,IE31)+COUNTIF(HO$10:IH$10,IE31)+COUNTIF(HO$13:IH$13,IE31)+COUNTIF(HO$16:IH$16,IE31)+COUNTIF(HO$19:IH$19,IE31)+COUNTIF(HO$22:IH$22,IE31)+COUNTIF(HO$25:IH$25,IE31))","v":""},"",{"$f":"$C$31","v":""},null,{"$f":"IF(LEN(II31)=0,\"\",(COUNTIF(II$6:JB$7,II31)+COUNTIF(II$10:JB$10,II31)+COUNTIF(II$13:JB$13,II31)+COUNTIF(II$16:JB$16,II31)+COUNTIF(II$19:JB$19,II31)+COUNTIF(II$22:JB$22,II31)+COUNTIF(II$25:JB$25,II31))/設定!$D22+IFERROR((COUNTIF(II$6:JB$7,処理!$L3)+COUNTIF(II$10:JB$10,処理!$L3)+COUNTIF(II$13:JB$13,処理!$L3)+COUNTIF(II$16:JB$16,処理!$L3)+COUNTIF(II$19:JB$19,処理!$L3)+COUNTIF(II$22:JB$22,処理!$L3)+COUNTIF(II$25:JB$25,処理!$L3))/処理!$M3,0))","v":""},{"$f":"IF(LEN(II31)=0,\"\",SUM(HR31,IK31))","v":""},{"$f":"$G$31","v":""},null,{"$f":"IF(LEN(IM31)=0,\"\",(COUNTIF(II$6:JB$7,IM31)+COUNTIF(II$10:JB$10,IM31)+COUNTIF(II$13:JB$13,IM31)+COUNTIF(II$16:JB$16,IM31)+COUNTIF(II$19:JB$19,IM31)+COUNTIF(II$22:JB$22,IM31)+COUNTIF(II$25:JB$25,IM31))/設定!$G22+IFERROR((COUNTIF(II$6:JB$7,処理!$L9)+COUNTIF(II$10:JB$10,処理!$L9)+COUNTIF(II$13:JB$13,処理!$L9)+COUNTIF(II$16:JB$16,処理!$L9)+COUNTIF(II$19:JB$19,処理!$L9)+COUNTIF(II$22:JB$22,処理!$L9)+COUNTIF(II$25:JB$25,処理!$L9))/処理!$M9,0))","v":""},"",{"$f":"$K$31","v":""},null,{"$f":"IF(LEN(IQ31)=0,\"\",(COUNTIF(II$6:JB$7,IQ31)+COUNTIF(II$10:JB$10,IQ31)+COUNTIF(II$13:JB$13,IQ31)+COUNTIF(II$16:JB$16,IQ31)+COUNTIF(II$19:JB$19,IQ31)+COUNTIF(II$22:JB$22,IQ31)+COUNTIF(II$25:JB$25,IQ31))/設定!$J22+IFERROR((COUNTIF(II$6:JB$7,処理!$L15)+COUNTIF(II$10:JB$10,処理!$L15)+COUNTIF(II$13:JB$13,処理!$L15)+COUNTIF(II$16:JB$16,処理!$L15)+COUNTIF(II$19:JB$19,処理!$L15)+COUNTIF(II$22:JB$22,処理!$L15)+COUNTIF(II$25:JB$25,処理!$L15))/処理!$M15,0))","v":""},"",{"$f":"$O$31","v":""},null,{"$f":"IF(LEN(IU31)=0,\"\",(COUNTIF(II$6:JB$7,IU31)+COUNTIF(II$10:JB$10,IU31)+COUNTIF(II$13:JB$13,IU31)+COUNTIF(II$16:JB$16,IU31)+COUNTIF(II$19:JB$19,IU31)+COUNTIF(II$22:JB$22,IU31)+COUNTIF(II$25:JB$25,IU31))/設定!$M22+IFERROR((COUNTIF(II$6:JB$7,処理!$L21)+COUNTIF(II$10:JB$10,処理!$L21)+COUNTIF(II$13:JB$13,処理!$L21)+COUNTIF(II$16:JB$16,処理!$L21)+COUNTIF(II$19:JB$19,処理!$L21)+COUNTIF(II$22:JB$22,処理!$L21)+COUNTIF(II$25:JB$25,処理!$L21))/処理!$M21,0))","v":""},"",{"$f":"$S$31","v":""},null,{"$f":"IF(LEN(IY31)=0,\"\",COUNTIF(II$6:JB$7,IY31)+COUNTIF(II$10:JB$10,IY31)+COUNTIF(II$13:JB$13,IY31)+COUNTIF(II$16:JB$16,IY31)+COUNTIF(II$19:JB$19,IY31)+COUNTIF(II$22:JB$22,IY31)+COUNTIF(II$25:JB$25,IY31))","v":""},"",{"$f":"$C$31","v":""},null,{"$f":"IF(LEN(JC31)=0,\"\",(COUNTIF(JC$6:JV$7,JC31)+COUNTIF(JC$10:JV$10,JC31)+COUNTIF(JC$13:JV$13,JC31)+COUNTIF(JC$16:JV$16,JC31)+COUNTIF(JC$19:JV$19,JC31)+COUNTIF(JC$22:JV$22,JC31)+COUNTIF(JC$25:JV$25,JC31))/設定!$D22+IFERROR((COUNTIF(JC$6:JV$7,処理!$L3)+COUNTIF(JC$10:JV$10,処理!$L3)+COUNTIF(JC$13:JV$13,処理!$L3)+COUNTIF(JC$16:JV$16,処理!$L3)+COUNTIF(JC$19:JV$19,処理!$L3)+COUNTIF(JC$22:JV$22,処理!$L3)+COUNTIF(JC$25:JV$25,処理!$L3))/処理!$M3,0))","v":""},{"$f":"IF(LEN(JC31)=0,\"\",SUM(IL31,JE31))","v":""},{"$f":"$G$31","v":""},null,{"$f":"IF(LEN(JG31)=0,\"\",(COUNTIF(JC$6:JV$7,JG31)+COUNTIF(JC$10:JV$10,JG31)+COUNTIF(JC$13:JV$13,JG31)+COUNTIF(JC$16:JV$16,JG31)+COUNTIF(JC$19:JV$19,JG31)+COUNTIF(JC$22:JV$22,JG31)+COUNTIF(JC$25:JV$25,JG31))/設定!$G22+IFERROR((COUNTIF(JC$6:JV$7,処理!$L9)+COUNTIF(JC$10:JV$10,処理!$L9)+COUNTIF(JC$13:JV$13,処理!$L9)+COUNTIF(JC$16:JV$16,処理!$L9)+COUNTIF(JC$19:JV$19,処理!$L9)+COUNTIF(JC$22:JV$22,処理!$L9)+COUNTIF(JC$25:JV$25,処理!$L9))/処理!$M9,0))","v":""},"",{"$f":"$K$31","v":""},null,{"$f":"IF(LEN(JK31)=0,\"\",(COUNTIF(JC$6:JV$7,JK31)+COUNTIF(JC$10:JV$10,JK31)+COUNTIF(JC$13:JV$13,JK31)+COUNTIF(JC$16:JV$16,JK31)+COUNTIF(JC$19:JV$19,JK31)+COUNTIF(JC$22:JV$22,JK31)+COUNTIF(JC$25:JV$25,JK31))/設定!$J22+IFERROR((COUNTIF(JC$6:JV$7,処理!$L15)+COUNTIF(JC$10:JV$10,処理!$L15)+COUNTIF(JC$13:JV$13,処理!$L15)+COUNTIF(JC$16:JV$16,処理!$L15)+COUNTIF(JC$19:JV$19,処理!$L15)+COUNTIF(JC$22:JV$22,処理!$L15)+COUNTIF(JC$25:JV$25,処理!$L15))/処理!$M15,0))","v":""},"",{"$f":"$O$31","v":""},null,{"$f":"IF(LEN(JO31)=0,\"\",(COUNTIF(JC$6:JV$7,JO31)+COUNTIF(JC$10:JV$10,JO31)+COUNTIF(JC$13:JV$13,JO31)+COUNTIF(JC$16:JV$16,JO31)+COUNTIF(JC$19:JV$19,JO31)+COUNTIF(JC$22:JV$22,JO31)+COUNTIF(JC$25:JV$25,JO31))/設定!$M22+IFERROR((COUNTIF(JC$6:JV$7,処理!$L21)+COUNTIF(JC$10:JV$10,処理!$L21)+COUNTIF(JC$13:JV$13,処理!$L21)+COUNTIF(JC$16:JV$16,処理!$L21)+COUNTIF(JC$19:JV$19,処理!$L21)+COUNTIF(JC$22:JV$22,処理!$L21)+COUNTIF(JC$25:JV$25,処理!$L21))/処理!$M21,0))","v":""},"",{"$f":"$S$31","v":""},null,{"$f":"IF(LEN(JS31)=0,\"\",COUNTIF(JC$6:JV$7,JS31)+COUNTIF(JC$10:JV$10,JS31)+COUNTIF(JC$13:JV$13,JS31)+COUNTIF(JC$16:JV$16,JS31)+COUNTIF(JC$19:JV$19,JS31)+COUNTIF(JC$22:JV$22,JS31)+COUNTIF(JC$25:JV$25,JS31))","v":""},"",{"$f":"$C$31","v":""},null,{"$f":"IF(LEN(JW31)=0,\"\",(COUNTIF(JW$6:KP$7,JW31)+COUNTIF(JW$10:KP$10,JW31)+COUNTIF(JW$13:KP$13,JW31)+COUNTIF(JW$16:KP$16,JW31)+COUNTIF(JW$19:KP$19,JW31)+COUNTIF(JW$22:KP$22,JW31)+COUNTIF(JW$25:KP$25,JW31))/設定!$D22+IFERROR((COUNTIF(JW$6:KP$7,処理!$L3)+COUNTIF(JW$10:KP$10,処理!$L3)+COUNTIF(JW$13:KP$13,処理!$L3)+COUNTIF(JW$16:KP$16,処理!$L3)+COUNTIF(JW$19:KP$19,処理!$L3)+COUNTIF(JW$22:KP$22,処理!$L3)+COUNTIF(JW$25:KP$25,処理!$L3))/処理!$M3,0))","v":""},{"$f":"IF(LEN(JW31)=0,\"\",SUM(JF31,JY31))","v":""},{"$f":"$G$31","v":""},null,{"$f":"IF(LEN(KA31)=0,\"\",(COUNTIF(JW$6:KP$7,KA31)+COUNTIF(JW$10:KP$10,KA31)+COUNTIF(JW$13:KP$13,KA31)+COUNTIF(JW$16:KP$16,KA31)+COUNTIF(JW$19:KP$19,KA31)+COUNTIF(JW$22:KP$22,KA31)+COUNTIF(JW$25:KP$25,KA31))/設定!$G22+IFERROR((COUNTIF(JW$6:KP$7,処理!$L9)+COUNTIF(JW$10:KP$10,処理!$L9)+COUNTIF(JW$13:KP$13,処理!$L9)+COUNTIF(JW$16:KP$16,処理!$L9)+COUNTIF(JW$19:KP$19,処理!$L9)+COUNTIF(JW$22:KP$22,処理!$L9)+COUNTIF(JW$25:KP$25,処理!$L9))/処理!$M9,0))","v":""},"",{"$f":"$K$31","v":""},null,{"$f":"IF(LEN(KE31)=0,\"\",(COUNTIF(JW$6:KP$7,KE31)+COUNTIF(JW$10:KP$10,KE31)+COUNTIF(JW$13:KP$13,KE31)+COUNTIF(JW$16:KP$16,KE31)+COUNTIF(JW$19:KP$19,KE31)+COUNTIF(JW$22:KP$22,KE31)+COUNTIF(JW$25:KP$25,KE31))/設定!$J22+IFERROR((COUNTIF(JW$6:KP$7,処理!$L15)+COUNTIF(JW$10:KP$10,処理!$L15)+COUNTIF(JW$13:KP$13,処理!$L15)+COUNTIF(JW$16:KP$16,処理!$L15)+COUNTIF(JW$19:KP$19,処理!$L15)+COUNTIF(JW$22:KP$22,処理!$L15)+COUNTIF(JW$25:KP$25,処理!$L15))/処理!$M15,0))","v":""},"",{"$f":"$O$31","v":""},null,{"$f":"IF(LEN(KI31)=0,\"\",(COUNTIF(JW$6:KP$7,KI31)+COUNTIF(JW$10:KP$10,KI31)+COUNTIF(JW$13:KP$13,KI31)+COUNTIF(JW$16:KP$16,KI31)+COUNTIF(JW$19:KP$19,KI31)+COUNTIF(JW$22:KP$22,KI31)+COUNTIF(JW$25:KP$25,KI31))/設定!$M22+IFERROR((COUNTIF(JW$6:KP$7,処理!$L21)+COUNTIF(JW$10:KP$10,処理!$L21)+COUNTIF(JW$13:KP$13,処理!$L21)+COUNTIF(JW$16:KP$16,処理!$L21)+COUNTIF(JW$19:KP$19,処理!$L21)+COUNTIF(JW$22:KP$22,処理!$L21)+COUNTIF(JW$25:KP$25,処理!$L21))/処理!$M21,0))","v":""},"",{"$f":"$S$31","v":""},null,{"$f":"IF(LEN(KM31)=0,\"\",COUNTIF(JW$6:KP$7,KM31)+COUNTIF(JW$10:KP$10,KM31)+COUNTIF(JW$13:KP$13,KM31)+COUNTIF(JW$16:KP$16,KM31)+COUNTIF(JW$19:KP$19,KM31)+COUNTIF(JW$22:KP$22,KM31)+COUNTIF(JW$25:KP$25,KM31))","v":""},"",{"$f":"$C$31","v":""},null,{"$f":"IF(LEN(KQ31)=0,\"\",(COUNTIF(KQ$6:LJ$7,KQ31)+COUNTIF(KQ$10:LJ$10,KQ31)+COUNTIF(KQ$13:LJ$13,KQ31)+COUNTIF(KQ$16:LJ$16,KQ31)+COUNTIF(KQ$19:LJ$19,KQ31)+COUNTIF(KQ$22:LJ$22,KQ31)+COUNTIF(KQ$25:LJ$25,KQ31))/設定!$D22+IFERROR((COUNTIF(KQ$6:LJ$7,処理!$L3)+COUNTIF(KQ$10:LJ$10,処理!$L3)+COUNTIF(KQ$13:LJ$13,処理!$L3)+COUNTIF(KQ$16:LJ$16,処理!$L3)+COUNTIF(KQ$19:LJ$19,処理!$L3)+COUNTIF(KQ$22:LJ$22,処理!$L3)+COUNTIF(KQ$25:LJ$25,処理!$L3))/処理!$M3,0))","v":""},{"$f":"IF(LEN(KQ31)=0,\"\",SUM(JZ31,KS31))","v":""},{"$f":"$G$31","v":""},null,{"$f":"IF(LEN(KU31)=0,\"\",(COUNTIF(KQ$6:LJ$7,KU31)+COUNTIF(KQ$10:LJ$10,KU31)+COUNTIF(KQ$13:LJ$13,KU31)+COUNTIF(KQ$16:LJ$16,KU31)+COUNTIF(KQ$19:LJ$19,KU31)+COUNTIF(KQ$22:LJ$22,KU31)+COUNTIF(KQ$25:LJ$25,KU31))/設定!$G22+IFERROR((COUNTIF(KQ$6:LJ$7,処理!$L9)+COUNTIF(KQ$10:LJ$10,処理!$L9)+COUNTIF(KQ$13:LJ$13,処理!$L9)+COUNTIF(KQ$16:LJ$16,処理!$L9)+COUNTIF(KQ$19:LJ$19,処理!$L9)+COUNTIF(KQ$22:LJ$22,処理!$L9)+COUNTIF(KQ$25:LJ$25,処理!$L9))/処理!$M9,0))","v":""},"",{"$f":"$K$31","v":""},null,{"$f":"IF(LEN(KY31)=0,\"\",(COUNTIF(KQ$6:LJ$7,KY31)+COUNTIF(KQ$10:LJ$10,KY31)+COUNTIF(KQ$13:LJ$13,KY31)+COUNTIF(KQ$16:LJ$16,KY31)+COUNTIF(KQ$19:LJ$19,KY31)+COUNTIF(KQ$22:LJ$22,KY31)+COUNTIF(KQ$25:LJ$25,KY31))/設定!$J22+IFERROR((COUNTIF(KQ$6:LJ$7,処理!$L15)+COUNTIF(KQ$10:LJ$10,処理!$L15)+COUNTIF(KQ$13:LJ$13,処理!$L15)+COUNTIF(KQ$16:LJ$16,処理!$L15)+COUNTIF(KQ$19:LJ$19,処理!$L15)+COUNTIF(KQ$22:LJ$22,処理!$L15)+COUNTIF(KQ$25:LJ$25,処理!$L15))/処理!$M15,0))","v":""},"",{"$f":"$O$31","v":""},null,{"$f":"IF(LEN(LC31)=0,\"\",(COUNTIF(KQ$6:LJ$7,LC31)+COUNTIF(KQ$10:LJ$10,LC31)+COUNTIF(KQ$13:LJ$13,LC31)+COUNTIF(KQ$16:LJ$16,LC31)+COUNTIF(KQ$19:LJ$19,LC31)+COUNTIF(KQ$22:LJ$22,LC31)+COUNTIF(KQ$25:LJ$25,LC31))/設定!$M22+IFERROR((COUNTIF(KQ$6:LJ$7,処理!$L21)+COUNTIF(KQ$10:LJ$10,処理!$L21)+COUNTIF(KQ$13:LJ$13,処理!$L21)+COUNTIF(KQ$16:LJ$16,処理!$L21)+COUNTIF(KQ$19:LJ$19,処理!$L21)+COUNTIF(KQ$22:LJ$22,処理!$L21)+COUNTIF(KQ$25:LJ$25,処理!$L21))/処理!$M21,0))","v":""},"",{"$f":"$S$31","v":""},null,{"$f":"IF(LEN(LG31)=0,\"\",COUNTIF(KQ$6:LJ$7,LG31)+COUNTIF(KQ$10:LJ$10,LG31)+COUNTIF(KQ$13:LJ$13,LG31)+COUNTIF(KQ$16:LJ$16,LG31)+COUNTIF(KQ$19:LJ$19,LG31)+COUNTIF(KQ$22:LJ$22,LG31)+COUNTIF(KQ$25:LJ$25,LG31))","v":""},"",{"$f":"$C$31","v":""},null,{"$f":"IF(LEN(LK31)=0,\"\",(COUNTIF(LK$6:MD$7,LK31)+COUNTIF(LK$10:MD$10,LK31)+COUNTIF(LK$13:MD$13,LK31)+COUNTIF(LK$16:MD$16,LK31)+COUNTIF(LK$19:MD$19,LK31)+COUNTIF(LK$22:MD$22,LK31)+COUNTIF(LK$25:MD$25,LK31))/設定!$D22+IFERROR((COUNTIF(LK$6:MD$7,処理!$L3)+COUNTIF(LK$10:MD$10,処理!$L3)+COUNTIF(LK$13:MD$13,処理!$L3)+COUNTIF(LK$16:MD$16,処理!$L3)+COUNTIF(LK$19:MD$19,処理!$L3)+COUNTIF(LK$22:MD$22,処理!$L3)+COUNTIF(LK$25:MD$25,処理!$L3))/処理!$M3,0))","v":""},{"$f":"IF(LEN(LK31)=0,\"\",SUM(KT31,LM31))","v":""},{"$f":"$G$31","v":""},null,{"$f":"IF(LEN(LO31)=0,\"\",(COUNTIF(LK$6:MD$7,LO31)+COUNTIF(LK$10:MD$10,LO31)+COUNTIF(LK$13:MD$13,LO31)+COUNTIF(LK$16:MD$16,LO31)+COUNTIF(LK$19:MD$19,LO31)+COUNTIF(LK$22:MD$22,LO31)+COUNTIF(LK$25:MD$25,LO31))/設定!$G22+IFERROR((COUNTIF(LK$6:MD$7,処理!$L9)+COUNTIF(LK$10:MD$10,処理!$L9)+COUNTIF(LK$13:MD$13,処理!$L9)+COUNTIF(LK$16:MD$16,処理!$L9)+COUNTIF(LK$19:MD$19,処理!$L9)+COUNTIF(LK$22:MD$22,処理!$L9)+COUNTIF(LK$25:MD$25,処理!$L9))/処理!$M9,0))","v":""},"",{"$f":"$K$31","v":""},null,{"$f":"IF(LEN(LS31)=0,\"\",(COUNTIF(LK$6:MD$7,LS31)+COUNTIF(LK$10:MD$10,LS31)+COUNTIF(LK$13:MD$13,LS31)+COUNTIF(LK$16:MD$16,LS31)+COUNTIF(LK$19:MD$19,LS31)+COUNTIF(LK$22:MD$22,LS31)+COUNTIF(LK$25:MD$25,LS31))/設定!$J22+IFERROR((COUNTIF(LK$6:MD$7,処理!$L15)+COUNTIF(LK$10:MD$10,処理!$L15)+COUNTIF(LK$13:MD$13,処理!$L15)+COUNTIF(LK$16:MD$16,処理!$L15)+COUNTIF(LK$19:MD$19,処理!$L15)+COUNTIF(LK$22:MD$22,処理!$L15)+COUNTIF(LK$25:MD$25,処理!$L15))/処理!$M15,0))","v":""},"",{"$f":"$O$31","v":""},null,{"$f":"IF(LEN(LW31)=0,\"\",(COUNTIF(LK$6:MD$7,LW31)+COUNTIF(LK$10:MD$10,LW31)+COUNTIF(LK$13:MD$13,LW31)+COUNTIF(LK$16:MD$16,LW31)+COUNTIF(LK$19:MD$19,LW31)+COUNTIF(LK$22:MD$22,LW31)+COUNTIF(LK$25:MD$25,LW31))/設定!$M22+IFERROR((COUNTIF(LK$6:MD$7,処理!$L21)+COUNTIF(LK$10:MD$10,処理!$L21)+COUNTIF(LK$13:MD$13,処理!$L21)+COUNTIF(LK$16:MD$16,処理!$L21)+COUNTIF(LK$19:MD$19,処理!$L21)+COUNTIF(LK$22:MD$22,処理!$L21)+COUNTIF(LK$25:MD$25,処理!$L21))/処理!$M21,0))","v":""},"",{"$f":"$S$31","v":""},null,{"$f":"IF(LEN(MA31)=0,\"\",COUNTIF(LK$6:MD$7,MA31)+COUNTIF(LK$10:MD$10,MA31)+COUNTIF(LK$13:MD$13,MA31)+COUNTIF(LK$16:MD$16,MA31)+COUNTIF(LK$19:MD$19,MA31)+COUNTIF(LK$22:MD$22,MA31)+COUNTIF(LK$25:MD$25,MA31))","v":""},""]
[null,null,{"$f":"IF(COUNTIF(処理!$J$2:$J$25,2)>0,処理!H4,\"\")","v":""},null,{"$f":"IF(LEN(C32)=0,\"\",(COUNTIF(C$6:V$7,C32)+COUNTIF(C$10:V$10,C32)+COUNTIF(C$13:V$13,C32)+COUNTIF(C$16:V$16,C32)+COUNTIF(C$19:V$19,C32)+COUNTIF(C$22:V$22,C32)+COUNTIF(C$25:V$25,C32))/設定!$D23+IFERROR((COUNTIF(C$6:V$7,処理!$L4)+COUNTIF(C$10:V$10,処理!$L4)+COUNTIF(C$13:V$13,処理!$L4)+COUNTIF(C$16:V$16,処理!$L4)+COUNTIF(C$19:V$19,処理!$L4)+COUNTIF(C$22:V$22,処理!$L4)+COUNTIF(C$25:V$25,処理!$L4))/処理!$M4,0))","v":""},"",{"$f":"IF(COUNTIF(処理!$J$2:$J$25,8)>0,処理!H10,\"\")","v":""},null,{"$f":"IF(LEN(G32)=0,\"\",(COUNTIF(C$6:V$7,G32)+COUNTIF(C$10:V$10,G32)+COUNTIF(C$13:V$13,G32)+COUNTIF(C$16:V$16,G32)+COUNTIF(C$19:V$19,G32)+COUNTIF(C$22:V$22,G32)+COUNTIF(C$25:V$25,G32))/設定!$G23+IFERROR((COUNTIF(C$6:V$7,処理!$L10)+COUNTIF(C$10:V$10,処理!$L10)+COUNTIF(C$13:V$13,処理!$L10)+COUNTIF(C$16:V$16,処理!$L10)+COUNTIF(C$19:V$19,処理!$L10)+COUNTIF(C$22:V$22,処理!$L10)+COUNTIF(C$25:V$25,処理!$L10))/処理!$M10,0))","v":""},"",{"$f":"IF(COUNTIF(処理!$J$2:$J$25,14)>0,処理!H16,\"\")","v":""},null,{"$f":"IF(LEN(K32)=0,\"\",(COUNTIF(C$6:V$7,K32)+COUNTIF(C$10:V$10,K32)+COUNTIF(C$13:V$13,K32)+COUNTIF(C$16:V$16,K32)+COUNTIF(C$19:V$19,K32)+COUNTIF(C$22:V$22,K32)+COUNTIF(C$25:V$25,K32))/設定!$J23+IFERROR((COUNTIF(C$6:V$7,処理!$L16)+COUNTIF(C$10:V$10,処理!$L16)+COUNTIF(C$13:V$13,処理!$L16)+COUNTIF(C$16:V$16,処理!$L16)+COUNTIF(C$19:V$19,処理!$L16)+COUNTIF(C$22:V$22,処理!$L16)+COUNTIF(C$25:V$25,処理!$L16))/処理!$M16,0))","v":""},"",{"$f":"IF(COUNTIF(処理!$J$2:$J$25,20)>0,処理!H22,\"\")","v":""},null,{"$f":"IF(LEN(O32)=0,\"\",(COUNTIF(C$6:V$7,O32)+COUNTIF(C$10:V$10,O32)+COUNTIF(C$13:V$13,O32)+COUNTIF(C$16:V$16,O32)+COUNTIF(C$19:V$19,O32)+COUNTIF(C$22:V$22,O32)+COUNTIF(C$25:V$25,O32))/設定!$M23+IFERROR((COUNTIF(C$6:V$7,処理!$L22)+COUNTIF(C$10:V$10,処理!$L22)+COUNTIF(C$13:V$13,処理!$L22)+COUNTIF(C$16:V$16,処理!$L22)+COUNTIF(C$19:V$19,処理!$L22)+COUNTIF(C$22:V$22,処理!$L22)+COUNTIF(C$25:V$25,処理!$L22))/処理!$M22,0))","v":""},"",{"$f":"処理!H28&\"\"","v":""},null,{"$f":"IF(LEN(S32)=0,\"\",COUNTIF(C$6:V$7,S32)+COUNTIF(C$10:V$10,S32)+COUNTIF(C$13:V$13,S32)+COUNTIF(C$16:V$16,S32)+COUNTIF(C$19:V$19,S32)+COUNTIF(C$22:V$22,S32)+COUNTIF(C$25:V$25,S32))","v":""},"",{"$f":"$C$32","v":""},null,{"$f":"IF(LEN(W32)=0,\"\",(COUNTIF(W$6:AP$7,W32)+COUNTIF(W$10:AP$10,W32)+COUNTIF(W$13:AP$13,W32)+COUNTIF(W$16:AP$16,W32)+COUNTIF(W$19:AP$19,W32)+COUNTIF(W$22:AP$22,W32)+COUNTIF(W$25:AP$25,W32))/設定!$D23+IFERROR((COUNTIF(W$6:AP$7,処理!$L4)+COUNTIF(W$10:AP$10,処理!$L4)+COUNTIF(W$13:AP$13,処理!$L4)+COUNTIF(W$16:AP$16,処理!$L4)+COUNTIF(W$19:AP$19,処理!$L4)+COUNTIF(W$22:AP$22,処理!$L4)+COUNTIF(W$25:AP$25,処理!$L4))/処理!$M4,0))","v":""},"",{"$f":"$G$32","v":""},null,{"$f":"IF(LEN(AA32)=0,\"\",(COUNTIF(W$6:AP$7,AA32)+COUNTIF(W$10:AP$10,AA32)+COUNTIF(W$13:AP$13,AA32)+COUNTIF(W$16:AP$16,AA32)+COUNTIF(W$19:AP$19,AA32)+COUNTIF(W$22:AP$22,AA32)+COUNTIF(W$25:AP$25,AA32))/設定!$G23+IFERROR((COUNTIF(W$6:AP$7,処理!$L10)+COUNTIF(W$10:AP$10,処理!$L10)+COUNTIF(W$13:AP$13,処理!$L10)+COUNTIF(W$16:AP$16,処理!$L10)+COUNTIF(W$19:AP$19,処理!$L10)+COUNTIF(W$22:AP$22,処理!$L10)+COUNTIF(W$25:AP$25,処理!$L10))/処理!$M10,0))","v":""},"",{"$f":"$K$32","v":""},null,{"$f":"IF(LEN(AE32)=0,\"\",(COUNTIF(W$6:AP$7,AE32)+COUNTIF(W$10:AP$10,AE32)+COUNTIF(W$13:AP$13,AE32)+COUNTIF(W$16:AP$16,AE32)+COUNTIF(W$19:AP$19,AE32)+COUNTIF(W$22:AP$22,AE32)+COUNTIF(W$25:AP$25,AE32))/設定!$J23+IFERROR((COUNTIF(W$6:AP$7,処理!$L16)+COUNTIF(W$10:AP$10,処理!$L16)+COUNTIF(W$13:AP$13,処理!$L16)+COUNTIF(W$16:AP$16,処理!$L16)+COUNTIF(W$19:AP$19,処理!$L16)+COUNTIF(W$22:AP$22,処理!$L16)+COUNTIF(W$25:AP$25,処理!$L16))/処理!$M16,0))","v":""},"",{"$f":"$O$32","v":""},null,{"$f":"IF(LEN(AI32)=0,\"\",(COUNTIF(W$6:AP$7,AI32)+COUNTIF(W$10:AP$10,AI32)+COUNTIF(W$13:AP$13,AI32)+COUNTIF(W$16:AP$16,AI32)+COUNTIF(W$19:AP$19,AI32)+COUNTIF(W$22:AP$22,AI32)+COUNTIF(W$25:AP$25,AI32))/設定!$M23+IFERROR((COUNTIF(W$6:AP$7,処理!$L22)+COUNTIF(W$10:AP$10,処理!$L22)+COUNTIF(W$13:AP$13,処理!$L22)+COUNTIF(W$16:AP$16,処理!$L22)+COUNTIF(W$19:AP$19,処理!$L22)+COUNTIF(W$22:AP$22,処理!$L22)+COUNTIF(W$25:AP$25,処理!$L22))/処理!$M22,0))","v":""},"",{"$f":"$S$32","v":""},null,{"$f":"IF(LEN(AM32)=0,\"\",COUNTIF(W$6:AP$7,AM32)+COUNTIF(W$10:AP$10,AM32)+COUNTIF(W$13:AP$13,AM32)+COUNTIF(W$16:AP$16,AM32)+COUNTIF(W$19:AP$19,AM32)+COUNTIF(W$22:AP$22,AM32)+COUNTIF(W$25:AP$25,AM32))","v":""},"",{"$f":"$C$32","v":""},null,{"$f":"IF(LEN(AQ32)=0,\"\",(COUNTIF(AQ$6:BJ$7,AQ32)+COUNTIF(AQ$10:BJ$10,AQ32)+COUNTIF(AQ$13:BJ$13,AQ32)+COUNTIF(AQ$16:BJ$16,AQ32)+COUNTIF(AQ$19:BJ$19,AQ32)+COUNTIF(AQ$22:BJ$22,AQ32)+COUNTIF(AQ$25:BJ$25,AQ32))/設定!$D23+IFERROR((COUNTIF(AQ$6:BJ$7,処理!$L4)+COUNTIF(AQ$10:BJ$10,処理!$L4)+COUNTIF(AQ$13:BJ$13,処理!$L4)+COUNTIF(AQ$16:BJ$16,処理!$L4)+COUNTIF(AQ$19:BJ$19,処理!$L4)+COUNTIF(AQ$22:BJ$22,処理!$L4)+COUNTIF(AQ$25:BJ$25,処理!$L4))/処理!$M4,0))","v":""},"",{"$f":"$G$32","v":""},null,{"$f":"IF(LEN(AU32)=0,\"\",(COUNTIF(AQ$6:BJ$7,AU32)+COUNTIF(AQ$10:BJ$10,AU32)+COUNTIF(AQ$13:BJ$13,AU32)+COUNTIF(AQ$16:BJ$16,AU32)+COUNTIF(AQ$19:BJ$19,AU32)+COUNTIF(AQ$22:BJ$22,AU32)+COUNTIF(AQ$25:BJ$25,AU32))/設定!$G23+IFERROR((COUNTIF(AQ$6:BJ$7,処理!$L10)+COUNTIF(AQ$10:BJ$10,処理!$L10)+COUNTIF(AQ$13:BJ$13,処理!$L10)+COUNTIF(AQ$16:BJ$16,処理!$L10)+COUNTIF(AQ$19:BJ$19,処理!$L10)+COUNTIF(AQ$22:BJ$22,処理!$L10)+COUNTIF(AQ$25:BJ$25,処理!$L10))/処理!$M10,0))","v":""},"",{"$f":"$K$32","v":""},null,{"$f":"IF(LEN(AY32)=0,\"\",(COUNTIF(AQ$6:BJ$7,AY32)+COUNTIF(AQ$10:BJ$10,AY32)+COUNTIF(AQ$13:BJ$13,AY32)+COUNTIF(AQ$16:BJ$16,AY32)+COUNTIF(AQ$19:BJ$19,AY32)+COUNTIF(AQ$22:BJ$22,AY32)+COUNTIF(AQ$25:BJ$25,AY32))/設定!$J23+IFERROR((COUNTIF(AQ$6:BJ$7,処理!$L16)+COUNTIF(AQ$10:BJ$10,処理!$L16)+COUNTIF(AQ$13:BJ$13,処理!$L16)+COUNTIF(AQ$16:BJ$16,処理!$L16)+COUNTIF(AQ$19:BJ$19,処理!$L16)+COUNTIF(AQ$22:BJ$22,処理!$L16)+COUNTIF(AQ$25:BJ$25,処理!$L16))/処理!$M16,0))","v":""},"",{"$f":"$O$32","v":""},null,{"$f":"IF(LEN(BC32)=0,\"\",(COUNTIF(AQ$6:BJ$7,BC32)+COUNTIF(AQ$10:BJ$10,BC32)+COUNTIF(AQ$13:BJ$13,BC32)+COUNTIF(AQ$16:BJ$16,BC32)+COUNTIF(AQ$19:BJ$19,BC32)+COUNTIF(AQ$22:BJ$22,BC32)+COUNTIF(AQ$25:BJ$25,BC32))/設定!$M23+IFERROR((COUNTIF(AQ$6:BJ$7,処理!$L22)+COUNTIF(AQ$10:BJ$10,処理!$L22)+COUNTIF(AQ$13:BJ$13,処理!$L22)+COUNTIF(AQ$16:BJ$16,処理!$L22)+COUNTIF(AQ$19:BJ$19,処理!$L22)+COUNTIF(AQ$22:BJ$22,処理!$L22)+COUNTIF(AQ$25:BJ$25,処理!$L22))/処理!$M22,0))","v":""},"",{"$f":"$S$32","v":""},null,{"$f":"IF(LEN(BG32)=0,\"\",COUNTIF(AQ$6:BJ$7,BG32)+COUNTIF(AQ$10:BJ$10,BG32)+COUNTIF(AQ$13:BJ$13,BG32)+COUNTIF(AQ$16:BJ$16,BG32)+COUNTIF(AQ$19:BJ$19,BG32)+COUNTIF(AQ$22:BJ$22,BG32)+COUNTIF(AQ$25:BJ$25,BG32))","v":""},"",{"$f":"$C$32","v":""},null,{"$f":"IF(LEN(BK32)=0,\"\",(COUNTIF(BK$6:CD$7,BK32)+COUNTIF(BK$10:CD$10,BK32)+COUNTIF(BK$13:CD$13,BK32)+COUNTIF(BK$16:CD$16,BK32)+COUNTIF(BK$19:CD$19,BK32)+COUNTIF(BK$22:CD$22,BK32)+COUNTIF(BK$25:CD$25,BK32))/設定!$D23+IFERROR((COUNTIF(BK$6:CD$7,処理!$L4)+COUNTIF(BK$10:CD$10,処理!$L4)+COUNTIF(BK$13:CD$13,処理!$L4)+COUNTIF(BK$16:CD$16,処理!$L4)+COUNTIF(BK$19:CD$19,処理!$L4)+COUNTIF(BK$22:CD$22,処理!$L4)+COUNTIF(BK$25:CD$25,処理!$L4))/処理!$M4,0))","v":""},"",{"$f":"$G$32","v":""},null,{"$f":"IF(LEN(BO32)=0,\"\",(COUNTIF(BK$6:CD$7,BO32)+COUNTIF(BK$10:CD$10,BO32)+COUNTIF(BK$13:CD$13,BO32)+COUNTIF(BK$16:CD$16,BO32)+COUNTIF(BK$19:CD$19,BO32)+COUNTIF(BK$22:CD$22,BO32)+COUNTIF(BK$25:CD$25,BO32))/設定!$G23+IFERROR((COUNTIF(BK$6:CD$7,処理!$L10)+COUNTIF(BK$10:CD$10,処理!$L10)+COUNTIF(BK$13:CD$13,処理!$L10)+COUNTIF(BK$16:CD$16,処理!$L10)+COUNTIF(BK$19:CD$19,処理!$L10)+COUNTIF(BK$22:CD$22,処理!$L10)+COUNTIF(BK$25:CD$25,処理!$L10))/処理!$M10,0))","v":""},"",{"$f":"$K$32","v":""},null,{"$f":"IF(LEN(BS32)=0,\"\",(COUNTIF(BK$6:CD$7,BS32)+COUNTIF(BK$10:CD$10,BS32)+COUNTIF(BK$13:CD$13,BS32)+COUNTIF(BK$16:CD$16,BS32)+COUNTIF(BK$19:CD$19,BS32)+COUNTIF(BK$22:CD$22,BS32)+COUNTIF(BK$25:CD$25,BS32))/設定!$J23+IFERROR((COUNTIF(BK$6:CD$7,処理!$L16)+COUNTIF(BK$10:CD$10,処理!$L16)+COUNTIF(BK$13:CD$13,処理!$L16)+COUNTIF(BK$16:CD$16,処理!$L16)+COUNTIF(BK$19:CD$19,処理!$L16)+COUNTIF(BK$22:CD$22,処理!$L16)+COUNTIF(BK$25:CD$25,処理!$L16))/処理!$M16,0))","v":""},"",{"$f":"$O$32","v":""},null,{"$f":"IF(LEN(BW32)=0,\"\",(COUNTIF(BK$6:CD$7,BW32)+COUNTIF(BK$10:CD$10,BW32)+COUNTIF(BK$13:CD$13,BW32)+COUNTIF(BK$16:CD$16,BW32)+COUNTIF(BK$19:CD$19,BW32)+COUNTIF(BK$22:CD$22,BW32)+COUNTIF(BK$25:CD$25,BW32))/設定!$M23+IFERROR((COUNTIF(BK$6:CD$7,処理!$L22)+COUNTIF(BK$10:CD$10,処理!$L22)+COUNTIF(BK$13:CD$13,処理!$L22)+COUNTIF(BK$16:CD$16,処理!$L22)+COUNTIF(BK$19:CD$19,処理!$L22)+COUNTIF(BK$22:CD$22,処理!$L22)+COUNTIF(BK$25:CD$25,処理!$L22))/処理!$M22,0))","v":""},"",{"$f":"$S$32","v":""},null,{"$f":"IF(LEN(CA32)=0,\"\",COUNTIF(BK$6:CD$7,CA32)+COUNTIF(BK$10:CD$10,CA32)+COUNTIF(BK$13:CD$13,CA32)+COUNTIF(BK$16:CD$16,CA32)+COUNTIF(BK$19:CD$19,CA32)+COUNTIF(BK$22:CD$22,CA32)+COUNTIF(BK$25:CD$25,CA32))","v":""},"",{"$f":"$C$32","v":""},null,{"$f":"IF(LEN(CE32)=0,\"\",(COUNTIF(CE$6:CX$7,CE32)+COUNTIF(CE$10:CX$10,CE32)+COUNTIF(CE$13:CX$13,CE32)+COUNTIF(CE$16:CX$16,CE32)+COUNTIF(CE$19:CX$19,CE32)+COUNTIF(CE$22:CX$22,CE32)+COUNTIF(CE$25:CX$25,CE32))/設定!$D23+IFERROR((COUNTIF(CE$6:CX$7,処理!$L4)+COUNTIF(CE$10:CX$10,処理!$L4)+COUNTIF(CE$13:CX$13,処理!$L4)+COUNTIF(CE$16:CX$16,処理!$L4)+COUNTIF(CE$19:CX$19,処理!$L4)+COUNTIF(CE$22:CX$22,処理!$L4)+COUNTIF(CE$25:CX$25,処理!$L4))/処理!$M4,0))","v":""},"",{"$f":"$G$32","v":""},null,{"$f":"IF(LEN(CI32)=0,\"\",(COUNTIF(CE$6:CX$7,CI32)+COUNTIF(CE$10:CX$10,CI32)+COUNTIF(CE$13:CX$13,CI32)+COUNTIF(CE$16:CX$16,CI32)+COUNTIF(CE$19:CX$19,CI32)+COUNTIF(CE$22:CX$22,CI32)+COUNTIF(CE$25:CX$25,CI32))/設定!$G23+IFERROR((COUNTIF(CE$6:CX$7,処理!$L10)+COUNTIF(CE$10:CX$10,処理!$L10)+COUNTIF(CE$13:CX$13,処理!$L10)+COUNTIF(CE$16:CX$16,処理!$L10)+COUNTIF(CE$19:CX$19,処理!$L10)+COUNTIF(CE$22:CX$22,処理!$L10)+COUNTIF(CE$25:CX$25,処理!$L10))/処理!$M10,0))","v":""},"",{"$f":"$K$32","v":""},null,{"$f":"IF(LEN(CM32)=0,\"\",(COUNTIF(CE$6:CX$7,CM32)+COUNTIF(CE$10:CX$10,CM32)+COUNTIF(CE$13:CX$13,CM32)+COUNTIF(CE$16:CX$16,CM32)+COUNTIF(CE$19:CX$19,CM32)+COUNTIF(CE$22:CX$22,CM32)+COUNTIF(CE$25:CX$25,CM32))/設定!$J23+IFERROR((COUNTIF(CE$6:CX$7,処理!$L16)+COUNTIF(CE$10:CX$10,処理!$L16)+COUNTIF(CE$13:CX$13,処理!$L16)+COUNTIF(CE$16:CX$16,処理!$L16)+COUNTIF(CE$19:CX$19,処理!$L16)+COUNTIF(CE$22:CX$22,処理!$L16)+COUNTIF(CE$25:CX$25,処理!$L16))/処理!$M16,0))","v":""},"",{"$f":"$O$32","v":""},null,{"$f":"IF(LEN(CQ32)=0,\"\",(COUNTIF(CE$6:CX$7,CQ32)+COUNTIF(CE$10:CX$10,CQ32)+COUNTIF(CE$13:CX$13,CQ32)+COUNTIF(CE$16:CX$16,CQ32)+COUNTIF(CE$19:CX$19,CQ32)+COUNTIF(CE$22:CX$22,CQ32)+COUNTIF(CE$25:CX$25,CQ32))/設定!$M23+IFERROR((COUNTIF(CE$6:CX$7,処理!$L22)+COUNTIF(CE$10:CX$10,処理!$L22)+COUNTIF(CE$13:CX$13,処理!$L22)+COUNTIF(CE$16:CX$16,処理!$L22)+COUNTIF(CE$19:CX$19,処理!$L22)+COUNTIF(CE$22:CX$22,処理!$L22)+COUNTIF(CE$25:CX$25,処理!$L22))/処理!$M22,0))","v":""},"",{"$f":"$S$32","v":""},null,{"$f":"IF(LEN(CU32)=0,\"\",COUNTIF(CE$6:CX$7,CU32)+COUNTIF(CE$10:CX$10,CU32)+COUNTIF(CE$13:CX$13,CU32)+COUNTIF(CE$16:CX$16,CU32)+COUNTIF(CE$19:CX$19,CU32)+COUNTIF(CE$22:CX$22,CU32)+COUNTIF(CE$25:CX$25,CU32))","v":""},"",{"$f":"$C$32","v":""},null,{"$f":"IF(LEN(CY32)=0,\"\",(COUNTIF(CY$6:DR$7,CY32)+COUNTIF(CY$10:DR$10,CY32)+COUNTIF(CY$13:DR$13,CY32)+COUNTIF(CY$16:DR$16,CY32)+COUNTIF(CY$19:DR$19,CY32)+COUNTIF(CY$22:DR$22,CY32)+COUNTIF(CY$25:DR$25,CY32))/設定!$D23+IFERROR((COUNTIF(CY$6:DR$7,処理!$L4)+COUNTIF(CY$10:DR$10,処理!$L4)+COUNTIF(CY$13:DR$13,処理!$L4)+COUNTIF(CY$16:DR$16,処理!$L4)+COUNTIF(CY$19:DR$19,処理!$L4)+COUNTIF(CY$22:DR$22,処理!$L4)+COUNTIF(CY$25:DR$25,処理!$L4))/処理!$M4,0))","v":""},"",{"$f":"$G$32","v":""},null,{"$f":"IF(LEN(DC32)=0,\"\",(COUNTIF(CY$6:DR$7,DC32)+COUNTIF(CY$10:DR$10,DC32)+COUNTIF(CY$13:DR$13,DC32)+COUNTIF(CY$16:DR$16,DC32)+COUNTIF(CY$19:DR$19,DC32)+COUNTIF(CY$22:DR$22,DC32)+COUNTIF(CY$25:DR$25,DC32))/設定!$G23+IFERROR((COUNTIF(CY$6:DR$7,処理!$L10)+COUNTIF(CY$10:DR$10,処理!$L10)+COUNTIF(CY$13:DR$13,処理!$L10)+COUNTIF(CY$16:DR$16,処理!$L10)+COUNTIF(CY$19:DR$19,処理!$L10)+COUNTIF(CY$22:DR$22,処理!$L10)+COUNTIF(CY$25:DR$25,処理!$L10))/処理!$M10,0))","v":""},"",{"$f":"$K$32","v":""},null,{"$f":"IF(LEN(DG32)=0,\"\",(COUNTIF(CY$6:DR$7,DG32)+COUNTIF(CY$10:DR$10,DG32)+COUNTIF(CY$13:DR$13,DG32)+COUNTIF(CY$16:DR$16,DG32)+COUNTIF(CY$19:DR$19,DG32)+COUNTIF(CY$22:DR$22,DG32)+COUNTIF(CY$25:DR$25,DG32))/設定!$J23+IFERROR((COUNTIF(CY$6:DR$7,処理!$L16)+COUNTIF(CY$10:DR$10,処理!$L16)+COUNTIF(CY$13:DR$13,処理!$L16)+COUNTIF(CY$16:DR$16,処理!$L16)+COUNTIF(CY$19:DR$19,処理!$L16)+COUNTIF(CY$22:DR$22,処理!$L16)+COUNTIF(CY$25:DR$25,処理!$L16))/処理!$M16,0))","v":""},"",{"$f":"$O$32","v":""},null,{"$f":"IF(LEN(DK32)=0,\"\",(COUNTIF(CY$6:DR$7,DK32)+COUNTIF(CY$10:DR$10,DK32)+COUNTIF(CY$13:DR$13,DK32)+COUNTIF(CY$16:DR$16,DK32)+COUNTIF(CY$19:DR$19,DK32)+COUNTIF(CY$22:DR$22,DK32)+COUNTIF(CY$25:DR$25,DK32))/設定!$M23+IFERROR((COUNTIF(CY$6:DR$7,処理!$L22)+COUNTIF(CY$10:DR$10,処理!$L22)+COUNTIF(CY$13:DR$13,処理!$L22)+COUNTIF(CY$16:DR$16,処理!$L22)+COUNTIF(CY$19:DR$19,処理!$L22)+COUNTIF(CY$22:DR$22,処理!$L22)+COUNTIF(CY$25:DR$25,処理!$L22))/処理!$M22,0))","v":""},"",{"$f":"$S$32","v":""},null,{"$f":"IF(LEN(DO32)=0,\"\",COUNTIF(CY$6:DR$7,DO32)+COUNTIF(CY$10:DR$10,DO32)+COUNTIF(CY$13:DR$13,DO32)+COUNTIF(CY$16:DR$16,DO32)+COUNTIF(CY$19:DR$19,DO32)+COUNTIF(CY$22:DR$22,DO32)+COUNTIF(CY$25:DR$25,DO32))","v":""},"",{"$f":"$C$32","v":""},null,{"$f":"IF(LEN(DS32)=0,\"\",(COUNTIF(DS$6:EL$7,DS32)+COUNTIF(DS$10:EL$10,DS32)+COUNTIF(DS$13:EL$13,DS32)+COUNTIF(DS$16:EL$16,DS32)+COUNTIF(DS$19:EL$19,DS32)+COUNTIF(DS$22:EL$22,DS32)+COUNTIF(DS$25:EL$25,DS32))/設定!$D23+IFERROR((COUNTIF(DS$6:EL$7,処理!$L4)+COUNTIF(DS$10:EL$10,処理!$L4)+COUNTIF(DS$13:EL$13,処理!$L4)+COUNTIF(DS$16:EL$16,処理!$L4)+COUNTIF(DS$19:EL$19,処理!$L4)+COUNTIF(DS$22:EL$22,処理!$L4)+COUNTIF(DS$25:EL$25,処理!$L4))/処理!$M4,0))","v":""},"",{"$f":"$G$32","v":""},null,{"$f":"IF(LEN(DW32)=0,\"\",(COUNTIF(DS$6:EL$7,DW32)+COUNTIF(DS$10:EL$10,DW32)+COUNTIF(DS$13:EL$13,DW32)+COUNTIF(DS$16:EL$16,DW32)+COUNTIF(DS$19:EL$19,DW32)+COUNTIF(DS$22:EL$22,DW32)+COUNTIF(DS$25:EL$25,DW32))/設定!$G23+IFERROR((COUNTIF(DS$6:EL$7,処理!$L10)+COUNTIF(DS$10:EL$10,処理!$L10)+COUNTIF(DS$13:EL$13,処理!$L10)+COUNTIF(DS$16:EL$16,処理!$L10)+COUNTIF(DS$19:EL$19,処理!$L10)+COUNTIF(DS$22:EL$22,処理!$L10)+COUNTIF(DS$25:EL$25,処理!$L10))/処理!$M10,0))","v":""},"",{"$f":"$K$32","v":""},null,{"$f":"IF(LEN(EA32)=0,\"\",(COUNTIF(DS$6:EL$7,EA32)+COUNTIF(DS$10:EL$10,EA32)+COUNTIF(DS$13:EL$13,EA32)+COUNTIF(DS$16:EL$16,EA32)+COUNTIF(DS$19:EL$19,EA32)+COUNTIF(DS$22:EL$22,EA32)+COUNTIF(DS$25:EL$25,EA32))/設定!$J23+IFERROR((COUNTIF(DS$6:EL$7,処理!$L16)+COUNTIF(DS$10:EL$10,処理!$L16)+COUNTIF(DS$13:EL$13,処理!$L16)+COUNTIF(DS$16:EL$16,処理!$L16)+COUNTIF(DS$19:EL$19,処理!$L16)+COUNTIF(DS$22:EL$22,処理!$L16)+COUNTIF(DS$25:EL$25,処理!$L16))/処理!$M16,0))","v":""},"",{"$f":"$O$32","v":""},null,{"$f":"IF(LEN(EE32)=0,\"\",(COUNTIF(DS$6:EL$7,EE32)+COUNTIF(DS$10:EL$10,EE32)+COUNTIF(DS$13:EL$13,EE32)+COUNTIF(DS$16:EL$16,EE32)+COUNTIF(DS$19:EL$19,EE32)+COUNTIF(DS$22:EL$22,EE32)+COUNTIF(DS$25:EL$25,EE32))/設定!$M23+IFERROR((COUNTIF(DS$6:EL$7,処理!$L22)+COUNTIF(DS$10:EL$10,処理!$L22)+COUNTIF(DS$13:EL$13,処理!$L22)+COUNTIF(DS$16:EL$16,処理!$L22)+COUNTIF(DS$19:EL$19,処理!$L22)+COUNTIF(DS$22:EL$22,処理!$L22)+COUNTIF(DS$25:EL$25,処理!$L22))/処理!$M22,0))","v":""},"",{"$f":"$S$32","v":""},null,{"$f":"IF(LEN(EI32)=0,\"\",COUNTIF(DS$6:EL$7,EI32)+COUNTIF(DS$10:EL$10,EI32)+COUNTIF(DS$13:EL$13,EI32)+COUNTIF(DS$16:EL$16,EI32)+COUNTIF(DS$19:EL$19,EI32)+COUNTIF(DS$22:EL$22,EI32)+COUNTIF(DS$25:EL$25,EI32))","v":""},"",{"$f":"$C$32","v":""},null,{"$f":"IF(LEN(EM32)=0,\"\",(COUNTIF(EM$6:FF$7,EM32)+COUNTIF(EM$10:FF$10,EM32)+COUNTIF(EM$13:FF$13,EM32)+COUNTIF(EM$16:FF$16,EM32)+COUNTIF(EM$19:FF$19,EM32)+COUNTIF(EM$22:FF$22,EM32)+COUNTIF(EM$25:FF$25,EM32))/設定!$D23+IFERROR((COUNTIF(EM$6:FF$7,処理!$L4)+COUNTIF(EM$10:FF$10,処理!$L4)+COUNTIF(EM$13:FF$13,処理!$L4)+COUNTIF(EM$16:FF$16,処理!$L4)+COUNTIF(EM$19:FF$19,処理!$L4)+COUNTIF(EM$22:FF$22,処理!$L4)+COUNTIF(EM$25:FF$25,処理!$L4))/処理!$M4,0))","v":""},"",{"$f":"$G$32","v":""},null,{"$f":"IF(LEN(EQ32)=0,\"\",(COUNTIF(EM$6:FF$7,EQ32)+COUNTIF(EM$10:FF$10,EQ32)+COUNTIF(EM$13:FF$13,EQ32)+COUNTIF(EM$16:FF$16,EQ32)+COUNTIF(EM$19:FF$19,EQ32)+COUNTIF(EM$22:FF$22,EQ32)+COUNTIF(EM$25:FF$25,EQ32))/設定!$G23+IFERROR((COUNTIF(EM$6:FF$7,処理!$L10)+COUNTIF(EM$10:FF$10,処理!$L10)+COUNTIF(EM$13:FF$13,処理!$L10)+COUNTIF(EM$16:FF$16,処理!$L10)+COUNTIF(EM$19:FF$19,処理!$L10)+COUNTIF(EM$22:FF$22,処理!$L10)+COUNTIF(EM$25:FF$25,処理!$L10))/処理!$M10,0))","v":""},"",{"$f":"$K$32","v":""},null,{"$f":"IF(LEN(EU32)=0,\"\",(COUNTIF(EM$6:FF$7,EU32)+COUNTIF(EM$10:FF$10,EU32)+COUNTIF(EM$13:FF$13,EU32)+COUNTIF(EM$16:FF$16,EU32)+COUNTIF(EM$19:FF$19,EU32)+COUNTIF(EM$22:FF$22,EU32)+COUNTIF(EM$25:FF$25,EU32))/設定!$J23+IFERROR((COUNTIF(EM$6:FF$7,処理!$L16)+COUNTIF(EM$10:FF$10,処理!$L16)+COUNTIF(EM$13:FF$13,処理!$L16)+COUNTIF(EM$16:FF$16,処理!$L16)+COUNTIF(EM$19:FF$19,処理!$L16)+COUNTIF(EM$22:FF$22,処理!$L16)+COUNTIF(EM$25:FF$25,処理!$L16))/処理!$M16,0))","v":""},"",{"$f":"$O$32","v":""},null,{"$f":"IF(LEN(EY32)=0,\"\",(COUNTIF(EM$6:FF$7,EY32)+COUNTIF(EM$10:FF$10,EY32)+COUNTIF(EM$13:FF$13,EY32)+COUNTIF(EM$16:FF$16,EY32)+COUNTIF(EM$19:FF$19,EY32)+COUNTIF(EM$22:FF$22,EY32)+COUNTIF(EM$25:FF$25,EY32))/設定!$M23+IFERROR((COUNTIF(EM$6:FF$7,処理!$L22)+COUNTIF(EM$10:FF$10,処理!$L22)+COUNTIF(EM$13:FF$13,処理!$L22)+COUNTIF(EM$16:FF$16,処理!$L22)+COUNTIF(EM$19:FF$19,処理!$L22)+COUNTIF(EM$22:FF$22,処理!$L22)+COUNTIF(EM$25:FF$25,処理!$L22))/処理!$M22,0))","v":""},"",{"$f":"$S$32","v":""},null,{"$f":"IF(LEN(FC32)=0,\"\",COUNTIF(EM$6:FF$7,FC32)+COUNTIF(EM$10:FF$10,FC32)+COUNTIF(EM$13:FF$13,FC32)+COUNTIF(EM$16:FF$16,FC32)+COUNTIF(EM$19:FF$19,FC32)+COUNTIF(EM$22:FF$22,FC32)+COUNTIF(EM$25:FF$25,FC32))","v":""},"",{"$f":"$C$32","v":""},null,{"$f":"IF(LEN(FG32)=0,\"\",(COUNTIF(FG$6:FZ$7,FG32)+COUNTIF(FG$10:FZ$10,FG32)+COUNTIF(FG$13:FZ$13,FG32)+COUNTIF(FG$16:FZ$16,FG32)+COUNTIF(FG$19:FZ$19,FG32)+COUNTIF(FG$22:FZ$22,FG32)+COUNTIF(FG$25:FZ$25,FG32))/設定!$D23+IFERROR((COUNTIF(FG$6:FZ$7,処理!$L4)+COUNTIF(FG$10:FZ$10,処理!$L4)+COUNTIF(FG$13:FZ$13,処理!$L4)+COUNTIF(FG$16:FZ$16,処理!$L4)+COUNTIF(FG$19:FZ$19,処理!$L4)+COUNTIF(FG$22:FZ$22,処理!$L4)+COUNTIF(FG$25:FZ$25,処理!$L4))/処理!$M4,0))","v":""},"",{"$f":"$G$32","v":""},null,{"$f":"IF(LEN(FK32)=0,\"\",(COUNTIF(FG$6:FZ$7,FK32)+COUNTIF(FG$10:FZ$10,FK32)+COUNTIF(FG$13:FZ$13,FK32)+COUNTIF(FG$16:FZ$16,FK32)+COUNTIF(FG$19:FZ$19,FK32)+COUNTIF(FG$22:FZ$22,FK32)+COUNTIF(FG$25:FZ$25,FK32))/設定!$G23+IFERROR((COUNTIF(FG$6:FZ$7,処理!$L10)+COUNTIF(FG$10:FZ$10,処理!$L10)+COUNTIF(FG$13:FZ$13,処理!$L10)+COUNTIF(FG$16:FZ$16,処理!$L10)+COUNTIF(FG$19:FZ$19,処理!$L10)+COUNTIF(FG$22:FZ$22,処理!$L10)+COUNTIF(FG$25:FZ$25,処理!$L10))/処理!$M10,0))","v":""},"",{"$f":"$K$32","v":""},null,{"$f":"IF(LEN(FO32)=0,\"\",(COUNTIF(FG$6:FZ$7,FO32)+COUNTIF(FG$10:FZ$10,FO32)+COUNTIF(FG$13:FZ$13,FO32)+COUNTIF(FG$16:FZ$16,FO32)+COUNTIF(FG$19:FZ$19,FO32)+COUNTIF(FG$22:FZ$22,FO32)+COUNTIF(FG$25:FZ$25,FO32))/設定!$J23+IFERROR((COUNTIF(FG$6:FZ$7,処理!$L16)+COUNTIF(FG$10:FZ$10,処理!$L16)+COUNTIF(FG$13:FZ$13,処理!$L16)+COUNTIF(FG$16:FZ$16,処理!$L16)+COUNTIF(FG$19:FZ$19,処理!$L16)+COUNTIF(FG$22:FZ$22,処理!$L16)+COUNTIF(FG$25:FZ$25,処理!$L16))/処理!$M16,0))","v":""},"",{"$f":"$O$32","v":""},null,{"$f":"IF(LEN(FS32)=0,\"\",(COUNTIF(FG$6:FZ$7,FS32)+COUNTIF(FG$10:FZ$10,FS32)+COUNTIF(FG$13:FZ$13,FS32)+COUNTIF(FG$16:FZ$16,FS32)+COUNTIF(FG$19:FZ$19,FS32)+COUNTIF(FG$22:FZ$22,FS32)+COUNTIF(FG$25:FZ$25,FS32))/設定!$M23+IFERROR((COUNTIF(FG$6:FZ$7,処理!$L22)+COUNTIF(FG$10:FZ$10,処理!$L22)+COUNTIF(FG$13:FZ$13,処理!$L22)+COUNTIF(FG$16:FZ$16,処理!$L22)+COUNTIF(FG$19:FZ$19,処理!$L22)+COUNTIF(FG$22:FZ$22,処理!$L22)+COUNTIF(FG$25:FZ$25,処理!$L22))/処理!$M22,0))","v":""},"",{"$f":"$S$32","v":""},null,{"$f":"IF(LEN(FW32)=0,\"\",COUNTIF(FG$6:FZ$7,FW32)+COUNTIF(FG$10:FZ$10,FW32)+COUNTIF(FG$13:FZ$13,FW32)+COUNTIF(FG$16:FZ$16,FW32)+COUNTIF(FG$19:FZ$19,FW32)+COUNTIF(FG$22:FZ$22,FW32)+COUNTIF(FG$25:FZ$25,FW32))","v":""},"",{"$f":"$C$32","v":""},null,{"$f":"IF(LEN(GA32)=0,\"\",(COUNTIF(GA$6:GT$7,GA32)+COUNTIF(GA$10:GT$10,GA32)+COUNTIF(GA$13:GT$13,GA32)+COUNTIF(GA$16:GT$16,GA32)+COUNTIF(GA$19:GT$19,GA32)+COUNTIF(GA$22:GT$22,GA32)+COUNTIF(GA$25:GT$25,GA32))/設定!$D23+IFERROR((COUNTIF(GA$6:GT$7,処理!$L4)+COUNTIF(GA$10:GT$10,処理!$L4)+COUNTIF(GA$13:GT$13,処理!$L4)+COUNTIF(GA$16:GT$16,処理!$L4)+COUNTIF(GA$19:GT$19,処理!$L4)+COUNTIF(GA$22:GT$22,処理!$L4)+COUNTIF(GA$25:GT$25,処理!$L4))/処理!$M4,0))","v":""},"",{"$f":"$G$32","v":""},null,{"$f":"IF(LEN(GE32)=0,\"\",(COUNTIF(GA$6:GT$7,GE32)+COUNTIF(GA$10:GT$10,GE32)+COUNTIF(GA$13:GT$13,GE32)+COUNTIF(GA$16:GT$16,GE32)+COUNTIF(GA$19:GT$19,GE32)+COUNTIF(GA$22:GT$22,GE32)+COUNTIF(GA$25:GT$25,GE32))/設定!$G23+IFERROR((COUNTIF(GA$6:GT$7,処理!$L10)+COUNTIF(GA$10:GT$10,処理!$L10)+COUNTIF(GA$13:GT$13,処理!$L10)+COUNTIF(GA$16:GT$16,処理!$L10)+COUNTIF(GA$19:GT$19,処理!$L10)+COUNTIF(GA$22:GT$22,処理!$L10)+COUNTIF(GA$25:GT$25,処理!$L10))/処理!$M10,0))","v":""},"",{"$f":"$K$32","v":""},null,{"$f":"IF(LEN(GI32)=0,\"\",(COUNTIF(GA$6:GT$7,GI32)+COUNTIF(GA$10:GT$10,GI32)+COUNTIF(GA$13:GT$13,GI32)+COUNTIF(GA$16:GT$16,GI32)+COUNTIF(GA$19:GT$19,GI32)+COUNTIF(GA$22:GT$22,GI32)+COUNTIF(GA$25:GT$25,GI32))/設定!$J23+IFERROR((COUNTIF(GA$6:GT$7,処理!$L16)+COUNTIF(GA$10:GT$10,処理!$L16)+COUNTIF(GA$13:GT$13,処理!$L16)+COUNTIF(GA$16:GT$16,処理!$L16)+COUNTIF(GA$19:GT$19,処理!$L16)+COUNTIF(GA$22:GT$22,処理!$L16)+COUNTIF(GA$25:GT$25,処理!$L16))/処理!$M16,0))","v":""},"",{"$f":"$O$32","v":""},null,{"$f":"IF(LEN(GM32)=0,\"\",(COUNTIF(GA$6:GT$7,GM32)+COUNTIF(GA$10:GT$10,GM32)+COUNTIF(GA$13:GT$13,GM32)+COUNTIF(GA$16:GT$16,GM32)+COUNTIF(GA$19:GT$19,GM32)+COUNTIF(GA$22:GT$22,GM32)+COUNTIF(GA$25:GT$25,GM32))/設定!$M23+IFERROR((COUNTIF(GA$6:GT$7,処理!$L22)+COUNTIF(GA$10:GT$10,処理!$L22)+COUNTIF(GA$13:GT$13,処理!$L22)+COUNTIF(GA$16:GT$16,処理!$L22)+COUNTIF(GA$19:GT$19,処理!$L22)+COUNTIF(GA$22:GT$22,処理!$L22)+COUNTIF(GA$25:GT$25,処理!$L22))/処理!$M22,0))","v":""},"",{"$f":"$S$32","v":""},null,{"$f":"IF(LEN(GQ32)=0,\"\",COUNTIF(GA$6:GT$7,GQ32)+COUNTIF(GA$10:GT$10,GQ32)+COUNTIF(GA$13:GT$13,GQ32)+COUNTIF(GA$16:GT$16,GQ32)+COUNTIF(GA$19:GT$19,GQ32)+COUNTIF(GA$22:GT$22,GQ32)+COUNTIF(GA$25:GT$25,GQ32))","v":""},"",{"$f":"$C$32","v":""},null,{"$f":"IF(LEN(GU32)=0,\"\",(COUNTIF(GU$6:HN$7,GU32)+COUNTIF(GU$10:HN$10,GU32)+COUNTIF(GU$13:HN$13,GU32)+COUNTIF(GU$16:HN$16,GU32)+COUNTIF(GU$19:HN$19,GU32)+COUNTIF(GU$22:HN$22,GU32)+COUNTIF(GU$25:HN$25,GU32))/設定!$D23+IFERROR((COUNTIF(GU$6:HN$7,処理!$L4)+COUNTIF(GU$10:HN$10,処理!$L4)+COUNTIF(GU$13:HN$13,処理!$L4)+COUNTIF(GU$16:HN$16,処理!$L4)+COUNTIF(GU$19:HN$19,処理!$L4)+COUNTIF(GU$22:HN$22,処理!$L4)+COUNTIF(GU$25:HN$25,処理!$L4))/処理!$M4,0))","v":""},"",{"$f":"$G$32","v":""},null,{"$f":"IF(LEN(GY32)=0,\"\",(COUNTIF(GU$6:HN$7,GY32)+COUNTIF(GU$10:HN$10,GY32)+COUNTIF(GU$13:HN$13,GY32)+COUNTIF(GU$16:HN$16,GY32)+COUNTIF(GU$19:HN$19,GY32)+COUNTIF(GU$22:HN$22,GY32)+COUNTIF(GU$25:HN$25,GY32))/設定!$G23+IFERROR((COUNTIF(GU$6:HN$7,処理!$L10)+COUNTIF(GU$10:HN$10,処理!$L10)+COUNTIF(GU$13:HN$13,処理!$L10)+COUNTIF(GU$16:HN$16,処理!$L10)+COUNTIF(GU$19:HN$19,処理!$L10)+COUNTIF(GU$22:HN$22,処理!$L10)+COUNTIF(GU$25:HN$25,処理!$L10))/処理!$M10,0))","v":""},"",{"$f":"$K$32","v":""},null,{"$f":"IF(LEN(HC32)=0,\"\",(COUNTIF(GU$6:HN$7,HC32)+COUNTIF(GU$10:HN$10,HC32)+COUNTIF(GU$13:HN$13,HC32)+COUNTIF(GU$16:HN$16,HC32)+COUNTIF(GU$19:HN$19,HC32)+COUNTIF(GU$22:HN$22,HC32)+COUNTIF(GU$25:HN$25,HC32))/設定!$J23+IFERROR((COUNTIF(GU$6:HN$7,処理!$L16)+COUNTIF(GU$10:HN$10,処理!$L16)+COUNTIF(GU$13:HN$13,処理!$L16)+COUNTIF(GU$16:HN$16,処理!$L16)+COUNTIF(GU$19:HN$19,処理!$L16)+COUNTIF(GU$22:HN$22,処理!$L16)+COUNTIF(GU$25:HN$25,処理!$L16))/処理!$M16,0))","v":""},"",{"$f":"$O$32","v":""},null,{"$f":"IF(LEN(HG32)=0,\"\",(COUNTIF(GU$6:HN$7,HG32)+COUNTIF(GU$10:HN$10,HG32)+COUNTIF(GU$13:HN$13,HG32)+COUNTIF(GU$16:HN$16,HG32)+COUNTIF(GU$19:HN$19,HG32)+COUNTIF(GU$22:HN$22,HG32)+COUNTIF(GU$25:HN$25,HG32))/設定!$M23+IFERROR((COUNTIF(GU$6:HN$7,処理!$L22)+COUNTIF(GU$10:HN$10,処理!$L22)+COUNTIF(GU$13:HN$13,処理!$L22)+COUNTIF(GU$16:HN$16,処理!$L22)+COUNTIF(GU$19:HN$19,処理!$L22)+COUNTIF(GU$22:HN$22,処理!$L22)+COUNTIF(GU$25:HN$25,処理!$L22))/処理!$M22,0))","v":""},"",{"$f":"$S$32","v":""},null,{"$f":"IF(LEN(HK32)=0,\"\",COUNTIF(GU$6:HN$7,HK32)+COUNTIF(GU$10:HN$10,HK32)+COUNTIF(GU$13:HN$13,HK32)+COUNTIF(GU$16:HN$16,HK32)+COUNTIF(GU$19:HN$19,HK32)+COUNTIF(GU$22:HN$22,HK32)+COUNTIF(GU$25:HN$25,HK32))","v":""},"",{"$f":"$C$32","v":""},null,{"$f":"IF(LEN(HO32)=0,\"\",(COUNTIF(HO$6:IH$7,HO32)+COUNTIF(HO$10:IH$10,HO32)+COUNTIF(HO$13:IH$13,HO32)+COUNTIF(HO$16:IH$16,HO32)+COUNTIF(HO$19:IH$19,HO32)+COUNTIF(HO$22:IH$22,HO32)+COUNTIF(HO$25:IH$25,HO32))/設定!$D23+IFERROR((COUNTIF(HO$6:IH$7,処理!$L4)+COUNTIF(HO$10:IH$10,処理!$L4)+COUNTIF(HO$13:IH$13,処理!$L4)+COUNTIF(HO$16:IH$16,処理!$L4)+COUNTIF(HO$19:IH$19,処理!$L4)+COUNTIF(HO$22:IH$22,処理!$L4)+COUNTIF(HO$25:IH$25,処理!$L4))/処理!$M4,0))","v":""},"",{"$f":"$G$32","v":""},null,{"$f":"IF(LEN(HS32)=0,\"\",(COUNTIF(HO$6:IH$7,HS32)+COUNTIF(HO$10:IH$10,HS32)+COUNTIF(HO$13:IH$13,HS32)+COUNTIF(HO$16:IH$16,HS32)+COUNTIF(HO$19:IH$19,HS32)+COUNTIF(HO$22:IH$22,HS32)+COUNTIF(HO$25:IH$25,HS32))/設定!$G23+IFERROR((COUNTIF(HO$6:IH$7,処理!$L10)+COUNTIF(HO$10:IH$10,処理!$L10)+COUNTIF(HO$13:IH$13,処理!$L10)+COUNTIF(HO$16:IH$16,処理!$L10)+COUNTIF(HO$19:IH$19,処理!$L10)+COUNTIF(HO$22:IH$22,処理!$L10)+COUNTIF(HO$25:IH$25,処理!$L10))/処理!$M10,0))","v":""},"",{"$f":"$K$32","v":""},null,{"$f":"IF(LEN(HW32)=0,\"\",(COUNTIF(HO$6:IH$7,HW32)+COUNTIF(HO$10:IH$10,HW32)+COUNTIF(HO$13:IH$13,HW32)+COUNTIF(HO$16:IH$16,HW32)+COUNTIF(HO$19:IH$19,HW32)+COUNTIF(HO$22:IH$22,HW32)+COUNTIF(HO$25:IH$25,HW32))/設定!$J23+IFERROR((COUNTIF(HO$6:IH$7,処理!$L16)+COUNTIF(HO$10:IH$10,処理!$L16)+COUNTIF(HO$13:IH$13,処理!$L16)+COUNTIF(HO$16:IH$16,処理!$L16)+COUNTIF(HO$19:IH$19,処理!$L16)+COUNTIF(HO$22:IH$22,処理!$L16)+COUNTIF(HO$25:IH$25,処理!$L16))/処理!$M16,0))","v":""},"",{"$f":"$O$32","v":""},null,{"$f":"IF(LEN(IA32)=0,\"\",(COUNTIF(HO$6:IH$7,IA32)+COUNTIF(HO$10:IH$10,IA32)+COUNTIF(HO$13:IH$13,IA32)+COUNTIF(HO$16:IH$16,IA32)+COUNTIF(HO$19:IH$19,IA32)+COUNTIF(HO$22:IH$22,IA32)+COUNTIF(HO$25:IH$25,IA32))/設定!$M23+IFERROR((COUNTIF(HO$6:IH$7,処理!$L22)+COUNTIF(HO$10:IH$10,処理!$L22)+COUNTIF(HO$13:IH$13,処理!$L22)+COUNTIF(HO$16:IH$16,処理!$L22)+COUNTIF(HO$19:IH$19,処理!$L22)+COUNTIF(HO$22:IH$22,処理!$L22)+COUNTIF(HO$25:IH$25,処理!$L22))/処理!$M22,0))","v":""},"",{"$f":"$S$32","v":""},null,{"$f":"IF(LEN(IE32)=0,\"\",COUNTIF(HO$6:IH$7,IE32)+COUNTIF(HO$10:IH$10,IE32)+COUNTIF(HO$13:IH$13,IE32)+COUNTIF(HO$16:IH$16,IE32)+COUNTIF(HO$19:IH$19,IE32)+COUNTIF(HO$22:IH$22,IE32)+COUNTIF(HO$25:IH$25,IE32))","v":""},"",{"$f":"$C$32","v":""},null,{"$f":"IF(LEN(II32)=0,\"\",(COUNTIF(II$6:JB$7,II32)+COUNTIF(II$10:JB$10,II32)+COUNTIF(II$13:JB$13,II32)+COUNTIF(II$16:JB$16,II32)+COUNTIF(II$19:JB$19,II32)+COUNTIF(II$22:JB$22,II32)+COUNTIF(II$25:JB$25,II32))/設定!$D23+IFERROR((COUNTIF(II$6:JB$7,処理!$L4)+COUNTIF(II$10:JB$10,処理!$L4)+COUNTIF(II$13:JB$13,処理!$L4)+COUNTIF(II$16:JB$16,処理!$L4)+COUNTIF(II$19:JB$19,処理!$L4)+COUNTIF(II$22:JB$22,処理!$L4)+COUNTIF(II$25:JB$25,処理!$L4))/処理!$M4,0))","v":""},"",{"$f":"$G$32","v":""},null,{"$f":"IF(LEN(IM32)=0,\"\",(COUNTIF(II$6:JB$7,IM32)+COUNTIF(II$10:JB$10,IM32)+COUNTIF(II$13:JB$13,IM32)+COUNTIF(II$16:JB$16,IM32)+COUNTIF(II$19:JB$19,IM32)+COUNTIF(II$22:JB$22,IM32)+COUNTIF(II$25:JB$25,IM32))/設定!$G23+IFERROR((COUNTIF(II$6:JB$7,処理!$L10)+COUNTIF(II$10:JB$10,処理!$L10)+COUNTIF(II$13:JB$13,処理!$L10)+COUNTIF(II$16:JB$16,処理!$L10)+COUNTIF(II$19:JB$19,処理!$L10)+COUNTIF(II$22:JB$22,処理!$L10)+COUNTIF(II$25:JB$25,処理!$L10))/処理!$M10,0))","v":""},"",{"$f":"$K$32","v":""},null,{"$f":"IF(LEN(IQ32)=0,\"\",(COUNTIF(II$6:JB$7,IQ32)+COUNTIF(II$10:JB$10,IQ32)+COUNTIF(II$13:JB$13,IQ32)+COUNTIF(II$16:JB$16,IQ32)+COUNTIF(II$19:JB$19,IQ32)+COUNTIF(II$22:JB$22,IQ32)+COUNTIF(II$25:JB$25,IQ32))/設定!$J23+IFERROR((COUNTIF(II$6:JB$7,処理!$L16)+COUNTIF(II$10:JB$10,処理!$L16)+COUNTIF(II$13:JB$13,処理!$L16)+COUNTIF(II$16:JB$16,処理!$L16)+COUNTIF(II$19:JB$19,処理!$L16)+COUNTIF(II$22:JB$22,処理!$L16)+COUNTIF(II$25:JB$25,処理!$L16))/処理!$M16,0))","v":""},"",{"$f":"$O$32","v":""},null,{"$f":"IF(LEN(IU32)=0,\"\",(COUNTIF(II$6:JB$7,IU32)+COUNTIF(II$10:JB$10,IU32)+COUNTIF(II$13:JB$13,IU32)+COUNTIF(II$16:JB$16,IU32)+COUNTIF(II$19:JB$19,IU32)+COUNTIF(II$22:JB$22,IU32)+COUNTIF(II$25:JB$25,IU32))/設定!$M23+IFERROR((COUNTIF(II$6:JB$7,処理!$L22)+COUNTIF(II$10:JB$10,処理!$L22)+COUNTIF(II$13:JB$13,処理!$L22)+COUNTIF(II$16:JB$16,処理!$L22)+COUNTIF(II$19:JB$19,処理!$L22)+COUNTIF(II$22:JB$22,処理!$L22)+COUNTIF(II$25:JB$25,処理!$L22))/処理!$M22,0))","v":""},"",{"$f":"$S$32","v":""},null,{"$f":"IF(LEN(IY32)=0,\"\",COUNTIF(II$6:JB$7,IY32)+COUNTIF(II$10:JB$10,IY32)+COUNTIF(II$13:JB$13,IY32)+COUNTIF(II$16:JB$16,IY32)+COUNTIF(II$19:JB$19,IY32)+COUNTIF(II$22:JB$22,IY32)+COUNTIF(II$25:JB$25,IY32))","v":""},"",{"$f":"$C$32","v":""},null,{"$f":"IF(LEN(JC32)=0,\"\",(COUNTIF(JC$6:JV$7,JC32)+COUNTIF(JC$10:JV$10,JC32)+COUNTIF(JC$13:JV$13,JC32)+COUNTIF(JC$16:JV$16,JC32)+COUNTIF(JC$19:JV$19,JC32)+COUNTIF(JC$22:JV$22,JC32)+COUNTIF(JC$25:JV$25,JC32))/設定!$D23+IFERROR((COUNTIF(JC$6:JV$7,処理!$L4)+COUNTIF(JC$10:JV$10,処理!$L4)+COUNTIF(JC$13:JV$13,処理!$L4)+COUNTIF(JC$16:JV$16,処理!$L4)+COUNTIF(JC$19:JV$19,処理!$L4)+COUNTIF(JC$22:JV$22,処理!$L4)+COUNTIF(JC$25:JV$25,処理!$L4))/処理!$M4,0))","v":""},"",{"$f":"$G$32","v":""},null,{"$f":"IF(LEN(JG32)=0,\"\",(COUNTIF(JC$6:JV$7,JG32)+COUNTIF(JC$10:JV$10,JG32)+COUNTIF(JC$13:JV$13,JG32)+COUNTIF(JC$16:JV$16,JG32)+COUNTIF(JC$19:JV$19,JG32)+COUNTIF(JC$22:JV$22,JG32)+COUNTIF(JC$25:JV$25,JG32))/設定!$G23+IFERROR((COUNTIF(JC$6:JV$7,処理!$L10)+COUNTIF(JC$10:JV$10,処理!$L10)+COUNTIF(JC$13:JV$13,処理!$L10)+COUNTIF(JC$16:JV$16,処理!$L10)+COUNTIF(JC$19:JV$19,処理!$L10)+COUNTIF(JC$22:JV$22,処理!$L10)+COUNTIF(JC$25:JV$25,処理!$L10))/処理!$M10,0))","v":""},"",{"$f":"$K$32","v":""},null,{"$f":"IF(LEN(JK32)=0,\"\",(COUNTIF(JC$6:JV$7,JK32)+COUNTIF(JC$10:JV$10,JK32)+COUNTIF(JC$13:JV$13,JK32)+COUNTIF(JC$16:JV$16,JK32)+COUNTIF(JC$19:JV$19,JK32)+COUNTIF(JC$22:JV$22,JK32)+COUNTIF(JC$25:JV$25,JK32))/設定!$J23+IFERROR((COUNTIF(JC$6:JV$7,処理!$L16)+COUNTIF(JC$10:JV$10,処理!$L16)+COUNTIF(JC$13:JV$13,処理!$L16)+COUNTIF(JC$16:JV$16,処理!$L16)+COUNTIF(JC$19:JV$19,処理!$L16)+COUNTIF(JC$22:JV$22,処理!$L16)+COUNTIF(JC$25:JV$25,処理!$L16))/処理!$M16,0))","v":""},"",{"$f":"$O$32","v":""},null,{"$f":"IF(LEN(JO32)=0,\"\",(COUNTIF(JC$6:JV$7,JO32)+COUNTIF(JC$10:JV$10,JO32)+COUNTIF(JC$13:JV$13,JO32)+COUNTIF(JC$16:JV$16,JO32)+COUNTIF(JC$19:JV$19,JO32)+COUNTIF(JC$22:JV$22,JO32)+COUNTIF(JC$25:JV$25,JO32))/設定!$M23+IFERROR((COUNTIF(JC$6:JV$7,処理!$L22)+COUNTIF(JC$10:JV$10,処理!$L22)+COUNTIF(JC$13:JV$13,処理!$L22)+COUNTIF(JC$16:JV$16,処理!$L22)+COUNTIF(JC$19:JV$19,処理!$L22)+COUNTIF(JC$22:JV$22,処理!$L22)+COUNTIF(JC$25:JV$25,処理!$L22))/処理!$M22,0))","v":""},"",{"$f":"$S$32","v":""},null,{"$f":"IF(LEN(JS32)=0,\"\",COUNTIF(JC$6:JV$7,JS32)+COUNTIF(JC$10:JV$10,JS32)+COUNTIF(JC$13:JV$13,JS32)+COUNTIF(JC$16:JV$16,JS32)+COUNTIF(JC$19:JV$19,JS32)+COUNTIF(JC$22:JV$22,JS32)+COUNTIF(JC$25:JV$25,JS32))","v":""},"",{"$f":"$C$32","v":""},null,{"$f":"IF(LEN(JW32)=0,\"\",(COUNTIF(JW$6:KP$7,JW32)+COUNTIF(JW$10:KP$10,JW32)+COUNTIF(JW$13:KP$13,JW32)+COUNTIF(JW$16:KP$16,JW32)+COUNTIF(JW$19:KP$19,JW32)+COUNTIF(JW$22:KP$22,JW32)+COUNTIF(JW$25:KP$25,JW32))/設定!$D23+IFERROR((COUNTIF(JW$6:KP$7,処理!$L4)+COUNTIF(JW$10:KP$10,処理!$L4)+COUNTIF(JW$13:KP$13,処理!$L4)+COUNTIF(JW$16:KP$16,処理!$L4)+COUNTIF(JW$19:KP$19,処理!$L4)+COUNTIF(JW$22:KP$22,処理!$L4)+COUNTIF(JW$25:KP$25,処理!$L4))/処理!$M4,0))","v":""},"",{"$f":"$G$32","v":""},null,{"$f":"IF(LEN(KA32)=0,\"\",(COUNTIF(JW$6:KP$7,KA32)+COUNTIF(JW$10:KP$10,KA32)+COUNTIF(JW$13:KP$13,KA32)+COUNTIF(JW$16:KP$16,KA32)+COUNTIF(JW$19:KP$19,KA32)+COUNTIF(JW$22:KP$22,KA32)+COUNTIF(JW$25:KP$25,KA32))/設定!$G23+IFERROR((COUNTIF(JW$6:KP$7,処理!$L10)+COUNTIF(JW$10:KP$10,処理!$L10)+COUNTIF(JW$13:KP$13,処理!$L10)+COUNTIF(JW$16:KP$16,処理!$L10)+COUNTIF(JW$19:KP$19,処理!$L10)+COUNTIF(JW$22:KP$22,処理!$L10)+COUNTIF(JW$25:KP$25,処理!$L10))/処理!$M10,0))","v":""},"",{"$f":"$K$32","v":""},null,{"$f":"IF(LEN(KE32)=0,\"\",(COUNTIF(JW$6:KP$7,KE32)+COUNTIF(JW$10:KP$10,KE32)+COUNTIF(JW$13:KP$13,KE32)+COUNTIF(JW$16:KP$16,KE32)+COUNTIF(JW$19:KP$19,KE32)+COUNTIF(JW$22:KP$22,KE32)+COUNTIF(JW$25:KP$25,KE32))/設定!$J23+IFERROR((COUNTIF(JW$6:KP$7,処理!$L16)+COUNTIF(JW$10:KP$10,処理!$L16)+COUNTIF(JW$13:KP$13,処理!$L16)+COUNTIF(JW$16:KP$16,処理!$L16)+COUNTIF(JW$19:KP$19,処理!$L16)+COUNTIF(JW$22:KP$22,処理!$L16)+COUNTIF(JW$25:KP$25,処理!$L16))/処理!$M16,0))","v":""},"",{"$f":"$O$32","v":""},null,{"$f":"IF(LEN(KI32)=0,\"\",(COUNTIF(JW$6:KP$7,KI32)+COUNTIF(JW$10:KP$10,KI32)+COUNTIF(JW$13:KP$13,KI32)+COUNTIF(JW$16:KP$16,KI32)+COUNTIF(JW$19:KP$19,KI32)+COUNTIF(JW$22:KP$22,KI32)+COUNTIF(JW$25:KP$25,KI32))/設定!$M23+IFERROR((COUNTIF(JW$6:KP$7,処理!$L22)+COUNTIF(JW$10:KP$10,処理!$L22)+COUNTIF(JW$13:KP$13,処理!$L22)+COUNTIF(JW$16:KP$16,処理!$L22)+COUNTIF(JW$19:KP$19,処理!$L22)+COUNTIF(JW$22:KP$22,処理!$L22)+COUNTIF(JW$25:KP$25,処理!$L22))/処理!$M22,0))","v":""},"",{"$f":"$S$32","v":""},null,{"$f":"IF(LEN(KM32)=0,\"\",COUNTIF(JW$6:KP$7,KM32)+COUNTIF(JW$10:KP$10,KM32)+COUNTIF(JW$13:KP$13,KM32)+COUNTIF(JW$16:KP$16,KM32)+COUNTIF(JW$19:KP$19,KM32)+COUNTIF(JW$22:KP$22,KM32)+COUNTIF(JW$25:KP$25,KM32))","v":""},"",{"$f":"$C$32","v":""},null,{"$f":"IF(LEN(KQ32)=0,\"\",(COUNTIF(KQ$6:LJ$7,KQ32)+COUNTIF(KQ$10:LJ$10,KQ32)+COUNTIF(KQ$13:LJ$13,KQ32)+COUNTIF(KQ$16:LJ$16,KQ32)+COUNTIF(KQ$19:LJ$19,KQ32)+COUNTIF(KQ$22:LJ$22,KQ32)+COUNTIF(KQ$25:LJ$25,KQ32))/設定!$D23+IFERROR((COUNTIF(KQ$6:LJ$7,処理!$L4)+COUNTIF(KQ$10:LJ$10,処理!$L4)+COUNTIF(KQ$13:LJ$13,処理!$L4)+COUNTIF(KQ$16:LJ$16,処理!$L4)+COUNTIF(KQ$19:LJ$19,処理!$L4)+COUNTIF(KQ$22:LJ$22,処理!$L4)+COUNTIF(KQ$25:LJ$25,処理!$L4))/処理!$M4,0))","v":""},"",{"$f":"$G$32","v":""},null,{"$f":"IF(LEN(KU32)=0,\"\",(COUNTIF(KQ$6:LJ$7,KU32)+COUNTIF(KQ$10:LJ$10,KU32)+COUNTIF(KQ$13:LJ$13,KU32)+COUNTIF(KQ$16:LJ$16,KU32)+COUNTIF(KQ$19:LJ$19,KU32)+COUNTIF(KQ$22:LJ$22,KU32)+COUNTIF(KQ$25:LJ$25,KU32))/設定!$G23+IFERROR((COUNTIF(KQ$6:LJ$7,処理!$L10)+COUNTIF(KQ$10:LJ$10,処理!$L10)+COUNTIF(KQ$13:LJ$13,処理!$L10)+COUNTIF(KQ$16:LJ$16,処理!$L10)+COUNTIF(KQ$19:LJ$19,処理!$L10)+COUNTIF(KQ$22:LJ$22,処理!$L10)+COUNTIF(KQ$25:LJ$25,処理!$L10))/処理!$M10,0))","v":""},"",{"$f":"$K$32","v":""},null,{"$f":"IF(LEN(KY32)=0,\"\",(COUNTIF(KQ$6:LJ$7,KY32)+COUNTIF(KQ$10:LJ$10,KY32)+COUNTIF(KQ$13:LJ$13,KY32)+COUNTIF(KQ$16:LJ$16,KY32)+COUNTIF(KQ$19:LJ$19,KY32)+COUNTIF(KQ$22:LJ$22,KY32)+COUNTIF(KQ$25:LJ$25,KY32))/設定!$J23+IFERROR((COUNTIF(KQ$6:LJ$7,処理!$L16)+COUNTIF(KQ$10:LJ$10,処理!$L16)+COUNTIF(KQ$13:LJ$13,処理!$L16)+COUNTIF(KQ$16:LJ$16,処理!$L16)+COUNTIF(KQ$19:LJ$19,処理!$L16)+COUNTIF(KQ$22:LJ$22,処理!$L16)+COUNTIF(KQ$25:LJ$25,処理!$L16))/処理!$M16,0))","v":""},"",{"$f":"$O$32","v":""},null,{"$f":"IF(LEN(LC32)=0,\"\",(COUNTIF(KQ$6:LJ$7,LC32)+COUNTIF(KQ$10:LJ$10,LC32)+COUNTIF(KQ$13:LJ$13,LC32)+COUNTIF(KQ$16:LJ$16,LC32)+COUNTIF(KQ$19:LJ$19,LC32)+COUNTIF(KQ$22:LJ$22,LC32)+COUNTIF(KQ$25:LJ$25,LC32))/設定!$M23+IFERROR((COUNTIF(KQ$6:LJ$7,処理!$L22)+COUNTIF(KQ$10:LJ$10,処理!$L22)+COUNTIF(KQ$13:LJ$13,処理!$L22)+COUNTIF(KQ$16:LJ$16,処理!$L22)+COUNTIF(KQ$19:LJ$19,処理!$L22)+COUNTIF(KQ$22:LJ$22,処理!$L22)+COUNTIF(KQ$25:LJ$25,処理!$L22))/処理!$M22,0))","v":""},"",{"$f":"$S$32","v":""},null,{"$f":"IF(LEN(LG32)=0,\"\",COUNTIF(KQ$6:LJ$7,LG32)+COUNTIF(KQ$10:LJ$10,LG32)+COUNTIF(KQ$13:LJ$13,LG32)+COUNTIF(KQ$16:LJ$16,LG32)+COUNTIF(KQ$19:LJ$19,LG32)+COUNTIF(KQ$22:LJ$22,LG32)+COUNTIF(KQ$25:LJ$25,LG32))","v":""},"",{"$f":"$C$32","v":""},null,{"$f":"IF(LEN(LK32)=0,\"\",(COUNTIF(LK$6:MD$7,LK32)+COUNTIF(LK$10:MD$10,LK32)+COUNTIF(LK$13:MD$13,LK32)+COUNTIF(LK$16:MD$16,LK32)+COUNTIF(LK$19:MD$19,LK32)+COUNTIF(LK$22:MD$22,LK32)+COUNTIF(LK$25:MD$25,LK32))/設定!$D23+IFERROR((COUNTIF(LK$6:MD$7,処理!$L4)+COUNTIF(LK$10:MD$10,処理!$L4)+COUNTIF(LK$13:MD$13,処理!$L4)+COUNTIF(LK$16:MD$16,処理!$L4)+COUNTIF(LK$19:MD$19,処理!$L4)+COUNTIF(LK$22:MD$22,処理!$L4)+COUNTIF(LK$25:MD$25,処理!$L4))/処理!$M4,0))","v":""},"",{"$f":"$G$32","v":""},null,{"$f":"IF(LEN(LO32)=0,\"\",(COUNTIF(LK$6:MD$7,LO32)+COUNTIF(LK$10:MD$10,LO32)+COUNTIF(LK$13:MD$13,LO32)+COUNTIF(LK$16:MD$16,LO32)+COUNTIF(LK$19:MD$19,LO32)+COUNTIF(LK$22:MD$22,LO32)+COUNTIF(LK$25:MD$25,LO32))/設定!$G23+IFERROR((COUNTIF(LK$6:MD$7,処理!$L10)+COUNTIF(LK$10:MD$10,処理!$L10)+COUNTIF(LK$13:MD$13,処理!$L10)+COUNTIF(LK$16:MD$16,処理!$L10)+COUNTIF(LK$19:MD$19,処理!$L10)+COUNTIF(LK$22:MD$22,処理!$L10)+COUNTIF(LK$25:MD$25,処理!$L10))/処理!$M10,0))","v":""},"",{"$f":"$K$32","v":""},null,{"$f":"IF(LEN(LS32)=0,\"\",(COUNTIF(LK$6:MD$7,LS32)+COUNTIF(LK$10:MD$10,LS32)+COUNTIF(LK$13:MD$13,LS32)+COUNTIF(LK$16:MD$16,LS32)+COUNTIF(LK$19:MD$19,LS32)+COUNTIF(LK$22:MD$22,LS32)+COUNTIF(LK$25:MD$25,LS32))/設定!$J23+IFERROR((COUNTIF(LK$6:MD$7,処理!$L16)+COUNTIF(LK$10:MD$10,処理!$L16)+COUNTIF(LK$13:MD$13,処理!$L16)+COUNTIF(LK$16:MD$16,処理!$L16)+COUNTIF(LK$19:MD$19,処理!$L16)+COUNTIF(LK$22:MD$22,処理!$L16)+COUNTIF(LK$25:MD$25,処理!$L16))/処理!$M16,0))","v":""},"",{"$f":"$O$32","v":""},null,{"$f":"IF(LEN(LW32)=0,\"\",(COUNTIF(LK$6:MD$7,LW32)+COUNTIF(LK$10:MD$10,LW32)+COUNTIF(LK$13:MD$13,LW32)+COUNTIF(LK$16:MD$16,LW32)+COUNTIF(LK$19:MD$19,LW32)+COUNTIF(LK$22:MD$22,LW32)+COUNTIF(LK$25:MD$25,LW32))/設定!$M23+IFERROR((COUNTIF(LK$6:MD$7,処理!$L22)+COUNTIF(LK$10:MD$10,処理!$L22)+COUNTIF(LK$13:MD$13,処理!$L22)+COUNTIF(LK$16:MD$16,処理!$L22)+COUNTIF(LK$19:MD$19,処理!$L22)+COUNTIF(LK$22:MD$22,処理!$L22)+COUNTIF(LK$25:MD$25,処理!$L22))/処理!$M22,0))","v":""},"",{"$f":"$S$32","v":""},null,{"$f":"IF(LEN(MA32)=0,\"\",COUNTIF(LK$6:MD$7,MA32)+COUNTIF(LK$10:MD$10,MA32)+COUNTIF(LK$13:MD$13,MA32)+COUNTIF(LK$16:MD$16,MA32)+COUNTIF(LK$19:MD$19,MA32)+COUNTIF(LK$22:MD$22,MA32)+COUNTIF(LK$25:MD$25,MA32))","v":""},""]
[null,null,{"$f":"IF(COUNTIF(処理!$J$2:$J$25,3)>0,処理!H5,\"\")","v":""},null,{"$f":"IF(LEN(C33)=0,\"\",(COUNTIF(C$6:V$7,C33)+COUNTIF(C$10:V$10,C33)+COUNTIF(C$13:V$13,C33)+COUNTIF(C$16:V$16,C33)+COUNTIF(C$19:V$19,C33)+COUNTIF(C$22:V$22,C33)+COUNTIF(C$25:V$25,C33))/設定!$D24+IFERROR((COUNTIF(C$6:V$7,処理!$L5)+COUNTIF(C$10:V$10,処理!$L5)+COUNTIF(C$13:V$13,処理!$L5)+COUNTIF(C$16:V$16,処理!$L5)+COUNTIF(C$19:V$19,処理!$L5)+COUNTIF(C$22:V$22,処理!$L5)+COUNTIF(C$25:V$25,処理!$L5))/処理!$M5,0))","v":""},"",{"$f":"IF(COUNTIF(処理!$J$2:$J$25,9)>0,処理!H11,\"\")","v":""},null,{"$f":"IF(LEN(G33)=0,\"\",(COUNTIF(C$6:V$7,G33)+COUNTIF(C$10:V$10,G33)+COUNTIF(C$13:V$13,G33)+COUNTIF(C$16:V$16,G33)+COUNTIF(C$19:V$19,G33)+COUNTIF(C$22:V$22,G33)+COUNTIF(C$25:V$25,G33))/設定!$G24+IFERROR((COUNTIF(C$6:V$7,処理!$L11)+COUNTIF(C$10:V$10,処理!$L11)+COUNTIF(C$13:V$13,処理!$L11)+COUNTIF(C$16:V$16,処理!$L11)+COUNTIF(C$19:V$19,処理!$L11)+COUNTIF(C$22:V$22,処理!$L11)+COUNTIF(C$25:V$25,処理!$L11))/処理!$M11,0))","v":""},"",{"$f":"IF(COUNTIF(処理!$J$2:$J$25,15)>0,処理!H17,\"\")","v":""},null,{"$f":"IF(LEN(K33)=0,\"\",(COUNTIF(C$6:V$7,K33)+COUNTIF(C$10:V$10,K33)+COUNTIF(C$13:V$13,K33)+COUNTIF(C$16:V$16,K33)+COUNTIF(C$19:V$19,K33)+COUNTIF(C$22:V$22,K33)+COUNTIF(C$25:V$25,K33))/設定!$J24+IFERROR((COUNTIF(C$6:V$7,処理!$L17)+COUNTIF(C$10:V$10,処理!$L17)+COUNTIF(C$13:V$13,処理!$L17)+COUNTIF(C$16:V$16,処理!$L17)+COUNTIF(C$19:V$19,処理!$L17)+COUNTIF(C$22:V$22,処理!$L17)+COUNTIF(C$25:V$25,処理!$L17))/処理!$M17,0))","v":""},"",{"$f":"IF(COUNTIF(処理!$J$2:$J$25,21)>0,処理!H23,\"\")","v":""},null,{"$f":"IF(LEN(O33)=0,\"\",(COUNTIF(C$6:V$7,O33)+COUNTIF(C$10:V$10,O33)+COUNTIF(C$13:V$13,O33)+COUNTIF(C$16:V$16,O33)+COUNTIF(C$19:V$19,O33)+COUNTIF(C$22:V$22,O33)+COUNTIF(C$25:V$25,O33))/設定!$M24+IFERROR((COUNTIF(C$6:V$7,処理!$L23)+COUNTIF(C$10:V$10,処理!$L23)+COUNTIF(C$13:V$13,処理!$L23)+COUNTIF(C$16:V$16,処理!$L23)+COUNTIF(C$19:V$19,処理!$L23)+COUNTIF(C$22:V$22,処理!$L23)+COUNTIF(C$25:V$25,処理!$L23))/処理!$M23,0))","v":""},"",{"$f":"処理!H29&\"\"","v":""},null,"","",{"$f":"$C$33","v":""},null,{"$f":"IF(LEN(W33)=0,\"\",(COUNTIF(W$6:AP$7,W33)+COUNTIF(W$10:AP$10,W33)+COUNTIF(W$13:AP$13,W33)+COUNTIF(W$16:AP$16,W33)+COUNTIF(W$19:AP$19,W33)+COUNTIF(W$22:AP$22,W33)+COUNTIF(W$25:AP$25,W33))/設定!$D24+IFERROR((COUNTIF(W$6:AP$7,処理!$L5)+COUNTIF(W$10:AP$10,処理!$L5)+COUNTIF(W$13:AP$13,処理!$L5)+COUNTIF(W$16:AP$16,処理!$L5)+COUNTIF(W$19:AP$19,処理!$L5)+COUNTIF(W$22:AP$22,処理!$L5)+COUNTIF(W$25:AP$25,処理!$L5))/処理!$M5,0))","v":""},"",{"$f":"$G$33","v":""},null,{"$f":"IF(LEN(AA33)=0,\"\",(COUNTIF(W$6:AP$7,AA33)+COUNTIF(W$10:AP$10,AA33)+COUNTIF(W$13:AP$13,AA33)+COUNTIF(W$16:AP$16,AA33)+COUNTIF(W$19:AP$19,AA33)+COUNTIF(W$22:AP$22,AA33)+COUNTIF(W$25:AP$25,AA33))/設定!$G24+IFERROR((COUNTIF(W$6:AP$7,処理!$L11)+COUNTIF(W$10:AP$10,処理!$L11)+COUNTIF(W$13:AP$13,処理!$L11)+COUNTIF(W$16:AP$16,処理!$L11)+COUNTIF(W$19:AP$19,処理!$L11)+COUNTIF(W$22:AP$22,処理!$L11)+COUNTIF(W$25:AP$25,処理!$L11))/処理!$M11,0))","v":""},"",{"$f":"$K$33","v":""},null,{"$f":"IF(LEN(AE33)=0,\"\",(COUNTIF(W$6:AP$7,AE33)+COUNTIF(W$10:AP$10,AE33)+COUNTIF(W$13:AP$13,AE33)+COUNTIF(W$16:AP$16,AE33)+COUNTIF(W$19:AP$19,AE33)+COUNTIF(W$22:AP$22,AE33)+COUNTIF(W$25:AP$25,AE33))/設定!$J24+IFERROR((COUNTIF(W$6:AP$7,処理!$L17)+COUNTIF(W$10:AP$10,処理!$L17)+COUNTIF(W$13:AP$13,処理!$L17)+COUNTIF(W$16:AP$16,処理!$L17)+COUNTIF(W$19:AP$19,処理!$L17)+COUNTIF(W$22:AP$22,処理!$L17)+COUNTIF(W$25:AP$25,処理!$L17))/処理!$M17,0))","v":""},"",{"$f":"$O$33","v":""},null,{"$f":"IF(LEN(AI33)=0,\"\",(COUNTIF(W$6:AP$7,AI33)+COUNTIF(W$10:AP$10,AI33)+COUNTIF(W$13:AP$13,AI33)+COUNTIF(W$16:AP$16,AI33)+COUNTIF(W$19:AP$19,AI33)+COUNTIF(W$22:AP$22,AI33)+COUNTIF(W$25:AP$25,AI33))/設定!$M24+IFERROR((COUNTIF(W$6:AP$7,処理!$L23)+COUNTIF(W$10:AP$10,処理!$L23)+COUNTIF(W$13:AP$13,処理!$L23)+COUNTIF(W$16:AP$16,処理!$L23)+COUNTIF(W$19:AP$19,処理!$L23)+COUNTIF(W$22:AP$22,処理!$L23)+COUNTIF(W$25:AP$25,処理!$L23))/処理!$M23,0))","v":""},"",{"$f":"$S$33","v":""},null,"","",{"$f":"$C$33","v":""},null,{"$f":"IF(LEN(AQ33)=0,\"\",(COUNTIF(AQ$6:BJ$7,AQ33)+COUNTIF(AQ$10:BJ$10,AQ33)+COUNTIF(AQ$13:BJ$13,AQ33)+COUNTIF(AQ$16:BJ$16,AQ33)+COUNTIF(AQ$19:BJ$19,AQ33)+COUNTIF(AQ$22:BJ$22,AQ33)+COUNTIF(AQ$25:BJ$25,AQ33))/設定!$D24+IFERROR((COUNTIF(AQ$6:BJ$7,処理!$L5)+COUNTIF(AQ$10:BJ$10,処理!$L5)+COUNTIF(AQ$13:BJ$13,処理!$L5)+COUNTIF(AQ$16:BJ$16,処理!$L5)+COUNTIF(AQ$19:BJ$19,処理!$L5)+COUNTIF(AQ$22:BJ$22,処理!$L5)+COUNTIF(AQ$25:BJ$25,処理!$L5))/処理!$M5,0))","v":""},"",{"$f":"$G$33","v":""},null,{"$f":"IF(LEN(AU33)=0,\"\",(COUNTIF(AQ$6:BJ$7,AU33)+COUNTIF(AQ$10:BJ$10,AU33)+COUNTIF(AQ$13:BJ$13,AU33)+COUNTIF(AQ$16:BJ$16,AU33)+COUNTIF(AQ$19:BJ$19,AU33)+COUNTIF(AQ$22:BJ$22,AU33)+COUNTIF(AQ$25:BJ$25,AU33))/設定!$G24+IFERROR((COUNTIF(AQ$6:BJ$7,処理!$L11)+COUNTIF(AQ$10:BJ$10,処理!$L11)+COUNTIF(AQ$13:BJ$13,処理!$L11)+COUNTIF(AQ$16:BJ$16,処理!$L11)+COUNTIF(AQ$19:BJ$19,処理!$L11)+COUNTIF(AQ$22:BJ$22,処理!$L11)+COUNTIF(AQ$25:BJ$25,処理!$L11))/処理!$M11,0))","v":""},"",{"$f":"$K$33","v":""},null,{"$f":"IF(LEN(AY33)=0,\"\",(COUNTIF(AQ$6:BJ$7,AY33)+COUNTIF(AQ$10:BJ$10,AY33)+COUNTIF(AQ$13:BJ$13,AY33)+COUNTIF(AQ$16:BJ$16,AY33)+COUNTIF(AQ$19:BJ$19,AY33)+COUNTIF(AQ$22:BJ$22,AY33)+COUNTIF(AQ$25:BJ$25,AY33))/設定!$J24+IFERROR((COUNTIF(AQ$6:BJ$7,処理!$L17)+COUNTIF(AQ$10:BJ$10,処理!$L17)+COUNTIF(AQ$13:BJ$13,処理!$L17)+COUNTIF(AQ$16:BJ$16,処理!$L17)+COUNTIF(AQ$19:BJ$19,処理!$L17)+COUNTIF(AQ$22:BJ$22,処理!$L17)+COUNTIF(AQ$25:BJ$25,処理!$L17))/処理!$M17,0))","v":""},"",{"$f":"$O$33","v":""},null,{"$f":"IF(LEN(BC33)=0,\"\",(COUNTIF(AQ$6:BJ$7,BC33)+COUNTIF(AQ$10:BJ$10,BC33)+COUNTIF(AQ$13:BJ$13,BC33)+COUNTIF(AQ$16:BJ$16,BC33)+COUNTIF(AQ$19:BJ$19,BC33)+COUNTIF(AQ$22:BJ$22,BC33)+COUNTIF(AQ$25:BJ$25,BC33))/設定!$M24+IFERROR((COUNTIF(AQ$6:BJ$7,処理!$L23)+COUNTIF(AQ$10:BJ$10,処理!$L23)+COUNTIF(AQ$13:BJ$13,処理!$L23)+COUNTIF(AQ$16:BJ$16,処理!$L23)+COUNTIF(AQ$19:BJ$19,処理!$L23)+COUNTIF(AQ$22:BJ$22,処理!$L23)+COUNTIF(AQ$25:BJ$25,処理!$L23))/処理!$M23,0))","v":""},"",{"$f":"$S$33","v":""},null,"","",{"$f":"$C$33","v":""},null,{"$f":"IF(LEN(BK33)=0,\"\",(COUNTIF(BK$6:CD$7,BK33)+COUNTIF(BK$10:CD$10,BK33)+COUNTIF(BK$13:CD$13,BK33)+COUNTIF(BK$16:CD$16,BK33)+COUNTIF(BK$19:CD$19,BK33)+COUNTIF(BK$22:CD$22,BK33)+COUNTIF(BK$25:CD$25,BK33))/設定!$D24+IFERROR((COUNTIF(BK$6:CD$7,処理!$L5)+COUNTIF(BK$10:CD$10,処理!$L5)+COUNTIF(BK$13:CD$13,処理!$L5)+COUNTIF(BK$16:CD$16,処理!$L5)+COUNTIF(BK$19:CD$19,処理!$L5)+COUNTIF(BK$22:CD$22,処理!$L5)+COUNTIF(BK$25:CD$25,処理!$L5))/処理!$M5,0))","v":""},"",{"$f":"$G$33","v":""},null,{"$f":"IF(LEN(BO33)=0,\"\",(COUNTIF(BK$6:CD$7,BO33)+COUNTIF(BK$10:CD$10,BO33)+COUNTIF(BK$13:CD$13,BO33)+COUNTIF(BK$16:CD$16,BO33)+COUNTIF(BK$19:CD$19,BO33)+COUNTIF(BK$22:CD$22,BO33)+COUNTIF(BK$25:CD$25,BO33))/設定!$G24+IFERROR((COUNTIF(BK$6:CD$7,処理!$L11)+COUNTIF(BK$10:CD$10,処理!$L11)+COUNTIF(BK$13:CD$13,処理!$L11)+COUNTIF(BK$16:CD$16,処理!$L11)+COUNTIF(BK$19:CD$19,処理!$L11)+COUNTIF(BK$22:CD$22,処理!$L11)+COUNTIF(BK$25:CD$25,処理!$L11))/処理!$M11,0))","v":""},"",{"$f":"$K$33","v":""},null,{"$f":"IF(LEN(BS33)=0,\"\",(COUNTIF(BK$6:CD$7,BS33)+COUNTIF(BK$10:CD$10,BS33)+COUNTIF(BK$13:CD$13,BS33)+COUNTIF(BK$16:CD$16,BS33)+COUNTIF(BK$19:CD$19,BS33)+COUNTIF(BK$22:CD$22,BS33)+COUNTIF(BK$25:CD$25,BS33))/設定!$J24+IFERROR((COUNTIF(BK$6:CD$7,処理!$L17)+COUNTIF(BK$10:CD$10,処理!$L17)+COUNTIF(BK$13:CD$13,処理!$L17)+COUNTIF(BK$16:CD$16,処理!$L17)+COUNTIF(BK$19:CD$19,処理!$L17)+COUNTIF(BK$22:CD$22,処理!$L17)+COUNTIF(BK$25:CD$25,処理!$L17))/処理!$M17,0))","v":""},"",{"$f":"$O$33","v":""},null,{"$f":"IF(LEN(BW33)=0,\"\",(COUNTIF(BK$6:CD$7,BW33)+COUNTIF(BK$10:CD$10,BW33)+COUNTIF(BK$13:CD$13,BW33)+COUNTIF(BK$16:CD$16,BW33)+COUNTIF(BK$19:CD$19,BW33)+COUNTIF(BK$22:CD$22,BW33)+COUNTIF(BK$25:CD$25,BW33))/設定!$M24+IFERROR((COUNTIF(BK$6:CD$7,処理!$L23)+COUNTIF(BK$10:CD$10,処理!$L23)+COUNTIF(BK$13:CD$13,処理!$L23)+COUNTIF(BK$16:CD$16,処理!$L23)+COUNTIF(BK$19:CD$19,処理!$L23)+COUNTIF(BK$22:CD$22,処理!$L23)+COUNTIF(BK$25:CD$25,処理!$L23))/処理!$M23,0))","v":""},"",{"$f":"$S$33","v":""},null,"","",{"$f":"$C$33","v":""},null,{"$f":"IF(LEN(CE33)=0,\"\",(COUNTIF(CE$6:CX$7,CE33)+COUNTIF(CE$10:CX$10,CE33)+COUNTIF(CE$13:CX$13,CE33)+COUNTIF(CE$16:CX$16,CE33)+COUNTIF(CE$19:CX$19,CE33)+COUNTIF(CE$22:CX$22,CE33)+COUNTIF(CE$25:CX$25,CE33))/設定!$D24+IFERROR((COUNTIF(CE$6:CX$7,処理!$L5)+COUNTIF(CE$10:CX$10,処理!$L5)+COUNTIF(CE$13:CX$13,処理!$L5)+COUNTIF(CE$16:CX$16,処理!$L5)+COUNTIF(CE$19:CX$19,処理!$L5)+COUNTIF(CE$22:CX$22,処理!$L5)+COUNTIF(CE$25:CX$25,処理!$L5))/処理!$M5,0))","v":""},"",{"$f":"$G$33","v":""},null,{"$f":"IF(LEN(CI33)=0,\"\",(COUNTIF(CE$6:CX$7,CI33)+COUNTIF(CE$10:CX$10,CI33)+COUNTIF(CE$13:CX$13,CI33)+COUNTIF(CE$16:CX$16,CI33)+COUNTIF(CE$19:CX$19,CI33)+COUNTIF(CE$22:CX$22,CI33)+COUNTIF(CE$25:CX$25,CI33))/設定!$G24+IFERROR((COUNTIF(CE$6:CX$7,処理!$L11)+COUNTIF(CE$10:CX$10,処理!$L11)+COUNTIF(CE$13:CX$13,処理!$L11)+COUNTIF(CE$16:CX$16,処理!$L11)+COUNTIF(CE$19:CX$19,処理!$L11)+COUNTIF(CE$22:CX$22,処理!$L11)+COUNTIF(CE$25:CX$25,処理!$L11))/処理!$M11,0))","v":""},"",{"$f":"$K$33","v":""},null,{"$f":"IF(LEN(CM33)=0,\"\",(COUNTIF(CE$6:CX$7,CM33)+COUNTIF(CE$10:CX$10,CM33)+COUNTIF(CE$13:CX$13,CM33)+COUNTIF(CE$16:CX$16,CM33)+COUNTIF(CE$19:CX$19,CM33)+COUNTIF(CE$22:CX$22,CM33)+COUNTIF(CE$25:CX$25,CM33))/設定!$J24+IFERROR((COUNTIF(CE$6:CX$7,処理!$L17)+COUNTIF(CE$10:CX$10,処理!$L17)+COUNTIF(CE$13:CX$13,処理!$L17)+COUNTIF(CE$16:CX$16,処理!$L17)+COUNTIF(CE$19:CX$19,処理!$L17)+COUNTIF(CE$22:CX$22,処理!$L17)+COUNTIF(CE$25:CX$25,処理!$L17))/処理!$M17,0))","v":""},"",{"$f":"$O$33","v":""},null,{"$f":"IF(LEN(CQ33)=0,\"\",(COUNTIF(CE$6:CX$7,CQ33)+COUNTIF(CE$10:CX$10,CQ33)+COUNTIF(CE$13:CX$13,CQ33)+COUNTIF(CE$16:CX$16,CQ33)+COUNTIF(CE$19:CX$19,CQ33)+COUNTIF(CE$22:CX$22,CQ33)+COUNTIF(CE$25:CX$25,CQ33))/設定!$M24+IFERROR((COUNTIF(CE$6:CX$7,処理!$L23)+COUNTIF(CE$10:CX$10,処理!$L23)+COUNTIF(CE$13:CX$13,処理!$L23)+COUNTIF(CE$16:CX$16,処理!$L23)+COUNTIF(CE$19:CX$19,処理!$L23)+COUNTIF(CE$22:CX$22,処理!$L23)+COUNTIF(CE$25:CX$25,処理!$L23))/処理!$M23,0))","v":""},"",{"$f":"$S$33","v":""},null,"","",{"$f":"$C$33","v":""},null,{"$f":"IF(LEN(CY33)=0,\"\",(COUNTIF(CY$6:DR$7,CY33)+COUNTIF(CY$10:DR$10,CY33)+COUNTIF(CY$13:DR$13,CY33)+COUNTIF(CY$16:DR$16,CY33)+COUNTIF(CY$19:DR$19,CY33)+COUNTIF(CY$22:DR$22,CY33)+COUNTIF(CY$25:DR$25,CY33))/設定!$D24+IFERROR((COUNTIF(CY$6:DR$7,処理!$L5)+COUNTIF(CY$10:DR$10,処理!$L5)+COUNTIF(CY$13:DR$13,処理!$L5)+COUNTIF(CY$16:DR$16,処理!$L5)+COUNTIF(CY$19:DR$19,処理!$L5)+COUNTIF(CY$22:DR$22,処理!$L5)+COUNTIF(CY$25:DR$25,処理!$L5))/処理!$M5,0))","v":""},"",{"$f":"$G$33","v":""},null,{"$f":"IF(LEN(DC33)=0,\"\",(COUNTIF(CY$6:DR$7,DC33)+COUNTIF(CY$10:DR$10,DC33)+COUNTIF(CY$13:DR$13,DC33)+COUNTIF(CY$16:DR$16,DC33)+COUNTIF(CY$19:DR$19,DC33)+COUNTIF(CY$22:DR$22,DC33)+COUNTIF(CY$25:DR$25,DC33))/設定!$G24+IFERROR((COUNTIF(CY$6:DR$7,処理!$L11)+COUNTIF(CY$10:DR$10,処理!$L11)+COUNTIF(CY$13:DR$13,処理!$L11)+COUNTIF(CY$16:DR$16,処理!$L11)+COUNTIF(CY$19:DR$19,処理!$L11)+COUNTIF(CY$22:DR$22,処理!$L11)+COUNTIF(CY$25:DR$25,処理!$L11))/処理!$M11,0))","v":""},"",{"$f":"$K$33","v":""},null,{"$f":"IF(LEN(DG33)=0,\"\",(COUNTIF(CY$6:DR$7,DG33)+COUNTIF(CY$10:DR$10,DG33)+COUNTIF(CY$13:DR$13,DG33)+COUNTIF(CY$16:DR$16,DG33)+COUNTIF(CY$19:DR$19,DG33)+COUNTIF(CY$22:DR$22,DG33)+COUNTIF(CY$25:DR$25,DG33))/設定!$J24+IFERROR((COUNTIF(CY$6:DR$7,処理!$L17)+COUNTIF(CY$10:DR$10,処理!$L17)+COUNTIF(CY$13:DR$13,処理!$L17)+COUNTIF(CY$16:DR$16,処理!$L17)+COUNTIF(CY$19:DR$19,処理!$L17)+COUNTIF(CY$22:DR$22,処理!$L17)+COUNTIF(CY$25:DR$25,処理!$L17))/処理!$M17,0))","v":""},"",{"$f":"$O$33","v":""},null,{"$f":"IF(LEN(DK33)=0,\"\",(COUNTIF(CY$6:DR$7,DK33)+COUNTIF(CY$10:DR$10,DK33)+COUNTIF(CY$13:DR$13,DK33)+COUNTIF(CY$16:DR$16,DK33)+COUNTIF(CY$19:DR$19,DK33)+COUNTIF(CY$22:DR$22,DK33)+COUNTIF(CY$25:DR$25,DK33))/設定!$M24+IFERROR((COUNTIF(CY$6:DR$7,処理!$L23)+COUNTIF(CY$10:DR$10,処理!$L23)+COUNTIF(CY$13:DR$13,処理!$L23)+COUNTIF(CY$16:DR$16,処理!$L23)+COUNTIF(CY$19:DR$19,処理!$L23)+COUNTIF(CY$22:DR$22,処理!$L23)+COUNTIF(CY$25:DR$25,処理!$L23))/処理!$M23,0))","v":""},"",{"$f":"$S$33","v":""},null,"","",{"$f":"$C$33","v":""},null,{"$f":"IF(LEN(DS33)=0,\"\",(COUNTIF(DS$6:EL$7,DS33)+COUNTIF(DS$10:EL$10,DS33)+COUNTIF(DS$13:EL$13,DS33)+COUNTIF(DS$16:EL$16,DS33)+COUNTIF(DS$19:EL$19,DS33)+COUNTIF(DS$22:EL$22,DS33)+COUNTIF(DS$25:EL$25,DS33))/設定!$D24+IFERROR((COUNTIF(DS$6:EL$7,処理!$L5)+COUNTIF(DS$10:EL$10,処理!$L5)+COUNTIF(DS$13:EL$13,処理!$L5)+COUNTIF(DS$16:EL$16,処理!$L5)+COUNTIF(DS$19:EL$19,処理!$L5)+COUNTIF(DS$22:EL$22,処理!$L5)+COUNTIF(DS$25:EL$25,処理!$L5))/処理!$M5,0))","v":""},"",{"$f":"$G$33","v":""},null,{"$f":"IF(LEN(DW33)=0,\"\",(COUNTIF(DS$6:EL$7,DW33)+COUNTIF(DS$10:EL$10,DW33)+COUNTIF(DS$13:EL$13,DW33)+COUNTIF(DS$16:EL$16,DW33)+COUNTIF(DS$19:EL$19,DW33)+COUNTIF(DS$22:EL$22,DW33)+COUNTIF(DS$25:EL$25,DW33))/設定!$G24+IFERROR((COUNTIF(DS$6:EL$7,処理!$L11)+COUNTIF(DS$10:EL$10,処理!$L11)+COUNTIF(DS$13:EL$13,処理!$L11)+COUNTIF(DS$16:EL$16,処理!$L11)+COUNTIF(DS$19:EL$19,処理!$L11)+COUNTIF(DS$22:EL$22,処理!$L11)+COUNTIF(DS$25:EL$25,処理!$L11))/処理!$M11,0))","v":""},"",{"$f":"$K$33","v":""},null,{"$f":"IF(LEN(EA33)=0,\"\",(COUNTIF(DS$6:EL$7,EA33)+COUNTIF(DS$10:EL$10,EA33)+COUNTIF(DS$13:EL$13,EA33)+COUNTIF(DS$16:EL$16,EA33)+COUNTIF(DS$19:EL$19,EA33)+COUNTIF(DS$22:EL$22,EA33)+COUNTIF(DS$25:EL$25,EA33))/設定!$J24+IFERROR((COUNTIF(DS$6:EL$7,処理!$L17)+COUNTIF(DS$10:EL$10,処理!$L17)+COUNTIF(DS$13:EL$13,処理!$L17)+COUNTIF(DS$16:EL$16,処理!$L17)+COUNTIF(DS$19:EL$19,処理!$L17)+COUNTIF(DS$22:EL$22,処理!$L17)+COUNTIF(DS$25:EL$25,処理!$L17))/処理!$M17,0))","v":""},"",{"$f":"$O$33","v":""},null,{"$f":"IF(LEN(EE33)=0,\"\",(COUNTIF(DS$6:EL$7,EE33)+COUNTIF(DS$10:EL$10,EE33)+COUNTIF(DS$13:EL$13,EE33)+COUNTIF(DS$16:EL$16,EE33)+COUNTIF(DS$19:EL$19,EE33)+COUNTIF(DS$22:EL$22,EE33)+COUNTIF(DS$25:EL$25,EE33))/設定!$M24+IFERROR((COUNTIF(DS$6:EL$7,処理!$L23)+COUNTIF(DS$10:EL$10,処理!$L23)+COUNTIF(DS$13:EL$13,処理!$L23)+COUNTIF(DS$16:EL$16,処理!$L23)+COUNTIF(DS$19:EL$19,処理!$L23)+COUNTIF(DS$22:EL$22,処理!$L23)+COUNTIF(DS$25:EL$25,処理!$L23))/処理!$M23,0))","v":""},"",{"$f":"$S$33","v":""},null,"","",{"$f":"$C$33","v":""},null,{"$f":"IF(LEN(EM33)=0,\"\",(COUNTIF(EM$6:FF$7,EM33)+COUNTIF(EM$10:FF$10,EM33)+COUNTIF(EM$13:FF$13,EM33)+COUNTIF(EM$16:FF$16,EM33)+COUNTIF(EM$19:FF$19,EM33)+COUNTIF(EM$22:FF$22,EM33)+COUNTIF(EM$25:FF$25,EM33))/設定!$D24+IFERROR((COUNTIF(EM$6:FF$7,処理!$L5)+COUNTIF(EM$10:FF$10,処理!$L5)+COUNTIF(EM$13:FF$13,処理!$L5)+COUNTIF(EM$16:FF$16,処理!$L5)+COUNTIF(EM$19:FF$19,処理!$L5)+COUNTIF(EM$22:FF$22,処理!$L5)+COUNTIF(EM$25:FF$25,処理!$L5))/処理!$M5,0))","v":""},"",{"$f":"$G$33","v":""},null,{"$f":"IF(LEN(EQ33)=0,\"\",(COUNTIF(EM$6:FF$7,EQ33)+COUNTIF(EM$10:FF$10,EQ33)+COUNTIF(EM$13:FF$13,EQ33)+COUNTIF(EM$16:FF$16,EQ33)+COUNTIF(EM$19:FF$19,EQ33)+COUNTIF(EM$22:FF$22,EQ33)+COUNTIF(EM$25:FF$25,EQ33))/設定!$G24+IFERROR((COUNTIF(EM$6:FF$7,処理!$L11)+COUNTIF(EM$10:FF$10,処理!$L11)+COUNTIF(EM$13:FF$13,処理!$L11)+COUNTIF(EM$16:FF$16,処理!$L11)+COUNTIF(EM$19:FF$19,処理!$L11)+COUNTIF(EM$22:FF$22,処理!$L11)+COUNTIF(EM$25:FF$25,処理!$L11))/処理!$M11,0))","v":""},"",{"$f":"$K$33","v":""},null,{"$f":"IF(LEN(EU33)=0,\"\",(COUNTIF(EM$6:FF$7,EU33)+COUNTIF(EM$10:FF$10,EU33)+COUNTIF(EM$13:FF$13,EU33)+COUNTIF(EM$16:FF$16,EU33)+COUNTIF(EM$19:FF$19,EU33)+COUNTIF(EM$22:FF$22,EU33)+COUNTIF(EM$25:FF$25,EU33))/設定!$J24+IFERROR((COUNTIF(EM$6:FF$7,処理!$L17)+COUNTIF(EM$10:FF$10,処理!$L17)+COUNTIF(EM$13:FF$13,処理!$L17)+COUNTIF(EM$16:FF$16,処理!$L17)+COUNTIF(EM$19:FF$19,処理!$L17)+COUNTIF(EM$22:FF$22,処理!$L17)+COUNTIF(EM$25:FF$25,処理!$L17))/処理!$M17,0))","v":""},"",{"$f":"$O$33","v":""},null,{"$f":"IF(LEN(EY33)=0,\"\",(COUNTIF(EM$6:FF$7,EY33)+COUNTIF(EM$10:FF$10,EY33)+COUNTIF(EM$13:FF$13,EY33)+COUNTIF(EM$16:FF$16,EY33)+COUNTIF(EM$19:FF$19,EY33)+COUNTIF(EM$22:FF$22,EY33)+COUNTIF(EM$25:FF$25,EY33))/設定!$M24+IFERROR((COUNTIF(EM$6:FF$7,処理!$L23)+COUNTIF(EM$10:FF$10,処理!$L23)+COUNTIF(EM$13:FF$13,処理!$L23)+COUNTIF(EM$16:FF$16,処理!$L23)+COUNTIF(EM$19:FF$19,処理!$L23)+COUNTIF(EM$22:FF$22,処理!$L23)+COUNTIF(EM$25:FF$25,処理!$L23))/処理!$M23,0))","v":""},"",{"$f":"$S$33","v":""},null,"","",{"$f":"$C$33","v":""},null,{"$f":"IF(LEN(FG33)=0,\"\",(COUNTIF(FG$6:FZ$7,FG33)+COUNTIF(FG$10:FZ$10,FG33)+COUNTIF(FG$13:FZ$13,FG33)+COUNTIF(FG$16:FZ$16,FG33)+COUNTIF(FG$19:FZ$19,FG33)+COUNTIF(FG$22:FZ$22,FG33)+COUNTIF(FG$25:FZ$25,FG33))/設定!$D24+IFERROR((COUNTIF(FG$6:FZ$7,処理!$L5)+COUNTIF(FG$10:FZ$10,処理!$L5)+COUNTIF(FG$13:FZ$13,処理!$L5)+COUNTIF(FG$16:FZ$16,処理!$L5)+COUNTIF(FG$19:FZ$19,処理!$L5)+COUNTIF(FG$22:FZ$22,処理!$L5)+COUNTIF(FG$25:FZ$25,処理!$L5))/処理!$M5,0))","v":""},"",{"$f":"$G$33","v":""},null,{"$f":"IF(LEN(FK33)=0,\"\",(COUNTIF(FG$6:FZ$7,FK33)+COUNTIF(FG$10:FZ$10,FK33)+COUNTIF(FG$13:FZ$13,FK33)+COUNTIF(FG$16:FZ$16,FK33)+COUNTIF(FG$19:FZ$19,FK33)+COUNTIF(FG$22:FZ$22,FK33)+COUNTIF(FG$25:FZ$25,FK33))/設定!$G24+IFERROR((COUNTIF(FG$6:FZ$7,処理!$L11)+COUNTIF(FG$10:FZ$10,処理!$L11)+COUNTIF(FG$13:FZ$13,処理!$L11)+COUNTIF(FG$16:FZ$16,処理!$L11)+COUNTIF(FG$19:FZ$19,処理!$L11)+COUNTIF(FG$22:FZ$22,処理!$L11)+COUNTIF(FG$25:FZ$25,処理!$L11))/処理!$M11,0))","v":""},"",{"$f":"$K$33","v":""},null,{"$f":"IF(LEN(FO33)=0,\"\",(COUNTIF(FG$6:FZ$7,FO33)+COUNTIF(FG$10:FZ$10,FO33)+COUNTIF(FG$13:FZ$13,FO33)+COUNTIF(FG$16:FZ$16,FO33)+COUNTIF(FG$19:FZ$19,FO33)+COUNTIF(FG$22:FZ$22,FO33)+COUNTIF(FG$25:FZ$25,FO33))/設定!$J24+IFERROR((COUNTIF(FG$6:FZ$7,処理!$L17)+COUNTIF(FG$10:FZ$10,処理!$L17)+COUNTIF(FG$13:FZ$13,処理!$L17)+COUNTIF(FG$16:FZ$16,処理!$L17)+COUNTIF(FG$19:FZ$19,処理!$L17)+COUNTIF(FG$22:FZ$22,処理!$L17)+COUNTIF(FG$25:FZ$25,処理!$L17))/処理!$M17,0))","v":""},"",{"$f":"$O$33","v":""},null,{"$f":"IF(LEN(FS33)=0,\"\",(COUNTIF(FG$6:FZ$7,FS33)+COUNTIF(FG$10:FZ$10,FS33)+COUNTIF(FG$13:FZ$13,FS33)+COUNTIF(FG$16:FZ$16,FS33)+COUNTIF(FG$19:FZ$19,FS33)+COUNTIF(FG$22:FZ$22,FS33)+COUNTIF(FG$25:FZ$25,FS33))/設定!$M24+IFERROR((COUNTIF(FG$6:FZ$7,処理!$L23)+COUNTIF(FG$10:FZ$10,処理!$L23)+COUNTIF(FG$13:FZ$13,処理!$L23)+COUNTIF(FG$16:FZ$16,処理!$L23)+COUNTIF(FG$19:FZ$19,処理!$L23)+COUNTIF(FG$22:FZ$22,処理!$L23)+COUNTIF(FG$25:FZ$25,処理!$L23))/処理!$M23,0))","v":""},"",{"$f":"$S$33","v":""},null,"","",{"$f":"$C$33","v":""},null,{"$f":"IF(LEN(GA33)=0,\"\",(COUNTIF(GA$6:GT$7,GA33)+COUNTIF(GA$10:GT$10,GA33)+COUNTIF(GA$13:GT$13,GA33)+COUNTIF(GA$16:GT$16,GA33)+COUNTIF(GA$19:GT$19,GA33)+COUNTIF(GA$22:GT$22,GA33)+COUNTIF(GA$25:GT$25,GA33))/設定!$D24+IFERROR((COUNTIF(GA$6:GT$7,処理!$L5)+COUNTIF(GA$10:GT$10,処理!$L5)+COUNTIF(GA$13:GT$13,処理!$L5)+COUNTIF(GA$16:GT$16,処理!$L5)+COUNTIF(GA$19:GT$19,処理!$L5)+COUNTIF(GA$22:GT$22,処理!$L5)+COUNTIF(GA$25:GT$25,処理!$L5))/処理!$M5,0))","v":""},"",{"$f":"$G$33","v":""},null,{"$f":"IF(LEN(GE33)=0,\"\",(COUNTIF(GA$6:GT$7,GE33)+COUNTIF(GA$10:GT$10,GE33)+COUNTIF(GA$13:GT$13,GE33)+COUNTIF(GA$16:GT$16,GE33)+COUNTIF(GA$19:GT$19,GE33)+COUNTIF(GA$22:GT$22,GE33)+COUNTIF(GA$25:GT$25,GE33))/設定!$G24+IFERROR((COUNTIF(GA$6:GT$7,処理!$L11)+COUNTIF(GA$10:GT$10,処理!$L11)+COUNTIF(GA$13:GT$13,処理!$L11)+COUNTIF(GA$16:GT$16,処理!$L11)+COUNTIF(GA$19:GT$19,処理!$L11)+COUNTIF(GA$22:GT$22,処理!$L11)+COUNTIF(GA$25:GT$25,処理!$L11))/処理!$M11,0))","v":""},"",{"$f":"$K$33","v":""},null,{"$f":"IF(LEN(GI33)=0,\"\",(COUNTIF(GA$6:GT$7,GI33)+COUNTIF(GA$10:GT$10,GI33)+COUNTIF(GA$13:GT$13,GI33)+COUNTIF(GA$16:GT$16,GI33)+COUNTIF(GA$19:GT$19,GI33)+COUNTIF(GA$22:GT$22,GI33)+COUNTIF(GA$25:GT$25,GI33))/設定!$J24+IFERROR((COUNTIF(GA$6:GT$7,処理!$L17)+COUNTIF(GA$10:GT$10,処理!$L17)+COUNTIF(GA$13:GT$13,処理!$L17)+COUNTIF(GA$16:GT$16,処理!$L17)+COUNTIF(GA$19:GT$19,処理!$L17)+COUNTIF(GA$22:GT$22,処理!$L17)+COUNTIF(GA$25:GT$25,処理!$L17))/処理!$M17,0))","v":""},"",{"$f":"$O$33","v":""},null,{"$f":"IF(LEN(GM33)=0,\"\",(COUNTIF(GA$6:GT$7,GM33)+COUNTIF(GA$10:GT$10,GM33)+COUNTIF(GA$13:GT$13,GM33)+COUNTIF(GA$16:GT$16,GM33)+COUNTIF(GA$19:GT$19,GM33)+COUNTIF(GA$22:GT$22,GM33)+COUNTIF(GA$25:GT$25,GM33))/設定!$M24+IFERROR((COUNTIF(GA$6:GT$7,処理!$L23)+COUNTIF(GA$10:GT$10,処理!$L23)+COUNTIF(GA$13:GT$13,処理!$L23)+COUNTIF(GA$16:GT$16,処理!$L23)+COUNTIF(GA$19:GT$19,処理!$L23)+COUNTIF(GA$22:GT$22,処理!$L23)+COUNTIF(GA$25:GT$25,処理!$L23))/処理!$M23,0))","v":""},"",{"$f":"$S$33","v":""},null,"","",{"$f":"$C$33","v":""},null,{"$f":"IF(LEN(GU33)=0,\"\",(COUNTIF(GU$6:HN$7,GU33)+COUNTIF(GU$10:HN$10,GU33)+COUNTIF(GU$13:HN$13,GU33)+COUNTIF(GU$16:HN$16,GU33)+COUNTIF(GU$19:HN$19,GU33)+COUNTIF(GU$22:HN$22,GU33)+COUNTIF(GU$25:HN$25,GU33))/設定!$D24+IFERROR((COUNTIF(GU$6:HN$7,処理!$L5)+COUNTIF(GU$10:HN$10,処理!$L5)+COUNTIF(GU$13:HN$13,処理!$L5)+COUNTIF(GU$16:HN$16,処理!$L5)+COUNTIF(GU$19:HN$19,処理!$L5)+COUNTIF(GU$22:HN$22,処理!$L5)+COUNTIF(GU$25:HN$25,処理!$L5))/処理!$M5,0))","v":""},"",{"$f":"$G$33","v":""},null,{"$f":"IF(LEN(GY33)=0,\"\",(COUNTIF(GU$6:HN$7,GY33)+COUNTIF(GU$10:HN$10,GY33)+COUNTIF(GU$13:HN$13,GY33)+COUNTIF(GU$16:HN$16,GY33)+COUNTIF(GU$19:HN$19,GY33)+COUNTIF(GU$22:HN$22,GY33)+COUNTIF(GU$25:HN$25,GY33))/設定!$G24+IFERROR((COUNTIF(GU$6:HN$7,処理!$L11)+COUNTIF(GU$10:HN$10,処理!$L11)+COUNTIF(GU$13:HN$13,処理!$L11)+COUNTIF(GU$16:HN$16,処理!$L11)+COUNTIF(GU$19:HN$19,処理!$L11)+COUNTIF(GU$22:HN$22,処理!$L11)+COUNTIF(GU$25:HN$25,処理!$L11))/処理!$M11,0))","v":""},"",{"$f":"$K$33","v":""},null,{"$f":"IF(LEN(HC33)=0,\"\",(COUNTIF(GU$6:HN$7,HC33)+COUNTIF(GU$10:HN$10,HC33)+COUNTIF(GU$13:HN$13,HC33)+COUNTIF(GU$16:HN$16,HC33)+COUNTIF(GU$19:HN$19,HC33)+COUNTIF(GU$22:HN$22,HC33)+COUNTIF(GU$25:HN$25,HC33))/設定!$J24+IFERROR((COUNTIF(GU$6:HN$7,処理!$L17)+COUNTIF(GU$10:HN$10,処理!$L17)+COUNTIF(GU$13:HN$13,処理!$L17)+COUNTIF(GU$16:HN$16,処理!$L17)+COUNTIF(GU$19:HN$19,処理!$L17)+COUNTIF(GU$22:HN$22,処理!$L17)+COUNTIF(GU$25:HN$25,処理!$L17))/処理!$M17,0))","v":""},"",{"$f":"$O$33","v":""},null,{"$f":"IF(LEN(HG33)=0,\"\",(COUNTIF(GU$6:HN$7,HG33)+COUNTIF(GU$10:HN$10,HG33)+COUNTIF(GU$13:HN$13,HG33)+COUNTIF(GU$16:HN$16,HG33)+COUNTIF(GU$19:HN$19,HG33)+COUNTIF(GU$22:HN$22,HG33)+COUNTIF(GU$25:HN$25,HG33))/設定!$M24+IFERROR((COUNTIF(GU$6:HN$7,処理!$L23)+COUNTIF(GU$10:HN$10,処理!$L23)+COUNTIF(GU$13:HN$13,処理!$L23)+COUNTIF(GU$16:HN$16,処理!$L23)+COUNTIF(GU$19:HN$19,処理!$L23)+COUNTIF(GU$22:HN$22,処理!$L23)+COUNTIF(GU$25:HN$25,処理!$L23))/処理!$M23,0))","v":""},"",{"$f":"$S$33","v":""},null,"","",{"$f":"$C$33","v":""},null,{"$f":"IF(LEN(HO33)=0,\"\",(COUNTIF(HO$6:IH$7,HO33)+COUNTIF(HO$10:IH$10,HO33)+COUNTIF(HO$13:IH$13,HO33)+COUNTIF(HO$16:IH$16,HO33)+COUNTIF(HO$19:IH$19,HO33)+COUNTIF(HO$22:IH$22,HO33)+COUNTIF(HO$25:IH$25,HO33))/設定!$D24+IFERROR((COUNTIF(HO$6:IH$7,処理!$L5)+COUNTIF(HO$10:IH$10,処理!$L5)+COUNTIF(HO$13:IH$13,処理!$L5)+COUNTIF(HO$16:IH$16,処理!$L5)+COUNTIF(HO$19:IH$19,処理!$L5)+COUNTIF(HO$22:IH$22,処理!$L5)+COUNTIF(HO$25:IH$25,処理!$L5))/処理!$M5,0))","v":""},"",{"$f":"$G$33","v":""},null,{"$f":"IF(LEN(HS33)=0,\"\",(COUNTIF(HO$6:IH$7,HS33)+COUNTIF(HO$10:IH$10,HS33)+COUNTIF(HO$13:IH$13,HS33)+COUNTIF(HO$16:IH$16,HS33)+COUNTIF(HO$19:IH$19,HS33)+COUNTIF(HO$22:IH$22,HS33)+COUNTIF(HO$25:IH$25,HS33))/設定!$G24+IFERROR((COUNTIF(HO$6:IH$7,処理!$L11)+COUNTIF(HO$10:IH$10,処理!$L11)+COUNTIF(HO$13:IH$13,処理!$L11)+COUNTIF(HO$16:IH$16,処理!$L11)+COUNTIF(HO$19:IH$19,処理!$L11)+COUNTIF(HO$22:IH$22,処理!$L11)+COUNTIF(HO$25:IH$25,処理!$L11))/処理!$M11,0))","v":""},"",{"$f":"$K$33","v":""},null,{"$f":"IF(LEN(HW33)=0,\"\",(COUNTIF(HO$6:IH$7,HW33)+COUNTIF(HO$10:IH$10,HW33)+COUNTIF(HO$13:IH$13,HW33)+COUNTIF(HO$16:IH$16,HW33)+COUNTIF(HO$19:IH$19,HW33)+COUNTIF(HO$22:IH$22,HW33)+COUNTIF(HO$25:IH$25,HW33))/設定!$J24+IFERROR((COUNTIF(HO$6:IH$7,処理!$L17)+COUNTIF(HO$10:IH$10,処理!$L17)+COUNTIF(HO$13:IH$13,処理!$L17)+COUNTIF(HO$16:IH$16,処理!$L17)+COUNTIF(HO$19:IH$19,処理!$L17)+COUNTIF(HO$22:IH$22,処理!$L17)+COUNTIF(HO$25:IH$25,処理!$L17))/処理!$M17,0))","v":""},"",{"$f":"$O$33","v":""},null,{"$f":"IF(LEN(IA33)=0,\"\",(COUNTIF(HO$6:IH$7,IA33)+COUNTIF(HO$10:IH$10,IA33)+COUNTIF(HO$13:IH$13,IA33)+COUNTIF(HO$16:IH$16,IA33)+COUNTIF(HO$19:IH$19,IA33)+COUNTIF(HO$22:IH$22,IA33)+COUNTIF(HO$25:IH$25,IA33))/設定!$M24+IFERROR((COUNTIF(HO$6:IH$7,処理!$L23)+COUNTIF(HO$10:IH$10,処理!$L23)+COUNTIF(HO$13:IH$13,処理!$L23)+COUNTIF(HO$16:IH$16,処理!$L23)+COUNTIF(HO$19:IH$19,処理!$L23)+COUNTIF(HO$22:IH$22,処理!$L23)+COUNTIF(HO$25:IH$25,処理!$L23))/処理!$M23,0))","v":""},"",{"$f":"$S$33","v":""},null,"","",{"$f":"$C$33","v":""},null,{"$f":"IF(LEN(II33)=0,\"\",(COUNTIF(II$6:JB$7,II33)+COUNTIF(II$10:JB$10,II33)+COUNTIF(II$13:JB$13,II33)+COUNTIF(II$16:JB$16,II33)+COUNTIF(II$19:JB$19,II33)+COUNTIF(II$22:JB$22,II33)+COUNTIF(II$25:JB$25,II33))/設定!$D24+IFERROR((COUNTIF(II$6:JB$7,処理!$L5)+COUNTIF(II$10:JB$10,処理!$L5)+COUNTIF(II$13:JB$13,処理!$L5)+COUNTIF(II$16:JB$16,処理!$L5)+COUNTIF(II$19:JB$19,処理!$L5)+COUNTIF(II$22:JB$22,処理!$L5)+COUNTIF(II$25:JB$25,処理!$L5))/処理!$M5,0))","v":""},"",{"$f":"$G$33","v":""},null,{"$f":"IF(LEN(IM33)=0,\"\",(COUNTIF(II$6:JB$7,IM33)+COUNTIF(II$10:JB$10,IM33)+COUNTIF(II$13:JB$13,IM33)+COUNTIF(II$16:JB$16,IM33)+COUNTIF(II$19:JB$19,IM33)+COUNTIF(II$22:JB$22,IM33)+COUNTIF(II$25:JB$25,IM33))/設定!$G24+IFERROR((COUNTIF(II$6:JB$7,処理!$L11)+COUNTIF(II$10:JB$10,処理!$L11)+COUNTIF(II$13:JB$13,処理!$L11)+COUNTIF(II$16:JB$16,処理!$L11)+COUNTIF(II$19:JB$19,処理!$L11)+COUNTIF(II$22:JB$22,処理!$L11)+COUNTIF(II$25:JB$25,処理!$L11))/処理!$M11,0))","v":""},"",{"$f":"$K$33","v":""},null,{"$f":"IF(LEN(IQ33)=0,\"\",(COUNTIF(II$6:JB$7,IQ33)+COUNTIF(II$10:JB$10,IQ33)+COUNTIF(II$13:JB$13,IQ33)+COUNTIF(II$16:JB$16,IQ33)+COUNTIF(II$19:JB$19,IQ33)+COUNTIF(II$22:JB$22,IQ33)+COUNTIF(II$25:JB$25,IQ33))/設定!$J24+IFERROR((COUNTIF(II$6:JB$7,処理!$L17)+COUNTIF(II$10:JB$10,処理!$L17)+COUNTIF(II$13:JB$13,処理!$L17)+COUNTIF(II$16:JB$16,処理!$L17)+COUNTIF(II$19:JB$19,処理!$L17)+COUNTIF(II$22:JB$22,処理!$L17)+COUNTIF(II$25:JB$25,処理!$L17))/処理!$M17,0))","v":""},"",{"$f":"$O$33","v":""},null,{"$f":"IF(LEN(IU33)=0,\"\",(COUNTIF(II$6:JB$7,IU33)+COUNTIF(II$10:JB$10,IU33)+COUNTIF(II$13:JB$13,IU33)+COUNTIF(II$16:JB$16,IU33)+COUNTIF(II$19:JB$19,IU33)+COUNTIF(II$22:JB$22,IU33)+COUNTIF(II$25:JB$25,IU33))/設定!$M24+IFERROR((COUNTIF(II$6:JB$7,処理!$L23)+COUNTIF(II$10:JB$10,処理!$L23)+COUNTIF(II$13:JB$13,処理!$L23)+COUNTIF(II$16:JB$16,処理!$L23)+COUNTIF(II$19:JB$19,処理!$L23)+COUNTIF(II$22:JB$22,処理!$L23)+COUNTIF(II$25:JB$25,処理!$L23))/処理!$M23,0))","v":""},"",{"$f":"$S$33","v":""},null,"","",{"$f":"$C$33","v":""},null,{"$f":"IF(LEN(JC33)=0,\"\",(COUNTIF(JC$6:JV$7,JC33)+COUNTIF(JC$10:JV$10,JC33)+COUNTIF(JC$13:JV$13,JC33)+COUNTIF(JC$16:JV$16,JC33)+COUNTIF(JC$19:JV$19,JC33)+COUNTIF(JC$22:JV$22,JC33)+COUNTIF(JC$25:JV$25,JC33))/設定!$D24+IFERROR((COUNTIF(JC$6:JV$7,処理!$L5)+COUNTIF(JC$10:JV$10,処理!$L5)+COUNTIF(JC$13:JV$13,処理!$L5)+COUNTIF(JC$16:JV$16,処理!$L5)+COUNTIF(JC$19:JV$19,処理!$L5)+COUNTIF(JC$22:JV$22,処理!$L5)+COUNTIF(JC$25:JV$25,処理!$L5))/処理!$M5,0))","v":""},"",{"$f":"$G$33","v":""},null,{"$f":"IF(LEN(JG33)=0,\"\",(COUNTIF(JC$6:JV$7,JG33)+COUNTIF(JC$10:JV$10,JG33)+COUNTIF(JC$13:JV$13,JG33)+COUNTIF(JC$16:JV$16,JG33)+COUNTIF(JC$19:JV$19,JG33)+COUNTIF(JC$22:JV$22,JG33)+COUNTIF(JC$25:JV$25,JG33))/設定!$G24+IFERROR((COUNTIF(JC$6:JV$7,処理!$L11)+COUNTIF(JC$10:JV$10,処理!$L11)+COUNTIF(JC$13:JV$13,処理!$L11)+COUNTIF(JC$16:JV$16,処理!$L11)+COUNTIF(JC$19:JV$19,処理!$L11)+COUNTIF(JC$22:JV$22,処理!$L11)+COUNTIF(JC$25:JV$25,処理!$L11))/処理!$M11,0))","v":""},"",{"$f":"$K$33","v":""},null,{"$f":"IF(LEN(JK33)=0,\"\",(COUNTIF(JC$6:JV$7,JK33)+COUNTIF(JC$10:JV$10,JK33)+COUNTIF(JC$13:JV$13,JK33)+COUNTIF(JC$16:JV$16,JK33)+COUNTIF(JC$19:JV$19,JK33)+COUNTIF(JC$22:JV$22,JK33)+COUNTIF(JC$25:JV$25,JK33))/設定!$J24+IFERROR((COUNTIF(JC$6:JV$7,処理!$L17)+COUNTIF(JC$10:JV$10,処理!$L17)+COUNTIF(JC$13:JV$13,処理!$L17)+COUNTIF(JC$16:JV$16,処理!$L17)+COUNTIF(JC$19:JV$19,処理!$L17)+COUNTIF(JC$22:JV$22,処理!$L17)+COUNTIF(JC$25:JV$25,処理!$L17))/処理!$M17,0))","v":""},"",{"$f":"$O$33","v":""},null,{"$f":"IF(LEN(JO33)=0,\"\",(COUNTIF(JC$6:JV$7,JO33)+COUNTIF(JC$10:JV$10,JO33)+COUNTIF(JC$13:JV$13,JO33)+COUNTIF(JC$16:JV$16,JO33)+COUNTIF(JC$19:JV$19,JO33)+COUNTIF(JC$22:JV$22,JO33)+COUNTIF(JC$25:JV$25,JO33))/設定!$M24+IFERROR((COUNTIF(JC$6:JV$7,処理!$L23)+COUNTIF(JC$10:JV$10,処理!$L23)+COUNTIF(JC$13:JV$13,処理!$L23)+COUNTIF(JC$16:JV$16,処理!$L23)+COUNTIF(JC$19:JV$19,処理!$L23)+COUNTIF(JC$22:JV$22,処理!$L23)+COUNTIF(JC$25:JV$25,処理!$L23))/処理!$M23,0))","v":""},"",{"$f":"$S$33","v":""},null,"","",{"$f":"$C$33","v":""},null,{"$f":"IF(LEN(JW33)=0,\"\",(COUNTIF(JW$6:KP$7,JW33)+COUNTIF(JW$10:KP$10,JW33)+COUNTIF(JW$13:KP$13,JW33)+COUNTIF(JW$16:KP$16,JW33)+COUNTIF(JW$19:KP$19,JW33)+COUNTIF(JW$22:KP$22,JW33)+COUNTIF(JW$25:KP$25,JW33))/設定!$D24+IFERROR((COUNTIF(JW$6:KP$7,処理!$L5)+COUNTIF(JW$10:KP$10,処理!$L5)+COUNTIF(JW$13:KP$13,処理!$L5)+COUNTIF(JW$16:KP$16,処理!$L5)+COUNTIF(JW$19:KP$19,処理!$L5)+COUNTIF(JW$22:KP$22,処理!$L5)+COUNTIF(JW$25:KP$25,処理!$L5))/処理!$M5,0))","v":""},"",{"$f":"$G$33","v":""},null,{"$f":"IF(LEN(KA33)=0,\"\",(COUNTIF(JW$6:KP$7,KA33)+COUNTIF(JW$10:KP$10,KA33)+COUNTIF(JW$13:KP$13,KA33)+COUNTIF(JW$16:KP$16,KA33)+COUNTIF(JW$19:KP$19,KA33)+COUNTIF(JW$22:KP$22,KA33)+COUNTIF(JW$25:KP$25,KA33))/設定!$G24+IFERROR((COUNTIF(JW$6:KP$7,処理!$L11)+COUNTIF(JW$10:KP$10,処理!$L11)+COUNTIF(JW$13:KP$13,処理!$L11)+COUNTIF(JW$16:KP$16,処理!$L11)+COUNTIF(JW$19:KP$19,処理!$L11)+COUNTIF(JW$22:KP$22,処理!$L11)+COUNTIF(JW$25:KP$25,処理!$L11))/処理!$M11,0))","v":""},"",{"$f":"$K$33","v":""},null,{"$f":"IF(LEN(KE33)=0,\"\",(COUNTIF(JW$6:KP$7,KE33)+COUNTIF(JW$10:KP$10,KE33)+COUNTIF(JW$13:KP$13,KE33)+COUNTIF(JW$16:KP$16,KE33)+COUNTIF(JW$19:KP$19,KE33)+COUNTIF(JW$22:KP$22,KE33)+COUNTIF(JW$25:KP$25,KE33))/設定!$J24+IFERROR((COUNTIF(JW$6:KP$7,処理!$L17)+COUNTIF(JW$10:KP$10,処理!$L17)+COUNTIF(JW$13:KP$13,処理!$L17)+COUNTIF(JW$16:KP$16,処理!$L17)+COUNTIF(JW$19:KP$19,処理!$L17)+COUNTIF(JW$22:KP$22,処理!$L17)+COUNTIF(JW$25:KP$25,処理!$L17))/処理!$M17,0))","v":""},"",{"$f":"$O$33","v":""},null,{"$f":"IF(LEN(KI33)=0,\"\",(COUNTIF(JW$6:KP$7,KI33)+COUNTIF(JW$10:KP$10,KI33)+COUNTIF(JW$13:KP$13,KI33)+COUNTIF(JW$16:KP$16,KI33)+COUNTIF(JW$19:KP$19,KI33)+COUNTIF(JW$22:KP$22,KI33)+COUNTIF(JW$25:KP$25,KI33))/設定!$M24+IFERROR((COUNTIF(JW$6:KP$7,処理!$L23)+COUNTIF(JW$10:KP$10,処理!$L23)+COUNTIF(JW$13:KP$13,処理!$L23)+COUNTIF(JW$16:KP$16,処理!$L23)+COUNTIF(JW$19:KP$19,処理!$L23)+COUNTIF(JW$22:KP$22,処理!$L23)+COUNTIF(JW$25:KP$25,処理!$L23))/処理!$M23,0))","v":""},"",{"$f":"$S$33","v":""},null,"","",{"$f":"$C$33","v":""},null,{"$f":"IF(LEN(KQ33)=0,\"\",(COUNTIF(KQ$6:LJ$7,KQ33)+COUNTIF(KQ$10:LJ$10,KQ33)+COUNTIF(KQ$13:LJ$13,KQ33)+COUNTIF(KQ$16:LJ$16,KQ33)+COUNTIF(KQ$19:LJ$19,KQ33)+COUNTIF(KQ$22:LJ$22,KQ33)+COUNTIF(KQ$25:LJ$25,KQ33))/設定!$D24+IFERROR((COUNTIF(KQ$6:LJ$7,処理!$L5)+COUNTIF(KQ$10:LJ$10,処理!$L5)+COUNTIF(KQ$13:LJ$13,処理!$L5)+COUNTIF(KQ$16:LJ$16,処理!$L5)+COUNTIF(KQ$19:LJ$19,処理!$L5)+COUNTIF(KQ$22:LJ$22,処理!$L5)+COUNTIF(KQ$25:LJ$25,処理!$L5))/処理!$M5,0))","v":""},"",{"$f":"$G$33","v":""},null,{"$f":"IF(LEN(KU33)=0,\"\",(COUNTIF(KQ$6:LJ$7,KU33)+COUNTIF(KQ$10:LJ$10,KU33)+COUNTIF(KQ$13:LJ$13,KU33)+COUNTIF(KQ$16:LJ$16,KU33)+COUNTIF(KQ$19:LJ$19,KU33)+COUNTIF(KQ$22:LJ$22,KU33)+COUNTIF(KQ$25:LJ$25,KU33))/設定!$G24+IFERROR((COUNTIF(KQ$6:LJ$7,処理!$L11)+COUNTIF(KQ$10:LJ$10,処理!$L11)+COUNTIF(KQ$13:LJ$13,処理!$L11)+COUNTIF(KQ$16:LJ$16,処理!$L11)+COUNTIF(KQ$19:LJ$19,処理!$L11)+COUNTIF(KQ$22:LJ$22,処理!$L11)+COUNTIF(KQ$25:LJ$25,処理!$L11))/処理!$M11,0))","v":""},"",{"$f":"$K$33","v":""},null,{"$f":"IF(LEN(KY33)=0,\"\",(COUNTIF(KQ$6:LJ$7,KY33)+COUNTIF(KQ$10:LJ$10,KY33)+COUNTIF(KQ$13:LJ$13,KY33)+COUNTIF(KQ$16:LJ$16,KY33)+COUNTIF(KQ$19:LJ$19,KY33)+COUNTIF(KQ$22:LJ$22,KY33)+COUNTIF(KQ$25:LJ$25,KY33))/設定!$J24+IFERROR((COUNTIF(KQ$6:LJ$7,処理!$L17)+COUNTIF(KQ$10:LJ$10,処理!$L17)+COUNTIF(KQ$13:LJ$13,処理!$L17)+COUNTIF(KQ$16:LJ$16,処理!$L17)+COUNTIF(KQ$19:LJ$19,処理!$L17)+COUNTIF(KQ$22:LJ$22,処理!$L17)+COUNTIF(KQ$25:LJ$25,処理!$L17))/処理!$M17,0))","v":""},"",{"$f":"$O$33","v":""},null,{"$f":"IF(LEN(LC33)=0,\"\",(COUNTIF(KQ$6:LJ$7,LC33)+COUNTIF(KQ$10:LJ$10,LC33)+COUNTIF(KQ$13:LJ$13,LC33)+COUNTIF(KQ$16:LJ$16,LC33)+COUNTIF(KQ$19:LJ$19,LC33)+COUNTIF(KQ$22:LJ$22,LC33)+COUNTIF(KQ$25:LJ$25,LC33))/設定!$M24+IFERROR((COUNTIF(KQ$6:LJ$7,処理!$L23)+COUNTIF(KQ$10:LJ$10,処理!$L23)+COUNTIF(KQ$13:LJ$13,処理!$L23)+COUNTIF(KQ$16:LJ$16,処理!$L23)+COUNTIF(KQ$19:LJ$19,処理!$L23)+COUNTIF(KQ$22:LJ$22,処理!$L23)+COUNTIF(KQ$25:LJ$25,処理!$L23))/処理!$M23,0))","v":""},"",{"$f":"$S$33","v":""},null,"","",{"$f":"$C$33","v":""},null,{"$f":"IF(LEN(LK33)=0,\"\",(COUNTIF(LK$6:MD$7,LK33)+COUNTIF(LK$10:MD$10,LK33)+COUNTIF(LK$13:MD$13,LK33)+COUNTIF(LK$16:MD$16,LK33)+COUNTIF(LK$19:MD$19,LK33)+COUNTIF(LK$22:MD$22,LK33)+COUNTIF(LK$25:MD$25,LK33))/設定!$D24+IFERROR((COUNTIF(LK$6:MD$7,処理!$L5)+COUNTIF(LK$10:MD$10,処理!$L5)+COUNTIF(LK$13:MD$13,処理!$L5)+COUNTIF(LK$16:MD$16,処理!$L5)+COUNTIF(LK$19:MD$19,処理!$L5)+COUNTIF(LK$22:MD$22,処理!$L5)+COUNTIF(LK$25:MD$25,処理!$L5))/処理!$M5,0))","v":""},"",{"$f":"$G$33","v":""},null,{"$f":"IF(LEN(LO33)=0,\"\",(COUNTIF(LK$6:MD$7,LO33)+COUNTIF(LK$10:MD$10,LO33)+COUNTIF(LK$13:MD$13,LO33)+COUNTIF(LK$16:MD$16,LO33)+COUNTIF(LK$19:MD$19,LO33)+COUNTIF(LK$22:MD$22,LO33)+COUNTIF(LK$25:MD$25,LO33))/設定!$G24+IFERROR((COUNTIF(LK$6:MD$7,処理!$L11)+COUNTIF(LK$10:MD$10,処理!$L11)+COUNTIF(LK$13:MD$13,処理!$L11)+COUNTIF(LK$16:MD$16,処理!$L11)+COUNTIF(LK$19:MD$19,処理!$L11)+COUNTIF(LK$22:MD$22,処理!$L11)+COUNTIF(LK$25:MD$25,処理!$L11))/処理!$M11,0))","v":""},"",{"$f":"$K$33","v":""},null,{"$f":"IF(LEN(LS33)=0,\"\",(COUNTIF(LK$6:MD$7,LS33)+COUNTIF(LK$10:MD$10,LS33)+COUNTIF(LK$13:MD$13,LS33)+COUNTIF(LK$16:MD$16,LS33)+COUNTIF(LK$19:MD$19,LS33)+COUNTIF(LK$22:MD$22,LS33)+COUNTIF(LK$25:MD$25,LS33))/設定!$J24+IFERROR((COUNTIF(LK$6:MD$7,処理!$L17)+COUNTIF(LK$10:MD$10,処理!$L17)+COUNTIF(LK$13:MD$13,処理!$L17)+COUNTIF(LK$16:MD$16,処理!$L17)+COUNTIF(LK$19:MD$19,処理!$L17)+COUNTIF(LK$22:MD$22,処理!$L17)+COUNTIF(LK$25:MD$25,処理!$L17))/処理!$M17,0))","v":""},"",{"$f":"$O$33","v":""},null,{"$f":"IF(LEN(LW33)=0,\"\",(COUNTIF(LK$6:MD$7,LW33)+COUNTIF(LK$10:MD$10,LW33)+COUNTIF(LK$13:MD$13,LW33)+COUNTIF(LK$16:MD$16,LW33)+COUNTIF(LK$19:MD$19,LW33)+COUNTIF(LK$22:MD$22,LW33)+COUNTIF(LK$25:MD$25,LW33))/設定!$M24+IFERROR((COUNTIF(LK$6:MD$7,処理!$L23)+COUNTIF(LK$10:MD$10,処理!$L23)+COUNTIF(LK$13:MD$13,処理!$L23)+COUNTIF(LK$16:MD$16,処理!$L23)+COUNTIF(LK$19:MD$19,処理!$L23)+COUNTIF(LK$22:MD$22,処理!$L23)+COUNTIF(LK$25:MD$25,処理!$L23))/処理!$M23,0))","v":""},"",{"$f":"$S$33","v":""},null,"",""]
[null,null,{"$f":"IF(COUNTIF(処理!$J$2:$J$25,4)>0,処理!H6,\"\")","v":""},null,{"$f":"IF(LEN(C34)=0,\"\",(COUNTIF(C$6:V$7,C34)+COUNTIF(C$10:V$10,C34)+COUNTIF(C$13:V$13,C34)+COUNTIF(C$16:V$16,C34)+COUNTIF(C$19:V$19,C34)+COUNTIF(C$22:V$22,C34)+COUNTIF(C$25:V$25,C34))/設定!$D25+IFERROR((COUNTIF(C$6:V$7,処理!$L6)+COUNTIF(C$10:V$10,処理!$L6)+COUNTIF(C$13:V$13,処理!$L6)+COUNTIF(C$16:V$16,処理!$L6)+COUNTIF(C$19:V$19,処理!$L6)+COUNTIF(C$22:V$22,処理!$L6)+COUNTIF(C$25:V$25,処理!$L6))/処理!$M6,0))","v":""},"",{"$f":"IF(COUNTIF(処理!$J$2:$J$25,10)>0,処理!H12,\"\")","v":""},null,{"$f":"IF(LEN(G34)=0,\"\",(COUNTIF(C$6:V$7,G34)+COUNTIF(C$10:V$10,G34)+COUNTIF(C$13:V$13,G34)+COUNTIF(C$16:V$16,G34)+COUNTIF(C$19:V$19,G34)+COUNTIF(C$22:V$22,G34)+COUNTIF(C$25:V$25,G34))/設定!$G25+IFERROR((COUNTIF(C$6:V$7,処理!$L12)+COUNTIF(C$10:V$10,処理!$L12)+COUNTIF(C$13:V$13,処理!$L12)+COUNTIF(C$16:V$16,処理!$L12)+COUNTIF(C$19:V$19,処理!$L12)+COUNTIF(C$22:V$22,処理!$L12)+COUNTIF(C$25:V$25,処理!$L12))/処理!$M12,0))","v":""},"",{"$f":"IF(COUNTIF(処理!$J$2:$J$25,16)>0,処理!H18,\"\")","v":""},null,{"$f":"IF(LEN(K34)=0,\"\",(COUNTIF(C$6:V$7,K34)+COUNTIF(C$10:V$10,K34)+COUNTIF(C$13:V$13,K34)+COUNTIF(C$16:V$16,K34)+COUNTIF(C$19:V$19,K34)+COUNTIF(C$22:V$22,K34)+COUNTIF(C$25:V$25,K34))/設定!$J25+IFERROR((COUNTIF(C$6:V$7,処理!$L18)+COUNTIF(C$10:V$10,処理!$L18)+COUNTIF(C$13:V$13,処理!$L18)+COUNTIF(C$16:V$16,処理!$L18)+COUNTIF(C$19:V$19,処理!$L18)+COUNTIF(C$22:V$22,処理!$L18)+COUNTIF(C$25:V$25,処理!$L18))/処理!$M18,0))","v":""},"",{"$f":"IF(COUNTIF(処理!$J$2:$J$25,22)>0,処理!H24,\"\")","v":""},null,{"$f":"IF(LEN(O34)=0,\"\",(COUNTIF(C$6:V$7,O34)+COUNTIF(C$10:V$10,O34)+COUNTIF(C$13:V$13,O34)+COUNTIF(C$16:V$16,O34)+COUNTIF(C$19:V$19,O34)+COUNTIF(C$22:V$22,O34)+COUNTIF(C$25:V$25,O34))/設定!$M25+IFERROR((COUNTIF(C$6:V$7,処理!$L24)+COUNTIF(C$10:V$10,処理!$L24)+COUNTIF(C$13:V$13,処理!$L24)+COUNTIF(C$16:V$16,処理!$L24)+COUNTIF(C$19:V$19,処理!$L24)+COUNTIF(C$22:V$22,処理!$L24)+COUNTIF(C$25:V$25,処理!$L24))/処理!$M24,0))","v":""},"",{"$f":"処理!H30&\"\"","v":""},null,"","",{"$f":"$C$34","v":""},null,{"$f":"IF(LEN(W34)=0,\"\",(COUNTIF(W$6:AP$7,W34)+COUNTIF(W$10:AP$10,W34)+COUNTIF(W$13:AP$13,W34)+COUNTIF(W$16:AP$16,W34)+COUNTIF(W$19:AP$19,W34)+COUNTIF(W$22:AP$22,W34)+COUNTIF(W$25:AP$25,W34))/設定!$D25+IFERROR((COUNTIF(W$6:AP$7,処理!$L6)+COUNTIF(W$10:AP$10,処理!$L6)+COUNTIF(W$13:AP$13,処理!$L6)+COUNTIF(W$16:AP$16,処理!$L6)+COUNTIF(W$19:AP$19,処理!$L6)+COUNTIF(W$22:AP$22,処理!$L6)+COUNTIF(W$25:AP$25,処理!$L6))/処理!$M6,0))","v":""},"",{"$f":"$G$34","v":""},null,{"$f":"IF(LEN(AA34)=0,\"\",(COUNTIF(W$6:AP$7,AA34)+COUNTIF(W$10:AP$10,AA34)+COUNTIF(W$13:AP$13,AA34)+COUNTIF(W$16:AP$16,AA34)+COUNTIF(W$19:AP$19,AA34)+COUNTIF(W$22:AP$22,AA34)+COUNTIF(W$25:AP$25,AA34))/設定!$G25+IFERROR((COUNTIF(W$6:AP$7,処理!$L12)+COUNTIF(W$10:AP$10,処理!$L12)+COUNTIF(W$13:AP$13,処理!$L12)+COUNTIF(W$16:AP$16,処理!$L12)+COUNTIF(W$19:AP$19,処理!$L12)+COUNTIF(W$22:AP$22,処理!$L12)+COUNTIF(W$25:AP$25,処理!$L12))/処理!$M12,0))","v":""},"",{"$f":"$K$34","v":""},null,{"$f":"IF(LEN(AE34)=0,\"\",(COUNTIF(W$6:AP$7,AE34)+COUNTIF(W$10:AP$10,AE34)+COUNTIF(W$13:AP$13,AE34)+COUNTIF(W$16:AP$16,AE34)+COUNTIF(W$19:AP$19,AE34)+COUNTIF(W$22:AP$22,AE34)+COUNTIF(W$25:AP$25,AE34))/設定!$J25+IFERROR((COUNTIF(W$6:AP$7,処理!$L18)+COUNTIF(W$10:AP$10,処理!$L18)+COUNTIF(W$13:AP$13,処理!$L18)+COUNTIF(W$16:AP$16,処理!$L18)+COUNTIF(W$19:AP$19,処理!$L18)+COUNTIF(W$22:AP$22,処理!$L18)+COUNTIF(W$25:AP$25,処理!$L18))/処理!$M18,0))","v":""},"",{"$f":"$O$34","v":""},null,{"$f":"IF(LEN(AI34)=0,\"\",(COUNTIF(W$6:AP$7,AI34)+COUNTIF(W$10:AP$10,AI34)+COUNTIF(W$13:AP$13,AI34)+COUNTIF(W$16:AP$16,AI34)+COUNTIF(W$19:AP$19,AI34)+COUNTIF(W$22:AP$22,AI34)+COUNTIF(W$25:AP$25,AI34))/設定!$M25+IFERROR((COUNTIF(W$6:AP$7,処理!$L24)+COUNTIF(W$10:AP$10,処理!$L24)+COUNTIF(W$13:AP$13,処理!$L24)+COUNTIF(W$16:AP$16,処理!$L24)+COUNTIF(W$19:AP$19,処理!$L24)+COUNTIF(W$22:AP$22,処理!$L24)+COUNTIF(W$25:AP$25,処理!$L24))/処理!$M24,0))","v":""},"",{"$f":"$S$34","v":""},null,"","",{"$f":"$C$34","v":""},null,{"$f":"IF(LEN(AQ34)=0,\"\",(COUNTIF(AQ$6:BJ$7,AQ34)+COUNTIF(AQ$10:BJ$10,AQ34)+COUNTIF(AQ$13:BJ$13,AQ34)+COUNTIF(AQ$16:BJ$16,AQ34)+COUNTIF(AQ$19:BJ$19,AQ34)+COUNTIF(AQ$22:BJ$22,AQ34)+COUNTIF(AQ$25:BJ$25,AQ34))/設定!$D25+IFERROR((COUNTIF(AQ$6:BJ$7,処理!$L6)+COUNTIF(AQ$10:BJ$10,処理!$L6)+COUNTIF(AQ$13:BJ$13,処理!$L6)+COUNTIF(AQ$16:BJ$16,処理!$L6)+COUNTIF(AQ$19:BJ$19,処理!$L6)+COUNTIF(AQ$22:BJ$22,処理!$L6)+COUNTIF(AQ$25:BJ$25,処理!$L6))/処理!$M6,0))","v":""},"",{"$f":"$G$34","v":""},null,{"$f":"IF(LEN(AU34)=0,\"\",(COUNTIF(AQ$6:BJ$7,AU34)+COUNTIF(AQ$10:BJ$10,AU34)+COUNTIF(AQ$13:BJ$13,AU34)+COUNTIF(AQ$16:BJ$16,AU34)+COUNTIF(AQ$19:BJ$19,AU34)+COUNTIF(AQ$22:BJ$22,AU34)+COUNTIF(AQ$25:BJ$25,AU34))/設定!$G25+IFERROR((COUNTIF(AQ$6:BJ$7,処理!$L12)+COUNTIF(AQ$10:BJ$10,処理!$L12)+COUNTIF(AQ$13:BJ$13,処理!$L12)+COUNTIF(AQ$16:BJ$16,処理!$L12)+COUNTIF(AQ$19:BJ$19,処理!$L12)+COUNTIF(AQ$22:BJ$22,処理!$L12)+COUNTIF(AQ$25:BJ$25,処理!$L12))/処理!$M12,0))","v":""},"",{"$f":"$K$34","v":""},null,{"$f":"IF(LEN(AY34)=0,\"\",(COUNTIF(AQ$6:BJ$7,AY34)+COUNTIF(AQ$10:BJ$10,AY34)+COUNTIF(AQ$13:BJ$13,AY34)+COUNTIF(AQ$16:BJ$16,AY34)+COUNTIF(AQ$19:BJ$19,AY34)+COUNTIF(AQ$22:BJ$22,AY34)+COUNTIF(AQ$25:BJ$25,AY34))/設定!$J25+IFERROR((COUNTIF(AQ$6:BJ$7,処理!$L18)+COUNTIF(AQ$10:BJ$10,処理!$L18)+COUNTIF(AQ$13:BJ$13,処理!$L18)+COUNTIF(AQ$16:BJ$16,処理!$L18)+COUNTIF(AQ$19:BJ$19,処理!$L18)+COUNTIF(AQ$22:BJ$22,処理!$L18)+COUNTIF(AQ$25:BJ$25,処理!$L18))/処理!$M18,0))","v":""},"",{"$f":"$O$34","v":""},null,{"$f":"IF(LEN(BC34)=0,\"\",(COUNTIF(AQ$6:BJ$7,BC34)+COUNTIF(AQ$10:BJ$10,BC34)+COUNTIF(AQ$13:BJ$13,BC34)+COUNTIF(AQ$16:BJ$16,BC34)+COUNTIF(AQ$19:BJ$19,BC34)+COUNTIF(AQ$22:BJ$22,BC34)+COUNTIF(AQ$25:BJ$25,BC34))/設定!$M25+IFERROR((COUNTIF(AQ$6:BJ$7,処理!$L24)+COUNTIF(AQ$10:BJ$10,処理!$L24)+COUNTIF(AQ$13:BJ$13,処理!$L24)+COUNTIF(AQ$16:BJ$16,処理!$L24)+COUNTIF(AQ$19:BJ$19,処理!$L24)+COUNTIF(AQ$22:BJ$22,処理!$L24)+COUNTIF(AQ$25:BJ$25,処理!$L24))/処理!$M24,0))","v":""},"",{"$f":"$S$34","v":""},null,"","",{"$f":"$C$34","v":""},null,{"$f":"IF(LEN(BK34)=0,\"\",(COUNTIF(BK$6:CD$7,BK34)+COUNTIF(BK$10:CD$10,BK34)+COUNTIF(BK$13:CD$13,BK34)+COUNTIF(BK$16:CD$16,BK34)+COUNTIF(BK$19:CD$19,BK34)+COUNTIF(BK$22:CD$22,BK34)+COUNTIF(BK$25:CD$25,BK34))/設定!$D25+IFERROR((COUNTIF(BK$6:CD$7,処理!$L6)+COUNTIF(BK$10:CD$10,処理!$L6)+COUNTIF(BK$13:CD$13,処理!$L6)+COUNTIF(BK$16:CD$16,処理!$L6)+COUNTIF(BK$19:CD$19,処理!$L6)+COUNTIF(BK$22:CD$22,処理!$L6)+COUNTIF(BK$25:CD$25,処理!$L6))/処理!$M6,0))","v":""},"",{"$f":"$G$34","v":""},null,{"$f":"IF(LEN(BO34)=0,\"\",(COUNTIF(BK$6:CD$7,BO34)+COUNTIF(BK$10:CD$10,BO34)+COUNTIF(BK$13:CD$13,BO34)+COUNTIF(BK$16:CD$16,BO34)+COUNTIF(BK$19:CD$19,BO34)+COUNTIF(BK$22:CD$22,BO34)+COUNTIF(BK$25:CD$25,BO34))/設定!$G25+IFERROR((COUNTIF(BK$6:CD$7,処理!$L12)+COUNTIF(BK$10:CD$10,処理!$L12)+COUNTIF(BK$13:CD$13,処理!$L12)+COUNTIF(BK$16:CD$16,処理!$L12)+COUNTIF(BK$19:CD$19,処理!$L12)+COUNTIF(BK$22:CD$22,処理!$L12)+COUNTIF(BK$25:CD$25,処理!$L12))/処理!$M12,0))","v":""},"",{"$f":"$K$34","v":""},null,{"$f":"IF(LEN(BS34)=0,\"\",(COUNTIF(BK$6:CD$7,BS34)+COUNTIF(BK$10:CD$10,BS34)+COUNTIF(BK$13:CD$13,BS34)+COUNTIF(BK$16:CD$16,BS34)+COUNTIF(BK$19:CD$19,BS34)+COUNTIF(BK$22:CD$22,BS34)+COUNTIF(BK$25:CD$25,BS34))/設定!$J25+IFERROR((COUNTIF(BK$6:CD$7,処理!$L18)+COUNTIF(BK$10:CD$10,処理!$L18)+COUNTIF(BK$13:CD$13,処理!$L18)+COUNTIF(BK$16:CD$16,処理!$L18)+COUNTIF(BK$19:CD$19,処理!$L18)+COUNTIF(BK$22:CD$22,処理!$L18)+COUNTIF(BK$25:CD$25,処理!$L18))/処理!$M18,0))","v":""},"",{"$f":"$O$34","v":""},null,{"$f":"IF(LEN(BW34)=0,\"\",(COUNTIF(BK$6:CD$7,BW34)+COUNTIF(BK$10:CD$10,BW34)+COUNTIF(BK$13:CD$13,BW34)+COUNTIF(BK$16:CD$16,BW34)+COUNTIF(BK$19:CD$19,BW34)+COUNTIF(BK$22:CD$22,BW34)+COUNTIF(BK$25:CD$25,BW34))/設定!$M25+IFERROR((COUNTIF(BK$6:CD$7,処理!$L24)+COUNTIF(BK$10:CD$10,処理!$L24)+COUNTIF(BK$13:CD$13,処理!$L24)+COUNTIF(BK$16:CD$16,処理!$L24)+COUNTIF(BK$19:CD$19,処理!$L24)+COUNTIF(BK$22:CD$22,処理!$L24)+COUNTIF(BK$25:CD$25,処理!$L24))/処理!$M24,0))","v":""},"",{"$f":"$S$34","v":""},null,"","",{"$f":"$C$34","v":""},null,{"$f":"IF(LEN(CE34)=0,\"\",(COUNTIF(CE$6:CX$7,CE34)+COUNTIF(CE$10:CX$10,CE34)+COUNTIF(CE$13:CX$13,CE34)+COUNTIF(CE$16:CX$16,CE34)+COUNTIF(CE$19:CX$19,CE34)+COUNTIF(CE$22:CX$22,CE34)+COUNTIF(CE$25:CX$25,CE34))/設定!$D25+IFERROR((COUNTIF(CE$6:CX$7,処理!$L6)+COUNTIF(CE$10:CX$10,処理!$L6)+COUNTIF(CE$13:CX$13,処理!$L6)+COUNTIF(CE$16:CX$16,処理!$L6)+COUNTIF(CE$19:CX$19,処理!$L6)+COUNTIF(CE$22:CX$22,処理!$L6)+COUNTIF(CE$25:CX$25,処理!$L6))/処理!$M6,0))","v":""},"",{"$f":"$G$34","v":""},null,{"$f":"IF(LEN(CI34)=0,\"\",(COUNTIF(CE$6:CX$7,CI34)+COUNTIF(CE$10:CX$10,CI34)+COUNTIF(CE$13:CX$13,CI34)+COUNTIF(CE$16:CX$16,CI34)+COUNTIF(CE$19:CX$19,CI34)+COUNTIF(CE$22:CX$22,CI34)+COUNTIF(CE$25:CX$25,CI34))/設定!$G25+IFERROR((COUNTIF(CE$6:CX$7,処理!$L12)+COUNTIF(CE$10:CX$10,処理!$L12)+COUNTIF(CE$13:CX$13,処理!$L12)+COUNTIF(CE$16:CX$16,処理!$L12)+COUNTIF(CE$19:CX$19,処理!$L12)+COUNTIF(CE$22:CX$22,処理!$L12)+COUNTIF(CE$25:CX$25,処理!$L12))/処理!$M12,0))","v":""},"",{"$f":"$K$34","v":""},null,{"$f":"IF(LEN(CM34)=0,\"\",(COUNTIF(CE$6:CX$7,CM34)+COUNTIF(CE$10:CX$10,CM34)+COUNTIF(CE$13:CX$13,CM34)+COUNTIF(CE$16:CX$16,CM34)+COUNTIF(CE$19:CX$19,CM34)+COUNTIF(CE$22:CX$22,CM34)+COUNTIF(CE$25:CX$25,CM34))/設定!$J25+IFERROR((COUNTIF(CE$6:CX$7,処理!$L18)+COUNTIF(CE$10:CX$10,処理!$L18)+COUNTIF(CE$13:CX$13,処理!$L18)+COUNTIF(CE$16:CX$16,処理!$L18)+COUNTIF(CE$19:CX$19,処理!$L18)+COUNTIF(CE$22:CX$22,処理!$L18)+COUNTIF(CE$25:CX$25,処理!$L18))/処理!$M18,0))","v":""},"",{"$f":"$O$34","v":""},null,{"$f":"IF(LEN(CQ34)=0,\"\",(COUNTIF(CE$6:CX$7,CQ34)+COUNTIF(CE$10:CX$10,CQ34)+COUNTIF(CE$13:CX$13,CQ34)+COUNTIF(CE$16:CX$16,CQ34)+COUNTIF(CE$19:CX$19,CQ34)+COUNTIF(CE$22:CX$22,CQ34)+COUNTIF(CE$25:CX$25,CQ34))/設定!$M25+IFERROR((COUNTIF(CE$6:CX$7,処理!$L24)+COUNTIF(CE$10:CX$10,処理!$L24)+COUNTIF(CE$13:CX$13,処理!$L24)+COUNTIF(CE$16:CX$16,処理!$L24)+COUNTIF(CE$19:CX$19,処理!$L24)+COUNTIF(CE$22:CX$22,処理!$L24)+COUNTIF(CE$25:CX$25,処理!$L24))/処理!$M24,0))","v":""},"",{"$f":"$S$34","v":""},null,"","",{"$f":"$C$34","v":""},null,{"$f":"IF(LEN(CY34)=0,\"\",(COUNTIF(CY$6:DR$7,CY34)+COUNTIF(CY$10:DR$10,CY34)+COUNTIF(CY$13:DR$13,CY34)+COUNTIF(CY$16:DR$16,CY34)+COUNTIF(CY$19:DR$19,CY34)+COUNTIF(CY$22:DR$22,CY34)+COUNTIF(CY$25:DR$25,CY34))/設定!$D25+IFERROR((COUNTIF(CY$6:DR$7,処理!$L6)+COUNTIF(CY$10:DR$10,処理!$L6)+COUNTIF(CY$13:DR$13,処理!$L6)+COUNTIF(CY$16:DR$16,処理!$L6)+COUNTIF(CY$19:DR$19,処理!$L6)+COUNTIF(CY$22:DR$22,処理!$L6)+COUNTIF(CY$25:DR$25,処理!$L6))/処理!$M6,0))","v":""},"",{"$f":"$G$34","v":""},null,{"$f":"IF(LEN(DC34)=0,\"\",(COUNTIF(CY$6:DR$7,DC34)+COUNTIF(CY$10:DR$10,DC34)+COUNTIF(CY$13:DR$13,DC34)+COUNTIF(CY$16:DR$16,DC34)+COUNTIF(CY$19:DR$19,DC34)+COUNTIF(CY$22:DR$22,DC34)+COUNTIF(CY$25:DR$25,DC34))/設定!$G25+IFERROR((COUNTIF(CY$6:DR$7,処理!$L12)+COUNTIF(CY$10:DR$10,処理!$L12)+COUNTIF(CY$13:DR$13,処理!$L12)+COUNTIF(CY$16:DR$16,処理!$L12)+COUNTIF(CY$19:DR$19,処理!$L12)+COUNTIF(CY$22:DR$22,処理!$L12)+COUNTIF(CY$25:DR$25,処理!$L12))/処理!$M12,0))","v":""},"",{"$f":"$K$34","v":""},null,{"$f":"IF(LEN(DG34)=0,\"\",(COUNTIF(CY$6:DR$7,DG34)+COUNTIF(CY$10:DR$10,DG34)+COUNTIF(CY$13:DR$13,DG34)+COUNTIF(CY$16:DR$16,DG34)+COUNTIF(CY$19:DR$19,DG34)+COUNTIF(CY$22:DR$22,DG34)+COUNTIF(CY$25:DR$25,DG34))/設定!$J25+IFERROR((COUNTIF(CY$6:DR$7,処理!$L18)+COUNTIF(CY$10:DR$10,処理!$L18)+COUNTIF(CY$13:DR$13,処理!$L18)+COUNTIF(CY$16:DR$16,処理!$L18)+COUNTIF(CY$19:DR$19,処理!$L18)+COUNTIF(CY$22:DR$22,処理!$L18)+COUNTIF(CY$25:DR$25,処理!$L18))/処理!$M18,0))","v":""},"",{"$f":"$O$34","v":""},null,{"$f":"IF(LEN(DK34)=0,\"\",(COUNTIF(CY$6:DR$7,DK34)+COUNTIF(CY$10:DR$10,DK34)+COUNTIF(CY$13:DR$13,DK34)+COUNTIF(CY$16:DR$16,DK34)+COUNTIF(CY$19:DR$19,DK34)+COUNTIF(CY$22:DR$22,DK34)+COUNTIF(CY$25:DR$25,DK34))/設定!$M25+IFERROR((COUNTIF(CY$6:DR$7,処理!$L24)+COUNTIF(CY$10:DR$10,処理!$L24)+COUNTIF(CY$13:DR$13,処理!$L24)+COUNTIF(CY$16:DR$16,処理!$L24)+COUNTIF(CY$19:DR$19,処理!$L24)+COUNTIF(CY$22:DR$22,処理!$L24)+COUNTIF(CY$25:DR$25,処理!$L24))/処理!$M24,0))","v":""},"",{"$f":"$S$34","v":""},null,"","",{"$f":"$C$34","v":""},null,{"$f":"IF(LEN(DS34)=0,\"\",(COUNTIF(DS$6:EL$7,DS34)+COUNTIF(DS$10:EL$10,DS34)+COUNTIF(DS$13:EL$13,DS34)+COUNTIF(DS$16:EL$16,DS34)+COUNTIF(DS$19:EL$19,DS34)+COUNTIF(DS$22:EL$22,DS34)+COUNTIF(DS$25:EL$25,DS34))/設定!$D25+IFERROR((COUNTIF(DS$6:EL$7,処理!$L6)+COUNTIF(DS$10:EL$10,処理!$L6)+COUNTIF(DS$13:EL$13,処理!$L6)+COUNTIF(DS$16:EL$16,処理!$L6)+COUNTIF(DS$19:EL$19,処理!$L6)+COUNTIF(DS$22:EL$22,処理!$L6)+COUNTIF(DS$25:EL$25,処理!$L6))/処理!$M6,0))","v":""},"",{"$f":"$G$34","v":""},null,{"$f":"IF(LEN(DW34)=0,\"\",(COUNTIF(DS$6:EL$7,DW34)+COUNTIF(DS$10:EL$10,DW34)+COUNTIF(DS$13:EL$13,DW34)+COUNTIF(DS$16:EL$16,DW34)+COUNTIF(DS$19:EL$19,DW34)+COUNTIF(DS$22:EL$22,DW34)+COUNTIF(DS$25:EL$25,DW34))/設定!$G25+IFERROR((COUNTIF(DS$6:EL$7,処理!$L12)+COUNTIF(DS$10:EL$10,処理!$L12)+COUNTIF(DS$13:EL$13,処理!$L12)+COUNTIF(DS$16:EL$16,処理!$L12)+COUNTIF(DS$19:EL$19,処理!$L12)+COUNTIF(DS$22:EL$22,処理!$L12)+COUNTIF(DS$25:EL$25,処理!$L12))/処理!$M12,0))","v":""},"",{"$f":"$K$34","v":""},null,{"$f":"IF(LEN(EA34)=0,\"\",(COUNTIF(DS$6:EL$7,EA34)+COUNTIF(DS$10:EL$10,EA34)+COUNTIF(DS$13:EL$13,EA34)+COUNTIF(DS$16:EL$16,EA34)+COUNTIF(DS$19:EL$19,EA34)+COUNTIF(DS$22:EL$22,EA34)+COUNTIF(DS$25:EL$25,EA34))/設定!$J25+IFERROR((COUNTIF(DS$6:EL$7,処理!$L18)+COUNTIF(DS$10:EL$10,処理!$L18)+COUNTIF(DS$13:EL$13,処理!$L18)+COUNTIF(DS$16:EL$16,処理!$L18)+COUNTIF(DS$19:EL$19,処理!$L18)+COUNTIF(DS$22:EL$22,処理!$L18)+COUNTIF(DS$25:EL$25,処理!$L18))/処理!$M18,0))","v":""},"",{"$f":"$O$34","v":""},null,{"$f":"IF(LEN(EE34)=0,\"\",(COUNTIF(DS$6:EL$7,EE34)+COUNTIF(DS$10:EL$10,EE34)+COUNTIF(DS$13:EL$13,EE34)+COUNTIF(DS$16:EL$16,EE34)+COUNTIF(DS$19:EL$19,EE34)+COUNTIF(DS$22:EL$22,EE34)+COUNTIF(DS$25:EL$25,EE34))/設定!$M25+IFERROR((COUNTIF(DS$6:EL$7,処理!$L24)+COUNTIF(DS$10:EL$10,処理!$L24)+COUNTIF(DS$13:EL$13,処理!$L24)+COUNTIF(DS$16:EL$16,処理!$L24)+COUNTIF(DS$19:EL$19,処理!$L24)+COUNTIF(DS$22:EL$22,処理!$L24)+COUNTIF(DS$25:EL$25,処理!$L24))/処理!$M24,0))","v":""},"",{"$f":"$S$34","v":""},null,"","",{"$f":"$C$34","v":""},null,{"$f":"IF(LEN(EM34)=0,\"\",(COUNTIF(EM$6:FF$7,EM34)+COUNTIF(EM$10:FF$10,EM34)+COUNTIF(EM$13:FF$13,EM34)+COUNTIF(EM$16:FF$16,EM34)+COUNTIF(EM$19:FF$19,EM34)+COUNTIF(EM$22:FF$22,EM34)+COUNTIF(EM$25:FF$25,EM34))/設定!$D25+IFERROR((COUNTIF(EM$6:FF$7,処理!$L6)+COUNTIF(EM$10:FF$10,処理!$L6)+COUNTIF(EM$13:FF$13,処理!$L6)+COUNTIF(EM$16:FF$16,処理!$L6)+COUNTIF(EM$19:FF$19,処理!$L6)+COUNTIF(EM$22:FF$22,処理!$L6)+COUNTIF(EM$25:FF$25,処理!$L6))/処理!$M6,0))","v":""},"",{"$f":"$G$34","v":""},null,{"$f":"IF(LEN(EQ34)=0,\"\",(COUNTIF(EM$6:FF$7,EQ34)+COUNTIF(EM$10:FF$10,EQ34)+COUNTIF(EM$13:FF$13,EQ34)+COUNTIF(EM$16:FF$16,EQ34)+COUNTIF(EM$19:FF$19,EQ34)+COUNTIF(EM$22:FF$22,EQ34)+COUNTIF(EM$25:FF$25,EQ34))/設定!$G25+IFERROR((COUNTIF(EM$6:FF$7,処理!$L12)+COUNTIF(EM$10:FF$10,処理!$L12)+COUNTIF(EM$13:FF$13,処理!$L12)+COUNTIF(EM$16:FF$16,処理!$L12)+COUNTIF(EM$19:FF$19,処理!$L12)+COUNTIF(EM$22:FF$22,処理!$L12)+COUNTIF(EM$25:FF$25,処理!$L12))/処理!$M12,0))","v":""},"",{"$f":"$K$34","v":""},null,{"$f":"IF(LEN(EU34)=0,\"\",(COUNTIF(EM$6:FF$7,EU34)+COUNTIF(EM$10:FF$10,EU34)+COUNTIF(EM$13:FF$13,EU34)+COUNTIF(EM$16:FF$16,EU34)+COUNTIF(EM$19:FF$19,EU34)+COUNTIF(EM$22:FF$22,EU34)+COUNTIF(EM$25:FF$25,EU34))/設定!$J25+IFERROR((COUNTIF(EM$6:FF$7,処理!$L18)+COUNTIF(EM$10:FF$10,処理!$L18)+COUNTIF(EM$13:FF$13,処理!$L18)+COUNTIF(EM$16:FF$16,処理!$L18)+COUNTIF(EM$19:FF$19,処理!$L18)+COUNTIF(EM$22:FF$22,処理!$L18)+COUNTIF(EM$25:FF$25,処理!$L18))/処理!$M18,0))","v":""},"",{"$f":"$O$34","v":""},null,{"$f":"IF(LEN(EY34)=0,\"\",(COUNTIF(EM$6:FF$7,EY34)+COUNTIF(EM$10:FF$10,EY34)+COUNTIF(EM$13:FF$13,EY34)+COUNTIF(EM$16:FF$16,EY34)+COUNTIF(EM$19:FF$19,EY34)+COUNTIF(EM$22:FF$22,EY34)+COUNTIF(EM$25:FF$25,EY34))/設定!$M25+IFERROR((COUNTIF(EM$6:FF$7,処理!$L24)+COUNTIF(EM$10:FF$10,処理!$L24)+COUNTIF(EM$13:FF$13,処理!$L24)+COUNTIF(EM$16:FF$16,処理!$L24)+COUNTIF(EM$19:FF$19,処理!$L24)+COUNTIF(EM$22:FF$22,処理!$L24)+COUNTIF(EM$25:FF$25,処理!$L24))/処理!$M24,0))","v":""},"",{"$f":"$S$34","v":""},null,"","",{"$f":"$C$34","v":""},null,{"$f":"IF(LEN(FG34)=0,\"\",(COUNTIF(FG$6:FZ$7,FG34)+COUNTIF(FG$10:FZ$10,FG34)+COUNTIF(FG$13:FZ$13,FG34)+COUNTIF(FG$16:FZ$16,FG34)+COUNTIF(FG$19:FZ$19,FG34)+COUNTIF(FG$22:FZ$22,FG34)+COUNTIF(FG$25:FZ$25,FG34))/設定!$D25+IFERROR((COUNTIF(FG$6:FZ$7,処理!$L6)+COUNTIF(FG$10:FZ$10,処理!$L6)+COUNTIF(FG$13:FZ$13,処理!$L6)+COUNTIF(FG$16:FZ$16,処理!$L6)+COUNTIF(FG$19:FZ$19,処理!$L6)+COUNTIF(FG$22:FZ$22,処理!$L6)+COUNTIF(FG$25:FZ$25,処理!$L6))/処理!$M6,0))","v":""},"",{"$f":"$G$34","v":""},null,{"$f":"IF(LEN(FK34)=0,\"\",(COUNTIF(FG$6:FZ$7,FK34)+COUNTIF(FG$10:FZ$10,FK34)+COUNTIF(FG$13:FZ$13,FK34)+COUNTIF(FG$16:FZ$16,FK34)+COUNTIF(FG$19:FZ$19,FK34)+COUNTIF(FG$22:FZ$22,FK34)+COUNTIF(FG$25:FZ$25,FK34))/設定!$G25+IFERROR((COUNTIF(FG$6:FZ$7,処理!$L12)+COUNTIF(FG$10:FZ$10,処理!$L12)+COUNTIF(FG$13:FZ$13,処理!$L12)+COUNTIF(FG$16:FZ$16,処理!$L12)+COUNTIF(FG$19:FZ$19,処理!$L12)+COUNTIF(FG$22:FZ$22,処理!$L12)+COUNTIF(FG$25:FZ$25,処理!$L12))/処理!$M12,0))","v":""},"",{"$f":"$K$34","v":""},null,{"$f":"IF(LEN(FO34)=0,\"\",(COUNTIF(FG$6:FZ$7,FO34)+COUNTIF(FG$10:FZ$10,FO34)+COUNTIF(FG$13:FZ$13,FO34)+COUNTIF(FG$16:FZ$16,FO34)+COUNTIF(FG$19:FZ$19,FO34)+COUNTIF(FG$22:FZ$22,FO34)+COUNTIF(FG$25:FZ$25,FO34))/設定!$J25+IFERROR((COUNTIF(FG$6:FZ$7,処理!$L18)+COUNTIF(FG$10:FZ$10,処理!$L18)+COUNTIF(FG$13:FZ$13,処理!$L18)+COUNTIF(FG$16:FZ$16,処理!$L18)+COUNTIF(FG$19:FZ$19,処理!$L18)+COUNTIF(FG$22:FZ$22,処理!$L18)+COUNTIF(FG$25:FZ$25,処理!$L18))/処理!$M18,0))","v":""},"",{"$f":"$O$34","v":""},null,{"$f":"IF(LEN(FS34)=0,\"\",(COUNTIF(FG$6:FZ$7,FS34)+COUNTIF(FG$10:FZ$10,FS34)+COUNTIF(FG$13:FZ$13,FS34)+COUNTIF(FG$16:FZ$16,FS34)+COUNTIF(FG$19:FZ$19,FS34)+COUNTIF(FG$22:FZ$22,FS34)+COUNTIF(FG$25:FZ$25,FS34))/設定!$M25+IFERROR((COUNTIF(FG$6:FZ$7,処理!$L24)+COUNTIF(FG$10:FZ$10,処理!$L24)+COUNTIF(FG$13:FZ$13,処理!$L24)+COUNTIF(FG$16:FZ$16,処理!$L24)+COUNTIF(FG$19:FZ$19,処理!$L24)+COUNTIF(FG$22:FZ$22,処理!$L24)+COUNTIF(FG$25:FZ$25,処理!$L24))/処理!$M24,0))","v":""},"",{"$f":"$S$34","v":""},null,"","",{"$f":"$C$34","v":""},null,{"$f":"IF(LEN(GA34)=0,\"\",(COUNTIF(GA$6:GT$7,GA34)+COUNTIF(GA$10:GT$10,GA34)+COUNTIF(GA$13:GT$13,GA34)+COUNTIF(GA$16:GT$16,GA34)+COUNTIF(GA$19:GT$19,GA34)+COUNTIF(GA$22:GT$22,GA34)+COUNTIF(GA$25:GT$25,GA34))/設定!$D25+IFERROR((COUNTIF(GA$6:GT$7,処理!$L6)+COUNTIF(GA$10:GT$10,処理!$L6)+COUNTIF(GA$13:GT$13,処理!$L6)+COUNTIF(GA$16:GT$16,処理!$L6)+COUNTIF(GA$19:GT$19,処理!$L6)+COUNTIF(GA$22:GT$22,処理!$L6)+COUNTIF(GA$25:GT$25,処理!$L6))/処理!$M6,0))","v":""},"",{"$f":"$G$34","v":""},null,{"$f":"IF(LEN(GE34)=0,\"\",(COUNTIF(GA$6:GT$7,GE34)+COUNTIF(GA$10:GT$10,GE34)+COUNTIF(GA$13:GT$13,GE34)+COUNTIF(GA$16:GT$16,GE34)+COUNTIF(GA$19:GT$19,GE34)+COUNTIF(GA$22:GT$22,GE34)+COUNTIF(GA$25:GT$25,GE34))/設定!$G25+IFERROR((COUNTIF(GA$6:GT$7,処理!$L12)+COUNTIF(GA$10:GT$10,処理!$L12)+COUNTIF(GA$13:GT$13,処理!$L12)+COUNTIF(GA$16:GT$16,処理!$L12)+COUNTIF(GA$19:GT$19,処理!$L12)+COUNTIF(GA$22:GT$22,処理!$L12)+COUNTIF(GA$25:GT$25,処理!$L12))/処理!$M12,0))","v":""},"",{"$f":"$K$34","v":""},null,{"$f":"IF(LEN(GI34)=0,\"\",(COUNTIF(GA$6:GT$7,GI34)+COUNTIF(GA$10:GT$10,GI34)+COUNTIF(GA$13:GT$13,GI34)+COUNTIF(GA$16:GT$16,GI34)+COUNTIF(GA$19:GT$19,GI34)+COUNTIF(GA$22:GT$22,GI34)+COUNTIF(GA$25:GT$25,GI34))/設定!$J25+IFERROR((COUNTIF(GA$6:GT$7,処理!$L18)+COUNTIF(GA$10:GT$10,処理!$L18)+COUNTIF(GA$13:GT$13,処理!$L18)+COUNTIF(GA$16:GT$16,処理!$L18)+COUNTIF(GA$19:GT$19,処理!$L18)+COUNTIF(GA$22:GT$22,処理!$L18)+COUNTIF(GA$25:GT$25,処理!$L18))/処理!$M18,0))","v":""},"",{"$f":"$O$34","v":""},null,{"$f":"IF(LEN(GM34)=0,\"\",(COUNTIF(GA$6:GT$7,GM34)+COUNTIF(GA$10:GT$10,GM34)+COUNTIF(GA$13:GT$13,GM34)+COUNTIF(GA$16:GT$16,GM34)+COUNTIF(GA$19:GT$19,GM34)+COUNTIF(GA$22:GT$22,GM34)+COUNTIF(GA$25:GT$25,GM34))/設定!$M25+IFERROR((COUNTIF(GA$6:GT$7,処理!$L24)+COUNTIF(GA$10:GT$10,処理!$L24)+COUNTIF(GA$13:GT$13,処理!$L24)+COUNTIF(GA$16:GT$16,処理!$L24)+COUNTIF(GA$19:GT$19,処理!$L24)+COUNTIF(GA$22:GT$22,処理!$L24)+COUNTIF(GA$25:GT$25,処理!$L24))/処理!$M24,0))","v":""},"",{"$f":"$S$34","v":""},null,"","",{"$f":"$C$34","v":""},null,{"$f":"IF(LEN(GU34)=0,\"\",(COUNTIF(GU$6:HN$7,GU34)+COUNTIF(GU$10:HN$10,GU34)+COUNTIF(GU$13:HN$13,GU34)+COUNTIF(GU$16:HN$16,GU34)+COUNTIF(GU$19:HN$19,GU34)+COUNTIF(GU$22:HN$22,GU34)+COUNTIF(GU$25:HN$25,GU34))/設定!$D25+IFERROR((COUNTIF(GU$6:HN$7,処理!$L6)+COUNTIF(GU$10:HN$10,処理!$L6)+COUNTIF(GU$13:HN$13,処理!$L6)+COUNTIF(GU$16:HN$16,処理!$L6)+COUNTIF(GU$19:HN$19,処理!$L6)+COUNTIF(GU$22:HN$22,処理!$L6)+COUNTIF(GU$25:HN$25,処理!$L6))/処理!$M6,0))","v":""},"",{"$f":"$G$34","v":""},null,{"$f":"IF(LEN(GY34)=0,\"\",(COUNTIF(GU$6:HN$7,GY34)+COUNTIF(GU$10:HN$10,GY34)+COUNTIF(GU$13:HN$13,GY34)+COUNTIF(GU$16:HN$16,GY34)+COUNTIF(GU$19:HN$19,GY34)+COUNTIF(GU$22:HN$22,GY34)+COUNTIF(GU$25:HN$25,GY34))/設定!$G25+IFERROR((COUNTIF(GU$6:HN$7,処理!$L12)+COUNTIF(GU$10:HN$10,処理!$L12)+COUNTIF(GU$13:HN$13,処理!$L12)+COUNTIF(GU$16:HN$16,処理!$L12)+COUNTIF(GU$19:HN$19,処理!$L12)+COUNTIF(GU$22:HN$22,処理!$L12)+COUNTIF(GU$25:HN$25,処理!$L12))/処理!$M12,0))","v":""},"",{"$f":"$K$34","v":""},null,{"$f":"IF(LEN(HC34)=0,\"\",(COUNTIF(GU$6:HN$7,HC34)+COUNTIF(GU$10:HN$10,HC34)+COUNTIF(GU$13:HN$13,HC34)+COUNTIF(GU$16:HN$16,HC34)+COUNTIF(GU$19:HN$19,HC34)+COUNTIF(GU$22:HN$22,HC34)+COUNTIF(GU$25:HN$25,HC34))/設定!$J25+IFERROR((COUNTIF(GU$6:HN$7,処理!$L18)+COUNTIF(GU$10:HN$10,処理!$L18)+COUNTIF(GU$13:HN$13,処理!$L18)+COUNTIF(GU$16:HN$16,処理!$L18)+COUNTIF(GU$19:HN$19,処理!$L18)+COUNTIF(GU$22:HN$22,処理!$L18)+COUNTIF(GU$25:HN$25,処理!$L18))/処理!$M18,0))","v":""},"",{"$f":"$O$34","v":""},null,{"$f":"IF(LEN(HG34)=0,\"\",(COUNTIF(GU$6:HN$7,HG34)+COUNTIF(GU$10:HN$10,HG34)+COUNTIF(GU$13:HN$13,HG34)+COUNTIF(GU$16:HN$16,HG34)+COUNTIF(GU$19:HN$19,HG34)+COUNTIF(GU$22:HN$22,HG34)+COUNTIF(GU$25:HN$25,HG34))/設定!$M25+IFERROR((COUNTIF(GU$6:HN$7,処理!$L24)+COUNTIF(GU$10:HN$10,処理!$L24)+COUNTIF(GU$13:HN$13,処理!$L24)+COUNTIF(GU$16:HN$16,処理!$L24)+COUNTIF(GU$19:HN$19,処理!$L24)+COUNTIF(GU$22:HN$22,処理!$L24)+COUNTIF(GU$25:HN$25,処理!$L24))/処理!$M24,0))","v":""},"",{"$f":"$S$34","v":""},null,"","",{"$f":"$C$34","v":""},null,{"$f":"IF(LEN(HO34)=0,\"\",(COUNTIF(HO$6:IH$7,HO34)+COUNTIF(HO$10:IH$10,HO34)+COUNTIF(HO$13:IH$13,HO34)+COUNTIF(HO$16:IH$16,HO34)+COUNTIF(HO$19:IH$19,HO34)+COUNTIF(HO$22:IH$22,HO34)+COUNTIF(HO$25:IH$25,HO34))/設定!$D25+IFERROR((COUNTIF(HO$6:IH$7,処理!$L6)+COUNTIF(HO$10:IH$10,処理!$L6)+COUNTIF(HO$13:IH$13,処理!$L6)+COUNTIF(HO$16:IH$16,処理!$L6)+COUNTIF(HO$19:IH$19,処理!$L6)+COUNTIF(HO$22:IH$22,処理!$L6)+COUNTIF(HO$25:IH$25,処理!$L6))/処理!$M6,0))","v":""},"",{"$f":"$G$34","v":""},null,{"$f":"IF(LEN(HS34)=0,\"\",(COUNTIF(HO$6:IH$7,HS34)+COUNTIF(HO$10:IH$10,HS34)+COUNTIF(HO$13:IH$13,HS34)+COUNTIF(HO$16:IH$16,HS34)+COUNTIF(HO$19:IH$19,HS34)+COUNTIF(HO$22:IH$22,HS34)+COUNTIF(HO$25:IH$25,HS34))/設定!$G25+IFERROR((COUNTIF(HO$6:IH$7,処理!$L12)+COUNTIF(HO$10:IH$10,処理!$L12)+COUNTIF(HO$13:IH$13,処理!$L12)+COUNTIF(HO$16:IH$16,処理!$L12)+COUNTIF(HO$19:IH$19,処理!$L12)+COUNTIF(HO$22:IH$22,処理!$L12)+COUNTIF(HO$25:IH$25,処理!$L12))/処理!$M12,0))","v":""},"",{"$f":"$K$34","v":""},null,{"$f":"IF(LEN(HW34)=0,\"\",(COUNTIF(HO$6:IH$7,HW34)+COUNTIF(HO$10:IH$10,HW34)+COUNTIF(HO$13:IH$13,HW34)+COUNTIF(HO$16:IH$16,HW34)+COUNTIF(HO$19:IH$19,HW34)+COUNTIF(HO$22:IH$22,HW34)+COUNTIF(HO$25:IH$25,HW34))/設定!$J25+IFERROR((COUNTIF(HO$6:IH$7,処理!$L18)+COUNTIF(HO$10:IH$10,処理!$L18)+COUNTIF(HO$13:IH$13,処理!$L18)+COUNTIF(HO$16:IH$16,処理!$L18)+COUNTIF(HO$19:IH$19,処理!$L18)+COUNTIF(HO$22:IH$22,処理!$L18)+COUNTIF(HO$25:IH$25,処理!$L18))/処理!$M18,0))","v":""},"",{"$f":"$O$34","v":""},null,{"$f":"IF(LEN(IA34)=0,\"\",(COUNTIF(HO$6:IH$7,IA34)+COUNTIF(HO$10:IH$10,IA34)+COUNTIF(HO$13:IH$13,IA34)+COUNTIF(HO$16:IH$16,IA34)+COUNTIF(HO$19:IH$19,IA34)+COUNTIF(HO$22:IH$22,IA34)+COUNTIF(HO$25:IH$25,IA34))/設定!$M25+IFERROR((COUNTIF(HO$6:IH$7,処理!$L24)+COUNTIF(HO$10:IH$10,処理!$L24)+COUNTIF(HO$13:IH$13,処理!$L24)+COUNTIF(HO$16:IH$16,処理!$L24)+COUNTIF(HO$19:IH$19,処理!$L24)+COUNTIF(HO$22:IH$22,処理!$L24)+COUNTIF(HO$25:IH$25,処理!$L24))/処理!$M24,0))","v":""},"",{"$f":"$S$34","v":""},null,"","",{"$f":"$C$34","v":""},null,{"$f":"IF(LEN(II34)=0,\"\",(COUNTIF(II$6:JB$7,II34)+COUNTIF(II$10:JB$10,II34)+COUNTIF(II$13:JB$13,II34)+COUNTIF(II$16:JB$16,II34)+COUNTIF(II$19:JB$19,II34)+COUNTIF(II$22:JB$22,II34)+COUNTIF(II$25:JB$25,II34))/設定!$D25+IFERROR((COUNTIF(II$6:JB$7,処理!$L6)+COUNTIF(II$10:JB$10,処理!$L6)+COUNTIF(II$13:JB$13,処理!$L6)+COUNTIF(II$16:JB$16,処理!$L6)+COUNTIF(II$19:JB$19,処理!$L6)+COUNTIF(II$22:JB$22,処理!$L6)+COUNTIF(II$25:JB$25,処理!$L6))/処理!$M6,0))","v":""},"",{"$f":"$G$34","v":""},null,{"$f":"IF(LEN(IM34)=0,\"\",(COUNTIF(II$6:JB$7,IM34)+COUNTIF(II$10:JB$10,IM34)+COUNTIF(II$13:JB$13,IM34)+COUNTIF(II$16:JB$16,IM34)+COUNTIF(II$19:JB$19,IM34)+COUNTIF(II$22:JB$22,IM34)+COUNTIF(II$25:JB$25,IM34))/設定!$G25+IFERROR((COUNTIF(II$6:JB$7,処理!$L12)+COUNTIF(II$10:JB$10,処理!$L12)+COUNTIF(II$13:JB$13,処理!$L12)+COUNTIF(II$16:JB$16,処理!$L12)+COUNTIF(II$19:JB$19,処理!$L12)+COUNTIF(II$22:JB$22,処理!$L12)+COUNTIF(II$25:JB$25,処理!$L12))/処理!$M12,0))","v":""},"",{"$f":"$K$34","v":""},null,{"$f":"IF(LEN(IQ34)=0,\"\",(COUNTIF(II$6:JB$7,IQ34)+COUNTIF(II$10:JB$10,IQ34)+COUNTIF(II$13:JB$13,IQ34)+COUNTIF(II$16:JB$16,IQ34)+COUNTIF(II$19:JB$19,IQ34)+COUNTIF(II$22:JB$22,IQ34)+COUNTIF(II$25:JB$25,IQ34))/設定!$J25+IFERROR((COUNTIF(II$6:JB$7,処理!$L18)+COUNTIF(II$10:JB$10,処理!$L18)+COUNTIF(II$13:JB$13,処理!$L18)+COUNTIF(II$16:JB$16,処理!$L18)+COUNTIF(II$19:JB$19,処理!$L18)+COUNTIF(II$22:JB$22,処理!$L18)+COUNTIF(II$25:JB$25,処理!$L18))/処理!$M18,0))","v":""},"",{"$f":"$O$34","v":""},null,{"$f":"IF(LEN(IU34)=0,\"\",(COUNTIF(II$6:JB$7,IU34)+COUNTIF(II$10:JB$10,IU34)+COUNTIF(II$13:JB$13,IU34)+COUNTIF(II$16:JB$16,IU34)+COUNTIF(II$19:JB$19,IU34)+COUNTIF(II$22:JB$22,IU34)+COUNTIF(II$25:JB$25,IU34))/設定!$M25+IFERROR((COUNTIF(II$6:JB$7,処理!$L24)+COUNTIF(II$10:JB$10,処理!$L24)+COUNTIF(II$13:JB$13,処理!$L24)+COUNTIF(II$16:JB$16,処理!$L24)+COUNTIF(II$19:JB$19,処理!$L24)+COUNTIF(II$22:JB$22,処理!$L24)+COUNTIF(II$25:JB$25,処理!$L24))/処理!$M24,0))","v":""},"",{"$f":"$S$34","v":""},null,"","",{"$f":"$C$34","v":""},null,{"$f":"IF(LEN(JC34)=0,\"\",(COUNTIF(JC$6:JV$7,JC34)+COUNTIF(JC$10:JV$10,JC34)+COUNTIF(JC$13:JV$13,JC34)+COUNTIF(JC$16:JV$16,JC34)+COUNTIF(JC$19:JV$19,JC34)+COUNTIF(JC$22:JV$22,JC34)+COUNTIF(JC$25:JV$25,JC34))/設定!$D25+IFERROR((COUNTIF(JC$6:JV$7,処理!$L6)+COUNTIF(JC$10:JV$10,処理!$L6)+COUNTIF(JC$13:JV$13,処理!$L6)+COUNTIF(JC$16:JV$16,処理!$L6)+COUNTIF(JC$19:JV$19,処理!$L6)+COUNTIF(JC$22:JV$22,処理!$L6)+COUNTIF(JC$25:JV$25,処理!$L6))/処理!$M6,0))","v":""},"",{"$f":"$G$34","v":""},null,{"$f":"IF(LEN(JG34)=0,\"\",(COUNTIF(JC$6:JV$7,JG34)+COUNTIF(JC$10:JV$10,JG34)+COUNTIF(JC$13:JV$13,JG34)+COUNTIF(JC$16:JV$16,JG34)+COUNTIF(JC$19:JV$19,JG34)+COUNTIF(JC$22:JV$22,JG34)+COUNTIF(JC$25:JV$25,JG34))/設定!$G25+IFERROR((COUNTIF(JC$6:JV$7,処理!$L12)+COUNTIF(JC$10:JV$10,処理!$L12)+COUNTIF(JC$13:JV$13,処理!$L12)+COUNTIF(JC$16:JV$16,処理!$L12)+COUNTIF(JC$19:JV$19,処理!$L12)+COUNTIF(JC$22:JV$22,処理!$L12)+COUNTIF(JC$25:JV$25,処理!$L12))/処理!$M12,0))","v":""},"",{"$f":"$K$34","v":""},null,{"$f":"IF(LEN(JK34)=0,\"\",(COUNTIF(JC$6:JV$7,JK34)+COUNTIF(JC$10:JV$10,JK34)+COUNTIF(JC$13:JV$13,JK34)+COUNTIF(JC$16:JV$16,JK34)+COUNTIF(JC$19:JV$19,JK34)+COUNTIF(JC$22:JV$22,JK34)+COUNTIF(JC$25:JV$25,JK34))/設定!$J25+IFERROR((COUNTIF(JC$6:JV$7,処理!$L18)+COUNTIF(JC$10:JV$10,処理!$L18)+COUNTIF(JC$13:JV$13,処理!$L18)+COUNTIF(JC$16:JV$16,処理!$L18)+COUNTIF(JC$19:JV$19,処理!$L18)+COUNTIF(JC$22:JV$22,処理!$L18)+COUNTIF(JC$25:JV$25,処理!$L18))/処理!$M18,0))","v":""},"",{"$f":"$O$34","v":""},null,{"$f":"IF(LEN(JO34)=0,\"\",(COUNTIF(JC$6:JV$7,JO34)+COUNTIF(JC$10:JV$10,JO34)+COUNTIF(JC$13:JV$13,JO34)+COUNTIF(JC$16:JV$16,JO34)+COUNTIF(JC$19:JV$19,JO34)+COUNTIF(JC$22:JV$22,JO34)+COUNTIF(JC$25:JV$25,JO34))/設定!$M25+IFERROR((COUNTIF(JC$6:JV$7,処理!$L24)+COUNTIF(JC$10:JV$10,処理!$L24)+COUNTIF(JC$13:JV$13,処理!$L24)+COUNTIF(JC$16:JV$16,処理!$L24)+COUNTIF(JC$19:JV$19,処理!$L24)+COUNTIF(JC$22:JV$22,処理!$L24)+COUNTIF(JC$25:JV$25,処理!$L24))/処理!$M24,0))","v":""},"",{"$f":"$S$34","v":""},null,"","",{"$f":"$C$34","v":""},null,{"$f":"IF(LEN(JW34)=0,\"\",(COUNTIF(JW$6:KP$7,JW34)+COUNTIF(JW$10:KP$10,JW34)+COUNTIF(JW$13:KP$13,JW34)+COUNTIF(JW$16:KP$16,JW34)+COUNTIF(JW$19:KP$19,JW34)+COUNTIF(JW$22:KP$22,JW34)+COUNTIF(JW$25:KP$25,JW34))/設定!$D25+IFERROR((COUNTIF(JW$6:KP$7,処理!$L6)+COUNTIF(JW$10:KP$10,処理!$L6)+COUNTIF(JW$13:KP$13,処理!$L6)+COUNTIF(JW$16:KP$16,処理!$L6)+COUNTIF(JW$19:KP$19,処理!$L6)+COUNTIF(JW$22:KP$22,処理!$L6)+COUNTIF(JW$25:KP$25,処理!$L6))/処理!$M6,0))","v":""},"",{"$f":"$G$34","v":""},null,{"$f":"IF(LEN(KA34)=0,\"\",(COUNTIF(JW$6:KP$7,KA34)+COUNTIF(JW$10:KP$10,KA34)+COUNTIF(JW$13:KP$13,KA34)+COUNTIF(JW$16:KP$16,KA34)+COUNTIF(JW$19:KP$19,KA34)+COUNTIF(JW$22:KP$22,KA34)+COUNTIF(JW$25:KP$25,KA34))/設定!$G25+IFERROR((COUNTIF(JW$6:KP$7,処理!$L12)+COUNTIF(JW$10:KP$10,処理!$L12)+COUNTIF(JW$13:KP$13,処理!$L12)+COUNTIF(JW$16:KP$16,処理!$L12)+COUNTIF(JW$19:KP$19,処理!$L12)+COUNTIF(JW$22:KP$22,処理!$L12)+COUNTIF(JW$25:KP$25,処理!$L12))/処理!$M12,0))","v":""},"",{"$f":"$K$34","v":""},null,{"$f":"IF(LEN(KE34)=0,\"\",(COUNTIF(JW$6:KP$7,KE34)+COUNTIF(JW$10:KP$10,KE34)+COUNTIF(JW$13:KP$13,KE34)+COUNTIF(JW$16:KP$16,KE34)+COUNTIF(JW$19:KP$19,KE34)+COUNTIF(JW$22:KP$22,KE34)+COUNTIF(JW$25:KP$25,KE34))/設定!$J25+IFERROR((COUNTIF(JW$6:KP$7,処理!$L18)+COUNTIF(JW$10:KP$10,処理!$L18)+COUNTIF(JW$13:KP$13,処理!$L18)+COUNTIF(JW$16:KP$16,処理!$L18)+COUNTIF(JW$19:KP$19,処理!$L18)+COUNTIF(JW$22:KP$22,処理!$L18)+COUNTIF(JW$25:KP$25,処理!$L18))/処理!$M18,0))","v":""},"",{"$f":"$O$34","v":""},null,{"$f":"IF(LEN(KI34)=0,\"\",(COUNTIF(JW$6:KP$7,KI34)+COUNTIF(JW$10:KP$10,KI34)+COUNTIF(JW$13:KP$13,KI34)+COUNTIF(JW$16:KP$16,KI34)+COUNTIF(JW$19:KP$19,KI34)+COUNTIF(JW$22:KP$22,KI34)+COUNTIF(JW$25:KP$25,KI34))/設定!$M25+IFERROR((COUNTIF(JW$6:KP$7,処理!$L24)+COUNTIF(JW$10:KP$10,処理!$L24)+COUNTIF(JW$13:KP$13,処理!$L24)+COUNTIF(JW$16:KP$16,処理!$L24)+COUNTIF(JW$19:KP$19,処理!$L24)+COUNTIF(JW$22:KP$22,処理!$L24)+COUNTIF(JW$25:KP$25,処理!$L24))/処理!$M24,0))","v":""},"",{"$f":"$S$34","v":""},null,"","",{"$f":"$C$34","v":""},null,{"$f":"IF(LEN(KQ34)=0,\"\",(COUNTIF(KQ$6:LJ$7,KQ34)+COUNTIF(KQ$10:LJ$10,KQ34)+COUNTIF(KQ$13:LJ$13,KQ34)+COUNTIF(KQ$16:LJ$16,KQ34)+COUNTIF(KQ$19:LJ$19,KQ34)+COUNTIF(KQ$22:LJ$22,KQ34)+COUNTIF(KQ$25:LJ$25,KQ34))/設定!$D25+IFERROR((COUNTIF(KQ$6:LJ$7,処理!$L6)+COUNTIF(KQ$10:LJ$10,処理!$L6)+COUNTIF(KQ$13:LJ$13,処理!$L6)+COUNTIF(KQ$16:LJ$16,処理!$L6)+COUNTIF(KQ$19:LJ$19,処理!$L6)+COUNTIF(KQ$22:LJ$22,処理!$L6)+COUNTIF(KQ$25:LJ$25,処理!$L6))/処理!$M6,0))","v":""},"",{"$f":"$G$34","v":""},null,{"$f":"IF(LEN(KU34)=0,\"\",(COUNTIF(KQ$6:LJ$7,KU34)+COUNTIF(KQ$10:LJ$10,KU34)+COUNTIF(KQ$13:LJ$13,KU34)+COUNTIF(KQ$16:LJ$16,KU34)+COUNTIF(KQ$19:LJ$19,KU34)+COUNTIF(KQ$22:LJ$22,KU34)+COUNTIF(KQ$25:LJ$25,KU34))/設定!$G25+IFERROR((COUNTIF(KQ$6:LJ$7,処理!$L12)+COUNTIF(KQ$10:LJ$10,処理!$L12)+COUNTIF(KQ$13:LJ$13,処理!$L12)+COUNTIF(KQ$16:LJ$16,処理!$L12)+COUNTIF(KQ$19:LJ$19,処理!$L12)+COUNTIF(KQ$22:LJ$22,処理!$L12)+COUNTIF(KQ$25:LJ$25,処理!$L12))/処理!$M12,0))","v":""},"",{"$f":"$K$34","v":""},null,{"$f":"IF(LEN(KY34)=0,\"\",(COUNTIF(KQ$6:LJ$7,KY34)+COUNTIF(KQ$10:LJ$10,KY34)+COUNTIF(KQ$13:LJ$13,KY34)+COUNTIF(KQ$16:LJ$16,KY34)+COUNTIF(KQ$19:LJ$19,KY34)+COUNTIF(KQ$22:LJ$22,KY34)+COUNTIF(KQ$25:LJ$25,KY34))/設定!$J25+IFERROR((COUNTIF(KQ$6:LJ$7,処理!$L18)+COUNTIF(KQ$10:LJ$10,処理!$L18)+COUNTIF(KQ$13:LJ$13,処理!$L18)+COUNTIF(KQ$16:LJ$16,処理!$L18)+COUNTIF(KQ$19:LJ$19,処理!$L18)+COUNTIF(KQ$22:LJ$22,処理!$L18)+COUNTIF(KQ$25:LJ$25,処理!$L18))/処理!$M18,0))","v":""},"",{"$f":"$O$34","v":""},null,{"$f":"IF(LEN(LC34)=0,\"\",(COUNTIF(KQ$6:LJ$7,LC34)+COUNTIF(KQ$10:LJ$10,LC34)+COUNTIF(KQ$13:LJ$13,LC34)+COUNTIF(KQ$16:LJ$16,LC34)+COUNTIF(KQ$19:LJ$19,LC34)+COUNTIF(KQ$22:LJ$22,LC34)+COUNTIF(KQ$25:LJ$25,LC34))/設定!$M25+IFERROR((COUNTIF(KQ$6:LJ$7,処理!$L24)+COUNTIF(KQ$10:LJ$10,処理!$L24)+COUNTIF(KQ$13:LJ$13,処理!$L24)+COUNTIF(KQ$16:LJ$16,処理!$L24)+COUNTIF(KQ$19:LJ$19,処理!$L24)+COUNTIF(KQ$22:LJ$22,処理!$L24)+COUNTIF(KQ$25:LJ$25,処理!$L24))/処理!$M24,0))","v":""},"",{"$f":"$S$34","v":""},null,"","",{"$f":"$C$34","v":""},null,{"$f":"IF(LEN(LK34)=0,\"\",(COUNTIF(LK$6:MD$7,LK34)+COUNTIF(LK$10:MD$10,LK34)+COUNTIF(LK$13:MD$13,LK34)+COUNTIF(LK$16:MD$16,LK34)+COUNTIF(LK$19:MD$19,LK34)+COUNTIF(LK$22:MD$22,LK34)+COUNTIF(LK$25:MD$25,LK34))/設定!$D25+IFERROR((COUNTIF(LK$6:MD$7,処理!$L6)+COUNTIF(LK$10:MD$10,処理!$L6)+COUNTIF(LK$13:MD$13,処理!$L6)+COUNTIF(LK$16:MD$16,処理!$L6)+COUNTIF(LK$19:MD$19,処理!$L6)+COUNTIF(LK$22:MD$22,処理!$L6)+COUNTIF(LK$25:MD$25,処理!$L6))/処理!$M6,0))","v":""},"",{"$f":"$G$34","v":""},null,{"$f":"IF(LEN(LO34)=0,\"\",(COUNTIF(LK$6:MD$7,LO34)+COUNTIF(LK$10:MD$10,LO34)+COUNTIF(LK$13:MD$13,LO34)+COUNTIF(LK$16:MD$16,LO34)+COUNTIF(LK$19:MD$19,LO34)+COUNTIF(LK$22:MD$22,LO34)+COUNTIF(LK$25:MD$25,LO34))/設定!$G25+IFERROR((COUNTIF(LK$6:MD$7,処理!$L12)+COUNTIF(LK$10:MD$10,処理!$L12)+COUNTIF(LK$13:MD$13,処理!$L12)+COUNTIF(LK$16:MD$16,処理!$L12)+COUNTIF(LK$19:MD$19,処理!$L12)+COUNTIF(LK$22:MD$22,処理!$L12)+COUNTIF(LK$25:MD$25,処理!$L12))/処理!$M12,0))","v":""},"",{"$f":"$K$34","v":""},null,{"$f":"IF(LEN(LS34)=0,\"\",(COUNTIF(LK$6:MD$7,LS34)+COUNTIF(LK$10:MD$10,LS34)+COUNTIF(LK$13:MD$13,LS34)+COUNTIF(LK$16:MD$16,LS34)+COUNTIF(LK$19:MD$19,LS34)+COUNTIF(LK$22:MD$22,LS34)+COUNTIF(LK$25:MD$25,LS34))/設定!$J25+IFERROR((COUNTIF(LK$6:MD$7,処理!$L18)+COUNTIF(LK$10:MD$10,処理!$L18)+COUNTIF(LK$13:MD$13,処理!$L18)+COUNTIF(LK$16:MD$16,処理!$L18)+COUNTIF(LK$19:MD$19,処理!$L18)+COUNTIF(LK$22:MD$22,処理!$L18)+COUNTIF(LK$25:MD$25,処理!$L18))/処理!$M18,0))","v":""},"",{"$f":"$O$34","v":""},null,{"$f":"IF(LEN(LW34)=0,\"\",(COUNTIF(LK$6:MD$7,LW34)+COUNTIF(LK$10:MD$10,LW34)+COUNTIF(LK$13:MD$13,LW34)+COUNTIF(LK$16:MD$16,LW34)+COUNTIF(LK$19:MD$19,LW34)+COUNTIF(LK$22:MD$22,LW34)+COUNTIF(LK$25:MD$25,LW34))/設定!$M25+IFERROR((COUNTIF(LK$6:MD$7,処理!$L24)+COUNTIF(LK$10:MD$10,処理!$L24)+COUNTIF(LK$13:MD$13,処理!$L24)+COUNTIF(LK$16:MD$16,処理!$L24)+COUNTIF(LK$19:MD$19,処理!$L24)+COUNTIF(LK$22:MD$22,処理!$L24)+COUNTIF(LK$25:MD$25,処理!$L24))/処理!$M24,0))","v":""},"",{"$f":"$S$34","v":""},null,"",""]
[null,null,{"$f":"IF(COUNTIF(処理!$J$2:$J$25,5)>0,処理!H7,\"\")","v":""},null,{"$f":"IF(LEN(C35)=0,\"\",(COUNTIF(C$6:V$7,C35)+COUNTIF(C$10:V$10,C35)+COUNTIF(C$13:V$13,C35)+COUNTIF(C$16:V$16,C35)+COUNTIF(C$19:V$19,C35)+COUNTIF(C$22:V$22,C35)+COUNTIF(C$25:V$25,C35))/設定!$D26+IFERROR((COUNTIF(C$6:V$7,処理!$L7)+COUNTIF(C$10:V$10,処理!$L7)+COUNTIF(C$13:V$13,処理!$L7)+COUNTIF(C$16:V$16,処理!$L7)+COUNTIF(C$19:V$19,処理!$L7)+COUNTIF(C$22:V$22,処理!$L7)+COUNTIF(C$25:V$25,処理!$L7))/処理!$M7,0))","v":""},"",{"$f":"IF(COUNTIF(処理!$J$2:$J$25,11)>0,処理!H13,\"\")","v":""},null,{"$f":"IF(LEN(G35)=0,\"\",(COUNTIF(C$6:V$7,G35)+COUNTIF(C$10:V$10,G35)+COUNTIF(C$13:V$13,G35)+COUNTIF(C$16:V$16,G35)+COUNTIF(C$19:V$19,G35)+COUNTIF(C$22:V$22,G35)+COUNTIF(C$25:V$25,G35))/設定!$G26+IFERROR((COUNTIF(C$6:V$7,処理!$L13)+COUNTIF(C$10:V$10,処理!$L13)+COUNTIF(C$13:V$13,処理!$L13)+COUNTIF(C$16:V$16,処理!$L13)+COUNTIF(C$19:V$19,処理!$L13)+COUNTIF(C$22:V$22,処理!$L13)+COUNTIF(C$25:V$25,処理!$L13))/処理!$M13,0))","v":""},"",{"$f":"IF(COUNTIF(処理!$J$2:$J$25,17)>0,処理!H19,\"\")","v":""},null,{"$f":"IF(LEN(K35)=0,\"\",(COUNTIF(C$6:V$7,K35)+COUNTIF(C$10:V$10,K35)+COUNTIF(C$13:V$13,K35)+COUNTIF(C$16:V$16,K35)+COUNTIF(C$19:V$19,K35)+COUNTIF(C$22:V$22,K35)+COUNTIF(C$25:V$25,K35))/設定!$J26+IFERROR((COUNTIF(C$6:V$7,処理!$L19)+COUNTIF(C$10:V$10,処理!$L19)+COUNTIF(C$13:V$13,処理!$L19)+COUNTIF(C$16:V$16,処理!$L19)+COUNTIF(C$19:V$19,処理!$L19)+COUNTIF(C$22:V$22,処理!$L19)+COUNTIF(C$25:V$25,処理!$L19))/処理!$M19,0))","v":""},"",{"$f":"IF(COUNTIF(処理!$J$2:$J$25,23)>0,処理!H25,\"\")","v":""},null,{"$f":"IF(LEN(O35)=0,\"\",(COUNTIF(C$6:V$7,O35)+COUNTIF(C$10:V$10,O35)+COUNTIF(C$13:V$13,O35)+COUNTIF(C$16:V$16,O35)+COUNTIF(C$19:V$19,O35)+COUNTIF(C$22:V$22,O35)+COUNTIF(C$25:V$25,O35))/設定!$M26+IFERROR((COUNTIF(C$6:V$7,処理!$L25)+COUNTIF(C$10:V$10,処理!$L25)+COUNTIF(C$13:V$13,処理!$L25)+COUNTIF(C$16:V$16,処理!$L25)+COUNTIF(C$19:V$19,処理!$L25)+COUNTIF(C$22:V$22,処理!$L25)+COUNTIF(C$25:V$25,処理!$L25))/処理!$M25,0))","v":""},"",{"$f":"処理!H31&\"\"","v":""},null,"","",{"$f":"$C$35","v":""},null,{"$f":"IF(LEN(W35)=0,\"\",(COUNTIF(W$6:AP$7,W35)+COUNTIF(W$10:AP$10,W35)+COUNTIF(W$13:AP$13,W35)+COUNTIF(W$16:AP$16,W35)+COUNTIF(W$19:AP$19,W35)+COUNTIF(W$22:AP$22,W35)+COUNTIF(W$25:AP$25,W35))/設定!$D26+IFERROR((COUNTIF(W$6:AP$7,処理!$L7)+COUNTIF(W$10:AP$10,処理!$L7)+COUNTIF(W$13:AP$13,処理!$L7)+COUNTIF(W$16:AP$16,処理!$L7)+COUNTIF(W$19:AP$19,処理!$L7)+COUNTIF(W$22:AP$22,処理!$L7)+COUNTIF(W$25:AP$25,処理!$L7))/処理!$M7,0))","v":""},"",{"$f":"$G$35","v":""},null,{"$f":"IF(LEN(AA35)=0,\"\",(COUNTIF(W$6:AP$7,AA35)+COUNTIF(W$10:AP$10,AA35)+COUNTIF(W$13:AP$13,AA35)+COUNTIF(W$16:AP$16,AA35)+COUNTIF(W$19:AP$19,AA35)+COUNTIF(W$22:AP$22,AA35)+COUNTIF(W$25:AP$25,AA35))/設定!$G26+IFERROR((COUNTIF(W$6:AP$7,処理!$L13)+COUNTIF(W$10:AP$10,処理!$L13)+COUNTIF(W$13:AP$13,処理!$L13)+COUNTIF(W$16:AP$16,処理!$L13)+COUNTIF(W$19:AP$19,処理!$L13)+COUNTIF(W$22:AP$22,処理!$L13)+COUNTIF(W$25:AP$25,処理!$L13))/処理!$M13,0))","v":""},"",{"$f":"$K$35","v":""},null,{"$f":"IF(LEN(AE35)=0,\"\",(COUNTIF(W$6:AP$7,AE35)+COUNTIF(W$10:AP$10,AE35)+COUNTIF(W$13:AP$13,AE35)+COUNTIF(W$16:AP$16,AE35)+COUNTIF(W$19:AP$19,AE35)+COUNTIF(W$22:AP$22,AE35)+COUNTIF(W$25:AP$25,AE35))/設定!$J26+IFERROR((COUNTIF(W$6:AP$7,処理!$L19)+COUNTIF(W$10:AP$10,処理!$L19)+COUNTIF(W$13:AP$13,処理!$L19)+COUNTIF(W$16:AP$16,処理!$L19)+COUNTIF(W$19:AP$19,処理!$L19)+COUNTIF(W$22:AP$22,処理!$L19)+COUNTIF(W$25:AP$25,処理!$L19))/処理!$M19,0))","v":""},"",{"$f":"$O$35","v":""},null,{"$f":"IF(LEN(AI35)=0,\"\",(COUNTIF(W$6:AP$7,AI35)+COUNTIF(W$10:AP$10,AI35)+COUNTIF(W$13:AP$13,AI35)+COUNTIF(W$16:AP$16,AI35)+COUNTIF(W$19:AP$19,AI35)+COUNTIF(W$22:AP$22,AI35)+COUNTIF(W$25:AP$25,AI35))/設定!$M26+IFERROR((COUNTIF(W$6:AP$7,処理!$L25)+COUNTIF(W$10:AP$10,処理!$L25)+COUNTIF(W$13:AP$13,処理!$L25)+COUNTIF(W$16:AP$16,処理!$L25)+COUNTIF(W$19:AP$19,処理!$L25)+COUNTIF(W$22:AP$22,処理!$L25)+COUNTIF(W$25:AP$25,処理!$L25))/処理!$M25,0))","v":""},"",{"$f":"$S$35","v":""},null,"","",{"$f":"$C$35","v":""},null,{"$f":"IF(LEN(AQ35)=0,\"\",(COUNTIF(AQ$6:BJ$7,AQ35)+COUNTIF(AQ$10:BJ$10,AQ35)+COUNTIF(AQ$13:BJ$13,AQ35)+COUNTIF(AQ$16:BJ$16,AQ35)+COUNTIF(AQ$19:BJ$19,AQ35)+COUNTIF(AQ$22:BJ$22,AQ35)+COUNTIF(AQ$25:BJ$25,AQ35))/設定!$D26+IFERROR((COUNTIF(AQ$6:BJ$7,処理!$L7)+COUNTIF(AQ$10:BJ$10,処理!$L7)+COUNTIF(AQ$13:BJ$13,処理!$L7)+COUNTIF(AQ$16:BJ$16,処理!$L7)+COUNTIF(AQ$19:BJ$19,処理!$L7)+COUNTIF(AQ$22:BJ$22,処理!$L7)+COUNTIF(AQ$25:BJ$25,処理!$L7))/処理!$M7,0))","v":""},"",{"$f":"$G$35","v":""},null,{"$f":"IF(LEN(AU35)=0,\"\",(COUNTIF(AQ$6:BJ$7,AU35)+COUNTIF(AQ$10:BJ$10,AU35)+COUNTIF(AQ$13:BJ$13,AU35)+COUNTIF(AQ$16:BJ$16,AU35)+COUNTIF(AQ$19:BJ$19,AU35)+COUNTIF(AQ$22:BJ$22,AU35)+COUNTIF(AQ$25:BJ$25,AU35))/設定!$G26+IFERROR((COUNTIF(AQ$6:BJ$7,処理!$L13)+COUNTIF(AQ$10:BJ$10,処理!$L13)+COUNTIF(AQ$13:BJ$13,処理!$L13)+COUNTIF(AQ$16:BJ$16,処理!$L13)+COUNTIF(AQ$19:BJ$19,処理!$L13)+COUNTIF(AQ$22:BJ$22,処理!$L13)+COUNTIF(AQ$25:BJ$25,処理!$L13))/処理!$M13,0))","v":""},"",{"$f":"$K$35","v":""},null,{"$f":"IF(LEN(AY35)=0,\"\",(COUNTIF(AQ$6:BJ$7,AY35)+COUNTIF(AQ$10:BJ$10,AY35)+COUNTIF(AQ$13:BJ$13,AY35)+COUNTIF(AQ$16:BJ$16,AY35)+COUNTIF(AQ$19:BJ$19,AY35)+COUNTIF(AQ$22:BJ$22,AY35)+COUNTIF(AQ$25:BJ$25,AY35))/設定!$J26+IFERROR((COUNTIF(AQ$6:BJ$7,処理!$L19)+COUNTIF(AQ$10:BJ$10,処理!$L19)+COUNTIF(AQ$13:BJ$13,処理!$L19)+COUNTIF(AQ$16:BJ$16,処理!$L19)+COUNTIF(AQ$19:BJ$19,処理!$L19)+COUNTIF(AQ$22:BJ$22,処理!$L19)+COUNTIF(AQ$25:BJ$25,処理!$L19))/処理!$M19,0))","v":""},"",{"$f":"$O$35","v":""},null,{"$f":"IF(LEN(BC35)=0,\"\",(COUNTIF(AQ$6:BJ$7,BC35)+COUNTIF(AQ$10:BJ$10,BC35)+COUNTIF(AQ$13:BJ$13,BC35)+COUNTIF(AQ$16:BJ$16,BC35)+COUNTIF(AQ$19:BJ$19,BC35)+COUNTIF(AQ$22:BJ$22,BC35)+COUNTIF(AQ$25:BJ$25,BC35))/設定!$M26+IFERROR((COUNTIF(AQ$6:BJ$7,処理!$L25)+COUNTIF(AQ$10:BJ$10,処理!$L25)+COUNTIF(AQ$13:BJ$13,処理!$L25)+COUNTIF(AQ$16:BJ$16,処理!$L25)+COUNTIF(AQ$19:BJ$19,処理!$L25)+COUNTIF(AQ$22:BJ$22,処理!$L25)+COUNTIF(AQ$25:BJ$25,処理!$L25))/処理!$M25,0))","v":""},"",{"$f":"$S$35","v":""},null,"","",{"$f":"$C$35","v":""},null,{"$f":"IF(LEN(BK35)=0,\"\",(COUNTIF(BK$6:CD$7,BK35)+COUNTIF(BK$10:CD$10,BK35)+COUNTIF(BK$13:CD$13,BK35)+COUNTIF(BK$16:CD$16,BK35)+COUNTIF(BK$19:CD$19,BK35)+COUNTIF(BK$22:CD$22,BK35)+COUNTIF(BK$25:CD$25,BK35))/設定!$D26+IFERROR((COUNTIF(BK$6:CD$7,処理!$L7)+COUNTIF(BK$10:CD$10,処理!$L7)+COUNTIF(BK$13:CD$13,処理!$L7)+COUNTIF(BK$16:CD$16,処理!$L7)+COUNTIF(BK$19:CD$19,処理!$L7)+COUNTIF(BK$22:CD$22,処理!$L7)+COUNTIF(BK$25:CD$25,処理!$L7))/処理!$M7,0))","v":""},"",{"$f":"$G$35","v":""},null,{"$f":"IF(LEN(BO35)=0,\"\",(COUNTIF(BK$6:CD$7,BO35)+COUNTIF(BK$10:CD$10,BO35)+COUNTIF(BK$13:CD$13,BO35)+COUNTIF(BK$16:CD$16,BO35)+COUNTIF(BK$19:CD$19,BO35)+COUNTIF(BK$22:CD$22,BO35)+COUNTIF(BK$25:CD$25,BO35))/設定!$G26+IFERROR((COUNTIF(BK$6:CD$7,処理!$L13)+COUNTIF(BK$10:CD$10,処理!$L13)+COUNTIF(BK$13:CD$13,処理!$L13)+COUNTIF(BK$16:CD$16,処理!$L13)+COUNTIF(BK$19:CD$19,処理!$L13)+COUNTIF(BK$22:CD$22,処理!$L13)+COUNTIF(BK$25:CD$25,処理!$L13))/処理!$M13,0))","v":""},"",{"$f":"$K$35","v":""},null,{"$f":"IF(LEN(BS35)=0,\"\",(COUNTIF(BK$6:CD$7,BS35)+COUNTIF(BK$10:CD$10,BS35)+COUNTIF(BK$13:CD$13,BS35)+COUNTIF(BK$16:CD$16,BS35)+COUNTIF(BK$19:CD$19,BS35)+COUNTIF(BK$22:CD$22,BS35)+COUNTIF(BK$25:CD$25,BS35))/設定!$J26+IFERROR((COUNTIF(BK$6:CD$7,処理!$L19)+COUNTIF(BK$10:CD$10,処理!$L19)+COUNTIF(BK$13:CD$13,処理!$L19)+COUNTIF(BK$16:CD$16,処理!$L19)+COUNTIF(BK$19:CD$19,処理!$L19)+COUNTIF(BK$22:CD$22,処理!$L19)+COUNTIF(BK$25:CD$25,処理!$L19))/処理!$M19,0))","v":""},"",{"$f":"$O$35","v":""},null,{"$f":"IF(LEN(BW35)=0,\"\",(COUNTIF(BK$6:CD$7,BW35)+COUNTIF(BK$10:CD$10,BW35)+COUNTIF(BK$13:CD$13,BW35)+COUNTIF(BK$16:CD$16,BW35)+COUNTIF(BK$19:CD$19,BW35)+COUNTIF(BK$22:CD$22,BW35)+COUNTIF(BK$25:CD$25,BW35))/設定!$M26+IFERROR((COUNTIF(BK$6:CD$7,処理!$L25)+COUNTIF(BK$10:CD$10,処理!$L25)+COUNTIF(BK$13:CD$13,処理!$L25)+COUNTIF(BK$16:CD$16,処理!$L25)+COUNTIF(BK$19:CD$19,処理!$L25)+COUNTIF(BK$22:CD$22,処理!$L25)+COUNTIF(BK$25:CD$25,処理!$L25))/処理!$M25,0))","v":""},"",{"$f":"$S$35","v":""},null,"","",{"$f":"$C$35","v":""},null,{"$f":"IF(LEN(CE35)=0,\"\",(COUNTIF(CE$6:CX$7,CE35)+COUNTIF(CE$10:CX$10,CE35)+COUNTIF(CE$13:CX$13,CE35)+COUNTIF(CE$16:CX$16,CE35)+COUNTIF(CE$19:CX$19,CE35)+COUNTIF(CE$22:CX$22,CE35)+COUNTIF(CE$25:CX$25,CE35))/設定!$D26+IFERROR((COUNTIF(CE$6:CX$7,処理!$L7)+COUNTIF(CE$10:CX$10,処理!$L7)+COUNTIF(CE$13:CX$13,処理!$L7)+COUNTIF(CE$16:CX$16,処理!$L7)+COUNTIF(CE$19:CX$19,処理!$L7)+COUNTIF(CE$22:CX$22,処理!$L7)+COUNTIF(CE$25:CX$25,処理!$L7))/処理!$M7,0))","v":""},"",{"$f":"$G$35","v":""},null,{"$f":"IF(LEN(CI35)=0,\"\",(COUNTIF(CE$6:CX$7,CI35)+COUNTIF(CE$10:CX$10,CI35)+COUNTIF(CE$13:CX$13,CI35)+COUNTIF(CE$16:CX$16,CI35)+COUNTIF(CE$19:CX$19,CI35)+COUNTIF(CE$22:CX$22,CI35)+COUNTIF(CE$25:CX$25,CI35))/設定!$G26+IFERROR((COUNTIF(CE$6:CX$7,処理!$L13)+COUNTIF(CE$10:CX$10,処理!$L13)+COUNTIF(CE$13:CX$13,処理!$L13)+COUNTIF(CE$16:CX$16,処理!$L13)+COUNTIF(CE$19:CX$19,処理!$L13)+COUNTIF(CE$22:CX$22,処理!$L13)+COUNTIF(CE$25:CX$25,処理!$L13))/処理!$M13,0))","v":""},"",{"$f":"$K$35","v":""},null,{"$f":"IF(LEN(CM35)=0,\"\",(COUNTIF(CE$6:CX$7,CM35)+COUNTIF(CE$10:CX$10,CM35)+COUNTIF(CE$13:CX$13,CM35)+COUNTIF(CE$16:CX$16,CM35)+COUNTIF(CE$19:CX$19,CM35)+COUNTIF(CE$22:CX$22,CM35)+COUNTIF(CE$25:CX$25,CM35))/設定!$J26+IFERROR((COUNTIF(CE$6:CX$7,処理!$L19)+COUNTIF(CE$10:CX$10,処理!$L19)+COUNTIF(CE$13:CX$13,処理!$L19)+COUNTIF(CE$16:CX$16,処理!$L19)+COUNTIF(CE$19:CX$19,処理!$L19)+COUNTIF(CE$22:CX$22,処理!$L19)+COUNTIF(CE$25:CX$25,処理!$L19))/処理!$M19,0))","v":""},"",{"$f":"$O$35","v":""},null,{"$f":"IF(LEN(CQ35)=0,\"\",(COUNTIF(CE$6:CX$7,CQ35)+COUNTIF(CE$10:CX$10,CQ35)+COUNTIF(CE$13:CX$13,CQ35)+COUNTIF(CE$16:CX$16,CQ35)+COUNTIF(CE$19:CX$19,CQ35)+COUNTIF(CE$22:CX$22,CQ35)+COUNTIF(CE$25:CX$25,CQ35))/設定!$M26+IFERROR((COUNTIF(CE$6:CX$7,処理!$L25)+COUNTIF(CE$10:CX$10,処理!$L25)+COUNTIF(CE$13:CX$13,処理!$L25)+COUNTIF(CE$16:CX$16,処理!$L25)+COUNTIF(CE$19:CX$19,処理!$L25)+COUNTIF(CE$22:CX$22,処理!$L25)+COUNTIF(CE$25:CX$25,処理!$L25))/処理!$M25,0))","v":""},"",{"$f":"$S$35","v":""},null,"","",{"$f":"$C$35","v":""},null,{"$f":"IF(LEN(CY35)=0,\"\",(COUNTIF(CY$6:DR$7,CY35)+COUNTIF(CY$10:DR$10,CY35)+COUNTIF(CY$13:DR$13,CY35)+COUNTIF(CY$16:DR$16,CY35)+COUNTIF(CY$19:DR$19,CY35)+COUNTIF(CY$22:DR$22,CY35)+COUNTIF(CY$25:DR$25,CY35))/設定!$D26+IFERROR((COUNTIF(CY$6:DR$7,処理!$L7)+COUNTIF(CY$10:DR$10,処理!$L7)+COUNTIF(CY$13:DR$13,処理!$L7)+COUNTIF(CY$16:DR$16,処理!$L7)+COUNTIF(CY$19:DR$19,処理!$L7)+COUNTIF(CY$22:DR$22,処理!$L7)+COUNTIF(CY$25:DR$25,処理!$L7))/処理!$M7,0))","v":""},"",{"$f":"$G$35","v":""},null,{"$f":"IF(LEN(DC35)=0,\"\",(COUNTIF(CY$6:DR$7,DC35)+COUNTIF(CY$10:DR$10,DC35)+COUNTIF(CY$13:DR$13,DC35)+COUNTIF(CY$16:DR$16,DC35)+COUNTIF(CY$19:DR$19,DC35)+COUNTIF(CY$22:DR$22,DC35)+COUNTIF(CY$25:DR$25,DC35))/設定!$G26+IFERROR((COUNTIF(CY$6:DR$7,処理!$L13)+COUNTIF(CY$10:DR$10,処理!$L13)+COUNTIF(CY$13:DR$13,処理!$L13)+COUNTIF(CY$16:DR$16,処理!$L13)+COUNTIF(CY$19:DR$19,処理!$L13)+COUNTIF(CY$22:DR$22,処理!$L13)+COUNTIF(CY$25:DR$25,処理!$L13))/処理!$M13,0))","v":""},"",{"$f":"$K$35","v":""},null,{"$f":"IF(LEN(DG35)=0,\"\",(COUNTIF(CY$6:DR$7,DG35)+COUNTIF(CY$10:DR$10,DG35)+COUNTIF(CY$13:DR$13,DG35)+COUNTIF(CY$16:DR$16,DG35)+COUNTIF(CY$19:DR$19,DG35)+COUNTIF(CY$22:DR$22,DG35)+COUNTIF(CY$25:DR$25,DG35))/設定!$J26+IFERROR((COUNTIF(CY$6:DR$7,処理!$L19)+COUNTIF(CY$10:DR$10,処理!$L19)+COUNTIF(CY$13:DR$13,処理!$L19)+COUNTIF(CY$16:DR$16,処理!$L19)+COUNTIF(CY$19:DR$19,処理!$L19)+COUNTIF(CY$22:DR$22,処理!$L19)+COUNTIF(CY$25:DR$25,処理!$L19))/処理!$M19,0))","v":""},"",{"$f":"$O$35","v":""},null,{"$f":"IF(LEN(DK35)=0,\"\",(COUNTIF(CY$6:DR$7,DK35)+COUNTIF(CY$10:DR$10,DK35)+COUNTIF(CY$13:DR$13,DK35)+COUNTIF(CY$16:DR$16,DK35)+COUNTIF(CY$19:DR$19,DK35)+COUNTIF(CY$22:DR$22,DK35)+COUNTIF(CY$25:DR$25,DK35))/設定!$M26+IFERROR((COUNTIF(CY$6:DR$7,処理!$L25)+COUNTIF(CY$10:DR$10,処理!$L25)+COUNTIF(CY$13:DR$13,処理!$L25)+COUNTIF(CY$16:DR$16,処理!$L25)+COUNTIF(CY$19:DR$19,処理!$L25)+COUNTIF(CY$22:DR$22,処理!$L25)+COUNTIF(CY$25:DR$25,処理!$L25))/処理!$M25,0))","v":""},"",{"$f":"$S$35","v":""},null,"","",{"$f":"$C$35","v":""},null,{"$f":"IF(LEN(DS35)=0,\"\",(COUNTIF(DS$6:EL$7,DS35)+COUNTIF(DS$10:EL$10,DS35)+COUNTIF(DS$13:EL$13,DS35)+COUNTIF(DS$16:EL$16,DS35)+COUNTIF(DS$19:EL$19,DS35)+COUNTIF(DS$22:EL$22,DS35)+COUNTIF(DS$25:EL$25,DS35))/設定!$D26+IFERROR((COUNTIF(DS$6:EL$7,処理!$L7)+COUNTIF(DS$10:EL$10,処理!$L7)+COUNTIF(DS$13:EL$13,処理!$L7)+COUNTIF(DS$16:EL$16,処理!$L7)+COUNTIF(DS$19:EL$19,処理!$L7)+COUNTIF(DS$22:EL$22,処理!$L7)+COUNTIF(DS$25:EL$25,処理!$L7))/処理!$M7,0))","v":""},"",{"$f":"$G$35","v":""},null,{"$f":"IF(LEN(DW35)=0,\"\",(COUNTIF(DS$6:EL$7,DW35)+COUNTIF(DS$10:EL$10,DW35)+COUNTIF(DS$13:EL$13,DW35)+COUNTIF(DS$16:EL$16,DW35)+COUNTIF(DS$19:EL$19,DW35)+COUNTIF(DS$22:EL$22,DW35)+COUNTIF(DS$25:EL$25,DW35))/設定!$G26+IFERROR((COUNTIF(DS$6:EL$7,処理!$L13)+COUNTIF(DS$10:EL$10,処理!$L13)+COUNTIF(DS$13:EL$13,処理!$L13)+COUNTIF(DS$16:EL$16,処理!$L13)+COUNTIF(DS$19:EL$19,処理!$L13)+COUNTIF(DS$22:EL$22,処理!$L13)+COUNTIF(DS$25:EL$25,処理!$L13))/処理!$M13,0))","v":""},"",{"$f":"$K$35","v":""},null,{"$f":"IF(LEN(EA35)=0,\"\",(COUNTIF(DS$6:EL$7,EA35)+COUNTIF(DS$10:EL$10,EA35)+COUNTIF(DS$13:EL$13,EA35)+COUNTIF(DS$16:EL$16,EA35)+COUNTIF(DS$19:EL$19,EA35)+COUNTIF(DS$22:EL$22,EA35)+COUNTIF(DS$25:EL$25,EA35))/設定!$J26+IFERROR((COUNTIF(DS$6:EL$7,処理!$L19)+COUNTIF(DS$10:EL$10,処理!$L19)+COUNTIF(DS$13:EL$13,処理!$L19)+COUNTIF(DS$16:EL$16,処理!$L19)+COUNTIF(DS$19:EL$19,処理!$L19)+COUNTIF(DS$22:EL$22,処理!$L19)+COUNTIF(DS$25:EL$25,処理!$L19))/処理!$M19,0))","v":""},"",{"$f":"$O$35","v":""},null,{"$f":"IF(LEN(EE35)=0,\"\",(COUNTIF(DS$6:EL$7,EE35)+COUNTIF(DS$10:EL$10,EE35)+COUNTIF(DS$13:EL$13,EE35)+COUNTIF(DS$16:EL$16,EE35)+COUNTIF(DS$19:EL$19,EE35)+COUNTIF(DS$22:EL$22,EE35)+COUNTIF(DS$25:EL$25,EE35))/設定!$M26+IFERROR((COUNTIF(DS$6:EL$7,処理!$L25)+COUNTIF(DS$10:EL$10,処理!$L25)+COUNTIF(DS$13:EL$13,処理!$L25)+COUNTIF(DS$16:EL$16,処理!$L25)+COUNTIF(DS$19:EL$19,処理!$L25)+COUNTIF(DS$22:EL$22,処理!$L25)+COUNTIF(DS$25:EL$25,処理!$L25))/処理!$M25,0))","v":""},"",{"$f":"$S$35","v":""},null,"","",{"$f":"$C$35","v":""},null,{"$f":"IF(LEN(EM35)=0,\"\",(COUNTIF(EM$6:FF$7,EM35)+COUNTIF(EM$10:FF$10,EM35)+COUNTIF(EM$13:FF$13,EM35)+COUNTIF(EM$16:FF$16,EM35)+COUNTIF(EM$19:FF$19,EM35)+COUNTIF(EM$22:FF$22,EM35)+COUNTIF(EM$25:FF$25,EM35))/設定!$D26+IFERROR((COUNTIF(EM$6:FF$7,処理!$L7)+COUNTIF(EM$10:FF$10,処理!$L7)+COUNTIF(EM$13:FF$13,処理!$L7)+COUNTIF(EM$16:FF$16,処理!$L7)+COUNTIF(EM$19:FF$19,処理!$L7)+COUNTIF(EM$22:FF$22,処理!$L7)+COUNTIF(EM$25:FF$25,処理!$L7))/処理!$M7,0))","v":""},"",{"$f":"$G$35","v":""},null,{"$f":"IF(LEN(EQ35)=0,\"\",(COUNTIF(EM$6:FF$7,EQ35)+COUNTIF(EM$10:FF$10,EQ35)+COUNTIF(EM$13:FF$13,EQ35)+COUNTIF(EM$16:FF$16,EQ35)+COUNTIF(EM$19:FF$19,EQ35)+COUNTIF(EM$22:FF$22,EQ35)+COUNTIF(EM$25:FF$25,EQ35))/設定!$G26+IFERROR((COUNTIF(EM$6:FF$7,処理!$L13)+COUNTIF(EM$10:FF$10,処理!$L13)+COUNTIF(EM$13:FF$13,処理!$L13)+COUNTIF(EM$16:FF$16,処理!$L13)+COUNTIF(EM$19:FF$19,処理!$L13)+COUNTIF(EM$22:FF$22,処理!$L13)+COUNTIF(EM$25:FF$25,処理!$L13))/処理!$M13,0))","v":""},"",{"$f":"$K$35","v":""},null,{"$f":"IF(LEN(EU35)=0,\"\",(COUNTIF(EM$6:FF$7,EU35)+COUNTIF(EM$10:FF$10,EU35)+COUNTIF(EM$13:FF$13,EU35)+COUNTIF(EM$16:FF$16,EU35)+COUNTIF(EM$19:FF$19,EU35)+COUNTIF(EM$22:FF$22,EU35)+COUNTIF(EM$25:FF$25,EU35))/設定!$J26+IFERROR((COUNTIF(EM$6:FF$7,処理!$L19)+COUNTIF(EM$10:FF$10,処理!$L19)+COUNTIF(EM$13:FF$13,処理!$L19)+COUNTIF(EM$16:FF$16,処理!$L19)+COUNTIF(EM$19:FF$19,処理!$L19)+COUNTIF(EM$22:FF$22,処理!$L19)+COUNTIF(EM$25:FF$25,処理!$L19))/処理!$M19,0))","v":""},"",{"$f":"$O$35","v":""},null,{"$f":"IF(LEN(EY35)=0,\"\",(COUNTIF(EM$6:FF$7,EY35)+COUNTIF(EM$10:FF$10,EY35)+COUNTIF(EM$13:FF$13,EY35)+COUNTIF(EM$16:FF$16,EY35)+COUNTIF(EM$19:FF$19,EY35)+COUNTIF(EM$22:FF$22,EY35)+COUNTIF(EM$25:FF$25,EY35))/設定!$M26+IFERROR((COUNTIF(EM$6:FF$7,処理!$L25)+COUNTIF(EM$10:FF$10,処理!$L25)+COUNTIF(EM$13:FF$13,処理!$L25)+COUNTIF(EM$16:FF$16,処理!$L25)+COUNTIF(EM$19:FF$19,処理!$L25)+COUNTIF(EM$22:FF$22,処理!$L25)+COUNTIF(EM$25:FF$25,処理!$L25))/処理!$M25,0))","v":""},"",{"$f":"$S$35","v":""},null,"","",{"$f":"$C$35","v":""},null,{"$f":"IF(LEN(FG35)=0,\"\",(COUNTIF(FG$6:FZ$7,FG35)+COUNTIF(FG$10:FZ$10,FG35)+COUNTIF(FG$13:FZ$13,FG35)+COUNTIF(FG$16:FZ$16,FG35)+COUNTIF(FG$19:FZ$19,FG35)+COUNTIF(FG$22:FZ$22,FG35)+COUNTIF(FG$25:FZ$25,FG35))/設定!$D26+IFERROR((COUNTIF(FG$6:FZ$7,処理!$L7)+COUNTIF(FG$10:FZ$10,処理!$L7)+COUNTIF(FG$13:FZ$13,処理!$L7)+COUNTIF(FG$16:FZ$16,処理!$L7)+COUNTIF(FG$19:FZ$19,処理!$L7)+COUNTIF(FG$22:FZ$22,処理!$L7)+COUNTIF(FG$25:FZ$25,処理!$L7))/処理!$M7,0))","v":""},"",{"$f":"$G$35","v":""},null,{"$f":"IF(LEN(FK35)=0,\"\",(COUNTIF(FG$6:FZ$7,FK35)+COUNTIF(FG$10:FZ$10,FK35)+COUNTIF(FG$13:FZ$13,FK35)+COUNTIF(FG$16:FZ$16,FK35)+COUNTIF(FG$19:FZ$19,FK35)+COUNTIF(FG$22:FZ$22,FK35)+COUNTIF(FG$25:FZ$25,FK35))/設定!$G26+IFERROR((COUNTIF(FG$6:FZ$7,処理!$L13)+COUNTIF(FG$10:FZ$10,処理!$L13)+COUNTIF(FG$13:FZ$13,処理!$L13)+COUNTIF(FG$16:FZ$16,処理!$L13)+COUNTIF(FG$19:FZ$19,処理!$L13)+COUNTIF(FG$22:FZ$22,処理!$L13)+COUNTIF(FG$25:FZ$25,処理!$L13))/処理!$M13,0))","v":""},"",{"$f":"$K$35","v":""},null,{"$f":"IF(LEN(FO35)=0,\"\",(COUNTIF(FG$6:FZ$7,FO35)+COUNTIF(FG$10:FZ$10,FO35)+COUNTIF(FG$13:FZ$13,FO35)+COUNTIF(FG$16:FZ$16,FO35)+COUNTIF(FG$19:FZ$19,FO35)+COUNTIF(FG$22:FZ$22,FO35)+COUNTIF(FG$25:FZ$25,FO35))/設定!$J26+IFERROR((COUNTIF(FG$6:FZ$7,処理!$L19)+COUNTIF(FG$10:FZ$10,処理!$L19)+COUNTIF(FG$13:FZ$13,処理!$L19)+COUNTIF(FG$16:FZ$16,処理!$L19)+COUNTIF(FG$19:FZ$19,処理!$L19)+COUNTIF(FG$22:FZ$22,処理!$L19)+COUNTIF(FG$25:FZ$25,処理!$L19))/処理!$M19,0))","v":""},"",{"$f":"$O$35","v":""},null,{"$f":"IF(LEN(FS35)=0,\"\",(COUNTIF(FG$6:FZ$7,FS35)+COUNTIF(FG$10:FZ$10,FS35)+COUNTIF(FG$13:FZ$13,FS35)+COUNTIF(FG$16:FZ$16,FS35)+COUNTIF(FG$19:FZ$19,FS35)+COUNTIF(FG$22:FZ$22,FS35)+COUNTIF(FG$25:FZ$25,FS35))/設定!$M26+IFERROR((COUNTIF(FG$6:FZ$7,処理!$L25)+COUNTIF(FG$10:FZ$10,処理!$L25)+COUNTIF(FG$13:FZ$13,処理!$L25)+COUNTIF(FG$16:FZ$16,処理!$L25)+COUNTIF(FG$19:FZ$19,処理!$L25)+COUNTIF(FG$22:FZ$22,処理!$L25)+COUNTIF(FG$25:FZ$25,処理!$L25))/処理!$M25,0))","v":""},"",{"$f":"$S$35","v":""},null,"","",{"$f":"$C$35","v":""},null,{"$f":"IF(LEN(GA35)=0,\"\",(COUNTIF(GA$6:GT$7,GA35)+COUNTIF(GA$10:GT$10,GA35)+COUNTIF(GA$13:GT$13,GA35)+COUNTIF(GA$16:GT$16,GA35)+COUNTIF(GA$19:GT$19,GA35)+COUNTIF(GA$22:GT$22,GA35)+COUNTIF(GA$25:GT$25,GA35))/設定!$D26+IFERROR((COUNTIF(GA$6:GT$7,処理!$L7)+COUNTIF(GA$10:GT$10,処理!$L7)+COUNTIF(GA$13:GT$13,処理!$L7)+COUNTIF(GA$16:GT$16,処理!$L7)+COUNTIF(GA$19:GT$19,処理!$L7)+COUNTIF(GA$22:GT$22,処理!$L7)+COUNTIF(GA$25:GT$25,処理!$L7))/処理!$M7,0))","v":""},"",{"$f":"$G$35","v":""},null,{"$f":"IF(LEN(GE35)=0,\"\",(COUNTIF(GA$6:GT$7,GE35)+COUNTIF(GA$10:GT$10,GE35)+COUNTIF(GA$13:GT$13,GE35)+COUNTIF(GA$16:GT$16,GE35)+COUNTIF(GA$19:GT$19,GE35)+COUNTIF(GA$22:GT$22,GE35)+COUNTIF(GA$25:GT$25,GE35))/設定!$G26+IFERROR((COUNTIF(GA$6:GT$7,処理!$L13)+COUNTIF(GA$10:GT$10,処理!$L13)+COUNTIF(GA$13:GT$13,処理!$L13)+COUNTIF(GA$16:GT$16,処理!$L13)+COUNTIF(GA$19:GT$19,処理!$L13)+COUNTIF(GA$22:GT$22,処理!$L13)+COUNTIF(GA$25:GT$25,処理!$L13))/処理!$M13,0))","v":""},"",{"$f":"$K$35","v":""},null,{"$f":"IF(LEN(GI35)=0,\"\",(COUNTIF(GA$6:GT$7,GI35)+COUNTIF(GA$10:GT$10,GI35)+COUNTIF(GA$13:GT$13,GI35)+COUNTIF(GA$16:GT$16,GI35)+COUNTIF(GA$19:GT$19,GI35)+COUNTIF(GA$22:GT$22,GI35)+COUNTIF(GA$25:GT$25,GI35))/設定!$J26+IFERROR((COUNTIF(GA$6:GT$7,処理!$L19)+COUNTIF(GA$10:GT$10,処理!$L19)+COUNTIF(GA$13:GT$13,処理!$L19)+COUNTIF(GA$16:GT$16,処理!$L19)+COUNTIF(GA$19:GT$19,処理!$L19)+COUNTIF(GA$22:GT$22,処理!$L19)+COUNTIF(GA$25:GT$25,処理!$L19))/処理!$M19,0))","v":""},"",{"$f":"$O$35","v":""},null,{"$f":"IF(LEN(GM35)=0,\"\",(COUNTIF(GA$6:GT$7,GM35)+COUNTIF(GA$10:GT$10,GM35)+COUNTIF(GA$13:GT$13,GM35)+COUNTIF(GA$16:GT$16,GM35)+COUNTIF(GA$19:GT$19,GM35)+COUNTIF(GA$22:GT$22,GM35)+COUNTIF(GA$25:GT$25,GM35))/設定!$M26+IFERROR((COUNTIF(GA$6:GT$7,処理!$L25)+COUNTIF(GA$10:GT$10,処理!$L25)+COUNTIF(GA$13:GT$13,処理!$L25)+COUNTIF(GA$16:GT$16,処理!$L25)+COUNTIF(GA$19:GT$19,処理!$L25)+COUNTIF(GA$22:GT$22,処理!$L25)+COUNTIF(GA$25:GT$25,処理!$L25))/処理!$M25,0))","v":""},"",{"$f":"$S$35","v":""},null,"","",{"$f":"$C$35","v":""},null,{"$f":"IF(LEN(GU35)=0,\"\",(COUNTIF(GU$6:HN$7,GU35)+COUNTIF(GU$10:HN$10,GU35)+COUNTIF(GU$13:HN$13,GU35)+COUNTIF(GU$16:HN$16,GU35)+COUNTIF(GU$19:HN$19,GU35)+COUNTIF(GU$22:HN$22,GU35)+COUNTIF(GU$25:HN$25,GU35))/設定!$D26+IFERROR((COUNTIF(GU$6:HN$7,処理!$L7)+COUNTIF(GU$10:HN$10,処理!$L7)+COUNTIF(GU$13:HN$13,処理!$L7)+COUNTIF(GU$16:HN$16,処理!$L7)+COUNTIF(GU$19:HN$19,処理!$L7)+COUNTIF(GU$22:HN$22,処理!$L7)+COUNTIF(GU$25:HN$25,処理!$L7))/処理!$M7,0))","v":""},"",{"$f":"$G$35","v":""},null,{"$f":"IF(LEN(GY35)=0,\"\",(COUNTIF(GU$6:HN$7,GY35)+COUNTIF(GU$10:HN$10,GY35)+COUNTIF(GU$13:HN$13,GY35)+COUNTIF(GU$16:HN$16,GY35)+COUNTIF(GU$19:HN$19,GY35)+COUNTIF(GU$22:HN$22,GY35)+COUNTIF(GU$25:HN$25,GY35))/設定!$G26+IFERROR((COUNTIF(GU$6:HN$7,処理!$L13)+COUNTIF(GU$10:HN$10,処理!$L13)+COUNTIF(GU$13:HN$13,処理!$L13)+COUNTIF(GU$16:HN$16,処理!$L13)+COUNTIF(GU$19:HN$19,処理!$L13)+COUNTIF(GU$22:HN$22,処理!$L13)+COUNTIF(GU$25:HN$25,処理!$L13))/処理!$M13,0))","v":""},"",{"$f":"$K$35","v":""},null,{"$f":"IF(LEN(HC35)=0,\"\",(COUNTIF(GU$6:HN$7,HC35)+COUNTIF(GU$10:HN$10,HC35)+COUNTIF(GU$13:HN$13,HC35)+COUNTIF(GU$16:HN$16,HC35)+COUNTIF(GU$19:HN$19,HC35)+COUNTIF(GU$22:HN$22,HC35)+COUNTIF(GU$25:HN$25,HC35))/設定!$J26+IFERROR((COUNTIF(GU$6:HN$7,処理!$L19)+COUNTIF(GU$10:HN$10,処理!$L19)+COUNTIF(GU$13:HN$13,処理!$L19)+COUNTIF(GU$16:HN$16,処理!$L19)+COUNTIF(GU$19:HN$19,処理!$L19)+COUNTIF(GU$22:HN$22,処理!$L19)+COUNTIF(GU$25:HN$25,処理!$L19))/処理!$M19,0))","v":""},"",{"$f":"$O$35","v":""},null,{"$f":"IF(LEN(HG35)=0,\"\",(COUNTIF(GU$6:HN$7,HG35)+COUNTIF(GU$10:HN$10,HG35)+COUNTIF(GU$13:HN$13,HG35)+COUNTIF(GU$16:HN$16,HG35)+COUNTIF(GU$19:HN$19,HG35)+COUNTIF(GU$22:HN$22,HG35)+COUNTIF(GU$25:HN$25,HG35))/設定!$M26+IFERROR((COUNTIF(GU$6:HN$7,処理!$L25)+COUNTIF(GU$10:HN$10,処理!$L25)+COUNTIF(GU$13:HN$13,処理!$L25)+COUNTIF(GU$16:HN$16,処理!$L25)+COUNTIF(GU$19:HN$19,処理!$L25)+COUNTIF(GU$22:HN$22,処理!$L25)+COUNTIF(GU$25:HN$25,処理!$L25))/処理!$M25,0))","v":""},"",{"$f":"$S$35","v":""},null,"","",{"$f":"$C$35","v":""},null,{"$f":"IF(LEN(HO35)=0,\"\",(COUNTIF(HO$6:IH$7,HO35)+COUNTIF(HO$10:IH$10,HO35)+COUNTIF(HO$13:IH$13,HO35)+COUNTIF(HO$16:IH$16,HO35)+COUNTIF(HO$19:IH$19,HO35)+COUNTIF(HO$22:IH$22,HO35)+COUNTIF(HO$25:IH$25,HO35))/設定!$D26+IFERROR((COUNTIF(HO$6:IH$7,処理!$L7)+COUNTIF(HO$10:IH$10,処理!$L7)+COUNTIF(HO$13:IH$13,処理!$L7)+COUNTIF(HO$16:IH$16,処理!$L7)+COUNTIF(HO$19:IH$19,処理!$L7)+COUNTIF(HO$22:IH$22,処理!$L7)+COUNTIF(HO$25:IH$25,処理!$L7))/処理!$M7,0))","v":""},"",{"$f":"$G$35","v":""},null,{"$f":"IF(LEN(HS35)=0,\"\",(COUNTIF(HO$6:IH$7,HS35)+COUNTIF(HO$10:IH$10,HS35)+COUNTIF(HO$13:IH$13,HS35)+COUNTIF(HO$16:IH$16,HS35)+COUNTIF(HO$19:IH$19,HS35)+COUNTIF(HO$22:IH$22,HS35)+COUNTIF(HO$25:IH$25,HS35))/設定!$G26+IFERROR((COUNTIF(HO$6:IH$7,処理!$L13)+COUNTIF(HO$10:IH$10,処理!$L13)+COUNTIF(HO$13:IH$13,処理!$L13)+COUNTIF(HO$16:IH$16,処理!$L13)+COUNTIF(HO$19:IH$19,処理!$L13)+COUNTIF(HO$22:IH$22,処理!$L13)+COUNTIF(HO$25:IH$25,処理!$L13))/処理!$M13,0))","v":""},"",{"$f":"$K$35","v":""},null,{"$f":"IF(LEN(HW35)=0,\"\",(COUNTIF(HO$6:IH$7,HW35)+COUNTIF(HO$10:IH$10,HW35)+COUNTIF(HO$13:IH$13,HW35)+COUNTIF(HO$16:IH$16,HW35)+COUNTIF(HO$19:IH$19,HW35)+COUNTIF(HO$22:IH$22,HW35)+COUNTIF(HO$25:IH$25,HW35))/設定!$J26+IFERROR((COUNTIF(HO$6:IH$7,処理!$L19)+COUNTIF(HO$10:IH$10,処理!$L19)+COUNTIF(HO$13:IH$13,処理!$L19)+COUNTIF(HO$16:IH$16,処理!$L19)+COUNTIF(HO$19:IH$19,処理!$L19)+COUNTIF(HO$22:IH$22,処理!$L19)+COUNTIF(HO$25:IH$25,処理!$L19))/処理!$M19,0))","v":""},"",{"$f":"$O$35","v":""},null,{"$f":"IF(LEN(IA35)=0,\"\",(COUNTIF(HO$6:IH$7,IA35)+COUNTIF(HO$10:IH$10,IA35)+COUNTIF(HO$13:IH$13,IA35)+COUNTIF(HO$16:IH$16,IA35)+COUNTIF(HO$19:IH$19,IA35)+COUNTIF(HO$22:IH$22,IA35)+COUNTIF(HO$25:IH$25,IA35))/設定!$M26+IFERROR((COUNTIF(HO$6:IH$7,処理!$L25)+COUNTIF(HO$10:IH$10,処理!$L25)+COUNTIF(HO$13:IH$13,処理!$L25)+COUNTIF(HO$16:IH$16,処理!$L25)+COUNTIF(HO$19:IH$19,処理!$L25)+COUNTIF(HO$22:IH$22,処理!$L25)+COUNTIF(HO$25:IH$25,処理!$L25))/処理!$M25,0))","v":""},"",{"$f":"$S$35","v":""},null,"","",{"$f":"$C$35","v":""},null,{"$f":"IF(LEN(II35)=0,\"\",(COUNTIF(II$6:JB$7,II35)+COUNTIF(II$10:JB$10,II35)+COUNTIF(II$13:JB$13,II35)+COUNTIF(II$16:JB$16,II35)+COUNTIF(II$19:JB$19,II35)+COUNTIF(II$22:JB$22,II35)+COUNTIF(II$25:JB$25,II35))/設定!$D26+IFERROR((COUNTIF(II$6:JB$7,処理!$L7)+COUNTIF(II$10:JB$10,処理!$L7)+COUNTIF(II$13:JB$13,処理!$L7)+COUNTIF(II$16:JB$16,処理!$L7)+COUNTIF(II$19:JB$19,処理!$L7)+COUNTIF(II$22:JB$22,処理!$L7)+COUNTIF(II$25:JB$25,処理!$L7))/処理!$M7,0))","v":""},"",{"$f":"$G$35","v":""},null,{"$f":"IF(LEN(IM35)=0,\"\",(COUNTIF(II$6:JB$7,IM35)+COUNTIF(II$10:JB$10,IM35)+COUNTIF(II$13:JB$13,IM35)+COUNTIF(II$16:JB$16,IM35)+COUNTIF(II$19:JB$19,IM35)+COUNTIF(II$22:JB$22,IM35)+COUNTIF(II$25:JB$25,IM35))/設定!$G26+IFERROR((COUNTIF(II$6:JB$7,処理!$L13)+COUNTIF(II$10:JB$10,処理!$L13)+COUNTIF(II$13:JB$13,処理!$L13)+COUNTIF(II$16:JB$16,処理!$L13)+COUNTIF(II$19:JB$19,処理!$L13)+COUNTIF(II$22:JB$22,処理!$L13)+COUNTIF(II$25:JB$25,処理!$L13))/処理!$M13,0))","v":""},"",{"$f":"$K$35","v":""},null,{"$f":"IF(LEN(IQ35)=0,\"\",(COUNTIF(II$6:JB$7,IQ35)+COUNTIF(II$10:JB$10,IQ35)+COUNTIF(II$13:JB$13,IQ35)+COUNTIF(II$16:JB$16,IQ35)+COUNTIF(II$19:JB$19,IQ35)+COUNTIF(II$22:JB$22,IQ35)+COUNTIF(II$25:JB$25,IQ35))/設定!$J26+IFERROR((COUNTIF(II$6:JB$7,処理!$L19)+COUNTIF(II$10:JB$10,処理!$L19)+COUNTIF(II$13:JB$13,処理!$L19)+COUNTIF(II$16:JB$16,処理!$L19)+COUNTIF(II$19:JB$19,処理!$L19)+COUNTIF(II$22:JB$22,処理!$L19)+COUNTIF(II$25:JB$25,処理!$L19))/処理!$M19,0))","v":""},"",{"$f":"$O$35","v":""},null,{"$f":"IF(LEN(IU35)=0,\"\",(COUNTIF(II$6:JB$7,IU35)+COUNTIF(II$10:JB$10,IU35)+COUNTIF(II$13:JB$13,IU35)+COUNTIF(II$16:JB$16,IU35)+COUNTIF(II$19:JB$19,IU35)+COUNTIF(II$22:JB$22,IU35)+COUNTIF(II$25:JB$25,IU35))/設定!$M26+IFERROR((COUNTIF(II$6:JB$7,処理!$L25)+COUNTIF(II$10:JB$10,処理!$L25)+COUNTIF(II$13:JB$13,処理!$L25)+COUNTIF(II$16:JB$16,処理!$L25)+COUNTIF(II$19:JB$19,処理!$L25)+COUNTIF(II$22:JB$22,処理!$L25)+COUNTIF(II$25:JB$25,処理!$L25))/処理!$M25,0))","v":""},"",{"$f":"$S$35","v":""},null,"","",{"$f":"$C$35","v":""},null,{"$f":"IF(LEN(JC35)=0,\"\",(COUNTIF(JC$6:JV$7,JC35)+COUNTIF(JC$10:JV$10,JC35)+COUNTIF(JC$13:JV$13,JC35)+COUNTIF(JC$16:JV$16,JC35)+COUNTIF(JC$19:JV$19,JC35)+COUNTIF(JC$22:JV$22,JC35)+COUNTIF(JC$25:JV$25,JC35))/設定!$D26+IFERROR((COUNTIF(JC$6:JV$7,処理!$L7)+COUNTIF(JC$10:JV$10,処理!$L7)+COUNTIF(JC$13:JV$13,処理!$L7)+COUNTIF(JC$16:JV$16,処理!$L7)+COUNTIF(JC$19:JV$19,処理!$L7)+COUNTIF(JC$22:JV$22,処理!$L7)+COUNTIF(JC$25:JV$25,処理!$L7))/処理!$M7,0))","v":""},"",{"$f":"$G$35","v":""},null,{"$f":"IF(LEN(JG35)=0,\"\",(COUNTIF(JC$6:JV$7,JG35)+COUNTIF(JC$10:JV$10,JG35)+COUNTIF(JC$13:JV$13,JG35)+COUNTIF(JC$16:JV$16,JG35)+COUNTIF(JC$19:JV$19,JG35)+COUNTIF(JC$22:JV$22,JG35)+COUNTIF(JC$25:JV$25,JG35))/設定!$G26+IFERROR((COUNTIF(JC$6:JV$7,処理!$L13)+COUNTIF(JC$10:JV$10,処理!$L13)+COUNTIF(JC$13:JV$13,処理!$L13)+COUNTIF(JC$16:JV$16,処理!$L13)+COUNTIF(JC$19:JV$19,処理!$L13)+COUNTIF(JC$22:JV$22,処理!$L13)+COUNTIF(JC$25:JV$25,処理!$L13))/処理!$M13,0))","v":""},"",{"$f":"$K$35","v":""},null,{"$f":"IF(LEN(JK35)=0,\"\",(COUNTIF(JC$6:JV$7,JK35)+COUNTIF(JC$10:JV$10,JK35)+COUNTIF(JC$13:JV$13,JK35)+COUNTIF(JC$16:JV$16,JK35)+COUNTIF(JC$19:JV$19,JK35)+COUNTIF(JC$22:JV$22,JK35)+COUNTIF(JC$25:JV$25,JK35))/設定!$J26+IFERROR((COUNTIF(JC$6:JV$7,処理!$L19)+COUNTIF(JC$10:JV$10,処理!$L19)+COUNTIF(JC$13:JV$13,処理!$L19)+COUNTIF(JC$16:JV$16,処理!$L19)+COUNTIF(JC$19:JV$19,処理!$L19)+COUNTIF(JC$22:JV$22,処理!$L19)+COUNTIF(JC$25:JV$25,処理!$L19))/処理!$M19,0))","v":""},"",{"$f":"$O$35","v":""},null,{"$f":"IF(LEN(JO35)=0,\"\",(COUNTIF(JC$6:JV$7,JO35)+COUNTIF(JC$10:JV$10,JO35)+COUNTIF(JC$13:JV$13,JO35)+COUNTIF(JC$16:JV$16,JO35)+COUNTIF(JC$19:JV$19,JO35)+COUNTIF(JC$22:JV$22,JO35)+COUNTIF(JC$25:JV$25,JO35))/設定!$M26+IFERROR((COUNTIF(JC$6:JV$7,処理!$L25)+COUNTIF(JC$10:JV$10,処理!$L25)+COUNTIF(JC$13:JV$13,処理!$L25)+COUNTIF(JC$16:JV$16,処理!$L25)+COUNTIF(JC$19:JV$19,処理!$L25)+COUNTIF(JC$22:JV$22,処理!$L25)+COUNTIF(JC$25:JV$25,処理!$L25))/処理!$M25,0))","v":""},"",{"$f":"$S$35","v":""},null,"","",{"$f":"$C$35","v":""},null,{"$f":"IF(LEN(JW35)=0,\"\",(COUNTIF(JW$6:KP$7,JW35)+COUNTIF(JW$10:KP$10,JW35)+COUNTIF(JW$13:KP$13,JW35)+COUNTIF(JW$16:KP$16,JW35)+COUNTIF(JW$19:KP$19,JW35)+COUNTIF(JW$22:KP$22,JW35)+COUNTIF(JW$25:KP$25,JW35))/設定!$D26+IFERROR((COUNTIF(JW$6:KP$7,処理!$L7)+COUNTIF(JW$10:KP$10,処理!$L7)+COUNTIF(JW$13:KP$13,処理!$L7)+COUNTIF(JW$16:KP$16,処理!$L7)+COUNTIF(JW$19:KP$19,処理!$L7)+COUNTIF(JW$22:KP$22,処理!$L7)+COUNTIF(JW$25:KP$25,処理!$L7))/処理!$M7,0))","v":""},"",{"$f":"$G$35","v":""},null,{"$f":"IF(LEN(KA35)=0,\"\",(COUNTIF(JW$6:KP$7,KA35)+COUNTIF(JW$10:KP$10,KA35)+COUNTIF(JW$13:KP$13,KA35)+COUNTIF(JW$16:KP$16,KA35)+COUNTIF(JW$19:KP$19,KA35)+COUNTIF(JW$22:KP$22,KA35)+COUNTIF(JW$25:KP$25,KA35))/設定!$G26+IFERROR((COUNTIF(JW$6:KP$7,処理!$L13)+COUNTIF(JW$10:KP$10,処理!$L13)+COUNTIF(JW$13:KP$13,処理!$L13)+COUNTIF(JW$16:KP$16,処理!$L13)+COUNTIF(JW$19:KP$19,処理!$L13)+COUNTIF(JW$22:KP$22,処理!$L13)+COUNTIF(JW$25:KP$25,処理!$L13))/処理!$M13,0))","v":""},"",{"$f":"$K$35","v":""},null,{"$f":"IF(LEN(KE35)=0,\"\",(COUNTIF(JW$6:KP$7,KE35)+COUNTIF(JW$10:KP$10,KE35)+COUNTIF(JW$13:KP$13,KE35)+COUNTIF(JW$16:KP$16,KE35)+COUNTIF(JW$19:KP$19,KE35)+COUNTIF(JW$22:KP$22,KE35)+COUNTIF(JW$25:KP$25,KE35))/設定!$J26+IFERROR((COUNTIF(JW$6:KP$7,処理!$L19)+COUNTIF(JW$10:KP$10,処理!$L19)+COUNTIF(JW$13:KP$13,処理!$L19)+COUNTIF(JW$16:KP$16,処理!$L19)+COUNTIF(JW$19:KP$19,処理!$L19)+COUNTIF(JW$22:KP$22,処理!$L19)+COUNTIF(JW$25:KP$25,処理!$L19))/処理!$M19,0))","v":""},"",{"$f":"$O$35","v":""},null,{"$f":"IF(LEN(KI35)=0,\"\",(COUNTIF(JW$6:KP$7,KI35)+COUNTIF(JW$10:KP$10,KI35)+COUNTIF(JW$13:KP$13,KI35)+COUNTIF(JW$16:KP$16,KI35)+COUNTIF(JW$19:KP$19,KI35)+COUNTIF(JW$22:KP$22,KI35)+COUNTIF(JW$25:KP$25,KI35))/設定!$M26+IFERROR((COUNTIF(JW$6:KP$7,処理!$L25)+COUNTIF(JW$10:KP$10,処理!$L25)+COUNTIF(JW$13:KP$13,処理!$L25)+COUNTIF(JW$16:KP$16,処理!$L25)+COUNTIF(JW$19:KP$19,処理!$L25)+COUNTIF(JW$22:KP$22,処理!$L25)+COUNTIF(JW$25:KP$25,処理!$L25))/処理!$M25,0))","v":""},"",{"$f":"$S$35","v":""},null,"","",{"$f":"$C$35","v":""},null,{"$f":"IF(LEN(KQ35)=0,\"\",(COUNTIF(KQ$6:LJ$7,KQ35)+COUNTIF(KQ$10:LJ$10,KQ35)+COUNTIF(KQ$13:LJ$13,KQ35)+COUNTIF(KQ$16:LJ$16,KQ35)+COUNTIF(KQ$19:LJ$19,KQ35)+COUNTIF(KQ$22:LJ$22,KQ35)+COUNTIF(KQ$25:LJ$25,KQ35))/設定!$D26+IFERROR((COUNTIF(KQ$6:LJ$7,処理!$L7)+COUNTIF(KQ$10:LJ$10,処理!$L7)+COUNTIF(KQ$13:LJ$13,処理!$L7)+COUNTIF(KQ$16:LJ$16,処理!$L7)+COUNTIF(KQ$19:LJ$19,処理!$L7)+COUNTIF(KQ$22:LJ$22,処理!$L7)+COUNTIF(KQ$25:LJ$25,処理!$L7))/処理!$M7,0))","v":""},"",{"$f":"$G$35","v":""},null,{"$f":"IF(LEN(KU35)=0,\"\",(COUNTIF(KQ$6:LJ$7,KU35)+COUNTIF(KQ$10:LJ$10,KU35)+COUNTIF(KQ$13:LJ$13,KU35)+COUNTIF(KQ$16:LJ$16,KU35)+COUNTIF(KQ$19:LJ$19,KU35)+COUNTIF(KQ$22:LJ$22,KU35)+COUNTIF(KQ$25:LJ$25,KU35))/設定!$G26+IFERROR((COUNTIF(KQ$6:LJ$7,処理!$L13)+COUNTIF(KQ$10:LJ$10,処理!$L13)+COUNTIF(KQ$13:LJ$13,処理!$L13)+COUNTIF(KQ$16:LJ$16,処理!$L13)+COUNTIF(KQ$19:LJ$19,処理!$L13)+COUNTIF(KQ$22:LJ$22,処理!$L13)+COUNTIF(KQ$25:LJ$25,処理!$L13))/処理!$M13,0))","v":""},"",{"$f":"$K$35","v":""},null,{"$f":"IF(LEN(KY35)=0,\"\",(COUNTIF(KQ$6:LJ$7,KY35)+COUNTIF(KQ$10:LJ$10,KY35)+COUNTIF(KQ$13:LJ$13,KY35)+COUNTIF(KQ$16:LJ$16,KY35)+COUNTIF(KQ$19:LJ$19,KY35)+COUNTIF(KQ$22:LJ$22,KY35)+COUNTIF(KQ$25:LJ$25,KY35))/設定!$J26+IFERROR((COUNTIF(KQ$6:LJ$7,処理!$L19)+COUNTIF(KQ$10:LJ$10,処理!$L19)+COUNTIF(KQ$13:LJ$13,処理!$L19)+COUNTIF(KQ$16:LJ$16,処理!$L19)+COUNTIF(KQ$19:LJ$19,処理!$L19)+COUNTIF(KQ$22:LJ$22,処理!$L19)+COUNTIF(KQ$25:LJ$25,処理!$L19))/処理!$M19,0))","v":""},"",{"$f":"$O$35","v":""},null,{"$f":"IF(LEN(LC35)=0,\"\",(COUNTIF(KQ$6:LJ$7,LC35)+COUNTIF(KQ$10:LJ$10,LC35)+COUNTIF(KQ$13:LJ$13,LC35)+COUNTIF(KQ$16:LJ$16,LC35)+COUNTIF(KQ$19:LJ$19,LC35)+COUNTIF(KQ$22:LJ$22,LC35)+COUNTIF(KQ$25:LJ$25,LC35))/設定!$M26+IFERROR((COUNTIF(KQ$6:LJ$7,処理!$L25)+COUNTIF(KQ$10:LJ$10,処理!$L25)+COUNTIF(KQ$13:LJ$13,処理!$L25)+COUNTIF(KQ$16:LJ$16,処理!$L25)+COUNTIF(KQ$19:LJ$19,処理!$L25)+COUNTIF(KQ$22:LJ$22,処理!$L25)+COUNTIF(KQ$25:LJ$25,処理!$L25))/処理!$M25,0))","v":""},"",{"$f":"$S$35","v":""},null,"","",{"$f":"$C$35","v":""},null,{"$f":"IF(LEN(LK35)=0,\"\",(COUNTIF(LK$6:MD$7,LK35)+COUNTIF(LK$10:MD$10,LK35)+COUNTIF(LK$13:MD$13,LK35)+COUNTIF(LK$16:MD$16,LK35)+COUNTIF(LK$19:MD$19,LK35)+COUNTIF(LK$22:MD$22,LK35)+COUNTIF(LK$25:MD$25,LK35))/設定!$D26+IFERROR((COUNTIF(LK$6:MD$7,処理!$L7)+COUNTIF(LK$10:MD$10,処理!$L7)+COUNTIF(LK$13:MD$13,処理!$L7)+COUNTIF(LK$16:MD$16,処理!$L7)+COUNTIF(LK$19:MD$19,処理!$L7)+COUNTIF(LK$22:MD$22,処理!$L7)+COUNTIF(LK$25:MD$25,処理!$L7))/処理!$M7,0))","v":""},"",{"$f":"$G$35","v":""},null,{"$f":"IF(LEN(LO35)=0,\"\",(COUNTIF(LK$6:MD$7,LO35)+COUNTIF(LK$10:MD$10,LO35)+COUNTIF(LK$13:MD$13,LO35)+COUNTIF(LK$16:MD$16,LO35)+COUNTIF(LK$19:MD$19,LO35)+COUNTIF(LK$22:MD$22,LO35)+COUNTIF(LK$25:MD$25,LO35))/設定!$G26+IFERROR((COUNTIF(LK$6:MD$7,処理!$L13)+COUNTIF(LK$10:MD$10,処理!$L13)+COUNTIF(LK$13:MD$13,処理!$L13)+COUNTIF(LK$16:MD$16,処理!$L13)+COUNTIF(LK$19:MD$19,処理!$L13)+COUNTIF(LK$22:MD$22,処理!$L13)+COUNTIF(LK$25:MD$25,処理!$L13))/処理!$M13,0))","v":""},"",{"$f":"$K$35","v":""},null,{"$f":"IF(LEN(LS35)=0,\"\",(COUNTIF(LK$6:MD$7,LS35)+COUNTIF(LK$10:MD$10,LS35)+COUNTIF(LK$13:MD$13,LS35)+COUNTIF(LK$16:MD$16,LS35)+COUNTIF(LK$19:MD$19,LS35)+COUNTIF(LK$22:MD$22,LS35)+COUNTIF(LK$25:MD$25,LS35))/設定!$J26+IFERROR((COUNTIF(LK$6:MD$7,処理!$L19)+COUNTIF(LK$10:MD$10,処理!$L19)+COUNTIF(LK$13:MD$13,処理!$L19)+COUNTIF(LK$16:MD$16,処理!$L19)+COUNTIF(LK$19:MD$19,処理!$L19)+COUNTIF(LK$22:MD$22,処理!$L19)+COUNTIF(LK$25:MD$25,処理!$L19))/処理!$M19,0))","v":""},"",{"$f":"$O$35","v":""},null,{"$f":"IF(LEN(LW35)=0,\"\",(COUNTIF(LK$6:MD$7,LW35)+COUNTIF(LK$10:MD$10,LW35)+COUNTIF(LK$13:MD$13,LW35)+COUNTIF(LK$16:MD$16,LW35)+COUNTIF(LK$19:MD$19,LW35)+COUNTIF(LK$22:MD$22,LW35)+COUNTIF(LK$25:MD$25,LW35))/設定!$M26+IFERROR((COUNTIF(LK$6:MD$7,処理!$L25)+COUNTIF(LK$10:MD$10,処理!$L25)+COUNTIF(LK$13:MD$13,処理!$L25)+COUNTIF(LK$16:MD$16,処理!$L25)+COUNTIF(LK$19:MD$19,処理!$L25)+COUNTIF(LK$22:MD$22,処理!$L25)+COUNTIF(LK$25:MD$25,処理!$L25))/処理!$M25,0))","v":""},"",{"$f":"$S$35","v":""},null,"",""]

{"sheet":"２学期","index":3,"n_rows":35,"n_cols":362,"rows_kept":35,"cut":false,"hidden":false,"merged":[[3,18,3,21],[3,22,3,25],[3,26,3,29],[3,30,3,33],[3,34,3,37],[3,38,3,41],[2,248,2,259],[2,268,2,279],[2,288,2,299],[2,308,2,319],[2,328,2,339],[3,1,4,1],[3,2,3,5],[3,6,3,9],[3,10,3,13],[3,14,3,17],[2,128,2,139],[2,148,2,159],[2,168,2,179],[2,188,2,199],[2,208,2,219],[2,228,2,239],[2,7,2,19],[2,28,2,39],[2,48,2,59],[2,68,2,79],[2,88,2,99],[2,108,2,119],[3,90,3,93],[3,94,3,97],[3,98,3,101],[3,102,3,105],[3,106,3,109],[3,110,3,113],[3,66,3,69],[3,70,3,73],[3,74,3,77],[3,78,3,81],[3,82,3,85],[3,86,3,89],[3,42,3,45],[3,46,3,49],[3,50,3,53],[3,54,3,57],[3,58,3,61],[3,62,3,65],[3,162,3,165],[3,166,3,169],[3,170,3,173],[3,174,3,177],[3,178,3,181],[3,182,3,185],[3,138,3,141],[3,142,3,145],[3,146,3,149],[3,150,3,153],[3,154,3,157],[3,158,3,161],[3,114,3,117],[3,118,3,121],[3,122,3,125],[3,126,3,129],[3,130,3,133],[3,134,3,137],[3,274,3,277],[3,278,3,281],[3,234,3,237],[3,238,3,241],[3,242,3,245],[3,246,3,249],[3,250,3,253],[3,254,3,257],[3,210,3,213],[3,214,3,217],[3,218,3,221],[3,222,3,225],[3,226,3,229],[3,230,3,233],[3,186,3,189],[3,190,3,193],[3,194,3,197],[3,198,3,201],[3,202,3,205],[3,206,3,209],[4,30,4,33],[4,34,4,37],[4,38,4,41],[4,42,4,45],[4,46,4,49],[4,50,4,53],[3,330,3,333],[3,334,3,337],[3,338,3,341],[4,2,4,5],[4,6,4,9],[4,10,4,13],[4,14,4,17],[4,18,4,21],[4,22,4,25],[4,26,4,29],[3,306,3,309],[3,310,3,313],[3,314,3,317],[3,318,3,321],[3,322,3,325],[3,326,3,329],[3,282,3,285],[3,286,3,289],[3,290,3,293],[3,294,3,297],[3,298,3,301],[3,302,3,305],[3,258,3,261],[3,262,3,265],[3,266,3,269],[3,270,3,273],[4,102,4,105],[4,106,4,109],[4,110,4,113],[4,114,4,117],[4,118,4,121],[4,122,4,125],[4,78,4,81],[4,82,4,85],[4,86,4,89],[4,90,4,93],[4,94,4,97],[4,98,4,101],[4,54,4,57],[4,58,4,61],[4,62,4,65],[4,66,4,69],[4,70,4,73],[4,74,4,77],[4,174,4,177],[4,178,4,181],[4,182,4,185],[4,186,4,189],[4,190,4,193],[4,194,4,197],[4,150,4,153],[4,154,4,157],[4,158,4,161],[4,162,4,165],[4,166,4,169],[4,170,4,173],[4,126,4,129],[4,130,4,133],[4,134,4,137],[4,138,4,141],[4,142,4,145],[4,146,4,149],[4,246,4,249],[4,250,4,253],[4,254,4,257],[4,258,4,261],[4,262,4,265],[4,266,4,269],[4,222,4,225],[4,226,4,229],[4,230,4,233],[4,234,4,237],[4,238,4,241],[4,242,4,245],[4,198,4,201],[4,202,4,205],[4,206,4,209],[4,210,4,213],[4,214,4,217],[4,218,4,221],[4,318,4,321],[4,322,4,325],[4,326,4,329],[4,330,4,333],[4,334,4,337],[4,338,4,341],[4,294,4,297],[4,298,4,301],[4,302,4,305],[4,306,4,309],[4,310,4,313],[4,314,4,317],[4,270,4,273],[4,274,4,277],[4,278,4,281],[4,282,4,285],[4,286,4,289],[4,290,4,293],[5,50,5,52],[5,54,5,56],[5,58,5,60],[5,62,5,64],[5,66,5,68],[5,70,5,72],[5,26,5,28],[5,30,5,32],[5,34,5,36],[5,38,5,40],[5,42,5,44],[5,46,5,48],[5,2,5,4],[5,6,5,8],[5,10,5,12],[5,14,5,16],[5,18,5,20],[5,22,5,24],[5,122,5,124],[5,126,5,128],[5,130,5,132],[5,134,5,136],[5,138,5,140],[5,142,5,144],[5,98,5,100],[5,102,5,104],[5,106,5,108],[5,110,5,112],[5,114,5,116],[5,118,5,120],[5,74,5,76],[5,78,5,80],[5,82,5,84],[5,86,5,88],[5,90,5,92],[5,94,5,96],[5,194,5,196],[5,198,5,200],[5,202,5,204],[5,206,5,208],[5,210,5,212],[5,214,5,216],[5,170,5,172],[5,174,5,176],[5,178,5,180],[5,182,5,184],[5,186,5,188],[5,190,5,192],[5,146,5,148],[5,150,5,152],[5,154,5,156],[5,158,5,160],[5,162,5,164],[5,166,5,168],[5,306,5,308],[5,310,5,312],[5,266,5,268],[5,270,5,272],[5,274,5,276],[5,278,5,280],[5,282,5,284],[5,286,5,288],[5,242,5,244],[5,246,5,248],[5,250,5,252],[5,254,5,256],[5,258,5,260],[5,262,5,264],[5,218,5,220],[5,222,5,224],[5,226,5,228],[5,230,5,232],[5,234,5,236],[5,238,5,240],[6,58,6,60],[6,62,6,64],[6,66,6,68],[6,70,6,72],[6,74,6,76],[6,78,6,80],[6,34,6,36],[6,38,6,40],[6,42,6,44],[6,46,6,48],[6,50,6,52],[6,54,6,56],[5,338,5,340],[6,1,8,1],[6,2,6,4],[6,6,6,8],[6,10,6,12],[6,14,6,16],[6,18,6,20],[6,22,6,24],[6,26,6,28],[6,30,6,32],[5,314,5,316],[5,318,5,320],[5,322,5,324],[5,326,5,328],[5,330,5,332],[5,334,5,336],[5,290,5,292],[5,294,5,296],[5,298,5,300],[5,302,5,304],[6,130,6,132],[6,134,6,136],[6,138,6,140],[6,142,6,144],[6,146,6,148],[6,150,6,152],[6,106,6,108],[6,110,6,112],[6,114,6,116],[6,118,6,120],[6,122,6,124],[6,126,6,128],[6,82,6,84],[6,86,6,88],[6,90,6,92],[6,94,6,96],[6,98,6,100],[6,102,6,104],[6,242,6,244],[6,246,6,248],[6,202,6,204],[6,206,6,208],[6,210,6,212],[6,214,6,216],[6,218,6,220],[6,222,6,224],[6,178,6,180],[6,182,6,184],[6,186,6,188],[6,190,6,192],[6,194,6,196],[6,198,6,200],[6,154,6,156],[6,158,6,160],[6,162,6,164],[6,166,6,168],[6,170,6,172],[6,174,6,176],[6,322,6,324],[6,326,6,328],[6,330,6,332],[6,334,6,336],[6,338,6,340],[7,2,7,5],[7,6,7,9],[7,10,7,13],[7,14,7,17],[7,18,7,21],[6,298,6,300],[6,302,6,304],[6,306,6,308],[6,310,6,312],[6,314,6,316],[6,318,6,320],[6,274,6,276],[6,278,6,280],[6,282,6,284],[6,286,6,288],[6,290,6,292],[6,294,6,296],[6,250,6,252],[6,254,6,256],[6,258,6,260],[6,262,6,264],[6,266,6,268],[6,270,6,272],[6,226,6,228],[6,230,6,232],[6,234,6,236],[6,238,6,240],[7,70,7,73],[7,74,7,77],[7,78,7,81],[7,82,7,85],[7,86,7,89],[7,90,7,93],[7,46,7,49],[7,50,7,53],[7,54,7,57],[7,58,7,61],[7,62,7,65],[7,66,7,69],[7,22,7,25],[7,26,7,29],[7,30,7,33],[7,34,7,37],[7,38,7,41],[7,42,7,45],[7,142,7,145],[7,146,7,149],[7,150,7,153],[7,154,7,157],[7,158,7,161],[7,162,7,165],[7,118,7,121],[7,122,7,125],[7,126,7,129],[7,130,7,133],[7,134,7,137],[7,138,7,141],[7,94,7,97],[7,98,7,101],[7,102,7,105],[7,106,7,109],[7,110,7,113],[7,114,7,117],[7,254,7,257],[7,258,7,261],[7,214,7,217],[7,218,7,221],[7,222,7,225],[7,226,7,229],[7,230,7,233],[7,234,7,237],[7,190,7,193],[7,194,7,197],[7,198,7,201],[7,202,7,205],[7,206,7,209],[7,210,7,213],[7,166,7,169],[7,170,7,173],[7,174,7,177],[7,178,7,181],[7,182,7,185],[7,186,7,189],[7,334,7,337],[7,338,7,341],[8,2,8,5],[8,6,8,9],[8,10,8,13],[8,14,8,17],[8,18,8,21],[8,22,8,25],[8,26,8,29],[8,30,8,33],[7,310,7,313],[7,314,7,317],[7,318,7,321],[7,322,7,325],[7,326,7,329],[7,330,7,333],[7,286,7,289],[7,290,7,293],[7,294,7,297],[7,298,7,301],[7,302,7,305],[7,306,7,309],[7,262,7,265],[7,266,7,269],[7,270,7,273],[7,274,7,277],[7,278,7,281],[7,282,7,285],[7,238,7,241],[7,242,7,245],[7,246,7,249],[7,250,7,253],[8,82,8,85],[8,86,8,89],[8,90,8,93],[8,94,8,97],[8,98,8,101],[8,102,8,105],[8,58,8,61],[8,62,8,65],[8,66,8,69],[8,70,8,73],[8,74,8,77],[8,78,8,81],[8,34,8,37],[8,38,8,41],[8,42,8,45],[8,46,8,49],[8,50,8,53],[8,54,8,57],[8,154,8,157],[8,158,8,161],[8,162,8,165],[8,166,8,169],[8,170,8,173],[8,174,8,177],[8,130,8,133],[8,134,8,137],[8,138,8,141],[8,142,8,145],[8,146,8,149],[8,150,8,153],[8,106,8,109],[8,110,8,113],[8,114,8,117],[8,118,8,121],[8,122,8,125],[8,126,8,129],[8,266,8,269],[8,270,8,273],[8,226,8,229],[8,230,8,233],[8,234,8,237],[8,238,8,241],[8,242,8,245],[8,246,8,249],[8,202,8,205],[8,206,8,209],[8,210,8,213],[8,214,8,217],[8,218,8,221],[8,222,8,225],[8,178,8,181],[8,182,8,185],[8,186,8,189],[8,190,8,193],[8,194,8,197],[8,198,8,201],[9,18,9,20],[9,22,9,24],[9,26,9,28],[9,30,9,32],[9,34,9,36],[9,38,9,40],[8,322,8,325],[8,326,8,329],[8,330,8,333],[8,334,8,337],[8,338,8,341],[9,1,11,1],[9,2,9,4],[9,6,9,8],[9,10,9,12],[9,14,9,16],[8,298,8,301],[8,302,8,305],[8,306,8,309],[8,310,8,313],[8,314,8,317],[8,318,8,321],[8,274,8,277],[8,278,8,281],[8,282,8,285],[8,286,8,289],[8,290,8,293],[8,294,8,297],[8,250,8,253],[8,254,8,257],[8,258,8,261],[8,262,8,265],[9,90,9,92],[9,94,9,96],[9,98,9,100],[9,102,9,104],[9,106,9,108],[9,110,9,112],[9,66,9,68],[9,70,9,72],[9,74,9,76],[9,78,9,80],[9,82,9,84],[9,86,9,88],[9,42,9,44],[9,46,9,48],[9,50,9,52],[9,54,9,56],[9,58,9,60],[9,62,9,64],[9,162,9,164],[9,166,9,168],[9,170,9,172],[9,174,9,176],[9,178,9,180],[9,182,9,184],[9,138,9,140],[9,142,9,144],[9,146,9,148],[9,150,9,152],[9,154,9,156],[9,158,9,160],[9,114,9,116],[9,118,9,120],[9,122,9,124],[9,126,9,128],[9,130,9,132],[9,134,9,136],[9,274,9,276],[9,278,9,280],[9,234,9,236],[9,238,9,240],[9,242,9,244],[9,246,9,248],[9,250,9,252],[9,254,9,256],[9,210,9,212],[9,214,9,216],[9,218,9,220],[9,222,9,224],[9,226,9,228],[9,230,9,232],[9,186,9,188],[9,190,9,192],[9,194,9,196],[9,198,9,200],[9,202,9,204],[9,206,9,208],[10,30,10,33],[10,34,10,37],[10,38,10,41],[10,42,10,45],[10,46,10,49],[10,50,10,53],[9,330,9,332],[9,334,9,336],[9,338,9,340],[10,2,10,5],[10,6,10,9],[10,10,10,13],[10,14,10,17],[10,18,10,21],[10,22,10,25],[10,26,10,29],[9,306,9,308],[9,310,9,312],[9,314,9,316],[9,318,9,320],[9,322,9,324],[9,326,9,328],[9,282,9,284],[9,286,9,288],[9,290,9,292],[9,294,9,296],[9,298,9,300],[9,302,9,304],[9,258,9,260],[9,262,9,264],[9,266,9,268],[9,270,9,272],[10,102,10,105],[10,106,10,109],[10,110,10,113],[10,114,10,117],[10,118,10,121],[10,122,10,125],[10,78,10,81],[10,82,10,85],[10,86,10,89],[10,90,10,93],[10,94,10,97],[10,98,10,101],[10,54,10,57],[10,58,10,61],[10,62,10,65],[10,66,10,69],[10,70,10,73],[10,74,10,77],[10,174,10,177],[10,178,10,181],[10,182,10,185],[10,186,10,189],[10,190,10,193],[10,194,10,197],[10,150,10,153],[10,154,10,157],[10,158,10,161],[10,162,10,165],[10,166,10,169],[10,170,10,173],[10,126,10,129],[10,130,10,133],[10,134,10,137],[10,138,10,141],[10,142,10,145],[10,146,10,149],[10,246,10,249],[10,250,10,253],[10,254,10,257],[10,258,10,261],[10,262,10,265],[10,266,10,269],[10,222,10,225],[10,226,10,229],[10,230,10,233],[10,234,10,237],[10,238,10,241],[10,242,10,245],[10,198,10,201],[10,202,10,205],[10,206,10,209],[10,210,10,213],[10,214,10,217],[10,218,10,221],[10,318,10,321],[10,322,10,325],[10,326,10,329],[10,330,10,333],[10,334,10,337],[10,338,10,341],[10,294,10,297],[10,298,10,301],[10,302,10,305],[10,306,10,309],[10,310,10,313],[10,314,10,317],[10,270,10,273],[10,274,10,277],[10,278,10,281],[10,282,10,285],[10,286,10,289],[10,290,10,293],[11,50,11,53],[11,54,11,57],[11,58,11,61],[11,62,11,65],[11,66,11,69],[11,70,11,73],[11,26,11,29],[11,30,11,33],[11,34,11,37],[11,38,11,41],[11,42,11,45],[11,46,11,49],[11,2,11,5],[11,6,11,9],[11,10,11,13],[11,14,11,17],[11,18,11,21],[11,22,11,25],[11,122,11,125],[11,126,11,129],[11,130,11,133],[11,134,11,137],[11,138,11,141],[11,142,11,145],[11,98,11,101],[11,102,11,105],[11,106,11,109],[11,110,11,113],[11,114,11,117],[11,118,11,121],[11,74,11,77],[11,78,11,81],[11,82,11,85],[11,86,11,89],[11,90,11,93],[11,94,11,97],[11,194,11,197],[11,198,11,201],[11,202,11,205],[11,206,11,209],[11,210,11,213],[11,214,11,217],[11,170,11,173],[11,174,11,177],[11,178,11,181],[11,182,11,185],[11,186,11,189],[11,190,11,193],[11,146,11,149],[11,150,11,153],[11,154,11,157],[11,158,11,161],[11,162,11,165],[11,166,11,169],[11,306,11,309],[11,310,11,313],[11,266,11,269],[11,270,11,273],[11,274,11,277],[11,278,11,281],[11,282,11,285],[11,286,11,289],[11,242,11,245],[11,246,11,249],[11,250,11,253],[11,254,11,257],[11,258,11,261],[11,262,11,265],[11,218,11,221],[11,222,11,225],[11,226,11,229],[11,230,11,233],[11,234,11,237],[11,238,11,241],[12,58,12,60],[12,62,12,64],[12,66,12,68],[12,70,12,72],[12,74,12,76],[12,78,12,80],[12,34,12,36],[12,38,12,40],[12,42,12,44],[12,46,12,48],[12,50,12,52],[12,54,12,56],[11,338,11,341],[12,1,14,1],[12,2,12,4],[12,6,12,8],[12,10,12,12],[12,14,12,16],[12,18,12,20],[12,22,12,24],[12,26,12,28],[12,30,12,32],[11,314,11,317],[11,318,11,321],[11,322,11,325],[11,326,11,329],[11,330,11,333],[11,334,11,337],[11,290,11,293],[11,294,11,297],[11,298,11,301],[11,302,11,305],[12,130,12,132],[12,134,12,136],[12,138,12,140],[12,142,12,144],[12,146,12,148],[12,150,12,152],[12,106,12,108],[12,110,12,112],[12,114,12,116],[12,118,12,120],[12,122,12,124],[12,126,12,128],[12,82,12,84],[12,86,12,88],[12,90,12,92],[12,94,12,96],[12,98,12,100],[12,102,12,104],[12,242,12,244],[12,246,12,248],[12,202,12,204],[12,206,12,208],[12,210,12,212],[12,214,12,216],[12,218,12,220],[12,222,12,224],[12,178,12,180],[12,182,12,184],[12,186,12,188],[12,190,12,192],[12,194,12,196],[12,198,12,200],[12,154,12,156],[12,158,12,160],[12,162,12,164],[12,166,12,168],[12,170,12,172],[12,174,12,176],[12,322,12,324],[12,326,12,328],[12,330,12,332],[12,334,12,336],[12,338,12,340],[13,2,13,5],[13,6,13,9],[13,10,13,13],[13,14,13,17],[13,18,13,21],[12,298,12,300],[12,302,12,304],[12,306,12,308],[12,310,12,312],[12,314,12,316],[12,318,12,320],[12,274,12,276],[12,278,12,280],[12,282,12,284],[12,286,12,288],[12,290,12,292],[12,294,12,296],[12,250,12,252],[12,254,12,256],[12,258,12,260],[12,262,12,264],[12,266,12,268],[12,270,12,272],[12,226,12,228],[12,230,12,232],[12,234,12,236],[12,238,12,240],[13,70,13,73],[13,74,13,77],[13,78,13,81],[13,82,13,85],[13,86,13,89],[13,90,13,93],[13,46,13,49],[13,50,13,53],[13,54,13,57],[13,58,13,61],[13,62,13,65],[13,66,13,69],[13,22,13,25],[13,26,13,29],[13,30,13,33],[13,34,13,37],[13,38,13,41],[13,42,13,45],[13,142,13,145],[13,146,13,149],[13,150,13,153],[13,154,13,157],[13,158,13,161],[13,162,13,165],[13,118,13,121],[13,122,13,125],[13,126,13,129],[13,130,13,133],[13,134,13,137],[13,138,13,141],[13,94,13,97],[13,98,13,101],[13,102,13,105],[13,106,13,109],[13,110,13,113],[13,114,13,117],[13,214,13,217],[13,218,13,221],[13,222,13,225],[13,226,13,229],[13,230,13,233],[13,234,13,237],[13,190,13,193],[13,194,13,197],[13,198,13,201],[13,202,13,205],[13,206,13,209],[13,210,13,213],[13,166,13,169],[13,170,13,173],[13,174,13,177],[13,178,13,181],[13,182,13,185],[13,186,13,189],[14,2,14,5],[14,6,14,9],[14,10,14,13],[14,14,14,17],[14,18,14,21],[14,22,14,25],[14,26,14,29],[14,30,14,33],[13,310,13,313],[13,314,13,317],[13,318,13,321],[13,322,13,325],[13,326,13,329],[13,330,13,333],[13,286,13,289],[13,290,13,293],[13,294,13,297],[13,298,13,301],[13,302,13,305],[13,306,13,309],[13,262,13,265],[13,266,13,269],[13,270,13,273],[13,274,13,277],[13,278,13,281],[13,282,13,285],[13,238,13,241],[13,242,13,245],[13,246,13,249],[13,250,13,253],[13,254,13,257],[13,258,13,261],[14,82,14,85],[14,86,14,89],[14,90,14,93],[14,94,14,97],[14,98,14,101],[14,102,14,105],[14,58,14,61],[14,62,14,65],[14,66,14,69],[14,70,14,73],[14,74,14,77],[14,78,14,81],[14,34,14,37],[14,38,14,41],[14,42,14,45],[14,46,14,49],[14,50,14,53],[14,54,14,57],[14,154,14,157],[14,158,14,161],[14,162,14,165],[14,166,14,169],[14,170,14,173],[14,174,14,177],[14,130,14,133],[14,134,14,137],[14,138,14,141],[14,142,14,145],[14,146,14,149],[14,150,14,153],[14,106,14,109],[14,110,14,113],[14,114,14,117],[14,118,14,121],[14,122,14,125],[14,126,14,129],[14,266,14,269],[14,270,14,273]],"merged_total":2907,"flags":["merged_cut"]}
[]
[null,null,"２学期",null,null,null,null,null,null,null,null,null,null,null,null,null,null,null,null,null,null,null,"２学期",null,null,null,null,null,null,null,null,null,null,null,null,null,null,null,null,null,null,null,"２学期",null,null,null,null,null,null,null,null,null,null,null,null,null,null,null,null,null,null,null,"２学期",null,null,null,null,null,null,null,null,null,null,null,null,null,null,null,null,null,null,null,"２学期",null,null,null,null,null,null,null,null,null,null,null,null,null,null,null,null,null,null,null,"２学期",null,null,null,null,null,null,null,null,null,null,null,null,null,null,null,null,null,null,null,"２学期",null,null,null,null,null,null,null,null,null,null,null,null,null,null,null,null,null,null,null,"２学期",null,null,null,null,null,null,null,null,null,null,null,null,null,null,null,null,null,null,null,"２学期",null,null,null,null,null,null,null,null,null,null,null,null,null,null,null,null,null,null,null,"２学期",null,null,null,null,null,null,null,null,null,null,null,null,null,null,null,null,null,null,null,"２学期",null,null,null,null,null,null,null,null,null,null,null,null,null,null,null,null,null,null,null,"２学期",null,null,null,null,null,null,null,null,null,null,null,null,null,null,null,null,null,null,null,"２学期",null,null,null,null,null,null,null,null,null,null,null,null,null,null,null,null,null,null,null,"２学期",null,null,null,null,null,null,null,null,null,null,null,null,null,null,null,null,null,null,null,"２学期",null,null,null,null,null,null,null,null,null,null,null,null,null,null,null,null,null,null,null,"２学期",null,null,null,null,null,null,null,null,null,null,null,null,null,null,null,null,null,null,null,"２学期",null,null,null,null,null,null,null,null,null,null,null,null,null,null,null,null,null,null,null,"２学期"]
[null,null,null,"第１週",null,null,null,{"$f":"'１学期'!$H$3","v":"校長　　　　　教頭　　　　　教務主任　　　　　担任"},null,null,null,null,null,null,null,null,null,null,null,null,null,null,null,"第２週",null,null,null,null,{"$f":"$H$3","v":"校長　　　　　教頭　　　　　教務主任　　　　　担任"},null,null,null,null,null,null,null,null,null,null,null,null,null,null,"第３週",null,null,null,null,{"$f":"$H$3","v":"校長　　　　　教頭　　　　　教務主任　　　　　担任"},null,null,null,null,null,null,null,null,null,null,null,null,null,null,"第４週",null,null,null,null,{"$f":"$H$3","v":"校長　　　　　教頭　　　　　教務主任　　　　　担任"},null,null,null,null,null,null,null,null,null,null,null,null,null,null,"第５週",null,null,null,null,{"$f":"$H$3","v":"校長　　　　　教頭　　　　　教務主任　　　　　担任"},null,null,null,null,null,null,null,null,null,null,null,null,null,null,"第６週",null,null,null,null,{"$f":"$H$3","v":"校長　　　　　教頭　　　　　教務主任　　　　　担任"},null,null,null,null,null,null,null,null,null,null,null,null,null,null,"第７週",null,null,null,null,{"$f":"$H$3","v":"校長　　　　　教頭　　　　　教務主任　　　　　担任"},null,null,null,null,null,null,null,null,null,null,null,null,null,null,"第８週",null,null,null,null,{"$f":"$H$3","v":"校長　　　　　教頭　　　　　教務主任　　　　　担任"},null,null,null,null,null,null,null,null,null,null,null,null,null,null,"第９週",null,null,null,null,{"$f":"$H$3","v":"校長　　　　　教頭　　　　　教務主任　　　　　担任"},null,null,null,null,null,null,null,null,null,null,null,null,null,null,"第10週",null,null,null,null,{"$f":"$H$3","v":"校長　　　　　教頭　　　　　教務主任　　　　　担任"},null,null,null,null,null,null,null,null,null,null,null,null,null,null,"第11週",null,null,null,null,{"$f":"$H$3","v":"校長　　　　　教頭　　　　　教務主任　　　　　担任"},null,null,null,null,null,null,null,null,null,null,null,null,null,null,"第12週",null,null,null,null,{"$f":"$H$3","v":"校長　　　　　教頭　　　　　教務主任　　　　　担任"},null,null,null,null,null,null,null,null,null,null,null,null,null,null,"第13週",null,null,null,null,{"$f":"$H$3","v":"校長　　　　　教頭　　　　　教務主任　　　　　担任"},null,null,null,null,null,null,null,null,null,null,null,null,null,null,"第14週",null,null,null,null,{"$f":"$H$3","v":"校長　　　　　教頭　　　　　教務主任　　　　　担任"},null,null,null,null,null,null,null,null,null,null,null,null,null,null,"第15週",null,null,null,null,{"$f":"$H$3","v":"校長　　　　　教頭　　　　　教務主任　　　　　担任"},null,null,null,null,null,null,null,null,null,null,null,null,null,null,"第16週",null,null,null,null,{"$f":"$H$3","v":"校長　　　　　教頭　　　　　教務主任　　　　　担任"},null,null,null,null,null,null,null,null,null,null,null,null,null,null,"第17週",null,null,null,null,{"$f":"$H$3","v":"校長　　　　　教頭　　　　　教務主任　　　　　担任"},null,null,null,null,null,null,null,null,null,null,null,null,null,null,"第18週",null,null,null,null,{"$f":"$H$3","v":"校長　　　　　教頭　　　　　教務主任　　　　　担任"}]
[null,null,"1900-09-03",null,null,null,"1900-09-04",null,null,null,"1900-09-05",null,null,null,"1900-09-06",null,null,null,"1900-09-07",null,null,null,"1900-09-10",null,null,null,"1900-09-11",null,null,null,"1900-09-12",null,null,null,"1900-09-13",null,null,null,"1900-09-14",null,null,null,"1900-09-17",null,null,null,"1900-09-18",null,null,null,"1900-09-19",null,null,null,"1900-09-20",null,null,null,"1900-09-21",null,null,null,"1900-09-24",null,null,null,"1900-09-25",null,null,null,"1900-09-26",null,null,null,"1900-09-27",null,null,null,"1900-09-28",null,null,null,"1900-10-01",null,null,null,"1900-10-02",null,null,null,"1900-10-03",null,null,null,"1900-10-04",null,null,null,"1900-10-05",null,null,null,"1900-10-08",null,null,null,"1900-10-09",null,null,null,"1900-10-10",null,null,null,"1900-10-11",null,null,null,"1900-10-12",null,null,null,"1900-10-15",null,null,null,"1900-10-16",null,null,null,"1900-10-17",null,null,null,"1900-10-18",null,null,null,"1900-10-19",null,null,null,"1900-10-22",null,null,null,"1900-10-23",null,null,null,"1900-10-24",null,null,null,"1900-10-25",null,null,null,"1900-10-26",null,null,null,"1900-10-29",null,null,null,"1900-10-30",null,null,null,"1900-10-31",null,null,null,"1900-11-01",null,null,null,"1900-11-02",null,null,null,"1900-11-05",null,null,null,"1900-11-06",null,null,null,"1900-11-07",null,null,null,"1900-11-08",null,null,null,"1900-11-09",null,null,null,"1900-11-12",null,null,null,"1900-11-13",null,null,null,"1900-11-14",null,null,null,"1900-11-15",null,null,null,"1900-11-16",null,null,null,"1900-11-19",null,null,null,"1900-11-20",null,null,null,"1900-11-21",null,null,null,"1900-11-22",null,null,null,"1900-11-23",null,null,null,"1900-11-26",null,null,null,"1900-11-27",null,null,null,"1900-11-28",null,null,null,"1900-11-29",null,null,null,"1900-11-30",null,null,null,"1900-12-03",null,null,null,"1900-12-04",null,null,null,"1900-12-05",null,null,null,"1900-12-06",null,null,null,"1900-12-07",null,null,null,"1900-12-10",null,null,null,"1900-12-11",null,null,null,"1900-12-12",null,null,null,"1900-12-13",null,null,null,"1900-12-14",null,null,null,"1900-12-17",null,null,null,"1900-12-18",null,null,null,"1900-12-19",null,null,null,"1900-12-20",null,null,null,"1900-12-21",null,null,null,"1900-12-24",null,null,null,"1900-12-25",null,null,null,"1900-12-26",null,null,null,"1900-12-27",null,null,null,"1900-12-28",null,null,null,"1900-12-31",null,null,null,"1901-01-01",null,null,null,"1901-01-02",null,null,null,"1901-01-03",null,null,null,"1901-01-04"]
[null,null,"月",null,null,null,"火",null,null,null,"水",null,null,null,"木",null,null,null,"金",null,null,null,"月",null,null,null,"火",null,null,null,"水",null,null,null,"木",null,null,null,"金",null,null,null,"月",null,null,null,"火",null,null,null,"水",null,null,null,"木",null,null,null,"金",null,null,null,"月",null,null,null,"火",null,null,null,"水",null,null,null,"木",null,null,null,"金",null,null,null,"月",null,null,null,"火",null,null,null,"水",null,null,null,"木",null,null,null,"金",null,null,null,"月",null,null,null,"火",null,null,null,"水",null,null,null,"木",null,null,null,"金",null,null,null,"月",null,null,null,"火",null,null,null,"水",null,null,null,"木",null,null,null,"金",null,null,null,"月",null,null,null,"火",null,null,null,"水",null,null,null,"木",null,null,null,"金",null,null,null,"月",null,null,null,"火",null,null,null,"水",null,null,null,"木",null,null,null,"金",null,null,null,"月",null,null,null,"火",null,null,null,"水",null,null,null,"木",null,null,null,"金",null,null,null,"月",null,null,null,"火",null,null,null,"水",null,null,null,"木",null,null,null,"金",null,null,null,"月",null,null,null,"火",null,null,null,"水",null,null,null,"木",null,null,null,"金",null,null,null,"月",null,null,null,"火",null,null,null,"水",null,null,null,"木",null,null,null,"金",null,null,null,"月",null,null,null,"火",null,null,null,"水",null,null,null,"木",null,null,null,"金",null,null,null,"月",null,null,null,"火",null,null,null,"水",null,null,null,"木",null,null,null,"金",null,null,null,"月",null,null,null,"火",null,null,null,"水",null,null,null,"木",null,null,null,"金",null,null,null,"月",null,null,null,"火",null,null,null,"水",null,null,null,"木",null,null,null,"金",null,null,null,"月",null,null,null,"火",null,null,null,"水",null,null,null,"木",null,null,null,"金"]
[null,"前"]
[null,1]
[]
[]
[null,2]
[]
[]
[null,3]
[]
[]
[null,4]
[]
[]
[null,5]
[]
[]
[null,6]
[]
[]
[null,"後"]
[null,"備考"]
[]
[]
[null,"時間数集計","授業",null,"実施","累計","授業",null,"実施","累計","授業",null,"実施","累計","授業",null,"実施","累計",null,null,"実施","累計","授業",null,"実施","累計","授業",null,"実施","累計","授業",null,"実施","累計","授業",null,"実施","累計",null,null,"実施","累計","授業",null,"実施","累計","授業",null,"実施","累計","授業",null,"実施","累計","授業",null,"実施","累計",null,null,"実施","累計","授業",null,"実施","累計","授業",null,"実施","累計","授業",null,"実施","累計","授業",null,"実施","累計",null,null,"実施","累計","授業",null,"実施","累計","授業",null,"実施","累計","授業",null,"実施","累計","授業",null,"実施","累計",null,null,"実施","累計","授業",null,"実施","累計","授業",null,"実施","累計","授業",null,"実施","累計","授業",null,"実施","累計",null,null,"実施","累計","授業",null,"実施","累計","授業",null,"実施","累計","授業",null,"実施","累計","授業",null,"実施","累計",null,null,"実施","累計","授業",null,"実施","累計","授業",null,"実施","累計","授業",null,"実施","累計","授業",null,"実施","累計",null,null,"実施","累計","授業",null,"実施","累計","授業",null,"実施","累計","授業",null,"実施","累計","授業",null,"実施","累計",null,null,"実施","累計","授業",null,"実施","累計","授業",null,"実施","累計","授業",null,"実施","累計","授業",null,"実施","累計",null,null,"実施","累計","授業",null,"実施","累計","授業",null,"実施","累計","授業",null,"実施","累計","授業",null,"実施","累計",null,null,"実施","累計","授業",null,"実施","累計","授業",null,"実施","累計","授業",null,"実施","累計","授業",null,"実施","累計",null,null,"実施","累計","授業",null,"実施","累計","授業",null,"実施","累計","授業",null,"実施","累計","授業",null,"実施","累計",null,null,"実施","累計","授業",null,"実施","累計","授業",null,"実施","累計","授業",null,"実施","累計","授業",null,"実施","累計",null,null,"実施","累計","授業",null,"実施","累計","授業",null,"実施","累計","授業",null,"実施","累計","授業",null,"実施","累計",null,null,"実施","累計","授業",null,"実施","累計","授業",null,"実施","累計","授業",null,"実施","累計","授業",null,"実施","累計",null,null,"実施","累計","授業",null,"実施","累計","授業",null,"実施","累計","授業",null,"実施","累計","授業",null,"実施","累計",null,null,"実施","累計","授業",null,"実施","累計","授業",null,"実施","累計","授業",null,"実施","累計","授業",null,"実施","累計",null,null,"実施","累計"]
[null,null,{"$f":"IF(COUNTIF(処理!$J$2:$J$25,0)>0,処理!H2,\"\")","v":""},null,{"$f":"IF(LEN(C30)=0,\"\",(COUNTIF(C$6:V$7,C30)+COUNTIF(C$10:V$10,C30)+COUNTIF(C$13:V$13,C30)+COUNTIF(C$16:V$16,C30)+COUNTIF(C$19:V$19,C30)+COUNTIF(C$22:V$22,C30)+COUNTIF(C$25:V$25,C30))/設定!$D21+IFERROR((COUNTIF(C$6:V$7,処理!$L2)+COUNTIF(C$10:V$10,処理!$L2)+COUNTIF(C$13:V$13,処理!$L2)+COUNTIF(C$16:V$16,処理!$L2)+COUNTIF(C$19:V$19,処理!$L2)+COUNTIF(C$22:V$22,処理!$L2)+COUNTIF(C$25:V$25,処理!$L2))/処理!$M2,0))","v":""},{"$f":"E30","v":""},{"$f":"IF(COUNTIF(処理!$J$2:$J$25,6)>0,処理!H8,\"\")","v":""},null,{"$f":"IF(LEN(G30)=0,\"\",(COUNTIF(C$6:V$7,G30)+COUNTIF(C$10:V$10,G30)+COUNTIF(C$13:V$13,G30)+COUNTIF(C$16:V$16,G30)+COUNTIF(C$19:V$19,G30)+COUNTIF(C$22:V$22,G30)+COUNTIF(C$25:V$25,G30))/設定!$G21+IFERROR((COUNTIF(C$6:V$7,処理!$L8)+COUNTIF(C$10:V$10,処理!$L8)+COUNTIF(C$13:V$13,処理!$L8)+COUNTIF(C$16:V$16,処理!$L8)+COUNTIF(C$19:V$19,処理!$L8)+COUNTIF(C$22:V$22,処理!$L8)+COUNTIF(C$25:V$25,処理!$L8))/処理!$M8,0))","v":""},{"$f":"I30","v":""},{"$f":"IF(COUNTIF(処理!$J$2:$J$25,12)>0,処理!H14,\"\")","v":""},null,{"$f":"IF(LEN(K30)=0,\"\",(COUNTIF(C$6:V$7,K30)+COUNTIF(C$10:V$10,K30)+COUNTIF(C$13:V$13,K30)+COUNTIF(C$16:V$16,K30)+COUNTIF(C$19:V$19,K30)+COUNTIF(C$22:V$22,K30)+COUNTIF(C$25:V$25,K30))/設定!$J21+IFERROR((COUNTIF(C$6:V$7,処理!$L14)+COUNTIF(C$10:V$10,処理!$L14)+COUNTIF(C$13:V$13,処理!$L14)+COUNTIF(C$16:V$16,処理!$L14)+COUNTIF(C$19:V$19,処理!$L14)+COUNTIF(C$22:V$22,処理!$L14)+COUNTIF(C$25:V$25,処理!$L14))/処理!$M14,0))","v":""},{"$f":"M30","v":""},{"$f":"IF(COUNTIF(処理!$J$2:$J$25,18)>0,処理!H20,\"\")","v":""},null,{"$f":"IF(LEN(O30)=0,\"\",(COUNTIF(C$6:V$7,O30)+COUNTIF(C$10:V$10,O30)+COUNTIF(C$13:V$13,O30)+COUNTIF(C$16:V$16,O30)+COUNTIF(C$19:V$19,O30)+COUNTIF(C$22:V$22,O30)+COUNTIF(C$25:V$25,O30))/設定!$M21+IFERROR((COUNTIF(C$6:V$7,処理!$L20)+COUNTIF(C$10:V$10,処理!$L20)+COUNTIF(C$13:V$13,処理!$L20)+COUNTIF(C$16:V$16,処理!$L20)+COUNTIF(C$19:V$19,処理!$L20)+COUNTIF(C$22:V$22,処理!$L20)+COUNTIF(C$25:V$25,処理!$L20))/処理!$M20,0))","v":""},{"$f":"Q30","v":""},"授業合計",null,{"$f":"SUM(E30:E35,I30:I35,M30:M35,Q30:Q35)","v":0},{"$f":"U30","v":0},{"$f":"$C$30","v":""},null,{"$f":"IF(LEN(W30)=0,\"\",(COUNTIF(W$6:AP$7,W30)+COUNTIF(W$10:AP$10,W30)+COUNTIF(W$13:AP$13,W30)+COUNTIF(W$16:AP$16,W30)+COUNTIF(W$19:AP$19,W30)+COUNTIF(W$22:AP$22,W30)+COUNTIF(W$25:AP$25,W30))/設定!$D21+IFERROR((COUNTIF(W$6:AP$7,処理!$L2)+COUNTIF(W$10:AP$10,処理!$L2)+COUNTIF(W$13:AP$13,処理!$L2)+COUNTIF(W$16:AP$16,処理!$L2)+COUNTIF(W$19:AP$19,処理!$L2)+COUNTIF(W$22:AP$22,処理!$L2)+COUNTIF(W$25:AP$25,処理!$L2))/処理!$M2,0))","v":""},{"$f":"IF(LEN(W30)=0,\"\",SUM(F30,Y30))","v":""},{"$f":"$G$30","v":""},null,{"$f":"IF(LEN(AA30)=0,\"\",(COUNTIF(W$6:AP$7,AA30)+COUNTIF(W$10:AP$10,AA30)+COUNTIF(W$13:AP$13,AA30)+COUNTIF(W$16:AP$16,AA30)+COUNTIF(W$19:AP$19,AA30)+COUNTIF(W$22:AP$22,AA30)+COUNTIF(W$25:AP$25,AA30))/設定!$G21+IFERROR((COUNTIF(W$6:AP$7,処理!$L8)+COUNTIF(W$10:AP$10,処理!$L8)+COUNTIF(W$13:AP$13,処理!$L8)+COUNTIF(W$16:AP$16,処理!$L8)+COUNTIF(W$19:AP$19,処理!$L8)+COUNTIF(W$22:AP$22,処理!$L8)+COUNTIF(W$25:AP$25,処理!$L8))/処理!$M8,0))","v":""},{"$f":"IF(LEN(AA30)=0,\"\",SUM(J30,AC30))","v":""},{"$f":"$K$30","v":""},null,{"$f":"IF(LEN(AE30)=0,\"\",(COUNTIF(W$6:AP$7,AE30)+COUNTIF(W$10:AP$10,AE30)+COUNTIF(W$13:AP$13,AE30)+COUNTIF(W$16:AP$16,AE30)+COUNTIF(W$19:AP$19,AE30)+COUNTIF(W$22:AP$22,AE30)+COUNTIF(W$25:AP$25,AE30))/設定!$J21+IFERROR((COUNTIF(W$6:AP$7,処理!$L14)+COUNTIF(W$10:AP$10,処理!$L14)+COUNTIF(W$13:AP$13,処理!$L14)+COUNTIF(W$16:AP$16,処理!$L14)+COUNTIF(W$19:AP$19,処理!$L14)+COUNTIF(W$22:AP$22,処理!$L14)+COUNTIF(W$25:AP$25,処理!$L14))/処理!$M14,0))","v":""},{"$f":"IF(LEN(AE30)=0,\"\",SUM(N30,AG30))","v":""},{"$f":"$O$30","v":""},null,{"$f":"IF(LEN(AI30)=0,\"\",(COUNTIF(W$6:AP$7,AI30)+COUNTIF(W$10:AP$10,AI30)+COUNTIF(W$13:AP$13,AI30)+COUNTIF(W$16:AP$16,AI30)+COUNTIF(W$19:AP$19,AI30)+COUNTIF(W$22:AP$22,AI30)+COUNTIF(W$25:AP$25,AI30))/設定!$M21+IFERROR((COUNTIF(W$6:AP$7,処理!$L20)+COUNTIF(W$10:AP$10,処理!$L20)+COUNTIF(W$13:AP$13,処理!$L20)+COUNTIF(W$16:AP$16,処理!$L20)+COUNTIF(W$19:AP$19,処理!$L20)+COUNTIF(W$22:AP$22,処理!$L20)+COUNTIF(W$25:AP$25,処理!$L20))/処理!$M20,0))","v":""},{"$f":"IF(LEN(AI30)=0,\"\",SUM(R30,AK30))","v":""},"授業合計",null,{"$f":"SUM(Y30:Y35,AC30:AC35,AG30:AG35,AK30:AK35)","v":0},{"$f":"IF(LEN(AM30)=0,\"\",SUM(V30,AO30))","v":0},{"$f":"$C$30","v":""},null,{"$f":"IF(LEN(AQ30)=0,\"\",(COUNTIF(AQ$6:BJ$7,AQ30)+COUNTIF(AQ$10:BJ$10,AQ30)+COUNTIF(AQ$13:BJ$13,AQ30)+COUNTIF(AQ$16:BJ$16,AQ30)+COUNTIF(AQ$19:BJ$19,AQ30)+COUNTIF(AQ$22:BJ$22,AQ30)+COUNTIF(AQ$25:BJ$25,AQ30))/設定!$D21+IFERROR((COUNTIF(AQ$6:BJ$7,処理!$L2)+COUNTIF(AQ$10:BJ$10,処理!$L2)+COUNTIF(AQ$13:BJ$13,処理!$L2)+COUNTIF(AQ$16:BJ$16,処理!$L2)+COUNTIF(AQ$19:BJ$19,処理!$L2)+COUNTIF(AQ$22:BJ$22,処理!$L2)+COUNTIF(AQ$25:BJ$25,処理!$L2))/処理!$M2,0))","v":""},{"$f":"IF(LEN(AQ30)=0,\"\",SUM(Z30,AS30))","v":""},{"$f":"$G$30","v":""},null,{"$f":"IF(LEN(AU30)=0,\"\",(COUNTIF(AQ$6:BJ$7,AU30)+COUNTIF(AQ$10:BJ$10,AU30)+COUNTIF(AQ$13:BJ$13,AU30)+COUNTIF(AQ$16:BJ$16,AU30)+COUNTIF(AQ$19:BJ$19,AU30)+COUNTIF(AQ$22:BJ$22,AU30)+COUNTIF(AQ$25:BJ$25,AU30))/設定!$G21+IFERROR((COUNTIF(AQ$6:BJ$7,処理!$L8)+COUNTIF(AQ$10:BJ$10,処理!$L8)+COUNTIF(AQ$13:BJ$13,処理!$L8)+COUNTIF(AQ$16:BJ$16,処理!$L8)+COUNTIF(AQ$19:BJ$19,処理!$L8)+COUNTIF(AQ$22:BJ$22,処理!$L8)+COUNTIF(AQ$25:BJ$25,処理!$L8))/処理!$M8,0))","v":""},{"$f":"IF(LEN(AU30)=0,\"\",SUM(AD30,AW30))","v":""},{"$f":"$K$30","v":""},null,{"$f":"IF(LEN(AY30)=0,\"\",(COUNTIF(AQ$6:BJ$7,AY30)+COUNTIF(AQ$10:BJ$10,AY30)+COUNTIF(AQ$13:BJ$13,AY30)+COUNTIF(AQ$16:BJ$16,AY30)+COUNTIF(AQ$19:BJ$19,AY30)+COUNTIF(AQ$22:BJ$22,AY30)+COUNTIF(AQ$25:BJ$25,AY30))/設定!$J21+IFERROR((COUNTIF(AQ$6:BJ$7,処理!$L14)+COUNTIF(AQ$10:BJ$10,処理!$L14)+COUNTIF(AQ$13:BJ$13,処理!$L14)+COUNTIF(AQ$16:BJ$16,処理!$L14)+COUNTIF(AQ$19:BJ$19,処理!$L14)+COUNTIF(AQ$22:BJ$22,処理!$L14)+COUNTIF(AQ$25:BJ$25,処理!$L14))/処理!$M14,0))","v":""},{"$f":"IF(LEN(AY30)=0,\"\",SUM(AH30,BA30))","v":""},{"$f":"$O$30","v":""},null,{"$f":"IF(LEN(BC30)=0,\"\",(COUNTIF(AQ$6:BJ$7,BC30)+COUNTIF(AQ$10:BJ$10,BC30)+COUNTIF(AQ$13:BJ$13,BC30)+COUNTIF(AQ$16:BJ$16,BC30)+COUNTIF(AQ$19:BJ$19,BC30)+COUNTIF(AQ$22:BJ$22,BC30)+COUNTIF(AQ$25:BJ$25,BC30))/設定!$M21+IFERROR((COUNTIF(AQ$6:BJ$7,処理!$L20)+COUNTIF(AQ$10:BJ$10,処理!$L20)+COUNTIF(AQ$13:BJ$13,処理!$L20)+COUNTIF(AQ$16:BJ$16,処理!$L20)+COUNTIF(AQ$19:BJ$19,処理!$L20)+COUNTIF(AQ$22:BJ$22,処理!$L20)+COUNTIF(AQ$25:BJ$25,処理!$L20))/処理!$M20,0))","v":""},{"$f":"IF(LEN(BC30)=0,\"\",SUM(AL30,BE30))","v":""},"授業合計",null,{"$f":"SUM(AS30:AS35,AW30:AW35,BA30:BA35,BE30:BE35)","v":0},{"$f":"IF(LEN(BG30)=0,\"\",SUM(AP30,BI30))","v":0},{"$f":"$C$30","v":""},null,{"$f":"IF(LEN(BK30)=0,\"\",(COUNTIF(BK$6:CD$7,BK30)+COUNTIF(BK$10:CD$10,BK30)+COUNTIF(BK$13:CD$13,BK30)+COUNTIF(BK$16:CD$16,BK30)+COUNTIF(BK$19:CD$19,BK30)+COUNTIF(BK$22:CD$22,BK30)+COUNTIF(BK$25:CD$25,BK30))/設定!$D21+IFERROR((COUNTIF(BK$6:CD$7,処理!$L2)+COUNTIF(BK$10:CD$10,処理!$L2)+COUNTIF(BK$13:CD$13,処理!$L2)+COUNTIF(BK$16:CD$16,処理!$L2)+COUNTIF(BK$19:CD$19,処理!$L2)+COUNTIF(BK$22:CD$22,処理!$L2)+COUNTIF(BK$25:CD$25,処理!$L2))/処理!$M2,0))","v":""},{"$f":"IF(LEN(BK30)=0,\"\",SUM(AT30,BM30))","v":""},{"$f":"$G$30","v":""},null,{"$f":"IF(LEN(BO30)=0,\"\",(COUNTIF(BK$6:CD$7,BO30)+COUNTIF(BK$10:CD$10,BO30)+COUNTIF(BK$13:CD$13,BO30)+COUNTIF(BK$16:CD$16,BO30)+COUNTIF(BK$19:CD$19,BO30)+COUNTIF(BK$22:CD$22,BO30)+COUNTIF(BK$25:CD$25,BO30))/設定!$G21+IFERROR((COUNTIF(BK$6:CD$7,処理!$L8)+COUNTIF(BK$10:CD$10,処理!$L8)+COUNTIF(BK$13:CD$13,処理!$L8)+COUNTIF(BK$16:CD$16,処理!$L8)+COUNTIF(BK$19:CD$19,処理!$L8)+COUNTIF(BK$22:CD$22,処理!$L8)+COUNTIF(BK$25:CD$25,処理!$L8))/処理!$M8,0))","v":""},{"$f":"IF(LEN(BO30)=0,\"\",SUM(AX30,BQ30))","v":""},{"$f":"$K$30","v":""},null,{"$f":"IF(LEN(BS30)=0,\"\",(COUNTIF(BK$6:CD$7,BS30)+COUNTIF(BK$10:CD$10,BS30)+COUNTIF(BK$13:CD$13,BS30)+COUNTIF(BK$16:CD$16,BS30)+COUNTIF(BK$19:CD$19,BS30)+COUNTIF(BK$22:CD$22,BS30)+COUNTIF(BK$25:CD$25,BS30))/設定!$J21+IFERROR((COUNTIF(BK$6:CD$7,処理!$L14)+COUNTIF(BK$10:CD$10,処理!$L14)+COUNTIF(BK$13:CD$13,処理!$L14)+COUNTIF(BK$16:CD$16,処理!$L14)+COUNTIF(BK$19:CD$19,処理!$L14)+COUNTIF(BK$22:CD$22,処理!$L14)+COUNTIF(BK$25:CD$25,処理!$L14))/処理!$M14,0))","v":""},{"$f":"IF(LEN(BS30)=0,\"\",SUM(BB30,BU30))","v":""},{"$f":"$O$30","v":""},null,{"$f":"IF(LEN(BW30)=0,\"\",(COUNTIF(BK$6:CD$7,BW30)+COUNTIF(BK$10:CD$10,BW30)+COUNTIF(BK$13:CD$13,BW30)+COUNTIF(BK$16:CD$16,BW30)+COUNTIF(BK$19:CD$19,BW30)+COUNTIF(BK$22:CD$22,BW30)+COUNTIF(BK$25:CD$25,BW30))/設定!$M21+IFERROR((COUNTIF(BK$6:CD$7,処理!$L20)+COUNTIF(BK$10:CD$10,処理!$L20)+COUNTIF(BK$13:CD$13,処理!$L20)+COUNTIF(BK$16:CD$16,処理!$L20)+COUNTIF(BK$19:CD$19,処理!$L20)+COUNTIF(BK$22:CD$22,処理!$L20)+COUNTIF(BK$25:CD$25,処理!$L20))/処理!$M20,0))","v":""},{"$f":"IF(LEN(BW30)=0,\"\",SUM(BF30,BY30))","v":""},"授業合計",null,{"$f":"SUM(BM30:BM35,BQ30:BQ35,BU30:BU35,BY30:BY35)","v":0},{"$f":"IF(LEN(CA30)=0,\"\",SUM(BJ30,CC30))","v":0},{"$f":"$C$30","v":""},null,{"$f":"IF(LEN(CE30)=0,\"\",(COUNTIF(CE$6:CX$7,CE30)+COUNTIF(CE$10:CX$10,CE30)+COUNTIF(CE$13:CX$13,CE30)+COUNTIF(CE$16:CX$16,CE30)+COUNTIF(CE$19:CX$19,CE30)+COUNTIF(CE$22:CX$22,CE30)+COUNTIF(CE$25:CX$25,CE30))/設定!$D21+IFERROR((COUNTIF(CE$6:CX$7,処理!$L2)+COUNTIF(CE$10:CX$10,処理!$L2)+COUNTIF(CE$13:CX$13,処理!$L2)+COUNTIF(CE$16:CX$16,処理!$L2)+COUNTIF(CE$19:CX$19,処理!$L2)+COUNTIF(CE$22:CX$22,処理!$L2)+COUNTIF(CE$25:CX$25,処理!$L2))/処理!$M2,0))","v":""},{"$f":"IF(LEN(CE30)=0,\"\",SUM(BN30,CG30))","v":""},{"$f":"$G$30","v":""},null,{"$f":"IF(LEN(CI30)=0,\"\",(COUNTIF(CE$6:CX$7,CI30)+COUNTIF(CE$10:CX$10,CI30)+COUNTIF(CE$13:CX$13,CI30)+COUNTIF(CE$16:CX$16,CI30)+COUNTIF(CE$19:CX$19,CI30)+COUNTIF(CE$22:CX$22,CI30)+COUNTIF(CE$25:CX$25,CI30))/設定!$G21+IFERROR((COUNTIF(CE$6:CX$7,処理!$L8)+COUNTIF(CE$10:CX$10,処理!$L8)+COUNTIF(CE$13:CX$13,処理!$L8)+COUNTIF(CE$16:CX$16,処理!$L8)+COUNTIF(CE$19:CX$19,処理!$L8)+COUNTIF(CE$22:CX$22,処理!$L8)+COUNTIF(CE$25:CX$25,処理!$L8))/処理!$M8,0))","v":""},{"$f":"IF(LEN(CI30)=0,\"\",SUM(BR30,CK30))","v":""},{"$f":"$K$30","v":""},null,{"$f":"IF(LEN(CM30)=0,\"\",(COUNTIF(CE$6:CX$7,CM30)+COUNTIF(CE$10:CX$10,CM30)+COUNTIF(CE$13:CX$13,CM30)+COUNTIF(CE$16:CX$16,CM30)+COUNTIF(CE$19:CX$19,CM30)+COUNTIF(CE$22:CX$22,CM30)+COUNTIF(CE$25:CX$25,CM30))/設定!$J21+IFERROR((COUNTIF(CE$6:CX$7,処理!$L14)+COUNTIF(CE$10:CX$10,処理!$L14)+COUNTIF(CE$13:CX$13,処理!$L14)+COUNTIF(CE$16:CX$16,処理!$L14)+COUNTIF(CE$19:CX$19,処理!$L14)+COUNTIF(CE$22:CX$22,処理!$L14)+COUNTIF(CE$25:CX$25,処理!$L14))/処理!$M14,0))","v":""},{"$f":"IF(LEN(CM30)=0,\"\",SUM(BV30,CO30))","v":""},{"$f":"$O$30","v":""},null,{"$f":"IF(LEN(CQ30)=0,\"\",(COUNTIF(CE$6:CX$7,CQ30)+COUNTIF(CE$10:CX$10,CQ30)+COUNTIF(CE$13:CX$13,CQ30)+COUNTIF(CE$16:CX$16,CQ30)+COUNTIF(CE$19:CX$19,CQ30)+COUNTIF(CE$22:CX$22,CQ30)+COUNTIF(CE$25:CX$25,CQ30))/設定!$M21+IFERROR((COUNTIF(CE$6:CX$7,処理!$L20)+COUNTIF(CE$10:CX$10,処理!$L20)+COUNTIF(CE$13:CX$13,処理!$L20)+COUNTIF(CE$16:CX$16,処理!$L20)+COUNTIF(CE$19:CX$19,処理!$L20)+COUNTIF(CE$22:CX$22,処理!$L20)+COUNTIF(CE$25:CX$25,処理!$L20))/処理!$M20,0))","v":""},{"$f":"IF(LEN(CQ30)=0,\"\",SUM(BZ30,CS30))","v":""},"授業合計",null,{"$f":"SUM(CG30:CG35,CK30:CK35,CO30:CO35,CS30:CS35)","v":0},{"$f":"IF(LEN(CU30)=0,\"\",SUM(CD30,CW30))","v":0},{"$f":"$C$30","v":""},null,{"$f":"IF(LEN(CY30)=0,\"\",(COUNTIF(CY$6:DR$7,CY30)+COUNTIF(CY$10:DR$10,CY30)+COUNTIF(CY$13:DR$13,CY30)+COUNTIF(CY$16:DR$16,CY30)+COUNTIF(CY$19:DR$19,CY30)+COUNTIF(CY$22:DR$22,CY30)+COUNTIF(CY$25:DR$25,CY30))/設定!$D21+IFERROR((COUNTIF(CY$6:DR$7,処理!$L2)+COUNTIF(CY$10:DR$10,処理!$L2)+COUNTIF(CY$13:DR$13,処理!$L2)+COUNTIF(CY$16:DR$16,処理!$L2)+COUNTIF(CY$19:DR$19,処理!$L2)+COUNTIF(CY$22:DR$22,処理!$L2)+COUNTIF(CY$25:DR$25,処理!$L2))/処理!$M2,0))","v":""},{"$f":"IF(LEN(CY30)=0,\"\",SUM(CH30,DA30))","v":""},{"$f":"$G$30","v":""},null,{"$f":"IF(LEN(DC30)=0,\"\",(COUNTIF(CY$6:DR$7,DC30)+COUNTIF(CY$10:DR$10,DC30)+COUNTIF(CY$13:DR$13,DC30)+COUNTIF(CY$16:DR$16,DC30)+COUNTIF(CY$19:DR$19,DC30)+COUNTIF(CY$22:DR$22,DC30)+COUNTIF(CY$25:DR$25,DC30))/設定!$G21+IFERROR((COUNTIF(CY$6:DR$7,処理!$L8)+COUNTIF(CY$10:DR$10,処理!$L8)+COUNTIF(CY$13:DR$13,処理!$L8)+COUNTIF(CY$16:DR$16,処理!$L8)+COUNTIF(CY$19:DR$19,処理!$L8)+COUNTIF(CY$22:DR$22,処理!$L8)+COUNTIF(CY$25:DR$25,処理!$L8))/処理!$M8,0))","v":""},{"$f":"IF(LEN(DC30)=0,\"\",SUM(CL30,DE30))","v":""},{"$f":"$K$30","v":""},null,{"$f":"IF(LEN(DG30)=0,\"\",(COUNTIF(CY$6:DR$7,DG30)+COUNTIF(CY$10:DR$10,DG30)+COUNTIF(CY$13:DR$13,DG30)+COUNTIF(CY$16:DR$16,DG30)+COUNTIF(CY$19:DR$19,DG30)+COUNTIF(CY$22:DR$22,DG30)+COUNTIF(CY$25:DR$25,DG30))/設定!$J21+IFERROR((COUNTIF(CY$6:DR$7,処理!$L14)+COUNTIF(CY$10:DR$10,処理!$L14)+COUNTIF(CY$13:DR$13,処理!$L14)+COUNTIF(CY$16:DR$16,処理!$L14)+COUNTIF(CY$19:DR$19,処理!$L14)+COUNTIF(CY$22:DR$22,処理!$L14)+COUNTIF(CY$25:DR$25,処理!$L14))/処理!$M14,0))","v":""},{"$f":"IF(LEN(DG30)=0,\"\",SUM(CP30,DI30))","v":""},{"$f":"$O$30","v":""},null,{"$f":"IF(LEN(DK30)=0,\"\",(COUNTIF(CY$6:DR$7,DK30)+COUNTIF(CY$10:DR$10,DK30)+COUNTIF(CY$13:DR$13,DK30)+COUNTIF(CY$16:DR$16,DK30)+COUNTIF(CY$19:DR$19,DK30)+COUNTIF(CY$22:DR$22,DK30)+COUNTIF(CY$25:DR$25,DK30))/設定!$M21+IFERROR((COUNTIF(CY$6:DR$7,処理!$L20)+COUNTIF(CY$10:DR$10,処理!$L20)+COUNTIF(CY$13:DR$13,処理!$L20)+COUNTIF(CY$16:DR$16,処理!$L20)+COUNTIF(CY$19:DR$19,処理!$L20)+COUNTIF(CY$22:DR$22,処理!$L20)+COUNTIF(CY$25:DR$25,処理!$L20))/処理!$M20,0))","v":""},{"$f":"IF(LEN(DK30)=0,\"\",SUM(CT30,DM30))","v":""},"授業合計",null,{"$f":"SUM(DA30:DA35,DE30:DE35,DI30:DI35,DM30:DM35)","v":0},{"$f":"IF(LEN(DO30)=0,\"\",SUM(CX30,DQ30))","v":0},{"$f":"$C$30","v":""},null,{"$f":"IF(LEN(DS30)=0,\"\",(COUNTIF(DS$6:EL$7,DS30)+COUNTIF(DS$10:EL$10,DS30)+COUNTIF(DS$13:EL$13,DS30)+COUNTIF(DS$16:EL$16,DS30)+COUNTIF(DS$19:EL$19,DS30)+COUNTIF(DS$22:EL$22,DS30)+COUNTIF(DS$25:EL$25,DS30))/設定!$D21+IFERROR((COUNTIF(DS$6:EL$7,処理!$L2)+COUNTIF(DS$10:EL$10,処理!$L2)+COUNTIF(DS$13:EL$13,処理!$L2)+COUNTIF(DS$16:EL$16,処理!$L2)+COUNTIF(DS$19:EL$19,処理!$L2)+COUNTIF(DS$22:EL$22,処理!$L2)+COUNTIF(DS$25:EL$25,処理!$L2))/処理!$M2,0))","v":""},{"$f":"IF(LEN(DS30)=0,\"\",SUM(DB30,DU30))","v":""},{"$f":"$G$30","v":""},null,{"$f":"IF(LEN(DW30)=0,\"\",(COUNTIF(DS$6:EL$7,DW30)+COUNTIF(DS$10:EL$10,DW30)+COUNTIF(DS$13:EL$13,DW30)+COUNTIF(DS$16:EL$16,DW30)+COUNTIF(DS$19:EL$19,DW30)+COUNTIF(DS$22:EL$22,DW30)+COUNTIF(DS$25:EL$25,DW30))/設定!$G21+IFERROR((COUNTIF(DS$6:EL$7,処理!$L8)+COUNTIF(DS$10:EL$10,処理!$L8)+COUNTIF(DS$13:EL$13,処理!$L8)+COUNTIF(DS$16:EL$16,処理!$L8)+COUNTIF(DS$19:EL$19,処理!$L8)+COUNTIF(DS$22:EL$22,処理!$L8)+COUNTIF(DS$25:EL$25,処理!$L8))/処理!$M8,0))","v":""},{"$f":"IF(LEN(DW30)=0,\"\",SUM(DF30,DY30))","v":""},{"$f":"$K$30","v":""},null,{"$f":"IF(LEN(EA30)=0,\"\",(COUNTIF(DS$6:EL$7,EA30)+COUNTIF(DS$10:EL$10,EA30)+COUNTIF(DS$13:EL$13,EA30)+COUNTIF(DS$16:EL$16,EA30)+COUNTIF(DS$19:EL$19,EA30)+COUNTIF(DS$22:EL$22,EA30)+COUNTIF(DS$25:EL$25,EA30))/設定!$J21+IFERROR((COUNTIF(DS$6:EL$7,処理!$L14)+COUNTIF(DS$10:EL$10,処理!$L14)+COUNTIF(DS$13:EL$13,処理!$L14)+COUNTIF(DS$16:EL$16,処理!$L14)+COUNTIF(DS$19:EL$19,処理!$L14)+COUNTIF(DS$22:EL$22,処理!$L14)+COUNTIF(DS$25:EL$25,処理!$L14))/処理!$M14,0))","v":""},{"$f":"IF(LEN(EA30)=0,\"\",SUM(DJ30,EC30))","v":""},{"$f":"$O$30","v":""},null,{"$f":"IF(LEN(EE30)=0,\"\",(COUNTIF(DS$6:EL$7,EE30)+COUNTIF(DS$10:EL$10,EE30)+COUNTIF(DS$13:EL$13,EE30)+COUNTIF(DS$16:EL$16,EE30)+COUNTIF(DS$19:EL$19,EE30)+COUNTIF(DS$22:EL$22,EE30)+COUNTIF(DS$25:EL$25,EE30))/設定!$M21+IFERROR((COUNTIF(DS$6:EL$7,処理!$L20)+COUNTIF(DS$10:EL$10,処理!$L20)+COUNTIF(DS$13:EL$13,処理!$L20)+COUNTIF(DS$16:EL$16,処理!$L20)+COUNTIF(DS$19:EL$19,処理!$L20)+COUNTIF(DS$22:EL$22,処理!$L20)+COUNTIF(DS$25:EL$25,処理!$L20))/処理!$M20,0))","v":""},{"$f":"IF(LEN(EE30)=0,\"\",SUM(DN30,EG30))","v":""},"授業合計",null,{"$f":"SUM(DU30:DU35,DY30:DY35,EC30:EC35,EG30:EG35)","v":0},{"$f":"IF(LEN(EI30)=0,\"\",SUM(DR30,EK30))","v":0},{"$f":"$C$30","v":""},null,{"$f":"IF(LEN(EM30)=0,\"\",(COUNTIF(EM$6:FF$7,EM30)+COUNTIF(EM$10:FF$10,EM30)+COUNTIF(EM$13:FF$13,EM30)+COUNTIF(EM$16:FF$16,EM30)+COUNTIF(EM$19:FF$19,EM30)+COUNTIF(EM$22:FF$22,EM30)+COUNTIF(EM$25:FF$25,EM30))/設定!$D21+IFERROR((COUNTIF(EM$6:FF$7,処理!$L2)+COUNTIF(EM$10:FF$10,処理!$L2)+COUNTIF(EM$13:FF$13,処理!$L2)+COUNTIF(EM$16:FF$16,処理!$L2)+COUNTIF(EM$19:FF$19,処理!$L2)+COUNTIF(EM$22:FF$22,処理!$L2)+COUNTIF(EM$25:FF$25,処理!$L2))/処理!$M2,0))","v":""},{"$f":"IF(LEN(EM30)=0,\"\",SUM(DV30,EO30))","v":""},{"$f":"$G$30","v":""},null,{"$f":"IF(LEN(EQ30)=0,\"\",(COUNTIF(EM$6:FF$7,EQ30)+COUNTIF(EM$10:FF$10,EQ30)+COUNTIF(EM$13:FF$13,EQ30)+COUNTIF(EM$16:FF$16,EQ30)+COUNTIF(EM$19:FF$19,EQ30)+COUNTIF(EM$22:FF$22,EQ30)+COUNTIF(EM$25:FF$25,EQ30))/設定!$G21+IFERROR((COUNTIF(EM$6:FF$7,処理!$L8)+COUNTIF(EM$10:FF$10,処理!$L8)+COUNTIF(EM$13:FF$13,処理!$L8)+COUNTIF(EM$16:FF$16,処理!$L8)+COUNTIF(EM$19:FF$19,処理!$L8)+COUNTIF(EM$22:FF$22,処理!$L8)+COUNTIF(EM$25:FF$25,処理!$L8))/処理!$M8,0))","v":""},{"$f":"IF(LEN(EQ30)=0,\"\",SUM(DZ30,ES30))","v":""},{"$f":"$K$30","v":""},null,{"$f":"IF(LEN(EU30)=0,\"\",(COUNTIF(EM$6:FF$7,EU30)+COUNTIF(EM$10:FF$10,EU30)+COUNTIF(EM$13:FF$13,EU30)+COUNTIF(EM$16:FF$16,EU30)+COUNTIF(EM$19:FF$19,EU30)+COUNTIF(EM$22:FF$22,EU30)+COUNTIF(EM$25:FF$25,EU30))/設定!$J21+IFERROR((COUNTIF(EM$6:FF$7,処理!$L14)+COUNTIF(EM$10:FF$10,処理!$L14)+COUNTIF(EM$13:FF$13,処理!$L14)+COUNTIF(EM$16:FF$16,処理!$L14)+COUNTIF(EM$19:FF$19,処理!$L14)+COUNTIF(EM$22:FF$22,処理!$L14)+COUNTIF(EM$25:FF$25,処理!$L14))/処理!$M14,0))","v":""},{"$f":"IF(LEN(EU30)=0,\"\",SUM(ED30,EW30))","v":""},{"$f":"$O$30","v":""},null,{"$f":"IF(LEN(EY30)=0,\"\",(COUNTIF(EM$6:FF$7,EY30)+COUNTIF(EM$10:FF$10,EY30)+COUNTIF(EM$13:FF$13,EY30)+COUNTIF(EM$16:FF$16,EY30)+COUNTIF(EM$19:FF$19,EY30)+COUNTIF(EM$22:FF$22,EY30)+COUNTIF(EM$25:FF$25,EY30))/設定!$M21+IFERROR((COUNTIF(EM$6:FF$7,処理!$L20)+COUNTIF(EM$10:FF$10,処理!$L20)+COUNTIF(EM$13:FF$13,処理!$L20)+COUNTIF(EM$16:FF$16,処理!$L20)+COUNTIF(EM$19:FF$19,処理!$L20)+COUNTIF(EM$22:FF$22,処理!$L20)+COUNTIF(EM$25:FF$25,処理!$L20))/処理!$M20,0))","v":""},{"$f":"IF(LEN(EY30)=0,\"\",SUM(EH30,FA30))","v":""},"授業合計",null,{"$f":"SUM(EO30:EO35,ES30:ES35,EW30:EW35,FA30:FA35)","v":0},{"$f":"IF(LEN(FC30)=0,\"\",SUM(EL30,FE30))","v":0},{"$f":"$C$30","v":""},null,{"$f":"IF(LEN(FG30)=0,\"\",(COUNTIF(FG$6:FZ$7,FG30)+COUNTIF(FG$10:FZ$10,FG30)+COUNTIF(FG$13:FZ$13,FG30)+COUNTIF(FG$16:FZ$16,FG30)+COUNTIF(FG$19:FZ$19,FG30)+COUNTIF(FG$22:FZ$22,FG30)+COUNTIF(FG$25:FZ$25,FG30))/設定!$D21+IFERROR((COUNTIF(FG$6:FZ$7,処理!$L2)+COUNTIF(FG$10:FZ$10,処理!$L2)+COUNTIF(FG$13:FZ$13,処理!$L2)+COUNTIF(FG$16:FZ$16,処理!$L2)+COUNTIF(FG$19:FZ$19,処理!$L2)+COUNTIF(FG$22:FZ$22,処理!$L2)+COUNTIF(FG$25:FZ$25,処理!$L2))/処理!$M2,0))","v":""},{"$f":"IF(LEN(FG30)=0,\"\",SUM(EP30,FI30))","v":""},{"$f":"$G$30","v":""},null,{"$f":"IF(LEN(FK30)=0,\"\",(COUNTIF(FG$6:FZ$7,FK30)+COUNTIF(FG$10:FZ$10,FK30)+COUNTIF(FG$13:FZ$13,FK30)+COUNTIF(FG$16:FZ$16,FK30)+COUNTIF(FG$19:FZ$19,FK30)+COUNTIF(FG$22:FZ$22,FK30)+COUNTIF(FG$25:FZ$25,FK30))/設定!$G21+IFERROR((COUNTIF(FG$6:FZ$7,処理!$L8)+COUNTIF(FG$10:FZ$10,処理!$L8)+COUNTIF(FG$13:FZ$13,処理!$L8)+COUNTIF(FG$16:FZ$16,処理!$L8)+COUNTIF(FG$19:FZ$19,処理!$L8)+COUNTIF(FG$22:FZ$22,処理!$L8)+COUNTIF(FG$25:FZ$25,処理!$L8))/処理!$M8,0))","v":""},{"$f":"IF(LEN(FK30)=0,\"\",SUM(ET30,FM30))","v":""},{"$f":"$K$30","v":""},null,{"$f":"IF(LEN(FO30)=0,\"\",(COUNTIF(FG$6:FZ$7,FO30)+COUNTIF(FG$10:FZ$10,FO30)+COUNTIF(FG$13:FZ$13,FO30)+COUNTIF(FG$16:FZ$16,FO30)+COUNTIF(FG$19:FZ$19,FO30)+COUNTIF(FG$22:FZ$22,FO30)+COUNTIF(FG$25:FZ$25,FO30))/設定!$J21+IFERROR((COUNTIF(FG$6:FZ$7,処理!$L14)+COUNTIF(FG$10:FZ$10,処理!$L14)+COUNTIF(FG$13:FZ$13,処理!$L14)+COUNTIF(FG$16:FZ$16,処理!$L14)+COUNTIF(FG$19:FZ$19,処理!$L14)+COUNTIF(FG$22:FZ$22,処理!$L14)+COUNTIF(FG$25:FZ$25,処理!$L14))/処理!$M14,0))","v":""},{"$f":"IF(LEN(FO30)=0,\"\",SUM(EX30,FQ30))","v":""},{"$f":"$O$30","v":""},null,{"$f":"IF(LEN(FS30)=0,\"\",(COUNTIF(FG$6:FZ$7,FS30)+COUNTIF(FG$10:FZ$10,FS30)+COUNTIF(FG$13:FZ$13,FS30)+COUNTIF(FG$16:FZ$16,FS30)+COUNTIF(FG$19:FZ$19,FS30)+COUNTIF(FG$22:FZ$22,FS30)+COUNTIF(FG$25:FZ$25,FS30))/設定!$M21+IFERROR((COUNTIF(FG$6:FZ$7,処理!$L20)+COUNTIF(FG$10:FZ$10,処理!$L20)+COUNTIF(FG$13:FZ$13,処理!$L20)+COUNTIF(FG$16:FZ$16,処理!$L20)+COUNTIF(FG$19:FZ$19,処理!$L20)+COUNTIF(FG$22:FZ$22,処理!$L20)+COUNTIF(FG$25:FZ$25,処理!$L20))/処理!$M20,0))","v":""},{"$f":"IF(LEN(FS30)=0,\"\",SUM(FB30,FU30))","v":""},"授業合計",null,{"$f":"SUM(FI30:FI35,FM30:FM35,FQ30:FQ35,FU30:FU35)","v":0},{"$f":"IF(LEN(FW30)=0,\"\",SUM(FF30,FY30))","v":0},{"$f":"$C$30","v":""},null,{"$f":"IF(LEN(GA30)=0,\"\",(COUNTIF(GA$6:GT$7,GA30)+COUNTIF(GA$10:GT$10,GA30)+COUNTIF(GA$13:GT$13,GA30)+COUNTIF(GA$16:GT$16,GA30)+COUNTIF(GA$19:GT$19,GA30)+COUNTIF(GA$22:GT$22,GA30)+COUNTIF(GA$25:GT$25,GA30))/設定!$D21+IFERROR((COUNTIF(GA$6:GT$7,処理!$L2)+COUNTIF(GA$10:GT$10,処理!$L2)+COUNTIF(GA$13:GT$13,処理!$L2)+COUNTIF(GA$16:GT$16,処理!$L2)+COUNTIF(GA$19:GT$19,処理!$L2)+COUNTIF(GA$22:GT$22,処理!$L2)+COUNTIF(GA$25:GT$25,処理!$L2))/処理!$M2,0))","v":""},{"$f":"IF(LEN(GA30)=0,\"\",SUM(FJ30,GC30))","v":""},{"$f":"$G$30","v":""},null,{"$f":"IF(LEN(GE30)=0,\"\",(COUNTIF(GA$6:GT$7,GE30)+COUNTIF(GA$10:GT$10,GE30)+COUNTIF(GA$13:GT$13,GE30)+COUNTIF(GA$16:GT$16,GE30)+COUNTIF(GA$19:GT$19,GE30)+COUNTIF(GA$22:GT$22,GE30)+COUNTIF(GA$25:GT$25,GE30))/設定!$G21+IFERROR((COUNTIF(GA$6:GT$7,処理!$L8)+COUNTIF(GA$10:GT$10,処理!$L8)+COUNTIF(GA$13:GT$13,処理!$L8)+COUNTIF(GA$16:GT$16,処理!$L8)+COUNTIF(GA$19:GT$19,処理!$L8)+COUNTIF(GA$22:GT$22,処理!$L8)+COUNTIF(GA$25:GT$25,処理!$L8))/処理!$M8,0))","v":""},{"$f":"IF(LEN(GE30)=0,\"\",SUM(FN30,GG30))","v":""},{"$f":"$K$30","v":""},null,{"$f":"IF(LEN(GI30)=0,\"\",(COUNTIF(GA$6:GT$7,GI30)+COUNTIF(GA$10:GT$10,GI30)+COUNTIF(GA$13:GT$13,GI30)+COUNTIF(GA$16:GT$16,GI30)+COUNTIF(GA$19:GT$19,GI30)+COUNTIF(GA$22:GT$22,GI30)+COUNTIF(GA$25:GT$25,GI30))/設定!$J21+IFERROR((COUNTIF(GA$6:GT$7,処理!$L14)+COUNTIF(GA$10:GT$10,処理!$L14)+COUNTIF(GA$13:GT$13,処理!$L14)+COUNTIF(GA$16:GT$16,処理!$L14)+COUNTIF(GA$19:GT$19,処理!$L14)+COUNTIF(GA$22:GT$22,処理!$L14)+COUNTIF(GA$25:GT$25,処理!$L14))/処理!$M14,0))","v":""},{"$f":"IF(LEN(GI30)=0,\"\",SUM(FR30,GK30))","v":""},{"$f":"$O$30","v":""},null,{"$f":"IF(LEN(GM30)=0,\"\",(COUNTIF(GA$6:GT$7,GM30)+COUNTIF(GA$10:GT$10,GM30)+COUNTIF(GA$13:GT$13,GM30)+COUNTIF(GA$16:GT$16,GM30)+COUNTIF(GA$19:GT$19,GM30)+COUNTIF(GA$22:GT$22,GM30)+COUNTIF(GA$25:GT$25,GM30))/設定!$M21+IFERROR((COUNTIF(GA$6:GT$7,処理!$L20)+COUNTIF(GA$10:GT$10,処理!$L20)+COUNTIF(GA$13:GT$13,処理!$L20)+COUNTIF(GA$16:GT$16,処理!$L20)+COUNTIF(GA$19:GT$19,処理!$L20)+COUNTIF(GA$22:GT$22,処理!$L20)+COUNTIF(GA$25:GT$25,処理!$L20))/処理!$M20,0))","v":""},{"$f":"IF(LEN(GM30)=0,\"\",SUM(FV30,GO30))","v":""},"授業合計",null,{"$f":"SUM(GC30:GC35,GG30:GG35,GK30:GK35,GO30:GO35)","v":0},{"$f":"IF(LEN(GQ30)=0,\"\",SUM(FZ30,GS30))","v":0},{"$f":"$C$30","v":""},null,{"$f":"IF(LEN(GU30)=0,\"\",(COUNTIF(GU$6:HN$7,GU30)+COUNTIF(GU$10:HN$10,GU30)+COUNTIF(GU$13:HN$13,GU30)+COUNTIF(GU$16:HN$16,GU30)+COUNTIF(GU$19:HN$19,GU30)+COUNTIF(GU$22:HN$22,GU30)+COUNTIF(GU$25:HN$25,GU30))/設定!$D21+IFERROR((COUNTIF(GU$6:HN$7,処理!$L2)+COUNTIF(GU$10:HN$10,処理!$L2)+COUNTIF(GU$13:HN$13,処理!$L2)+COUNTIF(GU$16:HN$16,処理!$L2)+COUNTIF(GU$19:HN$19,処理!$L2)+COUNTIF(GU$22:HN$22,処理!$L2)+COUNTIF(GU$25:HN$25,処理!$L2))/処理!$M2,0))","v":""},{"$f":"IF(LEN(GU30)=0,\"\",SUM(GD30,GW30))","v":""},{"$f":"$G$30","v":""},null,{"$f":"IF(LEN(GY30)=0,\"\",(COUNTIF(GU$6:HN$7,GY30)+COUNTIF(GU$10:HN$10,GY30)+COUNTIF(GU$13:HN$13,GY30)+COUNTIF(GU$16:HN$16,GY30)+COUNTIF(GU$19:HN$19,GY30)+COUNTIF(GU$22:HN$22,GY30)+COUNTIF(GU$25:HN$25,GY30))/設定!$G21+IFERROR((COUNTIF(GU$6:HN$7,処理!$L8)+COUNTIF(GU$10:HN$10,処理!$L8)+COUNTIF(GU$13:HN$13,処理!$L8)+COUNTIF(GU$16:HN$16,処理!$L8)+COUNTIF(GU$19:HN$19,処理!$L8)+COUNTIF(GU$22:HN$22,処理!$L8)+COUNTIF(GU$25:HN$25,処理!$L8))/処理!$M8,0))","v":""},{"$f":"IF(LEN(GY30)=0,\"\",SUM(GH30,HA30))","v":""},{"$f":"$K$30","v":""},null,{"$f":"IF(LEN(HC30)=0,\"\",(COUNTIF(GU$6:HN$7,HC30)+COUNTIF(GU$10:HN$10,HC30)+COUNTIF(GU$13:HN$13,HC30)+COUNTIF(GU$16:HN$16,HC30)+COUNTIF(GU$19:HN$19,HC30)+COUNTIF(GU$22:HN$22,HC30)+COUNTIF(GU$25:HN$25,HC30))/設定!$J21+IFERROR((COUNTIF(GU$6:HN$7,処理!$L14)+COUNTIF(GU$10:HN$10,処理!$L14)+COUNTIF(GU$13:HN$13,処理!$L14)+COUNTIF(GU$16:HN$16,処理!$L14)+COUNTIF(GU$19:HN$19,処理!$L14)+COUNTIF(GU$22:HN$22,処理!$L14)+COUNTIF(GU$25:HN$25,処理!$L14))/処理!$M14,0))","v":""},{"$f":"IF(LEN(HC30)=0,\"\",SUM(GL30,HE30))","v":""},{"$f":"$O$30","v":""},null,{"$f":"IF(LEN(HG30)=0,\"\",(COUNTIF(GU$6:HN$7,HG30)+COUNTIF(GU$10:HN$10,HG30)+COUNTIF(GU$13:HN$13,HG30)+COUNTIF(GU$16:HN$16,HG30)+COUNTIF(GU$19:HN$19,HG30)+COUNTIF(GU$22:HN$22,HG30)+COUNTIF(GU$25:HN$25,HG30))/設定!$M21+IFERROR((COUNTIF(GU$6:HN$7,処理!$L20)+COUNTIF(GU$10:HN$10,処理!$L20)+COUNTIF(GU$13:HN$13,処理!$L20)+COUNTIF(GU$16:HN$16,処理!$L20)+COUNTIF(GU$19:HN$19,処理!$L20)+COUNTIF(GU$22:HN$22,処理!$L20)+COUNTIF(GU$25:HN$25,処理!$L20))/処理!$M20,0))","v":""},{"$f":"IF(LEN(HG30)=0,\"\",SUM(GP30,HI30))","v":""},"授業合計",null,{"$f":"SUM(GW30:GW35,HA30:HA35,HE30:HE35,HI30:HI35)","v":0},{"$f":"IF(LEN(HK30)=0,\"\",SUM(GT30,HM30))","v":0},{"$f":"$C$30","v":""},null,{"$f":"IF(LEN(HO30)=0,\"\",(COUNTIF(HO$6:IH$7,HO30)+COUNTIF(HO$10:IH$10,HO30)+COUNTIF(HO$13:IH$13,HO30)+COUNTIF(HO$16:IH$16,HO30)+COUNTIF(HO$19:IH$19,HO30)+COUNTIF(HO$22:IH$22,HO30)+COUNTIF(HO$25:IH$25,HO30))/設定!$D21+IFERROR((COUNTIF(HO$6:IH$7,処理!$L2)+COUNTIF(HO$10:IH$10,処理!$L2)+COUNTIF(HO$13:IH$13,処理!$L2)+COUNTIF(HO$16:IH$16,処理!$L2)+COUNTIF(HO$19:IH$19,処理!$L2)+COUNTIF(HO$22:IH$22,処理!$L2)+COUNTIF(HO$25:IH$25,処理!$L2))/処理!$M2,0))","v":""},{"$f":"IF(LEN(HO30)=0,\"\",SUM(GX30,HQ30))","v":""},{"$f":"$G$30","v":""},null,{"$f":"IF(LEN(HS30)=0,\"\",(COUNTIF(HO$6:IH$7,HS30)+COUNTIF(HO$10:IH$10,HS30)+COUNTIF(HO$13:IH$13,HS30)+COUNTIF(HO$16:IH$16,HS30)+COUNTIF(HO$19:IH$19,HS30)+COUNTIF(HO$22:IH$22,HS30)+COUNTIF(HO$25:IH$25,HS30))/設定!$G21+IFERROR((COUNTIF(HO$6:IH$7,処理!$L8)+COUNTIF(HO$10:IH$10,処理!$L8)+COUNTIF(HO$13:IH$13,処理!$L8)+COUNTIF(HO$16:IH$16,処理!$L8)+COUNTIF(HO$19:IH$19,処理!$L8)+COUNTIF(HO$22:IH$22,処理!$L8)+COUNTIF(HO$25:IH$25,処理!$L8))/処理!$M8,0))","v":""},{"$f":"IF(LEN(HS30)=0,\"\",SUM(HB30,HU30))","v":""},{"$f":"$K$30","v":""},null,{"$f":"IF(LEN(HW30)=0,\"\",(COUNTIF(HO$6:IH$7,HW30)+COUNTIF(HO$10:IH$10,HW30)+COUNTIF(HO$13:IH$13,HW30)+COUNTIF(HO$16:IH$16,HW30)+COUNTIF(HO$19:IH$19,HW30)+COUNTIF(HO$22:IH$22,HW30)+COUNTIF(HO$25:IH$25,HW30))/設定!$J21+IFERROR((COUNTIF(HO$6:IH$7,処理!$L14)+COUNTIF(HO$10:IH$10,処理!$L14)+COUNTIF(HO$13:IH$13,処理!$L14)+COUNTIF(HO$16:IH$16,処理!$L14)+COUNTIF(HO$19:IH$19,処理!$L14)+COUNTIF(HO$22:IH$22,処理!$L14)+COUNTIF(HO$25:IH$25,処理!$L14))/処理!$M14,0))","v":""},{"$f":"IF(LEN(HW30)=0,\"\",SUM(HF30,HY30))","v":""},{"$f":"$O$30","v":""},null,{"$f":"IF(LEN(IA30)=0,\"\",(COUNTIF(HO$6:IH$7,IA30)+COUNTIF(HO$10:IH$10,IA30)+COUNTIF(HO$13:IH$13,IA30)+COUNTIF(HO$16:IH$16,IA30)+COUNTIF(HO$19:IH$19,IA30)+COUNTIF(HO$22:IH$22,IA30)+COUNTIF(HO$25:IH$25,IA30))/設定!$M21+IFERROR((COUNTIF(HO$6:IH$7,処理!$L20)+COUNTIF(HO$10:IH$10,処理!$L20)+COUNTIF(HO$13:IH$13,処理!$L20)+COUNTIF(HO$16:IH$16,処理!$L20)+COUNTIF(HO$19:IH$19,処理!$L20)+COUNTIF(HO$22:IH$22,処理!$L20)+COUNTIF(HO$25:IH$25,処理!$L20))/処理!$M20,0))","v":""},{"$f":"IF(LEN(IA30)=0,\"\",SUM(HJ30,IC30))","v":""},"授業合計",null,{"$f":"SUM(HQ30:HQ35,HU30:HU35,HY30:HY35,IC30:IC35)","v":0},{"$f":"IF(LEN(IE30)=0,\"\",SUM(HN30,IG30))","v":0},{"$f":"$C$30","v":""},null,{"$f":"IF(LEN(II30)=0,\"\",(COUNTIF(II$6:JB$7,II30)+COUNTIF(II$10:JB$10,II30)+COUNTIF(II$13:JB$13,II30)+COUNTIF(II$16:JB$16,II30)+COUNTIF(II$19:JB$19,II30)+COUNTIF(II$22:JB$22,II30)+COUNTIF(II$25:JB$25,II30))/設定!$D21+IFERROR((COUNTIF(II$6:JB$7,処理!$L2)+COUNTIF(II$10:JB$10,処理!$L2)+COUNTIF(II$13:JB$13,処理!$L2)+COUNTIF(II$16:JB$16,処理!$L2)+COUNTIF(II$19:JB$19,処理!$L2)+COUNTIF(II$22:JB$22,処理!$L2)+COUNTIF(II$25:JB$25,処理!$L2))/処理!$M2,0))","v":""},{"$f":"IF(LEN(II30)=0,\"\",SUM(HR30,IK30))","v":""},{"$f":"$G$30","v":""},null,{"$f":"IF(LEN(IM30)=0,\"\",(COUNTIF(II$6:JB$7,IM30)+COUNTIF(II$10:JB$10,IM30)+COUNTIF(II$13:JB$13,IM30)+COUNTIF(II$16:JB$16,IM30)+COUNTIF(II$19:JB$19,IM30)+COUNTIF(II$22:JB$22,IM30)+COUNTIF(II$25:JB$25,IM30))/設定!$G21+IFERROR((COUNTIF(II$6:JB$7,処理!$L8)+COUNTIF(II$10:JB$10,処理!$L8)+COUNTIF(II$13:JB$13,処理!$L8)+COUNTIF(II$16:JB$16,処理!$L8)+COUNTIF(II$19:JB$19,処理!$L8)+COUNTIF(II$22:JB$22,処理!$L8)+COUNTIF(II$25:JB$25,処理!$L8))/処理!$M8,0))","v":""},{"$f":"IF(LEN(IM30)=0,\"\",SUM(HV30,IO30))","v":""},{"$f":"$K$30","v":""},null,{"$f":"IF(LEN(IQ30)=0,\"\",(COUNTIF(II$6:JB$7,IQ30)+COUNTIF(II$10:JB$10,IQ30)+COUNTIF(II$13:JB$13,IQ30)+COUNTIF(II$16:JB$16,IQ30)+COUNTIF(II$19:JB$19,IQ30)+COUNTIF(II$22:JB$22,IQ30)+COUNTIF(II$25:JB$25,IQ30))/設定!$J21+IFERROR((COUNTIF(II$6:JB$7,処理!$L14)+COUNTIF(II$10:JB$10,処理!$L14)+COUNTIF(II$13:JB$13,処理!$L14)+COUNTIF(II$16:JB$16,処理!$L14)+COUNTIF(II$19:JB$19,処理!$L14)+COUNTIF(II$22:JB$22,処理!$L14)+COUNTIF(II$25:JB$25,処理!$L14))/処理!$M14,0))","v":""},{"$f":"IF(LEN(IQ30)=0,\"\",SUM(HZ30,IS30))","v":""},{"$f":"$O$30","v":""},null,{"$f":"IF(LEN(IU30)=0,\"\",(COUNTIF(II$6:JB$7,IU30)+COUNTIF(II$10:JB$10,IU30)+COUNTIF(II$13:JB$13,IU30)+COUNTIF(II$16:JB$16,IU30)+COUNTIF(II$19:JB$19,IU30)+COUNTIF(II$22:JB$22,IU30)+COUNTIF(II$25:JB$25,IU30))/設定!$M21+IFERROR((COUNTIF(II$6:JB$7,処理!$L20)+COUNTIF(II$10:JB$10,処理!$L20)+COUNTIF(II$13:JB$13,処理!$L20)+COUNTIF(II$16:JB$16,処理!$L20)+COUNTIF(II$19:JB$19,処理!$L20)+COUNTIF(II$22:JB$22,処理!$L20)+COUNTIF(II$25:JB$25,処理!$L20))/処理!$M20,0))","v":""},{"$f":"IF(LEN(IU30)=0,\"\",SUM(ID30,IW30))","v":""},"授業合計",null,{"$f":"SUM(IK30:IK35,IO30:IO35,IS30:IS35,IW30:IW35)","v":0},{"$f":"IF(LEN(IY30)=0,\"\",SUM(IH30,JA30))","v":0},{"$f":"$C$30","v":""},null,{"$f":"IF(LEN(JC30)=0,\"\",(COUNTIF(JC$6:JV$7,JC30)+COUNTIF(JC$10:JV$10,JC30)+COUNTIF(JC$13:JV$13,JC30)+COUNTIF(JC$16:JV$16,JC30)+COUNTIF(JC$19:JV$19,JC30)+COUNTIF(JC$22:JV$22,JC30)+COUNTIF(JC$25:JV$25,JC30))/設定!$D21+IFERROR((COUNTIF(JC$6:JV$7,処理!$L2)+COUNTIF(JC$10:JV$10,処理!$L2)+COUNTIF(JC$13:JV$13,処理!$L2)+COUNTIF(JC$16:JV$16,処理!$L2)+COUNTIF(JC$19:JV$19,処理!$L2)+COUNTIF(JC$22:JV$22,処理!$L2)+COUNTIF(JC$25:JV$25,処理!$L2))/処理!$M2,0))","v":""},{"$f":"IF(LEN(JC30)=0,\"\",SUM(IL30,JE30))","v":""},{"$f":"$G$30","v":""},null,{"$f":"IF(LEN(JG30)=0,\"\",(COUNTIF(JC$6:JV$7,JG30)+COUNTIF(JC$10:JV$10,JG30)+COUNTIF(JC$13:JV$13,JG30)+COUNTIF(JC$16:JV$16,JG30)+COUNTIF(JC$19:JV$19,JG30)+COUNTIF(JC$22:JV$22,JG30)+COUNTIF(JC$25:JV$25,JG30))/設定!$G21+IFERROR((COUNTIF(JC$6:JV$7,処理!$L8)+COUNTIF(JC$10:JV$10,処理!$L8)+COUNTIF(JC$13:JV$13,処理!$L8)+COUNTIF(JC$16:JV$16,処理!$L8)+COUNTIF(JC$19:JV$19,処理!$L8)+COUNTIF(JC$22:JV$22,処理!$L8)+COUNTIF(JC$25:JV$25,処理!$L8))/処理!$M8,0))","v":""},{"$f":"IF(LEN(JG30)=0,\"\",SUM(IP30,JI30))","v":""},{"$f":"$K$30","v":""},null,{"$f":"IF(LEN(JK30)=0,\"\",(COUNTIF(JC$6:JV$7,JK30)+COUNTIF(JC$10:JV$10,JK30)+COUNTIF(JC$13:JV$13,JK30)+COUNTIF(JC$16:JV$16,JK30)+COUNTIF(JC$19:JV$19,JK30)+COUNTIF(JC$22:JV$22,JK30)+COUNTIF(JC$25:JV$25,JK30))/設定!$J21+IFERROR((COUNTIF(JC$6:JV$7,処理!$L14)+COUNTIF(JC$10:JV$10,処理!$L14)+COUNTIF(JC$13:JV$13,処理!$L14)+COUNTIF(JC$16:JV$16,処理!$L14)+COUNTIF(JC$19:JV$19,処理!$L14)+COUNTIF(JC$22:JV$22,処理!$L14)+COUNTIF(JC$25:JV$25,処理!$L14))/処理!$M14,0))","v":""},{"$f":"IF(LEN(JK30)=0,\"\",SUM(IT30,JM30))","v":""},{"$f":"$O$30","v":""},null,{"$f":"IF(LEN(JO30)=0,\"\",(COUNTIF(JC$6:JV$7,JO30)+COUNTIF(JC$10:JV$10,JO30)+COUNTIF(JC$13:JV$13,JO30)+COUNTIF(JC$16:JV$16,JO30)+COUNTIF(JC$19:JV$19,JO30)+COUNTIF(JC$22:JV$22,JO30)+COUNTIF(JC$25:JV$25,JO30))/設定!$M21+IFERROR((COUNTIF(JC$6:JV$7,処理!$L20)+COUNTIF(JC$10:JV$10,処理!$L20)+COUNTIF(JC$13:JV$13,処理!$L20)+COUNTIF(JC$16:JV$16,処理!$L20)+COUNTIF(JC$19:JV$19,処理!$L20)+COUNTIF(JC$22:JV$22,処理!$L20)+COUNTIF(JC$25:JV$25,処理!$L20))/処理!$M20,0))","v":""},{"$f":"IF(LEN(JO30)=0,\"\",SUM(IX30,JQ30))","v":""},"授業合計",null,{"$f":"SUM(JE30:JE35,JI30:JI35,JM30:JM35,JQ30:JQ35)","v":0},{"$f":"IF(LEN(JS30)=0,\"\",SUM(JB30,JU30))","v":0},{"$f":"$C$30","v":""},null,{"$f":"IF(LEN(JW30)=0,\"\",(COUNTIF(JW$6:KP$7,JW30)+COUNTIF(JW$10:KP$10,JW30)+COUNTIF(JW$13:KP$13,JW30)+COUNTIF(JW$16:KP$16,JW30)+COUNTIF(JW$19:KP$19,JW30)+COUNTIF(JW$22:KP$22,JW30)+COUNTIF(JW$25:KP$25,JW30))/設定!$D21+IFERROR((COUNTIF(JW$6:KP$7,処理!$L2)+COUNTIF(JW$10:KP$10,処理!$L2)+COUNTIF(JW$13:KP$13,処理!$L2)+COUNTIF(JW$16:KP$16,処理!$L2)+COUNTIF(JW$19:KP$19,処理!$L2)+COUNTIF(JW$22:KP$22,処理!$L2)+COUNTIF(JW$25:KP$25,処理!$L2))/処理!$M2,0))","v":""},{"$f":"IF(LEN(JW30)=0,\"\",SUM(JF30,JY30))","v":""},{"$f":"$G$30","v":""},null,{"$f":"IF(LEN(KA30)=0,\"\",(COUNTIF(JW$6:KP$7,KA30)+COUNTIF(JW$10:KP$10,KA30)+COUNTIF(JW$13:KP$13,KA30)+COUNTIF(JW$16:KP$16,KA30)+COUNTIF(JW$19:KP$19,KA30)+COUNTIF(JW$22:KP$22,KA30)+COUNTIF(JW$25:KP$25,KA30))/設定!$G21+IFERROR((COUNTIF(JW$6:KP$7,処理!$L8)+COUNTIF(JW$10:KP$10,処理!$L8)+COUNTIF(JW$13:KP$13,処理!$L8)+COUNTIF(JW$16:KP$16,処理!$L8)+COUNTIF(JW$19:KP$19,処理!$L8)+COUNTIF(JW$22:KP$22,処理!$L8)+COUNTIF(JW$25:KP$25,処理!$L8))/処理!$M8,0))","v":""},{"$f":"IF(LEN(KA30)=0,\"\",SUM(JJ30,KC30))","v":""},{"$f":"$K$30","v":""},null,{"$f":"IF(LEN(KE30)=0,\"\",(COUNTIF(JW$6:KP$7,KE30)+COUNTIF(JW$10:KP$10,KE30)+COUNTIF(JW$13:KP$13,KE30)+COUNTIF(JW$16:KP$16,KE30)+COUNTIF(JW$19:KP$19,KE30)+COUNTIF(JW$22:KP$22,KE30)+COUNTIF(JW$25:KP$25,KE30))/設定!$J21+IFERROR((COUNTIF(JW$6:KP$7,処理!$L14)+COUNTIF(JW$10:KP$10,処理!$L14)+COUNTIF(JW$13:KP$13,処理!$L14)+COUNTIF(JW$16:KP$16,処理!$L14)+COUNTIF(JW$19:KP$19,処理!$L14)+COUNTIF(JW$22:KP$22,処理!$L14)+COUNTIF(JW$25:KP$25,処理!$L14))/処理!$M14,0))","v":""},{"$f":"IF(LEN(KE30)=0,\"\",SUM(JN30,KG30))","v":""},{"$f":"$O$30","v":""},null,{"$f":"IF(LEN(KI30)=0,\"\",(COUNTIF(JW$6:KP$7,KI30)+COUNTIF(JW$10:KP$10,KI30)+COUNTIF(JW$13:KP$13,KI30)+COUNTIF(JW$16:KP$16,KI30)+COUNTIF(JW$19:KP$19,KI30)+COUNTIF(JW$22:KP$22,KI30)+COUNTIF(JW$25:KP$25,KI30))/設定!$M21+IFERROR((COUNTIF(JW$6:KP$7,処理!$L20)+COUNTIF(JW$10:KP$10,処理!$L20)+COUNTIF(JW$13:KP$13,処理!$L20)+COUNTIF(JW$16:KP$16,処理!$L20)+COUNTIF(JW$19:KP$19,処理!$L20)+COUNTIF(JW$22:KP$22,処理!$L20)+COUNTIF(JW$25:KP$25,処理!$L20))/処理!$M20,0))","v":""},{"$f":"IF(LEN(KI30)=0,\"\",SUM(JR30,KK30))","v":""},"授業合計",null,{"$f":"SUM(JY30:JY35,KC30:KC35,KG30:KG35,KK30:KK35)","v":0},{"$f":"IF(LEN(KM30)=0,\"\",SUM(JV30,KO30))","v":0},{"$f":"$C$30","v":""},null,{"$f":"IF(LEN(KQ30)=0,\"\",(COUNTIF(KQ$6:LJ$7,KQ30)+COUNTIF(KQ$10:LJ$10,KQ30)+COUNTIF(KQ$13:LJ$13,KQ30)+COUNTIF(KQ$16:LJ$16,KQ30)+COUNTIF(KQ$19:LJ$19,KQ30)+COUNTIF(KQ$22:LJ$22,KQ30)+COUNTIF(KQ$25:LJ$25,KQ30))/設定!$D21+IFERROR((COUNTIF(KQ$6:LJ$7,処理!$L2)+COUNTIF(KQ$10:LJ$10,処理!$L2)+COUNTIF(KQ$13:LJ$13,処理!$L2)+COUNTIF(KQ$16:LJ$16,処理!$L2)+COUNTIF(KQ$19:LJ$19,処理!$L2)+COUNTIF(KQ$22:LJ$22,処理!$L2)+COUNTIF(KQ$25:LJ$25,処理!$L2))/処理!$M2,0))","v":""},{"$f":"IF(LEN(KQ30)=0,\"\",SUM(JZ30,KS30))","v":""},{"$f":"$G$30","v":""},null,{"$f":"IF(LEN(KU30)=0,\"\",(COUNTIF(KQ$6:LJ$7,KU30)+COUNTIF(KQ$10:LJ$10,KU30)+COUNTIF(KQ$13:LJ$13,KU30)+COUNTIF(KQ$16:LJ$16,KU30)+COUNTIF(KQ$19:LJ$19,KU30)+COUNTIF(KQ$22:LJ$22,KU30)+COUNTIF(KQ$25:LJ$25,KU30))/設定!$G21+IFERROR((COUNTIF(KQ$6:LJ$7,処理!$L8)+COUNTIF(KQ$10:LJ$10,処理!$L8)+COUNTIF(KQ$13:LJ$13,処理!$L8)+COUNTIF(KQ$16:LJ$16,処理!$L8)+COUNTIF(KQ$19:LJ$19,処理!$L8)+COUNTIF(KQ$22:LJ$22,処理!$L8)+COUNTIF(KQ$25:LJ$25,処理!$L8))/処理!$M8,0))","v":""},{"$f":"IF(LEN(KU30)=0,\"\",SUM(KD30,KW30))","v":""},{"$f":"$K$30","v":""},null,{"$f":"IF(LEN(KY30)=0,\"\",(COUNTIF(KQ$6:LJ$7,KY30)+COUNTIF(KQ$10:LJ$10,KY30)+COUNTIF(KQ$13:LJ$13,KY30)+COUNTIF(KQ$16:LJ$16,KY30)+COUNTIF(KQ$19:LJ$19,KY30)+COUNTIF(KQ$22:LJ$22,KY30)+COUNTIF(KQ$25:LJ$25,KY30))/設定!$J21+IFERROR((COUNTIF(KQ$6:LJ$7,処理!$L14)+COUNTIF(KQ$10:LJ$10,処理!$L14)+COUNTIF(KQ$13:LJ$13,処理!$L14)+COUNTIF(KQ$16:LJ$16,処理!$L14)+COUNTIF(KQ$19:LJ$19,処理!$L14)+COUNTIF(KQ$22:LJ$22,処理!$L14)+COUNTIF(KQ$25:LJ$25,処理!$L14))/処理!$M14,0))","v":""},{"$f":"IF(LEN(KY30)=0,\"\",SUM(KH30,LA30))","v":""},{"$f":"$O$30","v":""},null,{"$f":"IF(LEN(LC30)=0,\"\",(COUNTIF(KQ$6:LJ$7,LC30)+COUNTIF(KQ$10:LJ$10,LC30)+COUNTIF(KQ$13:LJ$13,LC30)+COUNTIF(KQ$16:LJ$16,LC30)+COUNTIF(KQ$19:LJ$19,LC30)+COUNTIF(KQ$22:LJ$22,LC30)+COUNTIF(KQ$25:LJ$25,LC30))/設定!$M21+IFERROR((COUNTIF(KQ$6:LJ$7,処理!$L20)+COUNTIF(KQ$10:LJ$10,処理!$L20)+COUNTIF(KQ$13:LJ$13,処理!$L20)+COUNTIF(KQ$16:LJ$16,処理!$L20)+COUNTIF(KQ$19:LJ$19,処理!$L20)+COUNTIF(KQ$22:LJ$22,処理!$L20)+COUNTIF(KQ$25:LJ$25,処理!$L20))/処理!$M20,0))","v":""},{"$f":"IF(LEN(LC30)=0,\"\",SUM(KL30,LE30))","v":""},"授業合計",null,{"$f":"SUM(KS30:KS35,KW30:KW35,LA30:LA35,LE30:LE35)","v":0},{"$f":"IF(LEN(LG30)=0,\"\",SUM(KP30,LI30))","v":0},{"$f":"$C$30","v":""},null,{"$f":"IF(LEN(LK30)=0,\"\",(COUNTIF(LK$6:MD$7,LK30)+COUNTIF(LK$10:MD$10,LK30)+COUNTIF(LK$13:MD$13,LK30)+COUNTIF(LK$16:MD$16,LK30)+COUNTIF(LK$19:MD$19,LK30)+COUNTIF(LK$22:MD$22,LK30)+COUNTIF(LK$25:MD$25,LK30))/設定!$D21+IFERROR((COUNTIF(LK$6:MD$7,処理!$L2)+COUNTIF(LK$10:MD$10,処理!$L2)+COUNTIF(LK$13:MD$13,処理!$L2)+COUNTIF(LK$16:MD$16,処理!$L2)+COUNTIF(LK$19:MD$19,処理!$L2)+COUNTIF(LK$22:MD$22,処理!$L2)+COUNTIF(LK$25:MD$25,処理!$L2))/処理!$M2,0))","v":""},{"$f":"IF(LEN(LK30)=0,\"\",SUM(KT30,LM30))","v":""},{"$f":"$G$30","v":""},null,{"$f":"IF(LEN(LO30)=0,\"\",(COUNTIF(LK$6:MD$7,LO30)+COUNTIF(LK$10:MD$10,LO30)+COUNTIF(LK$13:MD$13,LO30)+COUNTIF(LK$16:MD$16,LO30)+COUNTIF(LK$19:MD$19,LO30)+COUNTIF(LK$22:MD$22,LO30)+COUNTIF(LK$25:MD$25,LO30))/設定!$G21+IFERROR((COUNTIF(LK$6:MD$7,処理!$L8)+COUNTIF(LK$10:MD$10,処理!$L8)+COUNTIF(LK$13:MD$13,処理!$L8)+COUNTIF(LK$16:MD$16,処理!$L8)+COUNTIF(LK$19:MD$19,処理!$L8)+COUNTIF(LK$22:MD$22,処理!$L8)+COUNTIF(LK$25:MD$25,処理!$L8))/処理!$M8,0))","v":""},{"$f":"IF(LEN(LO30)=0,\"\",SUM(KX30,LQ30))","v":""},{"$f":"$K$30","v":""},null,{"$f":"IF(LEN(LS30)=0,\"\",(COUNTIF(LK$6:MD$7,LS30)+COUNTIF(LK$10:MD$10,LS30)+COUNTIF(LK$13:MD$13,LS30)+COUNTIF(LK$16:MD$16,LS30)+COUNTIF(LK$19:MD$19,LS30)+COUNTIF(LK$22:MD$22,LS30)+COUNTIF(LK$25:MD$25,LS30))/設定!$J21+IFERROR((COUNTIF(LK$6:MD$7,処理!$L14)+COUNTIF(LK$10:MD$10,処理!$L14)+COUNTIF(LK$13:MD$13,処理!$L14)+COUNTIF(LK$16:MD$16,処理!$L14)+COUNTIF(LK$19:MD$19,処理!$L14)+COUNTIF(LK$22:MD$22,処理!$L14)+COUNTIF(LK$25:MD$25,処理!$L14))/処理!$M14,0))","v":""},{"$f":"IF(LEN(LS30)=0,\"\",SUM(LB30,LU30))","v":""},{"$f":"$O$30","v":""},null,{"$f":"IF(LEN(LW30)=0,\"\",(COUNTIF(LK$6:MD$7,LW30)+COUNTIF(LK$10:MD$10,LW30)+COUNTIF(LK$13:MD$13,LW30)+COUNTIF(LK$16:MD$16,LW30)+COUNTIF(LK$19:MD$19,LW30)+COUNTIF(LK$22:MD$22,LW30)+COUNTIF(LK$25:MD$25,LW30))/設定!$M21+IFERROR((COUNTIF(LK$6:MD$7,処理!$L20)+COUNTIF(LK$10:MD$10,処理!$L20)+COUNTIF(LK$13:MD$13,処理!$L20)+COUNTIF(LK$16:MD$16,処理!$L20)+COUNTIF(LK$19:MD$19,処理!$L20)+COUNTIF(LK$22:MD$22,処理!$L20)+COUNTIF(LK$25:MD$25,処理!$L20))/処理!$M20,0))","v":""},{"$f":"IF(LEN(LW30)=0,\"\",SUM(LF30,LY30))","v":""},"授業合計",null,{"$f":"SUM(LM30:LM35,LQ30:LQ35,LU30:LU35,LY30:LY35)","v":0},{"$f":"IF(LEN(MA30)=0,\"\",SUM(LJ30,MC30))","v":0},{"$f":"$C$30","v":""},null,{"$f":"IF(LEN(ME30)=0,\"\",(COUNTIF(ME$6:MX$7,ME30)+COUNTIF(ME$10:MX$10,ME30)+COUNTIF(ME$13:MX$13,ME30)+COUNTIF(ME$16:MX$16,ME30)+COUNTIF(ME$19:MX$19,ME30)+COUNTIF(ME$22:MX$22,ME30)+COUNTIF(ME$25:MX$25,ME30))/設定!$D21+IFERROR((COUNTIF(ME$6:MX$7,処理!$L2)+COUNTIF(ME$10:MX$10,処理!$L2)+COUNTIF(ME$13:MX$13,処理!$L2)+COUNTIF(ME$16:MX$16,処理!$L2)+COUNTIF(ME$19:MX$19,処理!$L2)+COUNTIF(ME$22:MX$22,処理!$L2)+COUNTIF(ME$25:MX$25,処理!$L2))/処理!$M2,0))","v":""},{"$f":"IF(LEN(ME30)=0,\"\",SUM(LN30,MG30))","v":""},{"$f":"$G$30","v":""},null,{"$f":"IF(LEN(MI30)=0,\"\",(COUNTIF(ME$6:MX$7,MI30)+COUNTIF(ME$10:MX$10,MI30)+COUNTIF(ME$13:MX$13,MI30)+COUNTIF(ME$16:MX$16,MI30)+COUNTIF(ME$19:MX$19,MI30)+COUNTIF(ME$22:MX$22,MI30)+COUNTIF(ME$25:MX$25,MI30))/設定!$G21+IFERROR((COUNTIF(ME$6:MX$7,処理!$L8)+COUNTIF(ME$10:MX$10,処理!$L8)+COUNTIF(ME$13:MX$13,処理!$L8)+COUNTIF(ME$16:MX$16,処理!$L8)+COUNTIF(ME$19:MX$19,処理!$L8)+COUNTIF(ME$22:MX$22,処理!$L8)+COUNTIF(ME$25:MX$25,処理!$L8))/処理!$M8,0))","v":""},{"$f":"IF(LEN(MI30)=0,\"\",SUM(LR30,MK30))","v":""},{"$f":"$K$30","v":""},null,{"$f":"IF(LEN(MM30)=0,\"\",(COUNTIF(ME$6:MX$7,MM30)+COUNTIF(ME$10:MX$10,MM30)+COUNTIF(ME$13:MX$13,MM30)+COUNTIF(ME$16:MX$16,MM30)+COUNTIF(ME$19:MX$19,MM30)+COUNTIF(ME$22:MX$22,MM30)+COUNTIF(ME$25:MX$25,MM30))/設定!$J21+IFERROR((COUNTIF(ME$6:MX$7,処理!$L14)+COUNTIF(ME$10:MX$10,処理!$L14)+COUNTIF(ME$13:MX$13,処理!$L14)+COUNTIF(ME$16:MX$16,処理!$L14)+COUNTIF(ME$19:MX$19,処理!$L14)+COUNTIF(ME$22:MX$22,処理!$L14)+COUNTIF(ME$25:MX$25,処理!$L14))/処理!$M14,0))","v":""},{"$f":"IF(LEN(MM30)=0,\"\",SUM(LV30,MO30))","v":""},{"$f":"$O$30","v":""},null,{"$f":"IF(LEN(MQ30)=0,\"\",(COUNTIF(ME$6:MX$7,MQ30)+COUNTIF(ME$10:MX$10,MQ30)+COUNTIF(ME$13:MX$13,MQ30)+COUNTIF(ME$16:MX$16,MQ30)+COUNTIF(ME$19:MX$19,MQ30)+COUNTIF(ME$22:MX$22,MQ30)+COUNTIF(ME$25:MX$25,MQ30))/設定!$M21+IFERROR((COUNTIF(ME$6:MX$7,処理!$L20)+COUNTIF(ME$10:MX$10,処理!$L20)+COUNTIF(ME$13:MX$13,処理!$L20)+COUNTIF(ME$16:MX$16,処理!$L20)+COUNTIF(ME$19:MX$19,処理!$L20)+COUNTIF(ME$22:MX$22,処理!$L20)+COUNTIF(ME$25:MX$25,処理!$L20))/処理!$M20,0))","v":""},{"$f":"IF(LEN(MQ30)=0,\"\",SUM(LZ30,MS30))","v":""},"授業合計",null,{"$f":"SUM(MG30:MG35,MK30:MK35,MO30:MO35,MS30:MS35)","v":0},{"$f":"IF(LEN(MU30)=0,\"\",SUM(MD30,MW30))","v":0}]
[null,null,{"$f":"IF(COUNTIF(処理!$J$2:$J$25,1)>0,処理!H3,\"\")","v":""},null,{"$f":"IF(LEN(C31)=0,\"\",(COUNTIF(C$6:V$7,C31)+COUNTIF(C$10:V$10,C31)+COUNTIF(C$13:V$13,C31)+COUNTIF(C$16:V$16,C31)+COUNTIF(C$19:V$19,C31)+COUNTIF(C$22:V$22,C31)+COUNTIF(C$25:V$25,C31))/設定!$D22+IFERROR((COUNTIF(C$6:V$7,処理!$L3)+COUNTIF(C$10:V$10,処理!$L3)+COUNTIF(C$13:V$13,処理!$L3)+COUNTIF(C$16:V$16,処理!$L3)+COUNTIF(C$19:V$19,処理!$L3)+COUNTIF(C$22:V$22,処理!$L3)+COUNTIF(C$25:V$25,処理!$L3))/処理!$M3,0))","v":""},{"$f":"E31","v":""},{"$f":"IF(COUNTIF(処理!$J$2:$J$25,7)>0,処理!H9,\"\")","v":""},null,{"$f":"IF(LEN(G31)=0,\"\",(COUNTIF(C$6:V$7,G31)+COUNTIF(C$10:V$10,G31)+COUNTIF(C$13:V$13,G31)+COUNTIF(C$16:V$16,G31)+COUNTIF(C$19:V$19,G31)+COUNTIF(C$22:V$22,G31)+COUNTIF(C$25:V$25,G31))/設定!$G22+IFERROR((COUNTIF(C$6:V$7,処理!$L9)+COUNTIF(C$10:V$10,処理!$L9)+COUNTIF(C$13:V$13,処理!$L9)+COUNTIF(C$16:V$16,処理!$L9)+COUNTIF(C$19:V$19,処理!$L9)+COUNTIF(C$22:V$22,処理!$L9)+COUNTIF(C$25:V$25,処理!$L9))/処理!$M9,0))","v":""},{"$f":"I31","v":""},{"$f":"IF(COUNTIF(処理!$J$2:$J$25,13)>0,処理!H15,\"\")","v":""},null,{"$f":"IF(LEN(K31)=0,\"\",(COUNTIF(C$6:V$7,K31)+COUNTIF(C$10:V$10,K31)+COUNTIF(C$13:V$13,K31)+COUNTIF(C$16:V$16,K31)+COUNTIF(C$19:V$19,K31)+COUNTIF(C$22:V$22,K31)+COUNTIF(C$25:V$25,K31))/設定!$J22+IFERROR((COUNTIF(C$6:V$7,処理!$L15)+COUNTIF(C$10:V$10,処理!$L15)+COUNTIF(C$13:V$13,処理!$L15)+COUNTIF(C$16:V$16,処理!$L15)+COUNTIF(C$19:V$19,処理!$L15)+COUNTIF(C$22:V$22,処理!$L15)+COUNTIF(C$25:V$25,処理!$L15))/処理!$M15,0))","v":""},{"$f":"M31","v":""},{"$f":"IF(COUNTIF(処理!$J$2:$J$25,19)>0,処理!H21,\"\")","v":""},null,{"$f":"IF(LEN(O31)=0,\"\",(COUNTIF(C$6:V$7,O31)+COUNTIF(C$10:V$10,O31)+COUNTIF(C$13:V$13,O31)+COUNTIF(C$16:V$16,O31)+COUNTIF(C$19:V$19,O31)+COUNTIF(C$22:V$22,O31)+COUNTIF(C$25:V$25,O31))/設定!$M22+IFERROR((COUNTIF(C$6:V$7,処理!$L21)+COUNTIF(C$10:V$10,処理!$L21)+COUNTIF(C$13:V$13,処理!$L21)+COUNTIF(C$16:V$16,処理!$L21)+COUNTIF(C$19:V$19,処理!$L21)+COUNTIF(C$22:V$22,処理!$L21)+COUNTIF(C$25:V$25,処理!$L21))/処理!$M21,0))","v":""},{"$f":"Q31","v":""},{"$f":"処理!H27&\"\"","v":""},null,{"$f":"IF(LEN(S31)=0,\"\",COUNTIF(C$6:V$7,S31)+COUNTIF(C$10:V$10,S31)+COUNTIF(C$13:V$13,S31)+COUNTIF(C$16:V$16,S31)+COUNTIF(C$19:V$19,S31)+COUNTIF(C$22:V$22,S31)+COUNTIF(C$25:V$25,S31))","v":""},{"$f":"U31","v":""},{"$f":"$C$31","v":""},null,{"$f":"IF(LEN(W31)=0,\"\",(COUNTIF(W$6:AP$7,W31)+COUNTIF(W$10:AP$10,W31)+COUNTIF(W$13:AP$13,W31)+COUNTIF(W$16:AP$16,W31)+COUNTIF(W$19:AP$19,W31)+COUNTIF(W$22:AP$22,W31)+COUNTIF(W$25:AP$25,W31))/設定!$D22+IFERROR((COUNTIF(W$6:AP$7,処理!$L3)+COUNTIF(W$10:AP$10,処理!$L3)+COUNTIF(W$13:AP$13,処理!$L3)+COUNTIF(W$16:AP$16,処理!$L3)+COUNTIF(W$19:AP$19,処理!$L3)+COUNTIF(W$22:AP$22,処理!$L3)+COUNTIF(W$25:AP$25,処理!$L3))/処理!$M3,0))","v":""},{"$f":"IF(LEN(W31)=0,\"\",SUM(F31,Y31))","v":""},{"$f":"$G$31","v":""},null,{"$f":"IF(LEN(AA31)=0,\"\",(COUNTIF(W$6:AP$7,AA31)+COUNTIF(W$10:AP$10,AA31)+COUNTIF(W$13:AP$13,AA31)+COUNTIF(W$16:AP$16,AA31)+COUNTIF(W$19:AP$19,AA31)+COUNTIF(W$22:AP$22,AA31)+COUNTIF(W$25:AP$25,AA31))/設定!$G22+IFERROR((COUNTIF(W$6:AP$7,処理!$L9)+COUNTIF(W$10:AP$10,処理!$L9)+COUNTIF(W$13:AP$13,処理!$L9)+COUNTIF(W$16:AP$16,処理!$L9)+COUNTIF(W$19:AP$19,処理!$L9)+COUNTIF(W$22:AP$22,処理!$L9)+COUNTIF(W$25:AP$25,処理!$L9))/処理!$M9,0))","v":""},"",{"$f":"$K$31","v":""},null,{"$f":"IF(LEN(AE31)=0,\"\",(COUNTIF(W$6:AP$7,AE31)+COUNTIF(W$10:AP$10,AE31)+COUNTIF(W$13:AP$13,AE31)+COUNTIF(W$16:AP$16,AE31)+COUNTIF(W$19:AP$19,AE31)+COUNTIF(W$22:AP$22,AE31)+COUNTIF(W$25:AP$25,AE31))/設定!$J22+IFERROR((COUNTIF(W$6:AP$7,処理!$L15)+COUNTIF(W$10:AP$10,処理!$L15)+COUNTIF(W$13:AP$13,処理!$L15)+COUNTIF(W$16:AP$16,処理!$L15)+COUNTIF(W$19:AP$19,処理!$L15)+COUNTIF(W$22:AP$22,処理!$L15)+COUNTIF(W$25:AP$25,処理!$L15))/処理!$M15,0))","v":""},"",{"$f":"$O$31","v":""},null,{"$f":"IF(LEN(AI31)=0,\"\",(COUNTIF(W$6:AP$7,AI31)+COUNTIF(W$10:AP$10,AI31)+COUNTIF(W$13:AP$13,AI31)+COUNTIF(W$16:AP$16,AI31)+COUNTIF(W$19:AP$19,AI31)+COUNTIF(W$22:AP$22,AI31)+COUNTIF(W$25:AP$25,AI31))/設定!$M22+IFERROR((COUNTIF(W$6:AP$7,処理!$L21)+COUNTIF(W$10:AP$10,処理!$L21)+COUNTIF(W$13:AP$13,処理!$L21)+COUNTIF(W$16:AP$16,処理!$L21)+COUNTIF(W$19:AP$19,処理!$L21)+COUNTIF(W$22:AP$22,処理!$L21)+COUNTIF(W$25:AP$25,処理!$L21))/処理!$M21,0))","v":""},"",{"$f":"$S$31","v":""},null,{"$f":"IF(LEN(AM31)=0,\"\",COUNTIF(W$6:AP$7,AM31)+COUNTIF(W$10:AP$10,AM31)+COUNTIF(W$13:AP$13,AM31)+COUNTIF(W$16:AP$16,AM31)+COUNTIF(W$19:AP$19,AM31)+COUNTIF(W$22:AP$22,AM31)+COUNTIF(W$25:AP$25,AM31))","v":""},"",{"$f":"$C$31","v":""},null,{"$f":"IF(LEN(AQ31)=0,\"\",(COUNTIF(AQ$6:BJ$7,AQ31)+COUNTIF(AQ$10:BJ$10,AQ31)+COUNTIF(AQ$13:BJ$13,AQ31)+COUNTIF(AQ$16:BJ$16,AQ31)+COUNTIF(AQ$19:BJ$19,AQ31)+COUNTIF(AQ$22:BJ$22,AQ31)+COUNTIF(AQ$25:BJ$25,AQ31))/設定!$D22+IFERROR((COUNTIF(AQ$6:BJ$7,処理!$L3)+COUNTIF(AQ$10:BJ$10,処理!$L3)+COUNTIF(AQ$13:BJ$13,処理!$L3)+COUNTIF(AQ$16:BJ$16,処理!$L3)+COUNTIF(AQ$19:BJ$19,処理!$L3)+COUNTIF(AQ$22:BJ$22,処理!$L3)+COUNTIF(AQ$25:BJ$25,処理!$L3))/処理!$M3,0))","v":""},{"$f":"IF(LEN(AQ31)=0,\"\",SUM(Z31,AS31))","v":""},{"$f":"$G$31","v":""},null,{"$f":"IF(LEN(AU31)=0,\"\",(COUNTIF(AQ$6:BJ$7,AU31)+COUNTIF(AQ$10:BJ$10,AU31)+COUNTIF(AQ$13:BJ$13,AU31)+COUNTIF(AQ$16:BJ$16,AU31)+COUNTIF(AQ$19:BJ$19,AU31)+COUNTIF(AQ$22:BJ$22,AU31)+COUNTIF(AQ$25:BJ$25,AU31))/設定!$G22+IFERROR((COUNTIF(AQ$6:BJ$7,処理!$L9)+COUNTIF(AQ$10:BJ$10,処理!$L9)+COUNTIF(AQ$13:BJ$13,処理!$L9)+COUNTIF(AQ$16:BJ$16,処理!$L9)+COUNTIF(AQ$19:BJ$19,処理!$L9)+COUNTIF(AQ$22:BJ$22,処理!$L9)+COUNTIF(AQ$25:BJ$25,処理!$L9))/処理!$M9,0))","v":""},"",{"$f":"$K$31","v":""},null,{"$f":"IF(LEN(AY31)=0,\"\",(COUNTIF(AQ$6:BJ$7,AY31)+COUNTIF(AQ$10:BJ$10,AY31)+COUNTIF(AQ$13:BJ$13,AY31)+COUNTIF(AQ$16:BJ$16,AY31)+COUNTIF(AQ$19:BJ$19,AY31)+COUNTIF(AQ$22:BJ$22,AY31)+COUNTIF(AQ$25:BJ$25,AY31))/設定!$J22+IFERROR((COUNTIF(AQ$6:BJ$7,処理!$L15)+COUNTIF(AQ$10:BJ$10,処理!$L15)+COUNTIF(AQ$13:BJ$13,処理!$L15)+COUNTIF(AQ$16:BJ$16,処理!$L15)+COUNTIF(AQ$19:BJ$19,処理!$L15)+COUNTIF(AQ$22:BJ$22,処理!$L15)+COUNTIF(AQ$25:BJ$25,処理!$L15))/処理!$M15,0))","v":""},"",{"$f":"$O$31","v":""},null,{"$f":"IF(LEN(BC31)=0,\"\",(COUNTIF(AQ$6:BJ$7,BC31)+COUNTIF(AQ$10:BJ$10,BC31)+COUNTIF(AQ$13:BJ$13,BC31)+COUNTIF(AQ$16:BJ$16,BC31)+COUNTIF(AQ$19:BJ$19,BC31)+COUNTIF(AQ$22:BJ$22,BC31)+COUNTIF(AQ$25:BJ$25,BC31))/設定!$M22+IFERROR((COUNTIF(AQ$6:BJ$7,処理!$L21)+COUNTIF(AQ$10:BJ$10,処理!$L21)+COUNTIF(AQ$13:BJ$13,処理!$L21)+COUNTIF(AQ$16:BJ$16,処理!$L21)+COUNTIF(AQ$19:BJ$19,処理!$L21)+COUNTIF(AQ$22:BJ$22,処理!$L21)+COUNTIF(AQ$25:BJ$25,処理!$L21))/処理!$M21,0))","v":""},"",{"$f":"$S$31","v":""},null,{"$f":"IF(LEN(BG31)=0,\"\",COUNTIF(AQ$6:BJ$7,BG31)+COUNTIF(AQ$10:BJ$10,BG31)+COUNTIF(AQ$13:BJ$13,BG31)+COUNTIF(AQ$16:BJ$16,BG31)+COUNTIF(AQ$19:BJ$19,BG31)+COUNTIF(AQ$22:BJ$22,BG31)+COUNTIF(AQ$25:BJ$25,BG31))","v":""},"",{"$f":"$C$31","v":""},null,{"$f":"IF(LEN(BK31)=0,\"\",(COUNTIF(BK$6:CD$7,BK31)+COUNTIF(BK$10:CD$10,BK31)+COUNTIF(BK$13:CD$13,BK31)+COUNTIF(BK$16:CD$16,BK31)+COUNTIF(BK$19:CD$19,BK31)+COUNTIF(BK$22:CD$22,BK31)+COUNTIF(BK$25:CD$25,BK31))/設定!$D22+IFERROR((COUNTIF(BK$6:CD$7,処理!$L3)+COUNTIF(BK$10:CD$10,処理!$L3)+COUNTIF(BK$13:CD$13,処理!$L3)+COUNTIF(BK$16:CD$16,処理!$L3)+COUNTIF(BK$19:CD$19,処理!$L3)+COUNTIF(BK$22:CD$22,処理!$L3)+COUNTIF(BK$25:CD$25,処理!$L3))/処理!$M3,0))","v":""},{"$f":"IF(LEN(BK31)=0,\"\",SUM(AT31,BM31))","v":""},{"$f":"$G$31","v":""},null,{"$f":"IF(LEN(BO31)=0,\"\",(COUNTIF(BK$6:CD$7,BO31)+COUNTIF(BK$10:CD$10,BO31)+COUNTIF(BK$13:CD$13,BO31)+COUNTIF(BK$16:CD$16,BO31)+COUNTIF(BK$19:CD$19,BO31)+COUNTIF(BK$22:CD$22,BO31)+COUNTIF(BK$25:CD$25,BO31))/設定!$G22+IFERROR((COUNTIF(BK$6:CD$7,処理!$L9)+COUNTIF(BK$10:CD$10,処理!$L9)+COUNTIF(BK$13:CD$13,処理!$L9)+COUNTIF(BK$16:CD$16,処理!$L9)+COUNTIF(BK$19:CD$19,処理!$L9)+COUNTIF(BK$22:CD$22,処理!$L9)+COUNTIF(BK$25:CD$25,処理!$L9))/処理!$M9,0))","v":""},"",{"$f":"$K$31","v":""},null,{"$f":"IF(LEN(BS31)=0,\"\",(COUNTIF(BK$6:CD$7,BS31)+COUNTIF(BK$10:CD$10,BS31)+COUNTIF(BK$13:CD$13,BS31)+COUNTIF(BK$16:CD$16,BS31)+COUNTIF(BK$19:CD$19,BS31)+COUNTIF(BK$22:CD$22,BS31)+COUNTIF(BK$25:CD$25,BS31))/設定!$J22+IFERROR((COUNTIF(BK$6:CD$7,処理!$L15)+COUNTIF(BK$10:CD$10,処理!$L15)+COUNTIF(BK$13:CD$13,処理!$L15)+COUNTIF(BK$16:CD$16,処理!$L15)+COUNTIF(BK$19:CD$19,処理!$L15)+COUNTIF(BK$22:CD$22,処理!$L15)+COUNTIF(BK$25:CD$25,処理!$L15))/処理!$M15,0))","v":""},"",{"$f":"$O$31","v":""},null,{"$f":"IF(LEN(BW31)=0,\"\",(COUNTIF(BK$6:CD$7,BW31)+COUNTIF(BK$10:CD$10,BW31)+COUNTIF(BK$13:CD$13,BW31)+COUNTIF(BK$16:CD$16,BW31)+COUNTIF(BK$19:CD$19,BW31)+COUNTIF(BK$22:CD$22,BW31)+COUNTIF(BK$25:CD$25,BW31))/設定!$M22+IFERROR((COUNTIF(BK$6:CD$7,処理!$L21)+COUNTIF(BK$10:CD$10,処理!$L21)+COUNTIF(BK$13:CD$13,処理!$L21)+COUNTIF(BK$16:CD$16,処理!$L21)+COUNTIF(BK$19:CD$19,処理!$L21)+COUNTIF(BK$22:CD$22,処理!$L21)+COUNTIF(BK$25:CD$25,処理!$L21))/処理!$M21,0))","v":""},"",{"$f":"$S$31","v":""},null,{"$f":"IF(LEN(CA31)=0,\"\",COUNTIF(BK$6:CD$7,CA31)+COUNTIF(BK$10:CD$10,CA31)+COUNTIF(BK$13:CD$13,CA31)+COUNTIF(BK$16:CD$16,CA31)+COUNTIF(BK$19:CD$19,CA31)+COUNTIF(BK$22:CD$22,CA31)+COUNTIF(BK$25:CD$25,CA31))","v":""},"",{"$f":"$C$31","v":""},null,{"$f":"IF(LEN(CE31)=0,\"\",(COUNTIF(CE$6:CX$7,CE31)+COUNTIF(CE$10:CX$10,CE31)+COUNTIF(CE$13:CX$13,CE31)+COUNTIF(CE$16:CX$16,CE31)+COUNTIF(CE$19:CX$19,CE31)+COUNTIF(CE$22:CX$22,CE31)+COUNTIF(CE$25:CX$25,CE31))/設定!$D22+IFERROR((COUNTIF(CE$6:CX$7,処理!$L3)+COUNTIF(CE$10:CX$10,処理!$L3)+COUNTIF(CE$13:CX$13,処理!$L3)+COUNTIF(CE$16:CX$16,処理!$L3)+COUNTIF(CE$19:CX$19,処理!$L3)+COUNTIF(CE$22:CX$22,処理!$L3)+COUNTIF(CE$25:CX$25,処理!$L3))/処理!$M3,0))","v":""},{"$f":"IF(LEN(CE31)=0,\"\",SUM(BN31,CG31))","v":""},{"$f":"$G$31","v":""},null,{"$f":"IF(LEN(CI31)=0,\"\",(COUNTIF(CE$6:CX$7,CI31)+COUNTIF(CE$10:CX$10,CI31)+COUNTIF(CE$13:CX$13,CI31)+COUNTIF(CE$16:CX$16,CI31)+COUNTIF(CE$19:CX$19,CI31)+COUNTIF(CE$22:CX$22,CI31)+COUNTIF(CE$25:CX$25,CI31))/設定!$G22+IFERROR((COUNTIF(CE$6:CX$7,処理!$L9)+COUNTIF(CE$10:CX$10,処理!$L9)+COUNTIF(CE$13:CX$13,処理!$L9)+COUNTIF(CE$16:CX$16,処理!$L9)+COUNTIF(CE$19:CX$19,処理!$L9)+COUNTIF(CE$22:CX$22,処理!$L9)+COUNTIF(CE$25:CX$25,処理!$L9))/処理!$M9,0))","v":""},"",{"$f":"$K$31","v":""},null,{"$f":"IF(LEN(CM31)=0,\"\",(COUNTIF(CE$6:CX$7,CM31)+COUNTIF(CE$10:CX$10,CM31)+COUNTIF(CE$13:CX$13,CM31)+COUNTIF(CE$16:CX$16,CM31)+COUNTIF(CE$19:CX$19,CM31)+COUNTIF(CE$22:CX$22,CM31)+COUNTIF(CE$25:CX$25,CM31))/設定!$J22+IFERROR((COUNTIF(CE$6:CX$7,処理!$L15)+COUNTIF(CE$10:CX$10,処理!$L15)+COUNTIF(CE$13:CX$13,処理!$L15)+COUNTIF(CE$16:CX$16,処理!$L15)+COUNTIF(CE$19:CX$19,処理!$L15)+COUNTIF(CE$22:CX$22,処理!$L15)+COUNTIF(CE$25:CX$25,処理!$L15))/処理!$M15,0))","v":""},"",{"$f":"$O$31","v":""},null,{"$f":"IF(LEN(CQ31)=0,\"\",(COUNTIF(CE$6:CX$7,CQ31)+COUNTIF(CE$10:CX$10,CQ31)+COUNTIF(CE$13:CX$13,CQ31)+COUNTIF(CE$16:CX$16,CQ31)+COUNTIF(CE$19:CX$19,CQ31)+COUNTIF(CE$22:CX$22,CQ31)+COUNTIF(CE$25:CX$25,CQ31))/設定!$M22+IFERROR((COUNTIF(CE$6:CX$7,処理!$L21)+COUNTIF(CE$10:CX$10,処理!$L21)+COUNTIF(CE$13:CX$13,処理!$L21)+COUNTIF(CE$16:CX$16,処理!$L21)+COUNTIF(CE$19:CX$19,処理!$L21)+COUNTIF(CE$22:CX$22,処理!$L21)+COUNTIF(CE$25:CX$25,処理!$L21))/処理!$M21,0))","v":""},"",{"$f":"$S$31","v":""},null,{"$f":"IF(LEN(CU31)=0,\"\",COUNTIF(CE$6:CX$7,CU31)+COUNTIF(CE$10:CX$10,CU31)+COUNTIF(CE$13:CX$13,CU31)+COUNTIF(CE$16:CX$16,CU31)+COUNTIF(CE$19:CX$19,CU31)+COUNTIF(CE$22:CX$22,CU31)+COUNTIF(CE$25:CX$25,CU31))","v":""},"",{"$f":"$C$31","v":""},null,{"$f":"IF(LEN(CY31)=0,\"\",(COUNTIF(CY$6:DR$7,CY31)+COUNTIF(CY$10:DR$10,CY31)+COUNTIF(CY$13:DR$13,CY31)+COUNTIF(CY$16:DR$16,CY31)+COUNTIF(CY$19:DR$19,CY31)+COUNTIF(CY$22:DR$22,CY31)+COUNTIF(CY$25:DR$25,CY31))/設定!$D22+IFERROR((COUNTIF(CY$6:DR$7,処理!$L3)+COUNTIF(CY$10:DR$10,処理!$L3)+COUNTIF(CY$13:DR$13,処理!$L3)+COUNTIF(CY$16:DR$16,処理!$L3)+COUNTIF(CY$19:DR$19,処理!$L3)+COUNTIF(CY$22:DR$22,処理!$L3)+COUNTIF(CY$25:DR$25,処理!$L3))/処理!$M3,0))","v":""},{"$f":"IF(LEN(CY31)=0,\"\",SUM(CH31,DA31))","v":""},{"$f":"$G$31","v":""},null,{"$f":"IF(LEN(DC31)=0,\"\",(COUNTIF(CY$6:DR$7,DC31)+COUNTIF(CY$10:DR$10,DC31)+COUNTIF(CY$13:DR$13,DC31)+COUNTIF(CY$16:DR$16,DC31)+COUNTIF(CY$19:DR$19,DC31)+COUNTIF(CY$22:DR$22,DC31)+COUNTIF(CY$25:DR$25,DC31))/設定!$G22+IFERROR((COUNTIF(CY$6:DR$7,処理!$L9)+COUNTIF(CY$10:DR$10,処理!$L9)+COUNTIF(CY$13:DR$13,処理!$L9)+COUNTIF(CY$16:DR$16,処理!$L9)+COUNTIF(CY$19:DR$19,処理!$L9)+COUNTIF(CY$22:DR$22,処理!$L9)+COUNTIF(CY$25:DR$25,処理!$L9))/処理!$M9,0))","v":""},"",{"$f":"$K$31","v":""},null,{"$f":"IF(LEN(DG31)=0,\"\",(COUNTIF(CY$6:DR$7,DG31)+COUNTIF(CY$10:DR$10,DG31)+COUNTIF(CY$13:DR$13,DG31)+COUNTIF(CY$16:DR$16,DG31)+COUNTIF(CY$19:DR$19,DG31)+COUNTIF(CY$22:DR$22,DG31)+COUNTIF(CY$25:DR$25,DG31))/設定!$J22+IFERROR((COUNTIF(CY$6:DR$7,処理!$L15)+COUNTIF(CY$10:DR$10,処理!$L15)+COUNTIF(CY$13:DR$13,処理!$L15)+COUNTIF(CY$16:DR$16,処理!$L15)+COUNTIF(CY$19:DR$19,処理!$L15)+COUNTIF(CY$22:DR$22,処理!$L15)+COUNTIF(CY$25:DR$25,処理!$L15))/処理!$M15,0))","v":""},"",{"$f":"$O$31","v":""},null,{"$f":"IF(LEN(DK31)=0,\"\",(COUNTIF(CY$6:DR$7,DK31)+COUNTIF(CY$10:DR$10,DK31)+COUNTIF(CY$13:DR$13,DK31)+COUNTIF(CY$16:DR$16,DK31)+COUNTIF(CY$19:DR$19,DK31)+COUNTIF(CY$22:DR$22,DK31)+COUNTIF(CY$25:DR$25,DK31))/設定!$M22+IFERROR((COUNTIF(CY$6:DR$7,処理!$L21)+COUNTIF(CY$10:DR$10,処理!$L21)+COUNTIF(CY$13:DR$13,処理!$L21)+COUNTIF(CY$16:DR$16,処理!$L21)+COUNTIF(CY$19:DR$19,処理!$L21)+COUNTIF(CY$22:DR$22,処理!$L21)+COUNTIF(CY$25:DR$25,処理!$L21))/処理!$M21,0))","v":""},"",{"$f":"$S$31","v":""},null,{"$f":"IF(LEN(DO31)=0,\"\",COUNTIF(CY$6:DR$7,DO31)+COUNTIF(CY$10:DR$10,DO31)+COUNTIF(CY$13:DR$13,DO31)+COUNTIF(CY$16:DR$16,DO31)+COUNTIF(CY$19:DR$19,DO31)+COUNTIF(CY$22:DR$22,DO31)+COUNTIF(CY$25:DR$25,DO31))","v":""},"",{"$f":"$C$31","v":""},null,{"$f":"IF(LEN(DS31)=0,\"\",(COUNTIF(DS$6:EL$7,DS31)+COUNTIF(DS$10:EL$10,DS31)+COUNTIF(DS$13:EL$13,DS31)+COUNTIF(DS$16:EL$16,DS31)+COUNTIF(DS$19:EL$19,DS31)+COUNTIF(DS$22:EL$22,DS31)+COUNTIF(DS$25:EL$25,DS31))/設定!$D22+IFERROR((COUNTIF(DS$6:EL$7,処理!$L3)+COUNTIF(DS$10:EL$10,処理!$L3)+COUNTIF(DS$13:EL$13,処理!$L3)+COUNTIF(DS$16:EL$16,処理!$L3)+COUNTIF(DS$19:EL$19,処理!$L3)+COUNTIF(DS$22:EL$22,処理!$L3)+COUNTIF(DS$25:EL$25,処理!$L3))/処理!$M3,0))","v":""},{"$f":"IF(LEN(DS31)=0,\"\",SUM(DB31,DU31))","v":""},{"$f":"$G$31","v":""},null,{"$f":"IF(LEN(DW31)=0,\"\",(COUNTIF(DS$6:EL$7,DW31)+COUNTIF(DS$10:EL$10,DW31)+COUNTIF(DS$13:EL$13,DW31)+COUNTIF(DS$16:EL$16,DW31)+COUNTIF(DS$19:EL$19,DW31)+COUNTIF(DS$22:EL$22,DW31)+COUNTIF(DS$25:EL$25,DW31))/設定!$G22+IFERROR((COUNTIF(DS$6:EL$7,処理!$L9)+COUNTIF(DS$10:EL$10,処理!$L9)+COUNTIF(DS$13:EL$13,処理!$L9)+COUNTIF(DS$16:EL$16,処理!$L9)+COUNTIF(DS$19:EL$19,処理!$L9)+COUNTIF(DS$22:EL$22,処理!$L9)+COUNTIF(DS$25:EL$25,処理!$L9))/処理!$M9,0))","v":""},"",{"$f":"$K$31","v":""},null,{"$f":"IF(LEN(EA31)=0,\"\",(COUNTIF(DS$6:EL$7,EA31)+COUNTIF(DS$10:EL$10,EA31)+COUNTIF(DS$13:EL$13,EA31)+COUNTIF(DS$16:EL$16,EA31)+COUNTIF(DS$19:EL$19,EA31)+COUNTIF(DS$22:EL$22,EA31)+COUNTIF(DS$25:EL$25,EA31))/設定!$J22+IFERROR((COUNTIF(DS$6:EL$7,処理!$L15)+COUNTIF(DS$10:EL$10,処理!$L15)+COUNTIF(DS$13:EL$13,処理!$L15)+COUNTIF(DS$16:EL$16,処理!$L15)+COUNTIF(DS$19:EL$19,処理!$L15)+COUNTIF(DS$22:EL$22,処理!$L15)+COUNTIF(DS$25:EL$25,処理!$L15))/処理!$M15,0))","v":""},"",{"$f":"$O$31","v":""},null,{"$f":"IF(LEN(EE31)=0,\"\",(COUNTIF(DS$6:EL$7,EE31)+COUNTIF(DS$10:EL$10,EE31)+COUNTIF(DS$13:EL$13,EE31)+COUNTIF(DS$16:EL$16,EE31)+COUNTIF(DS$19:EL$19,EE31)+COUNTIF(DS$22:EL$22,EE31)+COUNTIF(DS$25:EL$25,EE31))/設定!$M22+IFERROR((COUNTIF(DS$6:EL$7,処理!$L21)+COUNTIF(DS$10:EL$10,処理!$L21)+COUNTIF(DS$13:EL$13,処理!$L21)+COUNTIF(DS$16:EL$16,処理!$L21)+COUNTIF(DS$19:EL$19,処理!$L21)+COUNTIF(DS$22:EL$22,処理!$L21)+COUNTIF(DS$25:EL$25,処理!$L21))/処理!$M21,0))","v":""},"",{"$f":"$S$31","v":""},null,{"$f":"IF(LEN(EI31)=0,\"\",COUNTIF(DS$6:EL$7,EI31)+COUNTIF(DS$10:EL$10,EI31)+COUNTIF(DS$13:EL$13,EI31)+COUNTIF(DS$16:EL$16,EI31)+COUNTIF(DS$19:EL$19,EI31)+COUNTIF(DS$22:EL$22,EI31)+COUNTIF(DS$25:EL$25,EI31))","v":""},"",{"$f":"$C$31","v":""},null,{"$f":"IF(LEN(EM31)=0,\"\",(COUNTIF(EM$6:FF$7,EM31)+COUNTIF(EM$10:FF$10,EM31)+COUNTIF(EM$13:FF$13,EM31)+COUNTIF(EM$16:FF$16,EM31)+COUNTIF(EM$19:FF$19,EM31)+COUNTIF(EM$22:FF$22,EM31)+COUNTIF(EM$25:FF$25,EM31))/設定!$D22+IFERROR((COUNTIF(EM$6:FF$7,処理!$L3)+COUNTIF(EM$10:FF$10,処理!$L3)+COUNTIF(EM$13:FF$13,処理!$L3)+COUNTIF(EM$16:FF$16,処理!$L3)+COUNTIF(EM$19:FF$19,処理!$L3)+COUNTIF(EM$22:FF$22,処理!$L3)+COUNTIF(EM$25:FF$25,処理!$L3))/処理!$M3,0))","v":""},{"$f":"IF(LEN(EM31)=0,\"\",SUM(DV31,EO31))","v":""},{"$f":"$G$31","v":""},null,{"$f":"IF(LEN(EQ31)=0,\"\",(COUNTIF(EM$6:FF$7,EQ31)+COUNTIF(EM$10:FF$10,EQ31)+COUNTIF(EM$13:FF$13,EQ31)+COUNTIF(EM$16:FF$16,EQ31)+COUNTIF(EM$19:FF$19,EQ31)+COUNTIF(EM$22:FF$22,EQ31)+COUNTIF(EM$25:FF$25,EQ31))/設定!$G22+IFERROR((COUNTIF(EM$6:FF$7,処理!$L9)+COUNTIF(EM$10:FF$10,処理!$L9)+COUNTIF(EM$13:FF$13,処理!$L9)+COUNTIF(EM$16:FF$16,処理!$L9)+COUNTIF(EM$19:FF$19,処理!$L9)+COUNTIF(EM$22:FF$22,処理!$L9)+COUNTIF(EM$25:FF$25,処理!$L9))/処理!$M9,0))","v":""},"",{"$f":"$K$31","v":""},null,{"$f":"IF(LEN(EU31)=0,\"\",(COUNTIF(EM$6:FF$7,EU31)+COUNTIF(EM$10:FF$10,EU31)+COUNTIF(EM$13:FF$13,EU31)+COUNTIF(EM$16:FF$16,EU31)+COUNTIF(EM$19:FF$19,EU31)+COUNTIF(EM$22:FF$22,EU31)+COUNTIF(EM$25:FF$25,EU31))/設定!$J22+IFERROR((COUNTIF(EM$6:FF$7,処理!$L15)+COUNTIF(EM$10:FF$10,処理!$L15)+COUNTIF(EM$13:FF$13,処理!$L15)+COUNTIF(EM$16:FF$16,処理!$L15)+COUNTIF(EM$19:FF$19,処理!$L15)+COUNTIF(EM$22:FF$22,処理!$L15)+COUNTIF(EM$25:FF$25,処理!$L15))/処理!$M15,0))","v":""},"",{"$f":"$O$31","v":""},null,{"$f":"IF(LEN(EY31)=0,\"\",(COUNTIF(EM$6:FF$7,EY31)+COUNTIF(EM$10:FF$10,EY31)+COUNTIF(EM$13:FF$13,EY31)+COUNTIF(EM$16:FF$16,EY31)+COUNTIF(EM$19:FF$19,EY31)+COUNTIF(EM$22:FF$22,EY31)+COUNTIF(EM$25:FF$25,EY31))/設定!$M22+IFERROR((COUNTIF(EM$6:FF$7,処理!$L21)+COUNTIF(EM$10:FF$10,処理!$L21)+COUNTIF(EM$13:FF$13,処理!$L21)+COUNTIF(EM$16:FF$16,処理!$L21)+COUNTIF(EM$19:FF$19,処理!$L21)+COUNTIF(EM$22:FF$22,処理!$L21)+COUNTIF(EM$25:FF$25,処理!$L21))/処理!$M21,0))","v":""},"",{"$f":"$S$31","v":""},null,{"$f":"IF(LEN(FC31)=0,\"\",COUNTIF(EM$6:FF$7,FC31)+COUNTIF(EM$10:FF$10,FC31)+COUNTIF(EM$13:FF$13,FC31)+COUNTIF(EM$16:FF$16,FC31)+COUNTIF(EM$19:FF$19,FC31)+COUNTIF(EM$22:FF$22,FC31)+COUNTIF(EM$25:FF$25,FC31))","v":""},"",{"$f":"$C$31","v":""},null,{"$f":"IF(LEN(FG31)=0,\"\",(COUNTIF(FG$6:FZ$7,FG31)+COUNTIF(FG$10:FZ$10,FG31)+COUNTIF(FG$13:FZ$13,FG31)+COUNTIF(FG$16:FZ$16,FG31)+COUNTIF(FG$19:FZ$19,FG31)+COUNTIF(FG$22:FZ$22,FG31)+COUNTIF(FG$25:FZ$25,FG31))/設定!$D22+IFERROR((COUNTIF(FG$6:FZ$7,処理!$L3)+COUNTIF(FG$10:FZ$10,処理!$L3)+COUNTIF(FG$13:FZ$13,処理!$L3)+COUNTIF(FG$16:FZ$16,処理!$L3)+COUNTIF(FG$19:FZ$19,処理!$L3)+COUNTIF(FG$22:FZ$22,処理!$L3)+COUNTIF(FG$25:FZ$25,処理!$L3))/処理!$M3,0))","v":""},{"$f":"IF(LEN(FG31)=0,\"\",SUM(EP31,FI31))","v":""},{"$f":"$G$31","v":""},null,{"$f":"IF(LEN(FK31)=0,\"\",(COUNTIF(FG$6:FZ$7,FK31)+COUNTIF(FG$10:FZ$10,FK31)+COUNTIF(FG$13:FZ$13,FK31)+COUNTIF(FG$16:FZ$16,FK31)+COUNTIF(FG$19:FZ$19,FK31)+COUNTIF(FG$22:FZ$22,FK31)+COUNTIF(FG$25:FZ$25,FK31))/設定!$G22+IFERROR((COUNTIF(FG$6:FZ$7,処理!$L9)+COUNTIF(FG$10:FZ$10,処理!$L9)+COUNTIF(FG$13:FZ$13,処理!$L9)+COUNTIF(FG$16:FZ$16,処理!$L9)+COUNTIF(FG$19:FZ$19,処理!$L9)+COUNTIF(FG$22:FZ$22,処理!$L9)+COUNTIF(FG$25:FZ$25,処理!$L9))/処理!$M9,0))","v":""},"",{"$f":"$K$31","v":""},null,{"$f":"IF(LEN(FO31)=0,\"\",(COUNTIF(FG$6:FZ$7,FO31)+COUNTIF(FG$10:FZ$10,FO31)+COUNTIF(FG$13:FZ$13,FO31)+COUNTIF(FG$16:FZ$16,FO31)+COUNTIF(FG$19:FZ$19,FO31)+COUNTIF(FG$22:FZ$22,FO31)+COUNTIF(FG$25:FZ$25,FO31))/設定!$J22+IFERROR((COUNTIF(FG$6:FZ$7,処理!$L15)+COUNTIF(FG$10:FZ$10,処理!$L15)+COUNTIF(FG$13:FZ$13,処理!$L15)+COUNTIF(FG$16:FZ$16,処理!$L15)+COUNTIF(FG$19:FZ$19,処理!$L15)+COUNTIF(FG$22:FZ$22,処理!$L15)+COUNTIF(FG$25:FZ$25,処理!$L15))/処理!$M15,0))","v":""},"",{"$f":"$O$31","v":""},null,{"$f":"IF(LEN(FS31)=0,\"\",(COUNTIF(FG$6:FZ$7,FS31)+COUNTIF(FG$10:FZ$10,FS31)+COUNTIF(FG$13:FZ$13,FS31)+COUNTIF(FG$16:FZ$16,FS31)+COUNTIF(FG$19:FZ$19,FS31)+COUNTIF(FG$22:FZ$22,FS31)+COUNTIF(FG$25:FZ$25,FS31))/設定!$M22+IFERROR((COUNTIF(FG$6:FZ$7,処理!$L21)+COUNTIF(FG$10:FZ$10,処理!$L21)+COUNTIF(FG$13:FZ$13,処理!$L21)+COUNTIF(FG$16:FZ$16,処理!$L21)+COUNTIF(FG$19:FZ$19,処理!$L21)+COUNTIF(FG$22:FZ$22,処理!$L21)+COUNTIF(FG$25:FZ$25,処理!$L21))/処理!$M21,0))","v":""},"",{"$f":"$S$31","v":""},null,{"$f":"IF(LEN(FW31)=0,\"\",COUNTIF(FG$6:FZ$7,FW31)+COUNTIF(FG$10:FZ$10,FW31)+COUNTIF(FG$13:FZ$13,FW31)+COUNTIF(FG$16:FZ$16,FW31)+COUNTIF(FG$19:FZ$19,FW31)+COUNTIF(FG$22:FZ$22,FW31)+COUNTIF(FG$25:FZ$25,FW31))","v":""},"",{"$f":"$C$31","v":""},null,{"$f":"IF(LEN(GA31)=0,\"\",(COUNTIF(GA$6:GT$7,GA31)+COUNTIF(GA$10:GT$10,GA31)+COUNTIF(GA$13:GT$13,GA31)+COUNTIF(GA$16:GT$16,GA31)+COUNTIF(GA$19:GT$19,GA31)+COUNTIF(GA$22:GT$22,GA31)+COUNTIF(GA$25:GT$25,GA31))/設定!$D22+IFERROR((COUNTIF(GA$6:GT$7,処理!$L3)+COUNTIF(GA$10:GT$10,処理!$L3)+COUNTIF(GA$13:GT$13,処理!$L3)+COUNTIF(GA$16:GT$16,処理!$L3)+COUNTIF(GA$19:GT$19,処理!$L3)+COUNTIF(GA$22:GT$22,処理!$L3)+COUNTIF(GA$25:GT$25,処理!$L3))/処理!$M3,0))","v":""},{"$f":"IF(LEN(GA31)=0,\"\",SUM(FJ31,GC31))","v":""},{"$f":"$G$31","v":""},null,{"$f":"IF(LEN(GE31)=0,\"\",(COUNTIF(GA$6:GT$7,GE31)+COUNTIF(GA$10:GT$10,GE31)+COUNTIF(GA$13:GT$13,GE31)+COUNTIF(GA$16:GT$16,GE31)+COUNTIF(GA$19:GT$19,GE31)+COUNTIF(GA$22:GT$22,GE31)+COUNTIF(GA$25:GT$25,GE31))/設定!$G22+IFERROR((COUNTIF(GA$6:GT$7,処理!$L9)+COUNTIF(GA$10:GT$10,処理!$L9)+COUNTIF(GA$13:GT$13,処理!$L9)+COUNTIF(GA$16:GT$16,処理!$L9)+COUNTIF(GA$19:GT$19,処理!$L9)+COUNTIF(GA$22:GT$22,処理!$L9)+COUNTIF(GA$25:GT$25,処理!$L9))/処理!$M9,0))","v":""},"",{"$f":"$K$31","v":""},null,{"$f":"IF(LEN(GI31)=0,\"\",(COUNTIF(GA$6:GT$7,GI31)+COUNTIF(GA$10:GT$10,GI31)+COUNTIF(GA$13:GT$13,GI31)+COUNTIF(GA$16:GT$16,GI31)+COUNTIF(GA$19:GT$19,GI31)+COUNTIF(GA$22:GT$22,GI31)+COUNTIF(GA$25:GT$25,GI31))/設定!$J22+IFERROR((COUNTIF(GA$6:GT$7,処理!$L15)+COUNTIF(GA$10:GT$10,処理!$L15)+COUNTIF(GA$13:GT$13,処理!$L15)+COUNTIF(GA$16:GT$16,処理!$L15)+COUNTIF(GA$19:GT$19,処理!$L15)+COUNTIF(GA$22:GT$22,処理!$L15)+COUNTIF(GA$25:GT$25,処理!$L15))/処理!$M15,0))","v":""},"",{"$f":"$O$31","v":""},null,{"$f":"IF(LEN(GM31)=0,\"\",(COUNTIF(GA$6:GT$7,GM31)+COUNTIF(GA$10:GT$10,GM31)+COUNTIF(GA$13:GT$13,GM31)+COUNTIF(GA$16:GT$16,GM31)+COUNTIF(GA$19:GT$19,GM31)+COUNTIF(GA$22:GT$22,GM31)+COUNTIF(GA$25:GT$25,GM31))/設定!$M22+IFERROR((COUNTIF(GA$6:GT$7,処理!$L21)+COUNTIF(GA$10:GT$10,処理!$L21)+COUNTIF(GA$13:GT$13,処理!$L21)+COUNTIF(GA$16:GT$16,処理!$L21)+COUNTIF(GA$19:GT$19,処理!$L21)+COUNTIF(GA$22:GT$22,処理!$L21)+COUNTIF(GA$25:GT$25,処理!$L21))/処理!$M21,0))","v":""},"",{"$f":"$S$31","v":""},null,{"$f":"IF(LEN(GQ31)=0,\"\",COUNTIF(GA$6:GT$7,GQ31)+COUNTIF(GA$10:GT$10,GQ31)+COUNTIF(GA$13:GT$13,GQ31)+COUNTIF(GA$16:GT$16,GQ31)+COUNTIF(GA$19:GT$19,GQ31)+COUNTIF(GA$22:GT$22,GQ31)+COUNTIF(GA$25:GT$25,GQ31))","v":""},"",{"$f":"$C$31","v":""},null,{"$f":"IF(LEN(GU31)=0,\"\",(COUNTIF(GU$6:HN$7,GU31)+COUNTIF(GU$10:HN$10,GU31)+COUNTIF(GU$13:HN$13,GU31)+COUNTIF(GU$16:HN$16,GU31)+COUNTIF(GU$19:HN$19,GU31)+COUNTIF(GU$22:HN$22,GU31)+COUNTIF(GU$25:HN$25,GU31))/設定!$D22+IFERROR((COUNTIF(GU$6:HN$7,処理!$L3)+COUNTIF(GU$10:HN$10,処理!$L3)+COUNTIF(GU$13:HN$13,処理!$L3)+COUNTIF(GU$16:HN$16,処理!$L3)+COUNTIF(GU$19:HN$19,処理!$L3)+COUNTIF(GU$22:HN$22,処理!$L3)+COUNTIF(GU$25:HN$25,処理!$L3))/処理!$M3,0))","v":""},{"$f":"IF(LEN(GU31)=0,\"\",SUM(GD31,GW31))","v":""},{"$f":"$G$31","v":""},null,{"$f":"IF(LEN(GY31)=0,\"\",(COUNTIF(GU$6:HN$7,GY31)+COUNTIF(GU$10:HN$10,GY31)+COUNTIF(GU$13:HN$13,GY31)+COUNTIF(GU$16:HN$16,GY31)+COUNTIF(GU$19:HN$19,GY31)+COUNTIF(GU$22:HN$22,GY31)+COUNTIF(GU$25:HN$25,GY31))/設定!$G22+IFERROR((COUNTIF(GU$6:HN$7,処理!$L9)+COUNTIF(GU$10:HN$10,処理!$L9)+COUNTIF(GU$13:HN$13,処理!$L9)+COUNTIF(GU$16:HN$16,処理!$L9)+COUNTIF(GU$19:HN$19,処理!$L9)+COUNTIF(GU$22:HN$22,処理!$L9)+COUNTIF(GU$25:HN$25,処理!$L9))/処理!$M9,0))","v":""},"",{"$f":"$K$31","v":""},null,{"$f":"IF(LEN(HC31)=0,\"\",(COUNTIF(GU$6:HN$7,HC31)+COUNTIF(GU$10:HN$10,HC31)+COUNTIF(GU$13:HN$13,HC31)+COUNTIF(GU$16:HN$16,HC31)+COUNTIF(GU$19:HN$19,HC31)+COUNTIF(GU$22:HN$22,HC31)+COUNTIF(GU$25:HN$25,HC31))/設定!$J22+IFERROR((COUNTIF(GU$6:HN$7,処理!$L15)+COUNTIF(GU$10:HN$10,処理!$L15)+COUNTIF(GU$13:HN$13,処理!$L15)+COUNTIF(GU$16:HN$16,処理!$L15)+COUNTIF(GU$19:HN$19,処理!$L15)+COUNTIF(GU$22:HN$22,処理!$L15)+COUNTIF(GU$25:HN$25,処理!$L15))/処理!$M15,0))","v":""},"",{"$f":"$O$31","v":""},null,{"$f":"IF(LEN(HG31)=0,\"\",(COUNTIF(GU$6:HN$7,HG31)+COUNTIF(GU$10:HN$10,HG31)+COUNTIF(GU$13:HN$13,HG31)+COUNTIF(GU$16:HN$16,HG31)+COUNTIF(GU$19:HN$19,HG31)+COUNTIF(GU$22:HN$22,HG31)+COUNTIF(GU$25:HN$25,HG31))/設定!$M22+IFERROR((COUNTIF(GU$6:HN$7,処理!$L21)+COUNTIF(GU$10:HN$10,処理!$L21)+COUNTIF(GU$13:HN$13,処理!$L21)+COUNTIF(GU$16:HN$16,処理!$L21)+COUNTIF(GU$19:HN$19,処理!$L21)+COUNTIF(GU$22:HN$22,処理!$L21)+COUNTIF(GU$25:HN$25,処理!$L21))/処理!$M21,0))","v":""},"",{"$f":"$S$31","v":""},null,{"$f":"IF(LEN(HK31)=0,\"\",COUNTIF(GU$6:HN$7,HK31)+COUNTIF(GU$10:HN$10,HK31)+COUNTIF(GU$13:HN$13,HK31)+COUNTIF(GU$16:HN$16,HK31)+COUNTIF(GU$19:HN$19,HK31)+COUNTIF(GU$22:HN$22,HK31)+COUNTIF(GU$25:HN$25,HK31))","v":""},"",{"$f":"$C$31","v":""},null,{"$f":"IF(LEN(HO31)=0,\"\",(COUNTIF(HO$6:IH$7,HO31)+COUNTIF(HO$10:IH$10,HO31)+COUNTIF(HO$13:IH$13,HO31)+COUNTIF(HO$16:IH$16,HO31)+COUNTIF(HO$19:IH$19,HO31)+COUNTIF(HO$22:IH$22,HO31)+COUNTIF(HO$25:IH$25,HO31))/設定!$D22+IFERROR((COUNTIF(HO$6:IH$7,処理!$L3)+COUNTIF(HO$10:IH$10,処理!$L3)+COUNTIF(HO$13:IH$13,処理!$L3)+COUNTIF(HO$16:IH$16,処理!$L3)+COUNTIF(HO$19:IH$19,処理!$L3)+COUNTIF(HO$22:IH$22,処理!$L3)+COUNTIF(HO$25:IH$25,処理!$L3))/処理!$M3,0))","v":""},{"$f":"IF(LEN(HO31)=0,\"\",SUM(GX31,HQ31))","v":""},{"$f":"$G$31","v":""},null,{"$f":"IF(LEN(HS31)=0,\"\",(COUNTIF(HO$6:IH$7,HS31)+COUNTIF(HO$10:IH$10,HS31)+COUNTIF(HO$13:IH$13,HS31)+COUNTIF(HO$16:IH$16,HS31)+COUNTIF(HO$19:IH$19,HS31)+COUNTIF(HO$22:IH$22,HS31)+COUNTIF(HO$25:IH$25,HS31))/設定!$G22+IFERROR((COUNTIF(HO$6:IH$7,処理!$L9)+COUNTIF(HO$10:IH$10,処理!$L9)+COUNTIF(HO$13:IH$13,処理!$L9)+COUNTIF(HO$16:IH$16,処理!$L9)+COUNTIF(HO$19:IH$19,処理!$L9)+COUNTIF(HO$22:IH$22,処理!$L9)+COUNTIF(HO$25:IH$25,処理!$L9))/処理!$M9,0))","v":""},"",{"$f":"$K$31","v":""},null,{"$f":"IF(LEN(HW31)=0,\"\",(COUNTIF(HO$6:IH$7,HW31)+COUNTIF(HO$10:IH$10,HW31)+COUNTIF(HO$13:IH$13,HW31)+COUNTIF(HO$16:IH$16,HW31)+COUNTIF(HO$19:IH$19,HW31)+COUNTIF(HO$22:IH$22,HW31)+COUNTIF(HO$25:IH$25,HW31))/設定!$J22+IFERROR((COUNTIF(HO$6:IH$7,処理!$L15)+COUNTIF(HO$10:IH$10,処理!$L15)+COUNTIF(HO$13:IH$13,処理!$L15)+COUNTIF(HO$16:IH$16,処理!$L15)+COUNTIF(HO$19:IH$19,処理!$L15)+COUNTIF(HO$22:IH$22,処理!$L15)+COUNTIF(HO$25:IH$25,処理!$L15))/処理!$M15,0))","v":""},"",{"$f":"$O$31","v":""},null,{"$f":"IF(LEN(IA31)=0,\"\",(COUNTIF(HO$6:IH$7,IA31)+COUNTIF(HO$10:IH$10,IA31)+COUNTIF(HO$13:IH$13,IA31)+COUNTIF(HO$16:IH$16,IA31)+COUNTIF(HO$19:IH$19,IA31)+COUNTIF(HO$22:IH$22,IA31)+COUNTIF(HO$25:IH$25,IA31))/設定!$M22+IFERROR((COUNTIF(HO$6:IH$7,処理!$L21)+COUNTIF(HO$10:IH$10,処理!$L21)+COUNTIF(HO$13:IH$13,処理!$L21)+COUNTIF(HO$16:IH$16,処理!$L21)+COUNTIF(HO$19:IH$19,処理!$L21)+COUNTIF(HO$22:IH$22,処理!$L21)+COUNTIF(HO$25:IH$25,処理!$L21))/処理!$M21,0))","v":""},"",{"$f":"$S$31","v":""},null,{"$f":"IF(LEN(IE31)=0,\"\",COUNTIF(HO$6:IH$7,IE31)+COUNTIF(HO$10:IH$10,IE31)+COUNTIF(HO$13:IH$13,IE31)+COUNTIF(HO$16:IH$16,IE31)+COUNTIF(HO$19:IH$19,IE31)+COUNTIF(HO$22:IH$22,IE31)+COUNTIF(HO$25:IH$25,IE31))","v":""},"",{"$f":"$C$31","v":""},null,{"$f":"IF(LEN(II31)=0,\"\",(COUNTIF(II$6:JB$7,II31)+COUNTIF(II$10:JB$10,II31)+COUNTIF(II$13:JB$13,II31)+COUNTIF(II$16:JB$16,II31)+COUNTIF(II$19:JB$19,II31)+COUNTIF(II$22:JB$22,II31)+COUNTIF(II$25:JB$25,II31))/設定!$D22+IFERROR((COUNTIF(II$6:JB$7,処理!$L3)+COUNTIF(II$10:JB$10,処理!$L3)+COUNTIF(II$13:JB$13,処理!$L3)+COUNTIF(II$16:JB$16,処理!$L3)+COUNTIF(II$19:JB$19,処理!$L3)+COUNTIF(II$22:JB$22,処理!$L3)+COUNTIF(II$25:JB$25,処理!$L3))/処理!$M3,0))","v":""},{"$f":"IF(LEN(II31)=0,\"\",SUM(HR31,IK31))","v":""},{"$f":"$G$31","v":""},null,{"$f":"IF(LEN(IM31)=0,\"\",(COUNTIF(II$6:JB$7,IM31)+COUNTIF(II$10:JB$10,IM31)+COUNTIF(II$13:JB$13,IM31)+COUNTIF(II$16:JB$16,IM31)+COUNTIF(II$19:JB$19,IM31)+COUNTIF(II$22:JB$22,IM31)+COUNTIF(II$25:JB$25,IM31))/設定!$G22+IFERROR((COUNTIF(II$6:JB$7,処理!$L9)+COUNTIF(II$10:JB$10,処理!$L9)+COUNTIF(II$13:JB$13,処理!$L9)+COUNTIF(II$16:JB$16,処理!$L9)+COUNTIF(II$19:JB$19,処理!$L9)+COUNTIF(II$22:JB$22,処理!$L9)+COUNTIF(II$25:JB$25,処理!$L9))/処理!$M9,0))","v":""},"",{"$f":"$K$31","v":""},null,{"$f":"IF(LEN(IQ31)=0,\"\",(COUNTIF(II$6:JB$7,IQ31)+COUNTIF(II$10:JB$10,IQ31)+COUNTIF(II$13:JB$13,IQ31)+COUNTIF(II$16:JB$16,IQ31)+COUNTIF(II$19:JB$19,IQ31)+COUNTIF(II$22:JB$22,IQ31)+COUNTIF(II$25:JB$25,IQ31))/設定!$J22+IFERROR((COUNTIF(II$6:JB$7,処理!$L15)+COUNTIF(II$10:JB$10,処理!$L15)+COUNTIF(II$13:JB$13,処理!$L15)+COUNTIF(II$16:JB$16,処理!$L15)+COUNTIF(II$19:JB$19,処理!$L15)+COUNTIF(II$22:JB$22,処理!$L15)+COUNTIF(II$25:JB$25,処理!$L15))/処理!$M15,0))","v":""},"",{"$f":"$O$31","v":""},null,{"$f":"IF(LEN(IU31)=0,\"\",(COUNTIF(II$6:JB$7,IU31)+COUNTIF(II$10:JB$10,IU31)+COUNTIF(II$13:JB$13,IU31)+COUNTIF(II$16:JB$16,IU31)+COUNTIF(II$19:JB$19,IU31)+COUNTIF(II$22:JB$22,IU31)+COUNTIF(II$25:JB$25,IU31))/設定!$M22+IFERROR((COUNTIF(II$6:JB$7,処理!$L21)+COUNTIF(II$10:JB$10,処理!$L21)+COUNTIF(II$13:JB$13,処理!$L21)+COUNTIF(II$16:JB$16,処理!$L21)+COUNTIF(II$19:JB$19,処理!$L21)+COUNTIF(II$22:JB$22,処理!$L21)+COUNTIF(II$25:JB$25,処理!$L21))/処理!$M21,0))","v":""},"",{"$f":"$S$31","v":""},null,{"$f":"IF(LEN(IY31)=0,\"\",COUNTIF(II$6:JB$7,IY31)+COUNTIF(II$10:JB$10,IY31)+COUNTIF(II$13:JB$13,IY31)+COUNTIF(II$16:JB$16,IY31)+COUNTIF(II$19:JB$19,IY31)+COUNTIF(II$22:JB$22,IY31)+COUNTIF(II$25:JB$25,IY31))","v":""},"",{"$f":"$C$31","v":""},null,{"$f":"IF(LEN(JC31)=0,\"\",(COUNTIF(JC$6:JV$7,JC31)+COUNTIF(JC$10:JV$10,JC31)+COUNTIF(JC$13:JV$13,JC31)+COUNTIF(JC$16:JV$16,JC31)+COUNTIF(JC$19:JV$19,JC31)+COUNTIF(JC$22:JV$22,JC31)+COUNTIF(JC$25:JV$25,JC31))/設定!$D22+IFERROR((COUNTIF(JC$6:JV$7,処理!$L3)+COUNTIF(JC$10:JV$10,処理!$L3)+COUNTIF(JC$13:JV$13,処理!$L3)+COUNTIF(JC$16:JV$16,処理!$L3)+COUNTIF(JC$19:JV$19,処理!$L3)+COUNTIF(JC$22:JV$22,処理!$L3)+COUNTIF(JC$25:JV$25,処理!$L3))/処理!$M3,0))","v":""},{"$f":"IF(LEN(JC31)=0,\"\",SUM(IL31,JE31))","v":""},{"$f":"$G$31","v":""},null,{"$f":"IF(LEN(JG31)=0,\"\",(COUNTIF(JC$6:JV$7,JG31)+COUNTIF(JC$10:JV$10,JG31)+COUNTIF(JC$13:JV$13,JG31)+COUNTIF(JC$16:JV$16,JG31)+COUNTIF(JC$19:JV$19,JG31)+COUNTIF(JC$22:JV$22,JG31)+COUNTIF(JC$25:JV$25,JG31))/設定!$G22+IFERROR((COUNTIF(JC$6:JV$7,処理!$L9)+COUNTIF(JC$10:JV$10,処理!$L9)+COUNTIF(JC$13:JV$13,処理!$L9)+COUNTIF(JC$16:JV$16,処理!$L9)+COUNTIF(JC$19:JV$19,処理!$L9)+COUNTIF(JC$22:JV$22,処理!$L9)+COUNTIF(JC$25:JV$25,処理!$L9))/処理!$M9,0))","v":""},"",{"$f":"$K$31","v":""},null,{"$f":"IF(LEN(JK31)=0,\"\",(COUNTIF(JC$6:JV$7,JK31)+COUNTIF(JC$10:JV$10,JK31)+COUNTIF(JC$13:JV$13,JK31)+COUNTIF(JC$16:JV$16,JK31)+COUNTIF(JC$19:JV$19,JK31)+COUNTIF(JC$22:JV$22,JK31)+COUNTIF(JC$25:JV$25,JK31))/設定!$J22+IFERROR((COUNTIF(JC$6:JV$7,処理!$L15)+COUNTIF(JC$10:JV$10,処理!$L15)+COUNTIF(JC$13:JV$13,処理!$L15)+COUNTIF(JC$16:JV$16,処理!$L15)+COUNTIF(JC$19:JV$19,処理!$L15)+COUNTIF(JC$22:JV$22,処理!$L15)+COUNTIF(JC$25:JV$25,処理!$L15))/処理!$M15,0))","v":""},"",{"$f":"$O$31","v":""},null,{"$f":"IF(LEN(JO31)=0,\"\",(COUNTIF(JC$6:JV$7,JO31)+COUNTIF(JC$10:JV$10,JO31)+COUNTIF(JC$13:JV$13,JO31)+COUNTIF(JC$16:JV$16,JO31)+COUNTIF(JC$19:JV$19,JO31)+COUNTIF(JC$22:JV$22,JO31)+COUNTIF(JC$25:JV$25,JO31))/設定!$M22+IFERROR((COUNTIF(JC$6:JV$7,処理!$L21)+COUNTIF(JC$10:JV$10,処理!$L21)+COUNTIF(JC$13:JV$13,処理!$L21)+COUNTIF(JC$16:JV$16,処理!$L21)+COUNTIF(JC$19:JV$19,処理!$L21)+COUNTIF(JC$22:JV$22,処理!$L21)+COUNTIF(JC$25:JV$25,処理!$L21))/処理!$M21,0))","v":""},"",{"$f":"$S$31","v":""},null,{"$f":"IF(LEN(JS31)=0,\"\",COUNTIF(JC$6:JV$7,JS31)+COUNTIF(JC$10:JV$10,JS31)+COUNTIF(JC$13:JV$13,JS31)+COUNTIF(JC$16:JV$16,JS31)+COUNTIF(JC$19:JV$19,JS31)+COUNTIF(JC$22:JV$22,JS31)+COUNTIF(JC$25:JV$25,JS31))","v":""},"",{"$f":"$C$31","v":""},null,{"$f":"IF(LEN(JW31)=0,\"\",(COUNTIF(JW$6:KP$7,JW31)+COUNTIF(JW$10:KP$10,JW31)+COUNTIF(JW$13:KP$13,JW31)+COUNTIF(JW$16:KP$16,JW31)+COUNTIF(JW$19:KP$19,JW31)+COUNTIF(JW$22:KP$22,JW31)+COUNTIF(JW$25:KP$25,JW31))/設定!$D22+IFERROR((COUNTIF(JW$6:KP$7,処理!$L3)+COUNTIF(JW$10:KP$10,処理!$L3)+COUNTIF(JW$13:KP$13,処理!$L3)+COUNTIF(JW$16:KP$16,処理!$L3)+COUNTIF(JW$19:KP$19,処理!$L3)+COUNTIF(JW$22:KP$22,処理!$L3)+COUNTIF(JW$25:KP$25,処理!$L3))/処理!$M3,0))","v":""},{"$f":"IF(LEN(JW31)=0,\"\",SUM(JF31,JY31))","v":""},{"$f":"$G$31","v":""},null,{"$f":"IF(LEN(KA31)=0,\"\",(COUNTIF(JW$6:KP$7,KA31)+COUNTIF(JW$10:KP$10,KA31)+COUNTIF(JW$13:KP$13,KA31)+COUNTIF(JW$16:KP$16,KA31)+COUNTIF(JW$19:KP$19,KA31)+COUNTIF(JW$22:KP$22,KA31)+COUNTIF(JW$25:KP$25,KA31))/設定!$G22+IFERROR((COUNTIF(JW$6:KP$7,処理!$L9)+COUNTIF(JW$10:KP$10,処理!$L9)+COUNTIF(JW$13:KP$13,処理!$L9)+COUNTIF(JW$16:KP$16,処理!$L9)+COUNTIF(JW$19:KP$19,処理!$L9)+COUNTIF(JW$22:KP$22,処理!$L9)+COUNTIF(JW$25:KP$25,処理!$L9))/処理!$M9,0))","v":""},"",{"$f":"$K$31","v":""},null,{"$f":"IF(LEN(KE31)=0,\"\",(COUNTIF(JW$6:KP$7,KE31)+COUNTIF(JW$10:KP$10,KE31)+COUNTIF(JW$13:KP$13,KE31)+COUNTIF(JW$16:KP$16,KE31)+COUNTIF(JW$19:KP$19,KE31)+COUNTIF(JW$22:KP$22,KE31)+COUNTIF(JW$25:KP$25,KE31))/設定!$J22+IFERROR((COUNTIF(JW$6:KP$7,処理!$L15)+COUNTIF(JW$10:KP$10,処理!$L15)+COUNTIF(JW$13:KP$13,処理!$L15)+COUNTIF(JW$16:KP$16,処理!$L15)+COUNTIF(JW$19:KP$19,処理!$L15)+COUNTIF(JW$22:KP$22,処理!$L15)+COUNTIF(JW$25:KP$25,処理!$L15))/処理!$M15,0))","v":""},"",{"$f":"$O$31","v":""},null,{"$f":"IF(LEN(KI31)=0,\"\",(COUNTIF(JW$6:KP$7,KI31)+COUNTIF(JW$10:KP$10,KI31)+COUNTIF(JW$13:KP$13,KI31)+COUNTIF(JW$16:KP$16,KI31)+COUNTIF(JW$19:KP$19,KI31)+COUNTIF(JW$22:KP$22,KI31)+COUNTIF(JW$25:KP$25,KI31))/設定!$M22+IFERROR((COUNTIF(JW$6:KP$7,処理!$L21)+COUNTIF(JW$10:KP$10,処理!$L21)+COUNTIF(JW$13:KP$13,処理!$L21)+COUNTIF(JW$16:KP$16,処理!$L21)+COUNTIF(JW$19:KP$19,処理!$L21)+COUNTIF(JW$22:KP$22,処理!$L21)+COUNTIF(JW$25:KP$25,処理!$L21))/処理!$M21,0))","v":""},"",{"$f":"$S$31","v":""},null,{"$f":"IF(LEN(KM31)=0,\"\",COUNTIF(JW$6:KP$7,KM31)+COUNTIF(JW$10:KP$10,KM31)+COUNTIF(JW$13:KP$13,KM31)+COUNTIF(JW$16:KP$16,KM31)+COUNTIF(JW$19:KP$19,KM31)+COUNTIF(JW$22:KP$22,KM31)+COUNTIF(JW$25:KP$25,KM31))","v":""},"",{"$f":"$C$31","v":""},null,{"$f":"IF(LEN(KQ31)=0,\"\",(COUNTIF(KQ$6:LJ$7,KQ31)+COUNTIF(KQ$10:LJ$10,KQ31)+COUNTIF(KQ$13:LJ$13,KQ31)+COUNTIF(KQ$16:LJ$16,KQ31)+COUNTIF(KQ$19:LJ$19,KQ31)+COUNTIF(KQ$22:LJ$22,KQ31)+COUNTIF(KQ$25:LJ$25,KQ31))/設定!$D22+IFERROR((COUNTIF(KQ$6:LJ$7,処理!$L3)+COUNTIF(KQ$10:LJ$10,処理!$L3)+COUNTIF(KQ$13:LJ$13,処理!$L3)+COUNTIF(KQ$16:LJ$16,処理!$L3)+COUNTIF(KQ$19:LJ$19,処理!$L3)+COUNTIF(KQ$22:LJ$22,処理!$L3)+COUNTIF(KQ$25:LJ$25,処理!$L3))/処理!$M3,0))","v":""},{"$f":"IF(LEN(KQ31)=0,\"\",SUM(JZ31,KS31))","v":""},{"$f":"$G$31","v":""},null,{"$f":"IF(LEN(KU31)=0,\"\",(COUNTIF(KQ$6:LJ$7,KU31)+COUNTIF(KQ$10:LJ$10,KU31)+COUNTIF(KQ$13:LJ$13,KU31)+COUNTIF(KQ$16:LJ$16,KU31)+COUNTIF(KQ$19:LJ$19,KU31)+COUNTIF(KQ$22:LJ$22,KU31)+COUNTIF(KQ$25:LJ$25,KU31))/設定!$G22+IFERROR((COUNTIF(KQ$6:LJ$7,処理!$L9)+COUNTIF(KQ$10:LJ$10,処理!$L9)+COUNTIF(KQ$13:LJ$13,処理!$L9)+COUNTIF(KQ$16:LJ$16,処理!$L9)+COUNTIF(KQ$19:LJ$19,処理!$L9)+COUNTIF(KQ$22:LJ$22,処理!$L9)+COUNTIF(KQ$25:LJ$25,処理!$L9))/処理!$M9,0))","v":""},"",{"$f":"$K$31","v":""},null,{"$f":"IF(LEN(KY31)=0,\"\",(COUNTIF(KQ$6:LJ$7,KY31)+COUNTIF(KQ$10:LJ$10,KY31)+COUNTIF(KQ$13:LJ$13,KY31)+COUNTIF(KQ$16:LJ$16,KY31)+COUNTIF(KQ$19:LJ$19,KY31)+COUNTIF(KQ$22:LJ$22,KY31)+COUNTIF(KQ$25:LJ$25,KY31))/設定!$J22+IFERROR((COUNTIF(KQ$6:LJ$7,処理!$L15)+COUNTIF(KQ$10:LJ$10,処理!$L15)+COUNTIF(KQ$13:LJ$13,処理!$L15)+COUNTIF(KQ$16:LJ$16,処理!$L15)+COUNTIF(KQ$19:LJ$19,処理!$L15)+COUNTIF(KQ$22:LJ$22,処理!$L15)+COUNTIF(KQ$25:LJ$25,処理!$L15))/処理!$M15,0))","v":""},"",{"$f":"$O$31","v":""},null,{"$f":"IF(LEN(LC31)=0,\"\",(COUNTIF(KQ$6:LJ$7,LC31)+COUNTIF(KQ$10:LJ$10,LC31)+COUNTIF(KQ$13:LJ$13,LC31)+COUNTIF(KQ$16:LJ$16,LC31)+COUNTIF(KQ$19:LJ$19,LC31)+COUNTIF(KQ$22:LJ$22,LC31)+COUNTIF(KQ$25:LJ$25,LC31))/設定!$M22+IFERROR((COUNTIF(KQ$6:LJ$7,処理!$L21)+COUNTIF(KQ$10:LJ$10,処理!$L21)+COUNTIF(KQ$13:LJ$13,処理!$L21)+COUNTIF(KQ$16:LJ$16,処理!$L21)+COUNTIF(KQ$19:LJ$19,処理!$L21)+COUNTIF(KQ$22:LJ$22,処理!$L21)+COUNTIF(KQ$25:LJ$25,処理!$L21))/処理!$M21,0))","v":""},"",{"$f":"$S$31","v":""},null,{"$f":"IF(LEN(LG31)=0,\"\",COUNTIF(KQ$6:LJ$7,LG31)+COUNTIF(KQ$10:LJ$10,LG31)+COUNTIF(KQ$13:LJ$13,LG31)+COUNTIF(KQ$16:LJ$16,LG31)+COUNTIF(KQ$19:LJ$19,LG31)+COUNTIF(KQ$22:LJ$22,LG31)+COUNTIF(KQ$25:LJ$25,LG31))","v":""},"",{"$f":"$C$31","v":""},null,{"$f":"IF(LEN(LK31)=0,\"\",(COUNTIF(LK$6:MD$7,LK31)+COUNTIF(LK$10:MD$10,LK31)+COUNTIF(LK$13:MD$13,LK31)+COUNTIF(LK$16:MD$16,LK31)+COUNTIF(LK$19:MD$19,LK31)+COUNTIF(LK$22:MD$22,LK31)+COUNTIF(LK$25:MD$25,LK31))/設定!$D22+IFERROR((COUNTIF(LK$6:MD$7,処理!$L3)+COUNTIF(LK$10:MD$10,処理!$L3)+COUNTIF(LK$13:MD$13,処理!$L3)+COUNTIF(LK$16:MD$16,処理!$L3)+COUNTIF(LK$19:MD$19,処理!$L3)+COUNTIF(LK$22:MD$22,処理!$L3)+COUNTIF(LK$25:MD$25,処理!$L3))/処理!$M3,0))","v":""},{"$f":"IF(LEN(LK31)=0,\"\",SUM(KT31,LM31))","v":""},{"$f":"$G$31","v":""},null,{"$f":"IF(LEN(LO31)=0,\"\",(COUNTIF(LK$6:MD$7,LO31)+COUNTIF(LK$10:MD$10,LO31)+COUNTIF(LK$13:MD$13,LO31)+COUNTIF(LK$16:MD$16,LO31)+COUNTIF(LK$19:MD$19,LO31)+COUNTIF(LK$22:MD$22,LO31)+COUNTIF(LK$25:MD$25,LO31))/設定!$G22+IFERROR((COUNTIF(LK$6:MD$7,処理!$L9)+COUNTIF(LK$10:MD$10,処理!$L9)+COUNTIF(LK$13:MD$13,処理!$L9)+COUNTIF(LK$16:MD$16,処理!$L9)+COUNTIF(LK$19:MD$19,処理!$L9)+COUNTIF(LK$22:MD$22,処理!$L9)+COUNTIF(LK$25:MD$25,処理!$L9))/処理!$M9,0))","v":""},"",{"$f":"$K$31","v":""},null,{"$f":"IF(LEN(LS31)=0,\"\",(COUNTIF(LK$6:MD$7,LS31)+COUNTIF(LK$10:MD$10,LS31)+COUNTIF(LK$13:MD$13,LS31)+COUNTIF(LK$16:MD$16,LS31)+COUNTIF(LK$19:MD$19,LS31)+COUNTIF(LK$22:MD$22,LS31)+COUNTIF(LK$25:MD$25,LS31))/設定!$J22+IFERROR((COUNTIF(LK$6:MD$7,処理!$L15)+COUNTIF(LK$10:MD$10,処理!$L15)+COUNTIF(LK$13:MD$13,処理!$L15)+COUNTIF(LK$16:MD$16,処理!$L15)+COUNTIF(LK$19:MD$19,処理!$L15)+COUNTIF(LK$22:MD$22,処理!$L15)+COUNTIF(LK$25:MD$25,処理!$L15))/処理!$M15,0))","v":""},"",{"$f":"$O$31","v":""},null,{"$f":"IF(LEN(LW31)=0,\"\",(COUNTIF(LK$6:MD$7,LW31)+COUNTIF(LK$10:MD$10,LW31)+COUNTIF(LK$13:MD$13,LW31)+COUNTIF(LK$16:MD$16,LW31)+COUNTIF(LK$19:MD$19,LW31)+COUNTIF(LK$22:MD$22,LW31)+COUNTIF(LK$25:MD$25,LW31))/設定!$M22+IFERROR((COUNTIF(LK$6:MD$7,処理!$L21)+COUNTIF(LK$10:MD$10,処理!$L21)+COUNTIF(LK$13:MD$13,処理!$L21)+COUNTIF(LK$16:MD$16,処理!$L21)+COUNTIF(LK$19:MD$19,処理!$L21)+COUNTIF(LK$22:MD$22,処理!$L21)+COUNTIF(LK$25:MD$25,処理!$L21))/処理!$M21,0))","v":""},"",{"$f":"$S$31","v":""},null,{"$f":"IF(LEN(MA31)=0,\"\",COUNTIF(LK$6:MD$7,MA31)+COUNTIF(LK$10:MD$10,MA31)+COUNTIF(LK$13:MD$13,MA31)+COUNTIF(LK$16:MD$16,MA31)+COUNTIF(LK$19:MD$19,MA31)+COUNTIF(LK$22:MD$22,MA31)+COUNTIF(LK$25:MD$25,MA31))","v":""},"",{"$f":"$C$31","v":""},null,{"$f":"IF(LEN(ME31)=0,\"\",(COUNTIF(ME$6:MX$7,ME31)+COUNTIF(ME$10:MX$10,ME31)+COUNTIF(ME$13:MX$13,ME31)+COUNTIF(ME$16:MX$16,ME31)+COUNTIF(ME$19:MX$19,ME31)+COUNTIF(ME$22:MX$22,ME31)+COUNTIF(ME$25:MX$25,ME31))/設定!$D22+IFERROR((COUNTIF(ME$6:MX$7,処理!$L3)+COUNTIF(ME$10:MX$10,処理!$L3)+COUNTIF(ME$13:MX$13,処理!$L3)+COUNTIF(ME$16:MX$16,処理!$L3)+COUNTIF(ME$19:MX$19,処理!$L3)+COUNTIF(ME$22:MX$22,処理!$L3)+COUNTIF(ME$25:MX$25,処理!$L3))/処理!$M3,0))","v":""},{"$f":"IF(LEN(ME31)=0,\"\",SUM(LN31,MG31))","v":""},{"$f":"$G$31","v":""},null,{"$f":"IF(LEN(MI31)=0,\"\",(COUNTIF(ME$6:MX$7,MI31)+COUNTIF(ME$10:MX$10,MI31)+COUNTIF(ME$13:MX$13,MI31)+COUNTIF(ME$16:MX$16,MI31)+COUNTIF(ME$19:MX$19,MI31)+COUNTIF(ME$22:MX$22,MI31)+COUNTIF(ME$25:MX$25,MI31))/設定!$G22+IFERROR((COUNTIF(ME$6:MX$7,処理!$L9)+COUNTIF(ME$10:MX$10,処理!$L9)+COUNTIF(ME$13:MX$13,処理!$L9)+COUNTIF(ME$16:MX$16,処理!$L9)+COUNTIF(ME$19:MX$19,処理!$L9)+COUNTIF(ME$22:MX$22,処理!$L9)+COUNTIF(ME$25:MX$25,処理!$L9))/処理!$M9,0))","v":""},"",{"$f":"$K$31","v":""},null,{"$f":"IF(LEN(MM31)=0,\"\",(COUNTIF(ME$6:MX$7,MM31)+COUNTIF(ME$10:MX$10,MM31)+COUNTIF(ME$13:MX$13,MM31)+COUNTIF(ME$16:MX$16,MM31)+COUNTIF(ME$19:MX$19,MM31)+COUNTIF(ME$22:MX$22,MM31)+COUNTIF(ME$25:MX$25,MM31))/設定!$J22+IFERROR((COUNTIF(ME$6:MX$7,処理!$L15)+COUNTIF(ME$10:MX$10,処理!$L15)+COUNTIF(ME$13:MX$13,処理!$L15)+COUNTIF(ME$16:MX$16,処理!$L15)+COUNTIF(ME$19:MX$19,処理!$L15)+COUNTIF(ME$22:MX$22,処理!$L15)+COUNTIF(ME$25:MX$25,処理!$L15))/処理!$M15,0))","v":""},"",{"$f":"$O$31","v":""},null,{"$f":"IF(LEN(MQ31)=0,\"\",(COUNTIF(ME$6:MX$7,MQ31)+COUNTIF(ME$10:MX$10,MQ31)+COUNTIF(ME$13:MX$13,MQ31)+COUNTIF(ME$16:MX$16,MQ31)+COUNTIF(ME$19:MX$19,MQ31)+COUNTIF(ME$22:MX$22,MQ31)+COUNTIF(ME$25:MX$25,MQ31))/設定!$M22+IFERROR((COUNTIF(ME$6:MX$7,処理!$L21)+COUNTIF(ME$10:MX$10,処理!$L21)+COUNTIF(ME$13:MX$13,処理!$L21)+COUNTIF(ME$16:MX$16,処理!$L21)+COUNTIF(ME$19:MX$19,処理!$L21)+COUNTIF(ME$22:MX$22,処理!$L21)+COUNTIF(ME$25:MX$25,処理!$L21))/処理!$M21,0))","v":""},"",{"$f":"$S$31","v":""},null,{"$f":"IF(LEN(MU31)=0,\"\",COUNTIF(ME$6:MX$7,MU31)+COUNTIF(ME$10:MX$10,MU31)+COUNTIF(ME$13:MX$13,MU31)+COUNTIF(ME$16:MX$16,MU31)+COUNTIF(ME$19:MX$19,MU31)+COUNTIF(ME$22:MX$22,MU31)+COUNTIF(ME$25:MX$25,MU31))","v":""},""]
[null,null,{"$f":"IF(COUNTIF(処理!$J$2:$J$25,2)>0,処理!H4,\"\")","v":""},null,{"$f":"IF(LEN(C32)=0,\"\",(COUNTIF(C$6:V$7,C32)+COUNTIF(C$10:V$10,C32)+COUNTIF(C$13:V$13,C32)+COUNTIF(C$16:V$16,C32)+COUNTIF(C$19:V$19,C32)+COUNTIF(C$22:V$22,C32)+COUNTIF(C$25:V$25,C32))/設定!$D23+IFERROR((COUNTIF(C$6:V$7,処理!$L4)+COUNTIF(C$10:V$10,処理!$L4)+COUNTIF(C$13:V$13,処理!$L4)+COUNTIF(C$16:V$16,処理!$L4)+COUNTIF(C$19:V$19,処理!$L4)+COUNTIF(C$22:V$22,処理!$L4)+COUNTIF(C$25:V$25,処理!$L4))/処理!$M4,0))","v":""},"",{"$f":"IF(COUNTIF(処理!$J$2:$J$25,8)>0,処理!H10,\"\")","v":""},null,{"$f":"IF(LEN(G32)=0,\"\",(COUNTIF(C$6:V$7,G32)+COUNTIF(C$10:V$10,G32)+COUNTIF(C$13:V$13,G32)+COUNTIF(C$16:V$16,G32)+COUNTIF(C$19:V$19,G32)+COUNTIF(C$22:V$22,G32)+COUNTIF(C$25:V$25,G32))/設定!$G23+IFERROR((COUNTIF(C$6:V$7,処理!$L10)+COUNTIF(C$10:V$10,処理!$L10)+COUNTIF(C$13:V$13,処理!$L10)+COUNTIF(C$16:V$16,処理!$L10)+COUNTIF(C$19:V$19,処理!$L10)+COUNTIF(C$22:V$22,処理!$L10)+COUNTIF(C$25:V$25,処理!$L10))/処理!$M10,0))","v":""},"",{"$f":"IF(COUNTIF(処理!$J$2:$J$25,14)>0,処理!H16,\"\")","v":""},null,{"$f":"IF(LEN(K32)=0,\"\",(COUNTIF(C$6:V$7,K32)+COUNTIF(C$10:V$10,K32)+COUNTIF(C$13:V$13,K32)+COUNTIF(C$16:V$16,K32)+COUNTIF(C$19:V$19,K32)+COUNTIF(C$22:V$22,K32)+COUNTIF(C$25:V$25,K32))/設定!$J23+IFERROR((COUNTIF(C$6:V$7,処理!$L16)+COUNTIF(C$10:V$10,処理!$L16)+COUNTIF(C$13:V$13,処理!$L16)+COUNTIF(C$16:V$16,処理!$L16)+COUNTIF(C$19:V$19,処理!$L16)+COUNTIF(C$22:V$22,処理!$L16)+COUNTIF(C$25:V$25,処理!$L16))/処理!$M16,0))","v":""},"",{"$f":"IF(COUNTIF(処理!$J$2:$J$25,20)>0,処理!H22,\"\")","v":""},null,{"$f":"IF(LEN(O32)=0,\"\",(COUNTIF(C$6:V$7,O32)+COUNTIF(C$10:V$10,O32)+COUNTIF(C$13:V$13,O32)+COUNTIF(C$16:V$16,O32)+COUNTIF(C$19:V$19,O32)+COUNTIF(C$22:V$22,O32)+COUNTIF(C$25:V$25,O32))/設定!$M23+IFERROR((COUNTIF(C$6:V$7,処理!$L22)+COUNTIF(C$10:V$10,処理!$L22)+COUNTIF(C$13:V$13,処理!$L22)+COUNTIF(C$16:V$16,処理!$L22)+COUNTIF(C$19:V$19,処理!$L22)+COUNTIF(C$22:V$22,処理!$L22)+COUNTIF(C$25:V$25,処理!$L22))/処理!$M22,0))","v":""},"",{"$f":"処理!H28&\"\"","v":""},null,{"$f":"IF(LEN(S32)=0,\"\",COUNTIF(C$6:V$7,S32)+COUNTIF(C$10:V$10,S32)+COUNTIF(C$13:V$13,S32)+COUNTIF(C$16:V$16,S32)+COUNTIF(C$19:V$19,S32)+COUNTIF(C$22:V$22,S32)+COUNTIF(C$25:V$25,S32))","v":""},"",{"$f":"$C$32","v":""},null,{"$f":"IF(LEN(W32)=0,\"\",(COUNTIF(W$6:AP$7,W32)+COUNTIF(W$10:AP$10,W32)+COUNTIF(W$13:AP$13,W32)+COUNTIF(W$16:AP$16,W32)+COUNTIF(W$19:AP$19,W32)+COUNTIF(W$22:AP$22,W32)+COUNTIF(W$25:AP$25,W32))/設定!$D23+IFERROR((COUNTIF(W$6:AP$7,処理!$L4)+COUNTIF(W$10:AP$10,処理!$L4)+COUNTIF(W$13:AP$13,処理!$L4)+COUNTIF(W$16:AP$16,処理!$L4)+COUNTIF(W$19:AP$19,処理!$L4)+COUNTIF(W$22:AP$22,処理!$L4)+COUNTIF(W$25:AP$25,処理!$L4))/処理!$M4,0))","v":""},"",{"$f":"$G$32","v":""},null,{"$f":"IF(LEN(AA32)=0,\"\",(COUNTIF(W$6:AP$7,AA32)+COUNTIF(W$10:AP$10,AA32)+COUNTIF(W$13:AP$13,AA32)+COUNTIF(W$16:AP$16,AA32)+COUNTIF(W$19:AP$19,AA32)+COUNTIF(W$22:AP$22,AA32)+COUNTIF(W$25:AP$25,AA32))/設定!$G23+IFERROR((COUNTIF(W$6:AP$7,処理!$L10)+COUNTIF(W$10:AP$10,処理!$L10)+COUNTIF(W$13:AP$13,処理!$L10)+COUNTIF(W$16:AP$16,処理!$L10)+COUNTIF(W$19:AP$19,処理!$L10)+COUNTIF(W$22:AP$22,処理!$L10)+COUNTIF(W$25:AP$25,処理!$L10))/処理!$M10,0))","v":""},"",{"$f":"$K$32","v":""},null,{"$f":"IF(LEN(AE32)=0,\"\",(COUNTIF(W$6:AP$7,AE32)+COUNTIF(W$10:AP$10,AE32)+COUNTIF(W$13:AP$13,AE32)+COUNTIF(W$16:AP$16,AE32)+COUNTIF(W$19:AP$19,AE32)+COUNTIF(W$22:AP$22,AE32)+COUNTIF(W$25:AP$25,AE32))/設定!$J23+IFERROR((COUNTIF(W$6:AP$7,処理!$L16)+COUNTIF(W$10:AP$10,処理!$L16)+COUNTIF(W$13:AP$13,処理!$L16)+COUNTIF(W$16:AP$16,処理!$L16)+COUNTIF(W$19:AP$19,処理!$L16)+COUNTIF(W$22:AP$22,処理!$L16)+COUNTIF(W$25:AP$25,処理!$L16))/処理!$M16,0))","v":""},"",{"$f":"$O$32","v":""},null,{"$f":"IF(LEN(AI32)=0,\"\",(COUNTIF(W$6:AP$7,AI32)+COUNTIF(W$10:AP$10,AI32)+COUNTIF(W$13:AP$13,AI32)+COUNTIF(W$16:AP$16,AI32)+COUNTIF(W$19:AP$19,AI32)+COUNTIF(W$22:AP$22,AI32)+COUNTIF(W$25:AP$25,AI32))/設定!$M23+IFERROR((COUNTIF(W$6:AP$7,処理!$L22)+COUNTIF(W$10:AP$10,処理!$L22)+COUNTIF(W$13:AP$13,処理!$L22)+COUNTIF(W$16:AP$16,処理!$L22)+COUNTIF(W$19:AP$19,処理!$L22)+COUNTIF(W$22:AP$22,処理!$L22)+COUNTIF(W$25:AP$25,処理!$L22))/処理!$M22,0))","v":""},"",{"$f":"$S$32","v":""},null,{"$f":"IF(LEN(AM32)=0,\"\",COUNTIF(W$6:AP$7,AM32)+COUNTIF(W$10:AP$10,AM32)+COUNTIF(W$13:AP$13,AM32)+COUNTIF(W$16:AP$16,AM32)+COUNTIF(W$19:AP$19,AM32)+COUNTIF(W$22:AP$22,AM32)+COUNTIF(W$25:AP$25,AM32))","v":""},"",{"$f":"$C$32","v":""},null,{"$f":"IF(LEN(AQ32)=0,\"\",(COUNTIF(AQ$6:BJ$7,AQ32)+COUNTIF(AQ$10:BJ$10,AQ32)+COUNTIF(AQ$13:BJ$13,AQ32)+COUNTIF(AQ$16:BJ$16,AQ32)+COUNTIF(AQ$19:BJ$19,AQ32)+COUNTIF(AQ$22:BJ$22,AQ32)+COUNTIF(AQ$25:BJ$25,AQ32))/設定!$D23+IFERROR((COUNTIF(AQ$6:BJ$7,処理!$L4)+COUNTIF(AQ$10:BJ$10,処理!$L4)+COUNTIF(AQ$13:BJ$13,処理!$L4)+COUNTIF(AQ$16:BJ$16,処理!$L4)+COUNTIF(AQ$19:BJ$19,処理!$L4)+COUNTIF(AQ$22:BJ$22,処理!$L4)+COUNTIF(AQ$25:BJ$25,処理!$L4))/処理!$M4,0))","v":""},"",{"$f":"$G$32","v":""},null,{"$f":"IF(LEN(AU32)=0,\"\",(COUNTIF(AQ$6:BJ$7,AU32)+COUNTIF(AQ$10:BJ$10,AU32)+COUNTIF(AQ$13:BJ$13,AU32)+COUNTIF(AQ$16:BJ$16,AU32)+COUNTIF(AQ$19:BJ$19,AU32)+COUNTIF(AQ$22:BJ$22,AU32)+COUNTIF(AQ$25:BJ$25,AU32))/設定!$G23+IFERROR((COUNTIF(AQ$6:BJ$7,処理!$L10)+COUNTIF(AQ$10:BJ$10,処理!$L10)+COUNTIF(AQ$13:BJ$13,処理!$L10)+COUNTIF(AQ$16:BJ$16,処理!$L10)+COUNTIF(AQ$19:BJ$19,処理!$L10)+COUNTIF(AQ$22:BJ$22,処理!$L10)+COUNTIF(AQ$25:BJ$25,処理!$L10))/処理!$M10,0))","v":""},"",{"$f":"$K$32","v":""},null,{"$f":"IF(LEN(AY32)=0,\"\",(COUNTIF(AQ$6:BJ$7,AY32)+COUNTIF(AQ$10:BJ$10,AY32)+COUNTIF(AQ$13:BJ$13,AY32)+COUNTIF(AQ$16:BJ$16,AY32)+COUNTIF(AQ$19:BJ$19,AY32)+COUNTIF(AQ$22:BJ$22,AY32)+COUNTIF(AQ$25:BJ$25,AY32))/設定!$J23+IFERROR((COUNTIF(AQ$6:BJ$7,処理!$L16)+COUNTIF(AQ$10:BJ$10,処理!$L16)+COUNTIF(AQ$13:BJ$13,処理!$L16)+COUNTIF(AQ$16:BJ$16,処理!$L16)+COUNTIF(AQ$19:BJ$19,処理!$L16)+COUNTIF(AQ$22:BJ$22,処理!$L16)+COUNTIF(AQ$25:BJ$25,処理!$L16))/処理!$M16,0))","v":""},"",{"$f":"$O$32","v":""},null,{"$f":"IF(LEN(BC32)=0,\"\",(COUNTIF(AQ$6:BJ$7,BC32)+COUNTIF(AQ$10:BJ$10,BC32)+COUNTIF(AQ$13:BJ$13,BC32)+COUNTIF(AQ$16:BJ$16,BC32)+COUNTIF(AQ$19:BJ$19,BC32)+COUNTIF(AQ$22:BJ$22,BC32)+COUNTIF(AQ$25:BJ$25,BC32))/設定!$M23+IFERROR((COUNTIF(AQ$6:BJ$7,処理!$L22)+COUNTIF(AQ$10:BJ$10,処理!$L22)+COUNTIF(AQ$13:BJ$13,処理!$L22)+COUNTIF(AQ$16:BJ$16,処理!$L22)+COUNTIF(AQ$19:BJ$19,処理!$L22)+COUNTIF(AQ$22:BJ$22,処理!$L22)+COUNTIF(AQ$25:BJ$25,処理!$L22))/処理!$M22,0))","v":""},"",{"$f":"$S$32","v":""},null,{"$f":"IF(LEN(BG32)=0,\"\",COUNTIF(AQ$6:BJ$7,BG32)+COUNTIF(AQ$10:BJ$10,BG32)+COUNTIF(AQ$13:BJ$13,BG32)+COUNTIF(AQ$16:BJ$16,BG32)+COUNTIF(AQ$19:BJ$19,BG32)+COUNTIF(AQ$22:BJ$22,BG32)+COUNTIF(AQ$25:BJ$25,BG32))","v":""},"",{"$f":"$C$32","v":""},null,{"$f":"IF(LEN(BK32)=0,\"\",(COUNTIF(BK$6:CD$7,BK32)+COUNTIF(BK$10:CD$10,BK32)+COUNTIF(BK$13:CD$13,BK32)+COUNTIF(BK$16:CD$16,BK32)+COUNTIF(BK$19:CD$19,BK32)+COUNTIF(BK$22:CD$22,BK32)+COUNTIF(BK$25:CD$25,BK32))/設定!$D23+IFERROR((COUNTIF(BK$6:CD$7,処理!$L4)+COUNTIF(BK$10:CD$10,処理!$L4)+COUNTIF(BK$13:CD$13,処理!$L4)+COUNTIF(BK$16:CD$16,処理!$L4)+COUNTIF(BK$19:CD$19,処理!$L4)+COUNTIF(BK$22:CD$22,処理!$L4)+COUNTIF(BK$25:CD$25,処理!$L4))/処理!$M4,0))","v":""},"",{"$f":"$G$32","v":""},null,{"$f":"IF(LEN(BO32)=0,\"\",(COUNTIF(BK$6:CD$7,BO32)+COUNTIF(BK$10:CD$10,BO32)+COUNTIF(BK$13:CD$13,BO32)+COUNTIF(BK$16:CD$16,BO32)+COUNTIF(BK$19:CD$19,BO32)+COUNTIF(BK$22:CD$22,BO32)+COUNTIF(BK$25:CD$25,BO32))/設定!$G23+IFERROR((COUNTIF(BK$6:CD$7,処理!$L10)+COUNTIF(BK$10:CD$10,処理!$L10)+COUNTIF(BK$13:CD$13,処理!$L10)+COUNTIF(BK$16:CD$16,処理!$L10)+COUNTIF(BK$19:CD$19,処理!$L10)+COUNTIF(BK$22:CD$22,処理!$L10)+COUNTIF(BK$25:CD$25,処理!$L10))/処理!$M10,0))","v":""},"",{"$f":"$K$32","v":""},null,{"$f":"IF(LEN(BS32)=0,\"\",(COUNTIF(BK$6:CD$7,BS32)+COUNTIF(BK$10:CD$10,BS32)+COUNTIF(BK$13:CD$13,BS32)+COUNTIF(BK$16:CD$16,BS32)+COUNTIF(BK$19:CD$19,BS32)+COUNTIF(BK$22:CD$22,BS32)+COUNTIF(BK$25:CD$25,BS32))/設定!$J23+IFERROR((COUNTIF(BK$6:CD$7,処理!$L16)+COUNTIF(BK$10:CD$10,処理!$L16)+COUNTIF(BK$13:CD$13,処理!$L16)+COUNTIF(BK$16:CD$16,処理!$L16)+COUNTIF(BK$19:CD$19,処理!$L16)+COUNTIF(BK$22:CD$22,処理!$L16)+COUNTIF(BK$25:CD$25,処理!$L16))/処理!$M16,0))","v":""},"",{"$f":"$O$32","v":""},null,{"$f":"IF(LEN(BW32)=0,\"\",(COUNTIF(BK$6:CD$7,BW32)+COUNTIF(BK$10:CD$10,BW32)+COUNTIF(BK$13:CD$13,BW32)+COUNTIF(BK$16:CD$16,BW32)+COUNTIF(BK$19:CD$19,BW32)+COUNTIF(BK$22:CD$22,BW32)+COUNTIF(BK$25:CD$25,BW32))/設定!$M23+IFERROR((COUNTIF(BK$6:CD$7,処理!$L22)+COUNTIF(BK$10:CD$10,処理!$L22)+COUNTIF(BK$13:CD$13,処理!$L22)+COUNTIF(BK$16:CD$16,処理!$L22)+COUNTIF(BK$19:CD$19,処理!$L22)+COUNTIF(BK$22:CD$22,処理!$L22)+COUNTIF(BK$25:CD$25,処理!$L22))/処理!$M22,0))","v":""},"",{"$f":"$S$32","v":""},null,{"$f":"IF(LEN(CA32)=0,\"\",COUNTIF(BK$6:CD$7,CA32)+COUNTIF(BK$10:CD$10,CA32)+COUNTIF(BK$13:CD$13,CA32)+COUNTIF(BK$16:CD$16,CA32)+COUNTIF(BK$19:CD$19,CA32)+COUNTIF(BK$22:CD$22,CA32)+COUNTIF(BK$25:CD$25,CA32))","v":""},"",{"$f":"$C$32","v":""},null,{"$f":"IF(LEN(CE32)=0,\"\",(COUNTIF(CE$6:CX$7,CE32)+COUNTIF(CE$10:CX$10,CE32)+COUNTIF(CE$13:CX$13,CE32)+COUNTIF(CE$16:CX$16,CE32)+COUNTIF(CE$19:CX$19,CE32)+COUNTIF(CE$22:CX$22,CE32)+COUNTIF(CE$25:CX$25,CE32))/設定!$D23+IFERROR((COUNTIF(CE$6:CX$7,処理!$L4)+COUNTIF(CE$10:CX$10,処理!$L4)+COUNTIF(CE$13:CX$13,処理!$L4)+COUNTIF(CE$16:CX$16,処理!$L4)+COUNTIF(CE$19:CX$19,処理!$L4)+COUNTIF(CE$22:CX$22,処理!$L4)+COUNTIF(CE$25:CX$25,処理!$L4))/処理!$M4,0))","v":""},"",{"$f":"$G$32","v":""},null,{"$f":"IF(LEN(CI32)=0,\"\",(COUNTIF(CE$6:CX$7,CI32)+COUNTIF(CE$10:CX$10,CI32)+COUNTIF(CE$13:CX$13,CI32)+COUNTIF(CE$16:CX$16,CI32)+COUNTIF(CE$19:CX$19,CI32)+COUNTIF(CE$22:CX$22,CI32)+COUNTIF(CE$25:CX$25,CI32))/設定!$G23+IFERROR((COUNTIF(CE$6:CX$7,処理!$L10)+COUNTIF(CE$10:CX$10,処理!$L10)+COUNTIF(CE$13:CX$13,処理!$L10)+COUNTIF(CE$16:CX$16,処理!$L10)+COUNTIF(CE$19:CX$19,処理!$L10)+COUNTIF(CE$22:CX$22,処理!$L10)+COUNTIF(CE$25:CX$25,処理!$L10))/処理!$M10,0))","v":""},"",{"$f":"$K$32","v":""},null,{"$f":"IF(LEN(CM32)=0,\"\",(COUNTIF(CE$6:CX$7,CM32)+COUNTIF(CE$10:CX$10,CM32)+COUNTIF(CE$13:CX$13,CM32)+COUNTIF(CE$16:CX$16,CM32)+COUNTIF(CE$19:CX$19,CM32)+COUNTIF(CE$22:CX$22,CM32)+COUNTIF(CE$25:CX$25,CM32))/設定!$J23+IFERROR((COUNTIF(CE$6:CX$7,処理!$L16)+COUNTIF(CE$10:CX$10,処理!$L16)+COUNTIF(CE$13:CX$13,処理!$L16)+COUNTIF(CE$16:CX$16,処理!$L16)+COUNTIF(CE$19:CX$19,処理!$L16)+COUNTIF(CE$22:CX$22,処理!$L16)+COUNTIF(CE$25:CX$25,処理!$L16))/処理!$M16,0))","v":""},"",{"$f":"$O$32","v":""},null,{"$f":"IF(LEN(CQ32)=0,\"\",(COUNTIF(CE$6:CX$7,CQ32)+COUNTIF(CE$10:CX$10,CQ32)+COUNTIF(CE$13:CX$13,CQ32)+COUNTIF(CE$16:CX$16,CQ32)+COUNTIF(CE$19:CX$19,CQ32)+COUNTIF(CE$22:CX$22,CQ32)+COUNTIF(CE$25:CX$25,CQ32))/設定!$M23+IFERROR((COUNTIF(CE$6:CX$7,処理!$L22)+COUNTIF(CE$10:CX$10,処理!$L22)+COUNTIF(CE$13:CX$13,処理!$L22)+COUNTIF(CE$16:CX$16,処理!$L22)+COUNTIF(CE$19:CX$19,処理!$L22)+COUNTIF(CE$22:CX$22,処理!$L22)+COUNTIF(CE$25:CX$25,処理!$L22))/処理!$M22,0))","v":""},"",{"$f":"$S$32","v":""},null,{"$f":"IF(LEN(CU32)=0,\"\",COUNTIF(CE$6:CX$7,CU32)+COUNTIF(CE$10:CX$10,CU32)+COUNTIF(CE$13:CX$13,CU32)+COUNTIF(CE$16:CX$16,CU32)+COUNTIF(CE$19:CX$19,CU32)+COUNTIF(CE$22:CX$22,CU32)+COUNTIF(CE$25:CX$25,CU32))","v":""},"",{"$f":"$C$32","v":""},null,{"$f":"IF(LEN(CY32)=0,\"\",(COUNTIF(CY$6:DR$7,CY32)+COUNTIF(CY$10:DR$10,CY32)+COUNTIF(CY$13:DR$13,CY32)+COUNTIF(CY$16:DR$16,CY32)+COUNTIF(CY$19:DR$19,CY32)+COUNTIF(CY$22:DR$22,CY32)+COUNTIF(CY$25:DR$25,CY32))/設定!$D23+IFERROR((COUNTIF(CY$6:DR$7,処理!$L4)+COUNTIF(CY$10:DR$10,処理!$L4)+COUNTIF(CY$13:DR$13,処理!$L4)+COUNTIF(CY$16:DR$16,処理!$L4)+COUNTIF(CY$19:DR$19,処理!$L4)+COUNTIF(CY$22:DR$22,処理!$L4)+COUNTIF(CY$25:DR$25,処理!$L4))/処理!$M4,0))","v":""},"",{"$f":"$G$32","v":""},null,{"$f":"IF(LEN(DC32)=0,\"\",(COUNTIF(CY$6:DR$7,DC32)+COUNTIF(CY$10:DR$10,DC32)+COUNTIF(CY$13:DR$13,DC32)+COUNTIF(CY$16:DR$16,DC32)+COUNTIF(CY$19:DR$19,DC32)+COUNTIF(CY$22:DR$22,DC32)+COUNTIF(CY$25:DR$25,DC32))/設定!$G23+IFERROR((COUNTIF(CY$6:DR$7,処理!$L10)+COUNTIF(CY$10:DR$10,処理!$L10)+COUNTIF(CY$13:DR$13,処理!$L10)+COUNTIF(CY$16:DR$16,処理!$L10)+COUNTIF(CY$19:DR$19,処理!$L10)+COUNTIF(CY$22:DR$22,処理!$L10)+COUNTIF(CY$25:DR$25,処理!$L10))/処理!$M10,0))","v":""},"",{"$f":"$K$32","v":""},null,{"$f":"IF(LEN(DG32)=0,\"\",(COUNTIF(CY$6:DR$7,DG32)+COUNTIF(CY$10:DR$10,DG32)+COUNTIF(CY$13:DR$13,DG32)+COUNTIF(CY$16:DR$16,DG32)+COUNTIF(CY$19:DR$19,DG32)+COUNTIF(CY$22:DR$22,DG32)+COUNTIF(CY$25:DR$25,DG32))/設定!$J23+IFERROR((COUNTIF(CY$6:DR$7,処理!$L16)+COUNTIF(CY$10:DR$10,処理!$L16)+COUNTIF(CY$13:DR$13,処理!$L16)+COUNTIF(CY$16:DR$16,処理!$L16)+COUNTIF(CY$19:DR$19,処理!$L16)+COUNTIF(CY$22:DR$22,処理!$L16)+COUNTIF(CY$25:DR$25,処理!$L16))/処理!$M16,0))","v":""},"",{"$f":"$O$32","v":""},null,{"$f":"IF(LEN(DK32)=0,\"\",(COUNTIF(CY$6:DR$7,DK32)+COUNTIF(CY$10:DR$10,DK32)+COUNTIF(CY$13:DR$13,DK32)+COUNTIF(CY$16:DR$16,DK32)+COUNTIF(CY$19:DR$19,DK32)+COUNTIF(CY$22:DR$22,DK32)+COUNTIF(CY$25:DR$25,DK32))/設定!$M23+IFERROR((COUNTIF(CY$6:DR$7,処理!$L22)+COUNTIF(CY$10:DR$10,処理!$L22)+COUNTIF(CY$13:DR$13,処理!$L22)+COUNTIF(CY$16:DR$16,処理!$L22)+COUNTIF(CY$19:DR$19,処理!$L22)+COUNTIF(CY$22:DR$22,処理!$L22)+COUNTIF(CY$25:DR$25,処理!$L22))/処理!$M22,0))","v":""},"",{"$f":"$S$32","v":""},null,{"$f":"IF(LEN(DO32)=0,\"\",COUNTIF(CY$6:DR$7,DO32)+COUNTIF(CY$10:DR$10,DO32)+COUNTIF(CY$13:DR$13,DO32)+COUNTIF(CY$16:DR$16,DO32)+COUNTIF(CY$19:DR$19,DO32)+COUNTIF(CY$22:DR$22,DO32)+COUNTIF(CY$25:DR$25,DO32))","v":""},"",{"$f":"$C$32","v":""},null,{"$f":"IF(LEN(DS32)=0,\"\",(COUNTIF(DS$6:EL$7,DS32)+COUNTIF(DS$10:EL$10,DS32)+COUNTIF(DS$13:EL$13,DS32)+COUNTIF(DS$16:EL$16,DS32)+COUNTIF(DS$19:EL$19,DS32)+COUNTIF(DS$22:EL$22,DS32)+COUNTIF(DS$25:EL$25,DS32))/設定!$D23+IFERROR((COUNTIF(DS$6:EL$7,処理!$L4)+COUNTIF(DS$10:EL$10,処理!$L4)+COUNTIF(DS$13:EL$13,処理!$L4)+COUNTIF(DS$16:EL$16,処理!$L4)+COUNTIF(DS$19:EL$19,処理!$L4)+COUNTIF(DS$22:EL$22,処理!$L4)+COUNTIF(DS$25:EL$25,処理!$L4))/処理!$M4,0))","v":""},"",{"$f":"$G$32","v":""},null,{"$f":"IF(LEN(DW32)=0,\"\",(COUNTIF(DS$6:EL$7,DW32)+COUNTIF(DS$10:EL$10,DW32)+COUNTIF(DS$13:EL$13,DW32)+COUNTIF(DS$16:EL$16,DW32)+COUNTIF(DS$19:EL$19,DW32)+COUNTIF(DS$22:EL$22,DW32)+COUNTIF(DS$25:EL$25,DW32))/設定!$G23+IFERROR((COUNTIF(DS$6:EL$7,処理!$L10)+COUNTIF(DS$10:EL$10,処理!$L10)+COUNTIF(DS$13:EL$13,処理!$L10)+COUNTIF(DS$16:EL$16,処理!$L10)+COUNTIF(DS$19:EL$19,処理!$L10)+COUNTIF(DS$22:EL$22,処理!$L10)+COUNTIF(DS$25:EL$25,処理!$L10))/処理!$M10,0))","v":""},"",{"$f":"$K$32","v":""},null,{"$f":"IF(LEN(EA32)=0,\"\",(COUNTIF(DS$6:EL$7,EA32)+COUNTIF(DS$10:EL$10,EA32)+COUNTIF(DS$13:EL$13,EA32)+COUNTIF(DS$16:EL$16,EA32)+COUNTIF(DS$19:EL$19,EA32)+COUNTIF(DS$22:EL$22,EA32)+COUNTIF(DS$25:EL$25,EA32))/設定!$J23+IFERROR((COUNTIF(DS$6:EL$7,処理!$L16)+COUNTIF(DS$10:EL$10,処理!$L16)+COUNTIF(DS$13:EL$13,処理!$L16)+COUNTIF(DS$16:EL$16,処理!$L16)+COUNTIF(DS$19:EL$19,処理!$L16)+COUNTIF(DS$22:EL$22,処理!$L16)+COUNTIF(DS$25:EL$25,処理!$L16))/処理!$M16,0))","v":""},"",{"$f":"$O$32","v":""},null,{"$f":"IF(LEN(EE32)=0,\"\",(COUNTIF(DS$6:EL$7,EE32)+COUNTIF(DS$10:EL$10,EE32)+COUNTIF(DS$13:EL$13,EE32)+COUNTIF(DS$16:EL$16,EE32)+COUNTIF(DS$19:EL$19,EE32)+COUNTIF(DS$22:EL$22,EE32)+COUNTIF(DS$25:EL$25,EE32))/設定!$M23+IFERROR((COUNTIF(DS$6:EL$7,処理!$L22)+COUNTIF(DS$10:EL$10,処理!$L22)+COUNTIF(DS$13:EL$13,処理!$L22)+COUNTIF(DS$16:EL$16,処理!$L22)+COUNTIF(DS$19:EL$19,処理!$L22)+COUNTIF(DS$22:EL$22,処理!$L22)+COUNTIF(DS$25:EL$25,処理!$L22))/処理!$M22,0))","v":""},"",{"$f":"$S$32","v":""},null,{"$f":"IF(LEN(EI32)=0,\"\",COUNTIF(DS$6:EL$7,EI32)+COUNTIF(DS$10:EL$10,EI32)+COUNTIF(DS$13:EL$13,EI32)+COUNTIF(DS$16:EL$16,EI32)+COUNTIF(DS$19:EL$19,EI32)+COUNTIF(DS$22:EL$22,EI32)+COUNTIF(DS$25:EL$25,EI32))","v":""},"",{"$f":"$C$32","v":""},null,{"$f":"IF(LEN(EM32)=0,\"\",(COUNTIF(EM$6:FF$7,EM32)+COUNTIF(EM$10:FF$10,EM32)+COUNTIF(EM$13:FF$13,EM32)+COUNTIF(EM$16:FF$16,EM32)+COUNTIF(EM$19:FF$19,EM32)+COUNTIF(EM$22:FF$22,EM32)+COUNTIF(EM$25:FF$25,EM32))/設定!$D23+IFERROR((COUNTIF(EM$6:FF$7,処理!$L4)+COUNTIF(EM$10:FF$10,処理!$L4)+COUNTIF(EM$13:FF$13,処理!$L4)+COUNTIF(EM$16:FF$16,処理!$L4)+COUNTIF(EM$19:FF$19,処理!$L4)+COUNTIF(EM$22:FF$22,処理!$L4)+COUNTIF(EM$25:FF$25,処理!$L4))/処理!$M4,0))","v":""},"",{"$f":"$G$32","v":""},null,{"$f":"IF(LEN(EQ32)=0,\"\",(COUNTIF(EM$6:FF$7,EQ32)+COUNTIF(EM$10:FF$10,EQ32)+COUNTIF(EM$13:FF$13,EQ32)+COUNTIF(EM$16:FF$16,EQ32)+COUNTIF(EM$19:FF$19,EQ32)+COUNTIF(EM$22:FF$22,EQ32)+COUNTIF(EM$25:FF$25,EQ32))/設定!$G23+IFERROR((COUNTIF(EM$6:FF$7,処理!$L10)+COUNTIF(EM$10:FF$10,処理!$L10)+COUNTIF(EM$13:FF$13,処理!$L10)+COUNTIF(EM$16:FF$16,処理!$L10)+COUNTIF(EM$19:FF$19,処理!$L10)+COUNTIF(EM$22:FF$22,処理!$L10)+COUNTIF(EM$25:FF$25,処理!$L10))/処理!$M10,0))","v":""},"",{"$f":"$K$32","v":""},null,{"$f":"IF(LEN(EU32)=0,\"\",(COUNTIF(EM$6:FF$7,EU32)+COUNTIF(EM$10:FF$10,EU32)+COUNTIF(EM$13:FF$13,EU32)+COUNTIF(EM$16:FF$16,EU32)+COUNTIF(EM$19:FF$19,EU32)+COUNTIF(EM$22:FF$22,EU32)+COUNTIF(EM$25:FF$25,EU32))/設定!$J23+IFERROR((COUNTIF(EM$6:FF$7,処理!$L16)+COUNTIF(EM$10:FF$10,処理!$L16)+COUNTIF(EM$13:FF$13,処理!$L16)+COUNTIF(EM$16:FF$16,処理!$L16)+COUNTIF(EM$19:FF$19,処理!$L16)+COUNTIF(EM$22:FF$22,処理!$L16)+COUNTIF(EM$25:FF$25,処理!$L16))/処理!$M16,0))","v":""},"",{"$f":"$O$32","v":""},null,{"$f":"IF(LEN(EY32)=0,\"\",(COUNTIF(EM$6:FF$7,EY32)+COUNTIF(EM$10:FF$10,EY32)+COUNTIF(EM$13:FF$13,EY32)+COUNTIF(EM$16:FF$16,EY32)+COUNTIF(EM$19:FF$19,EY32)+COUNTIF(EM$22:FF$22,EY32)+COUNTIF(EM$25:FF$25,EY32))/設定!$M23+IFERROR((COUNTIF(EM$6:FF$7,処理!$L22)+COUNTIF(EM$10:FF$10,処理!$L22)+COUNTIF(EM$13:FF$13,処理!$L22)+COUNTIF(EM$16:FF$16,処理!$L22)+COUNTIF(EM$19:FF$19,処理!$L22)+COUNTIF(EM$22:FF$22,処理!$L22)+COUNTIF(EM$25:FF$25,処理!$L22))/処理!$M22,0))","v":""},"",{"$f":"$S$32","v":""},null,{"$f":"IF(LEN(FC32)=0,\"\",COUNTIF(EM$6:FF$7,FC32)+COUNTIF(EM$10:FF$10,FC32)+COUNTIF(EM$13:FF$13,FC32)+COUNTIF(EM$16:FF$16,FC32)+COUNTIF(EM$19:FF$19,FC32)+COUNTIF(EM$22:FF$22,FC32)+COUNTIF(EM$25:FF$25,FC32))","v":""},"",{"$f":"$C$32","v":""},null,{"$f":"IF(LEN(FG32)=0,\"\",(COUNTIF(FG$6:FZ$7,FG32)+COUNTIF(FG$10:FZ$10,FG32)+COUNTIF(FG$13:FZ$13,FG32)+COUNTIF(FG$16:FZ$16,FG32)+COUNTIF(FG$19:FZ$19,FG32)+COUNTIF(FG$22:FZ$22,FG32)+COUNTIF(FG$25:FZ$25,FG32))/設定!$D23+IFERROR((COUNTIF(FG$6:FZ$7,処理!$L4)+COUNTIF(FG$10:FZ$10,処理!$L4)+COUNTIF(FG$13:FZ$13,処理!$L4)+COUNTIF(FG$16:FZ$16,処理!$L4)+COUNTIF(FG$19:FZ$19,処理!$L4)+COUNTIF(FG$22:FZ$22,処理!$L4)+COUNTIF(FG$25:FZ$25,処理!$L4))/処理!$M4,0))","v":""},"",{"$f":"$G$32","v":""},null,{"$f":"IF(LEN(FK32)=0,\"\",(COUNTIF(FG$6:FZ$7,FK32)+COUNTIF(FG$10:FZ$10,FK32)+COUNTIF(FG$13:FZ$13,FK32)+COUNTIF(FG$16:FZ$16,FK32)+COUNTIF(FG$19:FZ$19,FK32)+COUNTIF(FG$22:FZ$22,FK32)+COUNTIF(FG$25:FZ$25,FK32))/設定!$G23+IFERROR((COUNTIF(FG$6:FZ$7,処理!$L10)+COUNTIF(FG$10:FZ$10,処理!$L10)+COUNTIF(FG$13:FZ$13,処理!$L10)+COUNTIF(FG$16:FZ$16,処理!$L10)+COUNTIF(FG$19:FZ$19,処理!$L10)+COUNTIF(FG$22:FZ$22,処理!$L10)+COUNTIF(FG$25:FZ$25,処理!$L10))/処理!$M10,0))","v":""},"",{"$f":"$K$32","v":""},null,{"$f":"IF(LEN(FO32)=0,\"\",(COUNTIF(FG$6:FZ$7,FO32)+COUNTIF(FG$10:FZ$10,FO32)+COUNTIF(FG$13:FZ$13,FO32)+COUNTIF(FG$16:FZ$16,FO32)+COUNTIF(FG$19:FZ$19,FO32)+COUNTIF(FG$22:FZ$22,FO32)+COUNTIF(FG$25:FZ$25,FO32))/設定!$J23+IFERROR((COUNTIF(FG$6:FZ$7,処理!$L16)+COUNTIF(FG$10:FZ$10,処理!$L16)+COUNTIF(FG$13:FZ$13,処理!$L16)+COUNTIF(FG$16:FZ$16,処理!$L16)+COUNTIF(FG$19:FZ$19,処理!$L16)+COUNTIF(FG$22:FZ$22,処理!$L16)+COUNTIF(FG$25:FZ$25,処理!$L16))/処理!$M16,0))","v":""},"",{"$f":"$O$32","v":""},null,{"$f":"IF(LEN(FS32)=0,\"\",(COUNTIF(FG$6:FZ$7,FS32)+COUNTIF(FG$10:FZ$10,FS32)+COUNTIF(FG$13:FZ$13,FS32)+COUNTIF(FG$16:FZ$16,FS32)+COUNTIF(FG$19:FZ$19,FS32)+COUNTIF(FG$22:FZ$22,FS32)+COUNTIF(FG$25:FZ$25,FS32))/設定!$M23+IFERROR((COUNTIF(FG$6:FZ$7,処理!$L22)+COUNTIF(FG$10:FZ$10,処理!$L22)+COUNTIF(FG$13:FZ$13,処理!$L22)+COUNTIF(FG$16:FZ$16,処理!$L22)+COUNTIF(FG$19:FZ$19,処理!$L22)+COUNTIF(FG$22:FZ$22,処理!$L22)+COUNTIF(FG$25:FZ$25,処理!$L22))/処理!$M22,0))","v":""},"",{"$f":"$S$32","v":""},null,{"$f":"IF(LEN(FW32)=0,\"\",COUNTIF(FG$6:FZ$7,FW32)+COUNTIF(FG$10:FZ$10,FW32)+COUNTIF(FG$13:FZ$13,FW32)+COUNTIF(FG$16:FZ$16,FW32)+COUNTIF(FG$19:FZ$19,FW32)+COUNTIF(FG$22:FZ$22,FW32)+COUNTIF(FG$25:FZ$25,FW32))","v":""},"",{"$f":"$C$32","v":""},null,{"$f":"IF(LEN(GA32)=0,\"\",(COUNTIF(GA$6:GT$7,GA32)+COUNTIF(GA$10:GT$10,GA32)+COUNTIF(GA$13:GT$13,GA32)+COUNTIF(GA$16:GT$16,GA32)+COUNTIF(GA$19:GT$19,GA32)+COUNTIF(GA$22:GT$22,GA32)+COUNTIF(GA$25:GT$25,GA32))/設定!$D23+IFERROR((COUNTIF(GA$6:GT$7,処理!$L4)+COUNTIF(GA$10:GT$10,処理!$L4)+COUNTIF(GA$13:GT$13,処理!$L4)+COUNTIF(GA$16:GT$16,処理!$L4)+COUNTIF(GA$19:GT$19,処理!$L4)+COUNTIF(GA$22:GT$22,処理!$L4)+COUNTIF(GA$25:GT$25,処理!$L4))/処理!$M4,0))","v":""},"",{"$f":"$G$32","v":""},null,{"$f":"IF(LEN(GE32)=0,\"\",(COUNTIF(GA$6:GT$7,GE32)+COUNTIF(GA$10:GT$10,GE32)+COUNTIF(GA$13:GT$13,GE32)+COUNTIF(GA$16:GT$16,GE32)+COUNTIF(GA$19:GT$19,GE32)+COUNTIF(GA$22:GT$22,GE32)+COUNTIF(GA$25:GT$25,GE32))/設定!$G23+IFERROR((COUNTIF(GA$6:GT$7,処理!$L10)+COUNTIF(GA$10:GT$10,処理!$L10)+COUNTIF(GA$13:GT$13,処理!$L10)+COUNTIF(GA$16:GT$16,処理!$L10)+COUNTIF(GA$19:GT$19,処理!$L10)+COUNTIF(GA$22:GT$22,処理!$L10)+COUNTIF(GA$25:GT$25,処理!$L10))/処理!$M10,0))","v":""},"",{"$f":"$K$32","v":""},null,{"$f":"IF(LEN(GI32)=0,\"\",(COUNTIF(GA$6:GT$7,GI32)+COUNTIF(GA$10:GT$10,GI32)+COUNTIF(GA$13:GT$13,GI32)+COUNTIF(GA$16:GT$16,GI32)+COUNTIF(GA$19:GT$19,GI32)+COUNTIF(GA$22:GT$22,GI32)+COUNTIF(GA$25:GT$25,GI32))/設定!$J23+IFERROR((COUNTIF(GA$6:GT$7,処理!$L16)+COUNTIF(GA$10:GT$10,処理!$L16)+COUNTIF(GA$13:GT$13,処理!$L16)+COUNTIF(GA$16:GT$16,処理!$L16)+COUNTIF(GA$19:GT$19,処理!$L16)+COUNTIF(GA$22:GT$22,処理!$L16)+COUNTIF(GA$25:GT$25,処理!$L16))/処理!$M16,0))","v":""},"",{"$f":"$O$32","v":""},null,{"$f":"IF(LEN(GM32)=0,\"\",(COUNTIF(GA$6:GT$7,GM32)+COUNTIF(GA$10:GT$10,GM32)+COUNTIF(GA$13:GT$13,GM32)+COUNTIF(GA$16:GT$16,GM32)+COUNTIF(GA$19:GT$19,GM32)+COUNTIF(GA$22:GT$22,GM32)+COUNTIF(GA$25:GT$25,GM32))/設定!$M23+IFERROR((COUNTIF(GA$6:GT$7,処理!$L22)+COUNTIF(GA$10:GT$10,処理!$L22)+COUNTIF(GA$13:GT$13,処理!$L22)+COUNTIF(GA$16:GT$16,処理!$L22)+COUNTIF(GA$19:GT$19,処理!$L22)+COUNTIF(GA$22:GT$22,処理!$L22)+COUNTIF(GA$25:GT$25,処理!$L22))/処理!$M22,0))","v":""},"",{"$f":"$S$32","v":""},null,{"$f":"IF(LEN(GQ32)=0,\"\",COUNTIF(GA$6:GT$7,GQ32)+COUNTIF(GA$10:GT$10,GQ32)+COUNTIF(GA$13:GT$13,GQ32)+COUNTIF(GA$16:GT$16,GQ32)+COUNTIF(GA$19:GT$19,GQ32)+COUNTIF(GA$22:GT$22,GQ32)+COUNTIF(GA$25:GT$25,GQ32))","v":""},"",{"$f":"$C$32","v":""},null,{"$f":"IF(LEN(GU32)=0,\"\",(COUNTIF(GU$6:HN$7,GU32)+COUNTIF(GU$10:HN$10,GU32)+COUNTIF(GU$13:HN$13,GU32)+COUNTIF(GU$16:HN$16,GU32)+COUNTIF(GU$19:HN$19,GU32)+COUNTIF(GU$22:HN$22,GU32)+COUNTIF(GU$25:HN$25,GU32))/設定!$D23+IFERROR((COUNTIF(GU$6:HN$7,処理!$L4)+COUNTIF(GU$10:HN$10,処理!$L4)+COUNTIF(GU$13:HN$13,処理!$L4)+COUNTIF(GU$16:HN$16,処理!$L4)+COUNTIF(GU$19:HN$19,処理!$L4)+COUNTIF(GU$22:HN$22,処理!$L4)+COUNTIF(GU$25:HN$25,処理!$L4))/処理!$M4,0))","v":""},"",{"$f":"$G$32","v":""},null,{"$f":"IF(LEN(GY32)=0,\"\",(COUNTIF(GU$6:HN$7,GY32)+COUNTIF(GU$10:HN$10,GY32)+COUNTIF(GU$13:HN$13,GY32)+COUNTIF(GU$16:HN$16,GY32)+COUNTIF(GU$19:HN$19,GY32)+COUNTIF(GU$22:HN$22,GY32)+COUNTIF(GU$25:HN$25,GY32))/設定!$G23+IFERROR((COUNTIF(GU$6:HN$7,処理!$L10)+COUNTIF(GU$10:HN$10,処理!$L10)+COUNTIF(GU$13:HN$13,処理!$L10)+COUNTIF(GU$16:HN$16,処理!$L10)+COUNTIF(GU$19:HN$19,処理!$L10)+COUNTIF(GU$22:HN$22,処理!$L10)+COUNTIF(GU$25:HN$25,処理!$L10))/処理!$M10,0))","v":""},"",{"$f":"$K$32","v":""},null,{"$f":"IF(LEN(HC32)=0,\"\",(COUNTIF(GU$6:HN$7,HC32)+COUNTIF(GU$10:HN$10,HC32)+COUNTIF(GU$13:HN$13,HC32)+COUNTIF(GU$16:HN$16,HC32)+COUNTIF(GU$19:HN$19,HC32)+COUNTIF(GU$22:HN$22,HC32)+COUNTIF(GU$25:HN$25,HC32))/設定!$J23+IFERROR((COUNTIF(GU$6:HN$7,処理!$L16)+COUNTIF(GU$10:HN$10,処理!$L16)+COUNTIF(GU$13:HN$13,処理!$L16)+COUNTIF(GU$16:HN$16,処理!$L16)+COUNTIF(GU$19:HN$19,処理!$L16)+COUNTIF(GU$22:HN$22,処理!$L16)+COUNTIF(GU$25:HN$25,処理!$L16))/処理!$M16,0))","v":""},"",{"$f":"$O$32","v":""},null,{"$f":"IF(LEN(HG32)=0,\"\",(COUNTIF(GU$6:HN$7,HG32)+COUNTIF(GU$10:HN$10,HG32)+COUNTIF(GU$13:HN$13,HG32)+COUNTIF(GU$16:HN$16,HG32)+COUNTIF(GU$19:HN$19,HG32)+COUNTIF(GU$22:HN$22,HG32)+COUNTIF(GU$25:HN$25,HG32))/設定!$M23+IFERROR((COUNTIF(GU$6:HN$7,処理!$L22)+COUNTIF(GU$10:HN$10,処理!$L22)+COUNTIF(GU$13:HN$13,処理!$L22)+COUNTIF(GU$16:HN$16,処理!$L22)+COUNTIF(GU$19:HN$19,処理!$L22)+COUNTIF(GU$22:HN$22,処理!$L22)+COUNTIF(GU$25:HN$25,処理!$L22))/処理!$M22,0))","v":""},"",{"$f":"$S$32","v":""},null,{"$f":"IF(LEN(HK32)=0,\"\",COUNTIF(GU$6:HN$7,HK32)+COUNTIF(GU$10:HN$10,HK32)+COUNTIF(GU$13:HN$13,HK32)+COUNTIF(GU$16:HN$16,HK32)+COUNTIF(GU$19:HN$19,HK32)+COUNTIF(GU$22:HN$22,HK32)+COUNTIF(GU$25:HN$25,HK32))","v":""},"",{"$f":"$C$32","v":""},null,{"$f":"IF(LEN(HO32)=0,\"\",(COUNTIF(HO$6:IH$7,HO32)+COUNTIF(HO$10:IH$10,HO32)+COUNTIF(HO$13:IH$13,HO32)+COUNTIF(HO$16:IH$16,HO32)+COUNTIF(HO$19:IH$19,HO32)+COUNTIF(HO$22:IH$22,HO32)+COUNTIF(HO$25:IH$25,HO32))/設定!$D23+IFERROR((COUNTIF(HO$6:IH$7,処理!$L4)+COUNTIF(HO$10:IH$10,処理!$L4)+COUNTIF(HO$13:IH$13,処理!$L4)+COUNTIF(HO$16:IH$16,処理!$L4)+COUNTIF(HO$19:IH$19,処理!$L4)+COUNTIF(HO$22:IH$22,処理!$L4)+COUNTIF(HO$25:IH$25,処理!$L4))/処理!$M4,0))","v":""},"",{"$f":"$G$32","v":""},null,{"$f":"IF(LEN(HS32)=0,\"\",(COUNTIF(HO$6:IH$7,HS32)+COUNTIF(HO$10:IH$10,HS32)+COUNTIF(HO$13:IH$13,HS32)+COUNTIF(HO$16:IH$16,HS32)+COUNTIF(HO$19:IH$19,HS32)+COUNTIF(HO$22:IH$22,HS32)+COUNTIF(HO$25:IH$25,HS32))/設定!$G23+IFERROR((COUNTIF(HO$6:IH$7,処理!$L10)+COUNTIF(HO$10:IH$10,処理!$L10)+COUNTIF(HO$13:IH$13,処理!$L10)+COUNTIF(HO$16:IH$16,処理!$L10)+COUNTIF(HO$19:IH$19,処理!$L10)+COUNTIF(HO$22:IH$22,処理!$L10)+COUNTIF(HO$25:IH$25,処理!$L10))/処理!$M10,0))","v":""},"",{"$f":"$K$32","v":""},null,{"$f":"IF(LEN(HW32)=0,\"\",(COUNTIF(HO$6:IH$7,HW32)+COUNTIF(HO$10:IH$10,HW32)+COUNTIF(HO$13:IH$13,HW32)+COUNTIF(HO$16:IH$16,HW32)+COUNTIF(HO$19:IH$19,HW32)+COUNTIF(HO$22:IH$22,HW32)+COUNTIF(HO$25:IH$25,HW32))/設定!$J23+IFERROR((COUNTIF(HO$6:IH$7,処理!$L16)+COUNTIF(HO$10:IH$10,処理!$L16)+COUNTIF(HO$13:IH$13,処理!$L16)+COUNTIF(HO$16:IH$16,処理!$L16)+COUNTIF(HO$19:IH$19,処理!$L16)+COUNTIF(HO$22:IH$22,処理!$L16)+COUNTIF(HO$25:IH$25,処理!$L16))/処理!$M16,0))","v":""},"",{"$f":"$O$32","v":""},null,{"$f":"IF(LEN(IA32)=0,\"\",(COUNTIF(HO$6:IH$7,IA32)+COUNTIF(HO$10:IH$10,IA32)+COUNTIF(HO$13:IH$13,IA32)+COUNTIF(HO$16:IH$16,IA32)+COUNTIF(HO$19:IH$19,IA32)+COUNTIF(HO$22:IH$22,IA32)+COUNTIF(HO$25:IH$25,IA32))/設定!$M23+IFERROR((COUNTIF(HO$6:IH$7,処理!$L22)+COUNTIF(HO$10:IH$10,処理!$L22)+COUNTIF(HO$13:IH$13,処理!$L22)+COUNTIF(HO$16:IH$16,処理!$L22)+COUNTIF(HO$19:IH$19,処理!$L22)+COUNTIF(HO$22:IH$22,処理!$L22)+COUNTIF(HO$25:IH$25,処理!$L22))/処理!$M22,0))","v":""},"",{"$f":"$S$32","v":""},null,{"$f":"IF(LEN(IE32)=0,\"\",COUNTIF(HO$6:IH$7,IE32)+COUNTIF(HO$10:IH$10,IE32)+COUNTIF(HO$13:IH$13,IE32)+COUNTIF(HO$16:IH$16,IE32)+COUNTIF(HO$19:IH$19,IE32)+COUNTIF(HO$22:IH$22,IE32)+COUNTIF(HO$25:IH$25,IE32))","v":""},"",{"$f":"$C$32","v":""},null,{"$f":"IF(LEN(II32)=0,\"\",(COUNTIF(II$6:JB$7,II32)+COUNTIF(II$10:JB$10,II32)+COUNTIF(II$13:JB$13,II32)+COUNTIF(II$16:JB$16,II32)+COUNTIF(II$19:JB$19,II32)+COUNTIF(II$22:JB$22,II32)+COUNTIF(II$25:JB$25,II32))/設定!$D23+IFERROR((COUNTIF(II$6:JB$7,処理!$L4)+COUNTIF(II$10:JB$10,処理!$L4)+COUNTIF(II$13:JB$13,処理!$L4)+COUNTIF(II$16:JB$16,処理!$L4)+COUNTIF(II$19:JB$19,処理!$L4)+COUNTIF(II$22:JB$22,処理!$L4)+COUNTIF(II$25:JB$25,処理!$L4))/処理!$M4,0))","v":""},"",{"$f":"$G$32","v":""},null,{"$f":"IF(LEN(IM32)=0,\"\",(COUNTIF(II$6:JB$7,IM32)+COUNTIF(II$10:JB$10,IM32)+COUNTIF(II$13:JB$13,IM32)+COUNTIF(II$16:JB$16,IM32)+COUNTIF(II$19:JB$19,IM32)+COUNTIF(II$22:JB$22,IM32)+COUNTIF(II$25:JB$25,IM32))/設定!$G23+IFERROR((COUNTIF(II$6:JB$7,処理!$L10)+COUNTIF(II$10:JB$10,処理!$L10)+COUNTIF(II$13:JB$13,処理!$L10)+COUNTIF(II$16:JB$16,処理!$L10)+COUNTIF(II$19:JB$19,処理!$L10)+COUNTIF(II$22:JB$22,処理!$L10)+COUNTIF(II$25:JB$25,処理!$L10))/処理!$M10,0))","v":""},"",{"$f":"$K$32","v":""},null,{"$f":"IF(LEN(IQ32)=0,\"\",(COUNTIF(II$6:JB$7,IQ32)+COUNTIF(II$10:JB$10,IQ32)+COUNTIF(II$13:JB$13,IQ32)+COUNTIF(II$16:JB$16,IQ32)+COUNTIF(II$19:JB$19,IQ32)+COUNTIF(II$22:JB$22,IQ32)+COUNTIF(II$25:JB$25,IQ32))/設定!$J23+IFERROR((COUNTIF(II$6:JB$7,処理!$L16)+COUNTIF(II$10:JB$10,処理!$L16)+COUNTIF(II$13:JB$13,処理!$L16)+COUNTIF(II$16:JB$16,処理!$L16)+COUNTIF(II$19:JB$19,処理!$L16)+COUNTIF(II$22:JB$22,処理!$L16)+COUNTIF(II$25:JB$25,処理!$L16))/処理!$M16,0))","v":""},"",{"$f":"$O$32","v":""},null,{"$f":"IF(LEN(IU32)=0,\"\",(COUNTIF(II$6:JB$7,IU32)+COUNTIF(II$10:JB$10,IU32)+COUNTIF(II$13:JB$13,IU32)+COUNTIF(II$16:JB$16,IU32)+COUNTIF(II$19:JB$19,IU32)+COUNTIF(II$22:JB$22,IU32)+COUNTIF(II$25:JB$25,IU32))/設定!$M23+IFERROR((COUNTIF(II$6:JB$7,処理!$L22)+COUNTIF(II$10:JB$10,処理!$L22)+COUNTIF(II$13:JB$13,処理!$L22)+COUNTIF(II$16:JB$16,処理!$L22)+COUNTIF(II$19:JB$19,処理!$L22)+COUNTIF(II$22:JB$22,処理!$L22)+COUNTIF(II$25:JB$25,処理!$L22))/処理!$M22,0))","v":""},"",{"$f":"$S$32","v":""},null,{"$f":"IF(LEN(IY32)=0,\"\",COUNTIF(II$6:JB$7,IY32)+COUNTIF(II$10:JB$10,IY32)+COUNTIF(II$13:JB$13,IY32)+COUNTIF(II$16:JB$16,IY32)+COUNTIF(II$19:JB$19,IY32)+COUNTIF(II$22:JB$22,IY32)+COUNTIF(II$25:JB$25,IY32))","v":""},"",{"$f":"$C$32","v":""},null,{"$f":"IF(LEN(JC32)=0,\"\",(COUNTIF(JC$6:JV$7,JC32)+COUNTIF(JC$10:JV$10,JC32)+COUNTIF(JC$13:JV$13,JC32)+COUNTIF(JC$16:JV$16,JC32)+COUNTIF(JC$19:JV$19,JC32)+COUNTIF(JC$22:JV$22,JC32)+COUNTIF(JC$25:JV$25,JC32))/設定!$D23+IFERROR((COUNTIF(JC$6:JV$7,処理!$L4)+COUNTIF(JC$10:JV$10,処理!$L4)+COUNTIF(JC$13:JV$13,処理!$L4)+COUNTIF(JC$16:JV$16,処理!$L4)+COUNTIF(JC$19:JV$19,処理!$L4)+COUNTIF(JC$22:JV$22,処理!$L4)+COUNTIF(JC$25:JV$25,処理!$L4))/処理!$M4,0))","v":""},"",{"$f":"$G$32","v":""},null,{"$f":"IF(LEN(JG32)=0,\"\",(COUNTIF(JC$6:JV$7,JG32)+COUNTIF(JC$10:JV$10,JG32)+COUNTIF(JC$13:JV$13,JG32)+COUNTIF(JC$16:JV$16,JG32)+COUNTIF(JC$19:JV$19,JG32)+COUNTIF(JC$22:JV$22,JG32)+COUNTIF(JC$25:JV$25,JG32))/設定!$G23+IFERROR((COUNTIF(JC$6:JV$7,処理!$L10)+COUNTIF(JC$10:JV$10,処理!$L10)+COUNTIF(JC$13:JV$13,処理!$L10)+COUNTIF(JC$16:JV$16,処理!$L10)+COUNTIF(JC$19:JV$19,処理!$L10)+COUNTIF(JC$22:JV$22,処理!$L10)+COUNTIF(JC$25:JV$25,処理!$L10))/処理!$M10,0))","v":""},"",{"$f":"$K$32","v":""},null,{"$f":"IF(LEN(JK32)=0,\"\",(COUNTIF(JC$6:JV$7,JK32)+COUNTIF(JC$10:JV$10,JK32)+COUNTIF(JC$13:JV$13,JK32)+COUNTIF(JC$16:JV$16,JK32)+COUNTIF(JC$19:JV$19,JK32)+COUNTIF(JC$22:JV$22,JK32)+COUNTIF(JC$25:JV$25,JK32))/設定!$J23+IFERROR((COUNTIF(JC$6:JV$7,処理!$L16)+COUNTIF(JC$10:JV$10,処理!$L16)+COUNTIF(JC$13:JV$13,処理!$L16)+COUNTIF(JC$16:JV$16,処理!$L16)+COUNTIF(JC$19:JV$19,処理!$L16)+COUNTIF(JC$22:JV$22,処理!$L16)+COUNTIF(JC$25:JV$25,処理!$L16))/処理!$M16,0))","v":""},"",{"$f":"$O$32","v":""},null,{"$f":"IF(LEN(JO32)=0,\"\",(COUNTIF(JC$6:JV$7,JO32)+COUNTIF(JC$10:JV$10,JO32)+COUNTIF(JC$13:JV$13,JO32)+COUNTIF(JC$16:JV$16,JO32)+COUNTIF(JC$19:JV$19,JO32)+COUNTIF(JC$22:JV$22,JO32)+COUNTIF(JC$25:JV$25,JO32))/設定!$M23+IFERROR((COUNTIF(JC$6:JV$7,処理!$L22)+COUNTIF(JC$10:JV$10,処理!$L22)+COUNTIF(JC$13:JV$13,処理!$L22)+COUNTIF(JC$16:JV$16,処理!$L22)+COUNTIF(JC$19:JV$19,処理!$L22)+COUNTIF(JC$22:JV$22,処理!$L22)+COUNTIF(JC$25:JV$25,処理!$L22))/処理!$M22,0))","v":""},"",{"$f":"$S$32","v":""},null,{"$f":"IF(LEN(JS32)=0,\"\",COUNTIF(JC$6:JV$7,JS32)+COUNTIF(JC$10:JV$10,JS32)+COUNTIF(JC$13:JV$13,JS32)+COUNTIF(JC$16:JV$16,JS32)+COUNTIF(JC$19:JV$19,JS32)+COUNTIF(JC$22:JV$22,JS32)+COUNTIF(JC$25:JV$25,JS32))","v":""},"",{"$f":"$C$32","v":""},null,{"$f":"IF(LEN(JW32)=0,\"\",(COUNTIF(JW$6:KP$7,JW32)+COUNTIF(JW$10:KP$10,JW32)+COUNTIF(JW$13:KP$13,JW32)+COUNTIF(JW$16:KP$16,JW32)+COUNTIF(JW$19:KP$19,JW32)+COUNTIF(JW$22:KP$22,JW32)+COUNTIF(JW$25:KP$25,JW32))/設定!$D23+IFERROR((COUNTIF(JW$6:KP$7,処理!$L4)+COUNTIF(JW$10:KP$10,処理!$L4)+COUNTIF(JW$13:KP$13,処理!$L4)+COUNTIF(JW$16:KP$16,処理!$L4)+COUNTIF(JW$19:KP$19,処理!$L4)+COUNTIF(JW$22:KP$22,処理!$L4)+COUNTIF(JW$25:KP$25,処理!$L4))/処理!$M4,0))","v":""},"",{"$f":"$G$32","v":""},null,{"$f":"IF(LEN(KA32)=0,\"\",(COUNTIF(JW$6:KP$7,KA32)+COUNTIF(JW$10:KP$10,KA32)+COUNTIF(JW$13:KP$13,KA32)+COUNTIF(JW$16:KP$16,KA32)+COUNTIF(JW$19:KP$19,KA32)+COUNTIF(JW$22:KP$22,KA32)+COUNTIF(JW$25:KP$25,KA32))/設定!$G23+IFERROR((COUNTIF(JW$6:KP$7,処理!$L10)+COUNTIF(JW$10:KP$10,処理!$L10)+COUNTIF(JW$13:KP$13,処理!$L10)+COUNTIF(JW$16:KP$16,処理!$L10)+COUNTIF(JW$19:KP$19,処理!$L10)+COUNTIF(JW$22:KP$22,処理!$L10)+COUNTIF(JW$25:KP$25,処理!$L10))/処理!$M10,0))","v":""},"",{"$f":"$K$32","v":""},null,{"$f":"IF(LEN(KE32)=0,\"\",(COUNTIF(JW$6:KP$7,KE32)+COUNTIF(JW$10:KP$10,KE32)+COUNTIF(JW$13:KP$13,KE32)+COUNTIF(JW$16:KP$16,KE32)+COUNTIF(JW$19:KP$19,KE32)+COUNTIF(JW$22:KP$22,KE32)+COUNTIF(JW$25:KP$25,KE32))/設定!$J23+IFERROR((COUNTIF(JW$6:KP$7,処理!$L16)+COUNTIF(JW$10:KP$10,処理!$L16)+COUNTIF(JW$13:KP$13,処理!$L16)+COUNTIF(JW$16:KP$16,処理!$L16)+COUNTIF(JW$19:KP$19,処理!$L16)+COUNTIF(JW$22:KP$22,処理!$L16)+COUNTIF(JW$25:KP$25,処理!$L16))/処理!$M16,0))","v":""},"",{"$f":"$O$32","v":""},null,{"$f":"IF(LEN(KI32)=0,\"\",(COUNTIF(JW$6:KP$7,KI32)+COUNTIF(JW$10:KP$10,KI32)+COUNTIF(JW$13:KP$13,KI32)+COUNTIF(JW$16:KP$16,KI32)+COUNTIF(JW$19:KP$19,KI32)+COUNTIF(JW$22:KP$22,KI32)+COUNTIF(JW$25:KP$25,KI32))/設定!$M23+IFERROR((COUNTIF(JW$6:KP$7,処理!$L22)+COUNTIF(JW$10:KP$10,処理!$L22)+COUNTIF(JW$13:KP$13,処理!$L22)+COUNTIF(JW$16:KP$16,処理!$L22)+COUNTIF(JW$19:KP$19,処理!$L22)+COUNTIF(JW$22:KP$22,処理!$L22)+COUNTIF(JW$25:KP$25,処理!$L22))/処理!$M22,0))","v":""},"",{"$f":"$S$32","v":""},null,{"$f":"IF(LEN(KM32)=0,\"\",COUNTIF(JW$6:KP$7,KM32)+COUNTIF(JW$10:KP$10,KM32)+COUNTIF(JW$13:KP$13,KM32)+COUNTIF(JW$16:KP$16,KM32)+COUNTIF(JW$19:KP$19,KM32)+COUNTIF(JW$22:KP$22,KM32)+COUNTIF(JW$25:KP$25,KM32))","v":""},"",{"$f":"$C$32","v":""},null,{"$f":"IF(LEN(KQ32)=0,\"\",(COUNTIF(KQ$6:LJ$7,KQ32)+COUNTIF(KQ$10:LJ$10,KQ32)+COUNTIF(KQ$13:LJ$13,KQ32)+COUNTIF(KQ$16:LJ$16,KQ32)+COUNTIF(KQ$19:LJ$19,KQ32)+COUNTIF(KQ$22:LJ$22,KQ32)+COUNTIF(KQ$25:LJ$25,KQ32))/設定!$D23+IFERROR((COUNTIF(KQ$6:LJ$7,処理!$L4)+COUNTIF(KQ$10:LJ$10,処理!$L4)+COUNTIF(KQ$13:LJ$13,処理!$L4)+COUNTIF(KQ$16:LJ$16,処理!$L4)+COUNTIF(KQ$19:LJ$19,処理!$L4)+COUNTIF(KQ$22:LJ$22,処理!$L4)+COUNTIF(KQ$25:LJ$25,処理!$L4))/処理!$M4,0))","v":""},"",{"$f":"$G$32","v":""},null,{"$f":"IF(LEN(KU32)=0,\"\",(COUNTIF(KQ$6:LJ$7,KU32)+COUNTIF(KQ$10:LJ$10,KU32)+COUNTIF(KQ$13:LJ$13,KU32)+COUNTIF(KQ$16:LJ$16,KU32)+COUNTIF(KQ$19:LJ$19,KU32)+COUNTIF(KQ$22:LJ$22,KU32)+COUNTIF(KQ$25:LJ$25,KU32))/設定!$G23+IFERROR((COUNTIF(KQ$6:LJ$7,処理!$L10)+COUNTIF(KQ$10:LJ$10,処理!$L10)+COUNTIF(KQ$13:LJ$13,処理!$L10)+COUNTIF(KQ$16:LJ$16,処理!$L10)+COUNTIF(KQ$19:LJ$19,処理!$L10)+COUNTIF(KQ$22:LJ$22,処理!$L10)+COUNTIF(KQ$25:LJ$25,処理!$L10))/処理!$M10,0))","v":""},"",{"$f":"$K$32","v":""},null,{"$f":"IF(LEN(KY32)=0,\"\",(COUNTIF(KQ$6:LJ$7,KY32)+COUNTIF(KQ$10:LJ$10,KY32)+COUNTIF(KQ$13:LJ$13,KY32)+COUNTIF(KQ$16:LJ$16,KY32)+COUNTIF(KQ$19:LJ$19,KY32)+COUNTIF(KQ$22:LJ$22,KY32)+COUNTIF(KQ$25:LJ$25,KY32))/設定!$J23+IFERROR((COUNTIF(KQ$6:LJ$7,処理!$L16)+COUNTIF(KQ$10:LJ$10,処理!$L16)+COUNTIF(KQ$13:LJ$13,処理!$L16)+COUNTIF(KQ$16:LJ$16,処理!$L16)+COUNTIF(KQ$19:LJ$19,処理!$L16)+COUNTIF(KQ$22:LJ$22,処理!$L16)+COUNTIF(KQ$25:LJ$25,処理!$L16))/処理!$M16,0))","v":""},"",{"$f":"$O$32","v":""},null,{"$f":"IF(LEN(LC32)=0,\"\",(COUNTIF(KQ$6:LJ$7,LC32)+COUNTIF(KQ$10:LJ$10,LC32)+COUNTIF(KQ$13:LJ$13,LC32)+COUNTIF(KQ$16:LJ$16,LC32)+COUNTIF(KQ$19:LJ$19,LC32)+COUNTIF(KQ$22:LJ$22,LC32)+COUNTIF(KQ$25:LJ$25,LC32))/設定!$M23+IFERROR((COUNTIF(KQ$6:LJ$7,処理!$L22)+COUNTIF(KQ$10:LJ$10,処理!$L22)+COUNTIF(KQ$13:LJ$13,処理!$L22)+COUNTIF(KQ$16:LJ$16,処理!$L22)+COUNTIF(KQ$19:LJ$19,処理!$L22)+COUNTIF(KQ$22:LJ$22,処理!$L22)+COUNTIF(KQ$25:LJ$25,処理!$L22))/処理!$M22,0))","v":""},"",{"$f":"$S$32","v":""},null,{"$f":"IF(LEN(LG32)=0,\"\",COUNTIF(KQ$6:LJ$7,LG32)+COUNTIF(KQ$10:LJ$10,LG32)+COUNTIF(KQ$13:LJ$13,LG32)+COUNTIF(KQ$16:LJ$16,LG32)+COUNTIF(KQ$19:LJ$19,LG32)+COUNTIF(KQ$22:LJ$22,LG32)+COUNTIF(KQ$25:LJ$25,LG32))","v":""},"",{"$f":"$C$32","v":""},null,{"$f":"IF(LEN(LK32)=0,\"\",(COUNTIF(LK$6:MD$7,LK32)+COUNTIF(LK$10:MD$10,LK32)+COUNTIF(LK$13:MD$13,LK32)+COUNTIF(LK$16:MD$16,LK32)+COUNTIF(LK$19:MD$19,LK32)+COUNTIF(LK$22:MD$22,LK32)+COUNTIF(LK$25:MD$25,LK32))/設定!$D23+IFERROR((COUNTIF(LK$6:MD$7,処理!$L4)+COUNTIF(LK$10:MD$10,処理!$L4)+COUNTIF(LK$13:MD$13,処理!$L4)+COUNTIF(LK$16:MD$16,処理!$L4)+COUNTIF(LK$19:MD$19,処理!$L4)+COUNTIF(LK$22:MD$22,処理!$L4)+COUNTIF(LK$25:MD$25,処理!$L4))/処理!$M4,0))","v":""},"",{"$f":"$G$32","v":""},null,{"$f":"IF(LEN(LO32)=0,\"\",(COUNTIF(LK$6:MD$7,LO32)+COUNTIF(LK$10:MD$10,LO32)+COUNTIF(LK$13:MD$13,LO32)+COUNTIF(LK$16:MD$16,LO32)+COUNTIF(LK$19:MD$19,LO32)+COUNTIF(LK$22:MD$22,LO32)+COUNTIF(LK$25:MD$25,LO32))/設定!$G23+IFERROR((COUNTIF(LK$6:MD$7,処理!$L10)+COUNTIF(LK$10:MD$10,処理!$L10)+COUNTIF(LK$13:MD$13,処理!$L10)+COUNTIF(LK$16:MD$16,処理!$L10)+COUNTIF(LK$19:MD$19,処理!$L10)+COUNTIF(LK$22:MD$22,処理!$L10)+COUNTIF(LK$25:MD$25,処理!$L10))/処理!$M10,0))","v":""},"",{"$f":"$K$32","v":""},null,{"$f":"IF(LEN(LS32)=0,\"\",(COUNTIF(LK$6:MD$7,LS32)+COUNTIF(LK$10:MD$10,LS32)+COUNTIF(LK$13:MD$13,LS32)+COUNTIF(LK$16:MD$16,LS32)+COUNTIF(LK$19:MD$19,LS32)+COUNTIF(LK$22:MD$22,LS32)+COUNTIF(LK$25:MD$25,LS32))/設定!$J23+IFERROR((COUNTIF(LK$6:MD$7,処理!$L16)+COUNTIF(LK$10:MD$10,処理!$L16)+COUNTIF(LK$13:MD$13,処理!$L16)+COUNTIF(LK$16:MD$16,処理!$L16)+COUNTIF(LK$19:MD$19,処理!$L16)+COUNTIF(LK$22:MD$22,処理!$L16)+COUNTIF(LK$25:MD$25,処理!$L16))/処理!$M16,0))","v":""},"",{"$f":"$O$32","v":""},null,{"$f":"IF(LEN(LW32)=0,\"\",(COUNTIF(LK$6:MD$7,LW32)+COUNTIF(LK$10:MD$10,LW32)+COUNTIF(LK$13:MD$13,LW32)+COUNTIF(LK$16:MD$16,LW32)+COUNTIF(LK$19:MD$19,LW32)+COUNTIF(LK$22:MD$22,LW32)+COUNTIF(LK$25:MD$25,LW32))/設定!$M23+IFERROR((COUNTIF(LK$6:MD$7,処理!$L22)+COUNTIF(LK$10:MD$10,処理!$L22)+COUNTIF(LK$13:MD$13,処理!$L22)+COUNTIF(LK$16:MD$16,処理!$L22)+COUNTIF(LK$19:MD$19,処理!$L22)+COUNTIF(LK$22:MD$22,処理!$L22)+COUNTIF(LK$25:MD$25,処理!$L22))/処理!$M22,0))","v":""},"",{"$f":"$S$32","v":""},null,{"$f":"IF(LEN(MA32)=0,\"\",COUNTIF(LK$6:MD$7,MA32)+COUNTIF(LK$10:MD$10,MA32)+COUNTIF(LK$13:MD$13,MA32)+COUNTIF(LK$16:MD$16,MA32)+COUNTIF(LK$19:MD$19,MA32)+COUNTIF(LK$22:MD$22,MA32)+COUNTIF(LK$25:MD$25,MA32))","v":""},"",{"$f":"$C$32","v":""},null,{"$f":"IF(LEN(ME32)=0,\"\",(COUNTIF(ME$6:MX$7,ME32)+COUNTIF(ME$10:MX$10,ME32)+COUNTIF(ME$13:MX$13,ME32)+COUNTIF(ME$16:MX$16,ME32)+COUNTIF(ME$19:MX$19,ME32)+COUNTIF(ME$22:MX$22,ME32)+COUNTIF(ME$25:MX$25,ME32))/設定!$D23+IFERROR((COUNTIF(ME$6:MX$7,処理!$L4)+COUNTIF(ME$10:MX$10,処理!$L4)+COUNTIF(ME$13:MX$13,処理!$L4)+COUNTIF(ME$16:MX$16,処理!$L4)+COUNTIF(ME$19:MX$19,処理!$L4)+COUNTIF(ME$22:MX$22,処理!$L4)+COUNTIF(ME$25:MX$25,処理!$L4))/処理!$M4,0))","v":""},"",{"$f":"$G$32","v":""},null,{"$f":"IF(LEN(MI32)=0,\"\",(COUNTIF(ME$6:MX$7,MI32)+COUNTIF(ME$10:MX$10,MI32)+COUNTIF(ME$13:MX$13,MI32)+COUNTIF(ME$16:MX$16,MI32)+COUNTIF(ME$19:MX$19,MI32)+COUNTIF(ME$22:MX$22,MI32)+COUNTIF(ME$25:MX$25,MI32))/設定!$G23+IFERROR((COUNTIF(ME$6:MX$7,処理!$L10)+COUNTIF(ME$10:MX$10,処理!$L10)+COUNTIF(ME$13:MX$13,処理!$L10)+COUNTIF(ME$16:MX$16,処理!$L10)+COUNTIF(ME$19:MX$19,処理!$L10)+COUNTIF(ME$22:MX$22,処理!$L10)+COUNTIF(ME$25:MX$25,処理!$L10))/処理!$M10,0))","v":""},"",{"$f":"$K$32","v":""},null,{"$f":"IF(LEN(MM32)=0,\"\",(COUNTIF(ME$6:MX$7,MM32)+COUNTIF(ME$10:MX$10,MM32)+COUNTIF(ME$13:MX$13,MM32)+COUNTIF(ME$16:MX$16,MM32)+COUNTIF(ME$19:MX$19,MM32)+COUNTIF(ME$22:MX$22,MM32)+COUNTIF(ME$25:MX$25,MM32))/設定!$J23+IFERROR((COUNTIF(ME$6:MX$7,処理!$L16)+COUNTIF(ME$10:MX$10,処理!$L16)+COUNTIF(ME$13:MX$13,処理!$L16)+COUNTIF(ME$16:MX$16,処理!$L16)+COUNTIF(ME$19:MX$19,処理!$L16)+COUNTIF(ME$22:MX$22,処理!$L16)+COUNTIF(ME$25:MX$25,処理!$L16))/処理!$M16,0))","v":""},"",{"$f":"$O$32","v":""},null,{"$f":"IF(LEN(MQ32)=0,\"\",(COUNTIF(ME$6:MX$7,MQ32)+COUNTIF(ME$10:MX$10,MQ32)+COUNTIF(ME$13:MX$13,MQ32)+COUNTIF(ME$16:MX$16,MQ32)+COUNTIF(ME$19:MX$19,MQ32)+COUNTIF(ME$22:MX$22,MQ32)+COUNTIF(ME$25:MX$25,MQ32))/設定!$M23+IFERROR((COUNTIF(ME$6:MX$7,処理!$L22)+COUNTIF(ME$10:MX$10,処理!$L22)+COUNTIF(ME$13:MX$13,処理!$L22)+COUNTIF(ME$16:MX$16,処理!$L22)+COUNTIF(ME$19:MX$19,処理!$L22)+COUNTIF(ME$22:MX$22,処理!$L22)+COUNTIF(ME$25:MX$25,処理!$L22))/処理!$M22,0))","v":""},"",{"$f":"$S$32","v":""},null,{"$f":"IF(LEN(MU32)=0,\"\",COUNTIF(ME$6:MX$7,MU32)+COUNTIF(ME$10:MX$10,MU32)+COUNTIF(ME$13:MX$13,MU32)+COUNTIF(ME$16:MX$16,MU32)+COUNTIF(ME$19:MX$19,MU32)+COUNTIF(ME$22:MX$22,MU32)+COUNTIF(ME$25:MX$25,MU32))","v":""},""]
[null,null,{"$f":"IF(COUNTIF(処理!$J$2:$J$25,3)>0,処理!H5,\"\")","v":""},null,{"$f":"IF(LEN(C33)=0,\"\",(COUNTIF(C$6:V$7,C33)+COUNTIF(C$10:V$10,C33)+COUNTIF(C$13:V$13,C33)+COUNTIF(C$16:V$16,C33)+COUNTIF(C$19:V$19,C33)+COUNTIF(C$22:V$22,C33)+COUNTIF(C$25:V$25,C33))/設定!$D24+IFERROR((COUNTIF(C$6:V$7,処理!$L5)+COUNTIF(C$10:V$10,処理!$L5)+COUNTIF(C$13:V$13,処理!$L5)+COUNTIF(C$16:V$16,処理!$L5)+COUNTIF(C$19:V$19,処理!$L5)+COUNTIF(C$22:V$22,処理!$L5)+COUNTIF(C$25:V$25,処理!$L5))/処理!$M5,0))","v":""},"",{"$f":"IF(COUNTIF(処理!$J$2:$J$25,9)>0,処理!H11,\"\")","v":""},null,{"$f":"IF(LEN(G33)=0,\"\",(COUNTIF(C$6:V$7,G33)+COUNTIF(C$10:V$10,G33)+COUNTIF(C$13:V$13,G33)+COUNTIF(C$16:V$16,G33)+COUNTIF(C$19:V$19,G33)+COUNTIF(C$22:V$22,G33)+COUNTIF(C$25:V$25,G33))/設定!$G24+IFERROR((COUNTIF(C$6:V$7,処理!$L11)+COUNTIF(C$10:V$10,処理!$L11)+COUNTIF(C$13:V$13,処理!$L11)+COUNTIF(C$16:V$16,処理!$L11)+COUNTIF(C$19:V$19,処理!$L11)+COUNTIF(C$22:V$22,処理!$L11)+COUNTIF(C$25:V$25,処理!$L11))/処理!$M11,0))","v":""},"",{"$f":"IF(COUNTIF(処理!$J$2:$J$25,15)>0,処理!H17,\"\")","v":""},null,{"$f":"IF(LEN(K33)=0,\"\",(COUNTIF(C$6:V$7,K33)+COUNTIF(C$10:V$10,K33)+COUNTIF(C$13:V$13,K33)+COUNTIF(C$16:V$16,K33)+COUNTIF(C$19:V$19,K33)+COUNTIF(C$22:V$22,K33)+COUNTIF(C$25:V$25,K33))/設定!$J24+IFERROR((COUNTIF(C$6:V$7,処理!$L17)+COUNTIF(C$10:V$10,処理!$L17)+COUNTIF(C$13:V$13,処理!$L17)+COUNTIF(C$16:V$16,処理!$L17)+COUNTIF(C$19:V$19,処理!$L17)+COUNTIF(C$22:V$22,処理!$L17)+COUNTIF(C$25:V$25,処理!$L17))/処理!$M17,0))","v":""},"",{"$f":"IF(COUNTIF(処理!$J$2:$J$25,21)>0,処理!H23,\"\")","v":""},null,{"$f":"IF(LEN(O33)=0,\"\",(COUNTIF(C$6:V$7,O33)+COUNTIF(C$10:V$10,O33)+COUNTIF(C$13:V$13,O33)+COUNTIF(C$16:V$16,O33)+COUNTIF(C$19:V$19,O33)+COUNTIF(C$22:V$22,O33)+COUNTIF(C$25:V$25,O33))/設定!$M24+IFERROR((COUNTIF(C$6:V$7,処理!$L23)+COUNTIF(C$10:V$10,処理!$L23)+COUNTIF(C$13:V$13,処理!$L23)+COUNTIF(C$16:V$16,処理!$L23)+COUNTIF(C$19:V$19,処理!$L23)+COUNTIF(C$22:V$22,処理!$L23)+COUNTIF(C$25:V$25,処理!$L23))/処理!$M23,0))","v":""},"",{"$f":"処理!H29&\"\"","v":""},null,"","",{"$f":"$C$33","v":""},null,{"$f":"IF(LEN(W33)=0,\"\",(COUNTIF(W$6:AP$7,W33)+COUNTIF(W$10:AP$10,W33)+COUNTIF(W$13:AP$13,W33)+COUNTIF(W$16:AP$16,W33)+COUNTIF(W$19:AP$19,W33)+COUNTIF(W$22:AP$22,W33)+COUNTIF(W$25:AP$25,W33))/設定!$D24+IFERROR((COUNTIF(W$6:AP$7,処理!$L5)+COUNTIF(W$10:AP$10,処理!$L5)+COUNTIF(W$13:AP$13,処理!$L5)+COUNTIF(W$16:AP$16,処理!$L5)+COUNTIF(W$19:AP$19,処理!$L5)+COUNTIF(W$22:AP$22,処理!$L5)+COUNTIF(W$25:AP$25,処理!$L5))/処理!$M5,0))","v":""},"",{"$f":"$G$33","v":""},null,{"$f":"IF(LEN(AA33)=0,\"\",(COUNTIF(W$6:AP$7,AA33)+COUNTIF(W$10:AP$10,AA33)+COUNTIF(W$13:AP$13,AA33)+COUNTIF(W$16:AP$16,AA33)+COUNTIF(W$19:AP$19,AA33)+COUNTIF(W$22:AP$22,AA33)+COUNTIF(W$25:AP$25,AA33))/設定!$G24+IFERROR((COUNTIF(W$6:AP$7,処理!$L11)+COUNTIF(W$10:AP$10,処理!$L11)+COUNTIF(W$13:AP$13,処理!$L11)+COUNTIF(W$16:AP$16,処理!$L11)+COUNTIF(W$19:AP$19,処理!$L11)+COUNTIF(W$22:AP$22,処理!$L11)+COUNTIF(W$25:AP$25,処理!$L11))/処理!$M11,0))","v":""},"",{"$f":"$K$33","v":""},null,{"$f":"IF(LEN(AE33)=0,\"\",(COUNTIF(W$6:AP$7,AE33)+COUNTIF(W$10:AP$10,AE33)+COUNTIF(W$13:AP$13,AE33)+COUNTIF(W$16:AP$16,AE33)+COUNTIF(W$19:AP$19,AE33)+COUNTIF(W$22:AP$22,AE33)+COUNTIF(W$25:AP$25,AE33))/設定!$J24+IFERROR((COUNTIF(W$6:AP$7,処理!$L17)+COUNTIF(W$10:AP$10,処理!$L17)+COUNTIF(W$13:AP$13,処理!$L17)+COUNTIF(W$16:AP$16,処理!$L17)+COUNTIF(W$19:AP$19,処理!$L17)+COUNTIF(W$22:AP$22,処理!$L17)+COUNTIF(W$25:AP$25,処理!$L17))/処理!$M17,0))","v":""},"",{"$f":"$O$33","v":""},null,{"$f":"IF(LEN(AI33)=0,\"\",(COUNTIF(W$6:AP$7,AI33)+COUNTIF(W$10:AP$10,AI33)+COUNTIF(W$13:AP$13,AI33)+COUNTIF(W$16:AP$16,AI33)+COUNTIF(W$19:AP$19,AI33)+COUNTIF(W$22:AP$22,AI33)+COUNTIF(W$25:AP$25,AI33))/設定!$M24+IFERROR((COUNTIF(W$6:AP$7,処理!$L23)+COUNTIF(W$10:AP$10,処理!$L23)+COUNTIF(W$13:AP$13,処理!$L23)+COUNTIF(W$16:AP$16,処理!$L23)+COUNTIF(W$19:AP$19,処理!$L23)+COUNTIF(W$22:AP$22,処理!$L23)+COUNTIF(W$25:AP$25,処理!$L23))/処理!$M23,0))","v":""},"",{"$f":"$S$33","v":""},null,"","",{"$f":"$C$33","v":""},null,{"$f":"IF(LEN(AQ33)=0,\"\",(COUNTIF(AQ$6:BJ$7,AQ33)+COUNTIF(AQ$10:BJ$10,AQ33)+COUNTIF(AQ$13:BJ$13,AQ33)+COUNTIF(AQ$16:BJ$16,AQ33)+COUNTIF(AQ$19:BJ$19,AQ33)+COUNTIF(AQ$22:BJ$22,AQ33)+COUNTIF(AQ$25:BJ$25,AQ33))/設定!$D24+IFERROR((COUNTIF(AQ$6:BJ$7,処理!$L5)+COUNTIF(AQ$10:BJ$10,処理!$L5)+COUNTIF(AQ$13:BJ$13,処理!$L5)+COUNTIF(AQ$16:BJ$16,処理!$L5)+COUNTIF(AQ$19:BJ$19,処理!$L5)+COUNTIF(AQ$22:BJ$22,処理!$L5)+COUNTIF(AQ$25:BJ$25,処理!$L5))/処理!$M5,0))","v":""},"",{"$f":"$G$33","v":""},null,{"$f":"IF(LEN(AU33)=0,\"\",(COUNTIF(AQ$6:BJ$7,AU33)+COUNTIF(AQ$10:BJ$10,AU33)+COUNTIF(AQ$13:BJ$13,AU33)+COUNTIF(AQ$16:BJ$16,AU33)+COUNTIF(AQ$19:BJ$19,AU33)+COUNTIF(AQ$22:BJ$22,AU33)+COUNTIF(AQ$25:BJ$25,AU33))/設定!$G24+IFERROR((COUNTIF(AQ$6:BJ$7,処理!$L11)+COUNTIF(AQ$10:BJ$10,処理!$L11)+COUNTIF(AQ$13:BJ$13,処理!$L11)+COUNTIF(AQ$16:BJ$16,処理!$L11)+COUNTIF(AQ$19:BJ$19,処理!$L11)+COUNTIF(AQ$22:BJ$22,処理!$L11)+COUNTIF(AQ$25:BJ$25,処理!$L11))/処理!$M11,0))","v":""},"",{"$f":"$K$33","v":""},null,{"$f":"IF(LEN(AY33)=0,\"\",(COUNTIF(AQ$6:BJ$7,AY33)+COUNTIF(AQ$10:BJ$10,AY33)+COUNTIF(AQ$13:BJ$13,AY33)+COUNTIF(AQ$16:BJ$16,AY33)+COUNTIF(AQ$19:BJ$19,AY33)+COUNTIF(AQ$22:BJ$22,AY33)+COUNTIF(AQ$25:BJ$25,AY33))/設定!$J24+IFERROR((COUNTIF(AQ$6:BJ$7,処理!$L17)+COUNTIF(AQ$10:BJ$10,処理!$L17)+COUNTIF(AQ$13:BJ$13,処理!$L17)+COUNTIF(AQ$16:BJ$16,処理!$L17)+COUNTIF(AQ$19:BJ$19,処理!$L17)+COUNTIF(AQ$22:BJ$22,処理!$L17)+COUNTIF(AQ$25:BJ$25,処理!$L17))/処理!$M17,0))","v":""},"",{"$f":"$O$33","v":""},null,{"$f":"IF(LEN(BC33)=0,\"\",(COUNTIF(AQ$6:BJ$7,BC33)+COUNTIF(AQ$10:BJ$10,BC33)+COUNTIF(AQ$13:BJ$13,BC33)+COUNTIF(AQ$16:BJ$16,BC33)+COUNTIF(AQ$19:BJ$19,BC33)+COUNTIF(AQ$22:BJ$22,BC33)+COUNTIF(AQ$25:BJ$25,BC33))/設定!$M24+IFERROR((COUNTIF(AQ$6:BJ$7,処理!$L23)+COUNTIF(AQ$10:BJ$10,処理!$L23)+COUNTIF(AQ$13:BJ$13,処理!$L23)+COUNTIF(AQ$16:BJ$16,処理!$L23)+COUNTIF(AQ$19:BJ$19,処理!$L23)+COUNTIF(AQ$22:BJ$22,処理!$L23)+COUNTIF(AQ$25:BJ$25,処理!$L23))/処理!$M23,0))","v":""},"",{"$f":"$S$33","v":""},null,"","",{"$f":"$C$33","v":""},null,{"$f":"IF(LEN(BK33)=0,\"\",(COUNTIF(BK$6:CD$7,BK33)+COUNTIF(BK$10:CD$10,BK33)+COUNTIF(BK$13:CD$13,BK33)+COUNTIF(BK$16:CD$16,BK33)+COUNTIF(BK$19:CD$19,BK33)+COUNTIF(BK$22:CD$22,BK33)+COUNTIF(BK$25:CD$25,BK33))/設定!$D24+IFERROR((COUNTIF(BK$6:CD$7,処理!$L5)+COUNTIF(BK$10:CD$10,処理!$L5)+COUNTIF(BK$13:CD$13,処理!$L5)+COUNTIF(BK$16:CD$16,処理!$L5)+COUNTIF(BK$19:CD$19,処理!$L5)+COUNTIF(BK$22:CD$22,処理!$L5)+COUNTIF(BK$25:CD$25,処理!$L5))/処理!$M5,0))","v":""},"",{"$f":"$G$33","v":""},null,{"$f":"IF(LEN(BO33)=0,\"\",(COUNTIF(BK$6:CD$7,BO33)+COUNTIF(BK$10:CD$10,BO33)+COUNTIF(BK$13:CD$13,BO33)+COUNTIF(BK$16:CD$16,BO33)+COUNTIF(BK$19:CD$19,BO33)+COUNTIF(BK$22:CD$22,BO33)+COUNTIF(BK$25:CD$25,BO33))/設定!$G24+IFERROR((COUNTIF(BK$6:CD$7,処理!$L11)+COUNTIF(BK$10:CD$10,処理!$L11)+COUNTIF(BK$13:CD$13,処理!$L11)+COUNTIF(BK$16:CD$16,処理!$L11)+COUNTIF(BK$19:CD$19,処理!$L11)+COUNTIF(BK$22:CD$22,処理!$L11)+COUNTIF(BK$25:CD$25,処理!$L11))/処理!$M11,0))","v":""},"",{"$f":"$K$33","v":""},null,{"$f":"IF(LEN(BS33)=0,\"\",(COUNTIF(BK$6:CD$7,BS33)+COUNTIF(BK$10:CD$10,BS33)+COUNTIF(BK$13:CD$13,BS33)+COUNTIF(BK$16:CD$16,BS33)+COUNTIF(BK$19:CD$19,BS33)+COUNTIF(BK$22:CD$22,BS33)+COUNTIF(BK$25:CD$25,BS33))/設定!$J24+IFERROR((COUNTIF(BK$6:CD$7,処理!$L17)+COUNTIF(BK$10:CD$10,処理!$L17)+COUNTIF(BK$13:CD$13,処理!$L17)+COUNTIF(BK$16:CD$16,処理!$L17)+COUNTIF(BK$19:CD$19,処理!$L17)+COUNTIF(BK$22:CD$22,処理!$L17)+COUNTIF(BK$25:CD$25,処理!$L17))/処理!$M17,0))","v":""},"",{"$f":"$O$33","v":""},null,{"$f":"IF(LEN(BW33)=0,\"\",(COUNTIF(BK$6:CD$7,BW33)+COUNTIF(BK$10:CD$10,BW33)+COUNTIF(BK$13:CD$13,BW33)+COUNTIF(BK$16:CD$16,BW33)+COUNTIF(BK$19:CD$19,BW33)+COUNTIF(BK$22:CD$22,BW33)+COUNTIF(BK$25:CD$25,BW33))/設定!$M24+IFERROR((COUNTIF(BK$6:CD$7,処理!$L23)+COUNTIF(BK$10:CD$10,処理!$L23)+COUNTIF(BK$13:CD$13,処理!$L23)+COUNTIF(BK$16:CD$16,処理!$L23)+COUNTIF(BK$19:CD$19,処理!$L23)+COUNTIF(BK$22:CD$22,処理!$L23)+COUNTIF(BK$25:CD$25,処理!$L23))/処理!$M23,0))","v":""},"",{"$f":"$S$33","v":""},null,"","",{"$f":"$C$33","v":""},null,{"$f":"IF(LEN(CE33)=0,\"\",(COUNTIF(CE$6:CX$7,CE33)+COUNTIF(CE$10:CX$10,CE33)+COUNTIF(CE$13:CX$13,CE33)+COUNTIF(CE$16:CX$16,CE33)+COUNTIF(CE$19:CX$19,CE33)+COUNTIF(CE$22:CX$22,CE33)+COUNTIF(CE$25:CX$25,CE33))/設定!$D24+IFERROR((COUNTIF(CE$6:CX$7,処理!$L5)+COUNTIF(CE$10:CX$10,処理!$L5)+COUNTIF(CE$13:CX$13,処理!$L5)+COUNTIF(CE$16:CX$16,処理!$L5)+COUNTIF(CE$19:CX$19,処理!$L5)+COUNTIF(CE$22:CX$22,処理!$L5)+COUNTIF(CE$25:CX$25,処理!$L5))/処理!$M5,0))","v":""},"",{"$f":"$G$33","v":""},null,{"$f":"IF(LEN(CI33)=0,\"\",(COUNTIF(CE$6:CX$7,CI33)+COUNTIF(CE$10:CX$10,CI33)+COUNTIF(CE$13:CX$13,CI33)+COUNTIF(CE$16:CX$16,CI33)+COUNTIF(CE$19:CX$19,CI33)+COUNTIF(CE$22:CX$22,CI33)+COUNTIF(CE$25:CX$25,CI33))/設定!$G24+IFERROR((COUNTIF(CE$6:CX$7,処理!$L11)+COUNTIF(CE$10:CX$10,処理!$L11)+COUNTIF(CE$13:CX$13,処理!$L11)+COUNTIF(CE$16:CX$16,処理!$L11)+COUNTIF(CE$19:CX$19,処理!$L11)+COUNTIF(CE$22:CX$22,処理!$L11)+COUNTIF(CE$25:CX$25,処理!$L11))/処理!$M11,0))","v":""},"",{"$f":"$K$33","v":""},null,{"$f":"IF(LEN(CM33)=0,\"\",(COUNTIF(CE$6:CX$7,CM33)+COUNTIF(CE$10:CX$10,CM33)+COUNTIF(CE$13:CX$13,CM33)+COUNTIF(CE$16:CX$16,CM33)+COUNTIF(CE$19:CX$19,CM33)+COUNTIF(CE$22:CX$22,CM33)+COUNTIF(CE$25:CX$25,CM33))/設定!$J24+IFERROR((COUNTIF(CE$6:CX$7,処理!$L17)+COUNTIF(CE$10:CX$10,処理!$L17)+COUNTIF(CE$13:CX$13,処理!$L17)+COUNTIF(CE$16:CX$16,処理!$L17)+COUNTIF(CE$19:CX$19,処理!$L17)+COUNTIF(CE$22:CX$22,処理!$L17)+COUNTIF(CE$25:CX$25,処理!$L17))/処理!$M17,0))","v":""},"",{"$f":"$O$33","v":""},null,{"$f":"IF(LEN(CQ33)=0,\"\",(COUNTIF(CE$6:CX$7,CQ33)+COUNTIF(CE$10:CX$10,CQ33)+COUNTIF(CE$13:CX$13,CQ33)+COUNTIF(CE$16:CX$16,CQ33)+COUNTIF(CE$19:CX$19,CQ33)+COUNTIF(CE$22:CX$22,CQ33)+COUNTIF(CE$25:CX$25,CQ33))/設定!$M24+IFERROR((COUNTIF(CE$6:CX$7,処理!$L23)+COUNTIF(CE$10:CX$10,処理!$L23)+COUNTIF(CE$13:CX$13,処理!$L23)+COUNTIF(CE$16:CX$16,処理!$L23)+COUNTIF(CE$19:CX$19,処理!$L23)+COUNTIF(CE$22:CX$22,処理!$L23)+COUNTIF(CE$25:CX$25,処理!$L23))/処理!$M23,0))","v":""},"",{"$f":"$S$33","v":""},null,"","",{"$f":"$C$33","v":""},null,{"$f":"IF(LEN(CY33)=0,\"\",(COUNTIF(CY$6:DR$7,CY33)+COUNTIF(CY$10:DR$10,CY33)+COUNTIF(CY$13:DR$13,CY33)+COUNTIF(CY$16:DR$16,CY33)+COUNTIF(CY$19:DR$19,CY33)+COUNTIF(CY$22:DR$22,CY33)+COUNTIF(CY$25:DR$25,CY33))/設定!$D24+IFERROR((COUNTIF(CY$6:DR$7,処理!$L5)+COUNTIF(CY$10:DR$10,処理!$L5)+COUNTIF(CY$13:DR$13,処理!$L5)+COUNTIF(CY$16:DR$16,処理!$L5)+COUNTIF(CY$19:DR$19,処理!$L5)+COUNTIF(CY$22:DR$22,処理!$L5)+COUNTIF(CY$25:DR$25,処理!$L5))/処理!$M5,0))","v":""},"",{"$f":"$G$33","v":""},null,{"$f":"IF(LEN(DC33)=0,\"\",(COUNTIF(CY$6:DR$7,DC33)+COUNTIF(CY$10:DR$10,DC33)+COUNTIF(CY$13:DR$13,DC33)+COUNTIF(CY$16:DR$16,DC33)+COUNTIF(CY$19:DR$19,DC33)+COUNTIF(CY$22:DR$22,DC33)+COUNTIF(CY$25:DR$25,DC33))/設定!$G24+IFERROR((COUNTIF(CY$6:DR$7,処理!$L11)+COUNTIF(CY$10:DR$10,処理!$L11)+COUNTIF(CY$13:DR$13,処理!$L11)+COUNTIF(CY$16:DR$16,処理!$L11)+COUNTIF(CY$19:DR$19,処理!$L11)+COUNTIF(CY$22:DR$22,処理!$L11)+COUNTIF(CY$25:DR$25,処理!$L11))/処理!$M11,0))","v":""},"",{"$f":"$K$33","v":""},null,{"$f":"IF(LEN(DG33)=0,\"\",(COUNTIF(CY$6:DR$7,DG33)+COUNTIF(CY$10:DR$10,DG33)+COUNTIF(CY$13:DR$13,DG33)+COUNTIF(CY$16:DR$16,DG33)+COUNTIF(CY$19:DR$19,DG33)+COUNTIF(CY$22:DR$22,DG33)+COUNTIF(CY$25:DR$25,DG33))/設定!$J24+IFERROR((COUNTIF(CY$6:DR$7,処理!$L17)+COUNTIF(CY$10:DR$10,処理!$L17)+COUNTIF(CY$13:DR$13,処理!$L17)+COUNTIF(CY$16:DR$16,処理!$L17)+COUNTIF(CY$19:DR$19,処理!$L17)+COUNTIF(CY$22:DR$22,処理!$L17)+COUNTIF(CY$25:DR$25,処理!$L17))/処理!$M17,0))","v":""},"",{"$f":"$O$33","v":""},null,{"$f":"IF(LEN(DK33)=0,\"\",(COUNTIF(CY$6:DR$7,DK33)+COUNTIF(CY$10:DR$10,DK33)+COUNTIF(CY$13:DR$13,DK33)+COUNTIF(CY$16:DR$16,DK33)+COUNTIF(CY$19:DR$19,DK33)+COUNTIF(CY$22:DR$22,DK33)+COUNTIF(CY$25:DR$25,DK33))/設定!$M24+IFERROR((COUNTIF(CY$6:DR$7,処理!$L23)+COUNTIF(CY$10:DR$10,処理!$L23)+COUNTIF(CY$13:DR$13,処理!$L23)+COUNTIF(CY$16:DR$16,処理!$L23)+COUNTIF(CY$19:DR$19,処理!$L23)+COUNTIF(CY$22:DR$22,処理!$L23)+COUNTIF(CY$25:DR$25,処理!$L23))/処理!$M23,0))","v":""},"",{"$f":"$S$33","v":""},null,"","",{"$f":"$C$33","v":""},null,{"$f":"IF(LEN(DS33)=0,\"\",(COUNTIF(DS$6:EL$7,DS33)+COUNTIF(DS$10:EL$10,DS33)+COUNTIF(DS$13:EL$13,DS33)+COUNTIF(DS$16:EL$16,DS33)+COUNTIF(DS$19:EL$19,DS33)+COUNTIF(DS$22:EL$22,DS33)+COUNTIF(DS$25:EL$25,DS33))/設定!$D24+IFERROR((COUNTIF(DS$6:EL$7,処理!$L5)+COUNTIF(DS$10:EL$10,処理!$L5)+COUNTIF(DS$13:EL$13,処理!$L5)+COUNTIF(DS$16:EL$16,処理!$L5)+COUNTIF(DS$19:EL$19,処理!$L5)+COUNTIF(DS$22:EL$22,処理!$L5)+COUNTIF(DS$25:EL$25,処理!$L5))/処理!$M5,0))","v":""},"",{"$f":"$G$33","v":""},null,{"$f":"IF(LEN(DW33)=0,\"\",(COUNTIF(DS$6:EL$7,DW33)+COUNTIF(DS$10:EL$10,DW33)+COUNTIF(DS$13:EL$13,DW33)+COUNTIF(DS$16:EL$16,DW33)+COUNTIF(DS$19:EL$19,DW33)+COUNTIF(DS$22:EL$22,DW33)+COUNTIF(DS$25:EL$25,DW33))/設定!$G24+IFERROR((COUNTIF(DS$6:EL$7,処理!$L11)+COUNTIF(DS$10:EL$10,処理!$L11)+COUNTIF(DS$13:EL$13,処理!$L11)+COUNTIF(DS$16:EL$16,処理!$L11)+COUNTIF(DS$19:EL$19,処理!$L11)+COUNTIF(DS$22:EL$22,処理!$L11)+COUNTIF(DS$25:EL$25,処理!$L11))/処理!$M11,0))","v":""},"",{"$f":"$K$33","v":""},null,{"$f":"IF(LEN(EA33)=0,\"\",(COUNTIF(DS$6:EL$7,EA33)+COUNTIF(DS$10:EL$10,EA33)+COUNTIF(DS$13:EL$13,EA33)+COUNTIF(DS$16:EL$16,EA33)+COUNTIF(DS$19:EL$19,EA33)+COUNTIF(DS$22:EL$22,EA33)+COUNTIF(DS$25:EL$25,EA33))/設定!$J24+IFERROR((COUNTIF(DS$6:EL$7,処理!$L17)+COUNTIF(DS$10:EL$10,処理!$L17)+COUNTIF(DS$13:EL$13,処理!$L17)+COUNTIF(DS$16:EL$16,処理!$L17)+COUNTIF(DS$19:EL$19,処理!$L17)+COUNTIF(DS$22:EL$22,処理!$L17)+COUNTIF(DS$25:EL$25,処理!$L17))/処理!$M17,0))","v":""},"",{"$f":"$O$33","v":""},null,{"$f":"IF(LEN(EE33)=0,\"\",(COUNTIF(DS$6:EL$7,EE33)+COUNTIF(DS$10:EL$10,EE33)+COUNTIF(DS$13:EL$13,EE33)+COUNTIF(DS$16:EL$16,EE33)+COUNTIF(DS$19:EL$19,EE33)+COUNTIF(DS$22:EL$22,EE33)+COUNTIF(DS$25:EL$25,EE33))/設定!$M24+IFERROR((COUNTIF(DS$6:EL$7,処理!$L23)+COUNTIF(DS$10:EL$10,処理!$L23)+COUNTIF(DS$13:EL$13,処理!$L23)+COUNTIF(DS$16:EL$16,処理!$L23)+COUNTIF(DS$19:EL$19,処理!$L23)+COUNTIF(DS$22:EL$22,処理!$L23)+COUNTIF(DS$25:EL$25,処理!$L23))/処理!$M23,0))","v":""},"",{"$f":"$S$33","v":""},null,"","",{"$f":"$C$33","v":""},null,{"$f":"IF(LEN(EM33)=0,\"\",(COUNTIF(EM$6:FF$7,EM33)+COUNTIF(EM$10:FF$10,EM33)+COUNTIF(EM$13:FF$13,EM33)+COUNTIF(EM$16:FF$16,EM33)+COUNTIF(EM$19:FF$19,EM33)+COUNTIF(EM$22:FF$22,EM33)+COUNTIF(EM$25:FF$25,EM33))/設定!$D24+IFERROR((COUNTIF(EM$6:FF$7,処理!$L5)+COUNTIF(EM$10:FF$10,処理!$L5)+COUNTIF(EM$13:FF$13,処理!$L5)+COUNTIF(EM$16:FF$16,処理!$L5)+COUNTIF(EM$19:FF$19,処理!$L5)+COUNTIF(EM$22:FF$22,処理!$L5)+COUNTIF(EM$25:FF$25,処理!$L5))/処理!$M5,0))","v":""},"",{"$f":"$G$33","v":""},null,{"$f":"IF(LEN(EQ33)=0,\"\",(COUNTIF(EM$6:FF$7,EQ33)+COUNTIF(EM$10:FF$10,EQ33)+COUNTIF(EM$13:FF$13,EQ33)+COUNTIF(EM$16:FF$16,EQ33)+COUNTIF(EM$19:FF$19,EQ33)+COUNTIF(EM$22:FF$22,EQ33)+COUNTIF(EM$25:FF$25,EQ33))/設定!$G24+IFERROR((COUNTIF(EM$6:FF$7,処理!$L11)+COUNTIF(EM$10:FF$10,処理!$L11)+COUNTIF(EM$13:FF$13,処理!$L11)+COUNTIF(EM$16:FF$16,処理!$L11)+COUNTIF(EM$19:FF$19,処理!$L11)+COUNTIF(EM$22:FF$22,処理!$L11)+COUNTIF(EM$25:FF$25,処理!$L11))/処理!$M11,0))","v":""},"",{"$f":"$K$33","v":""},null,{"$f":"IF(LEN(EU33)=0,\"\",(COUNTIF(EM$6:FF$7,EU33)+COUNTIF(EM$10:FF$10,EU33)+COUNTIF(EM$13:FF$13,EU33)+COUNTIF(EM$16:FF$16,EU33)+COUNTIF(EM$19:FF$19,EU33)+COUNTIF(EM$22:FF$22,EU33)+COUNTIF(EM$25:FF$25,EU33))/設定!$J24+IFERROR((COUNTIF(EM$6:FF$7,処理!$L17)+COUNTIF(EM$10:FF$10,処理!$L17)+COUNTIF(EM$13:FF$13,処理!$L17)+COUNTIF(EM$16:FF$16,処理!$L17)+COUNTIF(EM$19:FF$19,処理!$L17)+COUNTIF(EM$22:FF$22,処理!$L17)+COUNTIF(EM$25:FF$25,処理!$L17))/処理!$M17,0))","v":""},"",{"$f":"$O$33","v":""},null,{"$f":"IF(LEN(EY33)=0,\"\",(COUNTIF(EM$6:FF$7,EY33)+COUNTIF(EM$10:FF$10,EY33)+COUNTIF(EM$13:FF$13,EY33)+COUNTIF(EM$16:FF$16,EY33)+COUNTIF(EM$19:FF$19,EY33)+COUNTIF(EM$22:FF$22,EY33)+COUNTIF(EM$25:FF$25,EY33))/設定!$M24+IFERROR((COUNTIF(EM$6:FF$7,処理!$L23)+COUNTIF(EM$10:FF$10,処理!$L23)+COUNTIF(EM$13:FF$13,処理!$L23)+COUNTIF(EM$16:FF$16,処理!$L23)+COUNTIF(EM$19:FF$19,処理!$L23)+COUNTIF(EM$22:FF$22,処理!$L23)+COUNTIF(EM$25:FF$25,処理!$L23))/処理!$M23,0))","v":""},"",{"$f":"$S$33","v":""},null,"","",{"$f":"$C$33","v":""},null,{"$f":"IF(LEN(FG33)=0,\"\",(COUNTIF(FG$6:FZ$7,FG33)+COUNTIF(FG$10:FZ$10,FG33)+COUNTIF(FG$13:FZ$13,FG33)+COUNTIF(FG$16:FZ$16,FG33)+COUNTIF(FG$19:FZ$19,FG33)+COUNTIF(FG$22:FZ$22,FG33)+COUNTIF(FG$25:FZ$25,FG33))/設定!$D24+IFERROR((COUNTIF(FG$6:FZ$7,処理!$L5)+COUNTIF(FG$10:FZ$10,処理!$L5)+COUNTIF(FG$13:FZ$13,処理!$L5)+COUNTIF(FG$16:FZ$16,処理!$L5)+COUNTIF(FG$19:FZ$19,処理!$L5)+COUNTIF(FG$22:FZ$22,処理!$L5)+COUNTIF(FG$25:FZ$25,処理!$L5))/処理!$M5,0))","v":""},"",{"$f":"$G$33","v":""},null,{"$f":"IF(LEN(FK33)=0,\"\",(COUNTIF(FG$6:FZ$7,FK33)+COUNTIF(FG$10:FZ$10,FK33)+COUNTIF(FG$13:FZ$13,FK33)+COUNTIF(FG$16:FZ$16,FK33)+COUNTIF(FG$19:FZ$19,FK33)+COUNTIF(FG$22:FZ$22,FK33)+COUNTIF(FG$25:FZ$25,FK33))/設定!$G24+IFERROR((COUNTIF(FG$6:FZ$7,処理!$L11)+COUNTIF(FG$10:FZ$10,処理!$L11)+COUNTIF(FG$13:FZ$13,処理!$L11)+COUNTIF(FG$16:FZ$16,処理!$L11)+COUNTIF(FG$19:FZ$19,処理!$L11)+COUNTIF(FG$22:FZ$22,処理!$L11)+COUNTIF(FG$25:FZ$25,処理!$L11))/処理!$M11,0))","v":""},"",{"$f":"$K$33","v":""},null,{"$f":"IF(LEN(FO33)=0,\"\",(COUNTIF(FG$6:FZ$7,FO33)+COUNTIF(FG$10:FZ$10,FO33)+COUNTIF(FG$13:FZ$13,FO33)+COUNTIF(FG$16:FZ$16,FO33)+COUNTIF(FG$19:FZ$19,FO33)+COUNTIF(FG$22:FZ$22,FO33)+COUNTIF(FG$25:FZ$25,FO33))/設定!$J24+IFERROR((COUNTIF(FG$6:FZ$7,処理!$L17)+COUNTIF(FG$10:FZ$10,処理!$L17)+COUNTIF(FG$13:FZ$13,処理!$L17)+COUNTIF(FG$16:FZ$16,処理!$L17)+COUNTIF(FG$19:FZ$19,処理!$L17)+COUNTIF(FG$22:FZ$22,処理!$L17)+COUNTIF(FG$25:FZ$25,処理!$L17))/処理!$M17,0))","v":""},"",{"$f":"$O$33","v":""},null,{"$f":"IF(LEN(FS33)=0,\"\",(COUNTIF(FG$6:FZ$7,FS33)+COUNTIF(FG$10:FZ$10,FS33)+COUNTIF(FG$13:FZ$13,FS33)+COUNTIF(FG$16:FZ$16,FS33)+COUNTIF(FG$19:FZ$19,FS33)+COUNTIF(FG$22:FZ$22,FS33)+COUNTIF(FG$25:FZ$25,FS33))/設定!$M24+IFERROR((COUNTIF(FG$6:FZ$7,処理!$L23)+COUNTIF(FG$10:FZ$10,処理!$L23)+COUNTIF(FG$13:FZ$13,処理!$L23)+COUNTIF(FG$16:FZ$16,処理!$L23)+COUNTIF(FG$19:FZ$19,処理!$L23)+COUNTIF(FG$22:FZ$22,処理!$L23)+COUNTIF(FG$25:FZ$25,処理!$L23))/処理!$M23,0))","v":""},"",{"$f":"$S$33","v":""},null,"","",{"$f":"$C$33","v":""},null,{"$f":"IF(LEN(GA33)=0,\"\",(COUNTIF(GA$6:GT$7,GA33)+COUNTIF(GA$10:GT$10,GA33)+COUNTIF(GA$13:GT$13,GA33)+COUNTIF(GA$16:GT$16,GA33)+COUNTIF(GA$19:GT$19,GA33)+COUNTIF(GA$22:GT$22,GA33)+COUNTIF(GA$25:GT$25,GA33))/設定!$D24+IFERROR((COUNTIF(GA$6:GT$7,処理!$L5)+COUNTIF(GA$10:GT$10,処理!$L5)+COUNTIF(GA$13:GT$13,処理!$L5)+COUNTIF(GA$16:GT$16,処理!$L5)+COUNTIF(GA$19:GT$19,処理!$L5)+COUNTIF(GA$22:GT$22,処理!$L5)+COUNTIF(GA$25:GT$25,処理!$L5))/処理!$M5,0))","v":""},"",{"$f":"$G$33","v":""},null,{"$f":"IF(LEN(GE33)=0,\"\",(COUNTIF(GA$6:GT$7,GE33)+COUNTIF(GA$10:GT$10,GE33)+COUNTIF(GA$13:GT$13,GE33)+COUNTIF(GA$16:GT$16,GE33)+COUNTIF(GA$19:GT$19,GE33)+COUNTIF(GA$22:GT$22,GE33)+COUNTIF(GA$25:GT$25,GE33))/設定!$G24+IFERROR((COUNTIF(GA$6:GT$7,処理!$L11)+COUNTIF(GA$10:GT$10,処理!$L11)+COUNTIF(GA$13:GT$13,処理!$L11)+COUNTIF(GA$16:GT$16,処理!$L11)+COUNTIF(GA$19:GT$19,処理!$L11)+COUNTIF(GA$22:GT$22,処理!$L11)+COUNTIF(GA$25:GT$25,処理!$L11))/処理!$M11,0))","v":""},"",{"$f":"$K$33","v":""},null,{"$f":"IF(LEN(GI33)=0,\"\",(COUNTIF(GA$6:GT$7,GI33)+COUNTIF(GA$10:GT$10,GI33)+COUNTIF(GA$13:GT$13,GI33)+COUNTIF(GA$16:GT$16,GI33)+COUNTIF(GA$19:GT$19,GI33)+COUNTIF(GA$22:GT$22,GI33)+COUNTIF(GA$25:GT$25,GI33))/設定!$J24+IFERROR((COUNTIF(GA$6:GT$7,処理!$L17)+COUNTIF(GA$10:GT$10,処理!$L17)+COUNTIF(GA$13:GT$13,処理!$L17)+COUNTIF(GA$16:GT$16,処理!$L17)+COUNTIF(GA$19:GT$19,処理!$L17)+COUNTIF(GA$22:GT$22,処理!$L17)+COUNTIF(GA$25:GT$25,処理!$L17))/処理!$M17,0))","v":""},"",{"$f":"$O$33","v":""},null,{"$f":"IF(LEN(GM33)=0,\"\",(COUNTIF(GA$6:GT$7,GM33)+COUNTIF(GA$10:GT$10,GM33)+COUNTIF(GA$13:GT$13,GM33)+COUNTIF(GA$16:GT$16,GM33)+COUNTIF(GA$19:GT$19,GM33)+COUNTIF(GA$22:GT$22,GM33)+COUNTIF(GA$25:GT$25,GM33))/設定!$M24+IFERROR((COUNTIF(GA$6:GT$7,処理!$L23)+COUNTIF(GA$10:GT$10,処理!$L23)+COUNTIF(GA$13:GT$13,処理!$L23)+COUNTIF(GA$16:GT$16,処理!$L23)+COUNTIF(GA$19:GT$19,処理!$L23)+COUNTIF(GA$22:GT$22,処理!$L23)+COUNTIF(GA$25:GT$25,処理!$L23))/処理!$M23,0))","v":""},"",{"$f":"$S$33","v":""},null,"","",{"$f":"$C$33","v":""},null,{"$f":"IF(LEN(GU33)=0,\"\",(COUNTIF(GU$6:HN$7,GU33)+COUNTIF(GU$10:HN$10,GU33)+COUNTIF(GU$13:HN$13,GU33)+COUNTIF(GU$16:HN$16,GU33)+COUNTIF(GU$19:HN$19,GU33)+COUNTIF(GU$22:HN$22,GU33)+COUNTIF(GU$25:HN$25,GU33))/設定!$D24+IFERROR((COUNTIF(GU$6:HN$7,処理!$L5)+COUNTIF(GU$10:HN$10,処理!$L5)+COUNTIF(GU$13:HN$13,処理!$L5)+COUNTIF(GU$16:HN$16,処理!$L5)+COUNTIF(GU$19:HN$19,処理!$L5)+COUNTIF(GU$22:HN$22,処理!$L5)+COUNTIF(GU$25:HN$25,処理!$L5))/処理!$M5,0))","v":""},"",{"$f":"$G$33","v":""},null,{"$f":"IF(LEN(GY33)=0,\"\",(COUNTIF(GU$6:HN$7,GY33)+COUNTIF(GU$10:HN$10,GY33)+COUNTIF(GU$13:HN$13,GY33)+COUNTIF(GU$16:HN$16,GY33)+COUNTIF(GU$19:HN$19,GY33)+COUNTIF(GU$22:HN$22,GY33)+COUNTIF(GU$25:HN$25,GY33))/設定!$G24+IFERROR((COUNTIF(GU$6:HN$7,処理!$L11)+COUNTIF(GU$10:HN$10,処理!$L11)+COUNTIF(GU$13:HN$13,処理!$L11)+COUNTIF(GU$16:HN$16,処理!$L11)+COUNTIF(GU$19:HN$19,処理!$L11)+COUNTIF(GU$22:HN$22,処理!$L11)+COUNTIF(GU$25:HN$25,処理!$L11))/処理!$M11,0))","v":""},"",{"$f":"$K$33","v":""},null,{"$f":"IF(LEN(HC33)=0,\"\",(COUNTIF(GU$6:HN$7,HC33)+COUNTIF(GU$10:HN$10,HC33)+COUNTIF(GU$13:HN$13,HC33)+COUNTIF(GU$16:HN$16,HC33)+COUNTIF(GU$19:HN$19,HC33)+COUNTIF(GU$22:HN$22,HC33)+COUNTIF(GU$25:HN$25,HC33))/設定!$J24+IFERROR((COUNTIF(GU$6:HN$7,処理!$L17)+COUNTIF(GU$10:HN$10,処理!$L17)+COUNTIF(GU$13:HN$13,処理!$L17)+COUNTIF(GU$16:HN$16,処理!$L17)+COUNTIF(GU$19:HN$19,処理!$L17)+COUNTIF(GU$22:HN$22,処理!$L17)+COUNTIF(GU$25:HN$25,処理!$L17))/処理!$M17,0))","v":""},"",{"$f":"$O$33","v":""},null,{"$f":"IF(LEN(HG33)=0,\"\",(COUNTIF(GU$6:HN$7,HG33)+COUNTIF(GU$10:HN$10,HG33)+COUNTIF(GU$13:HN$13,HG33)+COUNTIF(GU$16:HN$16,HG33)+COUNTIF(GU$19:HN$19,HG33)+COUNTIF(GU$22:HN$22,HG33)+COUNTIF(GU$25:HN$25,HG33))/設定!$M24+IFERROR((COUNTIF(GU$6:HN$7,処理!$L23)+COUNTIF(GU$10:HN$10,処理!$L23)+COUNTIF(GU$13:HN$13,処理!$L23)+COUNTIF(GU$16:HN$16,処理!$L23)+COUNTIF(GU$19:HN$19,処理!$L23)+COUNTIF(GU$22:HN$22,処理!$L23)+COUNTIF(GU$25:HN$25,処理!$L23))/処理!$M23,0))","v":""},"",{"$f":"$S$33","v":""},null,"","",{"$f":"$C$33","v":""},null,{"$f":"IF(LEN(HO33)=0,\"\",(COUNTIF(HO$6:IH$7,HO33)+COUNTIF(HO$10:IH$10,HO33)+COUNTIF(HO$13:IH$13,HO33)+COUNTIF(HO$16:IH$16,HO33)+COUNTIF(HO$19:IH$19,HO33)+COUNTIF(HO$22:IH$22,HO33)+COUNTIF(HO$25:IH$25,HO33))/設定!$D24+IFERROR((COUNTIF(HO$6:IH$7,処理!$L5)+COUNTIF(HO$10:IH$10,処理!$L5)+COUNTIF(HO$13:IH$13,処理!$L5)+COUNTIF(HO$16:IH$16,処理!$L5)+COUNTIF(HO$19:IH$19,処理!$L5)+COUNTIF(HO$22:IH$22,処理!$L5)+COUNTIF(HO$25:IH$25,処理!$L5))/処理!$M5,0))","v":""},"",{"$f":"$G$33","v":""},null,{"$f":"IF(LEN(HS33)=0,\"\",(COUNTIF(HO$6:IH$7,HS33)+COUNTIF(HO$10:IH$10,HS33)+COUNTIF(HO$13:IH$13,HS33)+COUNTIF(HO$16:IH$16,HS33)+COUNTIF(HO$19:IH$19,HS33)+COUNTIF(HO$22:IH$22,HS33)+COUNTIF(HO$25:IH$25,HS33))/設定!$G24+IFERROR((COUNTIF(HO$6:IH$7,処理!$L11)+COUNTIF(HO$10:IH$10,処理!$L11)+COUNTIF(HO$13:IH$13,処理!$L11)+COUNTIF(HO$16:IH$16,処理!$L11)+COUNTIF(HO$19:IH$19,処理!$L11)+COUNTIF(HO$22:IH$22,処理!$L11)+COUNTIF(HO$25:IH$25,処理!$L11))/処理!$M11,0))","v":""},"",{"$f":"$K$33","v":""},null,{"$f":"IF(LEN(HW33)=0,\"\",(COUNTIF(HO$6:IH$7,HW33)+COUNTIF(HO$10:IH$10,HW33)+COUNTIF(HO$13:IH$13,HW33)+COUNTIF(HO$16:IH$16,HW33)+COUNTIF(HO$19:IH$19,HW33)+COUNTIF(HO$22:IH$22,HW33)+COUNTIF(HO$25:IH$25,HW33))/設定!$J24+IFERROR((COUNTIF(HO$6:IH$7,処理!$L17)+COUNTIF(HO$10:IH$10,処理!$L17)+COUNTIF(HO$13:IH$13,処理!$L17)+COUNTIF(HO$16:IH$16,処理!$L17)+COUNTIF(HO$19:IH$19,処理!$L17)+COUNTIF(HO$22:IH$22,処理!$L17)+COUNTIF(HO$25:IH$25,処理!$L17))/処理!$M17,0))","v":""},"",{"$f":"$O$33","v":""},null,{"$f":"IF(LEN(IA33)=0,\"\",(COUNTIF(HO$6:IH$7,IA33)+COUNTIF(HO$10:IH$10,IA33)+COUNTIF(HO$13:IH$13,IA33)+COUNTIF(HO$16:IH$16,IA33)+COUNTIF(HO$19:IH$19,IA33)+COUNTIF(HO$22:IH$22,IA33)+COUNTIF(HO$25:IH$25,IA33))/設定!$M24+IFERROR((COUNTIF(HO$6:IH$7,処理!$L23)+COUNTIF(HO$10:IH$10,処理!$L23)+COUNTIF(HO$13:IH$13,処理!$L23)+COUNTIF(HO$16:IH$16,処理!$L23)+COUNTIF(HO$19:IH$19,処理!$L23)+COUNTIF(HO$22:IH$22,処理!$L23)+COUNTIF(HO$25:IH$25,処理!$L23))/処理!$M23,0))","v":""},"",{"$f":"$S$33","v":""},null,"","",{"$f":"$C$33","v":""},null,{"$f":"IF(LEN(II33)=0,\"\",(COUNTIF(II$6:JB$7,II33)+COUNTIF(II$10:JB$10,II33)+COUNTIF(II$13:JB$13,II33)+COUNTIF(II$16:JB$16,II33)+COUNTIF(II$19:JB$19,II33)+COUNTIF(II$22:JB$22,II33)+COUNTIF(II$25:JB$25,II33))/設定!$D24+IFERROR((COUNTIF(II$6:JB$7,処理!$L5)+COUNTIF(II$10:JB$10,処理!$L5)+COUNTIF(II$13:JB$13,処理!$L5)+COUNTIF(II$16:JB$16,処理!$L5)+COUNTIF(II$19:JB$19,処理!$L5)+COUNTIF(II$22:JB$22,処理!$L5)+COUNTIF(II$25:JB$25,処理!$L5))/処理!$M5,0))","v":""},"",{"$f":"$G$33","v":""},null,{"$f":"IF(LEN(IM33)=0,\"\",(COUNTIF(II$6:JB$7,IM33)+COUNTIF(II$10:JB$10,IM33)+COUNTIF(II$13:JB$13,IM33)+COUNTIF(II$16:JB$16,IM33)+COUNTIF(II$19:JB$19,IM33)+COUNTIF(II$22:JB$22,IM33)+COUNTIF(II$25:JB$25,IM33))/設定!$G24+IFERROR((COUNTIF(II$6:JB$7,処理!$L11)+COUNTIF(II$10:JB$10,処理!$L11)+COUNTIF(II$13:JB$13,処理!$L11)+COUNTIF(II$16:JB$16,処理!$L11)+COUNTIF(II$19:JB$19,処理!$L11)+COUNTIF(II$22:JB$22,処理!$L11)+COUNTIF(II$25:JB$25,処理!$L11))/処理!$M11,0))","v":""},"",{"$f":"$K$33","v":""},null,{"$f":"IF(LEN(IQ33)=0,\"\",(COUNTIF(II$6:JB$7,IQ33)+COUNTIF(II$10:JB$10,IQ33)+COUNTIF(II$13:JB$13,IQ33)+COUNTIF(II$16:JB$16,IQ33)+COUNTIF(II$19:JB$19,IQ33)+COUNTIF(II$22:JB$22,IQ33)+COUNTIF(II$25:JB$25,IQ33))/設定!$J24+IFERROR((COUNTIF(II$6:JB$7,処理!$L17)+COUNTIF(II$10:JB$10,処理!$L17)+COUNTIF(II$13:JB$13,処理!$L17)+COUNTIF(II$16:JB$16,処理!$L17)+COUNTIF(II$19:JB$19,処理!$L17)+COUNTIF(II$22:JB$22,処理!$L17)+COUNTIF(II$25:JB$25,処理!$L17))/処理!$M17,0))","v":""},"",{"$f":"$O$33","v":""},null,{"$f":"IF(LEN(IU33)=0,\"\",(COUNTIF(II$6:JB$7,IU33)+COUNTIF(II$10:JB$10,IU33)+COUNTIF(II$13:JB$13,IU33)+COUNTIF(II$16:JB$16,IU33)+COUNTIF(II$19:JB$19,IU33)+COUNTIF(II$22:JB$22,IU33)+COUNTIF(II$25:JB$25,IU33))/設定!$M24+IFERROR((COUNTIF(II$6:JB$7,処理!$L23)+COUNTIF(II$10:JB$10,処理!$L23)+COUNTIF(II$13:JB$13,処理!$L23)+COUNTIF(II$16:JB$16,処理!$L23)+COUNTIF(II$19:JB$19,処理!$L23)+COUNTIF(II$22:JB$22,処理!$L23)+COUNTIF(II$25:JB$25,処理!$L23))/処理!$M23,0))","v":""},"",{"$f":"$S$33","v":""},null,"","",{"$f":"$C$33","v":""},null,{"$f":"IF(LEN(JC33)=0,\"\",(COUNTIF(JC$6:JV$7,JC33)+COUNTIF(JC$10:JV$10,JC33)+COUNTIF(JC$13:JV$13,JC33)+COUNTIF(JC$16:JV$16,JC33)+COUNTIF(JC$19:JV$19,JC33)+COUNTIF(JC$22:JV$22,JC33)+COUNTIF(JC$25:JV$25,JC33))/設定!$D24+IFERROR((COUNTIF(JC$6:JV$7,処理!$L5)+COUNTIF(JC$10:JV$10,処理!$L5)+COUNTIF(JC$13:JV$13,処理!$L5)+COUNTIF(JC$16:JV$16,処理!$L5)+COUNTIF(JC$19:JV$19,処理!$L5)+COUNTIF(JC$22:JV$22,処理!$L5)+COUNTIF(JC$25:JV$25,処理!$L5))/処理!$M5,0))","v":""},"",{"$f":"$G$33","v":""},null,{"$f":"IF(LEN(JG33)=0,\"\",(COUNTIF(JC$6:JV$7,JG33)+COUNTIF(JC$10:JV$10,JG33)+COUNTIF(JC$13:JV$13,JG33)+COUNTIF(JC$16:JV$16,JG33)+COUNTIF(JC$19:JV$19,JG33)+COUNTIF(JC$22:JV$22,JG33)+COUNTIF(JC$25:JV$25,JG33))/設定!$G24+IFERROR((COUNTIF(JC$6:JV$7,処理!$L11)+COUNTIF(JC$10:JV$10,処理!$L11)+COUNTIF(JC$13:JV$13,処理!$L11)+COUNTIF(JC$16:JV$16,処理!$L11)+COUNTIF(JC$19:JV$19,処理!$L11)+COUNTIF(JC$22:JV$22,処理!$L11)+COUNTIF(JC$25:JV$25,処理!$L11))/処理!$M11,0))","v":""},"",{"$f":"$K$33","v":""},null,{"$f":"IF(LEN(JK33)=0,\"\",(COUNTIF(JC$6:JV$7,JK33)+COUNTIF(JC$10:JV$10,JK33)+COUNTIF(JC$13:JV$13,JK33)+COUNTIF(JC$16:JV$16,JK33)+COUNTIF(JC$19:JV$19,JK33)+COUNTIF(JC$22:JV$22,JK33)+COUNTIF(JC$25:JV$25,JK33))/設定!$J24+IFERROR((COUNTIF(JC$6:JV$7,処理!$L17)+COUNTIF(JC$10:JV$10,処理!$L17)+COUNTIF(JC$13:JV$13,処理!$L17)+COUNTIF(JC$16:JV$16,処理!$L17)+COUNTIF(JC$19:JV$19,処理!$L17)+COUNTIF(JC$22:JV$22,処理!$L17)+COUNTIF(JC$25:JV$25,処理!$L17))/処理!$M17,0))","v":""},"",{"$f":"$O$33","v":""},null,{"$f":"IF(LEN(JO33)=0,\"\",(COUNTIF(JC$6:JV$7,JO33)+COUNTIF(JC$10:JV$10,JO33)+COUNTIF(JC$13:JV$13,JO33)+COUNTIF(JC$16:JV$16,JO33)+COUNTIF(JC$19:JV$19,JO33)+COUNTIF(JC$22:JV$22,JO33)+COUNTIF(JC$25:JV$25,JO33))/設定!$M24+IFERROR((COUNTIF(JC$6:JV$7,処理!$L23)+COUNTIF(JC$10:JV$10,処理!$L23)+COUNTIF(JC$13:JV$13,処理!$L23)+COUNTIF(JC$16:JV$16,処理!$L23)+COUNTIF(JC$19:JV$19,処理!$L23)+COUNTIF(JC$22:JV$22,処理!$L23)+COUNTIF(JC$25:JV$25,処理!$L23))/処理!$M23,0))","v":""},"",{"$f":"$S$33","v":""},null,"","",{"$f":"$C$33","v":""},null,{"$f":"IF(LEN(JW33)=0,\"\",(COUNTIF(JW$6:KP$7,JW33)+COUNTIF(JW$10:KP$10,JW33)+COUNTIF(JW$13:KP$13,JW33)+COUNTIF(JW$16:KP$16,JW33)+COUNTIF(JW$19:KP$19,JW33)+COUNTIF(JW$22:KP$22,JW33)+COUNTIF(JW$25:KP$25,JW33))/設定!$D24+IFERROR((COUNTIF(JW$6:KP$7,処理!$L5)+COUNTIF(JW$10:KP$10,処理!$L5)+COUNTIF(JW$13:KP$13,処理!$L5)+COUNTIF(JW$16:KP$16,処理!$L5)+COUNTIF(JW$19:KP$19,処理!$L5)+COUNTIF(JW$22:KP$22,処理!$L5)+COUNTIF(JW$25:KP$25,処理!$L5))/処理!$M5,0))","v":""},"",{"$f":"$G$33","v":""},null,{"$f":"IF(LEN(KA33)=0,\"\",(COUNTIF(JW$6:KP$7,KA33)+COUNTIF(JW$10:KP$10,KA33)+COUNTIF(JW$13:KP$13,KA33)+COUNTIF(JW$16:KP$16,KA33)+COUNTIF(JW$19:KP$19,KA33)+COUNTIF(JW$22:KP$22,KA33)+COUNTIF(JW$25:KP$25,KA33))/設定!$G24+IFERROR((COUNTIF(JW$6:KP$7,処理!$L11)+COUNTIF(JW$10:KP$10,処理!$L11)+COUNTIF(JW$13:KP$13,処理!$L11)+COUNTIF(JW$16:KP$16,処理!$L11)+COUNTIF(JW$19:KP$19,処理!$L11)+COUNTIF(JW$22:KP$22,処理!$L11)+COUNTIF(JW$25:KP$25,処理!$L11))/処理!$M11,0))","v":""},"",{"$f":"$K$33","v":""},null,{"$f":"IF(LEN(KE33)=0,\"\",(COUNTIF(JW$6:KP$7,KE33)+COUNTIF(JW$10:KP$10,KE33)+COUNTIF(JW$13:KP$13,KE33)+COUNTIF(JW$16:KP$16,KE33)+COUNTIF(JW$19:KP$19,KE33)+COUNTIF(JW$22:KP$22,KE33)+COUNTIF(JW$25:KP$25,KE33))/設定!$J24+IFERROR((COUNTIF(JW$6:KP$7,処理!$L17)+COUNTIF(JW$10:KP$10,処理!$L17)+COUNTIF(JW$13:KP$13,処理!$L17)+COUNTIF(JW$16:KP$16,処理!$L17)+COUNTIF(JW$19:KP$19,処理!$L17)+COUNTIF(JW$22:KP$22,処理!$L17)+COUNTIF(JW$25:KP$25,処理!$L17))/処理!$M17,0))","v":""},"",{"$f":"$O$33","v":""},null,{"$f":"IF(LEN(KI33)=0,\"\",(COUNTIF(JW$6:KP$7,KI33)+COUNTIF(JW$10:KP$10,KI33)+COUNTIF(JW$13:KP$13,KI33)+COUNTIF(JW$16:KP$16,KI33)+COUNTIF(JW$19:KP$19,KI33)+COUNTIF(JW$22:KP$22,KI33)+COUNTIF(JW$25:KP$25,KI33))/設定!$M24+IFERROR((COUNTIF(JW$6:KP$7,処理!$L23)+COUNTIF(JW$10:KP$10,処理!$L23)+COUNTIF(JW$13:KP$13,処理!$L23)+COUNTIF(JW$16:KP$16,処理!$L23)+COUNTIF(JW$19:KP$19,処理!$L23)+COUNTIF(JW$22:KP$22,処理!$L23)+COUNTIF(JW$25:KP$25,処理!$L23))/処理!$M23,0))","v":""},"",{"$f":"$S$33","v":""},null,"","",{"$f":"$C$33","v":""},null,{"$f":"IF(LEN(KQ33)=0,\"\",(COUNTIF(KQ$6:LJ$7,KQ33)+COUNTIF(KQ$10:LJ$10,KQ33)+COUNTIF(KQ$13:LJ$13,KQ33)+COUNTIF(KQ$16:LJ$16,KQ33)+COUNTIF(KQ$19:LJ$19,KQ33)+COUNTIF(KQ$22:LJ$22,KQ33)+COUNTIF(KQ$25:LJ$25,KQ33))/設定!$D24+IFERROR((COUNTIF(KQ$6:LJ$7,処理!$L5)+COUNTIF(KQ$10:LJ$10,処理!$L5)+COUNTIF(KQ$13:LJ$13,処理!$L5)+COUNTIF(KQ$16:LJ$16,処理!$L5)+COUNTIF(KQ$19:LJ$19,処理!$L5)+COUNTIF(KQ$22:LJ$22,処理!$L5)+COUNTIF(KQ$25:LJ$25,処理!$L5))/処理!$M5,0))","v":""},"",{"$f":"$G$33","v":""},null,{"$f":"IF(LEN(KU33)=0,\"\",(COUNTIF(KQ$6:LJ$7,KU33)+COUNTIF(KQ$10:LJ$10,KU33)+COUNTIF(KQ$13:LJ$13,KU33)+COUNTIF(KQ$16:LJ$16,KU33)+COUNTIF(KQ$19:LJ$19,KU33)+COUNTIF(KQ$22:LJ$22,KU33)+COUNTIF(KQ$25:LJ$25,KU33))/設定!$G24+IFERROR((COUNTIF(KQ$6:LJ$7,処理!$L11)+COUNTIF(KQ$10:LJ$10,処理!$L11)+COUNTIF(KQ$13:LJ$13,処理!$L11)+COUNTIF(KQ$16:LJ$16,処理!$L11)+COUNTIF(KQ$19:LJ$19,処理!$L11)+COUNTIF(KQ$22:LJ$22,処理!$L11)+COUNTIF(KQ$25:LJ$25,処理!$L11))/処理!$M11,0))","v":""},"",{"$f":"$K$33","v":""},null,{"$f":"IF(LEN(KY33)=0,\"\",(COUNTIF(KQ$6:LJ$7,KY33)+COUNTIF(KQ$10:LJ$10,KY33)+COUNTIF(KQ$13:LJ$13,KY33)+COUNTIF(KQ$16:LJ$16,KY33)+COUNTIF(KQ$19:LJ$19,KY33)+COUNTIF(KQ$22:LJ$22,KY33)+COUNTIF(KQ$25:LJ$25,KY33))/設定!$J24+IFERROR((COUNTIF(KQ$6:LJ$7,処理!$L17)+COUNTIF(KQ$10:LJ$10,処理!$L17)+COUNTIF(KQ$13:LJ$13,処理!$L17)+COUNTIF(KQ$16:LJ$16,処理!$L17)+COUNTIF(KQ$19:LJ$19,処理!$L17)+COUNTIF(KQ$22:LJ$22,処理!$L17)+COUNTIF(KQ$25:LJ$25,処理!$L17))/処理!$M17,0))","v":""},"",{"$f":"$O$33","v":""},null,{"$f":"IF(LEN(LC33)=0,\"\",(COUNTIF(KQ$6:LJ$7,LC33)+COUNTIF(KQ$10:LJ$10,LC33)+COUNTIF(KQ$13:LJ$13,LC33)+COUNTIF(KQ$16:LJ$16,LC33)+COUNTIF(KQ$19:LJ$19,LC33)+COUNTIF(KQ$22:LJ$22,LC33)+COUNTIF(KQ$25:LJ$25,LC33))/設定!$M24+IFERROR((COUNTIF(KQ$6:LJ$7,処理!$L23)+COUNTIF(KQ$10:LJ$10,処理!$L23)+COUNTIF(KQ$13:LJ$13,処理!$L23)+COUNTIF(KQ$16:LJ$16,処理!$L23)+COUNTIF(KQ$19:LJ$19,処理!$L23)+COUNTIF(KQ$22:LJ$22,処理!$L23)+COUNTIF(KQ$25:LJ$25,処理!$L23))/処理!$M23,0))","v":""},"",{"$f":"$S$33","v":""},null,"","",{"$f":"$C$33","v":""},null,{"$f":"IF(LEN(LK33)=0,\"\",(COUNTIF(LK$6:MD$7,LK33)+COUNTIF(LK$10:MD$10,LK33)+COUNTIF(LK$13:MD$13,LK33)+COUNTIF(LK$16:MD$16,LK33)+COUNTIF(LK$19:MD$19,LK33)+COUNTIF(LK$22:MD$22,LK33)+COUNTIF(LK$25:MD$25,LK33))/設定!$D24+IFERROR((COUNTIF(LK$6:MD$7,処理!$L5)+COUNTIF(LK$10:MD$10,処理!$L5)+COUNTIF(LK$13:MD$13,処理!$L5)+COUNTIF(LK$16:MD$16,処理!$L5)+COUNTIF(LK$19:MD$19,処理!$L5)+COUNTIF(LK$22:MD$22,処理!$L5)+COUNTIF(LK$25:MD$25,処理!$L5))/処理!$M5,0))","v":""},"",{"$f":"$G$33","v":""},null,{"$f":"IF(LEN(LO33)=0,\"\",(COUNTIF(LK$6:MD$7,LO33)+COUNTIF(LK$10:MD$10,LO33)+COUNTIF(LK$13:MD$13,LO33)+COUNTIF(LK$16:MD$16,LO33)+COUNTIF(LK$19:MD$19,LO33)+COUNTIF(LK$22:MD$22,LO33)+COUNTIF(LK$25:MD$25,LO33))/設定!$G24+IFERROR((COUNTIF(LK$6:MD$7,処理!$L11)+COUNTIF(LK$10:MD$10,処理!$L11)+COUNTIF(LK$13:MD$13,処理!$L11)+COUNTIF(LK$16:MD$16,処理!$L11)+COUNTIF(LK$19:MD$19,処理!$L11)+COUNTIF(LK$22:MD$22,処理!$L11)+COUNTIF(LK$25:MD$25,処理!$L11))/処理!$M11,0))","v":""},"",{"$f":"$K$33","v":""},null,{"$f":"IF(LEN(LS33)=0,\"\",(COUNTIF(LK$6:MD$7,LS33)+COUNTIF(LK$10:MD$10,LS33)+COUNTIF(LK$13:MD$13,LS33)+COUNTIF(LK$16:MD$16,LS33)+COUNTIF(LK$19:MD$19,LS33)+COUNTIF(LK$22:MD$22,LS33)+COUNTIF(LK$25:MD$25,LS33))/設定!$J24+IFERROR((COUNTIF(LK$6:MD$7,処理!$L17)+COUNTIF(LK$10:MD$10,処理!$L17)+COUNTIF(LK$13:MD$13,処理!$L17)+COUNTIF(LK$16:MD$16,処理!$L17)+COUNTIF(LK$19:MD$19,処理!$L17)+COUNTIF(LK$22:MD$22,処理!$L17)+COUNTIF(LK$25:MD$25,処理!$L17))/処理!$M17,0))","v":""},"",{"$f":"$O$33","v":""},null,{"$f":"IF(LEN(LW33)=0,\"\",(COUNTIF(LK$6:MD$7,LW33)+COUNTIF(LK$10:MD$10,LW33)+COUNTIF(LK$13:MD$13,LW33)+COUNTIF(LK$16:MD$16,LW33)+COUNTIF(LK$19:MD$19,LW33)+COUNTIF(LK$22:MD$22,LW33)+COUNTIF(LK$25:MD$25,LW33))/設定!$M24+IFERROR((COUNTIF(LK$6:MD$7,処理!$L23)+COUNTIF(LK$10:MD$10,処理!$L23)+COUNTIF(LK$13:MD$13,処理!$L23)+COUNTIF(LK$16:MD$16,処理!$L23)+COUNTIF(LK$19:MD$19,処理!$L23)+COUNTIF(LK$22:MD$22,処理!$L23)+COUNTIF(LK$25:MD$25,処理!$L23))/処理!$M23,0))","v":""},"",{"$f":"$S$33","v":""},null,"","",{"$f":"$C$33","v":""},null,{"$f":"IF(LEN(ME33)=0,\"\",(COUNTIF(ME$6:MX$7,ME33)+COUNTIF(ME$10:MX$10,ME33)+COUNTIF(ME$13:MX$13,ME33)+COUNTIF(ME$16:MX$16,ME33)+COUNTIF(ME$19:MX$19,ME33)+COUNTIF(ME$22:MX$22,ME33)+COUNTIF(ME$25:MX$25,ME33))/設定!$D24+IFERROR((COUNTIF(ME$6:MX$7,処理!$L5)+COUNTIF(ME$10:MX$10,処理!$L5)+COUNTIF(ME$13:MX$13,処理!$L5)+COUNTIF(ME$16:MX$16,処理!$L5)+COUNTIF(ME$19:MX$19,処理!$L5)+COUNTIF(ME$22:MX$22,処理!$L5)+COUNTIF(ME$25:MX$25,処理!$L5))/処理!$M5,0))","v":""},"",{"$f":"$G$33","v":""},null,{"$f":"IF(LEN(MI33)=0,\"\",(COUNTIF(ME$6:MX$7,MI33)+COUNTIF(ME$10:MX$10,MI33)+COUNTIF(ME$13:MX$13,MI33)+COUNTIF(ME$16:MX$16,MI33)+COUNTIF(ME$19:MX$19,MI33)+COUNTIF(ME$22:MX$22,MI33)+COUNTIF(ME$25:MX$25,MI33))/設定!$G24+IFERROR((COUNTIF(ME$6:MX$7,処理!$L11)+COUNTIF(ME$10:MX$10,処理!$L11)+COUNTIF(ME$13:MX$13,処理!$L11)+COUNTIF(ME$16:MX$16,処理!$L11)+COUNTIF(ME$19:MX$19,処理!$L11)+COUNTIF(ME$22:MX$22,処理!$L11)+COUNTIF(ME$25:MX$25,処理!$L11))/処理!$M11,0))","v":""},"",{"$f":"$K$33","v":""},null,{"$f":"IF(LEN(MM33)=0,\"\",(COUNTIF(ME$6:MX$7,MM33)+COUNTIF(ME$10:MX$10,MM33)+COUNTIF(ME$13:MX$13,MM33)+COUNTIF(ME$16:MX$16,MM33)+COUNTIF(ME$19:MX$19,MM33)+COUNTIF(ME$22:MX$22,MM33)+COUNTIF(ME$25:MX$25,MM33))/設定!$J24+IFERROR((COUNTIF(ME$6:MX$7,処理!$L17)+COUNTIF(ME$10:MX$10,処理!$L17)+COUNTIF(ME$13:MX$13,処理!$L17)+COUNTIF(ME$16:MX$16,処理!$L17)+COUNTIF(ME$19:MX$19,処理!$L17)+COUNTIF(ME$22:MX$22,処理!$L17)+COUNTIF(ME$25:MX$25,処理!$L17))/処理!$M17,0))","v":""},"",{"$f":"$O$33","v":""},null,{"$f":"IF(LEN(MQ33)=0,\"\",(COUNTIF(ME$6:MX$7,MQ33)+COUNTIF(ME$10:MX$10,MQ33)+COUNTIF(ME$13:MX$13,MQ33)+COUNTIF(ME$16:MX$16,MQ33)+COUNTIF(ME$19:MX$19,MQ33)+COUNTIF(ME$22:MX$22,MQ33)+COUNTIF(ME$25:MX$25,MQ33))/設定!$M24+IFERROR((COUNTIF(ME$6:MX$7,処理!$L23)+COUNTIF(ME$10:MX$10,処理!$L23)+COUNTIF(ME$13:MX$13,処理!$L23)+COUNTIF(ME$16:MX$16,処理!$L23)+COUNTIF(ME$19:MX$19,処理!$L23)+COUNTIF(ME$22:MX$22,処理!$L23)+COUNTIF(ME$25:MX$25,処理!$L23))/処理!$M23,0))","v":""},"",{"$f":"$S$33","v":""},null,"",""]
[null,null,{"$f":"IF(COUNTIF(処理!$J$2:$J$25,4)>0,処理!H6,\"\")","v":""},null,{"$f":"IF(LEN(C34)=0,\"\",(COUNTIF(C$6:V$7,C34)+COUNTIF(C$10:V$10,C34)+COUNTIF(C$13:V$13,C34)+COUNTIF(C$16:V$16,C34)+COUNTIF(C$19:V$19,C34)+COUNTIF(C$22:V$22,C34)+COUNTIF(C$25:V$25,C34))/設定!$D25+IFERROR((COUNTIF(C$6:V$7,処理!$L6)+COUNTIF(C$10:V$10,処理!$L6)+COUNTIF(C$13:V$13,処理!$L6)+COUNTIF(C$16:V$16,処理!$L6)+COUNTIF(C$19:V$19,処理!$L6)+COUNTIF(C$22:V$22,処理!$L6)+COUNTIF(C$25:V$25,処理!$L6))/処理!$M6,0))","v":""},"",{"$f":"IF(COUNTIF(処理!$J$2:$J$25,10)>0,処理!H12,\"\")","v":""},null,{"$f":"IF(LEN(G34)=0,\"\",(COUNTIF(C$6:V$7,G34)+COUNTIF(C$10:V$10,G34)+COUNTIF(C$13:V$13,G34)+COUNTIF(C$16:V$16,G34)+COUNTIF(C$19:V$19,G34)+COUNTIF(C$22:V$22,G34)+COUNTIF(C$25:V$25,G34))/設定!$G25+IFERROR((COUNTIF(C$6:V$7,処理!$L12)+COUNTIF(C$10:V$10,処理!$L12)+COUNTIF(C$13:V$13,処理!$L12)+COUNTIF(C$16:V$16,処理!$L12)+COUNTIF(C$19:V$19,処理!$L12)+COUNTIF(C$22:V$22,処理!$L12)+COUNTIF(C$25:V$25,処理!$L12))/処理!$M12,0))","v":""},"",{"$f":"IF(COUNTIF(処理!$J$2:$J$25,16)>0,処理!H18,\"\")","v":""},null,{"$f":"IF(LEN(K34)=0,\"\",(COUNTIF(C$6:V$7,K34)+COUNTIF(C$10:V$10,K34)+COUNTIF(C$13:V$13,K34)+COUNTIF(C$16:V$16,K34)+COUNTIF(C$19:V$19,K34)+COUNTIF(C$22:V$22,K34)+COUNTIF(C$25:V$25,K34))/設定!$J25+IFERROR((COUNTIF(C$6:V$7,処理!$L18)+COUNTIF(C$10:V$10,処理!$L18)+COUNTIF(C$13:V$13,処理!$L18)+COUNTIF(C$16:V$16,処理!$L18)+COUNTIF(C$19:V$19,処理!$L18)+COUNTIF(C$22:V$22,処理!$L18)+COUNTIF(C$25:V$25,処理!$L18))/処理!$M18,0))","v":""},"",{"$f":"IF(COUNTIF(処理!$J$2:$J$25,22)>0,処理!H24,\"\")","v":""},null,{"$f":"IF(LEN(O34)=0,\"\",(COUNTIF(C$6:V$7,O34)+COUNTIF(C$10:V$10,O34)+COUNTIF(C$13:V$13,O34)+COUNTIF(C$16:V$16,O34)+COUNTIF(C$19:V$19,O34)+COUNTIF(C$22:V$22,O34)+COUNTIF(C$25:V$25,O34))/設定!$M25+IFERROR((COUNTIF(C$6:V$7,処理!$L24)+COUNTIF(C$10:V$10,処理!$L24)+COUNTIF(C$13:V$13,処理!$L24)+COUNTIF(C$16:V$16,処理!$L24)+COUNTIF(C$19:V$19,処理!$L24)+COUNTIF(C$22:V$22,処理!$L24)+COUNTIF(C$25:V$25,処理!$L24))/処理!$M24,0))","v":""},"",{"$f":"処理!H30&\"\"","v":""},null,"","",{"$f":"$C$34","v":""},null,{"$f":"IF(LEN(W34)=0,\"\",(COUNTIF(W$6:AP$7,W34)+COUNTIF(W$10:AP$10,W34)+COUNTIF(W$13:AP$13,W34)+COUNTIF(W$16:AP$16,W34)+COUNTIF(W$19:AP$19,W34)+COUNTIF(W$22:AP$22,W34)+COUNTIF(W$25:AP$25,W34))/設定!$D25+IFERROR((COUNTIF(W$6:AP$7,処理!$L6)+COUNTIF(W$10:AP$10,処理!$L6)+COUNTIF(W$13:AP$13,処理!$L6)+COUNTIF(W$16:AP$16,処理!$L6)+COUNTIF(W$19:AP$19,処理!$L6)+COUNTIF(W$22:AP$22,処理!$L6)+COUNTIF(W$25:AP$25,処理!$L6))/処理!$M6,0))","v":""},"",{"$f":"$G$34","v":""},null,{"$f":"IF(LEN(AA34)=0,\"\",(COUNTIF(W$6:AP$7,AA34)+COUNTIF(W$10:AP$10,AA34)+COUNTIF(W$13:AP$13,AA34)+COUNTIF(W$16:AP$16,AA34)+COUNTIF(W$19:AP$19,AA34)+COUNTIF(W$22:AP$22,AA34)+COUNTIF(W$25:AP$25,AA34))/設定!$G25+IFERROR((COUNTIF(W$6:AP$7,処理!$L12)+COUNTIF(W$10:AP$10,処理!$L12)+COUNTIF(W$13:AP$13,処理!$L12)+COUNTIF(W$16:AP$16,処理!$L12)+COUNTIF(W$19:AP$19,処理!$L12)+COUNTIF(W$22:AP$22,処理!$L12)+COUNTIF(W$25:AP$25,処理!$L12))/処理!$M12,0))","v":""},"",{"$f":"$K$34","v":""},null,{"$f":"IF(LEN(AE34)=0,\"\",(COUNTIF(W$6:AP$7,AE34)+COUNTIF(W$10:AP$10,AE34)+COUNTIF(W$13:AP$13,AE34)+COUNTIF(W$16:AP$16,AE34)+COUNTIF(W$19:AP$19,AE34)+COUNTIF(W$22:AP$22,AE34)+COUNTIF(W$25:AP$25,AE34))/設定!$J25+IFERROR((COUNTIF(W$6:AP$7,処理!$L18)+COUNTIF(W$10:AP$10,処理!$L18)+COUNTIF(W$13:AP$13,処理!$L18)+COUNTIF(W$16:AP$16,処理!$L18)+COUNTIF(W$19:AP$19,処理!$L18)+COUNTIF(W$22:AP$22,処理!$L18)+COUNTIF(W$25:AP$25,処理!$L18))/処理!$M18,0))","v":""},"",{"$f":"$O$34","v":""},null,{"$f":"IF(LEN(AI34)=0,\"\",(COUNTIF(W$6:AP$7,AI34)+COUNTIF(W$10:AP$10,AI34)+COUNTIF(W$13:AP$13,AI34)+COUNTIF(W$16:AP$16,AI34)+COUNTIF(W$19:AP$19,AI34)+COUNTIF(W$22:AP$22,AI34)+COUNTIF(W$25:AP$25,AI34))/設定!$M25+IFERROR((COUNTIF(W$6:AP$7,処理!$L24)+COUNTIF(W$10:AP$10,処理!$L24)+COUNTIF(W$13:AP$13,処理!$L24)+COUNTIF(W$16:AP$16,処理!$L24)+COUNTIF(W$19:AP$19,処理!$L24)+COUNTIF(W$22:AP$22,処理!$L24)+COUNTIF(W$25:AP$25,処理!$L24))/処理!$M24,0))","v":""},"",{"$f":"$S$34","v":""},null,"","",{"$f":"$C$34","v":""},null,{"$f":"IF(LEN(AQ34)=0,\"\",(COUNTIF(AQ$6:BJ$7,AQ34)+COUNTIF(AQ$10:BJ$10,AQ34)+COUNTIF(AQ$13:BJ$13,AQ34)+COUNTIF(AQ$16:BJ$16,AQ34)+COUNTIF(AQ$19:BJ$19,AQ34)+COUNTIF(AQ$22:BJ$22,AQ34)+COUNTIF(AQ$25:BJ$25,AQ34))/設定!$D25+IFERROR((COUNTIF(AQ$6:BJ$7,処理!$L6)+COUNTIF(AQ$10:BJ$10,処理!$L6)+COUNTIF(AQ$13:BJ$13,処理!$L6)+COUNTIF(AQ$16:BJ$16,処理!$L6)+COUNTIF(AQ$19:BJ$19,処理!$L6)+COUNTIF(AQ$22:BJ$22,処理!$L6)+COUNTIF(AQ$25:BJ$25,処理!$L6))/処理!$M6,0))","v":""},"",{"$f":"$G$34","v":""},null,{"$f":"IF(LEN(AU34)=0,\"\",(COUNTIF(AQ$6:BJ$7,AU34)+COUNTIF(AQ$10:BJ$10,AU34)+COUNTIF(AQ$13:BJ$13,AU34)+COUNTIF(AQ$16:BJ$16,AU34)+COUNTIF(AQ$19:BJ$19,AU34)+COUNTIF(AQ$22:BJ$22,AU34)+COUNTIF(AQ$25:BJ$25,AU34))/設定!$G25+IFERROR((COUNTIF(AQ$6:BJ$7,処理!$L12)+COUNTIF(AQ$10:BJ$10,処理!$L12)+COUNTIF(AQ$13:BJ$13,処理!$L12)+COUNTIF(AQ$16:BJ$16,処理!$L12)+COUNTIF(AQ$19:BJ$19,処理!$L12)+COUNTIF(AQ$22:BJ$22,処理!$L12)+COUNTIF(AQ$25:BJ$25,処理!$L12))/処理!$M12,0))","v":""},"",{"$f":"$K$34","v":""},null,{"$f":"IF(LEN(AY34)=0,\"\",(COUNTIF(AQ$6:BJ$7,AY34)+COUNTIF(AQ$10:BJ$10,AY34)+COUNTIF(AQ$13:BJ$13,AY34)+COUNTIF(AQ$16:BJ$16,AY34)+COUNTIF(AQ$19:BJ$19,AY34)+COUNTIF(AQ$22:BJ$22,AY34)+COUNTIF(AQ$25:BJ$25,AY34))/設定!$J25+IFERROR((COUNTIF(AQ$6:BJ$7,処理!$L18)+COUNTIF(AQ$10:BJ$10,処理!$L18)+COUNTIF(AQ$13:BJ$13,処理!$L18)+COUNTIF(AQ$16:BJ$16,処理!$L18)+COUNTIF(AQ$19:BJ$19,処理!$L18)+COUNTIF(AQ$22:BJ$22,処理!$L18)+COUNTIF(AQ$25:BJ$25,処理!$L18))/処理!$M18,0))","v":""},"",{"$f":"$O$34","v":""},null,{"$f":"IF(LEN(BC34)=0,\"\",(COUNTIF(AQ$6:BJ$7,BC34)+COUNTIF(AQ$10:BJ$10,BC34)+COUNTIF(AQ$13:BJ$13,BC34)+COUNTIF(AQ$16:BJ$16,BC34)+COUNTIF(AQ$19:BJ$19,BC34)+COUNTIF(AQ$22:BJ$22,BC34)+COUNTIF(AQ$25:BJ$25,BC34))/設定!$M25+IFERROR((COUNTIF(AQ$6:BJ$7,処理!$L24)+COUNTIF(AQ$10:BJ$10,処理!$L24)+COUNTIF(AQ$13:BJ$13,処理!$L24)+COUNTIF(AQ$16:BJ$16,処理!$L24)+COUNTIF(AQ$19:BJ$19,処理!$L24)+COUNTIF(AQ$22:BJ$22,処理!$L24)+COUNTIF(AQ$25:BJ$25,処理!$L24))/処理!$M24,0))","v":""},"",{"$f":"$S$34","v":""},null,"","",{"$f":"$C$34","v":""},null,{"$f":"IF(LEN(BK34)=0,\"\",(COUNTIF(BK$6:CD$7,BK34)+COUNTIF(BK$10:CD$10,BK34)+COUNTIF(BK$13:CD$13,BK34)+COUNTIF(BK$16:CD$16,BK34)+COUNTIF(BK$19:CD$19,BK34)+COUNTIF(BK$22:CD$22,BK34)+COUNTIF(BK$25:CD$25,BK34))/設定!$D25+IFERROR((COUNTIF(BK$6:CD$7,処理!$L6)+COUNTIF(BK$10:CD$10,処理!$L6)+COUNTIF(BK$13:CD$13,処理!$L6)+COUNTIF(BK$16:CD$16,処理!$L6)+COUNTIF(BK$19:CD$19,処理!$L6)+COUNTIF(BK$22:CD$22,処理!$L6)+COUNTIF(BK$25:CD$25,処理!$L6))/処理!$M6,0))","v":""},"",{"$f":"$G$34","v":""},null,{"$f":"IF(LEN(BO34)=0,\"\",(COUNTIF(BK$6:CD$7,BO34)+COUNTIF(BK$10:CD$10,BO34)+COUNTIF(BK$13:CD$13,BO34)+COUNTIF(BK$16:CD$16,BO34)+COUNTIF(BK$19:CD$19,BO34)+COUNTIF(BK$22:CD$22,BO34)+COUNTIF(BK$25:CD$25,BO34))/設定!$G25+IFERROR((COUNTIF(BK$6:CD$7,処理!$L12)+COUNTIF(BK$10:CD$10,処理!$L12)+COUNTIF(BK$13:CD$13,処理!$L12)+COUNTIF(BK$16:CD$16,処理!$L12)+COUNTIF(BK$19:CD$19,処理!$L12)+COUNTIF(BK$22:CD$22,処理!$L12)+COUNTIF(BK$25:CD$25,処理!$L12))/処理!$M12,0))","v":""},"",{"$f":"$K$34","v":""},null,{"$f":"IF(LEN(BS34)=0,\"\",(COUNTIF(BK$6:CD$7,BS34)+COUNTIF(BK$10:CD$10,BS34)+COUNTIF(BK$13:CD$13,BS34)+COUNTIF(BK$16:CD$16,BS34)+COUNTIF(BK$19:CD$19,BS34)+COUNTIF(BK$22:CD$22,BS34)+COUNTIF(BK$25:CD$25,BS34))/設定!$J25+IFERROR((COUNTIF(BK$6:CD$7,処理!$L18)+COUNTIF(BK$10:CD$10,処理!$L18)+COUNTIF(BK$13:CD$13,処理!$L18)+COUNTIF(BK$16:CD$16,処理!$L18)+COUNTIF(BK$19:CD$19,処理!$L18)+COUNTIF(BK$22:CD$22,処理!$L18)+COUNTIF(BK$25:CD$25,処理!$L18))/処理!$M18,0))","v":""},"",{"$f":"$O$34","v":""},null,{"$f":"IF(LEN(BW34)=0,\"\",(COUNTIF(BK$6:CD$7,BW34)+COUNTIF(BK$10:CD$10,BW34)+COUNTIF(BK$13:CD$13,BW34)+COUNTIF(BK$16:CD$16,BW34)+COUNTIF(BK$19:CD$19,BW34)+COUNTIF(BK$22:CD$22,BW34)+COUNTIF(BK$25:CD$25,BW34))/設定!$M25+IFERROR((COUNTIF(BK$6:CD$7,処理!$L24)+COUNTIF(BK$10:CD$10,処理!$L24)+COUNTIF(BK$13:CD$13,処理!$L24)+COUNTIF(BK$16:CD$16,処理!$L24)+COUNTIF(BK$19:CD$19,処理!$L24)+COUNTIF(BK$22:CD$22,処理!$L24)+COUNTIF(BK$25:CD$25,処理!$L24))/処理!$M24,0))","v":""},"",{"$f":"$S$34","v":""},null,"","",{"$f":"$C$34","v":""},null,{"$f":"IF(LEN(CE34)=0,\"\",(COUNTIF(CE$6:CX$7,CE34)+COUNTIF(CE$10:CX$10,CE34)+COUNTIF(CE$13:CX$13,CE34)+COUNTIF(CE$16:CX$16,CE34)+COUNTIF(CE$19:CX$19,CE34)+COUNTIF(CE$22:CX$22,CE34)+COUNTIF(CE$25:CX$25,CE34))/設定!$D25+IFERROR((COUNTIF(CE$6:CX$7,処理!$L6)+COUNTIF(CE$10:CX$10,処理!$L6)+COUNTIF(CE$13:CX$13,処理!$L6)+COUNTIF(CE$16:CX$16,処理!$L6)+COUNTIF(CE$19:CX$19,処理!$L6)+COUNTIF(CE$22:CX$22,処理!$L6)+COUNTIF(CE$25:CX$25,処理!$L6))/処理!$M6,0))","v":""},"",{"$f":"$G$34","v":""},null,{"$f":"IF(LEN(CI34)=0,\"\",(COUNTIF(CE$6:CX$7,CI34)+COUNTIF(CE$10:CX$10,CI34)+COUNTIF(CE$13:CX$13,CI34)+COUNTIF(CE$16:CX$16,CI34)+COUNTIF(CE$19:CX$19,CI34)+COUNTIF(CE$22:CX$22,CI34)+COUNTIF(CE$25:CX$25,CI34))/設定!$G25+IFERROR((COUNTIF(CE$6:CX$7,処理!$L12)+COUNTIF(CE$10:CX$10,処理!$L12)+COUNTIF(CE$13:CX$13,処理!$L12)+COUNTIF(CE$16:CX$16,処理!$L12)+COUNTIF(CE$19:CX$19,処理!$L12)+COUNTIF(CE$22:CX$22,処理!$L12)+COUNTIF(CE$25:CX$25,処理!$L12))/処理!$M12,0))","v":""},"",{"$f":"$K$34","v":""},null,{"$f":"IF(LEN(CM34)=0,\"\",(COUNTIF(CE$6:CX$7,CM34)+COUNTIF(CE$10:CX$10,CM34)+COUNTIF(CE$13:CX$13,CM34)+COUNTIF(CE$16:CX$16,CM34)+COUNTIF(CE$19:CX$19,CM34)+COUNTIF(CE$22:CX$22,CM34)+COUNTIF(CE$25:CX$25,CM34))/設定!$J25+IFERROR((COUNTIF(CE$6:CX$7,処理!$L18)+COUNTIF(CE$10:CX$10,処理!$L18)+COUNTIF(CE$13:CX$13,処理!$L18)+COUNTIF(CE$16:CX$16,処理!$L18)+COUNTIF(CE$19:CX$19,処理!$L18)+COUNTIF(CE$22:CX$22,処理!$L18)+COUNTIF(CE$25:CX$25,処理!$L18))/処理!$M18,0))","v":""},"",{"$f":"$O$34","v":""},null,{"$f":"IF(LEN(CQ34)=0,\"\",(COUNTIF(CE$6:CX$7,CQ34)+COUNTIF(CE$10:CX$10,CQ34)+COUNTIF(CE$13:CX$13,CQ34)+COUNTIF(CE$16:CX$16,CQ34)+COUNTIF(CE$19:CX$19,CQ34)+COUNTIF(CE$22:CX$22,CQ34)+COUNTIF(CE$25:CX$25,CQ34))/設定!$M25+IFERROR((COUNTIF(CE$6:CX$7,処理!$L24)+COUNTIF(CE$10:CX$10,処理!$L24)+COUNTIF(CE$13:CX$13,処理!$L24)+COUNTIF(CE$16:CX$16,処理!$L24)+COUNTIF(CE$19:CX$19,処理!$L24)+COUNTIF(CE$22:CX$22,処理!$L24)+COUNTIF(CE$25:CX$25,処理!$L24))/処理!$M24,0))","v":""},"",{"$f":"$S$34","v":""},null,"","",{"$f":"$C$34","v":""},null,{"$f":"IF(LEN(CY34)=0,\"\",(COUNTIF(CY$6:DR$7,CY34)+COUNTIF(CY$10:DR$10,CY34)+COUNTIF(CY$13:DR$13,CY34)+COUNTIF(CY$16:DR$16,CY34)+COUNTIF(CY$19:DR$19,CY34)+COUNTIF(CY$22:DR$22,CY34)+COUNTIF(CY$25:DR$25,CY34))/設定!$D25+IFERROR((COUNTIF(CY$6:DR$7,処理!$L6)+COUNTIF(CY$10:DR$10,処理!$L6)+COUNTIF(CY$13:DR$13,処理!$L6)+COUNTIF(CY$16:DR$16,処理!$L6)+COUNTIF(CY$19:DR$19,処理!$L6)+COUNTIF(CY$22:DR$22,処理!$L6)+COUNTIF(CY$25:DR$25,処理!$L6))/処理!$M6,0))","v":""},"",{"$f":"$G$34","v":""},null,{"$f":"IF(LEN(DC34)=0,\"\",(COUNTIF(CY$6:DR$7,DC34)+COUNTIF(CY$10:DR$10,DC34)+COUNTIF(CY$13:DR$13,DC34)+COUNTIF(CY$16:DR$16,DC34)+COUNTIF(CY$19:DR$19,DC34)+COUNTIF(CY$22:DR$22,DC34)+COUNTIF(CY$25:DR$25,DC34))/設定!$G25+IFERROR((COUNTIF(CY$6:DR$7,処理!$L12)+COUNTIF(CY$10:DR$10,処理!$L12)+COUNTIF(CY$13:DR$13,処理!$L12)+COUNTIF(CY$16:DR$16,処理!$L12)+COUNTIF(CY$19:DR$19,処理!$L12)+COUNTIF(CY$22:DR$22,処理!$L12)+COUNTIF(CY$25:DR$25,処理!$L12))/処理!$M12,0))","v":""},"",{"$f":"$K$34","v":""},null,{"$f":"IF(LEN(DG34)=0,\"\",(COUNTIF(CY$6:DR$7,DG34)+COUNTIF(CY$10:DR$10,DG34)+COUNTIF(CY$13:DR$13,DG34)+COUNTIF(CY$16:DR$16,DG34)+COUNTIF(CY$19:DR$19,DG34)+COUNTIF(CY$22:DR$22,DG34)+COUNTIF(CY$25:DR$25,DG34))/設定!$J25+IFERROR((COUNTIF(CY$6:DR$7,処理!$L18)+COUNTIF(CY$10:DR$10,処理!$L18)+COUNTIF(CY$13:DR$13,処理!$L18)+COUNTIF(CY$16:DR$16,処理!$L18)+COUNTIF(CY$19:DR$19,処理!$L18)+COUNTIF(CY$22:DR$22,処理!$L18)+COUNTIF(CY$25:DR$25,処理!$L18))/処理!$M18,0))","v":""},"",{"$f":"$O$34","v":""},null,{"$f":"IF(LEN(DK34)=0,\"\",(COUNTIF(CY$6:DR$7,DK34)+COUNTIF(CY$10:DR$10,DK34)+COUNTIF(CY$13:DR$13,DK34)+COUNTIF(CY$16:DR$16,DK34)+COUNTIF(CY$19:DR$19,DK34)+COUNTIF(CY$22:DR$22,DK34)+COUNTIF(CY$25:DR$25,DK34))/設定!$M25+IFERROR((COUNTIF(CY$6:DR$7,処理!$L24)+COUNTIF(CY$10:DR$10,処理!$L24)+COUNTIF(CY$13:DR$13,処理!$L24)+COUNTIF(CY$16:DR$16,処理!$L24)+COUNTIF(CY$19:DR$19,処理!$L24)+COUNTIF(CY$22:DR$22,処理!$L24)+COUNTIF(CY$25:DR$25,処理!$L24))/処理!$M24,0))","v":""},"",{"$f":"$S$34","v":""},null,"","",{"$f":"$C$34","v":""},null,{"$f":"IF(LEN(DS34)=0,\"\",(COUNTIF(DS$6:EL$7,DS34)+COUNTIF(DS$10:EL$10,DS34)+COUNTIF(DS$13:EL$13,DS34)+COUNTIF(DS$16:EL$16,DS34)+COUNTIF(DS$19:EL$19,DS34)+COUNTIF(DS$22:EL$22,DS34)+COUNTIF(DS$25:EL$25,DS34))/設定!$D25+IFERROR((COUNTIF(DS$6:EL$7,処理!$L6)+COUNTIF(DS$10:EL$10,処理!$L6)+COUNTIF(DS$13:EL$13,処理!$L6)+COUNTIF(DS$16:EL$16,処理!$L6)+COUNTIF(DS$19:EL$19,処理!$L6)+COUNTIF(DS$22:EL$22,処理!$L6)+COUNTIF(DS$25:EL$25,処理!$L6))/処理!$M6,0))","v":""},"",{"$f":"$G$34","v":""},null,{"$f":"IF(LEN(DW34)=0,\"\",(COUNTIF(DS$6:EL$7,DW34)+COUNTIF(DS$10:EL$10,DW34)+COUNTIF(DS$13:EL$13,DW34)+COUNTIF(DS$16:EL$16,DW34)+COUNTIF(DS$19:EL$19,DW34)+COUNTIF(DS$22:EL$22,DW34)+COUNTIF(DS$25:EL$25,DW34))/設定!$G25+IFERROR((COUNTIF(DS$6:EL$7,処理!$L12)+COUNTIF(DS$10:EL$10,処理!$L12)+COUNTIF(DS$13:EL$13,処理!$L12)+COUNTIF(DS$16:EL$16,処理!$L12)+COUNTIF(DS$19:EL$19,処理!$L12)+COUNTIF(DS$22:EL$22,処理!$L12)+COUNTIF(DS$25:EL$25,処理!$L12))/処理!$M12,0))","v":""},"",{"$f":"$K$34","v":""},null,{"$f":"IF(LEN(EA34)=0,\"\",(COUNTIF(DS$6:EL$7,EA34)+COUNTIF(DS$10:EL$10,EA34)+COUNTIF(DS$13:EL$13,EA34)+COUNTIF(DS$16:EL$16,EA34)+COUNTIF(DS$19:EL$19,EA34)+COUNTIF(DS$22:EL$22,EA34)+COUNTIF(DS$25:EL$25,EA34))/設定!$J25+IFERROR((COUNTIF(DS$6:EL$7,処理!$L18)+COUNTIF(DS$10:EL$10,処理!$L18)+COUNTIF(DS$13:EL$13,処理!$L18)+COUNTIF(DS$16:EL$16,処理!$L18)+COUNTIF(DS$19:EL$19,処理!$L18)+COUNTIF(DS$22:EL$22,処理!$L18)+COUNTIF(DS$25:EL$25,処理!$L18))/処理!$M18,0))","v":""},"",{"$f":"$O$34","v":""},null,{"$f":"IF(LEN(EE34)=0,\"\",(COUNTIF(DS$6:EL$7,EE34)+COUNTIF(DS$10:EL$10,EE34)+COUNTIF(DS$13:EL$13,EE34)+COUNTIF(DS$16:EL$16,EE34)+COUNTIF(DS$19:EL$19,EE34)+COUNTIF(DS$22:EL$22,EE34)+COUNTIF(DS$25:EL$25,EE34))/設定!$M25+IFERROR((COUNTIF(DS$6:EL$7,処理!$L24)+COUNTIF(DS$10:EL$10,処理!$L24)+COUNTIF(DS$13:EL$13,処理!$L24)+COUNTIF(DS$16:EL$16,処理!$L24)+COUNTIF(DS$19:EL$19,処理!$L24)+COUNTIF(DS$22:EL$22,処理!$L24)+COUNTIF(DS$25:EL$25,処理!$L24))/処理!$M24,0))","v":""},"",{"$f":"$S$34","v":""},null,"","",{"$f":"$C$34","v":""},null,{"$f":"IF(LEN(EM34)=0,\"\",(COUNTIF(EM$6:FF$7,EM34)+COUNTIF(EM$10:FF$10,EM34)+COUNTIF(EM$13:FF$13,EM34)+COUNTIF(EM$16:FF$16,EM34)+COUNTIF(EM$19:FF$19,EM34)+COUNTIF(EM$22:FF$22,EM34)+COUNTIF(EM$25:FF$25,EM34))/設定!$D25+IFERROR((COUNTIF(EM$6:FF$7,処理!$L6)+COUNTIF(EM$10:FF$10,処理!$L6)+COUNTIF(EM$13:FF$13,処理!$L6)+COUNTIF(EM$16:FF$16,処理!$L6)+COUNTIF(EM$19:FF$19,処理!$L6)+COUNTIF(EM$22:FF$22,処理!$L6)+COUNTIF(EM$25:FF$25,処理!$L6))/処理!$M6,0))","v":""},"",{"$f":"$G$34","v":""},null,{"$f":"IF(LEN(EQ34)=0,\"\",(COUNTIF(EM$6:FF$7,EQ34)+COUNTIF(EM$10:FF$10,EQ34)+COUNTIF(EM$13:FF$13,EQ34)+COUNTIF(EM$16:FF$16,EQ34)+COUNTIF(EM$19:FF$19,EQ34)+COUNTIF(EM$22:FF$22,EQ34)+COUNTIF(EM$25:FF$25,EQ34))/設定!$G25+IFERROR((COUNTIF(EM$6:FF$7,処理!$L12)+COUNTIF(EM$10:FF$10,処理!$L12)+COUNTIF(EM$13:FF$13,処理!$L12)+COUNTIF(EM$16:FF$16,処理!$L12)+COUNTIF(EM$19:FF$19,処理!$L12)+COUNTIF(EM$22:FF$22,処理!$L12)+COUNTIF(EM$25:FF$25,処理!$L12))/処理!$M12,0))","v":""},"",{"$f":"$K$34","v":""},null,{"$f":"IF(LEN(EU34)=0,\"\",(COUNTIF(EM$6:FF$7,EU34)+COUNTIF(EM$10:FF$10,EU34)+COUNTIF(EM$13:FF$13,EU34)+COUNTIF(EM$16:FF$16,EU34)+COUNTIF(EM$19:FF$19,EU34)+COUNTIF(EM$22:FF$22,EU34)+COUNTIF(EM$25:FF$25,EU34))/設定!$J25+IFERROR((COUNTIF(EM$6:FF$7,処理!$L18)+COUNTIF(EM$10:FF$10,処理!$L18)+COUNTIF(EM$13:FF$13,処理!$L18)+COUNTIF(EM$16:FF$16,処理!$L18)+COUNTIF(EM$19:FF$19,処理!$L18)+COUNTIF(EM$22:FF$22,処理!$L18)+COUNTIF(EM$25:FF$25,処理!$L18))/処理!$M18,0))","v":""},"",{"$f":"$O$34","v":""},null,{"$f":"IF(LEN(EY34)=0,\"\",(COUNTIF(EM$6:FF$7,EY34)+COUNTIF(EM$10:FF$10,EY34)+COUNTIF(EM$13:FF$13,EY34)+COUNTIF(EM$16:FF$16,EY34)+COUNTIF(EM$19:FF$19,EY34)+COUNTIF(EM$22:FF$22,EY34)+COUNTIF(EM$25:FF$25,EY34))/設定!$M25+IFERROR((COUNTIF(EM$6:FF$7,処理!$L24)+COUNTIF(EM$10:FF$10,処理!$L24)+COUNTIF(EM$13:FF$13,処理!$L24)+COUNTIF(EM$16:FF$16,処理!$L24)+COUNTIF(EM$19:FF$19,処理!$L24)+COUNTIF(EM$22:FF$22,処理!$L24)+COUNTIF(EM$25:FF$25,処理!$L24))/処理!$M24,0))","v":""},"",{"$f":"$S$34","v":""},null,"","",{"$f":"$C$34","v":""},null,{"$f":"IF(LEN(FG34)=0,\"\",(COUNTIF(FG$6:FZ$7,FG34)+COUNTIF(FG$10:FZ$10,FG34)+COUNTIF(FG$13:FZ$13,FG34)+COUNTIF(FG$16:FZ$16,FG34)+COUNTIF(FG$19:FZ$19,FG34)+COUNTIF(FG$22:FZ$22,FG34)+COUNTIF(FG$25:FZ$25,FG34))/設定!$D25+IFERROR((COUNTIF(FG$6:FZ$7,処理!$L6)+COUNTIF(FG$10:FZ$10,処理!$L6)+COUNTIF(FG$13:FZ$13,処理!$L6)+COUNTIF(FG$16:FZ$16,処理!$L6)+COUNTIF(FG$19:FZ$19,処理!$L6)+COUNTIF(FG$22:FZ$22,処理!$L6)+COUNTIF(FG$25:FZ$25,処理!$L6))/処理!$M6,0))","v":""},"",{"$f":"$G$34","v":""},null,{"$f":"IF(LEN(FK34)=0,\"\",(COUNTIF(FG$6:FZ$7,FK34)+COUNTIF(FG$10:FZ$10,FK34)+COUNTIF(FG$13:FZ$13,FK34)+COUNTIF(FG$16:FZ$16,FK34)+COUNTIF(FG$19:FZ$19,FK34)+COUNTIF(FG$22:FZ$22,FK34)+COUNTIF(FG$25:FZ$25,FK34))/設定!$G25+IFERROR((COUNTIF(FG$6:FZ$7,処理!$L12)+COUNTIF(FG$10:FZ$10,処理!$L12)+COUNTIF(FG$13:FZ$13,処理!$L12)+COUNTIF(FG$16:FZ$16,処理!$L12)+COUNTIF(FG$19:FZ$19,処理!$L12)+COUNTIF(FG$22:FZ$22,処理!$L12)+COUNTIF(FG$25:FZ$25,処理!$L12))/処理!$M12,0))","v":""},"",{"$f":"$K$34","v":""},null,{"$f":"IF(LEN(FO34)=0,\"\",(COUNTIF(FG$6:FZ$7,FO34)+COUNTIF(FG$10:FZ$10,FO34)+COUNTIF(FG$13:FZ$13,FO34)+COUNTIF(FG$16:FZ$16,FO34)+COUNTIF(FG$19:FZ$19,FO34)+COUNTIF(FG$22:FZ$22,FO34)+COUNTIF(FG$25:FZ$25,FO34))/設定!$J25+IFERROR((COUNTIF(FG$6:FZ$7,処理!$L18)+COUNTIF(FG$10:FZ$10,処理!$L18)+COUNTIF(FG$13:FZ$13,処理!$L18)+COUNTIF(FG$16:FZ$16,処理!$L18)+COUNTIF(FG$19:FZ$19,処理!$L18)+COUNTIF(FG$22:FZ$22,処理!$L18)+COUNTIF(FG$25:FZ$25,処理!$L18))/処理!$M18,0))","v":""},"",{"$f":"$O$34","v":""},null,{"$f":"IF(LEN(FS34)=0,\"\",(COUNTIF(FG$6:FZ$7,FS34)+COUNTIF(FG$10:FZ$10,FS34)+COUNTIF(FG$13:FZ$13,FS34)+COUNTIF(FG$16:FZ$16,FS34)+COUNTIF(FG$19:FZ$19,FS34)+COUNTIF(FG$22:FZ$22,FS34)+COUNTIF(FG$25:FZ$25,FS34))/設定!$M25+IFERROR((COUNTIF(FG$6:FZ$7,処理!$L24)+COUNTIF(FG$10:FZ$10,処理!$L24)+COUNTIF(FG$13:FZ$13,処理!$L24)+COUNTIF(FG$16:FZ$16,処理!$L24)+COUNTIF(FG$19:FZ$19,処理!$L24)+COUNTIF(FG$22:FZ$22,処理!$L24)+COUNTIF(FG$25:FZ$25,処理!$L24))/処理!$M24,0))","v":""},"",{"$f":"$S$34","v":""},null,"","",{"$f":"$C$34","v":""},null,{"$f":"IF(LEN(GA34)=0,\"\",(COUNTIF(GA$6:GT$7,GA34)+COUNTIF(GA$10:GT$10,GA34)+COUNTIF(GA$13:GT$13,GA34)+COUNTIF(GA$16:GT$16,GA34)+COUNTIF(GA$19:GT$19,GA34)+COUNTIF(GA$22:GT$22,GA34)+COUNTIF(GA$25:GT$25,GA34))/設定!$D25+IFERROR((COUNTIF(GA$6:GT$7,処理!$L6)+COUNTIF(GA$10:GT$10,処理!$L6)+COUNTIF(GA$13:GT$13,処理!$L6)+COUNTIF(GA$16:GT$16,処理!$L6)+COUNTIF(GA$19:GT$19,処理!$L6)+COUNTIF(GA$22:GT$22,処理!$L6)+COUNTIF(GA$25:GT$25,処理!$L6))/処理!$M6,0))","v":""},"",{"$f":"$G$34","v":""},null,{"$f":"IF(LEN(GE34)=0,\"\",(COUNTIF(GA$6:GT$7,GE34)+COUNTIF(GA$10:GT$10,GE34)+COUNTIF(GA$13:GT$13,GE34)+COUNTIF(GA$16:GT$16,GE34)+COUNTIF(GA$19:GT$19,GE34)+COUNTIF(GA$22:GT$22,GE34)+COUNTIF(GA$25:GT$25,GE34))/設定!$G25+IFERROR((COUNTIF(GA$6:GT$7,処理!$L12)+COUNTIF(GA$10:GT$10,処理!$L12)+COUNTIF(GA$13:GT$13,処理!$L12)+COUNTIF(GA$16:GT$16,処理!$L12)+COUNTIF(GA$19:GT$19,処理!$L12)+COUNTIF(GA$22:GT$22,処理!$L12)+COUNTIF(GA$25:GT$25,処理!$L12))/処理!$M12,0))","v":""},"",{"$f":"$K$34","v":""},null,{"$f":"IF(LEN(GI34)=0,\"\",(COUNTIF(GA$6:GT$7,GI34)+COUNTIF(GA$10:GT$10,GI34)+COUNTIF(GA$13:GT$13,GI34)+COUNTIF(GA$16:GT$16,GI34)+COUNTIF(GA$19:GT$19,GI34)+COUNTIF(GA$22:GT$22,GI34)+COUNTIF(GA$25:GT$25,GI34))/設定!$J25+IFERROR((COUNTIF(GA$6:GT$7,処理!$L18)+COUNTIF(GA$10:GT$10,処理!$L18)+COUNTIF(GA$13:GT$13,処理!$L18)+COUNTIF(GA$16:GT$16,処理!$L18)+COUNTIF(GA$19:GT$19,処理!$L18)+COUNTIF(GA$22:GT$22,処理!$L18)+COUNTIF(GA$25:GT$25,処理!$L18))/処理!$M18,0))","v":""},"",{"$f":"$O$34","v":""},null,{"$f":"IF(LEN(GM34)=0,\"\",(COUNTIF(GA$6:GT$7,GM34)+COUNTIF(GA$10:GT$10,GM34)+COUNTIF(GA$13:GT$13,GM34)+COUNTIF(GA$16:GT$16,GM34)+COUNTIF(GA$19:GT$19,GM34)+COUNTIF(GA$22:GT$22,GM34)+COUNTIF(GA$25:GT$25,GM34))/設定!$M25+IFERROR((COUNTIF(GA$6:GT$7,処理!$L24)+COUNTIF(GA$10:GT$10,処理!$L24)+COUNTIF(GA$13:GT$13,処理!$L24)+COUNTIF(GA$16:GT$16,処理!$L24)+COUNTIF(GA$19:GT$19,処理!$L24)+COUNTIF(GA$22:GT$22,処理!$L24)+COUNTIF(GA$25:GT$25,処理!$L24))/処理!$M24,0))","v":""},"",{"$f":"$S$34","v":""},null,"","",{"$f":"$C$34","v":""},null,{"$f":"IF(LEN(GU34)=0,\"\",(COUNTIF(GU$6:HN$7,GU34)+COUNTIF(GU$10:HN$10,GU34)+COUNTIF(GU$13:HN$13,GU34)+COUNTIF(GU$16:HN$16,GU34)+COUNTIF(GU$19:HN$19,GU34)+COUNTIF(GU$22:HN$22,GU34)+COUNTIF(GU$25:HN$25,GU34))/設定!$D25+IFERROR((COUNTIF(GU$6:HN$7,処理!$L6)+COUNTIF(GU$10:HN$10,処理!$L6)+COUNTIF(GU$13:HN$13,処理!$L6)+COUNTIF(GU$16:HN$16,処理!$L6)+COUNTIF(GU$19:HN$19,処理!$L6)+COUNTIF(GU$22:HN$22,処理!$L6)+COUNTIF(GU$25:HN$25,処理!$L6))/処理!$M6,0))","v":""},"",{"$f":"$G$34","v":""},null,{"$f":"IF(LEN(GY34)=0,\"\",(COUNTIF(GU$6:HN$7,GY34)+COUNTIF(GU$10:HN$10,GY34)+COUNTIF(GU$13:HN$13,GY34)+COUNTIF(GU$16:HN$16,GY34)+COUNTIF(GU$19:HN$19,GY34)+COUNTIF(GU$22:HN$22,GY34)+COUNTIF(GU$25:HN$25,GY34))/設定!$G25+IFERROR((COUNTIF(GU$6:HN$7,処理!$L12)+COUNTIF(GU$10:HN$10,処理!$L12)+COUNTIF(GU$13:HN$13,処理!$L12)+COUNTIF(GU$16:HN$16,処理!$L12)+COUNTIF(GU$19:HN$19,処理!$L12)+COUNTIF(GU$22:HN$22,処理!$L12)+COUNTIF(GU$25:HN$25,処理!$L12))/処理!$M12,0))","v":""},"",{"$f":"$K$34","v":""},null,{"$f":"IF(LEN(HC34)=0,\"\",(COUNTIF(GU$6:HN$7,HC34)+COUNTIF(GU$10:HN$10,HC34)+COUNTIF(GU$13:HN$13,HC34)+COUNTIF(GU$16:HN$16,HC34)+COUNTIF(GU$19:HN$19,HC34)+COUNTIF(GU$22:HN$22,HC34)+COUNTIF(GU$25:HN$25,HC34))/設定!$J25+IFERROR((COUNTIF(GU$6:HN$7,処理!$L18)+COUNTIF(GU$10:HN$10,処理!$L18)+COUNTIF(GU$13:HN$13,処理!$L18)+COUNTIF(GU$16:HN$16,処理!$L18)+COUNTIF(GU$19:HN$19,処理!$L18)+COUNTIF(GU$22:HN$22,処理!$L18)+COUNTIF(GU$25:HN$25,処理!$L18))/処理!$M18,0))","v":""},"",{"$f":"$O$34","v":""},null,{"$f":"IF(LEN(HG34)=0,\"\",(COUNTIF(GU$6:HN$7,HG34)+COUNTIF(GU$10:HN$10,HG34)+COUNTIF(GU$13:HN$13,HG34)+COUNTIF(GU$16:HN$16,HG34)+COUNTIF(GU$19:HN$19,HG34)+COUNTIF(GU$22:HN$22,HG34)+COUNTIF(GU$25:HN$25,HG34))/設定!$M25+IFERROR((COUNTIF(GU$6:HN$7,処理!$L24)+COUNTIF(GU$10:HN$10,処理!$L24)+COUNTIF(GU$13:HN$13,処理!$L24)+COUNTIF(GU$16:HN$16,処理!$L24)+COUNTIF(GU$19:HN$19,処理!$L24)+COUNTIF(GU$22:HN$22,処理!$L24)+COUNTIF(GU$25:HN$25,処理!$L24))/処理!$M24,0))","v":""},"",{"$f":"$S$34","v":""},null,"","",{"$f":"$C$34","v":""},null,{"$f":"IF(LEN(HO34)=0,\"\",(COUNTIF(HO$6:IH$7,HO34)+COUNTIF(HO$10:IH$10,HO34)+COUNTIF(HO$13:IH$13,HO34)+COUNTIF(HO$16:IH$16,HO34)+COUNTIF(HO$19:IH$19,HO34)+COUNTIF(HO$22:IH$22,HO34)+COUNTIF(HO$25:IH$25,HO34))/設定!$D25+IFERROR((COUNTIF(HO$6:IH$7,処理!$L6)+COUNTIF(HO$10:IH$10,処理!$L6)+COUNTIF(HO$13:IH$13,処理!$L6)+COUNTIF(HO$16:IH$16,処理!$L6)+COUNTIF(HO$19:IH$19,処理!$L6)+COUNTIF(HO$22:IH$22,処理!$L6)+COUNTIF(HO$25:IH$25,処理!$L6))/処理!$M6,0))","v":""},"",{"$f":"$G$34","v":""},null,{"$f":"IF(LEN(HS34)=0,\"\",(COUNTIF(HO$6:IH$7,HS34)+COUNTIF(HO$10:IH$10,HS34)+COUNTIF(HO$13:IH$13,HS34)+COUNTIF(HO$16:IH$16,HS34)+COUNTIF(HO$19:IH$19,HS34)+COUNTIF(HO$22:IH$22,HS34)+COUNTIF(HO$25:IH$25,HS34))/設定!$G25+IFERROR((COUNTIF(HO$6:IH$7,処理!$L12)+COUNTIF(HO$10:IH$10,処理!$L12)+COUNTIF(HO$13:IH$13,処理!$L12)+COUNTIF(HO$16:IH$16,処理!$L12)+COUNTIF(HO$19:IH$19,処理!$L12)+COUNTIF(HO$22:IH$22,処理!$L12)+COUNTIF(HO$25:IH$25,処理!$L12))/処理!$M12,0))","v":""},"",{"$f":"$K$34","v":""},null,{"$f":"IF(LEN(HW34)=0,\"\",(COUNTIF(HO$6:IH$7,HW34)+COUNTIF(HO$10:IH$10,HW34)+COUNTIF(HO$13:IH$13,HW34)+COUNTIF(HO$16:IH$16,HW34)+COUNTIF(HO$19:IH$19,HW34)+COUNTIF(HO$22:IH$22,HW34)+COUNTIF(HO$25:IH$25,HW34))/設定!$J25+IFERROR((COUNTIF(HO$6:IH$7,処理!$L18)+COUNTIF(HO$10:IH$10,処理!$L18)+COUNTIF(HO$13:IH$13,処理!$L18)+COUNTIF(HO$16:IH$16,処理!$L18)+COUNTIF(HO$19:IH$19,処理!$L18)+COUNTIF(HO$22:IH$22,処理!$L18)+COUNTIF(HO$25:IH$25,処理!$L18))/処理!$M18,0))","v":""},"",{"$f":"$O$34","v":""},null,{"$f":"IF(LEN(IA34)=0,\"\",(COUNTIF(HO$6:IH$7,IA34)+COUNTIF(HO$10:IH$10,IA34)+COUNTIF(HO$13:IH$13,IA34)+COUNTIF(HO$16:IH$16,IA34)+COUNTIF(HO$19:IH$19,IA34)+COUNTIF(HO$22:IH$22,IA34)+COUNTIF(HO$25:IH$25,IA34))/設定!$M25+IFERROR((COUNTIF(HO$6:IH$7,処理!$L24)+COUNTIF(HO$10:IH$10,処理!$L24)+COUNTIF(HO$13:IH$13,処理!$L24)+COUNTIF(HO$16:IH$16,処理!$L24)+COUNTIF(HO$19:IH$19,処理!$L24)+COUNTIF(HO$22:IH$22,処理!$L24)+COUNTIF(HO$25:IH$25,処理!$L24))/処理!$M24,0))","v":""},"",{"$f":"$S$34","v":""},null,"","",{"$f":"$C$34","v":""},null,{"$f":"IF(LEN(II34)=0,\"\",(COUNTIF(II$6:JB$7,II34)+COUNTIF(II$10:JB$10,II34)+COUNTIF(II$13:JB$13,II34)+COUNTIF(II$16:JB$16,II34)+COUNTIF(II$19:JB$19,II34)+COUNTIF(II$22:JB$22,II34)+COUNTIF(II$25:JB$25,II34))/設定!$D25+IFERROR((COUNTIF(II$6:JB$7,処理!$L6)+COUNTIF(II$10:JB$10,処理!$L6)+COUNTIF(II$13:JB$13,処理!$L6)+COUNTIF(II$16:JB$16,処理!$L6)+COUNTIF(II$19:JB$19,処理!$L6)+COUNTIF(II$22:JB$22,処理!$L6)+COUNTIF(II$25:JB$25,処理!$L6))/処理!$M6,0))","v":""},"",{"$f":"$G$34","v":""},null,{"$f":"IF(LEN(IM34)=0,\"\",(COUNTIF(II$6:JB$7,IM34)+COUNTIF(II$10:JB$10,IM34)+COUNTIF(II$13:JB$13,IM34)+COUNTIF(II$16:JB$16,IM34)+COUNTIF(II$19:JB$19,IM34)+COUNTIF(II$22:JB$22,IM34)+COUNTIF(II$25:JB$25,IM34))/設定!$G25+IFERROR((COUNTIF(II$6:JB$7,処理!$L12)+COUNTIF(II$10:JB$10,処理!$L12)+COUNTIF(II$13:JB$13,処理!$L12)+COUNTIF(II$16:JB$16,処理!$L12)+COUNTIF(II$19:JB$19,処理!$L12)+COUNTIF(II$22:JB$22,処理!$L12)+COUNTIF(II$25:JB$25,処理!$L12))/処理!$M12,0))","v":""},"",{"$f":"$K$34","v":""},null,{"$f":"IF(LEN(IQ34)=0,\"\",(COUNTIF(II$6:JB$7,IQ34)+COUNTIF(II$10:JB$10,IQ34)+COUNTIF(II$13:JB$13,IQ34)+COUNTIF(II$16:JB$16,IQ34)+COUNTIF(II$19:JB$19,IQ34)+COUNTIF(II$22:JB$22,IQ34)+COUNTIF(II$25:JB$25,IQ34))/設定!$J25+IFERROR((COUNTIF(II$6:JB$7,処理!$L18)+COUNTIF(II$10:JB$10,処理!$L18)+COUNTIF(II$13:JB$13,処理!$L18)+COUNTIF(II$16:JB$16,処理!$L18)+COUNTIF(II$19:JB$19,処理!$L18)+COUNTIF(II$22:JB$22,処理!$L18)+COUNTIF(II$25:JB$25,処理!$L18))/処理!$M18,0))","v":""},"",{"$f":"$O$34","v":""},null,{"$f":"IF(LEN(IU34)=0,\"\",(COUNTIF(II$6:JB$7,IU34)+COUNTIF(II$10:JB$10,IU34)+COUNTIF(II$13:JB$13,IU34)+COUNTIF(II$16:JB$16,IU34)+COUNTIF(II$19:JB$19,IU34)+COUNTIF(II$22:JB$22,IU34)+COUNTIF(II$25:JB$25,IU34))/設定!$M25+IFERROR((COUNTIF(II$6:JB$7,処理!$L24)+COUNTIF(II$10:JB$10,処理!$L24)+COUNTIF(II$13:JB$13,処理!$L24)+COUNTIF(II$16:JB$16,処理!$L24)+COUNTIF(II$19:JB$19,処理!$L24)+COUNTIF(II$22:JB$22,処理!$L24)+COUNTIF(II$25:JB$25,処理!$L24))/処理!$M24,0))","v":""},"",{"$f":"$S$34","v":""},null,"","",{"$f":"$C$34","v":""},null,{"$f":"IF(LEN(JC34)=0,\"\",(COUNTIF(JC$6:JV$7,JC34)+COUNTIF(JC$10:JV$10,JC34)+COUNTIF(JC$13:JV$13,JC34)+COUNTIF(JC$16:JV$16,JC34)+COUNTIF(JC$19:JV$19,JC34)+COUNTIF(JC$22:JV$22,JC34)+COUNTIF(JC$25:JV$25,JC34))/設定!$D25+IFERROR((COUNTIF(JC$6:JV$7,処理!$L6)+COUNTIF(JC$10:JV$10,処理!$L6)+COUNTIF(JC$13:JV$13,処理!$L6)+COUNTIF(JC$16:JV$16,処理!$L6)+COUNTIF(JC$19:JV$19,処理!$L6)+COUNTIF(JC$22:JV$22,処理!$L6)+COUNTIF(JC$25:JV$25,処理!$L6))/処理!$M6,0))","v":""},"",{"$f":"$G$34","v":""},null,{"$f":"IF(LEN(JG34)=0,\"\",(COUNTIF(JC$6:JV$7,JG34)+COUNTIF(JC$10:JV$10,JG34)+COUNTIF(JC$13:JV$13,JG34)+COUNTIF(JC$16:JV$16,JG34)+COUNTIF(JC$19:JV$19,JG34)+COUNTIF(JC$22:JV$22,JG34)+COUNTIF(JC$25:JV$25,JG34))/設定!$G25+IFERROR((COUNTIF(JC$6:JV$7,処理!$L12)+COUNTIF(JC$10:JV$10,処理!$L12)+COUNTIF(JC$13:JV$13,処理!$L12)+COUNTIF(JC$16:JV$16,処理!$L12)+COUNTIF(JC$19:JV$19,処理!$L12)+COUNTIF(JC$22:JV$22,処理!$L12)+COUNTIF(JC$25:JV$25,処理!$L12))/処理!$M12,0))","v":""},"",{"$f":"$K$34","v":""},null,{"$f":"IF(LEN(JK34)=0,\"\",(COUNTIF(JC$6:JV$7,JK34)+COUNTIF(JC$10:JV$10,JK34)+COUNTIF(JC$13:JV$13,JK34)+COUNTIF(JC$16:JV$16,JK34)+COUNTIF(JC$19:JV$19,JK34)+COUNTIF(JC$22:JV$22,JK34)+COUNTIF(JC$25:JV$25,JK34))/設定!$J25+IFERROR((COUNTIF(JC$6:JV$7,処理!$L18)+COUNTIF(JC$10:JV$10,処理!$L18)+COUNTIF(JC$13:JV$13,処理!$L18)+COUNTIF(JC$16:JV$16,処理!$L18)+COUNTIF(JC$19:JV$19,処理!$L18)+COUNTIF(JC$22:JV$22,処理!$L18)+COUNTIF(JC$25:JV$25,処理!$L18))/処理!$M18,0))","v":""},"",{"$f":"$O$34","v":""},null,{"$f":"IF(LEN(JO34)=0,\"\",(COUNTIF(JC$6:JV$7,JO34)+COUNTIF(JC$10:JV$10,JO34)+COUNTIF(JC$13:JV$13,JO34)+COUNTIF(JC$16:JV$16,JO34)+COUNTIF(JC$19:JV$19,JO34)+COUNTIF(JC$22:JV$22,JO34)+COUNTIF(JC$25:JV$25,JO34))/設定!$M25+IFERROR((COUNTIF(JC$6:JV$7,処理!$L24)+COUNTIF(JC$10:JV$10,処理!$L24)+COUNTIF(JC$13:JV$13,処理!$L24)+COUNTIF(JC$16:JV$16,処理!$L24)+COUNTIF(JC$19:JV$19,処理!$L24)+COUNTIF(JC$22:JV$22,処理!$L24)+COUNTIF(JC$25:JV$25,処理!$L24))/処理!$M24,0))","v":""},"",{"$f":"$S$34","v":""},null,"","",{"$f":"$C$34","v":""},null,{"$f":"IF(LEN(JW34)=0,\"\",(COUNTIF(JW$6:KP$7,JW34)+COUNTIF(JW$10:KP$10,JW34)+COUNTIF(JW$13:KP$13,JW34)+COUNTIF(JW$16:KP$16,JW34)+COUNTIF(JW$19:KP$19,JW34)+COUNTIF(JW$22:KP$22,JW34)+COUNTIF(JW$25:KP$25,JW34))/設定!$D25+IFERROR((COUNTIF(JW$6:KP$7,処理!$L6)+COUNTIF(JW$10:KP$10,処理!$L6)+COUNTIF(JW$13:KP$13,処理!$L6)+COUNTIF(JW$16:KP$16,処理!$L6)+COUNTIF(JW$19:KP$19,処理!$L6)+COUNTIF(JW$22:KP$22,処理!$L6)+COUNTIF(JW$25:KP$25,処理!$L6))/処理!$M6,0))","v":""},"",{"$f":"$G$34","v":""},null,{"$f":"IF(LEN(KA34)=0,\"\",(COUNTIF(JW$6:KP$7,KA34)+COUNTIF(JW$10:KP$10,KA34)+COUNTIF(JW$13:KP$13,KA34)+COUNTIF(JW$16:KP$16,KA34)+COUNTIF(JW$19:KP$19,KA34)+COUNTIF(JW$22:KP$22,KA34)+COUNTIF(JW$25:KP$25,KA34))/設定!$G25+IFERROR((COUNTIF(JW$6:KP$7,処理!$L12)+COUNTIF(JW$10:KP$10,処理!$L12)+COUNTIF(JW$13:KP$13,処理!$L12)+COUNTIF(JW$16:KP$16,処理!$L12)+COUNTIF(JW$19:KP$19,処理!$L12)+COUNTIF(JW$22:KP$22,処理!$L12)+COUNTIF(JW$25:KP$25,処理!$L12))/処理!$M12,0))","v":""},"",{"$f":"$K$34","v":""},null,{"$f":"IF(LEN(KE34)=0,\"\",(COUNTIF(JW$6:KP$7,KE34)+COUNTIF(JW$10:KP$10,KE34)+COUNTIF(JW$13:KP$13,KE34)+COUNTIF(JW$16:KP$16,KE34)+COUNTIF(JW$19:KP$19,KE34)+COUNTIF(JW$22:KP$22,KE34)+COUNTIF(JW$25:KP$25,KE34))/設定!$J25+IFERROR((COUNTIF(JW$6:KP$7,処理!$L18)+COUNTIF(JW$10:KP$10,処理!$L18)+COUNTIF(JW$13:KP$13,処理!$L18)+COUNTIF(JW$16:KP$16,処理!$L18)+COUNTIF(JW$19:KP$19,処理!$L18)+COUNTIF(JW$22:KP$22,処理!$L18)+COUNTIF(JW$25:KP$25,処理!$L18))/処理!$M18,0))","v":""},"",{"$f":"$O$34","v":""},null,{"$f":"IF(LEN(KI34)=0,\"\",(COUNTIF(JW$6:KP$7,KI34)+COUNTIF(JW$10:KP$10,KI34)+COUNTIF(JW$13:KP$13,KI34)+COUNTIF(JW$16:KP$16,KI34)+COUNTIF(JW$19:KP$19,KI34)+COUNTIF(JW$22:KP$22,KI34)+COUNTIF(JW$25:KP$25,KI34))/設定!$M25+IFERROR((COUNTIF(JW$6:KP$7,処理!$L24)+COUNTIF(JW$10:KP$10,処理!$L24)+COUNTIF(JW$13:KP$13,処理!$L24)+COUNTIF(JW$16:KP$16,処理!$L24)+COUNTIF(JW$19:KP$19,処理!$L24)+COUNTIF(JW$22:KP$22,処理!$L24)+COUNTIF(JW$25:KP$25,処理!$L24))/処理!$M24,0))","v":""},"",{"$f":"$S$34","v":""},null,"","",{"$f":"$C$34","v":""},null,{"$f":"IF(LEN(KQ34)=0,\"\",(COUNTIF(KQ$6:LJ$7,KQ34)+COUNTIF(KQ$10:LJ$10,KQ34)+COUNTIF(KQ$13:LJ$13,KQ34)+COUNTIF(KQ$16:LJ$16,KQ34)+COUNTIF(KQ$19:LJ$19,KQ34)+COUNTIF(KQ$22:LJ$22,KQ34)+COUNTIF(KQ$25:LJ$25,KQ34))/設定!$D25+IFERROR((COUNTIF(KQ$6:LJ$7,処理!$L6)+COUNTIF(KQ$10:LJ$10,処理!$L6)+COUNTIF(KQ$13:LJ$13,処理!$L6)+COUNTIF(KQ$16:LJ$16,処理!$L6)+COUNTIF(KQ$19:LJ$19,処理!$L6)+COUNTIF(KQ$22:LJ$22,処理!$L6)+COUNTIF(KQ$25:LJ$25,処理!$L6))/処理!$M6,0))","v":""},"",{"$f":"$G$34","v":""},null,{"$f":"IF(LEN(KU34)=0,\"\",(COUNTIF(KQ$6:LJ$7,KU34)+COUNTIF(KQ$10:LJ$10,KU34)+COUNTIF(KQ$13:LJ$13,KU34)+COUNTIF(KQ$16:LJ$16,KU34)+COUNTIF(KQ$19:LJ$19,KU34)+COUNTIF(KQ$22:LJ$22,KU34)+COUNTIF(KQ$25:LJ$25,KU34))/設定!$G25+IFERROR((COUNTIF(KQ$6:LJ$7,処理!$L12)+COUNTIF(KQ$10:LJ$10,処理!$L12)+COUNTIF(KQ$13:LJ$13,処理!$L12)+COUNTIF(KQ$16:LJ$16,処理!$L12)+COUNTIF(KQ$19:LJ$19,処理!$L12)+COUNTIF(KQ$22:LJ$22,処理!$L12)+COUNTIF(KQ$25:LJ$25,処理!$L12))/処理!$M12,0))","v":""},"",{"$f":"$K$34","v":""},null,{"$f":"IF(LEN(KY34)=0,\"\",(COUNTIF(KQ$6:LJ$7,KY34)+COUNTIF(KQ$10:LJ$10,KY34)+COUNTIF(KQ$13:LJ$13,KY34)+COUNTIF(KQ$16:LJ$16,KY34)+COUNTIF(KQ$19:LJ$19,KY34)+COUNTIF(KQ$22:LJ$22,KY34)+COUNTIF(KQ$25:LJ$25,KY34))/設定!$J25+IFERROR((COUNTIF(KQ$6:LJ$7,処理!$L18)+COUNTIF(KQ$10:LJ$10,処理!$L18)+COUNTIF(KQ$13:LJ$13,処理!$L18)+COUNTIF(KQ$16:LJ$16,処理!$L18)+COUNTIF(KQ$19:LJ$19,処理!$L18)+COUNTIF(KQ$22:LJ$22,処理!$L18)+COUNTIF(KQ$25:LJ$25,処理!$L18))/処理!$M18,0))","v":""},"",{"$f":"$O$34","v":""},null,{"$f":"IF(LEN(LC34)=0,\"\",(COUNTIF(KQ$6:LJ$7,LC34)+COUNTIF(KQ$10:LJ$10,LC34)+COUNTIF(KQ$13:LJ$13,LC34)+COUNTIF(KQ$16:LJ$16,LC34)+COUNTIF(KQ$19:LJ$19,LC34)+COUNTIF(KQ$22:LJ$22,LC34)+COUNTIF(KQ$25:LJ$25,LC34))/設定!$M25+IFERROR((COUNTIF(KQ$6:LJ$7,処理!$L24)+COUNTIF(KQ$10:LJ$10,処理!$L24)+COUNTIF(KQ$13:LJ$13,処理!$L24)+COUNTIF(KQ$16:LJ$16,処理!$L24)+COUNTIF(KQ$19:LJ$19,処理!$L24)+COUNTIF(KQ$22:LJ$22,処理!$L24)+COUNTIF(KQ$25:LJ$25,処理!$L24))/処理!$M24,0))","v":""},"",{"$f":"$S$34","v":""},null,"","",{"$f":"$C$34","v":""},null,{"$f":"IF(LEN(LK34)=0,\"\",(COUNTIF(LK$6:MD$7,LK34)+COUNTIF(LK$10:MD$10,LK34)+COUNTIF(LK$13:MD$13,LK34)+COUNTIF(LK$16:MD$16,LK34)+COUNTIF(LK$19:MD$19,LK34)+COUNTIF(LK$22:MD$22,LK34)+COUNTIF(LK$25:MD$25,LK34))/設定!$D25+IFERROR((COUNTIF(LK$6:MD$7,処理!$L6)+COUNTIF(LK$10:MD$10,処理!$L6)+COUNTIF(LK$13:MD$13,処理!$L6)+COUNTIF(LK$16:MD$16,処理!$L6)+COUNTIF(LK$19:MD$19,処理!$L6)+COUNTIF(LK$22:MD$22,処理!$L6)+COUNTIF(LK$25:MD$25,処理!$L6))/処理!$M6,0))","v":""},"",{"$f":"$G$34","v":""},null,{"$f":"IF(LEN(LO34)=0,\"\",(COUNTIF(LK$6:MD$7,LO34)+COUNTIF(LK$10:MD$10,LO34)+COUNTIF(LK$13:MD$13,LO34)+COUNTIF(LK$16:MD$16,LO34)+COUNTIF(LK$19:MD$19,LO34)+COUNTIF(LK$22:MD$22,LO34)+COUNTIF(LK$25:MD$25,LO34))/設定!$G25+IFERROR((COUNTIF(LK$6:MD$7,処理!$L12)+COUNTIF(LK$10:MD$10,処理!$L12)+COUNTIF(LK$13:MD$13,処理!$L12)+COUNTIF(LK$16:MD$16,処理!$L12)+COUNTIF(LK$19:MD$19,処理!$L12)+COUNTIF(LK$22:MD$22,処理!$L12)+COUNTIF(LK$25:MD$25,処理!$L12))/処理!$M12,0))","v":""},"",{"$f":"$K$34","v":""},null,{"$f":"IF(LEN(LS34)=0,\"\",(COUNTIF(LK$6:MD$7,LS34)+COUNTIF(LK$10:MD$10,LS34)+COUNTIF(LK$13:MD$13,LS34)+COUNTIF(LK$16:MD$16,LS34)+COUNTIF(LK$19:MD$19,LS34)+COUNTIF(LK$22:MD$22,LS34)+COUNTIF(LK$25:MD$25,LS34))/設定!$J25+IFERROR((COUNTIF(LK$6:MD$7,処理!$L18)+COUNTIF(LK$10:MD$10,処理!$L18)+COUNTIF(LK$13:MD$13,処理!$L18)+COUNTIF(LK$16:MD$16,処理!$L18)+COUNTIF(LK$19:MD$19,処理!$L18)+COUNTIF(LK$22:MD$22,処理!$L18)+COUNTIF(LK$25:MD$25,処理!$L18))/処理!$M18,0))","v":""},"",{"$f":"$O$34","v":""},null,{"$f":"IF(LEN(LW34)=0,\"\",(COUNTIF(LK$6:MD$7,LW34)+COUNTIF(LK$10:MD$10,LW34)+COUNTIF(LK$13:MD$13,LW34)+COUNTIF(LK$16:MD$16,LW34)+COUNTIF(LK$19:MD$19,LW34)+COUNTIF(LK$22:MD$22,LW34)+COUNTIF(LK$25:MD$25,LW34))/設定!$M25+IFERROR((COUNTIF(LK$6:MD$7,処理!$L24)+COUNTIF(LK$10:MD$10,処理!$L24)+COUNTIF(LK$13:MD$13,処理!$L24)+COUNTIF(LK$16:MD$16,処理!$L24)+COUNTIF(LK$19:MD$19,処理!$L24)+COUNTIF(LK$22:MD$22,処理!$L24)+COUNTIF(LK$25:MD$25,処理!$L24))/処理!$M24,0))","v":""},"",{"$f":"$S$34","v":""},null,"","",{"$f":"$C$34","v":""},null,{"$f":"IF(LEN(ME34)=0,\"\",(COUNTIF(ME$6:MX$7,ME34)+COUNTIF(ME$10:MX$10,ME34)+COUNTIF(ME$13:MX$13,ME34)+COUNTIF(ME$16:MX$16,ME34)+COUNTIF(ME$19:MX$19,ME34)+COUNTIF(ME$22:MX$22,ME34)+COUNTIF(ME$25:MX$25,ME34))/設定!$D25+IFERROR((COUNTIF(ME$6:MX$7,処理!$L6)+COUNTIF(ME$10:MX$10,処理!$L6)+COUNTIF(ME$13:MX$13,処理!$L6)+COUNTIF(ME$16:MX$16,処理!$L6)+COUNTIF(ME$19:MX$19,処理!$L6)+COUNTIF(ME$22:MX$22,処理!$L6)+COUNTIF(ME$25:MX$25,処理!$L6))/処理!$M6,0))","v":""},"",{"$f":"$G$34","v":""},null,{"$f":"IF(LEN(MI34)=0,\"\",(COUNTIF(ME$6:MX$7,MI34)+COUNTIF(ME$10:MX$10,MI34)+COUNTIF(ME$13:MX$13,MI34)+COUNTIF(ME$16:MX$16,MI34)+COUNTIF(ME$19:MX$19,MI34)+COUNTIF(ME$22:MX$22,MI34)+COUNTIF(ME$25:MX$25,MI34))/設定!$G25+IFERROR((COUNTIF(ME$6:MX$7,処理!$L12)+COUNTIF(ME$10:MX$10,処理!$L12)+COUNTIF(ME$13:MX$13,処理!$L12)+COUNTIF(ME$16:MX$16,処理!$L12)+COUNTIF(ME$19:MX$19,処理!$L12)+COUNTIF(ME$22:MX$22,処理!$L12)+COUNTIF(ME$25:MX$25,処理!$L12))/処理!$M12,0))","v":""},"",{"$f":"$K$34","v":""},null,{"$f":"IF(LEN(MM34)=0,\"\",(COUNTIF(ME$6:MX$7,MM34)+COUNTIF(ME$10:MX$10,MM34)+COUNTIF(ME$13:MX$13,MM34)+COUNTIF(ME$16:MX$16,MM34)+COUNTIF(ME$19:MX$19,MM34)+COUNTIF(ME$22:MX$22,MM34)+COUNTIF(ME$25:MX$25,MM34))/設定!$J25+IFERROR((COUNTIF(ME$6:MX$7,処理!$L18)+COUNTIF(ME$10:MX$10,処理!$L18)+COUNTIF(ME$13:MX$13,処理!$L18)+COUNTIF(ME$16:MX$16,処理!$L18)+COUNTIF(ME$19:MX$19,処理!$L18)+COUNTIF(ME$22:MX$22,処理!$L18)+COUNTIF(ME$25:MX$25,処理!$L18))/処理!$M18,0))","v":""},"",{"$f":"$O$34","v":""},null,{"$f":"IF(LEN(MQ34)=0,\"\",(COUNTIF(ME$6:MX$7,MQ34)+COUNTIF(ME$10:MX$10,MQ34)+COUNTIF(ME$13:MX$13,MQ34)+COUNTIF(ME$16:MX$16,MQ34)+COUNTIF(ME$19:MX$19,MQ34)+COUNTIF(ME$22:MX$22,MQ34)+COUNTIF(ME$25:MX$25,MQ34))/設定!$M25+IFERROR((COUNTIF(ME$6:MX$7,処理!$L24)+COUNTIF(ME$10:MX$10,処理!$L24)+COUNTIF(ME$13:MX$13,処理!$L24)+COUNTIF(ME$16:MX$16,処理!$L24)+COUNTIF(ME$19:MX$19,処理!$L24)+COUNTIF(ME$22:MX$22,処理!$L24)+COUNTIF(ME$25:MX$25,処理!$L24))/処理!$M24,0))","v":""},"",{"$f":"$S$34","v":""},null,"",""]
[null,null,{"$f":"IF(COUNTIF(処理!$J$2:$J$25,5)>0,処理!H7,\"\")","v":""},null,{"$f":"IF(LEN(C35)=0,\"\",(COUNTIF(C$6:V$7,C35)+COUNTIF(C$10:V$10,C35)+COUNTIF(C$13:V$13,C35)+COUNTIF(C$16:V$16,C35)+COUNTIF(C$19:V$19,C35)+COUNTIF(C$22:V$22,C35)+COUNTIF(C$25:V$25,C35))/設定!$D26+IFERROR((COUNTIF(C$6:V$7,処理!$L7)+COUNTIF(C$10:V$10,処理!$L7)+COUNTIF(C$13:V$13,処理!$L7)+COUNTIF(C$16:V$16,処理!$L7)+COUNTIF(C$19:V$19,処理!$L7)+COUNTIF(C$22:V$22,処理!$L7)+COUNTIF(C$25:V$25,処理!$L7))/処理!$M7,0))","v":""},"",{"$f":"IF(COUNTIF(処理!$J$2:$J$25,11)>0,処理!H13,\"\")","v":""},null,{"$f":"IF(LEN(G35)=0,\"\",(COUNTIF(C$6:V$7,G35)+COUNTIF(C$10:V$10,G35)+COUNTIF(C$13:V$13,G35)+COUNTIF(C$16:V$16,G35)+COUNTIF(C$19:V$19,G35)+COUNTIF(C$22:V$22,G35)+COUNTIF(C$25:V$25,G35))/設定!$G26+IFERROR((COUNTIF(C$6:V$7,処理!$L13)+COUNTIF(C$10:V$10,処理!$L13)+COUNTIF(C$13:V$13,処理!$L13)+COUNTIF(C$16:V$16,処理!$L13)+COUNTIF(C$19:V$19,処理!$L13)+COUNTIF(C$22:V$22,処理!$L13)+COUNTIF(C$25:V$25,処理!$L13))/処理!$M13,0))","v":""},"",{"$f":"IF(COUNTIF(処理!$J$2:$J$25,17)>0,処理!H19,\"\")","v":""},null,{"$f":"IF(LEN(K35)=0,\"\",(COUNTIF(C$6:V$7,K35)+COUNTIF(C$10:V$10,K35)+COUNTIF(C$13:V$13,K35)+COUNTIF(C$16:V$16,K35)+COUNTIF(C$19:V$19,K35)+COUNTIF(C$22:V$22,K35)+COUNTIF(C$25:V$25,K35))/設定!$J26+IFERROR((COUNTIF(C$6:V$7,処理!$L19)+COUNTIF(C$10:V$10,処理!$L19)+COUNTIF(C$13:V$13,処理!$L19)+COUNTIF(C$16:V$16,処理!$L19)+COUNTIF(C$19:V$19,処理!$L19)+COUNTIF(C$22:V$22,処理!$L19)+COUNTIF(C$25:V$25,処理!$L19))/処理!$M19,0))","v":""},"",{"$f":"IF(COUNTIF(処理!$J$2:$J$25,23)>0,処理!H25,\"\")","v":""},null,{"$f":"IF(LEN(O35)=0,\"\",(COUNTIF(C$6:V$7,O35)+COUNTIF(C$10:V$10,O35)+COUNTIF(C$13:V$13,O35)+COUNTIF(C$16:V$16,O35)+COUNTIF(C$19:V$19,O35)+COUNTIF(C$22:V$22,O35)+COUNTIF(C$25:V$25,O35))/設定!$M26+IFERROR((COUNTIF(C$6:V$7,処理!$L25)+COUNTIF(C$10:V$10,処理!$L25)+COUNTIF(C$13:V$13,処理!$L25)+COUNTIF(C$16:V$16,処理!$L25)+COUNTIF(C$19:V$19,処理!$L25)+COUNTIF(C$22:V$22,処理!$L25)+COUNTIF(C$25:V$25,処理!$L25))/処理!$M25,0))","v":""},"",{"$f":"処理!H31&\"\"","v":""},null,"","",{"$f":"$C$35","v":""},null,{"$f":"IF(LEN(W35)=0,\"\",(COUNTIF(W$6:AP$7,W35)+COUNTIF(W$10:AP$10,W35)+COUNTIF(W$13:AP$13,W35)+COUNTIF(W$16:AP$16,W35)+COUNTIF(W$19:AP$19,W35)+COUNTIF(W$22:AP$22,W35)+COUNTIF(W$25:AP$25,W35))/設定!$D26+IFERROR((COUNTIF(W$6:AP$7,処理!$L7)+COUNTIF(W$10:AP$10,処理!$L7)+COUNTIF(W$13:AP$13,処理!$L7)+COUNTIF(W$16:AP$16,処理!$L7)+COUNTIF(W$19:AP$19,処理!$L7)+COUNTIF(W$22:AP$22,処理!$L7)+COUNTIF(W$25:AP$25,処理!$L7))/処理!$M7,0))","v":""},"",{"$f":"$G$35","v":""},null,{"$f":"IF(LEN(AA35)=0,\"\",(COUNTIF(W$6:AP$7,AA35)+COUNTIF(W$10:AP$10,AA35)+COUNTIF(W$13:AP$13,AA35)+COUNTIF(W$16:AP$16,AA35)+COUNTIF(W$19:AP$19,AA35)+COUNTIF(W$22:AP$22,AA35)+COUNTIF(W$25:AP$25,AA35))/設定!$G26+IFERROR((COUNTIF(W$6:AP$7,処理!$L13)+COUNTIF(W$10:AP$10,処理!$L13)+COUNTIF(W$13:AP$13,処理!$L13)+COUNTIF(W$16:AP$16,処理!$L13)+COUNTIF(W$19:AP$19,処理!$L13)+COUNTIF(W$22:AP$22,処理!$L13)+COUNTIF(W$25:AP$25,処理!$L13))/処理!$M13,0))","v":""},"",{"$f":"$K$35","v":""},null,{"$f":"IF(LEN(AE35)=0,\"\",(COUNTIF(W$6:AP$7,AE35)+COUNTIF(W$10:AP$10,AE35)+COUNTIF(W$13:AP$13,AE35)+COUNTIF(W$16:AP$16,AE35)+COUNTIF(W$19:AP$19,AE35)+COUNTIF(W$22:AP$22,AE35)+COUNTIF(W$25:AP$25,AE35))/設定!$J26+IFERROR((COUNTIF(W$6:AP$7,処理!$L19)+COUNTIF(W$10:AP$10,処理!$L19)+COUNTIF(W$13:AP$13,処理!$L19)+COUNTIF(W$16:AP$16,処理!$L19)+COUNTIF(W$19:AP$19,処理!$L19)+COUNTIF(W$22:AP$22,処理!$L19)+COUNTIF(W$25:AP$25,処理!$L19))/処理!$M19,0))","v":""},"",{"$f":"$O$35","v":""},null,{"$f":"IF(LEN(AI35)=0,\"\",(COUNTIF(W$6:AP$7,AI35)+COUNTIF(W$10:AP$10,AI35)+COUNTIF(W$13:AP$13,AI35)+COUNTIF(W$16:AP$16,AI35)+COUNTIF(W$19:AP$19,AI35)+COUNTIF(W$22:AP$22,AI35)+COUNTIF(W$25:AP$25,AI35))/設定!$M26+IFERROR((COUNTIF(W$6:AP$7,処理!$L25)+COUNTIF(W$10:AP$10,処理!$L25)+COUNTIF(W$13:AP$13,処理!$L25)+COUNTIF(W$16:AP$16,処理!$L25)+COUNTIF(W$19:AP$19,処理!$L25)+COUNTIF(W$22:AP$22,処理!$L25)+COUNTIF(W$25:AP$25,処理!$L25))/処理!$M25,0))","v":""},"",{"$f":"$S$35","v":""},null,"","",{"$f":"$C$35","v":""},null,{"$f":"IF(LEN(AQ35)=0,\"\",(COUNTIF(AQ$6:BJ$7,AQ35)+COUNTIF(AQ$10:BJ$10,AQ35)+COUNTIF(AQ$13:BJ$13,AQ35)+COUNTIF(AQ$16:BJ$16,AQ35)+COUNTIF(AQ$19:BJ$19,AQ35)+COUNTIF(AQ$22:BJ$22,AQ35)+COUNTIF(AQ$25:BJ$25,AQ35))/設定!$D26+IFERROR((COUNTIF(AQ$6:BJ$7,処理!$L7)+COUNTIF(AQ$10:BJ$10,処理!$L7)+COUNTIF(AQ$13:BJ$13,処理!$L7)+COUNTIF(AQ$16:BJ$16,処理!$L7)+COUNTIF(AQ$19:BJ$19,処理!$L7)+COUNTIF(AQ$22:BJ$22,処理!$L7)+COUNTIF(AQ$25:BJ$25,処理!$L7))/処理!$M7,0))","v":""},"",{"$f":"$G$35","v":""},null,{"$f":"IF(LEN(AU35)=0,\"\",(COUNTIF(AQ$6:BJ$7,AU35)+COUNTIF(AQ$10:BJ$10,AU35)+COUNTIF(AQ$13:BJ$13,AU35)+COUNTIF(AQ$16:BJ$16,AU35)+COUNTIF(AQ$19:BJ$19,AU35)+COUNTIF(AQ$22:BJ$22,AU35)+COUNTIF(AQ$25:BJ$25,AU35))/設定!$G26+IFERROR((COUNTIF(AQ$6:BJ$7,処理!$L13)+COUNTIF(AQ$10:BJ$10,処理!$L13)+COUNTIF(AQ$13:BJ$13,処理!$L13)+COUNTIF(AQ$16:BJ$16,処理!$L13)+COUNTIF(AQ$19:BJ$19,処理!$L13)+COUNTIF(AQ$22:BJ$22,処理!$L13)+COUNTIF(AQ$25:BJ$25,処理!$L13))/処理!$M13,0))","v":""},"",{"$f":"$K$35","v":""},null,{"$f":"IF(LEN(AY35)=0,\"\",(COUNTIF(AQ$6:BJ$7,AY35)+COUNTIF(AQ$10:BJ$10,AY35)+COUNTIF(AQ$13:BJ$13,AY35)+COUNTIF(AQ$16:BJ$16,AY35)+COUNTIF(AQ$19:BJ$19,AY35)+COUNTIF(AQ$22:BJ$22,AY35)+COUNTIF(AQ$25:BJ$25,AY35))/設定!$J26+IFERROR((COUNTIF(AQ$6:BJ$7,処理!$L19)+COUNTIF(AQ$10:BJ$10,処理!$L19)+COUNTIF(AQ$13:BJ$13,処理!$L19)+COUNTIF(AQ$16:BJ$16,処理!$L19)+COUNTIF(AQ$19:BJ$19,処理!$L19)+COUNTIF(AQ$22:BJ$22,処理!$L19)+COUNTIF(AQ$25:BJ$25,処理!$L19))/処理!$M19,0))","v":""},"",{"$f":"$O$35","v":""},null,{"$f":"IF(LEN(BC35)=0,\"\",(COUNTIF(AQ$6:BJ$7,BC35)+COUNTIF(AQ$10:BJ$10,BC35)+COUNTIF(AQ$13:BJ$13,BC35)+COUNTIF(AQ$16:BJ$16,BC35)+COUNTIF(AQ$19:BJ$19,BC35)+COUNTIF(AQ$22:BJ$22,BC35)+COUNTIF(AQ$25:BJ$25,BC35))/設定!$M26+IFERROR((COUNTIF(AQ$6:BJ$7,処理!$L25)+COUNTIF(AQ$10:BJ$10,処理!$L25)+COUNTIF(AQ$13:BJ$13,処理!$L25)+COUNTIF(AQ$16:BJ$16,処理!$L25)+COUNTIF(AQ$19:BJ$19,処理!$L25)+COUNTIF(AQ$22:BJ$22,処理!$L25)+COUNTIF(AQ$25:BJ$25,処理!$L25))/処理!$M25,0))","v":""},"",{"$f":"$S$35","v":""},null,"","",{"$f":"$C$35","v":""},null,{"$f":"IF(LEN(BK35)=0,\"\",(COUNTIF(BK$6:CD$7,BK35)+COUNTIF(BK$10:CD$10,BK35)+COUNTIF(BK$13:CD$13,BK35)+COUNTIF(BK$16:CD$16,BK35)+COUNTIF(BK$19:CD$19,BK35)+COUNTIF(BK$22:CD$22,BK35)+COUNTIF(BK$25:CD$25,BK35))/設定!$D26+IFERROR((COUNTIF(BK$6:CD$7,処理!$L7)+COUNTIF(BK$10:CD$10,処理!$L7)+COUNTIF(BK$13:CD$13,処理!$L7)+COUNTIF(BK$16:CD$16,処理!$L7)+COUNTIF(BK$19:CD$19,処理!$L7)+COUNTIF(BK$22:CD$22,処理!$L7)+COUNTIF(BK$25:CD$25,処理!$L7))/処理!$M7,0))","v":""},"",{"$f":"$G$35","v":""},null,{"$f":"IF(LEN(BO35)=0,\"\",(COUNTIF(BK$6:CD$7,BO35)+COUNTIF(BK$10:CD$10,BO35)+COUNTIF(BK$13:CD$13,BO35)+COUNTIF(BK$16:CD$16,BO35)+COUNTIF(BK$19:CD$19,BO35)+COUNTIF(BK$22:CD$22,BO35)+COUNTIF(BK$25:CD$25,BO35))/設定!$G26+IFERROR((COUNTIF(BK$6:CD$7,処理!$L13)+COUNTIF(BK$10:CD$10,処理!$L13)+COUNTIF(BK$13:CD$13,処理!$L13)+COUNTIF(BK$16:CD$16,処理!$L13)+COUNTIF(BK$19:CD$19,処理!$L13)+COUNTIF(BK$22:CD$22,処理!$L13)+COUNTIF(BK$25:CD$25,処理!$L13))/処理!$M13,0))","v":""},"",{"$f":"$K$35","v":""},null,{"$f":"IF(LEN(BS35)=0,\"\",(COUNTIF(BK$6:CD$7,BS35)+COUNTIF(BK$10:CD$10,BS35)+COUNTIF(BK$13:CD$13,BS35)+COUNTIF(BK$16:CD$16,BS35)+COUNTIF(BK$19:CD$19,BS35)+COUNTIF(BK$22:CD$22,BS35)+COUNTIF(BK$25:CD$25,BS35))/設定!$J26+IFERROR((COUNTIF(BK$6:CD$7,処理!$L19)+COUNTIF(BK$10:CD$10,処理!$L19)+COUNTIF(BK$13:CD$13,処理!$L19)+COUNTIF(BK$16:CD$16,処理!$L19)+COUNTIF(BK$19:CD$19,処理!$L19)+COUNTIF(BK$22:CD$22,処理!$L19)+COUNTIF(BK$25:CD$25,処理!$L19))/処理!$M19,0))","v":""},"",{"$f":"$O$35","v":""},null,{"$f":"IF(LEN(BW35)=0,\"\",(COUNTIF(BK$6:CD$7,BW35)+COUNTIF(BK$10:CD$10,BW35)+COUNTIF(BK$13:CD$13,BW35)+COUNTIF(BK$16:CD$16,BW35)+COUNTIF(BK$19:CD$19,BW35)+COUNTIF(BK$22:CD$22,BW35)+COUNTIF(BK$25:CD$25,BW35))/設定!$M26+IFERROR((COUNTIF(BK$6:CD$7,処理!$L25)+COUNTIF(BK$10:CD$10,処理!$L25)+COUNTIF(BK$13:CD$13,処理!$L25)+COUNTIF(BK$16:CD$16,処理!$L25)+COUNTIF(BK$19:CD$19,処理!$L25)+COUNTIF(BK$22:CD$22,処理!$L25)+COUNTIF(BK$25:CD$25,処理!$L25))/処理!$M25,0))","v":""},"",{"$f":"$S$35","v":""},null,"","",{"$f":"$C$35","v":""},null,{"$f":"IF(LEN(CE35)=0,\"\",(COUNTIF(CE$6:CX$7,CE35)+COUNTIF(CE$10:CX$10,CE35)+COUNTIF(CE$13:CX$13,CE35)+COUNTIF(CE$16:CX$16,CE35)+COUNTIF(CE$19:CX$19,CE35)+COUNTIF(CE$22:CX$22,CE35)+COUNTIF(CE$25:CX$25,CE35))/設定!$D26+IFERROR((COUNTIF(CE$6:CX$7,処理!$L7)+COUNTIF(CE$10:CX$10,処理!$L7)+COUNTIF(CE$13:CX$13,処理!$L7)+COUNTIF(CE$16:CX$16,処理!$L7)+COUNTIF(CE$19:CX$19,処理!$L7)+COUNTIF(CE$22:CX$22,処理!$L7)+COUNTIF(CE$25:CX$25,処理!$L7))/処理!$M7,0))","v":""},"",{"$f":"$G$35","v":""},null,{"$f":"IF(LEN(CI35)=0,\"\",(COUNTIF(CE$6:CX$7,CI35)+COUNTIF(CE$10:CX$10,CI35)+COUNTIF(CE$13:CX$13,CI35)+COUNTIF(CE$16:CX$16,CI35)+COUNTIF(CE$19:CX$19,CI35)+COUNTIF(CE$22:CX$22,CI35)+COUNTIF(CE$25:CX$25,CI35))/設定!$G26+IFERROR((COUNTIF(CE$6:CX$7,処理!$L13)+COUNTIF(CE$10:CX$10,処理!$L13)+COUNTIF(CE$13:CX$13,処理!$L13)+COUNTIF(CE$16:CX$16,処理!$L13)+COUNTIF(CE$19:CX$19,処理!$L13)+COUNTIF(CE$22:CX$22,処理!$L13)+COUNTIF(CE$25:CX$25,処理!$L13))/処理!$M13,0))","v":""},"",{"$f":"$K$35","v":""},null,{"$f":"IF(LEN(CM35)=0,\"\",(COUNTIF(CE$6:CX$7,CM35)+COUNTIF(CE$10:CX$10,CM35)+COUNTIF(CE$13:CX$13,CM35)+COUNTIF(CE$16:CX$16,CM35)+COUNTIF(CE$19:CX$19,CM35)+COUNTIF(CE$22:CX$22,CM35)+COUNTIF(CE$25:CX$25,CM35))/設定!$J26+IFERROR((COUNTIF(CE$6:CX$7,処理!$L19)+COUNTIF(CE$10:CX$10,処理!$L19)+COUNTIF(CE$13:CX$13,処理!$L19)+COUNTIF(CE$16:CX$16,処理!$L19)+COUNTIF(CE$19:CX$19,処理!$L19)+COUNTIF(CE$22:CX$22,処理!$L19)+COUNTIF(CE$25:CX$25,処理!$L19))/処理!$M19,0))","v":""},"",{"$f":"$O$35","v":""},null,{"$f":"IF(LEN(CQ35)=0,\"\",(COUNTIF(CE$6:CX$7,CQ35)+COUNTIF(CE$10:CX$10,CQ35)+COUNTIF(CE$13:CX$13,CQ35)+COUNTIF(CE$16:CX$16,CQ35)+COUNTIF(CE$19:CX$19,CQ35)+COUNTIF(CE$22:CX$22,CQ35)+COUNTIF(CE$25:CX$25,CQ35))/設定!$M26+IFERROR((COUNTIF(CE$6:CX$7,処理!$L25)+COUNTIF(CE$10:CX$10,処理!$L25)+COUNTIF(CE$13:CX$13,処理!$L25)+COUNTIF(CE$16:CX$16,処理!$L25)+COUNTIF(CE$19:CX$19,処理!$L25)+COUNTIF(CE$22:CX$22,処理!$L25)+COUNTIF(CE$25:CX$25,処理!$L25))/処理!$M25,0))","v":""},"",{"$f":"$S$35","v":""},null,"","",{"$f":"$C$35","v":""},null,{"$f":"IF(LEN(CY35)=0,\"\",(COUNTIF(CY$6:DR$7,CY35)+COUNTIF(CY$10:DR$10,CY35)+COUNTIF(CY$13:DR$13,CY35)+COUNTIF(CY$16:DR$16,CY35)+COUNTIF(CY$19:DR$19,CY35)+COUNTIF(CY$22:DR$22,CY35)+COUNTIF(CY$25:DR$25,CY35))/設定!$D26+IFERROR((COUNTIF(CY$6:DR$7,処理!$L7)+COUNTIF(CY$10:DR$10,処理!$L7)+COUNTIF(CY$13:DR$13,処理!$L7)+COUNTIF(CY$16:DR$16,処理!$L7)+COUNTIF(CY$19:DR$19,処理!$L7)+COUNTIF(CY$22:DR$22,処理!$L7)+COUNTIF(CY$25:DR$25,処理!$L7))/処理!$M7,0))","v":""},"",{"$f":"$G$35","v":""},null,{"$f":"IF(LEN(DC35)=0,\"\",(COUNTIF(CY$6:DR$7,DC35)+COUNTIF(CY$10:DR$10,DC35)+COUNTIF(CY$13:DR$13,DC35)+COUNTIF(CY$16:DR$16,DC35)+COUNTIF(CY$19:DR$19,DC35)+COUNTIF(CY$22:DR$22,DC35)+COUNTIF(CY$25:DR$25,DC35))/設定!$G26+IFERROR((COUNTIF(CY$6:DR$7,処理!$L13)+COUNTIF(CY$10:DR$10,処理!$L13)+COUNTIF(CY$13:DR$13,処理!$L13)+COUNTIF(CY$16:DR$16,処理!$L13)+COUNTIF(CY$19:DR$19,処理!$L13)+COUNTIF(CY$22:DR$22,処理!$L13)+COUNTIF(CY$25:DR$25,処理!$L13))/処理!$M13,0))","v":""},"",{"$f":"$K$35","v":""},null,{"$f":"IF(LEN(DG35)=0,\"\",(COUNTIF(CY$6:DR$7,DG35)+COUNTIF(CY$10:DR$10,DG35)+COUNTIF(CY$13:DR$13,DG35)+COUNTIF(CY$16:DR$16,DG35)+COUNTIF(CY$19:DR$19,DG35)+COUNTIF(CY$22:DR$22,DG35)+COUNTIF(CY$25:DR$25,DG35))/設定!$J26+IFERROR((COUNTIF(CY$6:DR$7,処理!$L19)+COUNTIF(CY$10:DR$10,処理!$L19)+COUNTIF(CY$13:DR$13,処理!$L19)+COUNTIF(CY$16:DR$16,処理!$L19)+COUNTIF(CY$19:DR$19,処理!$L19)+COUNTIF(CY$22:DR$22,処理!$L19)+COUNTIF(CY$25:DR$25,処理!$L19))/処理!$M19,0))","v":""},"",{"$f":"$O$35","v":""},null,{"$f":"IF(LEN(DK35)=0,\"\",(COUNTIF(CY$6:DR$7,DK35)+COUNTIF(CY$10:DR$10,DK35)+COUNTIF(CY$13:DR$13,DK35)+COUNTIF(CY$16:DR$16,DK35)+COUNTIF(CY$19:DR$19,DK35)+COUNTIF(CY$22:DR$22,DK35)+COUNTIF(CY$25:DR$25,DK35))/設定!$M26+IFERROR((COUNTIF(CY$6:DR$7,処理!$L25)+COUNTIF(CY$10:DR$10,処理!$L25)+COUNTIF(CY$13:DR$13,処理!$L25)+COUNTIF(CY$16:DR$16,処理!$L25)+COUNTIF(CY$19:DR$19,処理!$L25)+COUNTIF(CY$22:DR$22,処理!$L25)+COUNTIF(CY$25:DR$25,処理!$L25))/処理!$M25,0))","v":""},"",{"$f":"$S$35","v":""},null,"","",{"$f":"$C$35","v":""},null,{"$f":"IF(LEN(DS35)=0,\"\",(COUNTIF(DS$6:EL$7,DS35)+COUNTIF(DS$10:EL$10,DS35)+COUNTIF(DS$13:EL$13,DS35)+COUNTIF(DS$16:EL$16,DS35)+COUNTIF(DS$19:EL$19,DS35)+COUNTIF(DS$22:EL$22,DS35)+COUNTIF(DS$25:EL$25,DS35))/設定!$D26+IFERROR((COUNTIF(DS$6:EL$7,処理!$L7)+COUNTIF(DS$10:EL$10,処理!$L7)+COUNTIF(DS$13:EL$13,処理!$L7)+COUNTIF(DS$16:EL$16,処理!$L7)+COUNTIF(DS$19:EL$19,処理!$L7)+COUNTIF(DS$22:EL$22,処理!$L7)+COUNTIF(DS$25:EL$25,処理!$L7))/処理!$M7,0))","v":""},"",{"$f":"$G$35","v":""},null,{"$f":"IF(LEN(DW35)=0,\"\",(COUNTIF(DS$6:EL$7,DW35)+COUNTIF(DS$10:EL$10,DW35)+COUNTIF(DS$13:EL$13,DW35)+COUNTIF(DS$16:EL$16,DW35)+COUNTIF(DS$19:EL$19,DW35)+COUNTIF(DS$22:EL$22,DW35)+COUNTIF(DS$25:EL$25,DW35))/設定!$G26+IFERROR((COUNTIF(DS$6:EL$7,処理!$L13)+COUNTIF(DS$10:EL$10,処理!$L13)+COUNTIF(DS$13:EL$13,処理!$L13)+COUNTIF(DS$16:EL$16,処理!$L13)+COUNTIF(DS$19:EL$19,処理!$L13)+COUNTIF(DS$22:EL$22,処理!$L13)+COUNTIF(DS$25:EL$25,処理!$L13))/処理!$M13,0))","v":""},"",{"$f":"$K$35","v":""},null,{"$f":"IF(LEN(EA35)=0,\"\",(COUNTIF(DS$6:EL$7,EA35)+COUNTIF(DS$10:EL$10,EA35)+COUNTIF(DS$13:EL$13,EA35)+COUNTIF(DS$16:EL$16,EA35)+COUNTIF(DS$19:EL$19,EA35)+COUNTIF(DS$22:EL$22,EA35)+COUNTIF(DS$25:EL$25,EA35))/設定!$J26+IFERROR((COUNTIF(DS$6:EL$7,処理!$L19)+COUNTIF(DS$10:EL$10,処理!$L19)+COUNTIF(DS$13:EL$13,処理!$L19)+COUNTIF(DS$16:EL$16,処理!$L19)+COUNTIF(DS$19:EL$19,処理!$L19)+COUNTIF(DS$22:EL$22,処理!$L19)+COUNTIF(DS$25:EL$25,処理!$L19))/処理!$M19,0))","v":""},"",{"$f":"$O$35","v":""},null,{"$f":"IF(LEN(EE35)=0,\"\",(COUNTIF(DS$6:EL$7,EE35)+COUNTIF(DS$10:EL$10,EE35)+COUNTIF(DS$13:EL$13,EE35)+COUNTIF(DS$16:EL$16,EE35)+COUNTIF(DS$19:EL$19,EE35)+COUNTIF(DS$22:EL$22,EE35)+COUNTIF(DS$25:EL$25,EE35))/設定!$M26+IFERROR((COUNTIF(DS$6:EL$7,処理!$L25)+COUNTIF(DS$10:EL$10,処理!$L25)+COUNTIF(DS$13:EL$13,処理!$L25)+COUNTIF(DS$16:EL$16,処理!$L25)+COUNTIF(DS$19:EL$19,処理!$L25)+COUNTIF(DS$22:EL$22,処理!$L25)+COUNTIF(DS$25:EL$25,処理!$L25))/処理!$M25,0))","v":""},"",{"$f":"$S$35","v":""},null,"","",{"$f":"$C$35","v":""},null,{"$f":"IF(LEN(EM35)=0,\"\",(COUNTIF(EM$6:FF$7,EM35)+COUNTIF(EM$10:FF$10,EM35)+COUNTIF(EM$13:FF$13,EM35)+COUNTIF(EM$16:FF$16,EM35)+COUNTIF(EM$19:FF$19,EM35)+COUNTIF(EM$22:FF$22,EM35)+COUNTIF(EM$25:FF$25,EM35))/設定!$D26+IFERROR((COUNTIF(EM$6:FF$7,処理!$L7)+COUNTIF(EM$10:FF$10,処理!$L7)+COUNTIF(EM$13:FF$13,処理!$L7)+COUNTIF(EM$16:FF$16,処理!$L7)+COUNTIF(EM$19:FF$19,処理!$L7)+COUNTIF(EM$22:FF$22,処理!$L7)+COUNTIF(EM$25:FF$25,処理!$L7))/処理!$M7,0))","v":""},"",{"$f":"$G$35","v":""},null,{"$f":"IF(LEN(EQ35)=0,\"\",(COUNTIF(EM$6:FF$7,EQ35)+COUNTIF(EM$10:FF$10,EQ35)+COUNTIF(EM$13:FF$13,EQ35)+COUNTIF(EM$16:FF$16,EQ35)+COUNTIF(EM$19:FF$19,EQ35)+COUNTIF(EM$22:FF$22,EQ35)+COUNTIF(EM$25:FF$25,EQ35))/設定!$G26+IFERROR((COUNTIF(EM$6:FF$7,処理!$L13)+COUNTIF(EM$10:FF$10,処理!$L13)+COUNTIF(EM$13:FF$13,処理!$L13)+COUNTIF(EM$16:FF$16,処理!$L13)+COUNTIF(EM$19:FF$19,処理!$L13)+COUNTIF(EM$22:FF$22,処理!$L13)+COUNTIF(EM$25:FF$25,処理!$L13))/処理!$M13,0))","v":""},"",{"$f":"$K$35","v":""},null,{"$f":"IF(LEN(EU35)=0,\"\",(COUNTIF(EM$6:FF$7,EU35)+COUNTIF(EM$10:FF$10,EU35)+COUNTIF(EM$13:FF$13,EU35)+COUNTIF(EM$16:FF$16,EU35)+COUNTIF(EM$19:FF$19,EU35)+COUNTIF(EM$22:FF$22,EU35)+COUNTIF(EM$25:FF$25,EU35))/設定!$J26+IFERROR((COUNTIF(EM$6:FF$7,処理!$L19)+COUNTIF(EM$10:FF$10,処理!$L19)+COUNTIF(EM$13:FF$13,処理!$L19)+COUNTIF(EM$16:FF$16,処理!$L19)+COUNTIF(EM$19:FF$19,処理!$L19)+COUNTIF(EM$22:FF$22,処理!$L19)+COUNTIF(EM$25:FF$25,処理!$L19))/処理!$M19,0))","v":""},"",{"$f":"$O$35","v":""},null,{"$f":"IF(LEN(EY35)=0,\"\",(COUNTIF(EM$6:FF$7,EY35)+COUNTIF(EM$10:FF$10,EY35)+COUNTIF(EM$13:FF$13,EY35)+COUNTIF(EM$16:FF$16,EY35)+COUNTIF(EM$19:FF$19,EY35)+COUNTIF(EM$22:FF$22,EY35)+COUNTIF(EM$25:FF$25,EY35))/設定!$M26+IFERROR((COUNTIF(EM$6:FF$7,処理!$L25)+COUNTIF(EM$10:FF$10,処理!$L25)+COUNTIF(EM$13:FF$13,処理!$L25)+COUNTIF(EM$16:FF$16,処理!$L25)+COUNTIF(EM$19:FF$19,処理!$L25)+COUNTIF(EM$22:FF$22,処理!$L25)+COUNTIF(EM$25:FF$25,処理!$L25))/処理!$M25,0))","v":""},"",{"$f":"$S$35","v":""},null,"","",{"$f":"$C$35","v":""},null,{"$f":"IF(LEN(FG35)=0,\"\",(COUNTIF(FG$6:FZ$7,FG35)+COUNTIF(FG$10:FZ$10,FG35)+COUNTIF(FG$13:FZ$13,FG35)+COUNTIF(FG$16:FZ$16,FG35)+COUNTIF(FG$19:FZ$19,FG35)+COUNTIF(FG$22:FZ$22,FG35)+COUNTIF(FG$25:FZ$25,FG35))/設定!$D26+IFERROR((COUNTIF(FG$6:FZ$7,処理!$L7)+COUNTIF(FG$10:FZ$10,処理!$L7)+COUNTIF(FG$13:FZ$13,処理!$L7)+COUNTIF(FG$16:FZ$16,処理!$L7)+COUNTIF(FG$19:FZ$19,処理!$L7)+COUNTIF(FG$22:FZ$22,処理!$L7)+COUNTIF(FG$25:FZ$25,処理!$L7))/処理!$M7,0))","v":""},"",{"$f":"$G$35","v":""},null,{"$f":"IF(LEN(FK35)=0,\"\",(COUNTIF(FG$6:FZ$7,FK35)+COUNTIF(FG$10:FZ$10,FK35)+COUNTIF(FG$13:FZ$13,FK35)+COUNTIF(FG$16:FZ$16,FK35)+COUNTIF(FG$19:FZ$19,FK35)+COUNTIF(FG$22:FZ$22,FK35)+COUNTIF(FG$25:FZ$25,FK35))/設定!$G26+IFERROR((COUNTIF(FG$6:FZ$7,処理!$L13)+COUNTIF(FG$10:FZ$10,処理!$L13)+COUNTIF(FG$13:FZ$13,処理!$L13)+COUNTIF(FG$16:FZ$16,処理!$L13)+COUNTIF(FG$19:FZ$19,処理!$L13)+COUNTIF(FG$22:FZ$22,処理!$L13)+COUNTIF(FG$25:FZ$25,処理!$L13))/処理!$M13,0))","v":""},"",{"$f":"$K$35","v":""},null,{"$f":"IF(LEN(FO35)=0,\"\",(COUNTIF(FG$6:FZ$7,FO35)+COUNTIF(FG$10:FZ$10,FO35)+COUNTIF(FG$13:FZ$13,FO35)+COUNTIF(FG$16:FZ$16,FO35)+COUNTIF(FG$19:FZ$19,FO35)+COUNTIF(FG$22:FZ$22,FO35)+COUNTIF(FG$25:FZ$25,FO35))/設定!$J26+IFERROR((COUNTIF(FG$6:FZ$7,処理!$L19)+COUNTIF(FG$10:FZ$10,処理!$L19)+COUNTIF(FG$13:FZ$13,処理!$L19)+COUNTIF(FG$16:FZ$16,処理!$L19)+COUNTIF(FG$19:FZ$19,処理!$L19)+COUNTIF(FG$22:FZ$22,処理!$L19)+COUNTIF(FG$25:FZ$25,処理!$L19))/処理!$M19,0))","v":""},"",{"$f":"$O$35","v":""},null,{"$f":"IF(LEN(FS35)=0,\"\",(COUNTIF(FG$6:FZ$7,FS35)+COUNTIF(FG$10:FZ$10,FS35)+COUNTIF(FG$13:FZ$13,FS35)+COUNTIF(FG$16:FZ$16,FS35)+COUNTIF(FG$19:FZ$19,FS35)+COUNTIF(FG$22:FZ$22,FS35)+COUNTIF(FG$25:FZ$25,FS35))/設定!$M26+IFERROR((COUNTIF(FG$6:FZ$7,処理!$L25)+COUNTIF(FG$10:FZ$10,処理!$L25)+COUNTIF(FG$13:FZ$13,処理!$L25)+COUNTIF(FG$16:FZ$16,処理!$L25)+COUNTIF(FG$19:FZ$19,処理!$L25)+COUNTIF(FG$22:FZ$22,処理!$L25)+COUNTIF(FG$25:FZ$25,処理!$L25))/処理!$M25,0))","v":""},"",{"$f":"$S$35","v":""},null,"","",{"$f":"$C$35","v":""},null,{"$f":"IF(LEN(GA35)=0,\"\",(COUNTIF(GA$6:GT$7,GA35)+COUNTIF(GA$10:GT$10,GA35)+COUNTIF(GA$13:GT$13,GA35)+COUNTIF(GA$16:GT$16,GA35)+COUNTIF(GA$19:GT$19,GA35)+COUNTIF(GA$22:GT$22,GA35)+COUNTIF(GA$25:GT$25,GA35))/設定!$D26+IFERROR((COUNTIF(GA$6:GT$7,処理!$L7)+COUNTIF(GA$10:GT$10,処理!$L7)+COUNTIF(GA$13:GT$13,処理!$L7)+COUNTIF(GA$16:GT$16,処理!$L7)+COUNTIF(GA$19:GT$19,処理!$L7)+COUNTIF(GA$22:GT$22,処理!$L7)+COUNTIF(GA$25:GT$25,処理!$L7))/処理!$M7,0))","v":""},"",{"$f":"$G$35","v":""},null,{"$f":"IF(LEN(GE35)=0,\"\",(COUNTIF(GA$6:GT$7,GE35)+COUNTIF(GA$10:GT$10,GE35)+COUNTIF(GA$13:GT$13,GE35)+COUNTIF(GA$16:GT$16,GE35)+COUNTIF(GA$19:GT$19,GE35)+COUNTIF(GA$22:GT$22,GE35)+COUNTIF(GA$25:GT$25,GE35))/設定!$G26+IFERROR((COUNTIF(GA$6:GT$7,処理!$L13)+COUNTIF(GA$10:GT$10,処理!$L13)+COUNTIF(GA$13:GT$13,処理!$L13)+COUNTIF(GA$16:GT$16,処理!$L13)+COUNTIF(GA$19:GT$19,処理!$L13)+COUNTIF(GA$22:GT$22,処理!$L13)+COUNTIF(GA$25:GT$25,処理!$L13))/処理!$M13,0))","v":""},"",{"$f":"$K$35","v":""},null,{"$f":"IF(LEN(GI35)=0,\"\",(COUNTIF(GA$6:GT$7,GI35)+COUNTIF(GA$10:GT$10,GI35)+COUNTIF(GA$13:GT$13,GI35)+COUNTIF(GA$16:GT$16,GI35)+COUNTIF(GA$19:GT$19,GI35)+COUNTIF(GA$22:GT$22,GI35)+COUNTIF(GA$25:GT$25,GI35))/設定!$J26+IFERROR((COUNTIF(GA$6:GT$7,処理!$L19)+COUNTIF(GA$10:GT$10,処理!$L19)+COUNTIF(GA$13:GT$13,処理!$L19)+COUNTIF(GA$16:GT$16,処理!$L19)+COUNTIF(GA$19:GT$19,処理!$L19)+COUNTIF(GA$22:GT$22,処理!$L19)+COUNTIF(GA$25:GT$25,処理!$L19))/処理!$M19,0))","v":""},"",{"$f":"$O$35","v":""},null,{"$f":"IF(LEN(GM35)=0,\"\",(COUNTIF(GA$6:GT$7,GM35)+COUNTIF(GA$10:GT$10,GM35)+COUNTIF(GA$13:GT$13,GM35)+COUNTIF(GA$16:GT$16,GM35)+COUNTIF(GA$19:GT$19,GM35)+COUNTIF(GA$22:GT$22,GM35)+COUNTIF(GA$25:GT$25,GM35))/設定!$M26+IFERROR((COUNTIF(GA$6:GT$7,処理!$L25)+COUNTIF(GA$10:GT$10,処理!$L25)+COUNTIF(GA$13:GT$13,処理!$L25)+COUNTIF(GA$16:GT$16,処理!$L25)+COUNTIF(GA$19:GT$19,処理!$L25)+COUNTIF(GA$22:GT$22,処理!$L25)+COUNTIF(GA$25:GT$25,処理!$L25))/処理!$M25,0))","v":""},"",{"$f":"$S$35","v":""},null,"","",{"$f":"$C$35","v":""},null,{"$f":"IF(LEN(GU35)=0,\"\",(COUNTIF(GU$6:HN$7,GU35)+COUNTIF(GU$10:HN$10,GU35)+COUNTIF(GU$13:HN$13,GU35)+COUNTIF(GU$16:HN$16,GU35)+COUNTIF(GU$19:HN$19,GU35)+COUNTIF(GU$22:HN$22,GU35)+COUNTIF(GU$25:HN$25,GU35))/設定!$D26+IFERROR((COUNTIF(GU$6:HN$7,処理!$L7)+COUNTIF(GU$10:HN$10,処理!$L7)+COUNTIF(GU$13:HN$13,処理!$L7)+COUNTIF(GU$16:HN$16,処理!$L7)+COUNTIF(GU$19:HN$19,処理!$L7)+COUNTIF(GU$22:HN$22,処理!$L7)+COUNTIF(GU$25:HN$25,処理!$L7))/処理!$M7,0))","v":""},"",{"$f":"$G$35","v":""},null,{"$f":"IF(LEN(GY35)=0,\"\",(COUNTIF(GU$6:HN$7,GY35)+COUNTIF(GU$10:HN$10,GY35)+COUNTIF(GU$13:HN$13,GY35)+COUNTIF(GU$16:HN$16,GY35)+COUNTIF(GU$19:HN$19,GY35)+COUNTIF(GU$22:HN$22,GY35)+COUNTIF(GU$25:HN$25,GY35))/設定!$G26+IFERROR((COUNTIF(GU$6:HN$7,処理!$L13)+COUNTIF(GU$10:HN$10,処理!$L13)+COUNTIF(GU$13:HN$13,処理!$L13)+COUNTIF(GU$16:HN$16,処理!$L13)+COUNTIF(GU$19:HN$19,処理!$L13)+COUNTIF(GU$22:HN$22,処理!$L13)+COUNTIF(GU$25:HN$25,処理!$L13))/処理!$M13,0))","v":""},"",{"$f":"$K$35","v":""},null,{"$f":"IF(LEN(HC35)=0,\"\",(COUNTIF(GU$6:HN$7,HC35)+COUNTIF(GU$10:HN$10,HC35)+COUNTIF(GU$13:HN$13,HC35)+COUNTIF(GU$16:HN$16,HC35)+COUNTIF(GU$19:HN$19,HC35)+COUNTIF(GU$22:HN$22,HC35)+COUNTIF(GU$25:HN$25,HC35))/設定!$J26+IFERROR((COUNTIF(GU$6:HN$7,処理!$L19)+COUNTIF(GU$10:HN$10,処理!$L19)+COUNTIF(GU$13:HN$13,処理!$L19)+COUNTIF(GU$16:HN$16,処理!$L19)+COUNTIF(GU$19:HN$19,処理!$L19)+COUNTIF(GU$22:HN$22,処理!$L19)+COUNTIF(GU$25:HN$25,処理!$L19))/処理!$M19,0))","v":""},"",{"$f":"$O$35","v":""},null,{"$f":"IF(LEN(HG35)=0,\"\",(COUNTIF(GU$6:HN$7,HG35)+COUNTIF(GU$10:HN$10,HG35)+COUNTIF(GU$13:HN$13,HG35)+COUNTIF(GU$16:HN$16,HG35)+COUNTIF(GU$19:HN$19,HG35)+COUNTIF(GU$22:HN$22,HG35)+COUNTIF(GU$25:HN$25,HG35))/設定!$M26+IFERROR((COUNTIF(GU$6:HN$7,処理!$L25)+COUNTIF(GU$10:HN$10,処理!$L25)+COUNTIF(GU$13:HN$13,処理!$L25)+COUNTIF(GU$16:HN$16,処理!$L25)+COUNTIF(GU$19:HN$19,処理!$L25)+COUNTIF(GU$22:HN$22,処理!$L25)+COUNTIF(GU$25:HN$25,処理!$L25))/処理!$M25,0))","v":""},"",{"$f":"$S$35","v":""},null,"","",{"$f":"$C$35","v":""},null,{"$f":"IF(LEN(HO35)=0,\"\",(COUNTIF(HO$6:IH$7,HO35)+COUNTIF(HO$10:IH$10,HO35)+COUNTIF(HO$13:IH$13,HO35)+COUNTIF(HO$16:IH$16,HO35)+COUNTIF(HO$19:IH$19,HO35)+COUNTIF(HO$22:IH$22,HO35)+COUNTIF(HO$25:IH$25,HO35))/設定!$D26+IFERROR((COUNTIF(HO$6:IH$7,処理!$L7)+COUNTIF(HO$10:IH$10,処理!$L7)+COUNTIF(HO$13:IH$13,処理!$L7)+COUNTIF(HO$16:IH$16,処理!$L7)+COUNTIF(HO$19:IH$19,処理!$L7)+COUNTIF(HO$22:IH$22,処理!$L7)+COUNTIF(HO$25:IH$25,処理!$L7))/処理!$M7,0))","v":""},"",{"$f":"$G$35","v":""},null,{"$f":"IF(LEN(HS35)=0,\"\",(COUNTIF(HO$6:IH$7,HS35)+COUNTIF(HO$10:IH$10,HS35)+COUNTIF(HO$13:IH$13,HS35)+COUNTIF(HO$16:IH$16,HS35)+COUNTIF(HO$19:IH$19,HS35)+COUNTIF(HO$22:IH$22,HS35)+COUNTIF(HO$25:IH$25,HS35))/設定!$G26+IFERROR((COUNTIF(HO$6:IH$7,処理!$L13)+COUNTIF(HO$10:IH$10,処理!$L13)+COUNTIF(HO$13:IH$13,処理!$L13)+COUNTIF(HO$16:IH$16,処理!$L13)+COUNTIF(HO$19:IH$19,処理!$L13)+COUNTIF(HO$22:IH$22,処理!$L13)+COUNTIF(HO$25:IH$25,処理!$L13))/処理!$M13,0))","v":""},"",{"$f":"$K$35","v":""},null,{"$f":"IF(LEN(HW35)=0,\"\",(COUNTIF(HO$6:IH$7,HW35)+COUNTIF(HO$10:IH$10,HW35)+COUNTIF(HO$13:IH$13,HW35)+COUNTIF(HO$16:IH$16,HW35)+COUNTIF(HO$19:IH$19,HW35)+COUNTIF(HO$22:IH$22,HW35)+COUNTIF(HO$25:IH$25,HW35))/設定!$J26+IFERROR((COUNTIF(HO$6:IH$7,処理!$L19)+COUNTIF(HO$10:IH$10,処理!$L19)+COUNTIF(HO$13:IH$13,処理!$L19)+COUNTIF(HO$16:IH$16,処理!$L19)+COUNTIF(HO$19:IH$19,処理!$L19)+COUNTIF(HO$22:IH$22,処理!$L19)+COUNTIF(HO$25:IH$25,処理!$L19))/処理!$M19,0))","v":""},"",{"$f":"$O$35","v":""},null,{"$f":"IF(LEN(IA35)=0,\"\",(COUNTIF(HO$6:IH$7,IA35)+COUNTIF(HO$10:IH$10,IA35)+COUNTIF(HO$13:IH$13,IA35)+COUNTIF(HO$16:IH$16,IA35)+COUNTIF(HO$19:IH$19,IA35)+COUNTIF(HO$22:IH$22,IA35)+COUNTIF(HO$25:IH$25,IA35))/設定!$M26+IFERROR((COUNTIF(HO$6:IH$7,処理!$L25)+COUNTIF(HO$10:IH$10,処理!$L25)+COUNTIF(HO$13:IH$13,処理!$L25)+COUNTIF(HO$16:IH$16,処理!$L25)+COUNTIF(HO$19:IH$19,処理!$L25)+COUNTIF(HO$22:IH$22,処理!$L25)+COUNTIF(HO$25:IH$25,処理!$L25))/処理!$M25,0))","v":""},"",{"$f":"$S$35","v":""},null,"","",{"$f":"$C$35","v":""},null,{"$f":"IF(LEN(II35)=0,\"\",(COUNTIF(II$6:JB$7,II35)+COUNTIF(II$10:JB$10,II35)+COUNTIF(II$13:JB$13,II35)+COUNTIF(II$16:JB$16,II35)+COUNTIF(II$19:JB$19,II35)+COUNTIF(II$22:JB$22,II35)+COUNTIF(II$25:JB$25,II35))/設定!$D26+IFERROR((COUNTIF(II$6:JB$7,処理!$L7)+COUNTIF(II$10:JB$10,処理!$L7)+COUNTIF(II$13:JB$13,処理!$L7)+COUNTIF(II$16:JB$16,処理!$L7)+COUNTIF(II$19:JB$19,処理!$L7)+COUNTIF(II$22:JB$22,処理!$L7)+COUNTIF(II$25:JB$25,処理!$L7))/処理!$M7,0))","v":""},"",{"$f":"$G$35","v":""},null,{"$f":"IF(LEN(IM35)=0,\"\",(COUNTIF(II$6:JB$7,IM35)+COUNTIF(II$10:JB$10,IM35)+COUNTIF(II$13:JB$13,IM35)+COUNTIF(II$16:JB$16,IM35)+COUNTIF(II$19:JB$19,IM35)+COUNTIF(II$22:JB$22,IM35)+COUNTIF(II$25:JB$25,IM35))/設定!$G26+IFERROR((COUNTIF(II$6:JB$7,処理!$L13)+COUNTIF(II$10:JB$10,処理!$L13)+COUNTIF(II$13:JB$13,処理!$L13)+COUNTIF(II$16:JB$16,処理!$L13)+COUNTIF(II$19:JB$19,処理!$L13)+COUNTIF(II$22:JB$22,処理!$L13)+COUNTIF(II$25:JB$25,処理!$L13))/処理!$M13,0))","v":""},"",{"$f":"$K$35","v":""},null,{"$f":"IF(LEN(IQ35)=0,\"\",(COUNTIF(II$6:JB$7,IQ35)+COUNTIF(II$10:JB$10,IQ35)+COUNTIF(II$13:JB$13,IQ35)+COUNTIF(II$16:JB$16,IQ35)+COUNTIF(II$19:JB$19,IQ35)+COUNTIF(II$22:JB$22,IQ35)+COUNTIF(II$25:JB$25,IQ35))/設定!$J26+IFERROR((COUNTIF(II$6:JB$7,処理!$L19)+COUNTIF(II$10:JB$10,処理!$L19)+COUNTIF(II$13:JB$13,処理!$L19)+COUNTIF(II$16:JB$16,処理!$L19)+COUNTIF(II$19:JB$19,処理!$L19)+COUNTIF(II$22:JB$22,処理!$L19)+COUNTIF(II$25:JB$25,処理!$L19))/処理!$M19,0))","v":""},"",{"$f":"$O$35","v":""},null,{"$f":"IF(LEN(IU35)=0,\"\",(COUNTIF(II$6:JB$7,IU35)+COUNTIF(II$10:JB$10,IU35)+COUNTIF(II$13:JB$13,IU35)+COUNTIF(II$16:JB$16,IU35)+COUNTIF(II$19:JB$19,IU35)+COUNTIF(II$22:JB$22,IU35)+COUNTIF(II$25:JB$25,IU35))/設定!$M26+IFERROR((COUNTIF(II$6:JB$7,処理!$L25)+COUNTIF(II$10:JB$10,処理!$L25)+COUNTIF(II$13:JB$13,処理!$L25)+COUNTIF(II$16:JB$16,処理!$L25)+COUNTIF(II$19:JB$19,処理!$L25)+COUNTIF(II$22:JB$22,処理!$L25)+COUNTIF(II$25:JB$25,処理!$L25))/処理!$M25,0))","v":""},"",{"$f":"$S$35","v":""},null,"","",{"$f":"$C$35","v":""},null,{"$f":"IF(LEN(JC35)=0,\"\",(COUNTIF(JC$6:JV$7,JC35)+COUNTIF(JC$10:JV$10,JC35)+COUNTIF(JC$13:JV$13,JC35)+COUNTIF(JC$16:JV$16,JC35)+COUNTIF(JC$19:JV$19,JC35)+COUNTIF(JC$22:JV$22,JC35)+COUNTIF(JC$25:JV$25,JC35))/設定!$D26+IFERROR((COUNTIF(JC$6:JV$7,処理!$L7)+COUNTIF(JC$10:JV$10,処理!$L7)+COUNTIF(JC$13:JV$13,処理!$L7)+COUNTIF(JC$16:JV$16,処理!$L7)+COUNTIF(JC$19:JV$19,処理!$L7)+COUNTIF(JC$22:JV$22,処理!$L7)+COUNTIF(JC$25:JV$25,処理!$L7))/処理!$M7,0))","v":""},"",{"$f":"$G$35","v":""},null,{"$f":"IF(LEN(JG35)=0,\"\",(COUNTIF(JC$6:JV$7,JG35)+COUNTIF(JC$10:JV$10,JG35)+COUNTIF(JC$13:JV$13,JG35)+COUNTIF(JC$16:JV$16,JG35)+COUNTIF(JC$19:JV$19,JG35)+COUNTIF(JC$22:JV$22,JG35)+COUNTIF(JC$25:JV$25,JG35))/設定!$G26+IFERROR((COUNTIF(JC$6:JV$7,処理!$L13)+COUNTIF(JC$10:JV$10,処理!$L13)+COUNTIF(JC$13:JV$13,処理!$L13)+COUNTIF(JC$16:JV$16,処理!$L13)+COUNTIF(JC$19:JV$19,処理!$L13)+COUNTIF(JC$22:JV$22,処理!$L13)+COUNTIF(JC$25:JV$25,処理!$L13))/処理!$M13,0))","v":""},"",{"$f":"$K$35","v":""},null,{"$f":"IF(LEN(JK35)=0,\"\",(COUNTIF(JC$6:JV$7,JK35)+COUNTIF(JC$10:JV$10,JK35)+COUNTIF(JC$13:JV$13,JK35)+COUNTIF(JC$16:JV$16,JK35)+COUNTIF(JC$19:JV$19,JK35)+COUNTIF(JC$22:JV$22,JK35)+COUNTIF(JC$25:JV$25,JK35))/設定!$J26+IFERROR((COUNTIF(JC$6:JV$7,処理!$L19)+COUNTIF(JC$10:JV$10,処理!$L19)+COUNTIF(JC$13:JV$13,処理!$L19)+COUNTIF(JC$16:JV$16,処理!$L19)+COUNTIF(JC$19:JV$19,処理!$L19)+COUNTIF(JC$22:JV$22,処理!$L19)+COUNTIF(JC$25:JV$25,処理!$L19))/処理!$M19,0))","v":""},"",{"$f":"$O$35","v":""},null,{"$f":"IF(LEN(JO35)=0,\"\",(COUNTIF(JC$6:JV$7,JO35)+COUNTIF(JC$10:JV$10,JO35)+COUNTIF(JC$13:JV$13,JO35)+COUNTIF(JC$16:JV$16,JO35)+COUNTIF(JC$19:JV$19,JO35)+COUNTIF(JC$22:JV$22,JO35)+COUNTIF(JC$25:JV$25,JO35))/設定!$M26+IFERROR((COUNTIF(JC$6:JV$7,処理!$L25)+COUNTIF(JC$10:JV$10,処理!$L25)+COUNTIF(JC$13:JV$13,処理!$L25)+COUNTIF(JC$16:JV$16,処理!$L25)+COUNTIF(JC$19:JV$19,処理!$L25)+COUNTIF(JC$22:JV$22,処理!$L25)+COUNTIF(JC$25:JV$25,処理!$L25))/処理!$M25,0))","v":""},"",{"$f":"$S$35","v":""},null,"","",{"$f":"$C$35","v":""},null,{"$f":"IF(LEN(JW35)=0,\"\",(COUNTIF(JW$6:KP$7,JW35)+COUNTIF(JW$10:KP$10,JW35)+COUNTIF(JW$13:KP$13,JW35)+COUNTIF(JW$16:KP$16,JW35)+COUNTIF(JW$19:KP$19,JW35)+COUNTIF(JW$22:KP$22,JW35)+COUNTIF(JW$25:KP$25,JW35))/設定!$D26+IFERROR((COUNTIF(JW$6:KP$7,処理!$L7)+COUNTIF(JW$10:KP$10,処理!$L7)+COUNTIF(JW$13:KP$13,処理!$L7)+COUNTIF(JW$16:KP$16,処理!$L7)+COUNTIF(JW$19:KP$19,処理!$L7)+COUNTIF(JW$22:KP$22,処理!$L7)+COUNTIF(JW$25:KP$25,処理!$L7))/処理!$M7,0))","v":""},"",{"$f":"$G$35","v":""},null,{"$f":"IF(LEN(KA35)=0,\"\",(COUNTIF(JW$6:KP$7,KA35)+COUNTIF(JW$10:KP$10,KA35)+COUNTIF(JW$13:KP$13,KA35)+COUNTIF(JW$16:KP$16,KA35)+COUNTIF(JW$19:KP$19,KA35)+COUNTIF(JW$22:KP$22,KA35)+COUNTIF(JW$25:KP$25,KA35))/設定!$G26+IFERROR((COUNTIF(JW$6:KP$7,処理!$L13)+COUNTIF(JW$10:KP$10,処理!$L13)+COUNTIF(JW$13:KP$13,処理!$L13)+COUNTIF(JW$16:KP$16,処理!$L13)+COUNTIF(JW$19:KP$19,処理!$L13)+COUNTIF(JW$22:KP$22,処理!$L13)+COUNTIF(JW$25:KP$25,処理!$L13))/処理!$M13,0))","v":""},"",{"$f":"$K$35","v":""},null,{"$f":"IF(LEN(KE35)=0,\"\",(COUNTIF(JW$6:KP$7,KE35)+COUNTIF(JW$10:KP$10,KE35)+COUNTIF(JW$13:KP$13,KE35)+COUNTIF(JW$16:KP$16,KE35)+COUNTIF(JW$19:KP$19,KE35)+COUNTIF(JW$22:KP$22,KE35)+COUNTIF(JW$25:KP$25,KE35))/設定!$J26+IFERROR((COUNTIF(JW$6:KP$7,処理!$L19)+COUNTIF(JW$10:KP$10,処理!$L19)+COUNTIF(JW$13:KP$13,処理!$L19)+COUNTIF(JW$16:KP$16,処理!$L19)+COUNTIF(JW$19:KP$19,処理!$L19)+COUNTIF(JW$22:KP$22,処理!$L19)+COUNTIF(JW$25:KP$25,処理!$L19))/処理!$M19,0))","v":""},"",{"$f":"$O$35","v":""},null,{"$f":"IF(LEN(KI35)=0,\"\",(COUNTIF(JW$6:KP$7,KI35)+COUNTIF(JW$10:KP$10,KI35)+COUNTIF(JW$13:KP$13,KI35)+COUNTIF(JW$16:KP$16,KI35)+COUNTIF(JW$19:KP$19,KI35)+COUNTIF(JW$22:KP$22,KI35)+COUNTIF(JW$25:KP$25,KI35))/設定!$M26+IFERROR((COUNTIF(JW$6:KP$7,処理!$L25)+COUNTIF(JW$10:KP$10,処理!$L25)+COUNTIF(JW$13:KP$13,処理!$L25)+COUNTIF(JW$16:KP$16,処理!$L25)+COUNTIF(JW$19:KP$19,処理!$L25)+COUNTIF(JW$22:KP$22,処理!$L25)+COUNTIF(JW$25:KP$25,処理!$L25))/処理!$M25,0))","v":""},"",{"$f":"$S$35","v":""},null,"","",{"$f":"$C$35","v":""},null,{"$f":"IF(LEN(KQ35)=0,\"\",(COUNTIF(KQ$6:LJ$7,KQ35)+COUNTIF(KQ$10:LJ$10,KQ35)+COUNTIF(KQ$13:LJ$13,KQ35)+COUNTIF(KQ$16:LJ$16,KQ35)+COUNTIF(KQ$19:LJ$19,KQ35)+COUNTIF(KQ$22:LJ$22,KQ35)+COUNTIF(KQ$25:LJ$25,KQ35))/設定!$D26+IFERROR((COUNTIF(KQ$6:LJ$7,処理!$L7)+COUNTIF(KQ$10:LJ$10,処理!$L7)+COUNTIF(KQ$13:LJ$13,処理!$L7)+COUNTIF(KQ$16:LJ$16,処理!$L7)+COUNTIF(KQ$19:LJ$19,処理!$L7)+COUNTIF(KQ$22:LJ$22,処理!$L7)+COUNTIF(KQ$25:LJ$25,処理!$L7))/処理!$M7,0))","v":""},"",{"$f":"$G$35","v":""},null,{"$f":"IF(LEN(KU35)=0,\"\",(COUNTIF(KQ$6:LJ$7,KU35)+COUNTIF(KQ$10:LJ$10,KU35)+COUNTIF(KQ$13:LJ$13,KU35)+COUNTIF(KQ$16:LJ$16,KU35)+COUNTIF(KQ$19:LJ$19,KU35)+COUNTIF(KQ$22:LJ$22,KU35)+COUNTIF(KQ$25:LJ$25,KU35))/設定!$G26+IFERROR((COUNTIF(KQ$6:LJ$7,処理!$L13)+COUNTIF(KQ$10:LJ$10,処理!$L13)+COUNTIF(KQ$13:LJ$13,処理!$L13)+COUNTIF(KQ$16:LJ$16,処理!$L13)+COUNTIF(KQ$19:LJ$19,処理!$L13)+COUNTIF(KQ$22:LJ$22,処理!$L13)+COUNTIF(KQ$25:LJ$25,処理!$L13))/処理!$M13,0))","v":""},"",{"$f":"$K$35","v":""},null,{"$f":"IF(LEN(KY35)=0,\"\",(COUNTIF(KQ$6:LJ$7,KY35)+COUNTIF(KQ$10:LJ$10,KY35)+COUNTIF(KQ$13:LJ$13,KY35)+COUNTIF(KQ$16:LJ$16,KY35)+COUNTIF(KQ$19:LJ$19,KY35)+COUNTIF(KQ$22:LJ$22,KY35)+COUNTIF(KQ$25:LJ$25,KY35))/設定!$J26+IFERROR((COUNTIF(KQ$6:LJ$7,処理!$L19)+COUNTIF(KQ$10:LJ$10,処理!$L19)+COUNTIF(KQ$13:LJ$13,処理!$L19)+COUNTIF(KQ$16:LJ$16,処理!$L19)+COUNTIF(KQ$19:LJ$19,処理!$L19)+COUNTIF(KQ$22:LJ$22,処理!$L19)+COUNTIF(KQ$25:LJ$25,処理!$L19))/処理!$M19,0))","v":""},"",{"$f":"$O$35","v":""},null,{"$f":"IF(LEN(LC35)=0,\"\",(COUNTIF(KQ$6:LJ$7,LC35)+COUNTIF(KQ$10:LJ$10,LC35)+COUNTIF(KQ$13:LJ$13,LC35)+COUNTIF(KQ$16:LJ$16,LC35)+COUNTIF(KQ$19:LJ$19,LC35)+COUNTIF(KQ$22:LJ$22,LC35)+COUNTIF(KQ$25:LJ$25,LC35))/設定!$M26+IFERROR((COUNTIF(KQ$6:LJ$7,処理!$L25)+COUNTIF(KQ$10:LJ$10,処理!$L25)+COUNTIF(KQ$13:LJ$13,処理!$L25)+COUNTIF(KQ$16:LJ$16,処理!$L25)+COUNTIF(KQ$19:LJ$19,処理!$L25)+COUNTIF(KQ$22:LJ$22,処理!$L25)+COUNTIF(KQ$25:LJ$25,処理!$L25))/処理!$M25,0))","v":""},"",{"$f":"$S$35","v":""},null,"","",{"$f":"$C$35","v":""},null,{"$f":"IF(LEN(LK35)=0,\"\",(COUNTIF(LK$6:MD$7,LK35)+COUNTIF(LK$10:MD$10,LK35)+COUNTIF(LK$13:MD$13,LK35)+COUNTIF(LK$16:MD$16,LK35)+COUNTIF(LK$19:MD$19,LK35)+COUNTIF(LK$22:MD$22,LK35)+COUNTIF(LK$25:MD$25,LK35))/設定!$D26+IFERROR((COUNTIF(LK$6:MD$7,処理!$L7)+COUNTIF(LK$10:MD$10,処理!$L7)+COUNTIF(LK$13:MD$13,処理!$L7)+COUNTIF(LK$16:MD$16,処理!$L7)+COUNTIF(LK$19:MD$19,処理!$L7)+COUNTIF(LK$22:MD$22,処理!$L7)+COUNTIF(LK$25:MD$25,処理!$L7))/処理!$M7,0))","v":""},"",{"$f":"$G$35","v":""},null,{"$f":"IF(LEN(LO35)=0,\"\",(COUNTIF(LK$6:MD$7,LO35)+COUNTIF(LK$10:MD$10,LO35)+COUNTIF(LK$13:MD$13,LO35)+COUNTIF(LK$16:MD$16,LO35)+COUNTIF(LK$19:MD$19,LO35)+COUNTIF(LK$22:MD$22,LO35)+COUNTIF(LK$25:MD$25,LO35))/設定!$G26+IFERROR((COUNTIF(LK$6:MD$7,処理!$L13)+COUNTIF(LK$10:MD$10,処理!$L13)+COUNTIF(LK$13:MD$13,処理!$L13)+COUNTIF(LK$16:MD$16,処理!$L13)+COUNTIF(LK$19:MD$19,処理!$L13)+COUNTIF(LK$22:MD$22,処理!$L13)+COUNTIF(LK$25:MD$25,処理!$L13))/処理!$M13,0))","v":""},"",{"$f":"$K$35","v":""},null,{"$f":"IF(LEN(LS35)=0,\"\",(COUNTIF(LK$6:MD$7,LS35)+COUNTIF(LK$10:MD$10,LS35)+COUNTIF(LK$13:MD$13,LS35)+COUNTIF(LK$16:MD$16,LS35)+COUNTIF(LK$19:MD$19,LS35)+COUNTIF(LK$22:MD$22,LS35)+COUNTIF(LK$25:MD$25,LS35))/設定!$J26+IFERROR((COUNTIF(LK$6:MD$7,処理!$L19)+COUNTIF(LK$10:MD$10,処理!$L19)+COUNTIF(LK$13:MD$13,処理!$L19)+COUNTIF(LK$16:MD$16,処理!$L19)+COUNTIF(LK$19:MD$19,処理!$L19)+COUNTIF(LK$22:MD$22,処理!$L19)+COUNTIF(LK$25:MD$25,処理!$L19))/処理!$M19,0))","v":""},"",{"$f":"$O$35","v":""},null,{"$f":"IF(LEN(LW35)=0,\"\",(COUNTIF(LK$6:MD$7,LW35)+COUNTIF(LK$10:MD$10,LW35)+COUNTIF(LK$13:MD$13,LW35)+COUNTIF(LK$16:MD$16,LW35)+COUNTIF(LK$19:MD$19,LW35)+COUNTIF(LK$22:MD$22,LW35)+COUNTIF(LK$25:MD$25,LW35))/設定!$M26+IFERROR((COUNTIF(LK$6:MD$7,処理!$L25)+COUNTIF(LK$10:MD$10,処理!$L25)+COUNTIF(LK$13:MD$13,処理!$L25)+COUNTIF(LK$16:MD$16,処理!$L25)+COUNTIF(LK$19:MD$19,処理!$L25)+COUNTIF(LK$22:MD$22,処理!$L25)+COUNTIF(LK$25:MD$25,処理!$L25))/処理!$M25,0))","v":""},"",{"$f":"$S$35","v":""},null,"","",{"$f":"$C$35","v":""},null,{"$f":"IF(LEN(ME35)=0,\"\",(COUNTIF(ME$6:MX$7,ME35)+COUNTIF(ME$10:MX$10,ME35)+COUNTIF(ME$13:MX$13,ME35)+COUNTIF(ME$16:MX$16,ME35)+COUNTIF(ME$19:MX$19,ME35)+COUNTIF(ME$22:MX$22,ME35)+COUNTIF(ME$25:MX$25,ME35))/設定!$D26+IFERROR((COUNTIF(ME$6:MX$7,処理!$L7)+COUNTIF(ME$10:MX$10,処理!$L7)+COUNTIF(ME$13:MX$13,処理!$L7)+COUNTIF(ME$16:MX$16,処理!$L7)+COUNTIF(ME$19:MX$19,処理!$L7)+COUNTIF(ME$22:MX$22,処理!$L7)+COUNTIF(ME$25:MX$25,処理!$L7))/処理!$M7,0))","v":""},"",{"$f":"$G$35","v":""},null,{"$f":"IF(LEN(MI35)=0,\"\",(COUNTIF(ME$6:MX$7,MI35)+COUNTIF(ME$10:MX$10,MI35)+COUNTIF(ME$13:MX$13,MI35)+COUNTIF(ME$16:MX$16,MI35)+COUNTIF(ME$19:MX$19,MI35)+COUNTIF(ME$22:MX$22,MI35)+COUNTIF(ME$25:MX$25,MI35))/設定!$G26+IFERROR((COUNTIF(ME$6:MX$7,処理!$L13)+COUNTIF(ME$10:MX$10,処理!$L13)+COUNTIF(ME$13:MX$13,処理!$L13)+COUNTIF(ME$16:MX$16,処理!$L13)+COUNTIF(ME$19:MX$19,処理!$L13)+COUNTIF(ME$22:MX$22,処理!$L13)+COUNTIF(ME$25:MX$25,処理!$L13))/処理!$M13,0))","v":""},"",{"$f":"$K$35","v":""},null,{"$f":"IF(LEN(MM35)=0,\"\",(COUNTIF(ME$6:MX$7,MM35)+COUNTIF(ME$10:MX$10,MM35)+COUNTIF(ME$13:MX$13,MM35)+COUNTIF(ME$16:MX$16,MM35)+COUNTIF(ME$19:MX$19,MM35)+COUNTIF(ME$22:MX$22,MM35)+COUNTIF(ME$25:MX$25,MM35))/設定!$J26+IFERROR((COUNTIF(ME$6:MX$7,処理!$L19)+COUNTIF(ME$10:MX$10,処理!$L19)+COUNTIF(ME$13:MX$13,処理!$L19)+COUNTIF(ME$16:MX$16,処理!$L19)+COUNTIF(ME$19:MX$19,処理!$L19)+COUNTIF(ME$22:MX$22,処理!$L19)+COUNTIF(ME$25:MX$25,処理!$L19))/処理!$M19,0))","v":""},"",{"$f":"$O$35","v":""},null,{"$f":"IF(LEN(MQ35)=0,\"\",(COUNTIF(ME$6:MX$7,MQ35)+COUNTIF(ME$10:MX$10,MQ35)+COUNTIF(ME$13:MX$13,MQ35)+COUNTIF(ME$16:MX$16,MQ35)+COUNTIF(ME$19:MX$19,MQ35)+COUNTIF(ME$22:MX$22,MQ35)+COUNTIF(ME$25:MX$25,MQ35))/設定!$M26+IFERROR((COUNTIF(ME$6:MX$7,処理!$L25)+COUNTIF(ME$10:MX$10,処理!$L25)+COUNTIF(ME$13:MX$13,処理!$L25)+COUNTIF(ME$16:MX$16,処理!$L25)+COUNTIF(ME$19:MX$19,処理!$L25)+COUNTIF(ME$22:MX$22,処理!$L25)+COUNTIF(ME$25:MX$25,処理!$L25))/処理!$M25,0))","v":""},"",{"$f":"$S$35","v":""},null,"",""]

{"sheet":"３学期","index":4,"n_rows":35,"n_cols":262,"rows_kept":35,"cut":false,"hidden":false,"merged":[[3,18,3,21],[3,22,3,25],[3,26,3,29],[3,30,3,33],[3,34,3,37],[3,38,3,41],[2,248,2,259],[3,1,4,1],[3,2,3,5],[3,6,3,9],[3,10,3,13],[3,14,3,17],[2,128,2,139],[2,148,2,159],[2,168,2,179],[2,188,2,199],[2,208,2,219],[2,228,2,239],[2,7,2,19],[2,28,2,39],[2,48,2,59],[2,68,2,79],[2,88,2,99],[2,108,2,119],[3,90,3,93],[3,94,3,97],[3,98,3,101],[3,102,3,105],[3,106,3,109],[3,110,3,113],[3,66,3,69],[3,70,3,73],[3,74,3,77],[3,78,3,81],[3,82,3,85],[3,86,3,89],[3,42,3,45],[3,46,3,49],[3,50,3,53],[3,54,3,57],[3,58,3,61],[3,62,3,65],[3,162,3,165],[3,166,3,169],[3,170,3,173],[3,174,3,177],[3,178,3,181],[3,182,3,185],[3,138,3,141],[3,142,3,145],[3,146,3,149],[3,150,3,153],[3,154,3,157],[3,158,3,161],[3,114,3,117],[3,118,3,121],[3,122,3,125],[3,126,3,129],[3,130,3,133],[3,134,3,137],[3,258,3,261],[3,234,3,237],[3,238,3,241],[3,242,3,245],[3,246,3,249],[3,250,3,253],[3,254,3,257],[3,210,3,213],[3,214,3,217],[3,218,3,221],[3,222,3,225],[3,226,3,229],[3,230,3,233],[3,186,3,189],[3,190,3,193],[3,194,3,197],[3,198,3,201],[3,202,3,205],[3,206,3,209],[4,54,4,57],[4,58,4,61],[4,62,4,65],[4,66,4,69],[4,70,4,73],[4,74,4,77],[4,30,4,33],[4,34,4,37],[4,38,4,41],[4,42,4,45],[4,46,4,49],[4,50,4,53],[4,2,4,5],[4,6,4,9],[4,10,4,13],[4,14,4,17],[4,18,4,21],[4,22,4,25],[4,26,4,29],[4,166,4,169],[4,170,4,173],[4,126,4,129],[4,130,4,133],[4,134,4,137],[4,138,4,141],[4,142,4,145],[4,146,4,149],[4,102,4,105],[4,106,4,109],[4,110,4,113],[4,114,4,117],[4,118,4,121],[4,122,4,125],[4,78,4,81],[4,82,4,85],[4,86,4,89],[4,90,4,93],[4,94,4,97],[4,98,4,101],[5,2,5,4],[5,6,5,8],[5,10,5,12],[5,14,5,16],[5,18,5,20],[5,22,5,24],[4,246,4,249],[4,250,4,253],[4,254,4,257],[4,258,4,261],[4,222,4,225],[4,226,4,229],[4,230,4,233],[4,234,4,237],[4,238,4,241],[4,242,4,245],[4,198,4,201],[4,202,4,205],[4,206,4,209],[4,210,4,213],[4,214,4,217],[4,218,4,221],[4,174,4,177],[4,178,4,181],[4,182,4,185],[4,186,4,189],[4,190,4,193],[4,194,4,197],[4,150,4,153],[4,154,4,157],[4,158,4,161],[4,162,4,165],[5,74,5,76],[5,78,5,80],[5,82,5,84],[5,86,5,88],[5,90,5,92],[5,94,5,96],[5,50,5,52],[5,54,5,56],[5,58,5,60],[5,62,5,64],[5,66,5,68],[5,70,5,72],[5,26,5,28],[5,30,5,32],[5,34,5,36],[5,38,5,40],[5,42,5,44],[5,46,5,48],[5,146,5,148],[5,150,5,152],[5,154,5,156],[5,158,5,160],[5,162,5,164],[5,166,5,168],[5,122,5,124],[5,126,5,128],[5,130,5,132],[5,134,5,136],[5,138,5,140],[5,142,5,144],[5,98,5,100],[5,102,5,104],[5,106,5,108],[5,110,5,112],[5,114,5,116],[5,118,5,120],[6,1,8,1],[6,2,6,4],[6,6,6,8],[6,10,6,12],[6,14,6,16],[6,18,6,20],[6,22,6,24],[6,26,6,28],[6,30,6,32],[5,242,5,244],[5,246,5,248],[5,250,5,252],[5,254,5,256],[5,258,5,260],[5,218,5,220],[5,222,5,224],[5,226,5,228],[5,230,5,232],[5,234,5,236],[5,238,5,240],[5,194,5,196],[5,198,5,200],[5,202,5,204],[5,206,5,208],[5,210,5,212],[5,214,5,216],[5,170,5,172],[5,174,5,176],[5,178,5,180],[5,182,5,184],[5,186,5,188],[5,190,5,192],[6,82,6,84],[6,86,6,88],[6,90,6,92],[6,94,6,96],[6,98,6,100],[6,102,6,104],[6,58,6,60],[6,62,6,64],[6,66,6,68],[6,70,6,72],[6,74,6,76],[6,78,6,80],[6,34,6,36],[6,38,6,40],[6,42,6,44],[6,46,6,48],[6,50,6,52],[6,54,6,56],[6,154,6,156],[6,158,6,160],[6,162,6,164],[6,166,6,168],[6,170,6,172],[6,174,6,176],[6,130,6,132],[6,134,6,136],[6,138,6,140],[6,142,6,144],[6,146,6,148],[6,150,6,152],[6,106,6,108],[6,110,6,112],[6,114,6,116],[6,118,6,120],[6,122,6,124],[6,126,6,128],[7,22,7,25],[7,26,7,29],[7,30,7,33],[7,34,7,37],[7,38,7,41],[7,42,7,45],[7,2,7,5],[7,6,7,9],[7,10,7,13],[7,14,7,17],[7,18,7,21],[6,250,6,252],[6,254,6,256],[6,258,6,260],[6,226,6,228],[6,230,6,232],[6,234,6,236],[6,238,6,240],[6,242,6,244],[6,246,6,248],[6,202,6,204],[6,206,6,208],[6,210,6,212],[6,214,6,216],[6,218,6,220],[6,222,6,224],[6,178,6,180],[6,182,6,184],[6,186,6,188],[6,190,6,192],[6,194,6,196],[6,198,6,200],[7,94,7,97],[7,98,7,101],[7,102,7,105],[7,106,7,109],[7,110,7,113],[7,114,7,117],[7,70,7,73],[7,74,7,77],[7,78,7,81],[7,82,7,85],[7,86,7,89],[7,90,7,93],[7,46,7,49],[7,50,7,53],[7,54,7,57],[7,58,7,61],[7,62,7,65],[7,66,7,69],[7,166,7,169],[7,170,7,173],[7,174,7,177],[7,178,7,181],[7,182,7,185],[7,186,7,189],[7,142,7,145],[7,146,7,149],[7,150,7,153],[7,154,7,157],[7,158,7,161],[7,162,7,165],[7,118,7,121],[7,122,7,125],[7,126,7,129],[7,130,7,133],[7,134,7,137],[7,138,7,141],[7,238,7,241],[7,242,7,245],[7,246,7,249],[7,250,7,253],[7,254,7,257],[7,258,7,261],[7,214,7,217],[7,218,7,221],[7,222,7,225],[7,226,7,229],[7,230,7,233],[7,234,7,237],[7,190,7,193],[7,194,7,197],[7,198,7,201],[7,202,7,205],[7,206,7,209],[7,210,7,213],[8,58,8,61],[8,62,8,65],[8,66,8,69],[8,70,8,73],[8,74,8,77],[8,78,8,81],[8,34,8,37],[8,38,8,41],[8,42,8,45],[8,46,8,49],[8,50,8,53],[8,54,8,57],[8,2,8,5],[8,6,8,9],[8,10,8,13],[8,14,8,17],[8,18,8,21],[8,22,8,25],[8,26,8,29],[8,30,8,33],[8,130,8,133],[8,134,8,137],[8,138,8,141],[8,142,8,145],[8,146,8,149],[8,150,8,153],[8,106,8,109],[8,110,8,113],[8,114,8,117],[8,118,8,121],[8,122,8,125],[8,126,8,129],[8,82,8,85],[8,86,8,89],[8,90,8,93],[8,94,8,97],[8,98,8,101],[8,102,8,105],[9,1,11,1],[9,2,9,4],[9,6,9,8],[9,10,9,12],[9,14,9,16],[8,250,8,253],[8,254,8,257],[8,258,8,261],[8,226,8,229],[8,230,8,233],[8,234,8,237],[8,238,8,241],[8,242,8,245],[8,246,8,249],[8,202,8,205],[8,206,8,209],[8,210,8,213],[8,214,8,217],[8,218,8,221],[8,222,8,225],[8,178,8,181],[8,182,8,185],[8,186,8,189],[8,190,8,193],[8,194,8,197],[8,198,8,201],[8,154,8,157],[8,158,8,161],[8,162,8,165],[8,166,8,169],[8,170,8,173],[8,174,8,177],[9,66,9,68],[9,70,9,72],[9,74,9,76],[9,78,9,80],[9,82,9,84],[9,86,9,88],[9,42,9,44],[9,46,9,48],[9,50,9,52],[9,54,9,56],[9,58,9,60],[9,62,9,64],[9,18,9,20],[9,22,9,24],[9,26,9,28],[9,30,9,32],[9,34,9,36],[9,38,9,40],[9,138,9,140],[9,142,9,144],[9,146,9,148],[9,150,9,152],[9,154,9,156],[9,158,9,160],[9,114,9,116],[9,118,9,120],[9,122,9,124],[9,126,9,128],[9,130,9,132],[9,134,9,136],[9,90,9,92],[9,94,9,96],[9,98,9,100],[9,102,9,104],[9,106,9,108],[9,110,9,112],[10,2,10,5],[10,6,10,9],[10,10,10,13],[10,14,10,17],[10,18,10,21],[10,22,10,25],[10,26,10,29],[9,258,9,260],[9,234,9,236],[9,238,9,240],[9,242,9,244],[9,246,9,248],[9,250,9,252],[9,254,9,256],[9,210,9,212],[9,214,9,216],[9,218,9,220],[9,222,9,224],[9,226,9,228],[9,230,9,232],[9,186,9,188],[9,190,9,192],[9,194,9,196],[9,198,9,200],[9,202,9,204],[9,206,9,208],[9,162,9,164],[9,166,9,168],[9,170,9,172],[9,174,9,176],[9,178,9,180],[9,182,9,184],[10,78,10,81],[10,82,10,85],[10,86,10,89],[10,90,10,93],[10,94,10,97],[10,98,10,101],[10,54,10,57],[10,58,10,61],[10,62,10,65],[10,66,10,69],[10,70,10,73],[10,74,10,77],[10,30,10,33],[10,34,10,37],[10,38,10,41],[10,42,10,45],[10,46,10,49],[10,50,10,53],[10,190,10,193],[10,194,10,197],[10,150,10,153],[10,154,10,157],[10,158,10,161],[10,162,10,165],[10,166,10,169],[10,170,10,173],[10,126,10,129],[10,130,10,133],[10,134,10,137],[10,138,10,141],[10,142,10,145],[10,146,10,149],[10,102,10,105],[10,106,10,109],[10,110,10,113],[10,114,10,117],[10,118,10,121],[10,122,10,125],[11,26,11,29],[11,30,11,33],[11,34,11,37],[11,38,11,41],[11,42,11,45],[11,46,11,49],[11,2,11,5],[11,6,11,9],[11,10,11,13],[11,14,11,17],[11,18,11,21],[11,22,11,25],[10,246,10,249],[10,250,10,253],[10,254,10,257],[10,258,10,261],[10,222,10,225],[10,226,10,229],[10,230,10,233],[10,234,10,237],[10,238,10,241],[10,242,10,245],[10,198,10,201],[10,202,10,205],[10,206,10,209],[10,210,10,213],[10,214,10,217],[10,218,10,221],[10,174,10,177],[10,178,10,181],[10,182,10,185],[10,186,10,189],[11,98,11,101],[11,102,11,105],[11,106,11,109],[11,110,11,113],[11,114,11,117],[11,118,11,121],[11,74,11,77],[11,78,11,81],[11,82,11,85],[11,86,11,89],[11,90,11,93],[11,94,11,97],[11,50,11,53],[11,54,11,57],[11,58,11,61],[11,62,11,65],[11,66,11,69],[11,70,11,73],[11,170,11,173],[11,174,11,177],[11,178,11,181],[11,182,11,185],[11,186,11,189],[11,190,11,193],[11,146,11,149],[11,150,11,153],[11,154,11,157],[11,158,11,161],[11,162,11,165],[11,166,11,169],[11,122,11,125],[11,126,11,129],[11,130,11,133],[11,134,11,137],[11,138,11,141],[11,142,11,145],[11,242,11,245],[11,246,11,249],[11,250,11,253],[11,254,11,257],[11,258,11,261],[11,218,11,221],[11,222,11,225],[11,226,11,229],[11,230,11,233],[11,234,11,237],[11,238,11,241],[11,194,11,197],[11,198,11,201],[11,202,11,205],[11,206,11,209],[11,210,11,213],[11,214,11,217],[12,58,12,60],[12,62,12,64],[12,66,12,68],[12,70,12,72],[12,74,12,76],[12,78,12,80],[12,34,12,36],[12,38,12,40],[12,42,12,44],[12,46,12,48],[12,50,12,52],[12,54,12,56],[12,1,14,1],[12,2,12,4],[12,6,12,8],[12,10,12,12],[12,14,12,16],[12,18,12,20],[12,22,12,24],[12,26,12,28],[12,30,12,32],[13,2,13,5],[13,6,13,9],[13,10,13,13],[13,14,13,17],[13,18,13,21],[13,22,13,25],[13,26,13,29],[13,30,13,33],[13,34,13,37],[13,38,13,41],[13,42,13,45],[12,130,12,132],[12,134,12,136],[12,138,12,140],[12,142,12,144],[12,146,12,148],[12,150,12,152],[12,106,12,108],[12,110,12,112],[12,114,12,116],[12,118,12,120],[12,122,12,124],[12,126,12,128],[12,82,12,84],[12,86,12,88],[12,90,12,92],[12,94,12,96],[12,98,12,100],[12,102,12,104],[12,250,12,252],[12,254,12,256],[12,258,12,260],[12,226,12,228],[12,230,12,232],[12,234,12,236],[12,238,12,240],[12,242,12,244],[12,246,12,248],[12,202,12,204],[12,206,12,208],[12,210,12,212],[12,214,12,216],[12,218,12,220],[12,222,12,224],[12,178,12,180],[12,182,12,184],[12,186,12,188],[12,190,12,192],[12,194,12,196],[12,198,12,200],[12,154,12,156],[12,158,12,160],[12,162,12,164],[12,166,12,168],[12,170,12,172],[12,174,12,176],[13,70,13,73],[13,74,13,77],[13,78,13,81],[13,82,13,85],[13,86,13,89],[13,90,13,93],[13,46,13,49],[13,50,13,53],[13,54,13,57],[13,58,13,61],[13,62,13,65],[13,66,13,69],[13,142,13,145],[13,146,13,149],[13,150,13,153],[13,154,13,157],[13,158,13,161],[13,162,13,165],[13,118,13,121],[13,122,13,125],[13,126,13,129],[13,130,13,133],[13,134,13,137],[13,138,13,141],[13,94,13,97],[13,98,13,101],[13,102,13,105],[13,106,13,109],[13,110,13,113],[13,114,13,117],[14,2,14,5],[14,6,14,9],[14,10,14,13],[14,14,14,17],[14,18,14,21],[14,22,14,25],[14,26,14,29],[14,30,14,33],[13,238,13,241],[13,242,13,245],[13,246,13,249],[13,250,13,253],[13,254,13,257],[14,82,14,85],[14,86,14,89],[14,90,14,93],[14,94,14,97],[14,98,14,101],[14,102,14,105],[14,58,14,61],[14,62,14,65],[14,66,14,69],[14,70,14,73],[14,74,14,77],[14,78,14,81],[14,34,14,37],[14,38,14,41],[14,42,14,45],[13,258,13,261],[13,214,13,217],[13,218,13,221],[13,222,13,225],[13,226,13,229],[13,230,13,233],[13,234,13,237],[13,190,13,193],[13,194,13,197],[13,198,13,201],[13,202,13,205],[13,206,13,209],[13,210,13,213],[13,166,13,169],[13,170,13,173],[13,174,13,177],[13,178,13,181],[13,182,13,185],[13,186,13,189],[14,46,14,49],[14,50,14,53],[14,54,14,57],[14,154,14,157],[14,158,14,161],[14,162,14,165],[14,166,14,169],[14,170,14,173],[14,174,14,177],[14,130,14,133],[14,134,14,137],[14,138,14,141],[14,142,14,145],[14,146,14,149],[14,150,14,153],[14,106,14,109],[14,110,14,113],[14,114,14,117],[14,118,14,121],[14,122,14,125],[14,126,14,129],[15,18,15,20],[15,22,15,24],[15,26,15,28],[15,30,15,32],[15,34,15,36],[15,38,15,40],[15,1,17,1],[15,2,15,4],[15,6,15,8],[15,10,15,12],[15,14,15,16],[14,250,14,253],[14,254,14,257],[14,258,14,261],[14,226,14,229],[14,230,14,233],[14,234,14,237],[14,238,14,241],[14,242,14,245],[14,246,14,249],[14,202,14,205],[14,206,14,209],[14,210,14,213],[14,214,14,217],[14,218,14,221],[14,222,14,225],[14,178,14,181],[14,182,14,185],[14,186,14,189],[14,190,14,193],[14,194,14,197],[14,198,14,201],[15,90,15,92],[15,94,15,96],[15,98,15,100],[15,102,15,104],[15,106,15,108],[15,110,15,112],[15,66,15,68],[15,70,15,72],[15,74,15,76],[15,78,15,80],[15,82,15,84],[15,86,15,88],[15,42,15,44],[15,46,15,48],[15,50,15,52],[15,54,15,56],[15,58,15,60],[15,62,15,64],[15,162,15,164],[15,166,15,168],[15,170,15,172],[15,174,15,176],[15,178,15,180],[15,182,15,184],[15,138,15,140],[15,142,15,144],[15,146,15,148],[15,150,15,152],[15,154,15,156],[15,158,15,160],[15,114,15,116],[15,118,15,120],[15,122,15,124],[15,126,15,128],[15,130,15,132],[15,134,15,136],[15,258,15,260],[15,234,15,236],[15,238,15,240],[15,242,15,244],[15,246,15,248],[15,250,15,252],[15,254,15,256],[15,210,15,212],[15,214,15,216],[15,218,15,220],[15,222,15,224],[15,226,15,228],[15,230,15,232],[15,186,15,188],[15,190,15,192],[15,194,15,196],[15,198,15,200],[15,202,15,204],[15,206,15,208],[16,54,16,57],[16,58,16,61],[16,62,16,65],[16,66,16,69],[16,70,16,73],[16,74,16,77],[16,30,16,33],[16,34,16,37],[16,38,16,41],[16,42,16,45],[16,46,16,49],[16,50,16,53],[16,2,16,5],[16,6,16,9],[16,10,16,13],[16,14,16,17],[16,18,16,21],[16,22,16,25],[16,26,16,29],[16,166,16,169],[16,170,16,173],[16,126,16,129],[16,130,16,133],[16,134,16,137],[16,138,16,141],[16,142,16,145],[16,146,16,149],[16,102,16,105],[16,106,16,109],[16,110,16,113],[16,114,16,117],[16,118,16,121],[16,122,16,125],[16,78,16,81],[16,82,16,85],[16,86,16,89],[16,90,16,93],[16,94,16,97],[16,98,16,101],[17,2,17,5],[17,6,17,9],[17,10,17,13],[17,14,17,17],[17,18,17,21],[17,22,17,25],[16,246,16,249],[16,250,16,253],[16,254,16,257],[16,258,16,261],[16,222,16,225],[16,226,16,229],[16,230,16,233],[16,234,16,237],[16,238,16,241],[16,242,16,245],[16,198,16,201],[16,202,16,205],[16,206,16,209],[16,210,16,213],[16,214,16,217],[16,218,16,221],[16,174,16,177],[16,178,16,181],[16,182,16,185],[16,186,16,189],[16,190,16,193],[16,194,16,197],[16,150,16,153],[16,154,16,157],[16,158,16,161],[16,162,16,165],[17,74,17,77],[17,78,17,81],[17,82,17,85],[17,86,17,89],[17,90,17,93],[17,94,17,97],[17,50,17,53],[17,54,17,57],[17,58,17,61],[17,62,17,65],[17,66,17,69],[17,70,17,73],[17,26,17,29],[17,30,17,33],[17,34,17,37],[17,38,17,41],[17,42,17,45],[17,46,17,49],[17,146,17,149],[17,150,17,153],[17,154,17,157],[17,158,17,161],[17,162,17,165],[17,166,17,169],[17,122,17,125],[17,126,17,129],[17,130,17,133],[17,134,17,137],[17,138,17,141],[17,142,17,145],[17,98,17,101],[17,102,17,105],[17,106,17,109],[17,110,17,113],[17,114,17,117],[17,118,17,121],[18,1,20,1],[18,2,18,4],[18,6,18,8],[18,10,18,12],[18,14,18,16],[18,18,18,20],[18,22,18,24],[18,26,18,28],[18,30,18,32],[17,242,17,245],[17,246,17,249],[17,250,17,253],[17,254,17,257],[17,258,17,261],[17,218,17,221],[17,222,17,225],[17,226,17,229],[17,230,17,233],[17,234,17,237],[17,238,17,241],[17,194,17,197],[17,198,17,201],[17,202,17,205],[17,206,17,209],[17,210,17,213],[17,214,17,217],[17,170,17,173],[17,174,17,177],[17,178,17,181],[17,182,17,185]],"merged_total":2102,"flags":["merged_cut"]}
[]
[null,null,"３学期",null,null,null,null,null,null,null,null,null,null,null,null,null,null,null,null,null,null,null,"３学期",null,null,null,null,null,null,null,null,null,null,null,null,null,null,null,null,null,null,null,"３学期",null,null,null,null,null,null,null,null,null,null,null,null,null,null,null,null,null,null,null,"３学期",null,null,null,null,null,null,null,null,null,null,null,null,null,null,null,null,null,null,null,"３学期",null,null,null,null,null,null,null,null,null,null,null,null,null,null,null,null,null,null,null,"３学期",null,null,null,null,null,null,null,null,null,null,null,null,null,null,null,null,null,null,null,"３学期",null,null,null,null,null,null,null,null,null,null,null,null,null,null,null,null,null,null,null,"３学期",null,null,null,null,null,null,null,null,null,null,null,null,null,null,null,null,null,null,null,"３学期",null,null,null,null,null,null,null,null,null,null,null,null,null,null,null,null,null,null,null,"３学期",null,null,null,null,null,null,null,null,null,null,null,null,null,null,null,null,null,null,null,"３学期",null,null,null,null,null,null,null,null,null,null,null,null,null,null,null,null,null,null,null,"３学期",null,null,null,null,null,null,null,null,null,null,null,null,null,null,null,null,null,null,null,"３学期"]
[null,null,null,"第１週",null,null,null,{"$f":"'１学期'!$H$3","v":"校長　　　　　教頭　　　　　教務主任　　　　　担任"},null,null,null,null,null,null,null,null,null,null,null,null,null,null,null,"第２週",null,null,null,null,{"$f":"$H$3","v":"校長　　　　　教頭　　　　　教務主任　　　　　担任"},null,null,null,null,null,null,null,null,null,null,null,null,null,null,"第３週",null,null,null,null,{"$f":"$H$3","v":"校長　　　　　教頭　　　　　教務主任　　　　　担任"},null,null,null,null,null,null,null,null,null,null,null,null,null,null,"第４週",null,null,null,null,{"$f":"$H$3","v":"校長　　　　　教頭　　　　　教務主任　　　　　担任"},null,null,null,null,null,null,null,null,null,null,null,null,null,null,"第５週",null,null,null,null,{"$f":"$H$3","v":"校長　　　　　教頭　　　　　教務主任　　　　　担任"},null,null,null,null,null,null,null,null,null,null,null,null,null,null,"第６週",null,null,null,null,{"$f":"$H$3","v":"校長　　　　　教頭　　　　　教務主任　　　　　担任"},null,null,null,null,null,null,null,null,null,null,null,null,null,null,"第７週",null,null,null,null,{"$f":"$H$3","v":"校長　　　　　教頭　　　　　教務主任　　　　　担任"},null,null,null,null,null,null,null,null,null,null,null,null,null,null,"第８週",null,null,null,null,{"$f":"$H$3","v":"校長　　　　　教頭　　　　　教務主任　　　　　担任"},null,null,null,null,null,null,null,null,null,null,null,null,null,null,"第９週",null,null,null,null,{"$f":"$H$3","v":"校長　　　　　教頭　　　　　教務主任　　　　　担任"},null,null,null,null,null,null,null,null,null,null,null,null,null,null,"第10週",null,null,null,null,{"$f":"$H$3","v":"校長　　　　　教頭　　　　　教務主任　　　　　担任"},null,null,null,null,null,null,null,null,null,null,null,null,null,null,"第11週",null,null,null,null,{"$f":"$H$3","v":"校長　　　　　教頭　　　　　教務主任　　　　　担任"},null,null,null,null,null,null,null,null,null,null,null,null,null,null,"第12週",null,null,null,null,{"$f":"$H$3","v":"校長　　　　　教頭　　　　　教務主任　　　　　担任"},null,null,null,null,null,null,null,null,null,null,null,null,null,null,"第13週",null,null,null,null,{"$f":"$H$3","v":"校長　　　　　教頭　　　　　教務主任　　　　　担任"}]
[null,null,"1901-01-07",null,null,null,"1901-01-08",null,null,null,"1901-01-09",null,null,null,"1901-01-10",null,null,null,"1901-01-11",null,null,null,"1901-01-14",null,null,null,"1901-01-15",null,null,null,"1901-01-16",null,null,null,"1901-01-17",null,null,null,"1901-01-18",null,null,null,"1901-01-21",null,null,null,"1901-01-22",null,null,null,"1901-01-23",null,null,null,"1901-01-24",null,null,null,"1901-01-25",null,null,null,"1901-01-28",null,null,null,"1901-01-29",null,null,null,"1901-01-30",null,null,null,"1901-01-31",null,null,null,"1901-02-01",null,null,null,"1901-02-04",null,null,null,"1901-02-05",null,null,null,"1901-02-06",null,null,null,"1901-02-07",null,null,null,"1901-02-08",null,null,null,"1901-02-11",null,null,null,"1901-02-12",null,null,null,"1901-02-13",null,null,null,"1901-02-14",null,null,null,"1901-02-15",null,null,null,"1901-02-18",null,null,null,"1901-02-19",null,null,null,"1901-02-20",null,null,null,"1901-02-21",null,null,null,"1901-02-22",null,null,null,"1901-02-25",null,null,null,"1901-02-26",null,null,null,"1901-02-27",null,null,null,"1901-02-28",null,null,null,"1901-03-01",null,null,null,"1901-03-04",null,null,null,"1901-03-05",null,null,null,"1901-03-06",null,null,null,"1901-03-07",null,null,null,"1901-03-08",null,null,null,"1901-03-11",null,null,null,"1901-03-12",null,null,null,"1901-03-13",null,null,null,"1901-03-14",null,null,null,"1901-03-15",null,null,null,"1901-03-18",null,null,null,"1901-03-19",null,null,null,"1901-03-20",null,null,null,"1901-03-21",null,null,null,"1901-03-22",null,null,null,"1901-03-25",null,null,null,"1901-03-26",null,null,null,"1901-03-27",null,null,null,"1901-03-28",null,null,null,"1901-03-29",null,null,null,"1901-04-01",null,null,null,"1901-04-02",null,null,null,"1901-04-03",null,null,null,"1901-04-04",null,null,null,"1901-04-05"]
[null,null,"月",null,null,null,"火",null,null,null,"水",null,null,null,"木",null,null,null,"金",null,null,null,"月",null,null,null,"火",null,null,null,"水",null,null,null,"木",null,null,null,"金",null,null,null,"月",null,null,null,"火",null,null,null,"水",null,null,null,"木",null,null,null,"金",null,null,null,"月",null,null,null,"火",null,null,null,"水",null,null,null,"木",null,null,null,"金",null,null,null,"月",null,null,null,"火",null,null,null,"水",null,null,null,"木",null,null,null,"金",null,null,null,"月",null,null,null,"火",null,null,null,"水",null,null,null,"木",null,null,null,"金",null,null,null,"月",null,null,null,"火",null,null,null,"水",null,null,null,"木",null,null,null,"金",null,null,null,"月",null,null,null,"火",null,null,null,"水",null,null,null,"木",null,null,null,"金",null,null,null,"月",null,null,null,"火",null,null,null,"水",null,null,null,"木",null,null,null,"金",null,null,null,"月",null,null,null,"火",null,null,null,"水",null,null,null,"木",null,null,null,"金",null,null,null,"月",null,null,null,"火",null,null,null,"水",null,null,null,"木",null,null,null,"金",null,null,null,"月",null,null,null,"火",null,null,null,"水",null,null,null,"木",null,null,null,"金",null,null,null,"月",null,null,null,"火",null,null,null,"水",null,null,null,"木",null,null,null,"金"]
[null,"前"]
[null,1]
[]
[]
[null,2]
[]
[]
[null,3]
[]
[]
[null,4]
[]
[]
[null,5]
[]
[]
[null,6]
[]
[]
[null,"後"]
[null,"備考"]
[]
[]
[null,"時間数集計","授業",null,"実施","累計","授業",null,"実施","累計","授業",null,"実施","累計","授業",null,"実施","累計",null,null,"実施","累計","授業",null,"実施","累計","授業",null,"実施","累計","授業",null,"実施","累計","授業",null,"実施","累計",null,null,"実施","累計","授業",null,"実施","累計","授業",null,"実施","累計","授業",null,"実施","累計","授業",null,"実施","累計",null,null,"実施","累計","授業",null,"実施","累計","授業",null,"実施","累計","授業",null,"実施","累計","授業",null,"実施","累計",null,null,"実施","累計","授業",null,"実施","累計","授業",null,"実施","累計","授業",null,"実施","累計","授業",null,"実施","累計",null,null,"実施","累計","授業",null,"実施","累計","授業",null,"実施","累計","授業",null,"実施","累計","授業",null,"実施","累計",null,null,"実施","累計","授業",null,"実施","累計","授業",null,"実施","累計","授業",null,"実施","累計","授業",null,"実施","累計",null,null,"実施","累計","授業",null,"実施","累計","授業",null,"実施","累計","授業",null,"実施","累計","授業",null,"実施","累計",null,null,"実施","累計","授業",null,"実施","累計","授業",null,"実施","累計","授業",null,"実施","累計","授業",null,"実施","累計",null,null,"実施","累計","授業",null,"実施","累計","授業",null,"実施","累計","授業",null,"実施","累計","授業",null,"実施","累計",null,null,"実施","累計","授業",null,"実施","累計","授業",null,"実施","累計","授業",null,"実施","累計","授業",null,"実施","累計",null,null,"実施","累計","授業",null,"実施","累計","授業",null,"実施","累計","授業",null,"実施","累計","授業",null,"実施","累計",null,null,"実施","累計","授業",null,"実施","累計","授業",null,"実施","累計","授業",null,"実施","累計","授業",null,"実施","累計",null,null,"実施","累計"]
[null,null,{"$f":"IF(COUNTIF(処理!$J$2:$J$25,0)>0,処理!H2,\"\")","v":""},null,{"$f":"IF(LEN(C30)=0,\"\",(COUNTIF(C$6:V$7,C30)+COUNTIF(C$10:V$10,C30)+COUNTIF(C$13:V$13,C30)+COUNTIF(C$16:V$16,C30)+COUNTIF(C$19:V$19,C30)+COUNTIF(C$22:V$22,C30)+COUNTIF(C$25:V$25,C30))/設定!$D21+IFERROR((COUNTIF(C$6:V$7,処理!$L2)+COUNTIF(C$10:V$10,処理!$L2)+COUNTIF(C$13:V$13,処理!$L2)+COUNTIF(C$16:V$16,処理!$L2)+COUNTIF(C$19:V$19,処理!$L2)+COUNTIF(C$22:V$22,処理!$L2)+COUNTIF(C$25:V$25,処理!$L2))/処理!$M2,0))","v":""},{"$f":"E30","v":""},{"$f":"IF(COUNTIF(処理!$J$2:$J$25,6)>0,処理!H8,\"\")","v":""},null,{"$f":"IF(LEN(G30)=0,\"\",(COUNTIF(C$6:V$7,G30)+COUNTIF(C$10:V$10,G30)+COUNTIF(C$13:V$13,G30)+COUNTIF(C$16:V$16,G30)+COUNTIF(C$19:V$19,G30)+COUNTIF(C$22:V$22,G30)+COUNTIF(C$25:V$25,G30))/設定!$G21+IFERROR((COUNTIF(C$6:V$7,処理!$L8)+COUNTIF(C$10:V$10,処理!$L8)+COUNTIF(C$13:V$13,処理!$L8)+COUNTIF(C$16:V$16,処理!$L8)+COUNTIF(C$19:V$19,処理!$L8)+COUNTIF(C$22:V$22,処理!$L8)+COUNTIF(C$25:V$25,処理!$L8))/処理!$M8,0))","v":""},{"$f":"I30","v":""},{"$f":"IF(COUNTIF(処理!$J$2:$J$25,12)>0,処理!H14,\"\")","v":""},null,{"$f":"IF(LEN(K30)=0,\"\",(COUNTIF(C$6:V$7,K30)+COUNTIF(C$10:V$10,K30)+COUNTIF(C$13:V$13,K30)+COUNTIF(C$16:V$16,K30)+COUNTIF(C$19:V$19,K30)+COUNTIF(C$22:V$22,K30)+COUNTIF(C$25:V$25,K30))/設定!$J21+IFERROR((COUNTIF(C$6:V$7,処理!$L14)+COUNTIF(C$10:V$10,処理!$L14)+COUNTIF(C$13:V$13,処理!$L14)+COUNTIF(C$16:V$16,処理!$L14)+COUNTIF(C$19:V$19,処理!$L14)+COUNTIF(C$22:V$22,処理!$L14)+COUNTIF(C$25:V$25,処理!$L14))/処理!$M14,0))","v":""},{"$f":"M30","v":""},{"$f":"IF(COUNTIF(処理!$J$2:$J$25,18)>0,処理!H20,\"\")","v":""},null,{"$f":"IF(LEN(O30)=0,\"\",(COUNTIF(C$6:V$7,O30)+COUNTIF(C$10:V$10,O30)+COUNTIF(C$13:V$13,O30)+COUNTIF(C$16:V$16,O30)+COUNTIF(C$19:V$19,O30)+COUNTIF(C$22:V$22,O30)+COUNTIF(C$25:V$25,O30))/設定!$M21+IFERROR((COUNTIF(C$6:V$7,処理!$L20)+COUNTIF(C$10:V$10,処理!$L20)+COUNTIF(C$13:V$13,処理!$L20)+COUNTIF(C$16:V$16,処理!$L20)+COUNTIF(C$19:V$19,処理!$L20)+COUNTIF(C$22:V$22,処理!$L20)+COUNTIF(C$25:V$25,処理!$L20))/処理!$M20,0))","v":""},{"$f":"Q30","v":""},"授業合計",null,{"$f":"SUM(E30:E35,I30:I35,M30:M35,Q30:Q35)","v":0},{"$f":"U30","v":0},{"$f":"$C$30","v":""},null,{"$f":"IF(LEN(W30)=0,\"\",(COUNTIF(W$6:AP$7,W30)+COUNTIF(W$10:AP$10,W30)+COUNTIF(W$13:AP$13,W30)+COUNTIF(W$16:AP$16,W30)+COUNTIF(W$19:AP$19,W30)+COUNTIF(W$22:AP$22,W30)+COUNTIF(W$25:AP$25,W30))/設定!$D21+IFERROR((COUNTIF(W$6:AP$7,処理!$L2)+COUNTIF(W$10:AP$10,処理!$L2)+COUNTIF(W$13:AP$13,処理!$L2)+COUNTIF(W$16:AP$16,処理!$L2)+COUNTIF(W$19:AP$19,処理!$L2)+COUNTIF(W$22:AP$22,処理!$L2)+COUNTIF(W$25:AP$25,処理!$L2))/処理!$M2,0))","v":""},{"$f":"IF(LEN(W30)=0,\"\",SUM(F30,Y30))","v":""},{"$f":"$G$30","v":""},null,{"$f":"IF(LEN(AA30)=0,\"\",(COUNTIF(W$6:AP$7,AA30)+COUNTIF(W$10:AP$10,AA30)+COUNTIF(W$13:AP$13,AA30)+COUNTIF(W$16:AP$16,AA30)+COUNTIF(W$19:AP$19,AA30)+COUNTIF(W$22:AP$22,AA30)+COUNTIF(W$25:AP$25,AA30))/設定!$G21+IFERROR((COUNTIF(W$6:AP$7,処理!$L8)+COUNTIF(W$10:AP$10,処理!$L8)+COUNTIF(W$13:AP$13,処理!$L8)+COUNTIF(W$16:AP$16,処理!$L8)+COUNTIF(W$19:AP$19,処理!$L8)+COUNTIF(W$22:AP$22,処理!$L8)+COUNTIF(W$25:AP$25,処理!$L8))/処理!$M8,0))","v":""},{"$f":"IF(LEN(AA30)=0,\"\",SUM(J30,AC30))","v":""},{"$f":"$K$30","v":""},null,{"$f":"IF(LEN(AE30)=0,\"\",(COUNTIF(W$6:AP$7,AE30)+COUNTIF(W$10:AP$10,AE30)+COUNTIF(W$13:AP$13,AE30)+COUNTIF(W$16:AP$16,AE30)+COUNTIF(W$19:AP$19,AE30)+COUNTIF(W$22:AP$22,AE30)+COUNTIF(W$25:AP$25,AE30))/設定!$J21+IFERROR((COUNTIF(W$6:AP$7,処理!$L14)+COUNTIF(W$10:AP$10,処理!$L14)+COUNTIF(W$13:AP$13,処理!$L14)+COUNTIF(W$16:AP$16,処理!$L14)+COUNTIF(W$19:AP$19,処理!$L14)+COUNTIF(W$22:AP$22,処理!$L14)+COUNTIF(W$25:AP$25,処理!$L14))/処理!$M14,0))","v":""},{"$f":"IF(LEN(AE30)=0,\"\",SUM(N30,AG30))","v":""},{"$f":"$O$30","v":""},null,{"$f":"IF(LEN(AI30)=0,\"\",(COUNTIF(W$6:AP$7,AI30)+COUNTIF(W$10:AP$10,AI30)+COUNTIF(W$13:AP$13,AI30)+COUNTIF(W$16:AP$16,AI30)+COUNTIF(W$19:AP$19,AI30)+COUNTIF(W$22:AP$22,AI30)+COUNTIF(W$25:AP$25,AI30))/設定!$M21+IFERROR((COUNTIF(W$6:AP$7,処理!$L20)+COUNTIF(W$10:AP$10,処理!$L20)+COUNTIF(W$13:AP$13,処理!$L20)+COUNTIF(W$16:AP$16,処理!$L20)+COUNTIF(W$19:AP$19,処理!$L20)+COUNTIF(W$22:AP$22,処理!$L20)+COUNTIF(W$25:AP$25,処理!$L20))/処理!$M20,0))","v":""},{"$f":"IF(LEN(AI30)=0,\"\",SUM(R30,AK30))","v":""},"授業合計",null,{"$f":"SUM(Y30:Y35,AC30:AC35,AG30:AG35,AK30:AK35)","v":0},{"$f":"IF(LEN(AM30)=0,\"\",SUM(V30,AO30))","v":0},{"$f":"$C$30","v":""},null,{"$f":"IF(LEN(AQ30)=0,\"\",(COUNTIF(AQ$6:BJ$7,AQ30)+COUNTIF(AQ$10:BJ$10,AQ30)+COUNTIF(AQ$13:BJ$13,AQ30)+COUNTIF(AQ$16:BJ$16,AQ30)+COUNTIF(AQ$19:BJ$19,AQ30)+COUNTIF(AQ$22:BJ$22,AQ30)+COUNTIF(AQ$25:BJ$25,AQ30))/設定!$D21+IFERROR((COUNTIF(AQ$6:BJ$7,処理!$L2)+COUNTIF(AQ$10:BJ$10,処理!$L2)+COUNTIF(AQ$13:BJ$13,処理!$L2)+COUNTIF(AQ$16:BJ$16,処理!$L2)+COUNTIF(AQ$19:BJ$19,処理!$L2)+COUNTIF(AQ$22:BJ$22,処理!$L2)+COUNTIF(AQ$25:BJ$25,処理!$L2))/処理!$M2,0))","v":""},{"$f":"IF(LEN(AQ30)=0,\"\",SUM(Z30,AS30))","v":""},{"$f":"$G$30","v":""},null,{"$f":"IF(LEN(AU30)=0,\"\",(COUNTIF(AQ$6:BJ$7,AU30)+COUNTIF(AQ$10:BJ$10,AU30)+COUNTIF(AQ$13:BJ$13,AU30)+COUNTIF(AQ$16:BJ$16,AU30)+COUNTIF(AQ$19:BJ$19,AU30)+COUNTIF(AQ$22:BJ$22,AU30)+COUNTIF(AQ$25:BJ$25,AU30))/設定!$G21+IFERROR((COUNTIF(AQ$6:BJ$7,処理!$L8)+COUNTIF(AQ$10:BJ$10,処理!$L8)+COUNTIF(AQ$13:BJ$13,処理!$L8)+COUNTIF(AQ$16:BJ$16,処理!$L8)+COUNTIF(AQ$19:BJ$19,処理!$L8)+COUNTIF(AQ$22:BJ$22,処理!$L8)+COUNTIF(AQ$25:BJ$25,処理!$L8))/処理!$M8,0))","v":""},{"$f":"IF(LEN(AU30)=0,\"\",SUM(AD30,AW30))","v":""},{"$f":"$K$30","v":""},null,{"$f":"IF(LEN(AY30)=0,\"\",(COUNTIF(AQ$6:BJ$7,AY30)+COUNTIF(AQ$10:BJ$10,AY30)+COUNTIF(AQ$13:BJ$13,AY30)+COUNTIF(AQ$16:BJ$16,AY30)+COUNTIF(AQ$19:BJ$19,AY30)+COUNTIF(AQ$22:BJ$22,AY30)+COUNTIF(AQ$25:BJ$25,AY30))/設定!$J21+IFERROR((COUNTIF(AQ$6:BJ$7,処理!$L14)+COUNTIF(AQ$10:BJ$10,処理!$L14)+COUNTIF(AQ$13:BJ$13,処理!$L14)+COUNTIF(AQ$16:BJ$16,処理!$L14)+COUNTIF(AQ$19:BJ$19,処理!$L14)+COUNTIF(AQ$22:BJ$22,処理!$L14)+COUNTIF(AQ$25:BJ$25,処理!$L14))/処理!$M14,0))","v":""},{"$f":"IF(LEN(AY30)=0,\"\",SUM(AH30,BA30))","v":""},{"$f":"$O$30","v":""},null,{"$f":"IF(LEN(BC30)=0,\"\",(COUNTIF(AQ$6:BJ$7,BC30)+COUNTIF(AQ$10:BJ$10,BC30)+COUNTIF(AQ$13:BJ$13,BC30)+COUNTIF(AQ$16:BJ$16,BC30)+COUNTIF(AQ$19:BJ$19,BC30)+COUNTIF(AQ$22:BJ$22,BC30)+COUNTIF(AQ$25:BJ$25,BC30))/設定!$M21+IFERROR((COUNTIF(AQ$6:BJ$7,処理!$L20)+COUNTIF(AQ$10:BJ$10,処理!$L20)+COUNTIF(AQ$13:BJ$13,処理!$L20)+COUNTIF(AQ$16:BJ$16,処理!$L20)+COUNTIF(AQ$19:BJ$19,処理!$L20)+COUNTIF(AQ$22:BJ$22,処理!$L20)+COUNTIF(AQ$25:BJ$25,処理!$L20))/処理!$M20,0))","v":""},{"$f":"IF(LEN(BC30)=0,\"\",SUM(AL30,BE30))","v":""},"授業合計",null,{"$f":"SUM(AS30:AS35,AW30:AW35,BA30:BA35,BE30:BE35)","v":0},{"$f":"IF(LEN(BG30)=0,\"\",SUM(AP30,BI30))","v":0},{"$f":"$C$30","v":""},null,{"$f":"IF(LEN(BK30)=0,\"\",(COUNTIF(BK$6:CD$7,BK30)+COUNTIF(BK$10:CD$10,BK30)+COUNTIF(BK$13:CD$13,BK30)+COUNTIF(BK$16:CD$16,BK30)+COUNTIF(BK$19:CD$19,BK30)+COUNTIF(BK$22:CD$22,BK30)+COUNTIF(BK$25:CD$25,BK30))/設定!$D21+IFERROR((COUNTIF(BK$6:CD$7,処理!$L2)+COUNTIF(BK$10:CD$10,処理!$L2)+COUNTIF(BK$13:CD$13,処理!$L2)+COUNTIF(BK$16:CD$16,処理!$L2)+COUNTIF(BK$19:CD$19,処理!$L2)+COUNTIF(BK$22:CD$22,処理!$L2)+COUNTIF(BK$25:CD$25,処理!$L2))/処理!$M2,0))","v":""},{"$f":"IF(LEN(BK30)=0,\"\",SUM(AT30,BM30))","v":""},{"$f":"$G$30","v":""},null,{"$f":"IF(LEN(BO30)=0,\"\",(COUNTIF(BK$6:CD$7,BO30)+COUNTIF(BK$10:CD$10,BO30)+COUNTIF(BK$13:CD$13,BO30)+COUNTIF(BK$16:CD$16,BO30)+COUNTIF(BK$19:CD$19,BO30)+COUNTIF(BK$22:CD$22,BO30)+COUNTIF(BK$25:CD$25,BO30))/設定!$G21+IFERROR((COUNTIF(BK$6:CD$7,処理!$L8)+COUNTIF(BK$10:CD$10,処理!$L8)+COUNTIF(BK$13:CD$13,処理!$L8)+COUNTIF(BK$16:CD$16,処理!$L8)+COUNTIF(BK$19:CD$19,処理!$L8)+COUNTIF(BK$22:CD$22,処理!$L8)+COUNTIF(BK$25:CD$25,処理!$L8))/処理!$M8,0))","v":""},{"$f":"IF(LEN(BO30)=0,\"\",SUM(AX30,BQ30))","v":""},{"$f":"$K$30","v":""},null,{"$f":"IF(LEN(BS30)=0,\"\",(COUNTIF(BK$6:CD$7,BS30)+COUNTIF(BK$10:CD$10,BS30)+COUNTIF(BK$13:CD$13,BS30)+COUNTIF(BK$16:CD$16,BS30)+COUNTIF(BK$19:CD$19,BS30)+COUNTIF(BK$22:CD$22,BS30)+COUNTIF(BK$25:CD$25,BS30))/設定!$J21+IFERROR((COUNTIF(BK$6:CD$7,処理!$L14)+COUNTIF(BK$10:CD$10,処理!$L14)+COUNTIF(BK$13:CD$13,処理!$L14)+COUNTIF(BK$16:CD$16,処理!$L14)+COUNTIF(BK$19:CD$19,処理!$L14)+COUNTIF(BK$22:CD$22,処理!$L14)+COUNTIF(BK$25:CD$25,処理!$L14))/処理!$M14,0))","v":""},{"$f":"IF(LEN(BS30)=0,\"\",SUM(BB30,BU30))","v":""},{"$f":"$O$30","v":""},null,{"$f":"IF(LEN(BW30)=0,\"\",(COUNTIF(BK$6:CD$7,BW30)+COUNTIF(BK$10:CD$10,BW30)+COUNTIF(BK$13:CD$13,BW30)+COUNTIF(BK$16:CD$16,BW30)+COUNTIF(BK$19:CD$19,BW30)+COUNTIF(BK$22:CD$22,BW30)+COUNTIF(BK$25:CD$25,BW30))/設定!$M21+IFERROR((COUNTIF(BK$6:CD$7,処理!$L20)+COUNTIF(BK$10:CD$10,処理!$L20)+COUNTIF(BK$13:CD$13,処理!$L20)+COUNTIF(BK$16:CD$16,処理!$L20)+COUNTIF(BK$19:CD$19,処理!$L20)+COUNTIF(BK$22:CD$22,処理!$L20)+COUNTIF(BK$25:CD$25,処理!$L20))/処理!$M20,0))","v":""},{"$f":"IF(LEN(BW30)=0,\"\",SUM(BF30,BY30))","v":""},"授業合計",null,{"$f":"SUM(BM30:BM35,BQ30:BQ35,BU30:BU35,BY30:BY35)","v":0},{"$f":"IF(LEN(CA30)=0,\"\",SUM(BJ30,CC30))","v":0},{"$f":"$C$30","v":""},null,{"$f":"IF(LEN(CE30)=0,\"\",(COUNTIF(CE$6:CX$7,CE30)+COUNTIF(CE$10:CX$10,CE30)+COUNTIF(CE$13:CX$13,CE30)+COUNTIF(CE$16:CX$16,CE30)+COUNTIF(CE$19:CX$19,CE30)+COUNTIF(CE$22:CX$22,CE30)+COUNTIF(CE$25:CX$25,CE30))/設定!$D21+IFERROR((COUNTIF(CE$6:CX$7,処理!$L2)+COUNTIF(CE$10:CX$10,処理!$L2)+COUNTIF(CE$13:CX$13,処理!$L2)+COUNTIF(CE$16:CX$16,処理!$L2)+COUNTIF(CE$19:CX$19,処理!$L2)+COUNTIF(CE$22:CX$22,処理!$L2)+COUNTIF(CE$25:CX$25,処理!$L2))/処理!$M2,0))","v":""},{"$f":"IF(LEN(CE30)=0,\"\",SUM(BN30,CG30))","v":""},{"$f":"$G$30","v":""},null,{"$f":"IF(LEN(CI30)=0,\"\",(COUNTIF(CE$6:CX$7,CI30)+COUNTIF(CE$10:CX$10,CI30)+COUNTIF(CE$13:CX$13,CI30)+COUNTIF(CE$16:CX$16,CI30)+COUNTIF(CE$19:CX$19,CI30)+COUNTIF(CE$22:CX$22,CI30)+COUNTIF(CE$25:CX$25,CI30))/設定!$G21+IFERROR((COUNTIF(CE$6:CX$7,処理!$L8)+COUNTIF(CE$10:CX$10,処理!$L8)+COUNTIF(CE$13:CX$13,処理!$L8)+COUNTIF(CE$16:CX$16,処理!$L8)+COUNTIF(CE$19:CX$19,処理!$L8)+COUNTIF(CE$22:CX$22,処理!$L8)+COUNTIF(CE$25:CX$25,処理!$L8))/処理!$M8,0))","v":""},{"$f":"IF(LEN(CI30)=0,\"\",SUM(BR30,CK30))","v":""},{"$f":"$K$30","v":""},null,{"$f":"IF(LEN(CM30)=0,\"\",(COUNTIF(CE$6:CX$7,CM30)+COUNTIF(CE$10:CX$10,CM30)+COUNTIF(CE$13:CX$13,CM30)+COUNTIF(CE$16:CX$16,CM30)+COUNTIF(CE$19:CX$19,CM30)+COUNTIF(CE$22:CX$22,CM30)+COUNTIF(CE$25:CX$25,CM30))/設定!$J21+IFERROR((COUNTIF(CE$6:CX$7,処理!$L14)+COUNTIF(CE$10:CX$10,処理!$L14)+COUNTIF(CE$13:CX$13,処理!$L14)+COUNTIF(CE$16:CX$16,処理!$L14)+COUNTIF(CE$19:CX$19,処理!$L14)+COUNTIF(CE$22:CX$22,処理!$L14)+COUNTIF(CE$25:CX$25,処理!$L14))/処理!$M14,0))","v":""},{"$f":"IF(LEN(CM30)=0,\"\",SUM(BV30,CO30))","v":""},{"$f":"$O$30","v":""},null,{"$f":"IF(LEN(CQ30)=0,\"\",(COUNTIF(CE$6:CX$7,CQ30)+COUNTIF(CE$10:CX$10,CQ30)+COUNTIF(CE$13:CX$13,CQ30)+COUNTIF(CE$16:CX$16,CQ30)+COUNTIF(CE$19:CX$19,CQ30)+COUNTIF(CE$22:CX$22,CQ30)+COUNTIF(CE$25:CX$25,CQ30))/設定!$M21+IFERROR((COUNTIF(CE$6:CX$7,処理!$L20)+COUNTIF(CE$10:CX$10,処理!$L20)+COUNTIF(CE$13:CX$13,処理!$L20)+COUNTIF(CE$16:CX$16,処理!$L20)+COUNTIF(CE$19:CX$19,処理!$L20)+COUNTIF(CE$22:CX$22,処理!$L20)+COUNTIF(CE$25:CX$25,処理!$L20))/処理!$M20,0))","v":""},{"$f":"IF(LEN(CQ30)=0,\"\",SUM(BZ30,CS30))","v":""},"授業合計",null,{"$f":"SUM(CG30:CG35,CK30:CK35,CO30:CO35,CS30:CS35)","v":0},{"$f":"IF(LEN(CU30)=0,\"\",SUM(CD30,CW30))","v":0},{"$f":"$C$30","v":""},null,{"$f":"IF(LEN(CY30)=0,\"\",(COUNTIF(CY$6:DR$7,CY30)+COUNTIF(CY$10:DR$10,CY30)+COUNTIF(CY$13:DR$13,CY30)+COUNTIF(CY$16:DR$16,CY30)+COUNTIF(CY$19:DR$19,CY30)+COUNTIF(CY$22:DR$22,CY30)+COUNTIF(CY$25:DR$25,CY30))/設定!$D21+IFERROR((COUNTIF(CY$6:DR$7,処理!$L2)+COUNTIF(CY$10:DR$10,処理!$L2)+COUNTIF(CY$13:DR$13,処理!$L2)+COUNTIF(CY$16:DR$16,処理!$L2)+COUNTIF(CY$19:DR$19,処理!$L2)+COUNTIF(CY$22:DR$22,処理!$L2)+COUNTIF(CY$25:DR$25,処理!$L2))/処理!$M2,0))","v":""},{"$f":"IF(LEN(CY30)=0,\"\",SUM(CH30,DA30))","v":""},{"$f":"$G$30","v":""},null,{"$f":"IF(LEN(DC30)=0,\"\",(COUNTIF(CY$6:DR$7,DC30)+COUNTIF(CY$10:DR$10,DC30)+COUNTIF(CY$13:DR$13,DC30)+COUNTIF(CY$16:DR$16,DC30)+COUNTIF(CY$19:DR$19,DC30)+COUNTIF(CY$22:DR$22,DC30)+COUNTIF(CY$25:DR$25,DC30))/設定!$G21+IFERROR((COUNTIF(CY$6:DR$7,処理!$L8)+COUNTIF(CY$10:DR$10,処理!$L8)+COUNTIF(CY$13:DR$13,処理!$L8)+COUNTIF(CY$16:DR$16,処理!$L8)+COUNTIF(CY$19:DR$19,処理!$L8)+COUNTIF(CY$22:DR$22,処理!$L8)+COUNTIF(CY$25:DR$25,処理!$L8))/処理!$M8,0))","v":""},{"$f":"IF(LEN(DC30)=0,\"\",SUM(CL30,DE30))","v":""},{"$f":"$K$30","v":""},null,{"$f":"IF(LEN(DG30)=0,\"\",(COUNTIF(CY$6:DR$7,DG30)+COUNTIF(CY$10:DR$10,DG30)+COUNTIF(CY$13:DR$13,DG30)+COUNTIF(CY$16:DR$16,DG30)+COUNTIF(CY$19:DR$19,DG30)+COUNTIF(CY$22:DR$22,DG30)+COUNTIF(CY$25:DR$25,DG30))/設定!$J21+IFERROR((COUNTIF(CY$6:DR$7,処理!$L14)+COUNTIF(CY$10:DR$10,処理!$L14)+COUNTIF(CY$13:DR$13,処理!$L14)+COUNTIF(CY$16:DR$16,処理!$L14)+COUNTIF(CY$19:DR$19,処理!$L14)+COUNTIF(CY$22:DR$22,処理!$L14)+COUNTIF(CY$25:DR$25,処理!$L14))/処理!$M14,0))","v":""},{"$f":"IF(LEN(DG30)=0,\"\",SUM(CP30,DI30))","v":""},{"$f":"$O$30","v":""},null,{"$f":"IF(LEN(DK30)=0,\"\",(COUNTIF(CY$6:DR$7,DK30)+COUNTIF(CY$10:DR$10,DK30)+COUNTIF(CY$13:DR$13,DK30)+COUNTIF(CY$16:DR$16,DK30)+COUNTIF(CY$19:DR$19,DK30)+COUNTIF(CY$22:DR$22,DK30)+COUNTIF(CY$25:DR$25,DK30))/設定!$M21+IFERROR((COUNTIF(CY$6:DR$7,処理!$L20)+COUNTIF(CY$10:DR$10,処理!$L20)+COUNTIF(CY$13:DR$13,処理!$L20)+COUNTIF(CY$16:DR$16,処理!$L20)+COUNTIF(CY$19:DR$19,処理!$L20)+COUNTIF(CY$22:DR$22,処理!$L20)+COUNTIF(CY$25:DR$25,処理!$L20))/処理!$M20,0))","v":""},{"$f":"IF(LEN(DK30)=0,\"\",SUM(CT30,DM30))","v":""},"授業合計",null,{"$f":"SUM(DA30:DA35,DE30:DE35,DI30:DI35,DM30:DM35)","v":0},{"$f":"IF(LEN(DO30)=0,\"\",SUM(CX30,DQ30))","v":0},{"$f":"$C$30","v":""},null,{"$f":"IF(LEN(DS30)=0,\"\",(COUNTIF(DS$6:EL$7,DS30)+COUNTIF(DS$10:EL$10,DS30)+COUNTIF(DS$13:EL$13,DS30)+COUNTIF(DS$16:EL$16,DS30)+COUNTIF(DS$19:EL$19,DS30)+COUNTIF(DS$22:EL$22,DS30)+COUNTIF(DS$25:EL$25,DS30))/設定!$D21+IFERROR((COUNTIF(DS$6:EL$7,処理!$L2)+COUNTIF(DS$10:EL$10,処理!$L2)+COUNTIF(DS$13:EL$13,処理!$L2)+COUNTIF(DS$16:EL$16,処理!$L2)+COUNTIF(DS$19:EL$19,処理!$L2)+COUNTIF(DS$22:EL$22,処理!$L2)+COUNTIF(DS$25:EL$25,処理!$L2))/処理!$M2,0))","v":""},{"$f":"IF(LEN(DS30)=0,\"\",SUM(DB30,DU30))","v":""},{"$f":"$G$30","v":""},null,{"$f":"IF(LEN(DW30)=0,\"\",(COUNTIF(DS$6:EL$7,DW30)+COUNTIF(DS$10:EL$10,DW30)+COUNTIF(DS$13:EL$13,DW30)+COUNTIF(DS$16:EL$16,DW30)+COUNTIF(DS$19:EL$19,DW30)+COUNTIF(DS$22:EL$22,DW30)+COUNTIF(DS$25:EL$25,DW30))/設定!$G21+IFERROR((COUNTIF(DS$6:EL$7,処理!$L8)+COUNTIF(DS$10:EL$10,処理!$L8)+COUNTIF(DS$13:EL$13,処理!$L8)+COUNTIF(DS$16:EL$16,処理!$L8)+COUNTIF(DS$19:EL$19,処理!$L8)+COUNTIF(DS$22:EL$22,処理!$L8)+COUNTIF(DS$25:EL$25,処理!$L8))/処理!$M8,0))","v":""},{"$f":"IF(LEN(DW30)=0,\"\",SUM(DF30,DY30))","v":""},{"$f":"$K$30","v":""},null,{"$f":"IF(LEN(EA30)=0,\"\",(COUNTIF(DS$6:EL$7,EA30)+COUNTIF(DS$10:EL$10,EA30)+COUNTIF(DS$13:EL$13,EA30)+COUNTIF(DS$16:EL$16,EA30)+COUNTIF(DS$19:EL$19,EA30)+COUNTIF(DS$22:EL$22,EA30)+COUNTIF(DS$25:EL$25,EA30))/設定!$J21+IFERROR((COUNTIF(DS$6:EL$7,処理!$L14)+COUNTIF(DS$10:EL$10,処理!$L14)+COUNTIF(DS$13:EL$13,処理!$L14)+COUNTIF(DS$16:EL$16,処理!$L14)+COUNTIF(DS$19:EL$19,処理!$L14)+COUNTIF(DS$22:EL$22,処理!$L14)+COUNTIF(DS$25:EL$25,処理!$L14))/処理!$M14,0))","v":""},{"$f":"IF(LEN(EA30)=0,\"\",SUM(DJ30,EC30))","v":""},{"$f":"$O$30","v":""},null,{"$f":"IF(LEN(EE30)=0,\"\",(COUNTIF(DS$6:EL$7,EE30)+COUNTIF(DS$10:EL$10,EE30)+COUNTIF(DS$13:EL$13,EE30)+COUNTIF(DS$16:EL$16,EE30)+COUNTIF(DS$19:EL$19,EE30)+COUNTIF(DS$22:EL$22,EE30)+COUNTIF(DS$25:EL$25,EE30))/設定!$M21+IFERROR((COUNTIF(DS$6:EL$7,処理!$L20)+COUNTIF(DS$10:EL$10,処理!$L20)+COUNTIF(DS$13:EL$13,処理!$L20)+COUNTIF(DS$16:EL$16,処理!$L20)+COUNTIF(DS$19:EL$19,処理!$L20)+COUNTIF(DS$22:EL$22,処理!$L20)+COUNTIF(DS$25:EL$25,処理!$L20))/処理!$M20,0))","v":""},{"$f":"IF(LEN(EE30)=0,\"\",SUM(DN30,EG30))","v":""},"授業合計",null,{"$f":"SUM(DU30:DU35,DY30:DY35,EC30:EC35,EG30:EG35)","v":0},{"$f":"IF(LEN(EI30)=0,\"\",SUM(DR30,EK30))","v":0},{"$f":"$C$30","v":""},null,{"$f":"IF(LEN(EM30)=0,\"\",(COUNTIF(EM$6:FF$7,EM30)+COUNTIF(EM$10:FF$10,EM30)+COUNTIF(EM$13:FF$13,EM30)+COUNTIF(EM$16:FF$16,EM30)+COUNTIF(EM$19:FF$19,EM30)+COUNTIF(EM$22:FF$22,EM30)+COUNTIF(EM$25:FF$25,EM30))/設定!$D21+IFERROR((COUNTIF(EM$6:FF$7,処理!$L2)+COUNTIF(EM$10:FF$10,処理!$L2)+COUNTIF(EM$13:FF$13,処理!$L2)+COUNTIF(EM$16:FF$16,処理!$L2)+COUNTIF(EM$19:FF$19,処理!$L2)+COUNTIF(EM$22:FF$22,処理!$L2)+COUNTIF(EM$25:FF$25,処理!$L2))/処理!$M2,0))","v":""},{"$f":"IF(LEN(EM30)=0,\"\",SUM(DV30,EO30))","v":""},{"$f":"$G$30","v":""},null,{"$f":"IF(LEN(EQ30)=0,\"\",(COUNTIF(EM$6:FF$7,EQ30)+COUNTIF(EM$10:FF$10,EQ30)+COUNTIF(EM$13:FF$13,EQ30)+COUNTIF(EM$16:FF$16,EQ30)+COUNTIF(EM$19:FF$19,EQ30)+COUNTIF(EM$22:FF$22,EQ30)+COUNTIF(EM$25:FF$25,EQ30))/設定!$G21+IFERROR((COUNTIF(EM$6:FF$7,処理!$L8)+COUNTIF(EM$10:FF$10,処理!$L8)+COUNTIF(EM$13:FF$13,処理!$L8)+COUNTIF(EM$16:FF$16,処理!$L8)+COUNTIF(EM$19:FF$19,処理!$L8)+COUNTIF(EM$22:FF$22,処理!$L8)+COUNTIF(EM$25:FF$25,処理!$L8))/処理!$M8,0))","v":""},{"$f":"IF(LEN(EQ30)=0,\"\",SUM(DZ30,ES30))","v":""},{"$f":"$K$30","v":""},null,{"$f":"IF(LEN(EU30)=0,\"\",(COUNTIF(EM$6:FF$7,EU30)+COUNTIF(EM$10:FF$10,EU30)+COUNTIF(EM$13:FF$13,EU30)+COUNTIF(EM$16:FF$16,EU30)+COUNTIF(EM$19:FF$19,EU30)+COUNTIF(EM$22:FF$22,EU30)+COUNTIF(EM$25:FF$25,EU30))/設定!$J21+IFERROR((COUNTIF(EM$6:FF$7,処理!$L14)+COUNTIF(EM$10:FF$10,処理!$L14)+COUNTIF(EM$13:FF$13,処理!$L14)+COUNTIF(EM$16:FF$16,処理!$L14)+COUNTIF(EM$19:FF$19,処理!$L14)+COUNTIF(EM$22:FF$22,処理!$L14)+COUNTIF(EM$25:FF$25,処理!$L14))/処理!$M14,0))","v":""},{"$f":"IF(LEN(EU30)=0,\"\",SUM(ED30,EW30))","v":""},{"$f":"$O$30","v":""},null,{"$f":"IF(LEN(EY30)=0,\"\",(COUNTIF(EM$6:FF$7,EY30)+COUNTIF(EM$10:FF$10,EY30)+COUNTIF(EM$13:FF$13,EY30)+COUNTIF(EM$16:FF$16,EY30)+COUNTIF(EM$19:FF$19,EY30)+COUNTIF(EM$22:FF$22,EY30)+COUNTIF(EM$25:FF$25,EY30))/設定!$M21+IFERROR((COUNTIF(EM$6:FF$7,処理!$L20)+COUNTIF(EM$10:FF$10,処理!$L20)+COUNTIF(EM$13:FF$13,処理!$L20)+COUNTIF(EM$16:FF$16,処理!$L20)+COUNTIF(EM$19:FF$19,処理!$L20)+COUNTIF(EM$22:FF$22,処理!$L20)+COUNTIF(EM$25:FF$25,処理!$L20))/処理!$M20,0))","v":""},{"$f":"IF(LEN(EY30)=0,\"\",SUM(EH30,FA30))","v":""},"授業合計",null,{"$f":"SUM(EO30:EO35,ES30:ES35,EW30:EW35,FA30:FA35)","v":0},{"$f":"IF(LEN(FC30)=0,\"\",SUM(EL30,FE30))","v":0},{"$f":"$C$30","v":""},null,{"$f":"IF(LEN(FG30)=0,\"\",(COUNTIF(FG$6:FZ$7,FG30)+COUNTIF(FG$10:FZ$10,FG30)+COUNTIF(FG$13:FZ$13,FG30)+COUNTIF(FG$16:FZ$16,FG30)+COUNTIF(FG$19:FZ$19,FG30)+COUNTIF(FG$22:FZ$22,FG30)+COUNTIF(FG$25:FZ$25,FG30))/設定!$D21+IFERROR((COUNTIF(FG$6:FZ$7,処理!$L2)+COUNTIF(FG$10:FZ$10,処理!$L2)+COUNTIF(FG$13:FZ$13,処理!$L2)+COUNTIF(FG$16:FZ$16,処理!$L2)+COUNTIF(FG$19:FZ$19,処理!$L2)+COUNTIF(FG$22:FZ$22,処理!$L2)+COUNTIF(FG$25:FZ$25,処理!$L2))/処理!$M2,0))","v":""},{"$f":"IF(LEN(FG30)=0,\"\",SUM(EP30,FI30))","v":""},{"$f":"$G$30","v":""},null,{"$f":"IF(LEN(FK30)=0,\"\",(COUNTIF(FG$6:FZ$7,FK30)+COUNTIF(FG$10:FZ$10,FK30)+COUNTIF(FG$13:FZ$13,FK30)+COUNTIF(FG$16:FZ$16,FK30)+COUNTIF(FG$19:FZ$19,FK30)+COUNTIF(FG$22:FZ$22,FK30)+COUNTIF(FG$25:FZ$25,FK30))/設定!$G21+IFERROR((COUNTIF(FG$6:FZ$7,処理!$L8)+COUNTIF(FG$10:FZ$10,処理!$L8)+COUNTIF(FG$13:FZ$13,処理!$L8)+COUNTIF(FG$16:FZ$16,処理!$L8)+COUNTIF(FG$19:FZ$19,処理!$L8)+COUNTIF(FG$22:FZ$22,処理!$L8)+COUNTIF(FG$25:FZ$25,処理!$L8))/処理!$M8,0))","v":""},{"$f":"IF(LEN(FK30)=0,\"\",SUM(ET30,FM30))","v":""},{"$f":"$K$30","v":""},null,{"$f":"IF(LEN(FO30)=0,\"\",(COUNTIF(FG$6:FZ$7,FO30)+COUNTIF(FG$10:FZ$10,FO30)+COUNTIF(FG$13:FZ$13,FO30)+COUNTIF(FG$16:FZ$16,FO30)+COUNTIF(FG$19:FZ$19,FO30)+COUNTIF(FG$22:FZ$22,FO30)+COUNTIF(FG$25:FZ$25,FO30))/設定!$J21+IFERROR((COUNTIF(FG$6:FZ$7,処理!$L14)+COUNTIF(FG$10:FZ$10,処理!$L14)+COUNTIF(FG$13:FZ$13,処理!$L14)+COUNTIF(FG$16:FZ$16,処理!$L14)+COUNTIF(FG$19:FZ$19,処理!$L14)+COUNTIF(FG$22:FZ$22,処理!$L14)+COUNTIF(FG$25:FZ$25,処理!$L14))/処理!$M14,0))","v":""},{"$f":"IF(LEN(FO30)=0,\"\",SUM(EX30,FQ30))","v":""},{"$f":"$O$30","v":""},null,{"$f":"IF(LEN(FS30)=0,\"\",(COUNTIF(FG$6:FZ$7,FS30)+COUNTIF(FG$10:FZ$10,FS30)+COUNTIF(FG$13:FZ$13,FS30)+COUNTIF(FG$16:FZ$16,FS30)+COUNTIF(FG$19:FZ$19,FS30)+COUNTIF(FG$22:FZ$22,FS30)+COUNTIF(FG$25:FZ$25,FS30))/設定!$M21+IFERROR((COUNTIF(FG$6:FZ$7,処理!$L20)+COUNTIF(FG$10:FZ$10,処理!$L20)+COUNTIF(FG$13:FZ$13,処理!$L20)+COUNTIF(FG$16:FZ$16,処理!$L20)+COUNTIF(FG$19:FZ$19,処理!$L20)+COUNTIF(FG$22:FZ$22,処理!$L20)+COUNTIF(FG$25:FZ$25,処理!$L20))/処理!$M20,0))","v":""},{"$f":"IF(LEN(FS30)=0,\"\",SUM(FB30,FU30))","v":""},"授業合計",null,{"$f":"SUM(FI30:FI35,FM30:FM35,FQ30:FQ35,FU30:FU35)","v":0},{"$f":"IF(LEN(FW30)=0,\"\",SUM(FF30,FY30))","v":0},{"$f":"$C$30","v":""},null,{"$f":"IF(LEN(GA30)=0,\"\",(COUNTIF(GA$6:GT$7,GA30)+COUNTIF(GA$10:GT$10,GA30)+COUNTIF(GA$13:GT$13,GA30)+COUNTIF(GA$16:GT$16,GA30)+COUNTIF(GA$19:GT$19,GA30)+COUNTIF(GA$22:GT$22,GA30)+COUNTIF(GA$25:GT$25,GA30))/設定!$D21+IFERROR((COUNTIF(GA$6:GT$7,処理!$L2)+COUNTIF(GA$10:GT$10,処理!$L2)+COUNTIF(GA$13:GT$13,処理!$L2)+COUNTIF(GA$16:GT$16,処理!$L2)+COUNTIF(GA$19:GT$19,処理!$L2)+COUNTIF(GA$22:GT$22,処理!$L2)+COUNTIF(GA$25:GT$25,処理!$L2))/処理!$M2,0))","v":""},{"$f":"IF(LEN(GA30)=0,\"\",SUM(FJ30,GC30))","v":""},{"$f":"$G$30","v":""},null,{"$f":"IF(LEN(GE30)=0,\"\",(COUNTIF(GA$6:GT$7,GE30)+COUNTIF(GA$10:GT$10,GE30)+COUNTIF(GA$13:GT$13,GE30)+COUNTIF(GA$16:GT$16,GE30)+COUNTIF(GA$19:GT$19,GE30)+COUNTIF(GA$22:GT$22,GE30)+COUNTIF(GA$25:GT$25,GE30))/設定!$G21+IFERROR((COUNTIF(GA$6:GT$7,処理!$L8)+COUNTIF(GA$10:GT$10,処理!$L8)+COUNTIF(GA$13:GT$13,処理!$L8)+COUNTIF(GA$16:GT$16,処理!$L8)+COUNTIF(GA$19:GT$19,処理!$L8)+COUNTIF(GA$22:GT$22,処理!$L8)+COUNTIF(GA$25:GT$25,処理!$L8))/処理!$M8,0))","v":""},{"$f":"IF(LEN(GE30)=0,\"\",SUM(FN30,GG30))","v":""},{"$f":"$K$30","v":""},null,{"$f":"IF(LEN(GI30)=0,\"\",(COUNTIF(GA$6:GT$7,GI30)+COUNTIF(GA$10:GT$10,GI30)+COUNTIF(GA$13:GT$13,GI30)+COUNTIF(GA$16:GT$16,GI30)+COUNTIF(GA$19:GT$19,GI30)+COUNTIF(GA$22:GT$22,GI30)+COUNTIF(GA$25:GT$25,GI30))/設定!$J21+IFERROR((COUNTIF(GA$6:GT$7,処理!$L14)+COUNTIF(GA$10:GT$10,処理!$L14)+COUNTIF(GA$13:GT$13,処理!$L14)+COUNTIF(GA$16:GT$16,処理!$L14)+COUNTIF(GA$19:GT$19,処理!$L14)+COUNTIF(GA$22:GT$22,処理!$L14)+COUNTIF(GA$25:GT$25,処理!$L14))/処理!$M14,0))","v":""},{"$f":"IF(LEN(GI30)=0,\"\",SUM(FR30,GK30))","v":""},{"$f":"$O$30","v":""},null,{"$f":"IF(LEN(GM30)=0,\"\",(COUNTIF(GA$6:GT$7,GM30)+COUNTIF(GA$10:GT$10,GM30)+COUNTIF(GA$13:GT$13,GM30)+COUNTIF(GA$16:GT$16,GM30)+COUNTIF(GA$19:GT$19,GM30)+COUNTIF(GA$22:GT$22,GM30)+COUNTIF(GA$25:GT$25,GM30))/設定!$M21+IFERROR((COUNTIF(GA$6:GT$7,処理!$L20)+COUNTIF(GA$10:GT$10,処理!$L20)+COUNTIF(GA$13:GT$13,処理!$L20)+COUNTIF(GA$16:GT$16,処理!$L20)+COUNTIF(GA$19:GT$19,処理!$L20)+COUNTIF(GA$22:GT$22,処理!$L20)+COUNTIF(GA$25:GT$25,処理!$L20))/処理!$M20,0))","v":""},{"$f":"IF(LEN(GM30)=0,\"\",SUM(FV30,GO30))","v":""},"授業合計",null,{"$f":"SUM(GC30:GC35,GG30:GG35,GK30:GK35,GO30:GO35)","v":0},{"$f":"IF(LEN(GQ30)=0,\"\",SUM(FZ30,GS30))","v":0},{"$f":"$C$30","v":""},null,{"$f":"IF(LEN(GU30)=0,\"\",(COUNTIF(GU$6:HN$7,GU30)+COUNTIF(GU$10:HN$10,GU30)+COUNTIF(GU$13:HN$13,GU30)+COUNTIF(GU$16:HN$16,GU30)+COUNTIF(GU$19:HN$19,GU30)+COUNTIF(GU$22:HN$22,GU30)+COUNTIF(GU$25:HN$25,GU30))/設定!$D21+IFERROR((COUNTIF(GU$6:HN$7,処理!$L2)+COUNTIF(GU$10:HN$10,処理!$L2)+COUNTIF(GU$13:HN$13,処理!$L2)+COUNTIF(GU$16:HN$16,処理!$L2)+COUNTIF(GU$19:HN$19,処理!$L2)+COUNTIF(GU$22:HN$22,処理!$L2)+COUNTIF(GU$25:HN$25,処理!$L2))/処理!$M2,0))","v":""},{"$f":"IF(LEN(GU30)=0,\"\",SUM(GD30,GW30))","v":""},{"$f":"$G$30","v":""},null,{"$f":"IF(LEN(GY30)=0,\"\",(COUNTIF(GU$6:HN$7,GY30)+COUNTIF(GU$10:HN$10,GY30)+COUNTIF(GU$13:HN$13,GY30)+COUNTIF(GU$16:HN$16,GY30)+COUNTIF(GU$19:HN$19,GY30)+COUNTIF(GU$22:HN$22,GY30)+COUNTIF(GU$25:HN$25,GY30))/設定!$G21+IFERROR((COUNTIF(GU$6:HN$7,処理!$L8)+COUNTIF(GU$10:HN$10,処理!$L8)+COUNTIF(GU$13:HN$13,処理!$L8)+COUNTIF(GU$16:HN$16,処理!$L8)+COUNTIF(GU$19:HN$19,処理!$L8)+COUNTIF(GU$22:HN$22,処理!$L8)+COUNTIF(GU$25:HN$25,処理!$L8))/処理!$M8,0))","v":""},{"$f":"IF(LEN(GY30)=0,\"\",SUM(GH30,HA30))","v":""},{"$f":"$K$30","v":""},null,{"$f":"IF(LEN(HC30)=0,\"\",(COUNTIF(GU$6:HN$7,HC30)+COUNTIF(GU$10:HN$10,HC30)+COUNTIF(GU$13:HN$13,HC30)+COUNTIF(GU$16:HN$16,HC30)+COUNTIF(GU$19:HN$19,HC30)+COUNTIF(GU$22:HN$22,HC30)+COUNTIF(GU$25:HN$25,HC30))/設定!$J21+IFERROR((COUNTIF(GU$6:HN$7,処理!$L14)+COUNTIF(GU$10:HN$10,処理!$L14)+COUNTIF(GU$13:HN$13,処理!$L14)+COUNTIF(GU$16:HN$16,処理!$L14)+COUNTIF(GU$19:HN$19,処理!$L14)+COUNTIF(GU$22:HN$22,処理!$L14)+COUNTIF(GU$25:HN$25,処理!$L14))/処理!$M14,0))","v":""},{"$f":"IF(LEN(HC30)=0,\"\",SUM(GL30,HE30))","v":""},{"$f":"$O$30","v":""},null,{"$f":"IF(LEN(HG30)=0,\"\",(COUNTIF(GU$6:HN$7,HG30)+COUNTIF(GU$10:HN$10,HG30)+COUNTIF(GU$13:HN$13,HG30)+COUNTIF(GU$16:HN$16,HG30)+COUNTIF(GU$19:HN$19,HG30)+COUNTIF(GU$22:HN$22,HG30)+COUNTIF(GU$25:HN$25,HG30))/設定!$M21+IFERROR((COUNTIF(GU$6:HN$7,処理!$L20)+COUNTIF(GU$10:HN$10,処理!$L20)+COUNTIF(GU$13:HN$13,処理!$L20)+COUNTIF(GU$16:HN$16,処理!$L20)+COUNTIF(GU$19:HN$19,処理!$L20)+COUNTIF(GU$22:HN$22,処理!$L20)+COUNTIF(GU$25:HN$25,処理!$L20))/処理!$M20,0))","v":""},{"$f":"IF(LEN(HG30)=0,\"\",SUM(GP30,HI30))","v":""},"授業合計",null,{"$f":"SUM(GW30:GW35,HA30:HA35,HE30:HE35,HI30:HI35)","v":0},{"$f":"IF(LEN(HK30)=0,\"\",SUM(GT30,HM30))","v":0},{"$f":"$C$30","v":""},null,{"$f":"IF(LEN(HO30)=0,\"\",(COUNTIF(HO$6:IH$7,HO30)+COUNTIF(HO$10:IH$10,HO30)+COUNTIF(HO$13:IH$13,HO30)+COUNTIF(HO$16:IH$16,HO30)+COUNTIF(HO$19:IH$19,HO30)+COUNTIF(HO$22:IH$22,HO30)+COUNTIF(HO$25:IH$25,HO30))/設定!$D21+IFERROR((COUNTIF(HO$6:IH$7,処理!$L2)+COUNTIF(HO$10:IH$10,処理!$L2)+COUNTIF(HO$13:IH$13,処理!$L2)+COUNTIF(HO$16:IH$16,処理!$L2)+COUNTIF(HO$19:IH$19,処理!$L2)+COUNTIF(HO$22:IH$22,処理!$L2)+COUNTIF(HO$25:IH$25,処理!$L2))/処理!$M2,0))","v":""},{"$f":"IF(LEN(HO30)=0,\"\",SUM(GX30,HQ30))","v":""},{"$f":"$G$30","v":""},null,{"$f":"IF(LEN(HS30)=0,\"\",(COUNTIF(HO$6:IH$7,HS30)+COUNTIF(HO$10:IH$10,HS30)+COUNTIF(HO$13:IH$13,HS30)+COUNTIF(HO$16:IH$16,HS30)+COUNTIF(HO$19:IH$19,HS30)+COUNTIF(HO$22:IH$22,HS30)+COUNTIF(HO$25:IH$25,HS30))/設定!$G21+IFERROR((COUNTIF(HO$6:IH$7,処理!$L8)+COUNTIF(HO$10:IH$10,処理!$L8)+COUNTIF(HO$13:IH$13,処理!$L8)+COUNTIF(HO$16:IH$16,処理!$L8)+COUNTIF(HO$19:IH$19,処理!$L8)+COUNTIF(HO$22:IH$22,処理!$L8)+COUNTIF(HO$25:IH$25,処理!$L8))/処理!$M8,0))","v":""},{"$f":"IF(LEN(HS30)=0,\"\",SUM(HB30,HU30))","v":""},{"$f":"$K$30","v":""},null,{"$f":"IF(LEN(HW30)=0,\"\",(COUNTIF(HO$6:IH$7,HW30)+COUNTIF(HO$10:IH$10,HW30)+COUNTIF(HO$13:IH$13,HW30)+COUNTIF(HO$16:IH$16,HW30)+COUNTIF(HO$19:IH$19,HW30)+COUNTIF(HO$22:IH$22,HW30)+COUNTIF(HO$25:IH$25,HW30))/設定!$J21+IFERROR((COUNTIF(HO$6:IH$7,処理!$L14)+COUNTIF(HO$10:IH$10,処理!$L14)+COUNTIF(HO$13:IH$13,処理!$L14)+COUNTIF(HO$16:IH$16,処理!$L14)+COUNTIF(HO$19:IH$19,処理!$L14)+COUNTIF(HO$22:IH$22,処理!$L14)+COUNTIF(HO$25:IH$25,処理!$L14))/処理!$M14,0))","v":""},{"$f":"IF(LEN(HW30)=0,\"\",SUM(HF30,HY30))","v":""},{"$f":"$O$30","v":""},null,{"$f":"IF(LEN(IA30)=0,\"\",(COUNTIF(HO$6:IH$7,IA30)+COUNTIF(HO$10:IH$10,IA30)+COUNTIF(HO$13:IH$13,IA30)+COUNTIF(HO$16:IH$16,IA30)+COUNTIF(HO$19:IH$19,IA30)+COUNTIF(HO$22:IH$22,IA30)+COUNTIF(HO$25:IH$25,IA30))/設定!$M21+IFERROR((COUNTIF(HO$6:IH$7,処理!$L20)+COUNTIF(HO$10:IH$10,処理!$L20)+COUNTIF(HO$13:IH$13,処理!$L20)+COUNTIF(HO$16:IH$16,処理!$L20)+COUNTIF(HO$19:IH$19,処理!$L20)+COUNTIF(HO$22:IH$22,処理!$L20)+COUNTIF(HO$25:IH$25,処理!$L20))/処理!$M20,0))","v":""},{"$f":"IF(LEN(IA30)=0,\"\",SUM(HJ30,IC30))","v":""},"授業合計",null,{"$f":"SUM(HQ30:HQ35,HU30:HU35,HY30:HY35,IC30:IC35)","v":0},{"$f":"IF(LEN(IE30)=0,\"\",SUM(HN30,IG30))","v":0},{"$f":"$C$30","v":""},null,{"$f":"IF(LEN(II30)=0,\"\",(COUNTIF(II$6:JB$7,II30)+COUNTIF(II$10:JB$10,II30)+COUNTIF(II$13:JB$13,II30)+COUNTIF(II$16:JB$16,II30)+COUNTIF(II$19:JB$19,II30)+COUNTIF(II$22:JB$22,II30)+COUNTIF(II$25:JB$25,II30))/設定!$D21+IFERROR((COUNTIF(II$6:JB$7,処理!$L2)+COUNTIF(II$10:JB$10,処理!$L2)+COUNTIF(II$13:JB$13,処理!$L2)+COUNTIF(II$16:JB$16,処理!$L2)+COUNTIF(II$19:JB$19,処理!$L2)+COUNTIF(II$22:JB$22,処理!$L2)+COUNTIF(II$25:JB$25,処理!$L2))/処理!$M2,0))","v":""},{"$f":"IF(LEN(II30)=0,\"\",SUM(HR30,IK30))","v":""},{"$f":"$G$30","v":""},null,{"$f":"IF(LEN(IM30)=0,\"\",(COUNTIF(II$6:JB$7,IM30)+COUNTIF(II$10:JB$10,IM30)+COUNTIF(II$13:JB$13,IM30)+COUNTIF(II$16:JB$16,IM30)+COUNTIF(II$19:JB$19,IM30)+COUNTIF(II$22:JB$22,IM30)+COUNTIF(II$25:JB$25,IM30))/設定!$G21+IFERROR((COUNTIF(II$6:JB$7,処理!$L8)+COUNTIF(II$10:JB$10,処理!$L8)+COUNTIF(II$13:JB$13,処理!$L8)+COUNTIF(II$16:JB$16,処理!$L8)+COUNTIF(II$19:JB$19,処理!$L8)+COUNTIF(II$22:JB$22,処理!$L8)+COUNTIF(II$25:JB$25,処理!$L8))/処理!$M8,0))","v":""},{"$f":"IF(LEN(IM30)=0,\"\",SUM(HV30,IO30))","v":""},{"$f":"$K$30","v":""},null,{"$f":"IF(LEN(IQ30)=0,\"\",(COUNTIF(II$6:JB$7,IQ30)+COUNTIF(II$10:JB$10,IQ30)+COUNTIF(II$13:JB$13,IQ30)+COUNTIF(II$16:JB$16,IQ30)+COUNTIF(II$19:JB$19,IQ30)+COUNTIF(II$22:JB$22,IQ30)+COUNTIF(II$25:JB$25,IQ30))/設定!$J21+IFERROR((COUNTIF(II$6:JB$7,処理!$L14)+COUNTIF(II$10:JB$10,処理!$L14)+COUNTIF(II$13:JB$13,処理!$L14)+COUNTIF(II$16:JB$16,処理!$L14)+COUNTIF(II$19:JB$19,処理!$L14)+COUNTIF(II$22:JB$22,処理!$L14)+COUNTIF(II$25:JB$25,処理!$L14))/処理!$M14,0))","v":""},{"$f":"IF(LEN(IQ30)=0,\"\",SUM(HZ30,IS30))","v":""},{"$f":"$O$30","v":""},null,{"$f":"IF(LEN(IU30)=0,\"\",(COUNTIF(II$6:JB$7,IU30)+COUNTIF(II$10:JB$10,IU30)+COUNTIF(II$13:JB$13,IU30)+COUNTIF(II$16:JB$16,IU30)+COUNTIF(II$19:JB$19,IU30)+COUNTIF(II$22:JB$22,IU30)+COUNTIF(II$25:JB$25,IU30))/設定!$M21+IFERROR((COUNTIF(II$6:JB$7,処理!$L20)+COUNTIF(II$10:JB$10,処理!$L20)+COUNTIF(II$13:JB$13,処理!$L20)+COUNTIF(II$16:JB$16,処理!$L20)+COUNTIF(II$19:JB$19,処理!$L20)+COUNTIF(II$22:JB$22,処理!$L20)+COUNTIF(II$25:JB$25,処理!$L20))/処理!$M20,0))","v":""},{"$f":"IF(LEN(IU30)=0,\"\",SUM(ID30,IW30))","v":""},"授業合計",null,{"$f":"SUM(IK30:IK35,IO30:IO35,IS30:IS35,IW30:IW35)","v":0},{"$f":"IF(LEN(IY30)=0,\"\",SUM(IH30,JA30))","v":0}]
[null,null,{"$f":"IF(COUNTIF(処理!$J$2:$J$25,1)>0,処理!H3,\"\")","v":""},null,{"$f":"IF(LEN(C31)=0,\"\",(COUNTIF(C$6:V$7,C31)+COUNTIF(C$10:V$10,C31)+COUNTIF(C$13:V$13,C31)+COUNTIF(C$16:V$16,C31)+COUNTIF(C$19:V$19,C31)+COUNTIF(C$22:V$22,C31)+COUNTIF(C$25:V$25,C31))/設定!$D22+IFERROR((COUNTIF(C$6:V$7,処理!$L3)+COUNTIF(C$10:V$10,処理!$L3)+COUNTIF(C$13:V$13,処理!$L3)+COUNTIF(C$16:V$16,処理!$L3)+COUNTIF(C$19:V$19,処理!$L3)+COUNTIF(C$22:V$22,処理!$L3)+COUNTIF(C$25:V$25,処理!$L3))/処理!$M3,0))","v":""},{"$f":"E31","v":""},{"$f":"IF(COUNTIF(処理!$J$2:$J$25,7)>0,処理!H9,\"\")","v":""},null,{"$f":"IF(LEN(G31)=0,\"\",(COUNTIF(C$6:V$7,G31)+COUNTIF(C$10:V$10,G31)+COUNTIF(C$13:V$13,G31)+COUNTIF(C$16:V$16,G31)+COUNTIF(C$19:V$19,G31)+COUNTIF(C$22:V$22,G31)+COUNTIF(C$25:V$25,G31))/設定!$G22+IFERROR((COUNTIF(C$6:V$7,処理!$L9)+COUNTIF(C$10:V$10,処理!$L9)+COUNTIF(C$13:V$13,処理!$L9)+COUNTIF(C$16:V$16,処理!$L9)+COUNTIF(C$19:V$19,処理!$L9)+COUNTIF(C$22:V$22,処理!$L9)+COUNTIF(C$25:V$25,処理!$L9))/処理!$M9,0))","v":""},{"$f":"I31","v":""},{"$f":"IF(COUNTIF(処理!$J$2:$J$25,13)>0,処理!H15,\"\")","v":""},null,{"$f":"IF(LEN(K31)=0,\"\",(COUNTIF(C$6:V$7,K31)+COUNTIF(C$10:V$10,K31)+COUNTIF(C$13:V$13,K31)+COUNTIF(C$16:V$16,K31)+COUNTIF(C$19:V$19,K31)+COUNTIF(C$22:V$22,K31)+COUNTIF(C$25:V$25,K31))/設定!$J22+IFERROR((COUNTIF(C$6:V$7,処理!$L15)+COUNTIF(C$10:V$10,処理!$L15)+COUNTIF(C$13:V$13,処理!$L15)+COUNTIF(C$16:V$16,処理!$L15)+COUNTIF(C$19:V$19,処理!$L15)+COUNTIF(C$22:V$22,処理!$L15)+COUNTIF(C$25:V$25,処理!$L15))/処理!$M15,0))","v":""},{"$f":"M31","v":""},{"$f":"IF(COUNTIF(処理!$J$2:$J$25,19)>0,処理!H21,\"\")","v":""},null,{"$f":"IF(LEN(O31)=0,\"\",(COUNTIF(C$6:V$7,O31)+COUNTIF(C$10:V$10,O31)+COUNTIF(C$13:V$13,O31)+COUNTIF(C$16:V$16,O31)+COUNTIF(C$19:V$19,O31)+COUNTIF(C$22:V$22,O31)+COUNTIF(C$25:V$25,O31))/設定!$M22+IFERROR((COUNTIF(C$6:V$7,処理!$L21)+COUNTIF(C$10:V$10,処理!$L21)+COUNTIF(C$13:V$13,処理!$L21)+COUNTIF(C$16:V$16,処理!$L21)+COUNTIF(C$19:V$19,処理!$L21)+COUNTIF(C$22:V$22,処理!$L21)+COUNTIF(C$25:V$25,処理!$L21))/処理!$M21,0))","v":""},{"$f":"Q31","v":""},{"$f":"処理!H27&\"\"","v":""},null,{"$f":"IF(LEN(S31)=0,\"\",COUNTIF(C$6:V$7,S31)+COUNTIF(C$10:V$10,S31)+COUNTIF(C$13:V$13,S31)+COUNTIF(C$16:V$16,S31)+COUNTIF(C$19:V$19,S31)+COUNTIF(C$22:V$22,S31)+COUNTIF(C$25:V$25,S31))","v":""},{"$f":"U31","v":""},{"$f":"$C$31","v":""},null,{"$f":"IF(LEN(W31)=0,\"\",(COUNTIF(W$6:AP$7,W31)+COUNTIF(W$10:AP$10,W31)+COUNTIF(W$13:AP$13,W31)+COUNTIF(W$16:AP$16,W31)+COUNTIF(W$19:AP$19,W31)+COUNTIF(W$22:AP$22,W31)+COUNTIF(W$25:AP$25,W31))/設定!$D22+IFERROR((COUNTIF(W$6:AP$7,処理!$L3)+COUNTIF(W$10:AP$10,処理!$L3)+COUNTIF(W$13:AP$13,処理!$L3)+COUNTIF(W$16:AP$16,処理!$L3)+COUNTIF(W$19:AP$19,処理!$L3)+COUNTIF(W$22:AP$22,処理!$L3)+COUNTIF(W$25:AP$25,処理!$L3))/処理!$M3,0))","v":""},{"$f":"IF(LEN(W31)=0,\"\",SUM(F31,Y31))","v":""},{"$f":"$G$31","v":""},null,{"$f":"IF(LEN(AA31)=0,\"\",(COUNTIF(W$6:AP$7,AA31)+COUNTIF(W$10:AP$10,AA31)+COUNTIF(W$13:AP$13,AA31)+COUNTIF(W$16:AP$16,AA31)+COUNTIF(W$19:AP$19,AA31)+COUNTIF(W$22:AP$22,AA31)+COUNTIF(W$25:AP$25,AA31))/設定!$G22+IFERROR((COUNTIF(W$6:AP$7,処理!$L9)+COUNTIF(W$10:AP$10,処理!$L9)+COUNTIF(W$13:AP$13,処理!$L9)+COUNTIF(W$16:AP$16,処理!$L9)+COUNTIF(W$19:AP$19,処理!$L9)+COUNTIF(W$22:AP$22,処理!$L9)+COUNTIF(W$25:AP$25,処理!$L9))/処理!$M9,0))","v":""},"",{"$f":"$K$31","v":""},null,{"$f":"IF(LEN(AE31)=0,\"\",(COUNTIF(W$6:AP$7,AE31)+COUNTIF(W$10:AP$10,AE31)+COUNTIF(W$13:AP$13,AE31)+COUNTIF(W$16:AP$16,AE31)+COUNTIF(W$19:AP$19,AE31)+COUNTIF(W$22:AP$22,AE31)+COUNTIF(W$25:AP$25,AE31))/設定!$J22+IFERROR((COUNTIF(W$6:AP$7,処理!$L15)+COUNTIF(W$10:AP$10,処理!$L15)+COUNTIF(W$13:AP$13,処理!$L15)+COUNTIF(W$16:AP$16,処理!$L15)+COUNTIF(W$19:AP$19,処理!$L15)+COUNTIF(W$22:AP$22,処理!$L15)+COUNTIF(W$25:AP$25,処理!$L15))/処理!$M15,0))","v":""},"",{"$f":"$O$31","v":""},null,{"$f":"IF(LEN(AI31)=0,\"\",(COUNTIF(W$6:AP$7,AI31)+COUNTIF(W$10:AP$10,AI31)+COUNTIF(W$13:AP$13,AI31)+COUNTIF(W$16:AP$16,AI31)+COUNTIF(W$19:AP$19,AI31)+COUNTIF(W$22:AP$22,AI31)+COUNTIF(W$25:AP$25,AI31))/設定!$M22+IFERROR((COUNTIF(W$6:AP$7,処理!$L21)+COUNTIF(W$10:AP$10,処理!$L21)+COUNTIF(W$13:AP$13,処理!$L21)+COUNTIF(W$16:AP$16,処理!$L21)+COUNTIF(W$19:AP$19,処理!$L21)+COUNTIF(W$22:AP$22,処理!$L21)+COUNTIF(W$25:AP$25,処理!$L21))/処理!$M21,0))","v":""},"",{"$f":"$S$31","v":""},null,{"$f":"IF(LEN(AM31)=0,\"\",COUNTIF(W$6:AP$7,AM31)+COUNTIF(W$10:AP$10,AM31)+COUNTIF(W$13:AP$13,AM31)+COUNTIF(W$16:AP$16,AM31)+COUNTIF(W$19:AP$19,AM31)+COUNTIF(W$22:AP$22,AM31)+COUNTIF(W$25:AP$25,AM31))","v":""},"",{"$f":"$C$31","v":""},null,{"$f":"IF(LEN(AQ31)=0,\"\",(COUNTIF(AQ$6:BJ$7,AQ31)+COUNTIF(AQ$10:BJ$10,AQ31)+COUNTIF(AQ$13:BJ$13,AQ31)+COUNTIF(AQ$16:BJ$16,AQ31)+COUNTIF(AQ$19:BJ$19,AQ31)+COUNTIF(AQ$22:BJ$22,AQ31)+COUNTIF(AQ$25:BJ$25,AQ31))/設定!$D22+IFERROR((COUNTIF(AQ$6:BJ$7,処理!$L3)+COUNTIF(AQ$10:BJ$10,処理!$L3)+COUNTIF(AQ$13:BJ$13,処理!$L3)+COUNTIF(AQ$16:BJ$16,処理!$L3)+COUNTIF(AQ$19:BJ$19,処理!$L3)+COUNTIF(AQ$22:BJ$22,処理!$L3)+COUNTIF(AQ$25:BJ$25,処理!$L3))/処理!$M3,0))","v":""},{"$f":"IF(LEN(AQ31)=0,\"\",SUM(Z31,AS31))","v":""},{"$f":"$G$31","v":""},null,{"$f":"IF(LEN(AU31)=0,\"\",(COUNTIF(AQ$6:BJ$7,AU31)+COUNTIF(AQ$10:BJ$10,AU31)+COUNTIF(AQ$13:BJ$13,AU31)+COUNTIF(AQ$16:BJ$16,AU31)+COUNTIF(AQ$19:BJ$19,AU31)+COUNTIF(AQ$22:BJ$22,AU31)+COUNTIF(AQ$25:BJ$25,AU31))/設定!$G22+IFERROR((COUNTIF(AQ$6:BJ$7,処理!$L9)+COUNTIF(AQ$10:BJ$10,処理!$L9)+COUNTIF(AQ$13:BJ$13,処理!$L9)+COUNTIF(AQ$16:BJ$16,処理!$L9)+COUNTIF(AQ$19:BJ$19,処理!$L9)+COUNTIF(AQ$22:BJ$22,処理!$L9)+COUNTIF(AQ$25:BJ$25,処理!$L9))/処理!$M9,0))","v":""},"",{"$f":"$K$31","v":""},null,{"$f":"IF(LEN(AY31)=0,\"\",(COUNTIF(AQ$6:BJ$7,AY31)+COUNTIF(AQ$10:BJ$10,AY31)+COUNTIF(AQ$13:BJ$13,AY31)+COUNTIF(AQ$16:BJ$16,AY31)+COUNTIF(AQ$19:BJ$19,AY31)+COUNTIF(AQ$22:BJ$22,AY31)+COUNTIF(AQ$25:BJ$25,AY31))/設定!$J22+IFERROR((COUNTIF(AQ$6:BJ$7,処理!$L15)+COUNTIF(AQ$10:BJ$10,処理!$L15)+COUNTIF(AQ$13:BJ$13,処理!$L15)+COUNTIF(AQ$16:BJ$16,処理!$L15)+COUNTIF(AQ$19:BJ$19,処理!$L15)+COUNTIF(AQ$22:BJ$22,処理!$L15)+COUNTIF(AQ$25:BJ$25,処理!$L15))/処理!$M15,0))","v":""},"",{"$f":"$O$31","v":""},null,{"$f":"IF(LEN(BC31)=0,\"\",(COUNTIF(AQ$6:BJ$7,BC31)+COUNTIF(AQ$10:BJ$10,BC31)+COUNTIF(AQ$13:BJ$13,BC31)+COUNTIF(AQ$16:BJ$16,BC31)+COUNTIF(AQ$19:BJ$19,BC31)+COUNTIF(AQ$22:BJ$22,BC31)+COUNTIF(AQ$25:BJ$25,BC31))/設定!$M22+IFERROR((COUNTIF(AQ$6:BJ$7,処理!$L21)+COUNTIF(AQ$10:BJ$10,処理!$L21)+COUNTIF(AQ$13:BJ$13,処理!$L21)+COUNTIF(AQ$16:BJ$16,処理!$L21)+COUNTIF(AQ$19:BJ$19,処理!$L21)+COUNTIF(AQ$22:BJ$22,処理!$L21)+COUNTIF(AQ$25:BJ$25,処理!$L21))/処理!$M21,0))","v":""},"",{"$f":"$S$31","v":""},null,{"$f":"IF(LEN(BG31)=0,\"\",COUNTIF(AQ$6:BJ$7,BG31)+COUNTIF(AQ$10:BJ$10,BG31)+COUNTIF(AQ$13:BJ$13,BG31)+COUNTIF(AQ$16:BJ$16,BG31)+COUNTIF(AQ$19:BJ$19,BG31)+COUNTIF(AQ$22:BJ$22,BG31)+COUNTIF(AQ$25:BJ$25,BG31))","v":""},"",{"$f":"$C$31","v":""},null,{"$f":"IF(LEN(BK31)=0,\"\",(COUNTIF(BK$6:CD$7,BK31)+COUNTIF(BK$10:CD$10,BK31)+COUNTIF(BK$13:CD$13,BK31)+COUNTIF(BK$16:CD$16,BK31)+COUNTIF(BK$19:CD$19,BK31)+COUNTIF(BK$22:CD$22,BK31)+COUNTIF(BK$25:CD$25,BK31))/設定!$D22+IFERROR((COUNTIF(BK$6:CD$7,処理!$L3)+COUNTIF(BK$10:CD$10,処理!$L3)+COUNTIF(BK$13:CD$13,処理!$L3)+COUNTIF(BK$16:CD$16,処理!$L3)+COUNTIF(BK$19:CD$19,処理!$L3)+COUNTIF(BK$22:CD$22,処理!$L3)+COUNTIF(BK$25:CD$25,処理!$L3))/処理!$M3,0))","v":""},{"$f":"IF(LEN(BK31)=0,\"\",SUM(AT31,BM31))","v":""},{"$f":"$G$31","v":""},null,{"$f":"IF(LEN(BO31)=0,\"\",(COUNTIF(BK$6:CD$7,BO31)+COUNTIF(BK$10:CD$10,BO31)+COUNTIF(BK$13:CD$13,BO31)+COUNTIF(BK$16:CD$16,BO31)+COUNTIF(BK$19:CD$19,BO31)+COUNTIF(BK$22:CD$22,BO31)+COUNTIF(BK$25:CD$25,BO31))/設定!$G22+IFERROR((COUNTIF(BK$6:CD$7,処理!$L9)+COUNTIF(BK$10:CD$10,処理!$L9)+COUNTIF(BK$13:CD$13,処理!$L9)+COUNTIF(BK$16:CD$16,処理!$L9)+COUNTIF(BK$19:CD$19,処理!$L9)+COUNTIF(BK$22:CD$22,処理!$L9)+COUNTIF(BK$25:CD$25,処理!$L9))/処理!$M9,0))","v":""},"",{"$f":"$K$31","v":""},null,{"$f":"IF(LEN(BS31)=0,\"\",(COUNTIF(BK$6:CD$7,BS31)+COUNTIF(BK$10:CD$10,BS31)+COUNTIF(BK$13:CD$13,BS31)+COUNTIF(BK$16:CD$16,BS31)+COUNTIF(BK$19:CD$19,BS31)+COUNTIF(BK$22:CD$22,BS31)+COUNTIF(BK$25:CD$25,BS31))/設定!$J22+IFERROR((COUNTIF(BK$6:CD$7,処理!$L15)+COUNTIF(BK$10:CD$10,処理!$L15)+COUNTIF(BK$13:CD$13,処理!$L15)+COUNTIF(BK$16:CD$16,処理!$L15)+COUNTIF(BK$19:CD$19,処理!$L15)+COUNTIF(BK$22:CD$22,処理!$L15)+COUNTIF(BK$25:CD$25,処理!$L15))/処理!$M15,0))","v":""},"",{"$f":"$O$31","v":""},null,{"$f":"IF(LEN(BW31)=0,\"\",(COUNTIF(BK$6:CD$7,BW31)+COUNTIF(BK$10:CD$10,BW31)+COUNTIF(BK$13:CD$13,BW31)+COUNTIF(BK$16:CD$16,BW31)+COUNTIF(BK$19:CD$19,BW31)+COUNTIF(BK$22:CD$22,BW31)+COUNTIF(BK$25:CD$25,BW31))/設定!$M22+IFERROR((COUNTIF(BK$6:CD$7,処理!$L21)+COUNTIF(BK$10:CD$10,処理!$L21)+COUNTIF(BK$13:CD$13,処理!$L21)+COUNTIF(BK$16:CD$16,処理!$L21)+COUNTIF(BK$19:CD$19,処理!$L21)+COUNTIF(BK$22:CD$22,処理!$L21)+COUNTIF(BK$25:CD$25,処理!$L21))/処理!$M21,0))","v":""},"",{"$f":"$S$31","v":""},null,{"$f":"IF(LEN(CA31)=0,\"\",COUNTIF(BK$6:CD$7,CA31)+COUNTIF(BK$10:CD$10,CA31)+COUNTIF(BK$13:CD$13,CA31)+COUNTIF(BK$16:CD$16,CA31)+COUNTIF(BK$19:CD$19,CA31)+COUNTIF(BK$22:CD$22,CA31)+COUNTIF(BK$25:CD$25,CA31))","v":""},"",{"$f":"$C$31","v":""},null,{"$f":"IF(LEN(CE31)=0,\"\",(COUNTIF(CE$6:CX$7,CE31)+COUNTIF(CE$10:CX$10,CE31)+COUNTIF(CE$13:CX$13,CE31)+COUNTIF(CE$16:CX$16,CE31)+COUNTIF(CE$19:CX$19,CE31)+COUNTIF(CE$22:CX$22,CE31)+COUNTIF(CE$25:CX$25,CE31))/設定!$D22+IFERROR((COUNTIF(CE$6:CX$7,処理!$L3)+COUNTIF(CE$10:CX$10,処理!$L3)+COUNTIF(CE$13:CX$13,処理!$L3)+COUNTIF(CE$16:CX$16,処理!$L3)+COUNTIF(CE$19:CX$19,処理!$L3)+COUNTIF(CE$22:CX$22,処理!$L3)+COUNTIF(CE$25:CX$25,処理!$L3))/処理!$M3,0))","v":""},{"$f":"IF(LEN(CE31)=0,\"\",SUM(BN31,CG31))","v":""},{"$f":"$G$31","v":""},null,{"$f":"IF(LEN(CI31)=0,\"\",(COUNTIF(CE$6:CX$7,CI31)+COUNTIF(CE$10:CX$10,CI31)+COUNTIF(CE$13:CX$13,CI31)+COUNTIF(CE$16:CX$16,CI31)+COUNTIF(CE$19:CX$19,CI31)+COUNTIF(CE$22:CX$22,CI31)+COUNTIF(CE$25:CX$25,CI31))/設定!$G22+IFERROR((COUNTIF(CE$6:CX$7,処理!$L9)+COUNTIF(CE$10:CX$10,処理!$L9)+COUNTIF(CE$13:CX$13,処理!$L9)+COUNTIF(CE$16:CX$16,処理!$L9)+COUNTIF(CE$19:CX$19,処理!$L9)+COUNTIF(CE$22:CX$22,処理!$L9)+COUNTIF(CE$25:CX$25,処理!$L9))/処理!$M9,0))","v":""},"",{"$f":"$K$31","v":""},null,{"$f":"IF(LEN(CM31)=0,\"\",(COUNTIF(CE$6:CX$7,CM31)+COUNTIF(CE$10:CX$10,CM31)+COUNTIF(CE$13:CX$13,CM31)+COUNTIF(CE$16:CX$16,CM31)+COUNTIF(CE$19:CX$19,CM31)+COUNTIF(CE$22:CX$22,CM31)+COUNTIF(CE$25:CX$25,CM31))/設定!$J22+IFERROR((COUNTIF(CE$6:CX$7,処理!$L15)+COUNTIF(CE$10:CX$10,処理!$L15)+COUNTIF(CE$13:CX$13,処理!$L15)+COUNTIF(CE$16:CX$16,処理!$L15)+COUNTIF(CE$19:CX$19,処理!$L15)+COUNTIF(CE$22:CX$22,処理!$L15)+COUNTIF(CE$25:CX$25,処理!$L15))/処理!$M15,0))","v":""},"",{"$f":"$O$31","v":""},null,{"$f":"IF(LEN(CQ31)=0,\"\",(COUNTIF(CE$6:CX$7,CQ31)+COUNTIF(CE$10:CX$10,CQ31)+COUNTIF(CE$13:CX$13,CQ31)+COUNTIF(CE$16:CX$16,CQ31)+COUNTIF(CE$19:CX$19,CQ31)+COUNTIF(CE$22:CX$22,CQ31)+COUNTIF(CE$25:CX$25,CQ31))/設定!$M22+IFERROR((COUNTIF(CE$6:CX$7,処理!$L21)+COUNTIF(CE$10:CX$10,処理!$L21)+COUNTIF(CE$13:CX$13,処理!$L21)+COUNTIF(CE$16:CX$16,処理!$L21)+COUNTIF(CE$19:CX$19,処理!$L21)+COUNTIF(CE$22:CX$22,処理!$L21)+COUNTIF(CE$25:CX$25,処理!$L21))/処理!$M21,0))","v":""},"",{"$f":"$S$31","v":""},null,{"$f":"IF(LEN(CU31)=0,\"\",COUNTIF(CE$6:CX$7,CU31)+COUNTIF(CE$10:CX$10,CU31)+COUNTIF(CE$13:CX$13,CU31)+COUNTIF(CE$16:CX$16,CU31)+COUNTIF(CE$19:CX$19,CU31)+COUNTIF(CE$22:CX$22,CU31)+COUNTIF(CE$25:CX$25,CU31))","v":""},"",{"$f":"$C$31","v":""},null,{"$f":"IF(LEN(CY31)=0,\"\",(COUNTIF(CY$6:DR$7,CY31)+COUNTIF(CY$10:DR$10,CY31)+COUNTIF(CY$13:DR$13,CY31)+COUNTIF(CY$16:DR$16,CY31)+COUNTIF(CY$19:DR$19,CY31)+COUNTIF(CY$22:DR$22,CY31)+COUNTIF(CY$25:DR$25,CY31))/設定!$D22+IFERROR((COUNTIF(CY$6:DR$7,処理!$L3)+COUNTIF(CY$10:DR$10,処理!$L3)+COUNTIF(CY$13:DR$13,処理!$L3)+COUNTIF(CY$16:DR$16,処理!$L3)+COUNTIF(CY$19:DR$19,処理!$L3)+COUNTIF(CY$22:DR$22,処理!$L3)+COUNTIF(CY$25:DR$25,処理!$L3))/処理!$M3,0))","v":""},{"$f":"IF(LEN(CY31)=0,\"\",SUM(CH31,DA31))","v":""},{"$f":"$G$31","v":""},null,{"$f":"IF(LEN(DC31)=0,\"\",(COUNTIF(CY$6:DR$7,DC31)+COUNTIF(CY$10:DR$10,DC31)+COUNTIF(CY$13:DR$13,DC31)+COUNTIF(CY$16:DR$16,DC31)+COUNTIF(CY$19:DR$19,DC31)+COUNTIF(CY$22:DR$22,DC31)+COUNTIF(CY$25:DR$25,DC31))/設定!$G22+IFERROR((COUNTIF(CY$6:DR$7,処理!$L9)+COUNTIF(CY$10:DR$10,処理!$L9)+COUNTIF(CY$13:DR$13,処理!$L9)+COUNTIF(CY$16:DR$16,処理!$L9)+COUNTIF(CY$19:DR$19,処理!$L9)+COUNTIF(CY$22:DR$22,処理!$L9)+COUNTIF(CY$25:DR$25,処理!$L9))/処理!$M9,0))","v":""},"",{"$f":"$K$31","v":""},null,{"$f":"IF(LEN(DG31)=0,\"\",(COUNTIF(CY$6:DR$7,DG31)+COUNTIF(CY$10:DR$10,DG31)+COUNTIF(CY$13:DR$13,DG31)+COUNTIF(CY$16:DR$16,DG31)+COUNTIF(CY$19:DR$19,DG31)+COUNTIF(CY$22:DR$22,DG31)+COUNTIF(CY$25:DR$25,DG31))/設定!$J22+IFERROR((COUNTIF(CY$6:DR$7,処理!$L15)+COUNTIF(CY$10:DR$10,処理!$L15)+COUNTIF(CY$13:DR$13,処理!$L15)+COUNTIF(CY$16:DR$16,処理!$L15)+COUNTIF(CY$19:DR$19,処理!$L15)+COUNTIF(CY$22:DR$22,処理!$L15)+COUNTIF(CY$25:DR$25,処理!$L15))/処理!$M15,0))","v":""},"",{"$f":"$O$31","v":""},null,{"$f":"IF(LEN(DK31)=0,\"\",(COUNTIF(CY$6:DR$7,DK31)+COUNTIF(CY$10:DR$10,DK31)+COUNTIF(CY$13:DR$13,DK31)+COUNTIF(CY$16:DR$16,DK31)+COUNTIF(CY$19:DR$19,DK31)+COUNTIF(CY$22:DR$22,DK31)+COUNTIF(CY$25:DR$25,DK31))/設定!$M22+IFERROR((COUNTIF(CY$6:DR$7,処理!$L21)+COUNTIF(CY$10:DR$10,処理!$L21)+COUNTIF(CY$13:DR$13,処理!$L21)+COUNTIF(CY$16:DR$16,処理!$L21)+COUNTIF(CY$19:DR$19,処理!$L21)+COUNTIF(CY$22:DR$22,処理!$L21)+COUNTIF(CY$25:DR$25,処理!$L21))/処理!$M21,0))","v":""},"",{"$f":"$S$31","v":""},null,{"$f":"IF(LEN(DO31)=0,\"\",COUNTIF(CY$6:DR$7,DO31)+COUNTIF(CY$10:DR$10,DO31)+COUNTIF(CY$13:DR$13,DO31)+COUNTIF(CY$16:DR$16,DO31)+COUNTIF(CY$19:DR$19,DO31)+COUNTIF(CY$22:DR$22,DO31)+COUNTIF(CY$25:DR$25,DO31))","v":""},"",{"$f":"$C$31","v":""},null,{"$f":"IF(LEN(DS31)=0,\"\",(COUNTIF(DS$6:EL$7,DS31)+COUNTIF(DS$10:EL$10,DS31)+COUNTIF(DS$13:EL$13,DS31)+COUNTIF(DS$16:EL$16,DS31)+COUNTIF(DS$19:EL$19,DS31)+COUNTIF(DS$22:EL$22,DS31)+COUNTIF(DS$25:EL$25,DS31))/設定!$D22+IFERROR((COUNTIF(DS$6:EL$7,処理!$L3)+COUNTIF(DS$10:EL$10,処理!$L3)+COUNTIF(DS$13:EL$13,処理!$L3)+COUNTIF(DS$16:EL$16,処理!$L3)+COUNTIF(DS$19:EL$19,処理!$L3)+COUNTIF(DS$22:EL$22,処理!$L3)+COUNTIF(DS$25:EL$25,処理!$L3))/処理!$M3,0))","v":""},{"$f":"IF(LEN(DS31)=0,\"\",SUM(DB31,DU31))","v":""},{"$f":"$G$31","v":""},null,{"$f":"IF(LEN(DW31)=0,\"\",(COUNTIF(DS$6:EL$7,DW31)+COUNTIF(DS$10:EL$10,DW31)+COUNTIF(DS$13:EL$13,DW31)+COUNTIF(DS$16:EL$16,DW31)+COUNTIF(DS$19:EL$19,DW31)+COUNTIF(DS$22:EL$22,DW31)+COUNTIF(DS$25:EL$25,DW31))/設定!$G22+IFERROR((COUNTIF(DS$6:EL$7,処理!$L9)+COUNTIF(DS$10:EL$10,処理!$L9)+COUNTIF(DS$13:EL$13,処理!$L9)+COUNTIF(DS$16:EL$16,処理!$L9)+COUNTIF(DS$19:EL$19,処理!$L9)+COUNTIF(DS$22:EL$22,処理!$L9)+COUNTIF(DS$25:EL$25,処理!$L9))/処理!$M9,0))","v":""},"",{"$f":"$K$31","v":""},null,{"$f":"IF(LEN(EA31)=0,\"\",(COUNTIF(DS$6:EL$7,EA31)+COUNTIF(DS$10:EL$10,EA31)+COUNTIF(DS$13:EL$13,EA31)+COUNTIF(DS$16:EL$16,EA31)+COUNTIF(DS$19:EL$19,EA31)+COUNTIF(DS$22:EL$22,EA31)+COUNTIF(DS$25:EL$25,EA31))/設定!$J22+IFERROR((COUNTIF(DS$6:EL$7,処理!$L15)+COUNTIF(DS$10:EL$10,処理!$L15)+COUNTIF(DS$13:EL$13,処理!$L15)+COUNTIF(DS$16:EL$16,処理!$L15)+COUNTIF(DS$19:EL$19,処理!$L15)+COUNTIF(DS$22:EL$22,処理!$L15)+COUNTIF(DS$25:EL$25,処理!$L15))/処理!$M15,0))","v":""},"",{"$f":"$O$31","v":""},null,{"$f":"IF(LEN(EE31)=0,\"\",(COUNTIF(DS$6:EL$7,EE31)+COUNTIF(DS$10:EL$10,EE31)+COUNTIF(DS$13:EL$13,EE31)+COUNTIF(DS$16:EL$16,EE31)+COUNTIF(DS$19:EL$19,EE31)+COUNTIF(DS$22:EL$22,EE31)+COUNTIF(DS$25:EL$25,EE31))/設定!$M22+IFERROR((COUNTIF(DS$6:EL$7,処理!$L21)+COUNTIF(DS$10:EL$10,処理!$L21)+COUNTIF(DS$13:EL$13,処理!$L21)+COUNTIF(DS$16:EL$16,処理!$L21)+COUNTIF(DS$19:EL$19,処理!$L21)+COUNTIF(DS$22:EL$22,処理!$L21)+COUNTIF(DS$25:EL$25,処理!$L21))/処理!$M21,0))","v":""},"",{"$f":"$S$31","v":""},null,{"$f":"IF(LEN(EI31)=0,\"\",COUNTIF(DS$6:EL$7,EI31)+COUNTIF(DS$10:EL$10,EI31)+COUNTIF(DS$13:EL$13,EI31)+COUNTIF(DS$16:EL$16,EI31)+COUNTIF(DS$19:EL$19,EI31)+COUNTIF(DS$22:EL$22,EI31)+COUNTIF(DS$25:EL$25,EI31))","v":""},"",{"$f":"$C$31","v":""},null,{"$f":"IF(LEN(EM31)=0,\"\",(COUNTIF(EM$6:FF$7,EM31)+COUNTIF(EM$10:FF$10,EM31)+COUNTIF(EM$13:FF$13,EM31)+COUNTIF(EM$16:FF$16,EM31)+COUNTIF(EM$19:FF$19,EM31)+COUNTIF(EM$22:FF$22,EM31)+COUNTIF(EM$25:FF$25,EM31))/設定!$D22+IFERROR((COUNTIF(EM$6:FF$7,処理!$L3)+COUNTIF(EM$10:FF$10,処理!$L3)+COUNTIF(EM$13:FF$13,処理!$L3)+COUNTIF(EM$16:FF$16,処理!$L3)+COUNTIF(EM$19:FF$19,処理!$L3)+COUNTIF(EM$22:FF$22,処理!$L3)+COUNTIF(EM$25:FF$25,処理!$L3))/処理!$M3,0))","v":""},{"$f":"IF(LEN(EM31)=0,\"\",SUM(DV31,EO31))","v":""},{"$f":"$G$31","v":""},null,{"$f":"IF(LEN(EQ31)=0,\"\",(COUNTIF(EM$6:FF$7,EQ31)+COUNTIF(EM$10:FF$10,EQ31)+COUNTIF(EM$13:FF$13,EQ31)+COUNTIF(EM$16:FF$16,EQ31)+COUNTIF(EM$19:FF$19,EQ31)+COUNTIF(EM$22:FF$22,EQ31)+COUNTIF(EM$25:FF$25,EQ31))/設定!$G22+IFERROR((COUNTIF(EM$6:FF$7,処理!$L9)+COUNTIF(EM$10:FF$10,処理!$L9)+COUNTIF(EM$13:FF$13,処理!$L9)+COUNTIF(EM$16:FF$16,処理!$L9)+COUNTIF(EM$19:FF$19,処理!$L9)+COUNTIF(EM$22:FF$22,処理!$L9)+COUNTIF(EM$25:FF$25,処理!$L9))/処理!$M9,0))","v":""},"",{"$f":"$K$31","v":""},null,{"$f":"IF(LEN(EU31)=0,\"\",(COUNTIF(EM$6:FF$7,EU31)+COUNTIF(EM$10:FF$10,EU31)+COUNTIF(EM$13:FF$13,EU31)+COUNTIF(EM$16:FF$16,EU31)+COUNTIF(EM$19:FF$19,EU31)+COUNTIF(EM$22:FF$22,EU31)+COUNTIF(EM$25:FF$25,EU31))/設定!$J22+IFERROR((COUNTIF(EM$6:FF$7,処理!$L15)+COUNTIF(EM$10:FF$10,処理!$L15)+COUNTIF(EM$13:FF$13,処理!$L15)+COUNTIF(EM$16:FF$16,処理!$L15)+COUNTIF(EM$19:FF$19,処理!$L15)+COUNTIF(EM$22:FF$22,処理!$L15)+COUNTIF(EM$25:FF$25,処理!$L15))/処理!$M15,0))","v":""},"",{"$f":"$O$31","v":""},null,{"$f":"IF(LEN(EY31)=0,\"\",(COUNTIF(EM$6:FF$7,EY31)+COUNTIF(EM$10:FF$10,EY31)+COUNTIF(EM$13:FF$13,EY31)+COUNTIF(EM$16:FF$16,EY31)+COUNTIF(EM$19:FF$19,EY31)+COUNTIF(EM$22:FF$22,EY31)+COUNTIF(EM$25:FF$25,EY31))/設定!$M22+IFERROR((COUNTIF(EM$6:FF$7,処理!$L21)+COUNTIF(EM$10:FF$10,処理!$L21)+COUNTIF(EM$13:FF$13,処理!$L21)+COUNTIF(EM$16:FF$16,処理!$L21)+COUNTIF(EM$19:FF$19,処理!$L21)+COUNTIF(EM$22:FF$22,処理!$L21)+COUNTIF(EM$25:FF$25,処理!$L21))/処理!$M21,0))","v":""},"",{"$f":"$S$31","v":""},null,{"$f":"IF(LEN(FC31)=0,\"\",COUNTIF(EM$6:FF$7,FC31)+COUNTIF(EM$10:FF$10,FC31)+COUNTIF(EM$13:FF$13,FC31)+COUNTIF(EM$16:FF$16,FC31)+COUNTIF(EM$19:FF$19,FC31)+COUNTIF(EM$22:FF$22,FC31)+COUNTIF(EM$25:FF$25,FC31))","v":""},"",{"$f":"$C$31","v":""},null,{"$f":"IF(LEN(FG31)=0,\"\",(COUNTIF(FG$6:FZ$7,FG31)+COUNTIF(FG$10:FZ$10,FG31)+COUNTIF(FG$13:FZ$13,FG31)+COUNTIF(FG$16:FZ$16,FG31)+COUNTIF(FG$19:FZ$19,FG31)+COUNTIF(FG$22:FZ$22,FG31)+COUNTIF(FG$25:FZ$25,FG31))/設定!$D22+IFERROR((COUNTIF(FG$6:FZ$7,処理!$L3)+COUNTIF(FG$10:FZ$10,処理!$L3)+COUNTIF(FG$13:FZ$13,処理!$L3)+COUNTIF(FG$16:FZ$16,処理!$L3)+COUNTIF(FG$19:FZ$19,処理!$L3)+COUNTIF(FG$22:FZ$22,処理!$L3)+COUNTIF(FG$25:FZ$25,処理!$L3))/処理!$M3,0))","v":""},{"$f":"IF(LEN(FG31)=0,\"\",SUM(EP31,FI31))","v":""},{"$f":"$G$31","v":""},null,{"$f":"IF(LEN(FK31)=0,\"\",(COUNTIF(FG$6:FZ$7,FK31)+COUNTIF(FG$10:FZ$10,FK31)+COUNTIF(FG$13:FZ$13,FK31)+COUNTIF(FG$16:FZ$16,FK31)+COUNTIF(FG$19:FZ$19,FK31)+COUNTIF(FG$22:FZ$22,FK31)+COUNTIF(FG$25:FZ$25,FK31))/設定!$G22+IFERROR((COUNTIF(FG$6:FZ$7,処理!$L9)+COUNTIF(FG$10:FZ$10,処理!$L9)+COUNTIF(FG$13:FZ$13,処理!$L9)+COUNTIF(FG$16:FZ$16,処理!$L9)+COUNTIF(FG$19:FZ$19,処理!$L9)+COUNTIF(FG$22:FZ$22,処理!$L9)+COUNTIF(FG$25:FZ$25,処理!$L9))/処理!$M9,0))","v":""},"",{"$f":"$K$31","v":""},null,{"$f":"IF(LEN(FO31)=0,\"\",(COUNTIF(FG$6:FZ$7,FO31)+COUNTIF(FG$10:FZ$10,FO31)+COUNTIF(FG$13:FZ$13,FO31)+COUNTIF(FG$16:FZ$16,FO31)+COUNTIF(FG$19:FZ$19,FO31)+COUNTIF(FG$22:FZ$22,FO31)+COUNTIF(FG$25:FZ$25,FO31))/設定!$J22+IFERROR((COUNTIF(FG$6:FZ$7,処理!$L15)+COUNTIF(FG$10:FZ$10,処理!$L15)+COUNTIF(FG$13:FZ$13,処理!$L15)+COUNTIF(FG$16:FZ$16,処理!$L15)+COUNTIF(FG$19:FZ$19,処理!$L15)+COUNTIF(FG$22:FZ$22,処理!$L15)+COUNTIF(FG$25:FZ$25,処理!$L15))/処理!$M15,0))","v":""},"",{"$f":"$O$31","v":""},null,{"$f":"IF(LEN(FS31)=0,\"\",(COUNTIF(FG$6:FZ$7,FS31)+COUNTIF(FG$10:FZ$10,FS31)+COUNTIF(FG$13:FZ$13,FS31)+COUNTIF(FG$16:FZ$16,FS31)+COUNTIF(FG$19:FZ$19,FS31)+COUNTIF(FG$22:FZ$22,FS31)+COUNTIF(FG$25:FZ$25,FS31))/設定!$M22+IFERROR((COUNTIF(FG$6:FZ$7,処理!$L21)+COUNTIF(FG$10:FZ$10,処理!$L21)+COUNTIF(FG$13:FZ$13,処理!$L21)+COUNTIF(FG$16:FZ$16,処理!$L21)+COUNTIF(FG$19:FZ$19,処理!$L21)+COUNTIF(FG$22:FZ$22,処理!$L21)+COUNTIF(FG$25:FZ$25,処理!$L21))/処理!$M21,0))","v":""},"",{"$f":"$S$31","v":""},null,{"$f":"IF(LEN(FW31)=0,\"\",COUNTIF(FG$6:FZ$7,FW31)+COUNTIF(FG$10:FZ$10,FW31)+COUNTIF(FG$13:FZ$13,FW31)+COUNTIF(FG$16:FZ$16,FW31)+COUNTIF(FG$19:FZ$19,FW31)+COUNTIF(FG$22:FZ$22,FW31)+COUNTIF(FG$25:FZ$25,FW31))","v":""},"",{"$f":"$C$31","v":""},null,{"$f":"IF(LEN(GA31)=0,\"\",(COUNTIF(GA$6:GT$7,GA31)+COUNTIF(GA$10:GT$10,GA31)+COUNTIF(GA$13:GT$13,GA31)+COUNTIF(GA$16:GT$16,GA31)+COUNTIF(GA$19:GT$19,GA31)+COUNTIF(GA$22:GT$22,GA31)+COUNTIF(GA$25:GT$25,GA31))/設定!$D22+IFERROR((COUNTIF(GA$6:GT$7,処理!$L3)+COUNTIF(GA$10:GT$10,処理!$L3)+COUNTIF(GA$13:GT$13,処理!$L3)+COUNTIF(GA$16:GT$16,処理!$L3)+COUNTIF(GA$19:GT$19,処理!$L3)+COUNTIF(GA$22:GT$22,処理!$L3)+COUNTIF(GA$25:GT$25,処理!$L3))/処理!$M3,0))","v":""},{"$f":"IF(LEN(GA31)=0,\"\",SUM(FJ31,GC31))","v":""},{"$f":"$G$31","v":""},null,{"$f":"IF(LEN(GE31)=0,\"\",(COUNTIF(GA$6:GT$7,GE31)+COUNTIF(GA$10:GT$10,GE31)+COUNTIF(GA$13:GT$13,GE31)+COUNTIF(GA$16:GT$16,GE31)+COUNTIF(GA$19:GT$19,GE31)+COUNTIF(GA$22:GT$22,GE31)+COUNTIF(GA$25:GT$25,GE31))/設定!$G22+IFERROR((COUNTIF(GA$6:GT$7,処理!$L9)+COUNTIF(GA$10:GT$10,処理!$L9)+COUNTIF(GA$13:GT$13,処理!$L9)+COUNTIF(GA$16:GT$16,処理!$L9)+COUNTIF(GA$19:GT$19,処理!$L9)+COUNTIF(GA$22:GT$22,処理!$L9)+COUNTIF(GA$25:GT$25,処理!$L9))/処理!$M9,0))","v":""},"",{"$f":"$K$31","v":""},null,{"$f":"IF(LEN(GI31)=0,\"\",(COUNTIF(GA$6:GT$7,GI31)+COUNTIF(GA$10:GT$10,GI31)+COUNTIF(GA$13:GT$13,GI31)+COUNTIF(GA$16:GT$16,GI31)+COUNTIF(GA$19:GT$19,GI31)+COUNTIF(GA$22:GT$22,GI31)+COUNTIF(GA$25:GT$25,GI31))/設定!$J22+IFERROR((COUNTIF(GA$6:GT$7,処理!$L15)+COUNTIF(GA$10:GT$10,処理!$L15)+COUNTIF(GA$13:GT$13,処理!$L15)+COUNTIF(GA$16:GT$16,処理!$L15)+COUNTIF(GA$19:GT$19,処理!$L15)+COUNTIF(GA$22:GT$22,処理!$L15)+COUNTIF(GA$25:GT$25,処理!$L15))/処理!$M15,0))","v":""},"",{"$f":"$O$31","v":""},null,{"$f":"IF(LEN(GM31)=0,\"\",(COUNTIF(GA$6:GT$7,GM31)+COUNTIF(GA$10:GT$10,GM31)+COUNTIF(GA$13:GT$13,GM31)+COUNTIF(GA$16:GT$16,GM31)+COUNTIF(GA$19:GT$19,GM31)+COUNTIF(GA$22:GT$22,GM31)+COUNTIF(GA$25:GT$25,GM31))/設定!$M22+IFERROR((COUNTIF(GA$6:GT$7,処理!$L21)+COUNTIF(GA$10:GT$10,処理!$L21)+COUNTIF(GA$13:GT$13,処理!$L21)+COUNTIF(GA$16:GT$16,処理!$L21)+COUNTIF(GA$19:GT$19,処理!$L21)+COUNTIF(GA$22:GT$22,処理!$L21)+COUNTIF(GA$25:GT$25,処理!$L21))/処理!$M21,0))","v":""},"",{"$f":"$S$31","v":""},null,{"$f":"IF(LEN(GQ31)=0,\"\",COUNTIF(GA$6:GT$7,GQ31)+COUNTIF(GA$10:GT$10,GQ31)+COUNTIF(GA$13:GT$13,GQ31)+COUNTIF(GA$16:GT$16,GQ31)+COUNTIF(GA$19:GT$19,GQ31)+COUNTIF(GA$22:GT$22,GQ31)+COUNTIF(GA$25:GT$25,GQ31))","v":""},"",{"$f":"$C$31","v":""},null,{"$f":"IF(LEN(GU31)=0,\"\",(COUNTIF(GU$6:HN$7,GU31)+COUNTIF(GU$10:HN$10,GU31)+COUNTIF(GU$13:HN$13,GU31)+COUNTIF(GU$16:HN$16,GU31)+COUNTIF(GU$19:HN$19,GU31)+COUNTIF(GU$22:HN$22,GU31)+COUNTIF(GU$25:HN$25,GU31))/設定!$D22+IFERROR((COUNTIF(GU$6:HN$7,処理!$L3)+COUNTIF(GU$10:HN$10,処理!$L3)+COUNTIF(GU$13:HN$13,処理!$L3)+COUNTIF(GU$16:HN$16,処理!$L3)+COUNTIF(GU$19:HN$19,処理!$L3)+COUNTIF(GU$22:HN$22,処理!$L3)+COUNTIF(GU$25:HN$25,処理!$L3))/処理!$M3,0))","v":""},{"$f":"IF(LEN(GU31)=0,\"\",SUM(GD31,GW31))","v":""},{"$f":"$G$31","v":""},null,{"$f":"IF(LEN(GY31)=0,\"\",(COUNTIF(GU$6:HN$7,GY31)+COUNTIF(GU$10:HN$10,GY31)+COUNTIF(GU$13:HN$13,GY31)+COUNTIF(GU$16:HN$16,GY31)+COUNTIF(GU$19:HN$19,GY31)+COUNTIF(GU$22:HN$22,GY31)+COUNTIF(GU$25:HN$25,GY31))/設定!$G22+IFERROR((COUNTIF(GU$6:HN$7,処理!$L9)+COUNTIF(GU$10:HN$10,処理!$L9)+COUNTIF(GU$13:HN$13,処理!$L9)+COUNTIF(GU$16:HN$16,処理!$L9)+COUNTIF(GU$19:HN$19,処理!$L9)+COUNTIF(GU$22:HN$22,処理!$L9)+COUNTIF(GU$25:HN$25,処理!$L9))/処理!$M9,0))","v":""},"",{"$f":"$K$31","v":""},null,{"$f":"IF(LEN(HC31)=0,\"\",(COUNTIF(GU$6:HN$7,HC31)+COUNTIF(GU$10:HN$10,HC31)+COUNTIF(GU$13:HN$13,HC31)+COUNTIF(GU$16:HN$16,HC31)+COUNTIF(GU$19:HN$19,HC31)+COUNTIF(GU$22:HN$22,HC31)+COUNTIF(GU$25:HN$25,HC31))/設定!$J22+IFERROR((COUNTIF(GU$6:HN$7,処理!$L15)+COUNTIF(GU$10:HN$10,処理!$L15)+COUNTIF(GU$13:HN$13,処理!$L15)+COUNTIF(GU$16:HN$16,処理!$L15)+COUNTIF(GU$19:HN$19,処理!$L15)+COUNTIF(GU$22:HN$22,処理!$L15)+COUNTIF(GU$25:HN$25,処理!$L15))/処理!$M15,0))","v":""},"",{"$f":"$O$31","v":""},null,{"$f":"IF(LEN(HG31)=0,\"\",(COUNTIF(GU$6:HN$7,HG31)+COUNTIF(GU$10:HN$10,HG31)+COUNTIF(GU$13:HN$13,HG31)+COUNTIF(GU$16:HN$16,HG31)+COUNTIF(GU$19:HN$19,HG31)+COUNTIF(GU$22:HN$22,HG31)+COUNTIF(GU$25:HN$25,HG31))/設定!$M22+IFERROR((COUNTIF(GU$6:HN$7,処理!$L21)+COUNTIF(GU$10:HN$10,処理!$L21)+COUNTIF(GU$13:HN$13,処理!$L21)+COUNTIF(GU$16:HN$16,処理!$L21)+COUNTIF(GU$19:HN$19,処理!$L21)+COUNTIF(GU$22:HN$22,処理!$L21)+COUNTIF(GU$25:HN$25,処理!$L21))/処理!$M21,0))","v":""},"",{"$f":"$S$31","v":""},null,{"$f":"IF(LEN(HK31)=0,\"\",COUNTIF(GU$6:HN$7,HK31)+COUNTIF(GU$10:HN$10,HK31)+COUNTIF(GU$13:HN$13,HK31)+COUNTIF(GU$16:HN$16,HK31)+COUNTIF(GU$19:HN$19,HK31)+COUNTIF(GU$22:HN$22,HK31)+COUNTIF(GU$25:HN$25,HK31))","v":""},"",{"$f":"$C$31","v":""},null,{"$f":"IF(LEN(HO31)=0,\"\",(COUNTIF(HO$6:IH$7,HO31)+COUNTIF(HO$10:IH$10,HO31)+COUNTIF(HO$13:IH$13,HO31)+COUNTIF(HO$16:IH$16,HO31)+COUNTIF(HO$19:IH$19,HO31)+COUNTIF(HO$22:IH$22,HO31)+COUNTIF(HO$25:IH$25,HO31))/設定!$D22+IFERROR((COUNTIF(HO$6:IH$7,処理!$L3)+COUNTIF(HO$10:IH$10,処理!$L3)+COUNTIF(HO$13:IH$13,処理!$L3)+COUNTIF(HO$16:IH$16,処理!$L3)+COUNTIF(HO$19:IH$19,処理!$L3)+COUNTIF(HO$22:IH$22,処理!$L3)+COUNTIF(HO$25:IH$25,処理!$L3))/処理!$M3,0))","v":""},{"$f":"IF(LEN(HO31)=0,\"\",SUM(GX31,HQ31))","v":""},{"$f":"$G$31","v":""},null,{"$f":"IF(LEN(HS31)=0,\"\",(COUNTIF(HO$6:IH$7,HS31)+COUNTIF(HO$10:IH$10,HS31)+COUNTIF(HO$13:IH$13,HS31)+COUNTIF(HO$16:IH$16,HS31)+COUNTIF(HO$19:IH$19,HS31)+COUNTIF(HO$22:IH$22,HS31)+COUNTIF(HO$25:IH$25,HS31))/設定!$G22+IFERROR((COUNTIF(HO$6:IH$7,処理!$L9)+COUNTIF(HO$10:IH$10,処理!$L9)+COUNTIF(HO$13:IH$13,処理!$L9)+COUNTIF(HO$16:IH$16,処理!$L9)+COUNTIF(HO$19:IH$19,処理!$L9)+COUNTIF(HO$22:IH$22,処理!$L9)+COUNTIF(HO$25:IH$25,処理!$L9))/処理!$M9,0))","v":""},"",{"$f":"$K$31","v":""},null,{"$f":"IF(LEN(HW31)=0,\"\",(COUNTIF(HO$6:IH$7,HW31)+COUNTIF(HO$10:IH$10,HW31)+COUNTIF(HO$13:IH$13,HW31)+COUNTIF(HO$16:IH$16,HW31)+COUNTIF(HO$19:IH$19,HW31)+COUNTIF(HO$22:IH$22,HW31)+COUNTIF(HO$25:IH$25,HW31))/設定!$J22+IFERROR((COUNTIF(HO$6:IH$7,処理!$L15)+COUNTIF(HO$10:IH$10,処理!$L15)+COUNTIF(HO$13:IH$13,処理!$L15)+COUNTIF(HO$16:IH$16,処理!$L15)+COUNTIF(HO$19:IH$19,処理!$L15)+COUNTIF(HO$22:IH$22,処理!$L15)+COUNTIF(HO$25:IH$25,処理!$L15))/処理!$M15,0))","v":""},"",{"$f":"$O$31","v":""},null,{"$f":"IF(LEN(IA31)=0,\"\",(COUNTIF(HO$6:IH$7,IA31)+COUNTIF(HO$10:IH$10,IA31)+COUNTIF(HO$13:IH$13,IA31)+COUNTIF(HO$16:IH$16,IA31)+COUNTIF(HO$19:IH$19,IA31)+COUNTIF(HO$22:IH$22,IA31)+COUNTIF(HO$25:IH$25,IA31))/設定!$M22+IFERROR((COUNTIF(HO$6:IH$7,処理!$L21)+COUNTIF(HO$10:IH$10,処理!$L21)+COUNTIF(HO$13:IH$13,処理!$L21)+COUNTIF(HO$16:IH$16,処理!$L21)+COUNTIF(HO$19:IH$19,処理!$L21)+COUNTIF(HO$22:IH$22,処理!$L21)+COUNTIF(HO$25:IH$25,処理!$L21))/処理!$M21,0))","v":""},"",{"$f":"$S$31","v":""},null,{"$f":"IF(LEN(IE31)=0,\"\",COUNTIF(HO$6:IH$7,IE31)+COUNTIF(HO$10:IH$10,IE31)+COUNTIF(HO$13:IH$13,IE31)+COUNTIF(HO$16:IH$16,IE31)+COUNTIF(HO$19:IH$19,IE31)+COUNTIF(HO$22:IH$22,IE31)+COUNTIF(HO$25:IH$25,IE31))","v":""},"",{"$f":"$C$31","v":""},null,{"$f":"IF(LEN(II31)=0,\"\",(COUNTIF(II$6:JB$7,II31)+COUNTIF(II$10:JB$10,II31)+COUNTIF(II$13:JB$13,II31)+COUNTIF(II$16:JB$16,II31)+COUNTIF(II$19:JB$19,II31)+COUNTIF(II$22:JB$22,II31)+COUNTIF(II$25:JB$25,II31))/設定!$D22+IFERROR((COUNTIF(II$6:JB$7,処理!$L3)+COUNTIF(II$10:JB$10,処理!$L3)+COUNTIF(II$13:JB$13,処理!$L3)+COUNTIF(II$16:JB$16,処理!$L3)+COUNTIF(II$19:JB$19,処理!$L3)+COUNTIF(II$22:JB$22,処理!$L3)+COUNTIF(II$25:JB$25,処理!$L3))/処理!$M3,0))","v":""},{"$f":"IF(LEN(II31)=0,\"\",SUM(HR31,IK31))","v":""},{"$f":"$G$31","v":""},null,{"$f":"IF(LEN(IM31)=0,\"\",(COUNTIF(II$6:JB$7,IM31)+COUNTIF(II$10:JB$10,IM31)+COUNTIF(II$13:JB$13,IM31)+COUNTIF(II$16:JB$16,IM31)+COUNTIF(II$19:JB$19,IM31)+COUNTIF(II$22:JB$22,IM31)+COUNTIF(II$25:JB$25,IM31))/設定!$G22+IFERROR((COUNTIF(II$6:JB$7,処理!$L9)+COUNTIF(II$10:JB$10,処理!$L9)+COUNTIF(II$13:JB$13,処理!$L9)+COUNTIF(II$16:JB$16,処理!$L9)+COUNTIF(II$19:JB$19,処理!$L9)+COUNTIF(II$22:JB$22,処理!$L9)+COUNTIF(II$25:JB$25,処理!$L9))/処理!$M9,0))","v":""},"",{"$f":"$K$31","v":""},null,{"$f":"IF(LEN(IQ31)=0,\"\",(COUNTIF(II$6:JB$7,IQ31)+COUNTIF(II$10:JB$10,IQ31)+COUNTIF(II$13:JB$13,IQ31)+COUNTIF(II$16:JB$16,IQ31)+COUNTIF(II$19:JB$19,IQ31)+COUNTIF(II$22:JB$22,IQ31)+COUNTIF(II$25:JB$25,IQ31))/設定!$J22+IFERROR((COUNTIF(II$6:JB$7,処理!$L15)+COUNTIF(II$10:JB$10,処理!$L15)+COUNTIF(II$13:JB$13,処理!$L15)+COUNTIF(II$16:JB$16,処理!$L15)+COUNTIF(II$19:JB$19,処理!$L15)+COUNTIF(II$22:JB$22,処理!$L15)+COUNTIF(II$25:JB$25,処理!$L15))/処理!$M15,0))","v":""},"",{"$f":"$O$31","v":""},null,{"$f":"IF(LEN(IU31)=0,\"\",(COUNTIF(II$6:JB$7,IU31)+COUNTIF(II$10:JB$10,IU31)+COUNTIF(II$13:JB$13,IU31)+COUNTIF(II$16:JB$16,IU31)+COUNTIF(II$19:JB$19,IU31)+COUNTIF(II$22:JB$22,IU31)+COUNTIF(II$25:JB$25,IU31))/設定!$M22+IFERROR((COUNTIF(II$6:JB$7,処理!$L21)+COUNTIF(II$10:JB$10,処理!$L21)+COUNTIF(II$13:JB$13,処理!$L21)+COUNTIF(II$16:JB$16,処理!$L21)+COUNTIF(II$19:JB$19,処理!$L21)+COUNTIF(II$22:JB$22,処理!$L21)+COUNTIF(II$25:JB$25,処理!$L21))/処理!$M21,0))","v":""},"",{"$f":"$S$31","v":""},null,{"$f":"IF(LEN(IY31)=0,\"\",COUNTIF(II$6:JB$7,IY31)+COUNTIF(II$10:JB$10,IY31)+COUNTIF(II$13:JB$13,IY31)+COUNTIF(II$16:JB$16,IY31)+COUNTIF(II$19:JB$19,IY31)+COUNTIF(II$22:JB$22,IY31)+COUNTIF(II$25:JB$25,IY31))","v":""},""]
[null,null,{"$f":"IF(COUNTIF(処理!$J$2:$J$25,2)>0,処理!H4,\"\")","v":""},null,{"$f":"IF(LEN(C32)=0,\"\",(COUNTIF(C$6:V$7,C32)+COUNTIF(C$10:V$10,C32)+COUNTIF(C$13:V$13,C32)+COUNTIF(C$16:V$16,C32)+COUNTIF(C$19:V$19,C32)+COUNTIF(C$22:V$22,C32)+COUNTIF(C$25:V$25,C32))/設定!$D23+IFERROR((COUNTIF(C$6:V$7,処理!$L4)+COUNTIF(C$10:V$10,処理!$L4)+COUNTIF(C$13:V$13,処理!$L4)+COUNTIF(C$16:V$16,処理!$L4)+COUNTIF(C$19:V$19,処理!$L4)+COUNTIF(C$22:V$22,処理!$L4)+COUNTIF(C$25:V$25,処理!$L4))/処理!$M4,0))","v":""},"",{"$f":"IF(COUNTIF(処理!$J$2:$J$25,8)>0,処理!H10,\"\")","v":""},null,{"$f":"IF(LEN(G32)=0,\"\",(COUNTIF(C$6:V$7,G32)+COUNTIF(C$10:V$10,G32)+COUNTIF(C$13:V$13,G32)+COUNTIF(C$16:V$16,G32)+COUNTIF(C$19:V$19,G32)+COUNTIF(C$22:V$22,G32)+COUNTIF(C$25:V$25,G32))/設定!$G23+IFERROR((COUNTIF(C$6:V$7,処理!$L10)+COUNTIF(C$10:V$10,処理!$L10)+COUNTIF(C$13:V$13,処理!$L10)+COUNTIF(C$16:V$16,処理!$L10)+COUNTIF(C$19:V$19,処理!$L10)+COUNTIF(C$22:V$22,処理!$L10)+COUNTIF(C$25:V$25,処理!$L10))/処理!$M10,0))","v":""},"",{"$f":"IF(COUNTIF(処理!$J$2:$J$25,14)>0,処理!H16,\"\")","v":""},null,{"$f":"IF(LEN(K32)=0,\"\",(COUNTIF(C$6:V$7,K32)+COUNTIF(C$10:V$10,K32)+COUNTIF(C$13:V$13,K32)+COUNTIF(C$16:V$16,K32)+COUNTIF(C$19:V$19,K32)+COUNTIF(C$22:V$22,K32)+COUNTIF(C$25:V$25,K32))/設定!$J23+IFERROR((COUNTIF(C$6:V$7,処理!$L16)+COUNTIF(C$10:V$10,処理!$L16)+COUNTIF(C$13:V$13,処理!$L16)+COUNTIF(C$16:V$16,処理!$L16)+COUNTIF(C$19:V$19,処理!$L16)+COUNTIF(C$22:V$22,処理!$L16)+COUNTIF(C$25:V$25,処理!$L16))/処理!$M16,0))","v":""},"",{"$f":"IF(COUNTIF(処理!$J$2:$J$25,20)>0,処理!H22,\"\")","v":""},null,{"$f":"IF(LEN(O32)=0,\"\",(COUNTIF(C$6:V$7,O32)+COUNTIF(C$10:V$10,O32)+COUNTIF(C$13:V$13,O32)+COUNTIF(C$16:V$16,O32)+COUNTIF(C$19:V$19,O32)+COUNTIF(C$22:V$22,O32)+COUNTIF(C$25:V$25,O32))/設定!$M23+IFERROR((COUNTIF(C$6:V$7,処理!$L22)+COUNTIF(C$10:V$10,処理!$L22)+COUNTIF(C$13:V$13,処理!$L22)+COUNTIF(C$16:V$16,処理!$L22)+COUNTIF(C$19:V$19,処理!$L22)+COUNTIF(C$22:V$22,処理!$L22)+COUNTIF(C$25:V$25,処理!$L22))/処理!$M22,0))","v":""},"",{"$f":"処理!H28&\"\"","v":""},null,{"$f":"IF(LEN(S32)=0,\"\",COUNTIF(C$6:V$7,S32)+COUNTIF(C$10:V$10,S32)+COUNTIF(C$13:V$13,S32)+COUNTIF(C$16:V$16,S32)+COUNTIF(C$19:V$19,S32)+COUNTIF(C$22:V$22,S32)+COUNTIF(C$25:V$25,S32))","v":""},"",{"$f":"$C$32","v":""},null,{"$f":"IF(LEN(W32)=0,\"\",(COUNTIF(W$6:AP$7,W32)+COUNTIF(W$10:AP$10,W32)+COUNTIF(W$13:AP$13,W32)+COUNTIF(W$16:AP$16,W32)+COUNTIF(W$19:AP$19,W32)+COUNTIF(W$22:AP$22,W32)+COUNTIF(W$25:AP$25,W32))/設定!$D23+IFERROR((COUNTIF(W$6:AP$7,処理!$L4)+COUNTIF(W$10:AP$10,処理!$L4)+COUNTIF(W$13:AP$13,処理!$L4)+COUNTIF(W$16:AP$16,処理!$L4)+COUNTIF(W$19:AP$19,処理!$L4)+COUNTIF(W$22:AP$22,処理!$L4)+COUNTIF(W$25:AP$25,処理!$L4))/処理!$M4,0))","v":""},"",{"$f":"$G$32","v":""},null,{"$f":"IF(LEN(AA32)=0,\"\",(COUNTIF(W$6:AP$7,AA32)+COUNTIF(W$10:AP$10,AA32)+COUNTIF(W$13:AP$13,AA32)+COUNTIF(W$16:AP$16,AA32)+COUNTIF(W$19:AP$19,AA32)+COUNTIF(W$22:AP$22,AA32)+COUNTIF(W$25:AP$25,AA32))/設定!$G23+IFERROR((COUNTIF(W$6:AP$7,処理!$L10)+COUNTIF(W$10:AP$10,処理!$L10)+COUNTIF(W$13:AP$13,処理!$L10)+COUNTIF(W$16:AP$16,処理!$L10)+COUNTIF(W$19:AP$19,処理!$L10)+COUNTIF(W$22:AP$22,処理!$L10)+COUNTIF(W$25:AP$25,処理!$L10))/処理!$M10,0))","v":""},"",{"$f":"$K$32","v":""},null,{"$f":"IF(LEN(AE32)=0,\"\",(COUNTIF(W$6:AP$7,AE32)+COUNTIF(W$10:AP$10,AE32)+COUNTIF(W$13:AP$13,AE32)+COUNTIF(W$16:AP$16,AE32)+COUNTIF(W$19:AP$19,AE32)+COUNTIF(W$22:AP$22,AE32)+COUNTIF(W$25:AP$25,AE32))/設定!$J23+IFERROR((COUNTIF(W$6:AP$7,処理!$L16)+COUNTIF(W$10:AP$10,処理!$L16)+COUNTIF(W$13:AP$13,処理!$L16)+COUNTIF(W$16:AP$16,処理!$L16)+COUNTIF(W$19:AP$19,処理!$L16)+COUNTIF(W$22:AP$22,処理!$L16)+COUNTIF(W$25:AP$25,処理!$L16))/処理!$M16,0))","v":""},"",{"$f":"$O$32","v":""},null,{"$f":"IF(LEN(AI32)=0,\"\",(COUNTIF(W$6:AP$7,AI32)+COUNTIF(W$10:AP$10,AI32)+COUNTIF(W$13:AP$13,AI32)+COUNTIF(W$16:AP$16,AI32)+COUNTIF(W$19:AP$19,AI32)+COUNTIF(W$22:AP$22,AI32)+COUNTIF(W$25:AP$25,AI32))/設定!$M23+IFERROR((COUNTIF(W$6:AP$7,処理!$L22)+COUNTIF(W$10:AP$10,処理!$L22)+COUNTIF(W$13:AP$13,処理!$L22)+COUNTIF(W$16:AP$16,処理!$L22)+COUNTIF(W$19:AP$19,処理!$L22)+COUNTIF(W$22:AP$22,処理!$L22)+COUNTIF(W$25:AP$25,処理!$L22))/処理!$M22,0))","v":""},"",{"$f":"$S$32","v":""},null,{"$f":"IF(LEN(AM32)=0,\"\",COUNTIF(W$6:AP$7,AM32)+COUNTIF(W$10:AP$10,AM32)+COUNTIF(W$13:AP$13,AM32)+COUNTIF(W$16:AP$16,AM32)+COUNTIF(W$19:AP$19,AM32)+COUNTIF(W$22:AP$22,AM32)+COUNTIF(W$25:AP$25,AM32))","v":""},"",{"$f":"$C$32","v":""},null,{"$f":"IF(LEN(AQ32)=0,\"\",(COUNTIF(AQ$6:BJ$7,AQ32)+COUNTIF(AQ$10:BJ$10,AQ32)+COUNTIF(AQ$13:BJ$13,AQ32)+COUNTIF(AQ$16:BJ$16,AQ32)+COUNTIF(AQ$19:BJ$19,AQ32)+COUNTIF(AQ$22:BJ$22,AQ32)+COUNTIF(AQ$25:BJ$25,AQ32))/設定!$D23+IFERROR((COUNTIF(AQ$6:BJ$7,処理!$L4)+COUNTIF(AQ$10:BJ$10,処理!$L4)+COUNTIF(AQ$13:BJ$13,処理!$L4)+COUNTIF(AQ$16:BJ$16,処理!$L4)+COUNTIF(AQ$19:BJ$19,処理!$L4)+COUNTIF(AQ$22:BJ$22,処理!$L4)+COUNTIF(AQ$25:BJ$25,処理!$L4))/処理!$M4,0))","v":""},"",{"$f":"$G$32","v":""},null,{"$f":"IF(LEN(AU32)=0,\"\",(COUNTIF(AQ$6:BJ$7,AU32)+COUNTIF(AQ$10:BJ$10,AU32)+COUNTIF(AQ$13:BJ$13,AU32)+COUNTIF(AQ$16:BJ$16,AU32)+COUNTIF(AQ$19:BJ$19,AU32)+COUNTIF(AQ$22:BJ$22,AU32)+COUNTIF(AQ$25:BJ$25,AU32))/設定!$G23+IFERROR((COUNTIF(AQ$6:BJ$7,処理!$L10)+COUNTIF(AQ$10:BJ$10,処理!$L10)+COUNTIF(AQ$13:BJ$13,処理!$L10)+COUNTIF(AQ$16:BJ$16,処理!$L10)+COUNTIF(AQ$19:BJ$19,処理!$L10)+COUNTIF(AQ$22:BJ$22,処理!$L10)+COUNTIF(AQ$25:BJ$25,処理!$L10))/処理!$M10,0))","v":""},"",{"$f":"$K$32","v":""},null,{"$f":"IF(LEN(AY32)=0,\"\",(COUNTIF(AQ$6:BJ$7,AY32)+COUNTIF(AQ$10:BJ$10,AY32)+COUNTIF(AQ$13:BJ$13,AY32)+COUNTIF(AQ$16:BJ$16,AY32)+COUNTIF(AQ$19:BJ$19,AY32)+COUNTIF(AQ$22:BJ$22,AY32)+COUNTIF(AQ$25:BJ$25,AY32))/設定!$J23+IFERROR((COUNTIF(AQ$6:BJ$7,処理!$L16)+COUNTIF(AQ$10:BJ$10,処理!$L16)+COUNTIF(AQ$13:BJ$13,処理!$L16)+COUNTIF(AQ$16:BJ$16,処理!$L16)+COUNTIF(AQ$19:BJ$19,処理!$L16)+COUNTIF(AQ$22:BJ$22,処理!$L16)+COUNTIF(AQ$25:BJ$25,処理!$L16))/処理!$M16,0))","v":""},"",{"$f":"$O$32","v":""},null,{"$f":"IF(LEN(BC32)=0,\"\",(COUNTIF(AQ$6:BJ$7,BC32)+COUNTIF(AQ$10:BJ$10,BC32)+COUNTIF(AQ$13:BJ$13,BC32)+COUNTIF(AQ$16:BJ$16,BC32)+COUNTIF(AQ$19:BJ$19,BC32)+COUNTIF(AQ$22:BJ$22,BC32)+COUNTIF(AQ$25:BJ$25,BC32))/設定!$M23+IFERROR((COUNTIF(AQ$6:BJ$7,処理!$L22)+COUNTIF(AQ$10:BJ$10,処理!$L22)+COUNTIF(AQ$13:BJ$13,処理!$L22)+COUNTIF(AQ$16:BJ$16,処理!$L22)+COUNTIF(AQ$19:BJ$19,処理!$L22)+COUNTIF(AQ$22:BJ$22,処理!$L22)+COUNTIF(AQ$25:BJ$25,処理!$L22))/処理!$M22,0))","v":""},"",{"$f":"$S$32","v":""},null,{"$f":"IF(LEN(BG32)=0,\"\",COUNTIF(AQ$6:BJ$7,BG32)+COUNTIF(AQ$10:BJ$10,BG32)+COUNTIF(AQ$13:BJ$13,BG32)+COUNTIF(AQ$16:BJ$16,BG32)+COUNTIF(AQ$19:BJ$19,BG32)+COUNTIF(AQ$22:BJ$22,BG32)+COUNTIF(AQ$25:BJ$25,BG32))","v":""},"",{"$f":"$C$32","v":""},null,{"$f":"IF(LEN(BK32)=0,\"\",(COUNTIF(BK$6:CD$7,BK32)+COUNTIF(BK$10:CD$10,BK32)+COUNTIF(BK$13:CD$13,BK32)+COUNTIF(BK$16:CD$16,BK32)+COUNTIF(BK$19:CD$19,BK32)+COUNTIF(BK$22:CD$22,BK32)+COUNTIF(BK$25:CD$25,BK32))/設定!$D23+IFERROR((COUNTIF(BK$6:CD$7,処理!$L4)+COUNTIF(BK$10:CD$10,処理!$L4)+COUNTIF(BK$13:CD$13,処理!$L4)+COUNTIF(BK$16:CD$16,処理!$L4)+COUNTIF(BK$19:CD$19,処理!$L4)+COUNTIF(BK$22:CD$22,処理!$L4)+COUNTIF(BK$25:CD$25,処理!$L4))/処理!$M4,0))","v":""},"",{"$f":"$G$32","v":""},null,{"$f":"IF(LEN(BO32)=0,\"\",(COUNTIF(BK$6:CD$7,BO32)+COUNTIF(BK$10:CD$10,BO32)+COUNTIF(BK$13:CD$13,BO32)+COUNTIF(BK$16:CD$16,BO32)+COUNTIF(BK$19:CD$19,BO32)+COUNTIF(BK$22:CD$22,BO32)+COUNTIF(BK$25:CD$25,BO32))/設定!$G23+IFERROR((COUNTIF(BK$6:CD$7,処理!$L10)+COUNTIF(BK$10:CD$10,処理!$L10)+COUNTIF(BK$13:CD$13,処理!$L10)+COUNTIF(BK$16:CD$16,処理!$L10)+COUNTIF(BK$19:CD$19,処理!$L10)+COUNTIF(BK$22:CD$22,処理!$L10)+COUNTIF(BK$25:CD$25,処理!$L10))/処理!$M10,0))","v":""},"",{"$f":"$K$32","v":""},null,{"$f":"IF(LEN(BS32)=0,\"\",(COUNTIF(BK$6:CD$7,BS32)+COUNTIF(BK$10:CD$10,BS32)+COUNTIF(BK$13:CD$13,BS32)+COUNTIF(BK$16:CD$16,BS32)+COUNTIF(BK$19:CD$19,BS32)+COUNTIF(BK$22:CD$22,BS32)+COUNTIF(BK$25:CD$25,BS32))/設定!$J23+IFERROR((COUNTIF(BK$6:CD$7,処理!$L16)+COUNTIF(BK$10:CD$10,処理!$L16)+COUNTIF(BK$13:CD$13,処理!$L16)+COUNTIF(BK$16:CD$16,処理!$L16)+COUNTIF(BK$19:CD$19,処理!$L16)+COUNTIF(BK$22:CD$22,処理!$L16)+COUNTIF(BK$25:CD$25,処理!$L16))/処理!$M16,0))","v":""},"",{"$f":"$O$32","v":""},null,{"$f":"IF(LEN(BW32)=0,\"\",(COUNTIF(BK$6:CD$7,BW32)+COUNTIF(BK$10:CD$10,BW32)+COUNTIF(BK$13:CD$13,BW32)+COUNTIF(BK$16:CD$16,BW32)+COUNTIF(BK$19:CD$19,BW32)+COUNTIF(BK$22:CD$22,BW32)+COUNTIF(BK$25:CD$25,BW32))/設定!$M23+IFERROR((COUNTIF(BK$6:CD$7,処理!$L22)+COUNTIF(BK$10:CD$10,処理!$L22)+COUNTIF(BK$13:CD$13,処理!$L22)+COUNTIF(BK$16:CD$16,処理!$L22)+COUNTIF(BK$19:CD$19,処理!$L22)+COUNTIF(BK$22:CD$22,処理!$L22)+COUNTIF(BK$25:CD$25,処理!$L22))/処理!$M22,0))","v":""},"",{"$f":"$S$32","v":""},null,{"$f":"IF(LEN(CA32)=0,\"\",COUNTIF(BK$6:CD$7,CA32)+COUNTIF(BK$10:CD$10,CA32)+COUNTIF(BK$13:CD$13,CA32)+COUNTIF(BK$16:CD$16,CA32)+COUNTIF(BK$19:CD$19,CA32)+COUNTIF(BK$22:CD$22,CA32)+COUNTIF(BK$25:CD$25,CA32))","v":""},"",{"$f":"$C$32","v":""},null,{"$f":"IF(LEN(CE32)=0,\"\",(COUNTIF(CE$6:CX$7,CE32)+COUNTIF(CE$10:CX$10,CE32)+COUNTIF(CE$13:CX$13,CE32)+COUNTIF(CE$16:CX$16,CE32)+COUNTIF(CE$19:CX$19,CE32)+COUNTIF(CE$22:CX$22,CE32)+COUNTIF(CE$25:CX$25,CE32))/設定!$D23+IFERROR((COUNTIF(CE$6:CX$7,処理!$L4)+COUNTIF(CE$10:CX$10,処理!$L4)+COUNTIF(CE$13:CX$13,処理!$L4)+COUNTIF(CE$16:CX$16,処理!$L4)+COUNTIF(CE$19:CX$19,処理!$L4)+COUNTIF(CE$22:CX$22,処理!$L4)+COUNTIF(CE$25:CX$25,処理!$L4))/処理!$M4,0))","v":""},"",{"$f":"$G$32","v":""},null,{"$f":"IF(LEN(CI32)=0,\"\",(COUNTIF(CE$6:CX$7,CI32)+COUNTIF(CE$10:CX$10,CI32)+COUNTIF(CE$13:CX$13,CI32)+COUNTIF(CE$16:CX$16,CI32)+COUNTIF(CE$19:CX$19,CI32)+COUNTIF(CE$22:CX$22,CI32)+COUNTIF(CE$25:CX$25,CI32))/設定!$G23+IFERROR((COUNTIF(CE$6:CX$7,処理!$L10)+COUNTIF(CE$10:CX$10,処理!$L10)+COUNTIF(CE$13:CX$13,処理!$L10)+COUNTIF(CE$16:CX$16,処理!$L10)+COUNTIF(CE$19:CX$19,処理!$L10)+COUNTIF(CE$22:CX$22,処理!$L10)+COUNTIF(CE$25:CX$25,処理!$L10))/処理!$M10,0))","v":""},"",{"$f":"$K$32","v":""},null,{"$f":"IF(LEN(CM32)=0,\"\",(COUNTIF(CE$6:CX$7,CM32)+COUNTIF(CE$10:CX$10,CM32)+COUNTIF(CE$13:CX$13,CM32)+COUNTIF(CE$16:CX$16,CM32)+COUNTIF(CE$19:CX$19,CM32)+COUNTIF(CE$22:CX$22,CM32)+COUNTIF(CE$25:CX$25,CM32))/設定!$J23+IFERROR((COUNTIF(CE$6:CX$7,処理!$L16)+COUNTIF(CE$10:CX$10,処理!$L16)+COUNTIF(CE$13:CX$13,処理!$L16)+COUNTIF(CE$16:CX$16,処理!$L16)+COUNTIF(CE$19:CX$19,処理!$L16)+COUNTIF(CE$22:CX$22,処理!$L16)+COUNTIF(CE$25:CX$25,処理!$L16))/処理!$M16,0))","v":""},"",{"$f":"$O$32","v":""},null,{"$f":"IF(LEN(CQ32)=0,\"\",(COUNTIF(CE$6:CX$7,CQ32)+COUNTIF(CE$10:CX$10,CQ32)+COUNTIF(CE$13:CX$13,CQ32)+COUNTIF(CE$16:CX$16,CQ32)+COUNTIF(CE$19:CX$19,CQ32)+COUNTIF(CE$22:CX$22,CQ32)+COUNTIF(CE$25:CX$25,CQ32))/設定!$M23+IFERROR((COUNTIF(CE$6:CX$7,処理!$L22)+COUNTIF(CE$10:CX$10,処理!$L22)+COUNTIF(CE$13:CX$13,処理!$L22)+COUNTIF(CE$16:CX$16,処理!$L22)+COUNTIF(CE$19:CX$19,処理!$L22)+COUNTIF(CE$22:CX$22,処理!$L22)+COUNTIF(CE$25:CX$25,処理!$L22))/処理!$M22,0))","v":""},"",{"$f":"$S$32","v":""},null,{"$f":"IF(LEN(CU32)=0,\"\",COUNTIF(CE$6:CX$7,CU32)+COUNTIF(CE$10:CX$10,CU32)+COUNTIF(CE$13:CX$13,CU32)+COUNTIF(CE$16:CX$16,CU32)+COUNTIF(CE$19:CX$19,CU32)+COUNTIF(CE$22:CX$22,CU32)+COUNTIF(CE$25:CX$25,CU32))","v":""},"",{"$f":"$C$32","v":""},null,{"$f":"IF(LEN(CY32)=0,\"\",(COUNTIF(CY$6:DR$7,CY32)+COUNTIF(CY$10:DR$10,CY32)+COUNTIF(CY$13:DR$13,CY32)+COUNTIF(CY$16:DR$16,CY32)+COUNTIF(CY$19:DR$19,CY32)+COUNTIF(CY$22:DR$22,CY32)+COUNTIF(CY$25:DR$25,CY32))/設定!$D23+IFERROR((COUNTIF(CY$6:DR$7,処理!$L4)+COUNTIF(CY$10:DR$10,処理!$L4)+COUNTIF(CY$13:DR$13,処理!$L4)+COUNTIF(CY$16:DR$16,処理!$L4)+COUNTIF(CY$19:DR$19,処理!$L4)+COUNTIF(CY$22:DR$22,処理!$L4)+COUNTIF(CY$25:DR$25,処理!$L4))/処理!$M4,0))","v":""},"",{"$f":"$G$32","v":""},null,{"$f":"IF(LEN(DC32)=0,\"\",(COUNTIF(CY$6:DR$7,DC32)+COUNTIF(CY$10:DR$10,DC32)+COUNTIF(CY$13:DR$13,DC32)+COUNTIF(CY$16:DR$16,DC32)+COUNTIF(CY$19:DR$19,DC32)+COUNTIF(CY$22:DR$22,DC32)+COUNTIF(CY$25:DR$25,DC32))/設定!$G23+IFERROR((COUNTIF(CY$6:DR$7,処理!$L10)+COUNTIF(CY$10:DR$10,処理!$L10)+COUNTIF(CY$13:DR$13,処理!$L10)+COUNTIF(CY$16:DR$16,処理!$L10)+COUNTIF(CY$19:DR$19,処理!$L10)+COUNTIF(CY$22:DR$22,処理!$L10)+COUNTIF(CY$25:DR$25,処理!$L10))/処理!$M10,0))","v":""},"",{"$f":"$K$32","v":""},null,{"$f":"IF(LEN(DG32)=0,\"\",(COUNTIF(CY$6:DR$7,DG32)+COUNTIF(CY$10:DR$10,DG32)+COUNTIF(CY$13:DR$13,DG32)+COUNTIF(CY$16:DR$16,DG32)+COUNTIF(CY$19:DR$19,DG32)+COUNTIF(CY$22:DR$22,DG32)+COUNTIF(CY$25:DR$25,DG32))/設定!$J23+IFERROR((COUNTIF(CY$6:DR$7,処理!$L16)+COUNTIF(CY$10:DR$10,処理!$L16)+COUNTIF(CY$13:DR$13,処理!$L16)+COUNTIF(CY$16:DR$16,処理!$L16)+COUNTIF(CY$19:DR$19,処理!$L16)+COUNTIF(CY$22:DR$22,処理!$L16)+COUNTIF(CY$25:DR$25,処理!$L16))/処理!$M16,0))","v":""},"",{"$f":"$O$32","v":""},null,{"$f":"IF(LEN(DK32)=0,\"\",(COUNTIF(CY$6:DR$7,DK32)+COUNTIF(CY$10:DR$10,DK32)+COUNTIF(CY$13:DR$13,DK32)+COUNTIF(CY$16:DR$16,DK32)+COUNTIF(CY$19:DR$19,DK32)+COUNTIF(CY$22:DR$22,DK32)+COUNTIF(CY$25:DR$25,DK32))/設定!$M23+IFERROR((COUNTIF(CY$6:DR$7,処理!$L22)+COUNTIF(CY$10:DR$10,処理!$L22)+COUNTIF(CY$13:DR$13,処理!$L22)+COUNTIF(CY$16:DR$16,処理!$L22)+COUNTIF(CY$19:DR$19,処理!$L22)+COUNTIF(CY$22:DR$22,処理!$L22)+COUNTIF(CY$25:DR$25,処理!$L22))/処理!$M22,0))","v":""},"",{"$f":"$S$32","v":""},null,{"$f":"IF(LEN(DO32)=0,\"\",COUNTIF(CY$6:DR$7,DO32)+COUNTIF(CY$10:DR$10,DO32)+COUNTIF(CY$13:DR$13,DO32)+COUNTIF(CY$16:DR$16,DO32)+COUNTIF(CY$19:DR$19,DO32)+COUNTIF(CY$22:DR$22,DO32)+COUNTIF(CY$25:DR$25,DO32))","v":""},"",{"$f":"$C$32","v":""},null,{"$f":"IF(LEN(DS32)=0,\"\",(COUNTIF(DS$6:EL$7,DS32)+COUNTIF(DS$10:EL$10,DS32)+COUNTIF(DS$13:EL$13,DS32)+COUNTIF(DS$16:EL$16,DS32)+COUNTIF(DS$19:EL$19,DS32)+COUNTIF(DS$22:EL$22,DS32)+COUNTIF(DS$25:EL$25,DS32))/設定!$D23+IFERROR((COUNTIF(DS$6:EL$7,処理!$L4)+COUNTIF(DS$10:EL$10,処理!$L4)+COUNTIF(DS$13:EL$13,処理!$L4)+COUNTIF(DS$16:EL$16,処理!$L4)+COUNTIF(DS$19:EL$19,処理!$L4)+COUNTIF(DS$22:EL$22,処理!$L4)+COUNTIF(DS$25:EL$25,処理!$L4))/処理!$M4,0))","v":""},"",{"$f":"$G$32","v":""},null,{"$f":"IF(LEN(DW32)=0,\"\",(COUNTIF(DS$6:EL$7,DW32)+COUNTIF(DS$10:EL$10,DW32)+COUNTIF(DS$13:EL$13,DW32)+COUNTIF(DS$16:EL$16,DW32)+COUNTIF(DS$19:EL$19,DW32)+COUNTIF(DS$22:EL$22,DW32)+COUNTIF(DS$25:EL$25,DW32))/設定!$G23+IFERROR((COUNTIF(DS$6:EL$7,処理!$L10)+COUNTIF(DS$10:EL$10,処理!$L10)+COUNTIF(DS$13:EL$13,処理!$L10)+COUNTIF(DS$16:EL$16,処理!$L10)+COUNTIF(DS$19:EL$19,処理!$L10)+COUNTIF(DS$22:EL$22,処理!$L10)+COUNTIF(DS$25:EL$25,処理!$L10))/処理!$M10,0))","v":""},"",{"$f":"$K$32","v":""},null,{"$f":"IF(LEN(EA32)=0,\"\",(COUNTIF(DS$6:EL$7,EA32)+COUNTIF(DS$10:EL$10,EA32)+COUNTIF(DS$13:EL$13,EA32)+COUNTIF(DS$16:EL$16,EA32)+COUNTIF(DS$19:EL$19,EA32)+COUNTIF(DS$22:EL$22,EA32)+COUNTIF(DS$25:EL$25,EA32))/設定!$J23+IFERROR((COUNTIF(DS$6:EL$7,処理!$L16)+COUNTIF(DS$10:EL$10,処理!$L16)+COUNTIF(DS$13:EL$13,処理!$L16)+COUNTIF(DS$16:EL$16,処理!$L16)+COUNTIF(DS$19:EL$19,処理!$L16)+COUNTIF(DS$22:EL$22,処理!$L16)+COUNTIF(DS$25:EL$25,処理!$L16))/処理!$M16,0))","v":""},"",{"$f":"$O$32","v":""},null,{"$f":"IF(LEN(EE32)=0,\"\",(COUNTIF(DS$6:EL$7,EE32)+COUNTIF(DS$10:EL$10,EE32)+COUNTIF(DS$13:EL$13,EE32)+COUNTIF(DS$16:EL$16,EE32)+COUNTIF(DS$19:EL$19,EE32)+COUNTIF(DS$22:EL$22,EE32)+COUNTIF(DS$25:EL$25,EE32))/設定!$M23+IFERROR((COUNTIF(DS$6:EL$7,処理!$L22)+COUNTIF(DS$10:EL$10,処理!$L22)+COUNTIF(DS$13:EL$13,処理!$L22)+COUNTIF(DS$16:EL$16,処理!$L22)+COUNTIF(DS$19:EL$19,処理!$L22)+COUNTIF(DS$22:EL$22,処理!$L22)+COUNTIF(DS$25:EL$25,処理!$L22))/処理!$M22,0))","v":""},"",{"$f":"$S$32","v":""},null,{"$f":"IF(LEN(EI32)=0,\"\",COUNTIF(DS$6:EL$7,EI32)+COUNTIF(DS$10:EL$10,EI32)+COUNTIF(DS$13:EL$13,EI32)+COUNTIF(DS$16:EL$16,EI32)+COUNTIF(DS$19:EL$19,EI32)+COUNTIF(DS$22:EL$22,EI32)+COUNTIF(DS$25:EL$25,EI32))","v":""},"",{"$f":"$C$32","v":""},null,{"$f":"IF(LEN(EM32)=0,\"\",(COUNTIF(EM$6:FF$7,EM32)+COUNTIF(EM$10:FF$10,EM32)+COUNTIF(EM$13:FF$13,EM32)+COUNTIF(EM$16:FF$16,EM32)+COUNTIF(EM$19:FF$19,EM32)+COUNTIF(EM$22:FF$22,EM32)+COUNTIF(EM$25:FF$25,EM32))/設定!$D23+IFERROR((COUNTIF(EM$6:FF$7,処理!$L4)+COUNTIF(EM$10:FF$10,処理!$L4)+COUNTIF(EM$13:FF$13,処理!$L4)+COUNTIF(EM$16:FF$16,処理!$L4)+COUNTIF(EM$19:FF$19,処理!$L4)+COUNTIF(EM$22:FF$22,処理!$L4)+COUNTIF(EM$25:FF$25,処理!$L4))/処理!$M4,0))","v":""},"",{"$f":"$G$32","v":""},null,{"$f":"IF(LEN(EQ32)=0,\"\",(COUNTIF(EM$6:FF$7,EQ32)+COUNTIF(EM$10:FF$10,EQ32)+COUNTIF(EM$13:FF$13,EQ32)+COUNTIF(EM$16:FF$16,EQ32)+COUNTIF(EM$19:FF$19,EQ32)+COUNTIF(EM$22:FF$22,EQ32)+COUNTIF(EM$25:FF$25,EQ32))/設定!$G23+IFERROR((COUNTIF(EM$6:FF$7,処理!$L10)+COUNTIF(EM$10:FF$10,処理!$L10)+COUNTIF(EM$13:FF$13,処理!$L10)+COUNTIF(EM$16:FF$16,処理!$L10)+COUNTIF(EM$19:FF$19,処理!$L10)+COUNTIF(EM$22:FF$22,処理!$L10)+COUNTIF(EM$25:FF$25,処理!$L10))/処理!$M10,0))","v":""},"",{"$f":"$K$32","v":""},null,{"$f":"IF(LEN(EU32)=0,\"\",(COUNTIF(EM$6:FF$7,EU32)+COUNTIF(EM$10:FF$10,EU32)+COUNTIF(EM$13:FF$13,EU32)+COUNTIF(EM$16:FF$16,EU32)+COUNTIF(EM$19:FF$19,EU32)+COUNTIF(EM$22:FF$22,EU32)+COUNTIF(EM$25:FF$25,EU32))/設定!$J23+IFERROR((COUNTIF(EM$6:FF$7,処理!$L16)+COUNTIF(EM$10:FF$10,処理!$L16)+COUNTIF(EM$13:FF$13,処理!$L16)+COUNTIF(EM$16:FF$16,処理!$L16)+COUNTIF(EM$19:FF$19,処理!$L16)+COUNTIF(EM$22:FF$22,処理!$L16)+COUNTIF(EM$25:FF$25,処理!$L16))/処理!$M16,0))","v":""},"",{"$f":"$O$32","v":""},null,{"$f":"IF(LEN(EY32)=0,\"\",(COUNTIF(EM$6:FF$7,EY32)+COUNTIF(EM$10:FF$10,EY32)+COUNTIF(EM$13:FF$13,EY32)+COUNTIF(EM$16:FF$16,EY32)+COUNTIF(EM$19:FF$19,EY32)+COUNTIF(EM$22:FF$22,EY32)+COUNTIF(EM$25:FF$25,EY32))/設定!$M23+IFERROR((COUNTIF(EM$6:FF$7,処理!$L22)+COUNTIF(EM$10:FF$10,処理!$L22)+COUNTIF(EM$13:FF$13,処理!$L22)+COUNTIF(EM$16:FF$16,処理!$L22)+COUNTIF(EM$19:FF$19,処理!$L22)+COUNTIF(EM$22:FF$22,処理!$L22)+COUNTIF(EM$25:FF$25,処理!$L22))/処理!$M22,0))","v":""},"",{"$f":"$S$32","v":""},null,{"$f":"IF(LEN(FC32)=0,\"\",COUNTIF(EM$6:FF$7,FC32)+COUNTIF(EM$10:FF$10,FC32)+COUNTIF(EM$13:FF$13,FC32)+COUNTIF(EM$16:FF$16,FC32)+COUNTIF(EM$19:FF$19,FC32)+COUNTIF(EM$22:FF$22,FC32)+COUNTIF(EM$25:FF$25,FC32))","v":""},"",{"$f":"$C$32","v":""},null,{"$f":"IF(LEN(FG32)=0,\"\",(COUNTIF(FG$6:FZ$7,FG32)+COUNTIF(FG$10:FZ$10,FG32)+COUNTIF(FG$13:FZ$13,FG32)+COUNTIF(FG$16:FZ$16,FG32)+COUNTIF(FG$19:FZ$19,FG32)+COUNTIF(FG$22:FZ$22,FG32)+COUNTIF(FG$25:FZ$25,FG32))/設定!$D23+IFERROR((COUNTIF(FG$6:FZ$7,処理!$L4)+COUNTIF(FG$10:FZ$10,処理!$L4)+COUNTIF(FG$13:FZ$13,処理!$L4)+COUNTIF(FG$16:FZ$16,処理!$L4)+COUNTIF(FG$19:FZ$19,処理!$L4)+COUNTIF(FG$22:FZ$22,処理!$L4)+COUNTIF(FG$25:FZ$25,処理!$L4))/処理!$M4,0))","v":""},"",{"$f":"$G$32","v":""},null,{"$f":"IF(LEN(FK32)=0,\"\",(COUNTIF(FG$6:FZ$7,FK32)+COUNTIF(FG$10:FZ$10,FK32)+COUNTIF(FG$13:FZ$13,FK32)+COUNTIF(FG$16:FZ$16,FK32)+COUNTIF(FG$19:FZ$19,FK32)+COUNTIF(FG$22:FZ$22,FK32)+COUNTIF(FG$25:FZ$25,FK32))/設定!$G23+IFERROR((COUNTIF(FG$6:FZ$7,処理!$L10)+COUNTIF(FG$10:FZ$10,処理!$L10)+COUNTIF(FG$13:FZ$13,処理!$L10)+COUNTIF(FG$16:FZ$16,処理!$L10)+COUNTIF(FG$19:FZ$19,処理!$L10)+COUNTIF(FG$22:FZ$22,処理!$L10)+COUNTIF(FG$25:FZ$25,処理!$L10))/処理!$M10,0))","v":""},"",{"$f":"$K$32","v":""},null,{"$f":"IF(LEN(FO32)=0,\"\",(COUNTIF(FG$6:FZ$7,FO32)+COUNTIF(FG$10:FZ$10,FO32)+COUNTIF(FG$13:FZ$13,FO32)+COUNTIF(FG$16:FZ$16,FO32)+COUNTIF(FG$19:FZ$19,FO32)+COUNTIF(FG$22:FZ$22,FO32)+COUNTIF(FG$25:FZ$25,FO32))/設定!$J23+IFERROR((COUNTIF(FG$6:FZ$7,処理!$L16)+COUNTIF(FG$10:FZ$10,処理!$L16)+COUNTIF(FG$13:FZ$13,処理!$L16)+COUNTIF(FG$16:FZ$16,処理!$L16)+COUNTIF(FG$19:FZ$19,処理!$L16)+COUNTIF(FG$22:FZ$22,処理!$L16)+COUNTIF(FG$25:FZ$25,処理!$L16))/処理!$M16,0))","v":""},"",{"$f":"$O$32","v":""},null,{"$f":"IF(LEN(FS32)=0,\"\",(COUNTIF(FG$6:FZ$7,FS32)+COUNTIF(FG$10:FZ$10,FS32)+COUNTIF(FG$13:FZ$13,FS32)+COUNTIF(FG$16:FZ$16,FS32)+COUNTIF(FG$19:FZ$19,FS32)+COUNTIF(FG$22:FZ$22,FS32)+COUNTIF(FG$25:FZ$25,FS32))/設定!$M23+IFERROR((COUNTIF(FG$6:FZ$7,処理!$L22)+COUNTIF(FG$10:FZ$10,処理!$L22)+COUNTIF(FG$13:FZ$13,処理!$L22)+COUNTIF(FG$16:FZ$16,処理!$L22)+COUNTIF(FG$19:FZ$19,処理!$L22)+COUNTIF(FG$22:FZ$22,処理!$L22)+COUNTIF(FG$25:FZ$25,処理!$L22))/処理!$M22,0))","v":""},"",{"$f":"$S$32","v":""},null,{"$f":"IF(LEN(FW32)=0,\"\",COUNTIF(FG$6:FZ$7,FW32)+COUNTIF(FG$10:FZ$10,FW32)+COUNTIF(FG$13:FZ$13,FW32)+COUNTIF(FG$16:FZ$16,FW32)+COUNTIF(FG$19:FZ$19,FW32)+COUNTIF(FG$22:FZ$22,FW32)+COUNTIF(FG$25:FZ$25,FW32))","v":""},"",{"$f":"$C$32","v":""},null,{"$f":"IF(LEN(GA32)=0,\"\",(COUNTIF(GA$6:GT$7,GA32)+COUNTIF(GA$10:GT$10,GA32)+COUNTIF(GA$13:GT$13,GA32)+COUNTIF(GA$16:GT$16,GA32)+COUNTIF(GA$19:GT$19,GA32)+COUNTIF(GA$22:GT$22,GA32)+COUNTIF(GA$25:GT$25,GA32))/設定!$D23+IFERROR((COUNTIF(GA$6:GT$7,処理!$L4)+COUNTIF(GA$10:GT$10,処理!$L4)+COUNTIF(GA$13:GT$13,処理!$L4)+COUNTIF(GA$16:GT$16,処理!$L4)+COUNTIF(GA$19:GT$19,処理!$L4)+COUNTIF(GA$22:GT$22,処理!$L4)+COUNTIF(GA$25:GT$25,処理!$L4))/処理!$M4,0))","v":""},"",{"$f":"$G$32","v":""},null,{"$f":"IF(LEN(GE32)=0,\"\",(COUNTIF(GA$6:GT$7,GE32)+COUNTIF(GA$10:GT$10,GE32)+COUNTIF(GA$13:GT$13,GE32)+COUNTIF(GA$16:GT$16,GE32)+COUNTIF(GA$19:GT$19,GE32)+COUNTIF(GA$22:GT$22,GE32)+COUNTIF(GA$25:GT$25,GE32))/設定!$G23+IFERROR((COUNTIF(GA$6:GT$7,処理!$L10)+COUNTIF(GA$10:GT$10,処理!$L10)+COUNTIF(GA$13:GT$13,処理!$L10)+COUNTIF(GA$16:GT$16,処理!$L10)+COUNTIF(GA$19:GT$19,処理!$L10)+COUNTIF(GA$22:GT$22,処理!$L10)+COUNTIF(GA$25:GT$25,処理!$L10))/処理!$M10,0))","v":""},"",{"$f":"$K$32","v":""},null,{"$f":"IF(LEN(GI32)=0,\"\",(COUNTIF(GA$6:GT$7,GI32)+COUNTIF(GA$10:GT$10,GI32)+COUNTIF(GA$13:GT$13,GI32)+COUNTIF(GA$16:GT$16,GI32)+COUNTIF(GA$19:GT$19,GI32)+COUNTIF(GA$22:GT$22,GI32)+COUNTIF(GA$25:GT$25,GI32))/設定!$J23+IFERROR((COUNTIF(GA$6:GT$7,処理!$L16)+COUNTIF(GA$10:GT$10,処理!$L16)+COUNTIF(GA$13:GT$13,処理!$L16)+COUNTIF(GA$16:GT$16,処理!$L16)+COUNTIF(GA$19:GT$19,処理!$L16)+COUNTIF(GA$22:GT$22,処理!$L16)+COUNTIF(GA$25:GT$25,処理!$L16))/処理!$M16,0))","v":""},"",{"$f":"$O$32","v":""},null,{"$f":"IF(LEN(GM32)=0,\"\",(COUNTIF(GA$6:GT$7,GM32)+COUNTIF(GA$10:GT$10,GM32)+COUNTIF(GA$13:GT$13,GM32)+COUNTIF(GA$16:GT$16,GM32)+COUNTIF(GA$19:GT$19,GM32)+COUNTIF(GA$22:GT$22,GM32)+COUNTIF(GA$25:GT$25,GM32))/設定!$M23+IFERROR((COUNTIF(GA$6:GT$7,処理!$L22)+COUNTIF(GA$10:GT$10,処理!$L22)+COUNTIF(GA$13:GT$13,処理!$L22)+COUNTIF(GA$16:GT$16,処理!$L22)+COUNTIF(GA$19:GT$19,処理!$L22)+COUNTIF(GA$22:GT$22,処理!$L22)+COUNTIF(GA$25:GT$25,処理!$L22))/処理!$M22,0))","v":""},"",{"$f":"$S$32","v":""},null,{"$f":"IF(LEN(GQ32)=0,\"\",COUNTIF(GA$6:GT$7,GQ32)+COUNTIF(GA$10:GT$10,GQ32)+COUNTIF(GA$13:GT$13,GQ32)+COUNTIF(GA$16:GT$16,GQ32)+COUNTIF(GA$19:GT$19,GQ32)+COUNTIF(GA$22:GT$22,GQ32)+COUNTIF(GA$25:GT$25,GQ32))","v":""},"",{"$f":"$C$32","v":""},null,{"$f":"IF(LEN(GU32)=0,\"\",(COUNTIF(GU$6:HN$7,GU32)+COUNTIF(GU$10:HN$10,GU32)+COUNTIF(GU$13:HN$13,GU32)+COUNTIF(GU$16:HN$16,GU32)+COUNTIF(GU$19:HN$19,GU32)+COUNTIF(GU$22:HN$22,GU32)+COUNTIF(GU$25:HN$25,GU32))/設定!$D23+IFERROR((COUNTIF(GU$6:HN$7,処理!$L4)+COUNTIF(GU$10:HN$10,処理!$L4)+COUNTIF(GU$13:HN$13,処理!$L4)+COUNTIF(GU$16:HN$16,処理!$L4)+COUNTIF(GU$19:HN$19,処理!$L4)+COUNTIF(GU$22:HN$22,処理!$L4)+COUNTIF(GU$25:HN$25,処理!$L4))/処理!$M4,0))","v":""},"",{"$f":"$G$32","v":""},null,{"$f":"IF(LEN(GY32)=0,\"\",(COUNTIF(GU$6:HN$7,GY32)+COUNTIF(GU$10:HN$10,GY32)+COUNTIF(GU$13:HN$13,GY32)+COUNTIF(GU$16:HN$16,GY32)+COUNTIF(GU$19:HN$19,GY32)+COUNTIF(GU$22:HN$22,GY32)+COUNTIF(GU$25:HN$25,GY32))/設定!$G23+IFERROR((COUNTIF(GU$6:HN$7,処理!$L10)+COUNTIF(GU$10:HN$10,処理!$L10)+COUNTIF(GU$13:HN$13,処理!$L10)+COUNTIF(GU$16:HN$16,処理!$L10)+COUNTIF(GU$19:HN$19,処理!$L10)+COUNTIF(GU$22:HN$22,処理!$L10)+COUNTIF(GU$25:HN$25,処理!$L10))/処理!$M10,0))","v":""},"",{"$f":"$K$32","v":""},null,{"$f":"IF(LEN(HC32)=0,\"\",(COUNTIF(GU$6:HN$7,HC32)+COUNTIF(GU$10:HN$10,HC32)+COUNTIF(GU$13:HN$13,HC32)+COUNTIF(GU$16:HN$16,HC32)+COUNTIF(GU$19:HN$19,HC32)+COUNTIF(GU$22:HN$22,HC32)+COUNTIF(GU$25:HN$25,HC32))/設定!$J23+IFERROR((COUNTIF(GU$6:HN$7,処理!$L16)+COUNTIF(GU$10:HN$10,処理!$L16)+COUNTIF(GU$13:HN$13,処理!$L16)+COUNTIF(GU$16:HN$16,処理!$L16)+COUNTIF(GU$19:HN$19,処理!$L16)+COUNTIF(GU$22:HN$22,処理!$L16)+COUNTIF(GU$25:HN$25,処理!$L16))/処理!$M16,0))","v":""},"",{"$f":"$O$32","v":""},null,{"$f":"IF(LEN(HG32)=0,\"\",(COUNTIF(GU$6:HN$7,HG32)+COUNTIF(GU$10:HN$10,HG32)+COUNTIF(GU$13:HN$13,HG32)+COUNTIF(GU$16:HN$16,HG32)+COUNTIF(GU$19:HN$19,HG32)+COUNTIF(GU$22:HN$22,HG32)+COUNTIF(GU$25:HN$25,HG32))/設定!$M23+IFERROR((COUNTIF(GU$6:HN$7,処理!$L22)+COUNTIF(GU$10:HN$10,処理!$L22)+COUNTIF(GU$13:HN$13,処理!$L22)+COUNTIF(GU$16:HN$16,処理!$L22)+COUNTIF(GU$19:HN$19,処理!$L22)+COUNTIF(GU$22:HN$22,処理!$L22)+COUNTIF(GU$25:HN$25,処理!$L22))/処理!$M22,0))","v":""},"",{"$f":"$S$32","v":""},null,{"$f":"IF(LEN(HK32)=0,\"\",COUNTIF(GU$6:HN$7,HK32)+COUNTIF(GU$10:HN$10,HK32)+COUNTIF(GU$13:HN$13,HK32)+COUNTIF(GU$16:HN$16,HK32)+COUNTIF(GU$19:HN$19,HK32)+COUNTIF(GU$22:HN$22,HK32)+COUNTIF(GU$25:HN$25,HK32))","v":""},"",{"$f":"$C$32","v":""},null,{"$f":"IF(LEN(HO32)=0,\"\",(COUNTIF(HO$6:IH$7,HO32)+COUNTIF(HO$10:IH$10,HO32)+COUNTIF(HO$13:IH$13,HO32)+COUNTIF(HO$16:IH$16,HO32)+COUNTIF(HO$19:IH$19,HO32)+COUNTIF(HO$22:IH$22,HO32)+COUNTIF(HO$25:IH$25,HO32))/設定!$D23+IFERROR((COUNTIF(HO$6:IH$7,処理!$L4)+COUNTIF(HO$10:IH$10,処理!$L4)+COUNTIF(HO$13:IH$13,処理!$L4)+COUNTIF(HO$16:IH$16,処理!$L4)+COUNTIF(HO$19:IH$19,処理!$L4)+COUNTIF(HO$22:IH$22,処理!$L4)+COUNTIF(HO$25:IH$25,処理!$L4))/処理!$M4,0))","v":""},"",{"$f":"$G$32","v":""},null,{"$f":"IF(LEN(HS32)=0,\"\",(COUNTIF(HO$6:IH$7,HS32)+COUNTIF(HO$10:IH$10,HS32)+COUNTIF(HO$13:IH$13,HS32)+COUNTIF(HO$16:IH$16,HS32)+COUNTIF(HO$19:IH$19,HS32)+COUNTIF(HO$22:IH$22,HS32)+COUNTIF(HO$25:IH$25,HS32))/設定!$G23+IFERROR((COUNTIF(HO$6:IH$7,処理!$L10)+COUNTIF(HO$10:IH$10,処理!$L10)+COUNTIF(HO$13:IH$13,処理!$L10)+COUNTIF(HO$16:IH$16,処理!$L10)+COUNTIF(HO$19:IH$19,処理!$L10)+COUNTIF(HO$22:IH$22,処理!$L10)+COUNTIF(HO$25:IH$25,処理!$L10))/処理!$M10,0))","v":""},"",{"$f":"$K$32","v":""},null,{"$f":"IF(LEN(HW32)=0,\"\",(COUNTIF(HO$6:IH$7,HW32)+COUNTIF(HO$10:IH$10,HW32)+COUNTIF(HO$13:IH$13,HW32)+COUNTIF(HO$16:IH$16,HW32)+COUNTIF(HO$19:IH$19,HW32)+COUNTIF(HO$22:IH$22,HW32)+COUNTIF(HO$25:IH$25,HW32))/設定!$J23+IFERROR((COUNTIF(HO$6:IH$7,処理!$L16)+COUNTIF(HO$10:IH$10,処理!$L16)+COUNTIF(HO$13:IH$13,処理!$L16)+COUNTIF(HO$16:IH$16,処理!$L16)+COUNTIF(HO$19:IH$19,処理!$L16)+COUNTIF(HO$22:IH$22,処理!$L16)+COUNTIF(HO$25:IH$25,処理!$L16))/処理!$M16,0))","v":""},"",{"$f":"$O$32","v":""},null,{"$f":"IF(LEN(IA32)=0,\"\",(COUNTIF(HO$6:IH$7,IA32)+COUNTIF(HO$10:IH$10,IA32)+COUNTIF(HO$13:IH$13,IA32)+COUNTIF(HO$16:IH$16,IA32)+COUNTIF(HO$19:IH$19,IA32)+COUNTIF(HO$22:IH$22,IA32)+COUNTIF(HO$25:IH$25,IA32))/設定!$M23+IFERROR((COUNTIF(HO$6:IH$7,処理!$L22)+COUNTIF(HO$10:IH$10,処理!$L22)+COUNTIF(HO$13:IH$13,処理!$L22)+COUNTIF(HO$16:IH$16,処理!$L22)+COUNTIF(HO$19:IH$19,処理!$L22)+COUNTIF(HO$22:IH$22,処理!$L22)+COUNTIF(HO$25:IH$25,処理!$L22))/処理!$M22,0))","v":""},"",{"$f":"$S$32","v":""},null,{"$f":"IF(LEN(IE32)=0,\"\",COUNTIF(HO$6:IH$7,IE32)+COUNTIF(HO$10:IH$10,IE32)+COUNTIF(HO$13:IH$13,IE32)+COUNTIF(HO$16:IH$16,IE32)+COUNTIF(HO$19:IH$19,IE32)+COUNTIF(HO$22:IH$22,IE32)+COUNTIF(HO$25:IH$25,IE32))","v":""},"",{"$f":"$C$32","v":""},null,{"$f":"IF(LEN(II32)=0,\"\",(COUNTIF(II$6:JB$7,II32)+COUNTIF(II$10:JB$10,II32)+COUNTIF(II$13:JB$13,II32)+COUNTIF(II$16:JB$16,II32)+COUNTIF(II$19:JB$19,II32)+COUNTIF(II$22:JB$22,II32)+COUNTIF(II$25:JB$25,II32))/設定!$D23+IFERROR((COUNTIF(II$6:JB$7,処理!$L4)+COUNTIF(II$10:JB$10,処理!$L4)+COUNTIF(II$13:JB$13,処理!$L4)+COUNTIF(II$16:JB$16,処理!$L4)+COUNTIF(II$19:JB$19,処理!$L4)+COUNTIF(II$22:JB$22,処理!$L4)+COUNTIF(II$25:JB$25,処理!$L4))/処理!$M4,0))","v":""},"",{"$f":"$G$32","v":""},null,{"$f":"IF(LEN(IM32)=0,\"\",(COUNTIF(II$6:JB$7,IM32)+COUNTIF(II$10:JB$10,IM32)+COUNTIF(II$13:JB$13,IM32)+COUNTIF(II$16:JB$16,IM32)+COUNTIF(II$19:JB$19,IM32)+COUNTIF(II$22:JB$22,IM32)+COUNTIF(II$25:JB$25,IM32))/設定!$G23+IFERROR((COUNTIF(II$6:JB$7,処理!$L10)+COUNTIF(II$10:JB$10,処理!$L10)+COUNTIF(II$13:JB$13,処理!$L10)+COUNTIF(II$16:JB$16,処理!$L10)+COUNTIF(II$19:JB$19,処理!$L10)+COUNTIF(II$22:JB$22,処理!$L10)+COUNTIF(II$25:JB$25,処理!$L10))/処理!$M10,0))","v":""},"",{"$f":"$K$32","v":""},null,{"$f":"IF(LEN(IQ32)=0,\"\",(COUNTIF(II$6:JB$7,IQ32)+COUNTIF(II$10:JB$10,IQ32)+COUNTIF(II$13:JB$13,IQ32)+COUNTIF(II$16:JB$16,IQ32)+COUNTIF(II$19:JB$19,IQ32)+COUNTIF(II$22:JB$22,IQ32)+COUNTIF(II$25:JB$25,IQ32))/設定!$J23+IFERROR((COUNTIF(II$6:JB$7,処理!$L16)+COUNTIF(II$10:JB$10,処理!$L16)+COUNTIF(II$13:JB$13,処理!$L16)+COUNTIF(II$16:JB$16,処理!$L16)+COUNTIF(II$19:JB$19,処理!$L16)+COUNTIF(II$22:JB$22,処理!$L16)+COUNTIF(II$25:JB$25,処理!$L16))/処理!$M16,0))","v":""},"",{"$f":"$O$32","v":""},null,{"$f":"IF(LEN(IU32)=0,\"\",(COUNTIF(II$6:JB$7,IU32)+COUNTIF(II$10:JB$10,IU32)+COUNTIF(II$13:JB$13,IU32)+COUNTIF(II$16:JB$16,IU32)+COUNTIF(II$19:JB$19,IU32)+COUNTIF(II$22:JB$22,IU32)+COUNTIF(II$25:JB$25,IU32))/設定!$M23+IFERROR((COUNTIF(II$6:JB$7,処理!$L22)+COUNTIF(II$10:JB$10,処理!$L22)+COUNTIF(II$13:JB$13,処理!$L22)+COUNTIF(II$16:JB$16,処理!$L22)+COUNTIF(II$19:JB$19,処理!$L22)+COUNTIF(II$22:JB$22,処理!$L22)+COUNTIF(II$25:JB$25,処理!$L22))/処理!$M22,0))","v":""},"",{"$f":"$S$32","v":""},null,{"$f":"IF(LEN(IY32)=0,\"\",COUNTIF(II$6:JB$7,IY32)+COUNTIF(II$10:JB$10,IY32)+COUNTIF(II$13:JB$13,IY32)+COUNTIF(II$16:JB$16,IY32)+COUNTIF(II$19:JB$19,IY32)+COUNTIF(II$22:JB$22,IY32)+COUNTIF(II$25:JB$25,IY32))","v":""},""]
[null,null,{"$f":"IF(COUNTIF(処理!$J$2:$J$25,3)>0,処理!H5,\"\")","v":""},null,{"$f":"IF(LEN(C33)=0,\"\",(COUNTIF(C$6:V$7,C33)+COUNTIF(C$10:V$10,C33)+COUNTIF(C$13:V$13,C33)+COUNTIF(C$16:V$16,C33)+COUNTIF(C$19:V$19,C33)+COUNTIF(C$22:V$22,C33)+COUNTIF(C$25:V$25,C33))/設定!$D24+IFERROR((COUNTIF(C$6:V$7,処理!$L5)+COUNTIF(C$10:V$10,処理!$L5)+COUNTIF(C$13:V$13,処理!$L5)+COUNTIF(C$16:V$16,処理!$L5)+COUNTIF(C$19:V$19,処理!$L5)+COUNTIF(C$22:V$22,処理!$L5)+COUNTIF(C$25:V$25,処理!$L5))/処理!$M5,0))","v":""},"",{"$f":"IF(COUNTIF(処理!$J$2:$J$25,9)>0,処理!H11,\"\")","v":""},null,{"$f":"IF(LEN(G33)=0,\"\",(COUNTIF(C$6:V$7,G33)+COUNTIF(C$10:V$10,G33)+COUNTIF(C$13:V$13,G33)+COUNTIF(C$16:V$16,G33)+COUNTIF(C$19:V$19,G33)+COUNTIF(C$22:V$22,G33)+COUNTIF(C$25:V$25,G33))/設定!$G24+IFERROR((COUNTIF(C$6:V$7,処理!$L11)+COUNTIF(C$10:V$10,処理!$L11)+COUNTIF(C$13:V$13,処理!$L11)+COUNTIF(C$16:V$16,処理!$L11)+COUNTIF(C$19:V$19,処理!$L11)+COUNTIF(C$22:V$22,処理!$L11)+COUNTIF(C$25:V$25,処理!$L11))/処理!$M11,0))","v":""},"",{"$f":"IF(COUNTIF(処理!$J$2:$J$25,15)>0,処理!H17,\"\")","v":""},null,{"$f":"IF(LEN(K33)=0,\"\",(COUNTIF(C$6:V$7,K33)+COUNTIF(C$10:V$10,K33)+COUNTIF(C$13:V$13,K33)+COUNTIF(C$16:V$16,K33)+COUNTIF(C$19:V$19,K33)+COUNTIF(C$22:V$22,K33)+COUNTIF(C$25:V$25,K33))/設定!$J24+IFERROR((COUNTIF(C$6:V$7,処理!$L17)+COUNTIF(C$10:V$10,処理!$L17)+COUNTIF(C$13:V$13,処理!$L17)+COUNTIF(C$16:V$16,処理!$L17)+COUNTIF(C$19:V$19,処理!$L17)+COUNTIF(C$22:V$22,処理!$L17)+COUNTIF(C$25:V$25,処理!$L17))/処理!$M17,0))","v":""},"",{"$f":"IF(COUNTIF(処理!$J$2:$J$25,21)>0,処理!H23,\"\")","v":""},null,{"$f":"IF(LEN(O33)=0,\"\",(COUNTIF(C$6:V$7,O33)+COUNTIF(C$10:V$10,O33)+COUNTIF(C$13:V$13,O33)+COUNTIF(C$16:V$16,O33)+COUNTIF(C$19:V$19,O33)+COUNTIF(C$22:V$22,O33)+COUNTIF(C$25:V$25,O33))/設定!$M24+IFERROR((COUNTIF(C$6:V$7,処理!$L23)+COUNTIF(C$10:V$10,処理!$L23)+COUNTIF(C$13:V$13,処理!$L23)+COUNTIF(C$16:V$16,処理!$L23)+COUNTIF(C$19:V$19,処理!$L23)+COUNTIF(C$22:V$22,処理!$L23)+COUNTIF(C$25:V$25,処理!$L23))/処理!$M23,0))","v":""},"",{"$f":"処理!H29&\"\"","v":""},null,{"$f":"IF(LEN(S33)=0,\"\",COUNTIF(C$6:V$7,S33)+COUNTIF(C$10:V$10,S33)+COUNTIF(C$13:V$13,S33)+COUNTIF(C$16:V$16,S33)+COUNTIF(C$19:V$19,S33)+COUNTIF(C$22:V$22,S33)+COUNTIF(C$25:V$25,S33))","v":""},"",{"$f":"$C$33","v":""},null,{"$f":"IF(LEN(W33)=0,\"\",(COUNTIF(W$6:AP$7,W33)+COUNTIF(W$10:AP$10,W33)+COUNTIF(W$13:AP$13,W33)+COUNTIF(W$16:AP$16,W33)+COUNTIF(W$19:AP$19,W33)+COUNTIF(W$22:AP$22,W33)+COUNTIF(W$25:AP$25,W33))/設定!$D24+IFERROR((COUNTIF(W$6:AP$7,処理!$L5)+COUNTIF(W$10:AP$10,処理!$L5)+COUNTIF(W$13:AP$13,処理!$L5)+COUNTIF(W$16:AP$16,処理!$L5)+COUNTIF(W$19:AP$19,処理!$L5)+COUNTIF(W$22:AP$22,処理!$L5)+COUNTIF(W$25:AP$25,処理!$L5))/処理!$M5,0))","v":""},"",{"$f":"$G$33","v":""},null,{"$f":"IF(LEN(AA33)=0,\"\",(COUNTIF(W$6:AP$7,AA33)+COUNTIF(W$10:AP$10,AA33)+COUNTIF(W$13:AP$13,AA33)+COUNTIF(W$16:AP$16,AA33)+COUNTIF(W$19:AP$19,AA33)+COUNTIF(W$22:AP$22,AA33)+COUNTIF(W$25:AP$25,AA33))/設定!$G24+IFERROR((COUNTIF(W$6:AP$7,処理!$L11)+COUNTIF(W$10:AP$10,処理!$L11)+COUNTIF(W$13:AP$13,処理!$L11)+COUNTIF(W$16:AP$16,処理!$L11)+COUNTIF(W$19:AP$19,処理!$L11)+COUNTIF(W$22:AP$22,処理!$L11)+COUNTIF(W$25:AP$25,処理!$L11))/処理!$M11,0))","v":""},"",{"$f":"$K$33","v":""},null,{"$f":"IF(LEN(AE33)=0,\"\",(COUNTIF(W$6:AP$7,AE33)+COUNTIF(W$10:AP$10,AE33)+COUNTIF(W$13:AP$13,AE33)+COUNTIF(W$16:AP$16,AE33)+COUNTIF(W$19:AP$19,AE33)+COUNTIF(W$22:AP$22,AE33)+COUNTIF(W$25:AP$25,AE33))/設定!$J24+IFERROR((COUNTIF(W$6:AP$7,処理!$L17)+COUNTIF(W$10:AP$10,処理!$L17)+COUNTIF(W$13:AP$13,処理!$L17)+COUNTIF(W$16:AP$16,処理!$L17)+COUNTIF(W$19:AP$19,処理!$L17)+COUNTIF(W$22:AP$22,処理!$L17)+COUNTIF(W$25:AP$25,処理!$L17))/処理!$M17,0))","v":""},"",{"$f":"$O$33","v":""},null,{"$f":"IF(LEN(AI33)=0,\"\",(COUNTIF(W$6:AP$7,AI33)+COUNTIF(W$10:AP$10,AI33)+COUNTIF(W$13:AP$13,AI33)+COUNTIF(W$16:AP$16,AI33)+COUNTIF(W$19:AP$19,AI33)+COUNTIF(W$22:AP$22,AI33)+COUNTIF(W$25:AP$25,AI33))/設定!$M24+IFERROR((COUNTIF(W$6:AP$7,処理!$L23)+COUNTIF(W$10:AP$10,処理!$L23)+COUNTIF(W$13:AP$13,処理!$L23)+COUNTIF(W$16:AP$16,処理!$L23)+COUNTIF(W$19:AP$19,処理!$L23)+COUNTIF(W$22:AP$22,処理!$L23)+COUNTIF(W$25:AP$25,処理!$L23))/処理!$M23,0))","v":""},"",{"$f":"$S$33","v":""},null,{"$f":"IF(LEN(AM33)=0,\"\",COUNTIF(W$6:AP$7,AM33)+COUNTIF(W$10:AP$10,AM33)+COUNTIF(W$13:AP$13,AM33)+COUNTIF(W$16:AP$16,AM33)+COUNTIF(W$19:AP$19,AM33)+COUNTIF(W$22:AP$22,AM33)+COUNTIF(W$25:AP$25,AM33))","v":""},"",{"$f":"$C$33","v":""},null,{"$f":"IF(LEN(AQ33)=0,\"\",(COUNTIF(AQ$6:BJ$7,AQ33)+COUNTIF(AQ$10:BJ$10,AQ33)+COUNTIF(AQ$13:BJ$13,AQ33)+COUNTIF(AQ$16:BJ$16,AQ33)+COUNTIF(AQ$19:BJ$19,AQ33)+COUNTIF(AQ$22:BJ$22,AQ33)+COUNTIF(AQ$25:BJ$25,AQ33))/設定!$D24+IFERROR((COUNTIF(AQ$6:BJ$7,処理!$L5)+COUNTIF(AQ$10:BJ$10,処理!$L5)+COUNTIF(AQ$13:BJ$13,処理!$L5)+COUNTIF(AQ$16:BJ$16,処理!$L5)+COUNTIF(AQ$19:BJ$19,処理!$L5)+COUNTIF(AQ$22:BJ$22,処理!$L5)+COUNTIF(AQ$25:BJ$25,処理!$L5))/処理!$M5,0))","v":""},"",{"$f":"$G$33","v":""},null,{"$f":"IF(LEN(AU33)=0,\"\",(COUNTIF(AQ$6:BJ$7,AU33)+COUNTIF(AQ$10:BJ$10,AU33)+COUNTIF(AQ$13:BJ$13,AU33)+COUNTIF(AQ$16:BJ$16,AU33)+COUNTIF(AQ$19:BJ$19,AU33)+COUNTIF(AQ$22:BJ$22,AU33)+COUNTIF(AQ$25:BJ$25,AU33))/設定!$G24+IFERROR((COUNTIF(AQ$6:BJ$7,処理!$L11)+COUNTIF(AQ$10:BJ$10,処理!$L11)+COUNTIF(AQ$13:BJ$13,処理!$L11)+COUNTIF(AQ$16:BJ$16,処理!$L11)+COUNTIF(AQ$19:BJ$19,処理!$L11)+COUNTIF(AQ$22:BJ$22,処理!$L11)+COUNTIF(AQ$25:BJ$25,処理!$L11))/処理!$M11,0))","v":""},"",{"$f":"$K$33","v":""},null,{"$f":"IF(LEN(AY33)=0,\"\",(COUNTIF(AQ$6:BJ$7,AY33)+COUNTIF(AQ$10:BJ$10,AY33)+COUNTIF(AQ$13:BJ$13,AY33)+COUNTIF(AQ$16:BJ$16,AY33)+COUNTIF(AQ$19:BJ$19,AY33)+COUNTIF(AQ$22:BJ$22,AY33)+COUNTIF(AQ$25:BJ$25,AY33))/設定!$J24+IFERROR((COUNTIF(AQ$6:BJ$7,処理!$L17)+COUNTIF(AQ$10:BJ$10,処理!$L17)+COUNTIF(AQ$13:BJ$13,処理!$L17)+COUNTIF(AQ$16:BJ$16,処理!$L17)+COUNTIF(AQ$19:BJ$19,処理!$L17)+COUNTIF(AQ$22:BJ$22,処理!$L17)+COUNTIF(AQ$25:BJ$25,処理!$L17))/処理!$M17,0))","v":""},"",{"$f":"$O$33","v":""},null,{"$f":"IF(LEN(BC33)=0,\"\",(COUNTIF(AQ$6:BJ$7,BC33)+COUNTIF(AQ$10:BJ$10,BC33)+COUNTIF(AQ$13:BJ$13,BC33)+COUNTIF(AQ$16:BJ$16,BC33)+COUNTIF(AQ$19:BJ$19,BC33)+COUNTIF(AQ$22:BJ$22,BC33)+COUNTIF(AQ$25:BJ$25,BC33))/設定!$M24+IFERROR((COUNTIF(AQ$6:BJ$7,処理!$L23)+COUNTIF(AQ$10:BJ$10,処理!$L23)+COUNTIF(AQ$13:BJ$13,処理!$L23)+COUNTIF(AQ$16:BJ$16,処理!$L23)+COUNTIF(AQ$19:BJ$19,処理!$L23)+COUNTIF(AQ$22:BJ$22,処理!$L23)+COUNTIF(AQ$25:BJ$25,処理!$L23))/処理!$M23,0))","v":""},"",{"$f":"$S$33","v":""},null,{"$f":"IF(LEN(BG33)=0,\"\",COUNTIF(AQ$6:BJ$7,BG33)+COUNTIF(AQ$10:BJ$10,BG33)+COUNTIF(AQ$13:BJ$13,BG33)+COUNTIF(AQ$16:BJ$16,BG33)+COUNTIF(AQ$19:BJ$19,BG33)+COUNTIF(AQ$22:BJ$22,BG33)+COUNTIF(AQ$25:BJ$25,BG33))","v":""},"",{"$f":"$C$33","v":""},null,{"$f":"IF(LEN(BK33)=0,\"\",(COUNTIF(BK$6:CD$7,BK33)+COUNTIF(BK$10:CD$10,BK33)+COUNTIF(BK$13:CD$13,BK33)+COUNTIF(BK$16:CD$16,BK33)+COUNTIF(BK$19:CD$19,BK33)+COUNTIF(BK$22:CD$22,BK33)+COUNTIF(BK$25:CD$25,BK33))/設定!$D24+IFERROR((COUNTIF(BK$6:CD$7,処理!$L5)+COUNTIF(BK$10:CD$10,処理!$L5)+COUNTIF(BK$13:CD$13,処理!$L5)+COUNTIF(BK$16:CD$16,処理!$L5)+COUNTIF(BK$19:CD$19,処理!$L5)+COUNTIF(BK$22:CD$22,処理!$L5)+COUNTIF(BK$25:CD$25,処理!$L5))/処理!$M5,0))","v":""},"",{"$f":"$G$33","v":""},null,{"$f":"IF(LEN(BO33)=0,\"\",(COUNTIF(BK$6:CD$7,BO33)+COUNTIF(BK$10:CD$10,BO33)+COUNTIF(BK$13:CD$13,BO33)+COUNTIF(BK$16:CD$16,BO33)+COUNTIF(BK$19:CD$19,BO33)+COUNTIF(BK$22:CD$22,BO33)+COUNTIF(BK$25:CD$25,BO33))/設定!$G24+IFERROR((COUNTIF(BK$6:CD$7,処理!$L11)+COUNTIF(BK$10:CD$10,処理!$L11)+COUNTIF(BK$13:CD$13,処理!$L11)+COUNTIF(BK$16:CD$16,処理!$L11)+COUNTIF(BK$19:CD$19,処理!$L11)+COUNTIF(BK$22:CD$22,処理!$L11)+COUNTIF(BK$25:CD$25,処理!$L11))/処理!$M11,0))","v":""},"",{"$f":"$K$33","v":""},null,{"$f":"IF(LEN(BS33)=0,\"\",(COUNTIF(BK$6:CD$7,BS33)+COUNTIF(BK$10:CD$10,BS33)+COUNTIF(BK$13:CD$13,BS33)+COUNTIF(BK$16:CD$16,BS33)+COUNTIF(BK$19:CD$19,BS33)+COUNTIF(BK$22:CD$22,BS33)+COUNTIF(BK$25:CD$25,BS33))/設定!$J24+IFERROR((COUNTIF(BK$6:CD$7,処理!$L17)+COUNTIF(BK$10:CD$10,処理!$L17)+COUNTIF(BK$13:CD$13,処理!$L17)+COUNTIF(BK$16:CD$16,処理!$L17)+COUNTIF(BK$19:CD$19,処理!$L17)+COUNTIF(BK$22:CD$22,処理!$L17)+COUNTIF(BK$25:CD$25,処理!$L17))/処理!$M17,0))","v":""},"",{"$f":"$O$33","v":""},null,{"$f":"IF(LEN(BW33)=0,\"\",(COUNTIF(BK$6:CD$7,BW33)+COUNTIF(BK$10:CD$10,BW33)+COUNTIF(BK$13:CD$13,BW33)+COUNTIF(BK$16:CD$16,BW33)+COUNTIF(BK$19:CD$19,BW33)+COUNTIF(BK$22:CD$22,BW33)+COUNTIF(BK$25:CD$25,BW33))/設定!$M24+IFERROR((COUNTIF(BK$6:CD$7,処理!$L23)+COUNTIF(BK$10:CD$10,処理!$L23)+COUNTIF(BK$13:CD$13,処理!$L23)+COUNTIF(BK$16:CD$16,処理!$L23)+COUNTIF(BK$19:CD$19,処理!$L23)+COUNTIF(BK$22:CD$22,処理!$L23)+COUNTIF(BK$25:CD$25,処理!$L23))/処理!$M23,0))","v":""},"",{"$f":"$S$33","v":""},null,{"$f":"IF(LEN(CA33)=0,\"\",COUNTIF(BK$6:CD$7,CA33)+COUNTIF(BK$10:CD$10,CA33)+COUNTIF(BK$13:CD$13,CA33)+COUNTIF(BK$16:CD$16,CA33)+COUNTIF(BK$19:CD$19,CA33)+COUNTIF(BK$22:CD$22,CA33)+COUNTIF(BK$25:CD$25,CA33))","v":""},"",{"$f":"$C$33","v":""},null,{"$f":"IF(LEN(CE33)=0,\"\",(COUNTIF(CE$6:CX$7,CE33)+COUNTIF(CE$10:CX$10,CE33)+COUNTIF(CE$13:CX$13,CE33)+COUNTIF(CE$16:CX$16,CE33)+COUNTIF(CE$19:CX$19,CE33)+COUNTIF(CE$22:CX$22,CE33)+COUNTIF(CE$25:CX$25,CE33))/設定!$D24+IFERROR((COUNTIF(CE$6:CX$7,処理!$L5)+COUNTIF(CE$10:CX$10,処理!$L5)+COUNTIF(CE$13:CX$13,処理!$L5)+COUNTIF(CE$16:CX$16,処理!$L5)+COUNTIF(CE$19:CX$19,処理!$L5)+COUNTIF(CE$22:CX$22,処理!$L5)+COUNTIF(CE$25:CX$25,処理!$L5))/処理!$M5,0))","v":""},"",{"$f":"$G$33","v":""},null,{"$f":"IF(LEN(CI33)=0,\"\",(COUNTIF(CE$6:CX$7,CI33)+COUNTIF(CE$10:CX$10,CI33)+COUNTIF(CE$13:CX$13,CI33)+COUNTIF(CE$16:CX$16,CI33)+COUNTIF(CE$19:CX$19,CI33)+COUNTIF(CE$22:CX$22,CI33)+COUNTIF(CE$25:CX$25,CI33))/設定!$G24+IFERROR((COUNTIF(CE$6:CX$7,処理!$L11)+COUNTIF(CE$10:CX$10,処理!$L11)+COUNTIF(CE$13:CX$13,処理!$L11)+COUNTIF(CE$16:CX$16,処理!$L11)+COUNTIF(CE$19:CX$19,処理!$L11)+COUNTIF(CE$22:CX$22,処理!$L11)+COUNTIF(CE$25:CX$25,処理!$L11))/処理!$M11,0))","v":""},"",{"$f":"$K$33","v":""},null,{"$f":"IF(LEN(CM33)=0,\"\",(COUNTIF(CE$6:CX$7,CM33)+COUNTIF(CE$10:CX$10,CM33)+COUNTIF(CE$13:CX$13,CM33)+COUNTIF(CE$16:CX$16,CM33)+COUNTIF(CE$19:CX$19,CM33)+COUNTIF(CE$22:CX$22,CM33)+COUNTIF(CE$25:CX$25,CM33))/設定!$J24+IFERROR((COUNTIF(CE$6:CX$7,処理!$L17)+COUNTIF(CE$10:CX$10,処理!$L17)+COUNTIF(CE$13:CX$13,処理!$L17)+COUNTIF(CE$16:CX$16,処理!$L17)+COUNTIF(CE$19:CX$19,処理!$L17)+COUNTIF(CE$22:CX$22,処理!$L17)+COUNTIF(CE$25:CX$25,処理!$L17))/処理!$M17,0))","v":""},"",{"$f":"$O$33","v":""},null,{"$f":"IF(LEN(CQ33)=0,\"\",(COUNTIF(CE$6:CX$7,CQ33)+COUNTIF(CE$10:CX$10,CQ33)+COUNTIF(CE$13:CX$13,CQ33)+COUNTIF(CE$16:CX$16,CQ33)+COUNTIF(CE$19:CX$19,CQ33)+COUNTIF(CE$22:CX$22,CQ33)+COUNTIF(CE$25:CX$25,CQ33))/設定!$M24+IFERROR((COUNTIF(CE$6:CX$7,処理!$L23)+COUNTIF(CE$10:CX$10,処理!$L23)+COUNTIF(CE$13:CX$13,処理!$L23)+COUNTIF(CE$16:CX$16,処理!$L23)+COUNTIF(CE$19:CX$19,処理!$L23)+COUNTIF(CE$22:CX$22,処理!$L23)+COUNTIF(CE$25:CX$25,処理!$L23))/処理!$M23,0))","v":""},"",{"$f":"$S$33","v":""},null,{"$f":"IF(LEN(CU33)=0,\"\",COUNTIF(CE$6:CX$7,CU33)+COUNTIF(CE$10:CX$10,CU33)+COUNTIF(CE$13:CX$13,CU33)+COUNTIF(CE$16:CX$16,CU33)+COUNTIF(CE$19:CX$19,CU33)+COUNTIF(CE$22:CX$22,CU33)+COUNTIF(CE$25:CX$25,CU33))","v":""},"",{"$f":"$C$33","v":""},null,{"$f":"IF(LEN(CY33)=0,\"\",(COUNTIF(CY$6:DR$7,CY33)+COUNTIF(CY$10:DR$10,CY33)+COUNTIF(CY$13:DR$13,CY33)+COUNTIF(CY$16:DR$16,CY33)+COUNTIF(CY$19:DR$19,CY33)+COUNTIF(CY$22:DR$22,CY33)+COUNTIF(CY$25:DR$25,CY33))/設定!$D24+IFERROR((COUNTIF(CY$6:DR$7,処理!$L5)+COUNTIF(CY$10:DR$10,処理!$L5)+COUNTIF(CY$13:DR$13,処理!$L5)+COUNTIF(CY$16:DR$16,処理!$L5)+COUNTIF(CY$19:DR$19,処理!$L5)+COUNTIF(CY$22:DR$22,処理!$L5)+COUNTIF(CY$25:DR$25,処理!$L5))/処理!$M5,0))","v":""},"",{"$f":"$G$33","v":""},null,{"$f":"IF(LEN(DC33)=0,\"\",(COUNTIF(CY$6:DR$7,DC33)+COUNTIF(CY$10:DR$10,DC33)+COUNTIF(CY$13:DR$13,DC33)+COUNTIF(CY$16:DR$16,DC33)+COUNTIF(CY$19:DR$19,DC33)+COUNTIF(CY$22:DR$22,DC33)+COUNTIF(CY$25:DR$25,DC33))/設定!$G24+IFERROR((COUNTIF(CY$6:DR$7,処理!$L11)+COUNTIF(CY$10:DR$10,処理!$L11)+COUNTIF(CY$13:DR$13,処理!$L11)+COUNTIF(CY$16:DR$16,処理!$L11)+COUNTIF(CY$19:DR$19,処理!$L11)+COUNTIF(CY$22:DR$22,処理!$L11)+COUNTIF(CY$25:DR$25,処理!$L11))/処理!$M11,0))","v":""},"",{"$f":"$K$33","v":""},null,{"$f":"IF(LEN(DG33)=0,\"\",(COUNTIF(CY$6:DR$7,DG33)+COUNTIF(CY$10:DR$10,DG33)+COUNTIF(CY$13:DR$13,DG33)+COUNTIF(CY$16:DR$16,DG33)+COUNTIF(CY$19:DR$19,DG33)+COUNTIF(CY$22:DR$22,DG33)+COUNTIF(CY$25:DR$25,DG33))/設定!$J24+IFERROR((COUNTIF(CY$6:DR$7,処理!$L17)+COUNTIF(CY$10:DR$10,処理!$L17)+COUNTIF(CY$13:DR$13,処理!$L17)+COUNTIF(CY$16:DR$16,処理!$L17)+COUNTIF(CY$19:DR$19,処理!$L17)+COUNTIF(CY$22:DR$22,処理!$L17)+COUNTIF(CY$25:DR$25,処理!$L17))/処理!$M17,0))","v":""},"",{"$f":"$O$33","v":""},null,{"$f":"IF(LEN(DK33)=0,\"\",(COUNTIF(CY$6:DR$7,DK33)+COUNTIF(CY$10:DR$10,DK33)+COUNTIF(CY$13:DR$13,DK33)+COUNTIF(CY$16:DR$16,DK33)+COUNTIF(CY$19:DR$19,DK33)+COUNTIF(CY$22:DR$22,DK33)+COUNTIF(CY$25:DR$25,DK33))/設定!$M24+IFERROR((COUNTIF(CY$6:DR$7,処理!$L23)+COUNTIF(CY$10:DR$10,処理!$L23)+COUNTIF(CY$13:DR$13,処理!$L23)+COUNTIF(CY$16:DR$16,処理!$L23)+COUNTIF(CY$19:DR$19,処理!$L23)+COUNTIF(CY$22:DR$22,処理!$L23)+COUNTIF(CY$25:DR$25,処理!$L23))/処理!$M23,0))","v":""},"",{"$f":"$S$33","v":""},null,{"$f":"IF(LEN(DO33)=0,\"\",COUNTIF(CY$6:DR$7,DO33)+COUNTIF(CY$10:DR$10,DO33)+COUNTIF(CY$13:DR$13,DO33)+COUNTIF(CY$16:DR$16,DO33)+COUNTIF(CY$19:DR$19,DO33)+COUNTIF(CY$22:DR$22,DO33)+COUNTIF(CY$25:DR$25,DO33))","v":""},"",{"$f":"$C$33","v":""},null,{"$f":"IF(LEN(DS33)=0,\"\",(COUNTIF(DS$6:EL$7,DS33)+COUNTIF(DS$10:EL$10,DS33)+COUNTIF(DS$13:EL$13,DS33)+COUNTIF(DS$16:EL$16,DS33)+COUNTIF(DS$19:EL$19,DS33)+COUNTIF(DS$22:EL$22,DS33)+COUNTIF(DS$25:EL$25,DS33))/設定!$D24+IFERROR((COUNTIF(DS$6:EL$7,処理!$L5)+COUNTIF(DS$10:EL$10,処理!$L5)+COUNTIF(DS$13:EL$13,処理!$L5)+COUNTIF(DS$16:EL$16,処理!$L5)+COUNTIF(DS$19:EL$19,処理!$L5)+COUNTIF(DS$22:EL$22,処理!$L5)+COUNTIF(DS$25:EL$25,処理!$L5))/処理!$M5,0))","v":""},"",{"$f":"$G$33","v":""},null,{"$f":"IF(LEN(DW33)=0,\"\",(COUNTIF(DS$6:EL$7,DW33)+COUNTIF(DS$10:EL$10,DW33)+COUNTIF(DS$13:EL$13,DW33)+COUNTIF(DS$16:EL$16,DW33)+COUNTIF(DS$19:EL$19,DW33)+COUNTIF(DS$22:EL$22,DW33)+COUNTIF(DS$25:EL$25,DW33))/設定!$G24+IFERROR((COUNTIF(DS$6:EL$7,処理!$L11)+COUNTIF(DS$10:EL$10,処理!$L11)+COUNTIF(DS$13:EL$13,処理!$L11)+COUNTIF(DS$16:EL$16,処理!$L11)+COUNTIF(DS$19:EL$19,処理!$L11)+COUNTIF(DS$22:EL$22,処理!$L11)+COUNTIF(DS$25:EL$25,処理!$L11))/処理!$M11,0))","v":""},"",{"$f":"$K$33","v":""},null,{"$f":"IF(LEN(EA33)=0,\"\",(COUNTIF(DS$6:EL$7,EA33)+COUNTIF(DS$10:EL$10,EA33)+COUNTIF(DS$13:EL$13,EA33)+COUNTIF(DS$16:EL$16,EA33)+COUNTIF(DS$19:EL$19,EA33)+COUNTIF(DS$22:EL$22,EA33)+COUNTIF(DS$25:EL$25,EA33))/設定!$J24+IFERROR((COUNTIF(DS$6:EL$7,処理!$L17)+COUNTIF(DS$10:EL$10,処理!$L17)+COUNTIF(DS$13:EL$13,処理!$L17)+COUNTIF(DS$16:EL$16,処理!$L17)+COUNTIF(DS$19:EL$19,処理!$L17)+COUNTIF(DS$22:EL$22,処理!$L17)+COUNTIF(DS$25:EL$25,処理!$L17))/処理!$M17,0))","v":""},"",{"$f":"$O$33","v":""},null,{"$f":"IF(LEN(EE33)=0,\"\",(COUNTIF(DS$6:EL$7,EE33)+COUNTIF(DS$10:EL$10,EE33)+COUNTIF(DS$13:EL$13,EE33)+COUNTIF(DS$16:EL$16,EE33)+COUNTIF(DS$19:EL$19,EE33)+COUNTIF(DS$22:EL$22,EE33)+COUNTIF(DS$25:EL$25,EE33))/設定!$M24+IFERROR((COUNTIF(DS$6:EL$7,処理!$L23)+COUNTIF(DS$10:EL$10,処理!$L23)+COUNTIF(DS$13:EL$13,処理!$L23)+COUNTIF(DS$16:EL$16,処理!$L23)+COUNTIF(DS$19:EL$19,処理!$L23)+COUNTIF(DS$22:EL$22,処理!$L23)+COUNTIF(DS$25:EL$25,処理!$L23))/処理!$M23,0))","v":""},"",{"$f":"$S$33","v":""},null,{"$f":"IF(LEN(EI33)=0,\"\",COUNTIF(DS$6:EL$7,EI33)+COUNTIF(DS$10:EL$10,EI33)+COUNTIF(DS$13:EL$13,EI33)+COUNTIF(DS$16:EL$16,EI33)+COUNTIF(DS$19:EL$19,EI33)+COUNTIF(DS$22:EL$22,EI33)+COUNTIF(DS$25:EL$25,EI33))","v":""},"",{"$f":"$C$33","v":""},null,{"$f":"IF(LEN(EM33)=0,\"\",(COUNTIF(EM$6:FF$7,EM33)+COUNTIF(EM$10:FF$10,EM33)+COUNTIF(EM$13:FF$13,EM33)+COUNTIF(EM$16:FF$16,EM33)+COUNTIF(EM$19:FF$19,EM33)+COUNTIF(EM$22:FF$22,EM33)+COUNTIF(EM$25:FF$25,EM33))/設定!$D24+IFERROR((COUNTIF(EM$6:FF$7,処理!$L5)+COUNTIF(EM$10:FF$10,処理!$L5)+COUNTIF(EM$13:FF$13,処理!$L5)+COUNTIF(EM$16:FF$16,処理!$L5)+COUNTIF(EM$19:FF$19,処理!$L5)+COUNTIF(EM$22:FF$22,処理!$L5)+COUNTIF(EM$25:FF$25,処理!$L5))/処理!$M5,0))","v":""},"",{"$f":"$G$33","v":""},null,{"$f":"IF(LEN(EQ33)=0,\"\",(COUNTIF(EM$6:FF$7,EQ33)+COUNTIF(EM$10:FF$10,EQ33)+COUNTIF(EM$13:FF$13,EQ33)+COUNTIF(EM$16:FF$16,EQ33)+COUNTIF(EM$19:FF$19,EQ33)+COUNTIF(EM$22:FF$22,EQ33)+COUNTIF(EM$25:FF$25,EQ33))/設定!$G24+IFERROR((COUNTIF(EM$6:FF$7,処理!$L11)+COUNTIF(EM$10:FF$10,処理!$L11)+COUNTIF(EM$13:FF$13,処理!$L11)+COUNTIF(EM$16:FF$16,処理!$L11)+COUNTIF(EM$19:FF$19,処理!$L11)+COUNTIF(EM$22:FF$22,処理!$L11)+COUNTIF(EM$25:FF$25,処理!$L11))/処理!$M11,0))","v":""},"",{"$f":"$K$33","v":""},null,{"$f":"IF(LEN(EU33)=0,\"\",(COUNTIF(EM$6:FF$7,EU33)+COUNTIF(EM$10:FF$10,EU33)+COUNTIF(EM$13:FF$13,EU33)+COUNTIF(EM$16:FF$16,EU33)+COUNTIF(EM$19:FF$19,EU33)+COUNTIF(EM$22:FF$22,EU33)+COUNTIF(EM$25:FF$25,EU33))/設定!$J24+IFERROR((COUNTIF(EM$6:FF$7,処理!$L17)+COUNTIF(EM$10:FF$10,処理!$L17)+COUNTIF(EM$13:FF$13,処理!$L17)+COUNTIF(EM$16:FF$16,処理!$L17)+COUNTIF(EM$19:FF$19,処理!$L17)+COUNTIF(EM$22:FF$22,処理!$L17)+COUNTIF(EM$25:FF$25,処理!$L17))/処理!$M17,0))","v":""},"",{"$f":"$O$33","v":""},null,{"$f":"IF(LEN(EY33)=0,\"\",(COUNTIF(EM$6:FF$7,EY33)+COUNTIF(EM$10:FF$10,EY33)+COUNTIF(EM$13:FF$13,EY33)+COUNTIF(EM$16:FF$16,EY33)+COUNTIF(EM$19:FF$19,EY33)+COUNTIF(EM$22:FF$22,EY33)+COUNTIF(EM$25:FF$25,EY33))/設定!$M24+IFERROR((COUNTIF(EM$6:FF$7,処理!$L23)+COUNTIF(EM$10:FF$10,処理!$L23)+COUNTIF(EM$13:FF$13,処理!$L23)+COUNTIF(EM$16:FF$16,処理!$L23)+COUNTIF(EM$19:FF$19,処理!$L23)+COUNTIF(EM$22:FF$22,処理!$L23)+COUNTIF(EM$25:FF$25,処理!$L23))/処理!$M23,0))","v":""},"",{"$f":"$S$33","v":""},null,{"$f":"IF(LEN(FC33)=0,\"\",COUNTIF(EM$6:FF$7,FC33)+COUNTIF(EM$10:FF$10,FC33)+COUNTIF(EM$13:FF$13,FC33)+COUNTIF(EM$16:FF$16,FC33)+COUNTIF(EM$19:FF$19,FC33)+COUNTIF(EM$22:FF$22,FC33)+COUNTIF(EM$25:FF$25,FC33))","v":""},"",{"$f":"$C$33","v":""},null,{"$f":"IF(LEN(FG33)=0,\"\",(COUNTIF(FG$6:FZ$7,FG33)+COUNTIF(FG$10:FZ$10,FG33)+COUNTIF(FG$13:FZ$13,FG33)+COUNTIF(FG$16:FZ$16,FG33)+COUNTIF(FG$19:FZ$19,FG33)+COUNTIF(FG$22:FZ$22,FG33)+COUNTIF(FG$25:FZ$25,FG33))/設定!$D24+IFERROR((COUNTIF(FG$6:FZ$7,処理!$L5)+COUNTIF(FG$10:FZ$10,処理!$L5)+COUNTIF(FG$13:FZ$13,処理!$L5)+COUNTIF(FG$16:FZ$16,処理!$L5)+COUNTIF(FG$19:FZ$19,処理!$L5)+COUNTIF(FG$22:FZ$22,処理!$L5)+COUNTIF(FG$25:FZ$25,処理!$L5))/処理!$M5,0))","v":""},"",{"$f":"$G$33","v":""},null,{"$f":"IF(LEN(FK33)=0,\"\",(COUNTIF(FG$6:FZ$7,FK33)+COUNTIF(FG$10:FZ$10,FK33)+COUNTIF(FG$13:FZ$13,FK33)+COUNTIF(FG$16:FZ$16,FK33)+COUNTIF(FG$19:FZ$19,FK33)+COUNTIF(FG$22:FZ$22,FK33)+COUNTIF(FG$25:FZ$25,FK33))/設定!$G24+IFERROR((COUNTIF(FG$6:FZ$7,処理!$L11)+COUNTIF(FG$10:FZ$10,処理!$L11)+COUNTIF(FG$13:FZ$13,処理!$L11)+COUNTIF(FG$16:FZ$16,処理!$L11)+COUNTIF(FG$19:FZ$19,処理!$L11)+COUNTIF(FG$22:FZ$22,処理!$L11)+COUNTIF(FG$25:FZ$25,処理!$L11))/処理!$M11,0))","v":""},"",{"$f":"$K$33","v":""},null,{"$f":"IF(LEN(FO33)=0,\"\",(COUNTIF(FG$6:FZ$7,FO33)+COUNTIF(FG$10:FZ$10,FO33)+COUNTIF(FG$13:FZ$13,FO33)+COUNTIF(FG$16:FZ$16,FO33)+COUNTIF(FG$19:FZ$19,FO33)+COUNTIF(FG$22:FZ$22,FO33)+COUNTIF(FG$25:FZ$25,FO33))/設定!$J24+IFERROR((COUNTIF(FG$6:FZ$7,処理!$L17)+COUNTIF(FG$10:FZ$10,処理!$L17)+COUNTIF(FG$13:FZ$13,処理!$L17)+COUNTIF(FG$16:FZ$16,処理!$L17)+COUNTIF(FG$19:FZ$19,処理!$L17)+COUNTIF(FG$22:FZ$22,処理!$L17)+COUNTIF(FG$25:FZ$25,処理!$L17))/処理!$M17,0))","v":""},"",{"$f":"$O$33","v":""},null,{"$f":"IF(LEN(FS33)=0,\"\",(COUNTIF(FG$6:FZ$7,FS33)+COUNTIF(FG$10:FZ$10,FS33)+COUNTIF(FG$13:FZ$13,FS33)+COUNTIF(FG$16:FZ$16,FS33)+COUNTIF(FG$19:FZ$19,FS33)+COUNTIF(FG$22:FZ$22,FS33)+COUNTIF(FG$25:FZ$25,FS33))/設定!$M24+IFERROR((COUNTIF(FG$6:FZ$7,処理!$L23)+COUNTIF(FG$10:FZ$10,処理!$L23)+COUNTIF(FG$13:FZ$13,処理!$L23)+COUNTIF(FG$16:FZ$16,処理!$L23)+COUNTIF(FG$19:FZ$19,処理!$L23)+COUNTIF(FG$22:FZ$22,処理!$L23)+COUNTIF(FG$25:FZ$25,処理!$L23))/処理!$M23,0))","v":""},"",{"$f":"$S$33","v":""},null,{"$f":"IF(LEN(FW33)=0,\"\",COUNTIF(FG$6:FZ$7,FW33)+COUNTIF(FG$10:FZ$10,FW33)+COUNTIF(FG$13:FZ$13,FW33)+COUNTIF(FG$16:FZ$16,FW33)+COUNTIF(FG$19:FZ$19,FW33)+COUNTIF(FG$22:FZ$22,FW33)+COUNTIF(FG$25:FZ$25,FW33))","v":""},"",{"$f":"$C$33","v":""},null,{"$f":"IF(LEN(GA33)=0,\"\",(COUNTIF(GA$6:GT$7,GA33)+COUNTIF(GA$10:GT$10,GA33)+COUNTIF(GA$13:GT$13,GA33)+COUNTIF(GA$16:GT$16,GA33)+COUNTIF(GA$19:GT$19,GA33)+COUNTIF(GA$22:GT$22,GA33)+COUNTIF(GA$25:GT$25,GA33))/設定!$D24+IFERROR((COUNTIF(GA$6:GT$7,処理!$L5)+COUNTIF(GA$10:GT$10,処理!$L5)+COUNTIF(GA$13:GT$13,処理!$L5)+COUNTIF(GA$16:GT$16,処理!$L5)+COUNTIF(GA$19:GT$19,処理!$L5)+COUNTIF(GA$22:GT$22,処理!$L5)+COUNTIF(GA$25:GT$25,処理!$L5))/処理!$M5,0))","v":""},"",{"$f":"$G$33","v":""},null,{"$f":"IF(LEN(GE33)=0,\"\",(COUNTIF(GA$6:GT$7,GE33)+COUNTIF(GA$10:GT$10,GE33)+COUNTIF(GA$13:GT$13,GE33)+COUNTIF(GA$16:GT$16,GE33)+COUNTIF(GA$19:GT$19,GE33)+COUNTIF(GA$22:GT$22,GE33)+COUNTIF(GA$25:GT$25,GE33))/設定!$G24+IFERROR((COUNTIF(GA$6:GT$7,処理!$L11)+COUNTIF(GA$10:GT$10,処理!$L11)+COUNTIF(GA$13:GT$13,処理!$L11)+COUNTIF(GA$16:GT$16,処理!$L11)+COUNTIF(GA$19:GT$19,処理!$L11)+COUNTIF(GA$22:GT$22,処理!$L11)+COUNTIF(GA$25:GT$25,処理!$L11))/処理!$M11,0))","v":""},"",{"$f":"$K$33","v":""},null,{"$f":"IF(LEN(GI33)=0,\"\",(COUNTIF(GA$6:GT$7,GI33)+COUNTIF(GA$10:GT$10,GI33)+COUNTIF(GA$13:GT$13,GI33)+COUNTIF(GA$16:GT$16,GI33)+COUNTIF(GA$19:GT$19,GI33)+COUNTIF(GA$22:GT$22,GI33)+COUNTIF(GA$25:GT$25,GI33))/設定!$J24+IFERROR((COUNTIF(GA$6:GT$7,処理!$L17)+COUNTIF(GA$10:GT$10,処理!$L17)+COUNTIF(GA$13:GT$13,処理!$L17)+COUNTIF(GA$16:GT$16,処理!$L17)+COUNTIF(GA$19:GT$19,処理!$L17)+COUNTIF(GA$22:GT$22,処理!$L17)+COUNTIF(GA$25:GT$25,処理!$L17))/処理!$M17,0))","v":""},"",{"$f":"$O$33","v":""},null,{"$f":"IF(LEN(GM33)=0,\"\",(COUNTIF(GA$6:GT$7,GM33)+COUNTIF(GA$10:GT$10,GM33)+COUNTIF(GA$13:GT$13,GM33)+COUNTIF(GA$16:GT$16,GM33)+COUNTIF(GA$19:GT$19,GM33)+COUNTIF(GA$22:GT$22,GM33)+COUNTIF(GA$25:GT$25,GM33))/設定!$M24+IFERROR((COUNTIF(GA$6:GT$7,処理!$L23)+COUNTIF(GA$10:GT$10,処理!$L23)+COUNTIF(GA$13:GT$13,処理!$L23)+COUNTIF(GA$16:GT$16,処理!$L23)+COUNTIF(GA$19:GT$19,処理!$L23)+COUNTIF(GA$22:GT$22,処理!$L23)+COUNTIF(GA$25:GT$25,処理!$L23))/処理!$M23,0))","v":""},"",{"$f":"$S$33","v":""},null,{"$f":"IF(LEN(GQ33)=0,\"\",COUNTIF(GA$6:GT$7,GQ33)+COUNTIF(GA$10:GT$10,GQ33)+COUNTIF(GA$13:GT$13,GQ33)+COUNTIF(GA$16:GT$16,GQ33)+COUNTIF(GA$19:GT$19,GQ33)+COUNTIF(GA$22:GT$22,GQ33)+COUNTIF(GA$25:GT$25,GQ33))","v":""},"",{"$f":"$C$33","v":""},null,{"$f":"IF(LEN(GU33)=0,\"\",(COUNTIF(GU$6:HN$7,GU33)+COUNTIF(GU$10:HN$10,GU33)+COUNTIF(GU$13:HN$13,GU33)+COUNTIF(GU$16:HN$16,GU33)+COUNTIF(GU$19:HN$19,GU33)+COUNTIF(GU$22:HN$22,GU33)+COUNTIF(GU$25:HN$25,GU33))/設定!$D24+IFERROR((COUNTIF(GU$6:HN$7,処理!$L5)+COUNTIF(GU$10:HN$10,処理!$L5)+COUNTIF(GU$13:HN$13,処理!$L5)+COUNTIF(GU$16:HN$16,処理!$L5)+COUNTIF(GU$19:HN$19,処理!$L5)+COUNTIF(GU$22:HN$22,処理!$L5)+COUNTIF(GU$25:HN$25,処理!$L5))/処理!$M5,0))","v":""},"",{"$f":"$G$33","v":""},null,{"$f":"IF(LEN(GY33)=0,\"\",(COUNTIF(GU$6:HN$7,GY33)+COUNTIF(GU$10:HN$10,GY33)+COUNTIF(GU$13:HN$13,GY33)+COUNTIF(GU$16:HN$16,GY33)+COUNTIF(GU$19:HN$19,GY33)+COUNTIF(GU$22:HN$22,GY33)+COUNTIF(GU$25:HN$25,GY33))/設定!$G24+IFERROR((COUNTIF(GU$6:HN$7,処理!$L11)+COUNTIF(GU$10:HN$10,処理!$L11)+COUNTIF(GU$13:HN$13,処理!$L11)+COUNTIF(GU$16:HN$16,処理!$L11)+COUNTIF(GU$19:HN$19,処理!$L11)+COUNTIF(GU$22:HN$22,処理!$L11)+COUNTIF(GU$25:HN$25,処理!$L11))/処理!$M11,0))","v":""},"",{"$f":"$K$33","v":""},null,{"$f":"IF(LEN(HC33)=0,\"\",(COUNTIF(GU$6:HN$7,HC33)+COUNTIF(GU$10:HN$10,HC33)+COUNTIF(GU$13:HN$13,HC33)+COUNTIF(GU$16:HN$16,HC33)+COUNTIF(GU$19:HN$19,HC33)+COUNTIF(GU$22:HN$22,HC33)+COUNTIF(GU$25:HN$25,HC33))/設定!$J24+IFERROR((COUNTIF(GU$6:HN$7,処理!$L17)+COUNTIF(GU$10:HN$10,処理!$L17)+COUNTIF(GU$13:HN$13,処理!$L17)+COUNTIF(GU$16:HN$16,処理!$L17)+COUNTIF(GU$19:HN$19,処理!$L17)+COUNTIF(GU$22:HN$22,処理!$L17)+COUNTIF(GU$25:HN$25,処理!$L17))/処理!$M17,0))","v":""},"",{"$f":"$O$33","v":""},null,{"$f":"IF(LEN(HG33)=0,\"\",(COUNTIF(GU$6:HN$7,HG33)+COUNTIF(GU$10:HN$10,HG33)+COUNTIF(GU$13:HN$13,HG33)+COUNTIF(GU$16:HN$16,HG33)+COUNTIF(GU$19:HN$19,HG33)+COUNTIF(GU$22:HN$22,HG33)+COUNTIF(GU$25:HN$25,HG33))/設定!$M24+IFERROR((COUNTIF(GU$6:HN$7,処理!$L23)+COUNTIF(GU$10:HN$10,処理!$L23)+COUNTIF(GU$13:HN$13,処理!$L23)+COUNTIF(GU$16:HN$16,処理!$L23)+COUNTIF(GU$19:HN$19,処理!$L23)+COUNTIF(GU$22:HN$22,処理!$L23)+COUNTIF(GU$25:HN$25,処理!$L23))/処理!$M23,0))","v":""},"",{"$f":"$S$33","v":""},null,{"$f":"IF(LEN(HK33)=0,\"\",COUNTIF(GU$6:HN$7,HK33)+COUNTIF(GU$10:HN$10,HK33)+COUNTIF(GU$13:HN$13,HK33)+COUNTIF(GU$16:HN$16,HK33)+COUNTIF(GU$19:HN$19,HK33)+COUNTIF(GU$22:HN$22,HK33)+COUNTIF(GU$25:HN$25,HK33))","v":""},"",{"$f":"$C$33","v":""},null,{"$f":"IF(LEN(HO33)=0,\"\",(COUNTIF(HO$6:IH$7,HO33)+COUNTIF(HO$10:IH$10,HO33)+COUNTIF(HO$13:IH$13,HO33)+COUNTIF(HO$16:IH$16,HO33)+COUNTIF(HO$19:IH$19,HO33)+COUNTIF(HO$22:IH$22,HO33)+COUNTIF(HO$25:IH$25,HO33))/設定!$D24+IFERROR((COUNTIF(HO$6:IH$7,処理!$L5)+COUNTIF(HO$10:IH$10,処理!$L5)+COUNTIF(HO$13:IH$13,処理!$L5)+COUNTIF(HO$16:IH$16,処理!$L5)+COUNTIF(HO$19:IH$19,処理!$L5)+COUNTIF(HO$22:IH$22,処理!$L5)+COUNTIF(HO$25:IH$25,処理!$L5))/処理!$M5,0))","v":""},"",{"$f":"$G$33","v":""},null,{"$f":"IF(LEN(HS33)=0,\"\",(COUNTIF(HO$6:IH$7,HS33)+COUNTIF(HO$10:IH$10,HS33)+COUNTIF(HO$13:IH$13,HS33)+COUNTIF(HO$16:IH$16,HS33)+COUNTIF(HO$19:IH$19,HS33)+COUNTIF(HO$22:IH$22,HS33)+COUNTIF(HO$25:IH$25,HS33))/設定!$G24+IFERROR((COUNTIF(HO$6:IH$7,処理!$L11)+COUNTIF(HO$10:IH$10,処理!$L11)+COUNTIF(HO$13:IH$13,処理!$L11)+COUNTIF(HO$16:IH$16,処理!$L11)+COUNTIF(HO$19:IH$19,処理!$L11)+COUNTIF(HO$22:IH$22,処理!$L11)+COUNTIF(HO$25:IH$25,処理!$L11))/処理!$M11,0))","v":""},"",{"$f":"$K$33","v":""},null,{"$f":"IF(LEN(HW33)=0,\"\",(COUNTIF(HO$6:IH$7,HW33)+COUNTIF(HO$10:IH$10,HW33)+COUNTIF(HO$13:IH$13,HW33)+COUNTIF(HO$16:IH$16,HW33)+COUNTIF(HO$19:IH$19,HW33)+COUNTIF(HO$22:IH$22,HW33)+COUNTIF(HO$25:IH$25,HW33))/設定!$J24+IFERROR((COUNTIF(HO$6:IH$7,処理!$L17)+COUNTIF(HO$10:IH$10,処理!$L17)+COUNTIF(HO$13:IH$13,処理!$L17)+COUNTIF(HO$16:IH$16,処理!$L17)+COUNTIF(HO$19:IH$19,処理!$L17)+COUNTIF(HO$22:IH$22,処理!$L17)+COUNTIF(HO$25:IH$25,処理!$L17))/処理!$M17,0))","v":""},"",{"$f":"$O$33","v":""},null,{"$f":"IF(LEN(IA33)=0,\"\",(COUNTIF(HO$6:IH$7,IA33)+COUNTIF(HO$10:IH$10,IA33)+COUNTIF(HO$13:IH$13,IA33)+COUNTIF(HO$16:IH$16,IA33)+COUNTIF(HO$19:IH$19,IA33)+COUNTIF(HO$22:IH$22,IA33)+COUNTIF(HO$25:IH$25,IA33))/設定!$M24+IFERROR((COUNTIF(HO$6:IH$7,処理!$L23)+COUNTIF(HO$10:IH$10,処理!$L23)+COUNTIF(HO$13:IH$13,処理!$L23)+COUNTIF(HO$16:IH$16,処理!$L23)+COUNTIF(HO$19:IH$19,処理!$L23)+COUNTIF(HO$22:IH$22,処理!$L23)+COUNTIF(HO$25:IH$25,処理!$L23))/処理!$M23,0))","v":""},"",{"$f":"$S$33","v":""},null,{"$f":"IF(LEN(IE33)=0,\"\",COUNTIF(HO$6:IH$7,IE33)+COUNTIF(HO$10:IH$10,IE33)+COUNTIF(HO$13:IH$13,IE33)+COUNTIF(HO$16:IH$16,IE33)+COUNTIF(HO$19:IH$19,IE33)+COUNTIF(HO$22:IH$22,IE33)+COUNTIF(HO$25:IH$25,IE33))","v":""},"",{"$f":"$C$33","v":""},null,{"$f":"IF(LEN(II33)=0,\"\",(COUNTIF(II$6:JB$7,II33)+COUNTIF(II$10:JB$10,II33)+COUNTIF(II$13:JB$13,II33)+COUNTIF(II$16:JB$16,II33)+COUNTIF(II$19:JB$19,II33)+COUNTIF(II$22:JB$22,II33)+COUNTIF(II$25:JB$25,II33))/設定!$D24+IFERROR((COUNTIF(II$6:JB$7,処理!$L5)+COUNTIF(II$10:JB$10,処理!$L5)+COUNTIF(II$13:JB$13,処理!$L5)+COUNTIF(II$16:JB$16,処理!$L5)+COUNTIF(II$19:JB$19,処理!$L5)+COUNTIF(II$22:JB$22,処理!$L5)+COUNTIF(II$25:JB$25,処理!$L5))/処理!$M5,0))","v":""},"",{"$f":"$G$33","v":""},null,{"$f":"IF(LEN(IM33)=0,\"\",(COUNTIF(II$6:JB$7,IM33)+COUNTIF(II$10:JB$10,IM33)+COUNTIF(II$13:JB$13,IM33)+COUNTIF(II$16:JB$16,IM33)+COUNTIF(II$19:JB$19,IM33)+COUNTIF(II$22:JB$22,IM33)+COUNTIF(II$25:JB$25,IM33))/設定!$G24+IFERROR((COUNTIF(II$6:JB$7,処理!$L11)+COUNTIF(II$10:JB$10,処理!$L11)+COUNTIF(II$13:JB$13,処理!$L11)+COUNTIF(II$16:JB$16,処理!$L11)+COUNTIF(II$19:JB$19,処理!$L11)+COUNTIF(II$22:JB$22,処理!$L11)+COUNTIF(II$25:JB$25,処理!$L11))/処理!$M11,0))","v":""},"",{"$f":"$K$33","v":""},null,{"$f":"IF(LEN(IQ33)=0,\"\",(COUNTIF(II$6:JB$7,IQ33)+COUNTIF(II$10:JB$10,IQ33)+COUNTIF(II$13:JB$13,IQ33)+COUNTIF(II$16:JB$16,IQ33)+COUNTIF(II$19:JB$19,IQ33)+COUNTIF(II$22:JB$22,IQ33)+COUNTIF(II$25:JB$25,IQ33))/設定!$J24+IFERROR((COUNTIF(II$6:JB$7,処理!$L17)+COUNTIF(II$10:JB$10,処理!$L17)+COUNTIF(II$13:JB$13,処理!$L17)+COUNTIF(II$16:JB$16,処理!$L17)+COUNTIF(II$19:JB$19,処理!$L17)+COUNTIF(II$22:JB$22,処理!$L17)+COUNTIF(II$25:JB$25,処理!$L17))/処理!$M17,0))","v":""},"",{"$f":"$O$33","v":""},null,{"$f":"IF(LEN(IU33)=0,\"\",(COUNTIF(II$6:JB$7,IU33)+COUNTIF(II$10:JB$10,IU33)+COUNTIF(II$13:JB$13,IU33)+COUNTIF(II$16:JB$16,IU33)+COUNTIF(II$19:JB$19,IU33)+COUNTIF(II$22:JB$22,IU33)+COUNTIF(II$25:JB$25,IU33))/設定!$M24+IFERROR((COUNTIF(II$6:JB$7,処理!$L23)+COUNTIF(II$10:JB$10,処理!$L23)+COUNTIF(II$13:JB$13,処理!$L23)+COUNTIF(II$16:JB$16,処理!$L23)+COUNTIF(II$19:JB$19,処理!$L23)+COUNTIF(II$22:JB$22,処理!$L23)+COUNTIF(II$25:JB$25,処理!$L23))/処理!$M23,0))","v":""},"",{"$f":"$S$33","v":""},null,{"$f":"IF(LEN(IY33)=0,\"\",COUNTIF(II$6:JB$7,IY33)+COUNTIF(II$10:JB$10,IY33)+COUNTIF(II$13:JB$13,IY33)+COUNTIF(II$16:JB$16,IY33)+COUNTIF(II$19:JB$19,IY33)+COUNTIF(II$22:JB$22,IY33)+COUNTIF(II$25:JB$25,IY33))","v":""},""]
[null,null,{"$f":"IF(COUNTIF(処理!$J$2:$J$25,4)>0,処理!H6,\"\")","v":""},null,{"$f":"IF(LEN(C34)=0,\"\",(COUNTIF(C$6:V$7,C34)+COUNTIF(C$10:V$10,C34)+COUNTIF(C$13:V$13,C34)+COUNTIF(C$16:V$16,C34)+COUNTIF(C$19:V$19,C34)+COUNTIF(C$22:V$22,C34)+COUNTIF(C$25:V$25,C34))/設定!$D25+IFERROR((COUNTIF(C$6:V$7,処理!$L6)+COUNTIF(C$10:V$10,処理!$L6)+COUNTIF(C$13:V$13,処理!$L6)+COUNTIF(C$16:V$16,処理!$L6)+COUNTIF(C$19:V$19,処理!$L6)+COUNTIF(C$22:V$22,処理!$L6)+COUNTIF(C$25:V$25,処理!$L6))/処理!$M6,0))","v":""},"",{"$f":"IF(COUNTIF(処理!$J$2:$J$25,10)>0,処理!H12,\"\")","v":""},null,{"$f":"IF(LEN(G34)=0,\"\",(COUNTIF(C$6:V$7,G34)+COUNTIF(C$10:V$10,G34)+COUNTIF(C$13:V$13,G34)+COUNTIF(C$16:V$16,G34)+COUNTIF(C$19:V$19,G34)+COUNTIF(C$22:V$22,G34)+COUNTIF(C$25:V$25,G34))/設定!$G25+IFERROR((COUNTIF(C$6:V$7,処理!$L12)+COUNTIF(C$10:V$10,処理!$L12)+COUNTIF(C$13:V$13,処理!$L12)+COUNTIF(C$16:V$16,処理!$L12)+COUNTIF(C$19:V$19,処理!$L12)+COUNTIF(C$22:V$22,処理!$L12)+COUNTIF(C$25:V$25,処理!$L12))/処理!$M12,0))","v":""},"",{"$f":"IF(COUNTIF(処理!$J$2:$J$25,16)>0,処理!H18,\"\")","v":""},null,{"$f":"IF(LEN(K34)=0,\"\",(COUNTIF(C$6:V$7,K34)+COUNTIF(C$10:V$10,K34)+COUNTIF(C$13:V$13,K34)+COUNTIF(C$16:V$16,K34)+COUNTIF(C$19:V$19,K34)+COUNTIF(C$22:V$22,K34)+COUNTIF(C$25:V$25,K34))/設定!$J25+IFERROR((COUNTIF(C$6:V$7,処理!$L18)+COUNTIF(C$10:V$10,処理!$L18)+COUNTIF(C$13:V$13,処理!$L18)+COUNTIF(C$16:V$16,処理!$L18)+COUNTIF(C$19:V$19,処理!$L18)+COUNTIF(C$22:V$22,処理!$L18)+COUNTIF(C$25:V$25,処理!$L18))/処理!$M18,0))","v":""},"",{"$f":"IF(COUNTIF(処理!$J$2:$J$25,22)>0,処理!H24,\"\")","v":""},null,{"$f":"IF(LEN(O34)=0,\"\",(COUNTIF(C$6:V$7,O34)+COUNTIF(C$10:V$10,O34)+COUNTIF(C$13:V$13,O34)+COUNTIF(C$16:V$16,O34)+COUNTIF(C$19:V$19,O34)+COUNTIF(C$22:V$22,O34)+COUNTIF(C$25:V$25,O34))/設定!$M25+IFERROR((COUNTIF(C$6:V$7,処理!$L24)+COUNTIF(C$10:V$10,処理!$L24)+COUNTIF(C$13:V$13,処理!$L24)+COUNTIF(C$16:V$16,処理!$L24)+COUNTIF(C$19:V$19,処理!$L24)+COUNTIF(C$22:V$22,処理!$L24)+COUNTIF(C$25:V$25,処理!$L24))/処理!$M24,0))","v":""},"",{"$f":"処理!H30&\"\"","v":""},null,{"$f":"IF(LEN(S34)=0,\"\",COUNTIF(C$6:V$7,S34)+COUNTIF(C$10:V$10,S34)+COUNTIF(C$13:V$13,S34)+COUNTIF(C$16:V$16,S34)+COUNTIF(C$19:V$19,S34)+COUNTIF(C$22:V$22,S34)+COUNTIF(C$25:V$25,S34))","v":""},"",{"$f":"$C$34","v":""},null,{"$f":"IF(LEN(W34)=0,\"\",(COUNTIF(W$6:AP$7,W34)+COUNTIF(W$10:AP$10,W34)+COUNTIF(W$13:AP$13,W34)+COUNTIF(W$16:AP$16,W34)+COUNTIF(W$19:AP$19,W34)+COUNTIF(W$22:AP$22,W34)+COUNTIF(W$25:AP$25,W34))/設定!$D25+IFERROR((COUNTIF(W$6:AP$7,処理!$L6)+COUNTIF(W$10:AP$10,処理!$L6)+COUNTIF(W$13:AP$13,処理!$L6)+COUNTIF(W$16:AP$16,処理!$L6)+COUNTIF(W$19:AP$19,処理!$L6)+COUNTIF(W$22:AP$22,処理!$L6)+COUNTIF(W$25:AP$25,処理!$L6))/処理!$M6,0))","v":""},"",{"$f":"$G$34","v":""},null,{"$f":"IF(LEN(AA34)=0,\"\",(COUNTIF(W$6:AP$7,AA34)+COUNTIF(W$10:AP$10,AA34)+COUNTIF(W$13:AP$13,AA34)+COUNTIF(W$16:AP$16,AA34)+COUNTIF(W$19:AP$19,AA34)+COUNTIF(W$22:AP$22,AA34)+COUNTIF(W$25:AP$25,AA34))/設定!$G25+IFERROR((COUNTIF(W$6:AP$7,処理!$L12)+COUNTIF(W$10:AP$10,処理!$L12)+COUNTIF(W$13:AP$13,処理!$L12)+COUNTIF(W$16:AP$16,処理!$L12)+COUNTIF(W$19:AP$19,処理!$L12)+COUNTIF(W$22:AP$22,処理!$L12)+COUNTIF(W$25:AP$25,処理!$L12))/処理!$M12,0))","v":""},"",{"$f":"$K$34","v":""},null,{"$f":"IF(LEN(AE34)=0,\"\",(COUNTIF(W$6:AP$7,AE34)+COUNTIF(W$10:AP$10,AE34)+COUNTIF(W$13:AP$13,AE34)+COUNTIF(W$16:AP$16,AE34)+COUNTIF(W$19:AP$19,AE34)+COUNTIF(W$22:AP$22,AE34)+COUNTIF(W$25:AP$25,AE34))/設定!$J25+IFERROR((COUNTIF(W$6:AP$7,処理!$L18)+COUNTIF(W$10:AP$10,処理!$L18)+COUNTIF(W$13:AP$13,処理!$L18)+COUNTIF(W$16:AP$16,処理!$L18)+COUNTIF(W$19:AP$19,処理!$L18)+COUNTIF(W$22:AP$22,処理!$L18)+COUNTIF(W$25:AP$25,処理!$L18))/処理!$M18,0))","v":""},"",{"$f":"$O$34","v":""},null,{"$f":"IF(LEN(AI34)=0,\"\",(COUNTIF(W$6:AP$7,AI34)+COUNTIF(W$10:AP$10,AI34)+COUNTIF(W$13:AP$13,AI34)+COUNTIF(W$16:AP$16,AI34)+COUNTIF(W$19:AP$19,AI34)+COUNTIF(W$22:AP$22,AI34)+COUNTIF(W$25:AP$25,AI34))/設定!$M25+IFERROR((COUNTIF(W$6:AP$7,処理!$L24)+COUNTIF(W$10:AP$10,処理!$L24)+COUNTIF(W$13:AP$13,処理!$L24)+COUNTIF(W$16:AP$16,処理!$L24)+COUNTIF(W$19:AP$19,処理!$L24)+COUNTIF(W$22:AP$22,処理!$L24)+COUNTIF(W$25:AP$25,処理!$L24))/処理!$M24,0))","v":""},"",{"$f":"$S$34","v":""},null,{"$f":"IF(LEN(AM34)=0,\"\",COUNTIF(W$6:AP$7,AM34)+COUNTIF(W$10:AP$10,AM34)+COUNTIF(W$13:AP$13,AM34)+COUNTIF(W$16:AP$16,AM34)+COUNTIF(W$19:AP$19,AM34)+COUNTIF(W$22:AP$22,AM34)+COUNTIF(W$25:AP$25,AM34))","v":""},"",{"$f":"$C$34","v":""},null,{"$f":"IF(LEN(AQ34)=0,\"\",(COUNTIF(AQ$6:BJ$7,AQ34)+COUNTIF(AQ$10:BJ$10,AQ34)+COUNTIF(AQ$13:BJ$13,AQ34)+COUNTIF(AQ$16:BJ$16,AQ34)+COUNTIF(AQ$19:BJ$19,AQ34)+COUNTIF(AQ$22:BJ$22,AQ34)+COUNTIF(AQ$25:BJ$25,AQ34))/設定!$D25+IFERROR((COUNTIF(AQ$6:BJ$7,処理!$L6)+COUNTIF(AQ$10:BJ$10,処理!$L6)+COUNTIF(AQ$13:BJ$13,処理!$L6)+COUNTIF(AQ$16:BJ$16,処理!$L6)+COUNTIF(AQ$19:BJ$19,処理!$L6)+COUNTIF(AQ$22:BJ$22,処理!$L6)+COUNTIF(AQ$25:BJ$25,処理!$L6))/処理!$M6,0))","v":""},"",{"$f":"$G$34","v":""},null,{"$f":"IF(LEN(AU34)=0,\"\",(COUNTIF(AQ$6:BJ$7,AU34)+COUNTIF(AQ$10:BJ$10,AU34)+COUNTIF(AQ$13:BJ$13,AU34)+COUNTIF(AQ$16:BJ$16,AU34)+COUNTIF(AQ$19:BJ$19,AU34)+COUNTIF(AQ$22:BJ$22,AU34)+COUNTIF(AQ$25:BJ$25,AU34))/設定!$G25+IFERROR((COUNTIF(AQ$6:BJ$7,処理!$L12)+COUNTIF(AQ$10:BJ$10,処理!$L12)+COUNTIF(AQ$13:BJ$13,処理!$L12)+COUNTIF(AQ$16:BJ$16,処理!$L12)+COUNTIF(AQ$19:BJ$19,処理!$L12)+COUNTIF(AQ$22:BJ$22,処理!$L12)+COUNTIF(AQ$25:BJ$25,処理!$L12))/処理!$M12,0))","v":""},"",{"$f":"$K$34","v":""},null,{"$f":"IF(LEN(AY34)=0,\"\",(COUNTIF(AQ$6:BJ$7,AY34)+COUNTIF(AQ$10:BJ$10,AY34)+COUNTIF(AQ$13:BJ$13,AY34)+COUNTIF(AQ$16:BJ$16,AY34)+COUNTIF(AQ$19:BJ$19,AY34)+COUNTIF(AQ$22:BJ$22,AY34)+COUNTIF(AQ$25:BJ$25,AY34))/設定!$J25+IFERROR((COUNTIF(AQ$6:BJ$7,処理!$L18)+COUNTIF(AQ$10:BJ$10,処理!$L18)+COUNTIF(AQ$13:BJ$13,処理!$L18)+COUNTIF(AQ$16:BJ$16,処理!$L18)+COUNTIF(AQ$19:BJ$19,処理!$L18)+COUNTIF(AQ$22:BJ$22,処理!$L18)+COUNTIF(AQ$25:BJ$25,処理!$L18))/処理!$M18,0))","v":""},"",{"$f":"$O$34","v":""},null,{"$f":"IF(LEN(BC34)=0,\"\",(COUNTIF(AQ$6:BJ$7,BC34)+COUNTIF(AQ$10:BJ$10,BC34)+COUNTIF(AQ$13:BJ$13,BC34)+COUNTIF(AQ$16:BJ$16,BC34)+COUNTIF(AQ$19:BJ$19,BC34)+COUNTIF(AQ$22:BJ$22,BC34)+COUNTIF(AQ$25:BJ$25,BC34))/設定!$M25+IFERROR((COUNTIF(AQ$6:BJ$7,処理!$L24)+COUNTIF(AQ$10:BJ$10,処理!$L24)+COUNTIF(AQ$13:BJ$13,処理!$L24)+COUNTIF(AQ$16:BJ$16,処理!$L24)+COUNTIF(AQ$19:BJ$19,処理!$L24)+COUNTIF(AQ$22:BJ$22,処理!$L24)+COUNTIF(AQ$25:BJ$25,処理!$L24))/処理!$M24,0))","v":""},"",{"$f":"$S$34","v":""},null,{"$f":"IF(LEN(BG34)=0,\"\",COUNTIF(AQ$6:BJ$7,BG34)+COUNTIF(AQ$10:BJ$10,BG34)+COUNTIF(AQ$13:BJ$13,BG34)+COUNTIF(AQ$16:BJ$16,BG34)+COUNTIF(AQ$19:BJ$19,BG34)+COUNTIF(AQ$22:BJ$22,BG34)+COUNTIF(AQ$25:BJ$25,BG34))","v":""},"",{"$f":"$C$34","v":""},null,{"$f":"IF(LEN(BK34)=0,\"\",(COUNTIF(BK$6:CD$7,BK34)+COUNTIF(BK$10:CD$10,BK34)+COUNTIF(BK$13:CD$13,BK34)+COUNTIF(BK$16:CD$16,BK34)+COUNTIF(BK$19:CD$19,BK34)+COUNTIF(BK$22:CD$22,BK34)+COUNTIF(BK$25:CD$25,BK34))/設定!$D25+IFERROR((COUNTIF(BK$6:CD$7,処理!$L6)+COUNTIF(BK$10:CD$10,処理!$L6)+COUNTIF(BK$13:CD$13,処理!$L6)+COUNTIF(BK$16:CD$16,処理!$L6)+COUNTIF(BK$19:CD$19,処理!$L6)+COUNTIF(BK$22:CD$22,処理!$L6)+COUNTIF(BK$25:CD$25,処理!$L6))/処理!$M6,0))","v":""},"",{"$f":"$G$34","v":""},null,{"$f":"IF(LEN(BO34)=0,\"\",(COUNTIF(BK$6:CD$7,BO34)+COUNTIF(BK$10:CD$10,BO34)+COUNTIF(BK$13:CD$13,BO34)+COUNTIF(BK$16:CD$16,BO34)+COUNTIF(BK$19:CD$19,BO34)+COUNTIF(BK$22:CD$22,BO34)+COUNTIF(BK$25:CD$25,BO34))/設定!$G25+IFERROR((COUNTIF(BK$6:CD$7,処理!$L12)+COUNTIF(BK$10:CD$10,処理!$L12)+COUNTIF(BK$13:CD$13,処理!$L12)+COUNTIF(BK$16:CD$16,処理!$L12)+COUNTIF(BK$19:CD$19,処理!$L12)+COUNTIF(BK$22:CD$22,処理!$L12)+COUNTIF(BK$25:CD$25,処理!$L12))/処理!$M12,0))","v":""},"",{"$f":"$K$34","v":""},null,{"$f":"IF(LEN(BS34)=0,\"\",(COUNTIF(BK$6:CD$7,BS34)+COUNTIF(BK$10:CD$10,BS34)+COUNTIF(BK$13:CD$13,BS34)+COUNTIF(BK$16:CD$16,BS34)+COUNTIF(BK$19:CD$19,BS34)+COUNTIF(BK$22:CD$22,BS34)+COUNTIF(BK$25:CD$25,BS34))/設定!$J25+IFERROR((COUNTIF(BK$6:CD$7,処理!$L18)+COUNTIF(BK$10:CD$10,処理!$L18)+COUNTIF(BK$13:CD$13,処理!$L18)+COUNTIF(BK$16:CD$16,処理!$L18)+COUNTIF(BK$19:CD$19,処理!$L18)+COUNTIF(BK$22:CD$22,処理!$L18)+COUNTIF(BK$25:CD$25,処理!$L18))/処理!$M18,0))","v":""},"",{"$f":"$O$34","v":""},null,{"$f":"IF(LEN(BW34)=0,\"\",(COUNTIF(BK$6:CD$7,BW34)+COUNTIF(BK$10:CD$10,BW34)+COUNTIF(BK$13:CD$13,BW34)+COUNTIF(BK$16:CD$16,BW34)+COUNTIF(BK$19:CD$19,BW34)+COUNTIF(BK$22:CD$22,BW34)+COUNTIF(BK$25:CD$25,BW34))/設定!$M25+IFERROR((COUNTIF(BK$6:CD$7,処理!$L24)+COUNTIF(BK$10:CD$10,処理!$L24)+COUNTIF(BK$13:CD$13,処理!$L24)+COUNTIF(BK$16:CD$16,処理!$L24)+COUNTIF(BK$19:CD$19,処理!$L24)+COUNTIF(BK$22:CD$22,処理!$L24)+COUNTIF(BK$25:CD$25,処理!$L24))/処理!$M24,0))","v":""},"",{"$f":"$S$34","v":""},null,{"$f":"IF(LEN(CA34)=0,\"\",COUNTIF(BK$6:CD$7,CA34)+COUNTIF(BK$10:CD$10,CA34)+COUNTIF(BK$13:CD$13,CA34)+COUNTIF(BK$16:CD$16,CA34)+COUNTIF(BK$19:CD$19,CA34)+COUNTIF(BK$22:CD$22,CA34)+COUNTIF(BK$25:CD$25,CA34))","v":""},"",{"$f":"$C$34","v":""},null,{"$f":"IF(LEN(CE34)=0,\"\",(COUNTIF(CE$6:CX$7,CE34)+COUNTIF(CE$10:CX$10,CE34)+COUNTIF(CE$13:CX$13,CE34)+COUNTIF(CE$16:CX$16,CE34)+COUNTIF(CE$19:CX$19,CE34)+COUNTIF(CE$22:CX$22,CE34)+COUNTIF(CE$25:CX$25,CE34))/設定!$D25+IFERROR((COUNTIF(CE$6:CX$7,処理!$L6)+COUNTIF(CE$10:CX$10,処理!$L6)+COUNTIF(CE$13:CX$13,処理!$L6)+COUNTIF(CE$16:CX$16,処理!$L6)+COUNTIF(CE$19:CX$19,処理!$L6)+COUNTIF(CE$22:CX$22,処理!$L6)+COUNTIF(CE$25:CX$25,処理!$L6))/処理!$M6,0))","v":""},"",{"$f":"$G$34","v":""},null,{"$f":"IF(LEN(CI34)=0,\"\",(COUNTIF(CE$6:CX$7,CI34)+COUNTIF(CE$10:CX$10,CI34)+COUNTIF(CE$13:CX$13,CI34)+COUNTIF(CE$16:CX$16,CI34)+COUNTIF(CE$19:CX$19,CI34)+COUNTIF(CE$22:CX$22,CI34)+COUNTIF(CE$25:CX$25,CI34))/設定!$G25+IFERROR((COUNTIF(CE$6:CX$7,処理!$L12)+COUNTIF(CE$10:CX$10,処理!$L12)+COUNTIF(CE$13:CX$13,処理!$L12)+COUNTIF(CE$16:CX$16,処理!$L12)+COUNTIF(CE$19:CX$19,処理!$L12)+COUNTIF(CE$22:CX$22,処理!$L12)+COUNTIF(CE$25:CX$25,処理!$L12))/処理!$M12,0))","v":""},"",{"$f":"$K$34","v":""},null,{"$f":"IF(LEN(CM34)=0,\"\",(COUNTIF(CE$6:CX$7,CM34)+COUNTIF(CE$10:CX$10,CM34)+COUNTIF(CE$13:CX$13,CM34)+COUNTIF(CE$16:CX$16,CM34)+COUNTIF(CE$19:CX$19,CM34)+COUNTIF(CE$22:CX$22,CM34)+COUNTIF(CE$25:CX$25,CM34))/設定!$J25+IFERROR((COUNTIF(CE$6:CX$7,処理!$L18)+COUNTIF(CE$10:CX$10,処理!$L18)+COUNTIF(CE$13:CX$13,処理!$L18)+COUNTIF(CE$16:CX$16,処理!$L18)+COUNTIF(CE$19:CX$19,処理!$L18)+COUNTIF(CE$22:CX$22,処理!$L18)+COUNTIF(CE$25:CX$25,処理!$L18))/処理!$M18,0))","v":""},"",{"$f":"$O$34","v":""},null,{"$f":"IF(LEN(CQ34)=0,\"\",(COUNTIF(CE$6:CX$7,CQ34)+COUNTIF(CE$10:CX$10,CQ34)+COUNTIF(CE$13:CX$13,CQ34)+COUNTIF(CE$16:CX$16,CQ34)+COUNTIF(CE$19:CX$19,CQ34)+COUNTIF(CE$22:CX$22,CQ34)+COUNTIF(CE$25:CX$25,CQ34))/設定!$M25+IFERROR((COUNTIF(CE$6:CX$7,処理!$L24)+COUNTIF(CE$10:CX$10,処理!$L24)+COUNTIF(CE$13:CX$13,処理!$L24)+COUNTIF(CE$16:CX$16,処理!$L24)+COUNTIF(CE$19:CX$19,処理!$L24)+COUNTIF(CE$22:CX$22,処理!$L24)+COUNTIF(CE$25:CX$25,処理!$L24))/処理!$M24,0))","v":""},"",{"$f":"$S$34","v":""},null,{"$f":"IF(LEN(CU34)=0,\"\",COUNTIF(CE$6:CX$7,CU34)+COUNTIF(CE$10:CX$10,CU34)+COUNTIF(CE$13:CX$13,CU34)+COUNTIF(CE$16:CX$16,CU34)+COUNTIF(CE$19:CX$19,CU34)+COUNTIF(CE$22:CX$22,CU34)+COUNTIF(CE$25:CX$25,CU34))","v":""},"",{"$f":"$C$34","v":""},null,{"$f":"IF(LEN(CY34)=0,\"\",(COUNTIF(CY$6:DR$7,CY34)+COUNTIF(CY$10:DR$10,CY34)+COUNTIF(CY$13:DR$13,CY34)+COUNTIF(CY$16:DR$16,CY34)+COUNTIF(CY$19:DR$19,CY34)+COUNTIF(CY$22:DR$22,CY34)+COUNTIF(CY$25:DR$25,CY34))/設定!$D25+IFERROR((COUNTIF(CY$6:DR$7,処理!$L6)+COUNTIF(CY$10:DR$10,処理!$L6)+COUNTIF(CY$13:DR$13,処理!$L6)+COUNTIF(CY$16:DR$16,処理!$L6)+COUNTIF(CY$19:DR$19,処理!$L6)+COUNTIF(CY$22:DR$22,処理!$L6)+COUNTIF(CY$25:DR$25,処理!$L6))/処理!$M6,0))","v":""},"",{"$f":"$G$34","v":""},null,{"$f":"IF(LEN(DC34)=0,\"\",(COUNTIF(CY$6:DR$7,DC34)+COUNTIF(CY$10:DR$10,DC34)+COUNTIF(CY$13:DR$13,DC34)+COUNTIF(CY$16:DR$16,DC34)+COUNTIF(CY$19:DR$19,DC34)+COUNTIF(CY$22:DR$22,DC34)+COUNTIF(CY$25:DR$25,DC34))/設定!$G25+IFERROR((COUNTIF(CY$6:DR$7,処理!$L12)+COUNTIF(CY$10:DR$10,処理!$L12)+COUNTIF(CY$13:DR$13,処理!$L12)+COUNTIF(CY$16:DR$16,処理!$L12)+COUNTIF(CY$19:DR$19,処理!$L12)+COUNTIF(CY$22:DR$22,処理!$L12)+COUNTIF(CY$25:DR$25,処理!$L12))/処理!$M12,0))","v":""},"",{"$f":"$K$34","v":""},null,{"$f":"IF(LEN(DG34)=0,\"\",(COUNTIF(CY$6:DR$7,DG34)+COUNTIF(CY$10:DR$10,DG34)+COUNTIF(CY$13:DR$13,DG34)+COUNTIF(CY$16:DR$16,DG34)+COUNTIF(CY$19:DR$19,DG34)+COUNTIF(CY$22:DR$22,DG34)+COUNTIF(CY$25:DR$25,DG34))/設定!$J25+IFERROR((COUNTIF(CY$6:DR$7,処理!$L18)+COUNTIF(CY$10:DR$10,処理!$L18)+COUNTIF(CY$13:DR$13,処理!$L18)+COUNTIF(CY$16:DR$16,処理!$L18)+COUNTIF(CY$19:DR$19,処理!$L18)+COUNTIF(CY$22:DR$22,処理!$L18)+COUNTIF(CY$25:DR$25,処理!$L18))/処理!$M18,0))","v":""},"",{"$f":"$O$34","v":""},null,{"$f":"IF(LEN(DK34)=0,\"\",(COUNTIF(CY$6:DR$7,DK34)+COUNTIF(CY$10:DR$10,DK34)+COUNTIF(CY$13:DR$13,DK34)+COUNTIF(CY$16:DR$16,DK34)+COUNTIF(CY$19:DR$19,DK34)+COUNTIF(CY$22:DR$22,DK34)+COUNTIF(CY$25:DR$25,DK34))/設定!$M25+IFERROR((COUNTIF(CY$6:DR$7,処理!$L24)+COUNTIF(CY$10:DR$10,処理!$L24)+COUNTIF(CY$13:DR$13,処理!$L24)+COUNTIF(CY$16:DR$16,処理!$L24)+COUNTIF(CY$19:DR$19,処理!$L24)+COUNTIF(CY$22:DR$22,処理!$L24)+COUNTIF(CY$25:DR$25,処理!$L24))/処理!$M24,0))","v":""},"",{"$f":"$S$34","v":""},null,{"$f":"IF(LEN(DO34)=0,\"\",COUNTIF(CY$6:DR$7,DO34)+COUNTIF(CY$10:DR$10,DO34)+COUNTIF(CY$13:DR$13,DO34)+COUNTIF(CY$16:DR$16,DO34)+COUNTIF(CY$19:DR$19,DO34)+COUNTIF(CY$22:DR$22,DO34)+COUNTIF(CY$25:DR$25,DO34))","v":""},"",{"$f":"$C$34","v":""},null,{"$f":"IF(LEN(DS34)=0,\"\",(COUNTIF(DS$6:EL$7,DS34)+COUNTIF(DS$10:EL$10,DS34)+COUNTIF(DS$13:EL$13,DS34)+COUNTIF(DS$16:EL$16,DS34)+COUNTIF(DS$19:EL$19,DS34)+COUNTIF(DS$22:EL$22,DS34)+COUNTIF(DS$25:EL$25,DS34))/設定!$D25+IFERROR((COUNTIF(DS$6:EL$7,処理!$L6)+COUNTIF(DS$10:EL$10,処理!$L6)+COUNTIF(DS$13:EL$13,処理!$L6)+COUNTIF(DS$16:EL$16,処理!$L6)+COUNTIF(DS$19:EL$19,処理!$L6)+COUNTIF(DS$22:EL$22,処理!$L6)+COUNTIF(DS$25:EL$25,処理!$L6))/処理!$M6,0))","v":""},"",{"$f":"$G$34","v":""},null,{"$f":"IF(LEN(DW34)=0,\"\",(COUNTIF(DS$6:EL$7,DW34)+COUNTIF(DS$10:EL$10,DW34)+COUNTIF(DS$13:EL$13,DW34)+COUNTIF(DS$16:EL$16,DW34)+COUNTIF(DS$19:EL$19,DW34)+COUNTIF(DS$22:EL$22,DW34)+COUNTIF(DS$25:EL$25,DW34))/設定!$G25+IFERROR((COUNTIF(DS$6:EL$7,処理!$L12)+COUNTIF(DS$10:EL$10,処理!$L12)+COUNTIF(DS$13:EL$13,処理!$L12)+COUNTIF(DS$16:EL$16,処理!$L12)+COUNTIF(DS$19:EL$19,処理!$L12)+COUNTIF(DS$22:EL$22,処理!$L12)+COUNTIF(DS$25:EL$25,処理!$L12))/処理!$M12,0))","v":""},"",{"$f":"$K$34","v":""},null,{"$f":"IF(LEN(EA34)=0,\"\",(COUNTIF(DS$6:EL$7,EA34)+COUNTIF(DS$10:EL$10,EA34)+COUNTIF(DS$13:EL$13,EA34)+COUNTIF(DS$16:EL$16,EA34)+COUNTIF(DS$19:EL$19,EA34)+COUNTIF(DS$22:EL$22,EA34)+COUNTIF(DS$25:EL$25,EA34))/設定!$J25+IFERROR((COUNTIF(DS$6:EL$7,処理!$L18)+COUNTIF(DS$10:EL$10,処理!$L18)+COUNTIF(DS$13:EL$13,処理!$L18)+COUNTIF(DS$16:EL$16,処理!$L18)+COUNTIF(DS$19:EL$19,処理!$L18)+COUNTIF(DS$22:EL$22,処理!$L18)+COUNTIF(DS$25:EL$25,処理!$L18))/処理!$M18,0))","v":""},"",{"$f":"$O$34","v":""},null,{"$f":"IF(LEN(EE34)=0,\"\",(COUNTIF(DS$6:EL$7,EE34)+COUNTIF(DS$10:EL$10,EE34)+COUNTIF(DS$13:EL$13,EE34)+COUNTIF(DS$16:EL$16,EE34)+COUNTIF(DS$19:EL$19,EE34)+COUNTIF(DS$22:EL$22,EE34)+COUNTIF(DS$25:EL$25,EE34))/設定!$M25+IFERROR((COUNTIF(DS$6:EL$7,処理!$L24)+COUNTIF(DS$10:EL$10,処理!$L24)+COUNTIF(DS$13:EL$13,処理!$L24)+COUNTIF(DS$16:EL$16,処理!$L24)+COUNTIF(DS$19:EL$19,処理!$L24)+COUNTIF(DS$22:EL$22,処理!$L24)+COUNTIF(DS$25:EL$25,処理!$L24))/処理!$M24,0))","v":""},"",{"$f":"$S$34","v":""},null,{"$f":"IF(LEN(EI34)=0,\"\",COUNTIF(DS$6:EL$7,EI34)+COUNTIF(DS$10:EL$10,EI34)+COUNTIF(DS$13:EL$13,EI34)+COUNTIF(DS$16:EL$16,EI34)+COUNTIF(DS$19:EL$19,EI34)+COUNTIF(DS$22:EL$22,EI34)+COUNTIF(DS$25:EL$25,EI34))","v":""},"",{"$f":"$C$34","v":""},null,{"$f":"IF(LEN(EM34)=0,\"\",(COUNTIF(EM$6:FF$7,EM34)+COUNTIF(EM$10:FF$10,EM34)+COUNTIF(EM$13:FF$13,EM34)+COUNTIF(EM$16:FF$16,EM34)+COUNTIF(EM$19:FF$19,EM34)+COUNTIF(EM$22:FF$22,EM34)+COUNTIF(EM$25:FF$25,EM34))/設定!$D25+IFERROR((COUNTIF(EM$6:FF$7,処理!$L6)+COUNTIF(EM$10:FF$10,処理!$L6)+COUNTIF(EM$13:FF$13,処理!$L6)+COUNTIF(EM$16:FF$16,処理!$L6)+COUNTIF(EM$19:FF$19,処理!$L6)+COUNTIF(EM$22:FF$22,処理!$L6)+COUNTIF(EM$25:FF$25,処理!$L6))/処理!$M6,0))","v":""},"",{"$f":"$G$34","v":""},null,{"$f":"IF(LEN(EQ34)=0,\"\",(COUNTIF(EM$6:FF$7,EQ34)+COUNTIF(EM$10:FF$10,EQ34)+COUNTIF(EM$13:FF$13,EQ34)+COUNTIF(EM$16:FF$16,EQ34)+COUNTIF(EM$19:FF$19,EQ34)+COUNTIF(EM$22:FF$22,EQ34)+COUNTIF(EM$25:FF$25,EQ34))/設定!$G25+IFERROR((COUNTIF(EM$6:FF$7,処理!$L12)+COUNTIF(EM$10:FF$10,処理!$L12)+COUNTIF(EM$13:FF$13,処理!$L12)+COUNTIF(EM$16:FF$16,処理!$L12)+COUNTIF(EM$19:FF$19,処理!$L12)+COUNTIF(EM$22:FF$22,処理!$L12)+COUNTIF(EM$25:FF$25,処理!$L12))/処理!$M12,0))","v":""},"",{"$f":"$K$34","v":""},null,{"$f":"IF(LEN(EU34)=0,\"\",(COUNTIF(EM$6:FF$7,EU34)+COUNTIF(EM$10:FF$10,EU34)+COUNTIF(EM$13:FF$13,EU34)+COUNTIF(EM$16:FF$16,EU34)+COUNTIF(EM$19:FF$19,EU34)+COUNTIF(EM$22:FF$22,EU34)+COUNTIF(EM$25:FF$25,EU34))/設定!$J25+IFERROR((COUNTIF(EM$6:FF$7,処理!$L18)+COUNTIF(EM$10:FF$10,処理!$L18)+COUNTIF(EM$13:FF$13,処理!$L18)+COUNTIF(EM$16:FF$16,処理!$L18)+COUNTIF(EM$19:FF$19,処理!$L18)+COUNTIF(EM$22:FF$22,処理!$L18)+COUNTIF(EM$25:FF$25,処理!$L18))/処理!$M18,0))","v":""},"",{"$f":"$O$34","v":""},null,{"$f":"IF(LEN(EY34)=0,\"\",(COUNTIF(EM$6:FF$7,EY34)+COUNTIF(EM$10:FF$10,EY34)+COUNTIF(EM$13:FF$13,EY34)+COUNTIF(EM$16:FF$16,EY34)+COUNTIF(EM$19:FF$19,EY34)+COUNTIF(EM$22:FF$22,EY34)+COUNTIF(EM$25:FF$25,EY34))/設定!$M25+IFERROR((COUNTIF(EM$6:FF$7,処理!$L24)+COUNTIF(EM$10:FF$10,処理!$L24)+COUNTIF(EM$13:FF$13,処理!$L24)+COUNTIF(EM$16:FF$16,処理!$L24)+COUNTIF(EM$19:FF$19,処理!$L24)+COUNTIF(EM$22:FF$22,処理!$L24)+COUNTIF(EM$25:FF$25,処理!$L24))/処理!$M24,0))","v":""},"",{"$f":"$S$34","v":""},null,{"$f":"IF(LEN(FC34)=0,\"\",COUNTIF(EM$6:FF$7,FC34)+COUNTIF(EM$10:FF$10,FC34)+COUNTIF(EM$13:FF$13,FC34)+COUNTIF(EM$16:FF$16,FC34)+COUNTIF(EM$19:FF$19,FC34)+COUNTIF(EM$22:FF$22,FC34)+COUNTIF(EM$25:FF$25,FC34))","v":""},"",{"$f":"$C$34","v":""},null,{"$f":"IF(LEN(FG34)=0,\"\",(COUNTIF(FG$6:FZ$7,FG34)+COUNTIF(FG$10:FZ$10,FG34)+COUNTIF(FG$13:FZ$13,FG34)+COUNTIF(FG$16:FZ$16,FG34)+COUNTIF(FG$19:FZ$19,FG34)+COUNTIF(FG$22:FZ$22,FG34)+COUNTIF(FG$25:FZ$25,FG34))/設定!$D25+IFERROR((COUNTIF(FG$6:FZ$7,処理!$L6)+COUNTIF(FG$10:FZ$10,処理!$L6)+COUNTIF(FG$13:FZ$13,処理!$L6)+COUNTIF(FG$16:FZ$16,処理!$L6)+COUNTIF(FG$19:FZ$19,処理!$L6)+COUNTIF(FG$22:FZ$22,処理!$L6)+COUNTIF(FG$25:FZ$25,処理!$L6))/処理!$M6,0))","v":""},"",{"$f":"$G$34","v":""},null,{"$f":"IF(LEN(FK34)=0,\"\",(COUNTIF(FG$6:FZ$7,FK34)+COUNTIF(FG$10:FZ$10,FK34)+COUNTIF(FG$13:FZ$13,FK34)+COUNTIF(FG$16:FZ$16,FK34)+COUNTIF(FG$19:FZ$19,FK34)+COUNTIF(FG$22:FZ$22,FK34)+COUNTIF(FG$25:FZ$25,FK34))/設定!$G25+IFERROR((COUNTIF(FG$6:FZ$7,処理!$L12)+COUNTIF(FG$10:FZ$10,処理!$L12)+COUNTIF(FG$13:FZ$13,処理!$L12)+COUNTIF(FG$16:FZ$16,処理!$L12)+COUNTIF(FG$19:FZ$19,処理!$L12)+COUNTIF(FG$22:FZ$22,処理!$L12)+COUNTIF(FG$25:FZ$25,処理!$L12))/処理!$M12,0))","v":""},"",{"$f":"$K$34","v":""},null,{"$f":"IF(LEN(FO34)=0,\"\",(COUNTIF(FG$6:FZ$7,FO34)+COUNTIF(FG$10:FZ$10,FO34)+COUNTIF(FG$13:FZ$13,FO34)+COUNTIF(FG$16:FZ$16,FO34)+COUNTIF(FG$19:FZ$19,FO34)+COUNTIF(FG$22:FZ$22,FO34)+COUNTIF(FG$25:FZ$25,FO34))/設定!$J25+IFERROR((COUNTIF(FG$6:FZ$7,処理!$L18)+COUNTIF(FG$10:FZ$10,処理!$L18)+COUNTIF(FG$13:FZ$13,処理!$L18)+COUNTIF(FG$16:FZ$16,処理!$L18)+COUNTIF(FG$19:FZ$19,処理!$L18)+COUNTIF(FG$22:FZ$22,処理!$L18)+COUNTIF(FG$25:FZ$25,処理!$L18))/処理!$M18,0))","v":""},"",{"$f":"$O$34","v":""},null,{"$f":"IF(LEN(FS34)=0,\"\",(COUNTIF(FG$6:FZ$7,FS34)+COUNTIF(FG$10:FZ$10,FS34)+COUNTIF(FG$13:FZ$13,FS34)+COUNTIF(FG$16:FZ$16,FS34)+COUNTIF(FG$19:FZ$19,FS34)+COUNTIF(FG$22:FZ$22,FS34)+COUNTIF(FG$25:FZ$25,FS34))/設定!$M25+IFERROR((COUNTIF(FG$6:FZ$7,処理!$L24)+COUNTIF(FG$10:FZ$10,処理!$L24)+COUNTIF(FG$13:FZ$13,処理!$L24)+COUNTIF(FG$16:FZ$16,処理!$L24)+COUNTIF(FG$19:FZ$19,処理!$L24)+COUNTIF(FG$22:FZ$22,処理!$L24)+COUNTIF(FG$25:FZ$25,処理!$L24))/処理!$M24,0))","v":""},"",{"$f":"$S$34","v":""},null,{"$f":"IF(LEN(FW34)=0,\"\",COUNTIF(FG$6:FZ$7,FW34)+COUNTIF(FG$10:FZ$10,FW34)+COUNTIF(FG$13:FZ$13,FW34)+COUNTIF(FG$16:FZ$16,FW34)+COUNTIF(FG$19:FZ$19,FW34)+COUNTIF(FG$22:FZ$22,FW34)+COUNTIF(FG$25:FZ$25,FW34))","v":""},"",{"$f":"$C$34","v":""},null,{"$f":"IF(LEN(GA34)=0,\"\",(COUNTIF(GA$6:GT$7,GA34)+COUNTIF(GA$10:GT$10,GA34)+COUNTIF(GA$13:GT$13,GA34)+COUNTIF(GA$16:GT$16,GA34)+COUNTIF(GA$19:GT$19,GA34)+COUNTIF(GA$22:GT$22,GA34)+COUNTIF(GA$25:GT$25,GA34))/設定!$D25+IFERROR((COUNTIF(GA$6:GT$7,処理!$L6)+COUNTIF(GA$10:GT$10,処理!$L6)+COUNTIF(GA$13:GT$13,処理!$L6)+COUNTIF(GA$16:GT$16,処理!$L6)+COUNTIF(GA$19:GT$19,処理!$L6)+COUNTIF(GA$22:GT$22,処理!$L6)+COUNTIF(GA$25:GT$25,処理!$L6))/処理!$M6,0))","v":""},"",{"$f":"$G$34","v":""},null,{"$f":"IF(LEN(GE34)=0,\"\",(COUNTIF(GA$6:GT$7,GE34)+COUNTIF(GA$10:GT$10,GE34)+COUNTIF(GA$13:GT$13,GE34)+COUNTIF(GA$16:GT$16,GE34)+COUNTIF(GA$19:GT$19,GE34)+COUNTIF(GA$22:GT$22,GE34)+COUNTIF(GA$25:GT$25,GE34))/設定!$G25+IFERROR((COUNTIF(GA$6:GT$7,処理!$L12)+COUNTIF(GA$10:GT$10,処理!$L12)+COUNTIF(GA$13:GT$13,処理!$L12)+COUNTIF(GA$16:GT$16,処理!$L12)+COUNTIF(GA$19:GT$19,処理!$L12)+COUNTIF(GA$22:GT$22,処理!$L12)+COUNTIF(GA$25:GT$25,処理!$L12))/処理!$M12,0))","v":""},"",{"$f":"$K$34","v":""},null,{"$f":"IF(LEN(GI34)=0,\"\",(COUNTIF(GA$6:GT$7,GI34)+COUNTIF(GA$10:GT$10,GI34)+COUNTIF(GA$13:GT$13,GI34)+COUNTIF(GA$16:GT$16,GI34)+COUNTIF(GA$19:GT$19,GI34)+COUNTIF(GA$22:GT$22,GI34)+COUNTIF(GA$25:GT$25,GI34))/設定!$J25+IFERROR((COUNTIF(GA$6:GT$7,処理!$L18)+COUNTIF(GA$10:GT$10,処理!$L18)+COUNTIF(GA$13:GT$13,処理!$L18)+COUNTIF(GA$16:GT$16,処理!$L18)+COUNTIF(GA$19:GT$19,処理!$L18)+COUNTIF(GA$22:GT$22,処理!$L18)+COUNTIF(GA$25:GT$25,処理!$L18))/処理!$M18,0))","v":""},"",{"$f":"$O$34","v":""},null,{"$f":"IF(LEN(GM34)=0,\"\",(COUNTIF(GA$6:GT$7,GM34)+COUNTIF(GA$10:GT$10,GM34)+COUNTIF(GA$13:GT$13,GM34)+COUNTIF(GA$16:GT$16,GM34)+COUNTIF(GA$19:GT$19,GM34)+COUNTIF(GA$22:GT$22,GM34)+COUNTIF(GA$25:GT$25,GM34))/設定!$M25+IFERROR((COUNTIF(GA$6:GT$7,処理!$L24)+COUNTIF(GA$10:GT$10,処理!$L24)+COUNTIF(GA$13:GT$13,処理!$L24)+COUNTIF(GA$16:GT$16,処理!$L24)+COUNTIF(GA$19:GT$19,処理!$L24)+COUNTIF(GA$22:GT$22,処理!$L24)+COUNTIF(GA$25:GT$25,処理!$L24))/処理!$M24,0))","v":""},"",{"$f":"$S$34","v":""},null,{"$f":"IF(LEN(GQ34)=0,\"\",COUNTIF(GA$6:GT$7,GQ34)+COUNTIF(GA$10:GT$10,GQ34)+COUNTIF(GA$13:GT$13,GQ34)+COUNTIF(GA$16:GT$16,GQ34)+COUNTIF(GA$19:GT$19,GQ34)+COUNTIF(GA$22:GT$22,GQ34)+COUNTIF(GA$25:GT$25,GQ34))","v":""},"",{"$f":"$C$34","v":""},null,{"$f":"IF(LEN(GU34)=0,\"\",(COUNTIF(GU$6:HN$7,GU34)+COUNTIF(GU$10:HN$10,GU34)+COUNTIF(GU$13:HN$13,GU34)+COUNTIF(GU$16:HN$16,GU34)+COUNTIF(GU$19:HN$19,GU34)+COUNTIF(GU$22:HN$22,GU34)+COUNTIF(GU$25:HN$25,GU34))/設定!$D25+IFERROR((COUNTIF(GU$6:HN$7,処理!$L6)+COUNTIF(GU$10:HN$10,処理!$L6)+COUNTIF(GU$13:HN$13,処理!$L6)+COUNTIF(GU$16:HN$16,処理!$L6)+COUNTIF(GU$19:HN$19,処理!$L6)+COUNTIF(GU$22:HN$22,処理!$L6)+COUNTIF(GU$25:HN$25,処理!$L6))/処理!$M6,0))","v":""},"",{"$f":"$G$34","v":""},null,{"$f":"IF(LEN(GY34)=0,\"\",(COUNTIF(GU$6:HN$7,GY34)+COUNTIF(GU$10:HN$10,GY34)+COUNTIF(GU$13:HN$13,GY34)+COUNTIF(GU$16:HN$16,GY34)+COUNTIF(GU$19:HN$19,GY34)+COUNTIF(GU$22:HN$22,GY34)+COUNTIF(GU$25:HN$25,GY34))/設定!$G25+IFERROR((COUNTIF(GU$6:HN$7,処理!$L12)+COUNTIF(GU$10:HN$10,処理!$L12)+COUNTIF(GU$13:HN$13,処理!$L12)+COUNTIF(GU$16:HN$16,処理!$L12)+COUNTIF(GU$19:HN$19,処理!$L12)+COUNTIF(GU$22:HN$22,処理!$L12)+COUNTIF(GU$25:HN$25,処理!$L12))/処理!$M12,0))","v":""},"",{"$f":"$K$34","v":""},null,{"$f":"IF(LEN(HC34)=0,\"\",(COUNTIF(GU$6:HN$7,HC34)+COUNTIF(GU$10:HN$10,HC34)+COUNTIF(GU$13:HN$13,HC34)+COUNTIF(GU$16:HN$16,HC34)+COUNTIF(GU$19:HN$19,HC34)+COUNTIF(GU$22:HN$22,HC34)+COUNTIF(GU$25:HN$25,HC34))/設定!$J25+IFERROR((COUNTIF(GU$6:HN$7,処理!$L18)+COUNTIF(GU$10:HN$10,処理!$L18)+COUNTIF(GU$13:HN$13,処理!$L18)+COUNTIF(GU$16:HN$16,処理!$L18)+COUNTIF(GU$19:HN$19,処理!$L18)+COUNTIF(GU$22:HN$22,処理!$L18)+COUNTIF(GU$25:HN$25,処理!$L18))/処理!$M18,0))","v":""},"",{"$f":"$O$34","v":""},null,{"$f":"IF(LEN(HG34)=0,\"\",(COUNTIF(GU$6:HN$7,HG34)+COUNTIF(GU$10:HN$10,HG34)+COUNTIF(GU$13:HN$13,HG34)+COUNTIF(GU$16:HN$16,HG34)+COUNTIF(GU$19:HN$19,HG34)+COUNTIF(GU$22:HN$22,HG34)+COUNTIF(GU$25:HN$25,HG34))/設定!$M25+IFERROR((COUNTIF(GU$6:HN$7,処理!$L24)+COUNTIF(GU$10:HN$10,処理!$L24)+COUNTIF(GU$13:HN$13,処理!$L24)+COUNTIF(GU$16:HN$16,処理!$L24)+COUNTIF(GU$19:HN$19,処理!$L24)+COUNTIF(GU$22:HN$22,処理!$L24)+COUNTIF(GU$25:HN$25,処理!$L24))/処理!$M24,0))","v":""},"",{"$f":"$S$34","v":""},null,{"$f":"IF(LEN(HK34)=0,\"\",COUNTIF(GU$6:HN$7,HK34)+COUNTIF(GU$10:HN$10,HK34)+COUNTIF(GU$13:HN$13,HK34)+COUNTIF(GU$16:HN$16,HK34)+COUNTIF(GU$19:HN$19,HK34)+COUNTIF(GU$22:HN$22,HK34)+COUNTIF(GU$25:HN$25,HK34))","v":""},"",{"$f":"$C$34","v":""},null,{"$f":"IF(LEN(HO34)=0,\"\",(COUNTIF(HO$6:IH$7,HO34)+COUNTIF(HO$10:IH$10,HO34)+COUNTIF(HO$13:IH$13,HO34)+COUNTIF(HO$16:IH$16,HO34)+COUNTIF(HO$19:IH$19,HO34)+COUNTIF(HO$22:IH$22,HO34)+COUNTIF(HO$25:IH$25,HO34))/設定!$D25+IFERROR((COUNTIF(HO$6:IH$7,処理!$L6)+COUNTIF(HO$10:IH$10,処理!$L6)+COUNTIF(HO$13:IH$13,処理!$L6)+COUNTIF(HO$16:IH$16,処理!$L6)+COUNTIF(HO$19:IH$19,処理!$L6)+COUNTIF(HO$22:IH$22,処理!$L6)+COUNTIF(HO$25:IH$25,処理!$L6))/処理!$M6,0))","v":""},"",{"$f":"$G$34","v":""},null,{"$f":"IF(LEN(HS34)=0,\"\",(COUNTIF(HO$6:IH$7,HS34)+COUNTIF(HO$10:IH$10,HS34)+COUNTIF(HO$13:IH$13,HS34)+COUNTIF(HO$16:IH$16,HS34)+COUNTIF(HO$19:IH$19,HS34)+COUNTIF(HO$22:IH$22,HS34)+COUNTIF(HO$25:IH$25,HS34))/設定!$G25+IFERROR((COUNTIF(HO$6:IH$7,処理!$L12)+COUNTIF(HO$10:IH$10,処理!$L12)+COUNTIF(HO$13:IH$13,処理!$L12)+COUNTIF(HO$16:IH$16,処理!$L12)+COUNTIF(HO$19:IH$19,処理!$L12)+COUNTIF(HO$22:IH$22,処理!$L12)+COUNTIF(HO$25:IH$25,処理!$L12))/処理!$M12,0))","v":""},"",{"$f":"$K$34","v":""},null,{"$f":"IF(LEN(HW34)=0,\"\",(COUNTIF(HO$6:IH$7,HW34)+COUNTIF(HO$10:IH$10,HW34)+COUNTIF(HO$13:IH$13,HW34)+COUNTIF(HO$16:IH$16,HW34)+COUNTIF(HO$19:IH$19,HW34)+COUNTIF(HO$22:IH$22,HW34)+COUNTIF(HO$25:IH$25,HW34))/設定!$J25+IFERROR((COUNTIF(HO$6:IH$7,処理!$L18)+COUNTIF(HO$10:IH$10,処理!$L18)+COUNTIF(HO$13:IH$13,処理!$L18)+COUNTIF(HO$16:IH$16,処理!$L18)+COUNTIF(HO$19:IH$19,処理!$L18)+COUNTIF(HO$22:IH$22,処理!$L18)+COUNTIF(HO$25:IH$25,処理!$L18))/処理!$M18,0))","v":""},"",{"$f":"$O$34","v":""},null,{"$f":"IF(LEN(IA34)=0,\"\",(COUNTIF(HO$6:IH$7,IA34)+COUNTIF(HO$10:IH$10,IA34)+COUNTIF(HO$13:IH$13,IA34)+COUNTIF(HO$16:IH$16,IA34)+COUNTIF(HO$19:IH$19,IA34)+COUNTIF(HO$22:IH$22,IA34)+COUNTIF(HO$25:IH$25,IA34))/設定!$M25+IFERROR((COUNTIF(HO$6:IH$7,処理!$L24)+COUNTIF(HO$10:IH$10,処理!$L24)+COUNTIF(HO$13:IH$13,処理!$L24)+COUNTIF(HO$16:IH$16,処理!$L24)+COUNTIF(HO$19:IH$19,処理!$L24)+COUNTIF(HO$22:IH$22,処理!$L24)+COUNTIF(HO$25:IH$25,処理!$L24))/処理!$M24,0))","v":""},"",{"$f":"$S$34","v":""},null,{"$f":"IF(LEN(IE34)=0,\"\",COUNTIF(HO$6:IH$7,IE34)+COUNTIF(HO$10:IH$10,IE34)+COUNTIF(HO$13:IH$13,IE34)+COUNTIF(HO$16:IH$16,IE34)+COUNTIF(HO$19:IH$19,IE34)+COUNTIF(HO$22:IH$22,IE34)+COUNTIF(HO$25:IH$25,IE34))","v":""},"",{"$f":"$C$34","v":""},null,{"$f":"IF(LEN(II34)=0,\"\",(COUNTIF(II$6:JB$7,II34)+COUNTIF(II$10:JB$10,II34)+COUNTIF(II$13:JB$13,II34)+COUNTIF(II$16:JB$16,II34)+COUNTIF(II$19:JB$19,II34)+COUNTIF(II$22:JB$22,II34)+COUNTIF(II$25:JB$25,II34))/設定!$D25+IFERROR((COUNTIF(II$6:JB$7,処理!$L6)+COUNTIF(II$10:JB$10,処理!$L6)+COUNTIF(II$13:JB$13,処理!$L6)+COUNTIF(II$16:JB$16,処理!$L6)+COUNTIF(II$19:JB$19,処理!$L6)+COUNTIF(II$22:JB$22,処理!$L6)+COUNTIF(II$25:JB$25,処理!$L6))/処理!$M6,0))","v":""},"",{"$f":"$G$34","v":""},null,{"$f":"IF(LEN(IM34)=0,\"\",(COUNTIF(II$6:JB$7,IM34)+COUNTIF(II$10:JB$10,IM34)+COUNTIF(II$13:JB$13,IM34)+COUNTIF(II$16:JB$16,IM34)+COUNTIF(II$19:JB$19,IM34)+COUNTIF(II$22:JB$22,IM34)+COUNTIF(II$25:JB$25,IM34))/設定!$G25+IFERROR((COUNTIF(II$6:JB$7,処理!$L12)+COUNTIF(II$10:JB$10,処理!$L12)+COUNTIF(II$13:JB$13,処理!$L12)+COUNTIF(II$16:JB$16,処理!$L12)+COUNTIF(II$19:JB$19,処理!$L12)+COUNTIF(II$22:JB$22,処理!$L12)+COUNTIF(II$25:JB$25,処理!$L12))/処理!$M12,0))","v":""},"",{"$f":"$K$34","v":""},null,{"$f":"IF(LEN(IQ34)=0,\"\",(COUNTIF(II$6:JB$7,IQ34)+COUNTIF(II$10:JB$10,IQ34)+COUNTIF(II$13:JB$13,IQ34)+COUNTIF(II$16:JB$16,IQ34)+COUNTIF(II$19:JB$19,IQ34)+COUNTIF(II$22:JB$22,IQ34)+COUNTIF(II$25:JB$25,IQ34))/設定!$J25+IFERROR((COUNTIF(II$6:JB$7,処理!$L18)+COUNTIF(II$10:JB$10,処理!$L18)+COUNTIF(II$13:JB$13,処理!$L18)+COUNTIF(II$16:JB$16,処理!$L18)+COUNTIF(II$19:JB$19,処理!$L18)+COUNTIF(II$22:JB$22,処理!$L18)+COUNTIF(II$25:JB$25,処理!$L18))/処理!$M18,0))","v":""},"",{"$f":"$O$34","v":""},null,{"$f":"IF(LEN(IU34)=0,\"\",(COUNTIF(II$6:JB$7,IU34)+COUNTIF(II$10:JB$10,IU34)+COUNTIF(II$13:JB$13,IU34)+COUNTIF(II$16:JB$16,IU34)+COUNTIF(II$19:JB$19,IU34)+COUNTIF(II$22:JB$22,IU34)+COUNTIF(II$25:JB$25,IU34))/設定!$M25+IFERROR((COUNTIF(II$6:JB$7,処理!$L24)+COUNTIF(II$10:JB$10,処理!$L24)+COUNTIF(II$13:JB$13,処理!$L24)+COUNTIF(II$16:JB$16,処理!$L24)+COUNTIF(II$19:JB$19,処理!$L24)+COUNTIF(II$22:JB$22,処理!$L24)+COUNTIF(II$25:JB$25,処理!$L24))/処理!$M24,0))","v":""},"",{"$f":"$S$34","v":""},null,{"$f":"IF(LEN(IY34)=0,\"\",COUNTIF(II$6:JB$7,IY34)+COUNTIF(II$10:JB$10,IY34)+COUNTIF(II$13:JB$13,IY34)+COUNTIF(II$16:JB$16,IY34)+COUNTIF(II$19:JB$19,IY34)+COUNTIF(II$22:JB$22,IY34)+COUNTIF(II$25:JB$25,IY34))","v":""},""]
[null,null,{"$f":"IF(COUNTIF(処理!$J$2:$J$25,5)>0,処理!H7,\"\")","v":""},null,{"$f":"IF(LEN(C35)=0,\"\",(COUNTIF(C$6:V$7,C35)+COUNTIF(C$10:V$10,C35)+COUNTIF(C$13:V$13,C35)+COUNTIF(C$16:V$16,C35)+COUNTIF(C$19:V$19,C35)+COUNTIF(C$22:V$22,C35)+COUNTIF(C$25:V$25,C35))/設定!$D26+IFERROR((COUNTIF(C$6:V$7,処理!$L7)+COUNTIF(C$10:V$10,処理!$L7)+COUNTIF(C$13:V$13,処理!$L7)+COUNTIF(C$16:V$16,処理!$L7)+COUNTIF(C$19:V$19,処理!$L7)+COUNTIF(C$22:V$22,処理!$L7)+COUNTIF(C$25:V$25,処理!$L7))/処理!$M7,0))","v":""},"",{"$f":"IF(COUNTIF(処理!$J$2:$J$25,11)>0,処理!H13,\"\")","v":""},null,{"$f":"IF(LEN(G35)=0,\"\",(COUNTIF(C$6:V$7,G35)+COUNTIF(C$10:V$10,G35)+COUNTIF(C$13:V$13,G35)+COUNTIF(C$16:V$16,G35)+COUNTIF(C$19:V$19,G35)+COUNTIF(C$22:V$22,G35)+COUNTIF(C$25:V$25,G35))/設定!$G26+IFERROR((COUNTIF(C$6:V$7,処理!$L13)+COUNTIF(C$10:V$10,処理!$L13)+COUNTIF(C$13:V$13,処理!$L13)+COUNTIF(C$16:V$16,処理!$L13)+COUNTIF(C$19:V$19,処理!$L13)+COUNTIF(C$22:V$22,処理!$L13)+COUNTIF(C$25:V$25,処理!$L13))/処理!$M13,0))","v":""},"",{"$f":"IF(COUNTIF(処理!$J$2:$J$25,17)>0,処理!H19,\"\")","v":""},null,{"$f":"IF(LEN(K35)=0,\"\",(COUNTIF(C$6:V$7,K35)+COUNTIF(C$10:V$10,K35)+COUNTIF(C$13:V$13,K35)+COUNTIF(C$16:V$16,K35)+COUNTIF(C$19:V$19,K35)+COUNTIF(C$22:V$22,K35)+COUNTIF(C$25:V$25,K35))/設定!$J26+IFERROR((COUNTIF(C$6:V$7,処理!$L19)+COUNTIF(C$10:V$10,処理!$L19)+COUNTIF(C$13:V$13,処理!$L19)+COUNTIF(C$16:V$16,処理!$L19)+COUNTIF(C$19:V$19,処理!$L19)+COUNTIF(C$22:V$22,処理!$L19)+COUNTIF(C$25:V$25,処理!$L19))/処理!$M19,0))","v":""},"",{"$f":"IF(COUNTIF(処理!$J$2:$J$25,23)>0,処理!H25,\"\")","v":""},null,{"$f":"IF(LEN(O35)=0,\"\",(COUNTIF(C$6:V$7,O35)+COUNTIF(C$10:V$10,O35)+COUNTIF(C$13:V$13,O35)+COUNTIF(C$16:V$16,O35)+COUNTIF(C$19:V$19,O35)+COUNTIF(C$22:V$22,O35)+COUNTIF(C$25:V$25,O35))/設定!$M26+IFERROR((COUNTIF(C$6:V$7,処理!$L25)+COUNTIF(C$10:V$10,処理!$L25)+COUNTIF(C$13:V$13,処理!$L25)+COUNTIF(C$16:V$16,処理!$L25)+COUNTIF(C$19:V$19,処理!$L25)+COUNTIF(C$22:V$22,処理!$L25)+COUNTIF(C$25:V$25,処理!$L25))/処理!$M25,0))","v":""},"",{"$f":"処理!H31&\"\"","v":""},null,{"$f":"IF(LEN(S35)=0,\"\",COUNTIF(C$6:V$7,S35)+COUNTIF(C$10:V$10,S35)+COUNTIF(C$13:V$13,S35)+COUNTIF(C$16:V$16,S35)+COUNTIF(C$19:V$19,S35)+COUNTIF(C$22:V$22,S35)+COUNTIF(C$25:V$25,S35))","v":""},"",{"$f":"$C$35","v":""},null,{"$f":"IF(LEN(W35)=0,\"\",(COUNTIF(W$6:AP$7,W35)+COUNTIF(W$10:AP$10,W35)+COUNTIF(W$13:AP$13,W35)+COUNTIF(W$16:AP$16,W35)+COUNTIF(W$19:AP$19,W35)+COUNTIF(W$22:AP$22,W35)+COUNTIF(W$25:AP$25,W35))/設定!$D26+IFERROR((COUNTIF(W$6:AP$7,処理!$L7)+COUNTIF(W$10:AP$10,処理!$L7)+COUNTIF(W$13:AP$13,処理!$L7)+COUNTIF(W$16:AP$16,処理!$L7)+COUNTIF(W$19:AP$19,処理!$L7)+COUNTIF(W$22:AP$22,処理!$L7)+COUNTIF(W$25:AP$25,処理!$L7))/処理!$M7,0))","v":""},"",{"$f":"$G$35","v":""},null,{"$f":"IF(LEN(AA35)=0,\"\",(COUNTIF(W$6:AP$7,AA35)+COUNTIF(W$10:AP$10,AA35)+COUNTIF(W$13:AP$13,AA35)+COUNTIF(W$16:AP$16,AA35)+COUNTIF(W$19:AP$19,AA35)+COUNTIF(W$22:AP$22,AA35)+COUNTIF(W$25:AP$25,AA35))/設定!$G26+IFERROR((COUNTIF(W$6:AP$7,処理!$L13)+COUNTIF(W$10:AP$10,処理!$L13)+COUNTIF(W$13:AP$13,処理!$L13)+COUNTIF(W$16:AP$16,処理!$L13)+COUNTIF(W$19:AP$19,処理!$L13)+COUNTIF(W$22:AP$22,処理!$L13)+COUNTIF(W$25:AP$25,処理!$L13))/処理!$M13,0))","v":""},"",{"$f":"$K$35","v":""},null,{"$f":"IF(LEN(AE35)=0,\"\",(COUNTIF(W$6:AP$7,AE35)+COUNTIF(W$10:AP$10,AE35)+COUNTIF(W$13:AP$13,AE35)+COUNTIF(W$16:AP$16,AE35)+COUNTIF(W$19:AP$19,AE35)+COUNTIF(W$22:AP$22,AE35)+COUNTIF(W$25:AP$25,AE35))/設定!$J26+IFERROR((COUNTIF(W$6:AP$7,処理!$L19)+COUNTIF(W$10:AP$10,処理!$L19)+COUNTIF(W$13:AP$13,処理!$L19)+COUNTIF(W$16:AP$16,処理!$L19)+COUNTIF(W$19:AP$19,処理!$L19)+COUNTIF(W$22:AP$22,処理!$L19)+COUNTIF(W$25:AP$25,処理!$L19))/処理!$M19,0))","v":""},"",{"$f":"$O$35","v":""},null,{"$f":"IF(LEN(AI35)=0,\"\",(COUNTIF(W$6:AP$7,AI35)+COUNTIF(W$10:AP$10,AI35)+COUNTIF(W$13:AP$13,AI35)+COUNTIF(W$16:AP$16,AI35)+COUNTIF(W$19:AP$19,AI35)+COUNTIF(W$22:AP$22,AI35)+COUNTIF(W$25:AP$25,AI35))/設定!$M26+IFERROR((COUNTIF(W$6:AP$7,処理!$L25)+COUNTIF(W$10:AP$10,処理!$L25)+COUNTIF(W$13:AP$13,処理!$L25)+COUNTIF(W$16:AP$16,処理!$L25)+COUNTIF(W$19:AP$19,処理!$L25)+COUNTIF(W$22:AP$22,処理!$L25)+COUNTIF(W$25:AP$25,処理!$L25))/処理!$M25,0))","v":""},"",{"$f":"$S$35","v":""},null,{"$f":"IF(LEN(AM35)=0,\"\",COUNTIF(W$6:AP$7,AM35)+COUNTIF(W$10:AP$10,AM35)+COUNTIF(W$13:AP$13,AM35)+COUNTIF(W$16:AP$16,AM35)+COUNTIF(W$19:AP$19,AM35)+COUNTIF(W$22:AP$22,AM35)+COUNTIF(W$25:AP$25,AM35))","v":""},"",{"$f":"$C$35","v":""},null,{"$f":"IF(LEN(AQ35)=0,\"\",(COUNTIF(AQ$6:BJ$7,AQ35)+COUNTIF(AQ$10:BJ$10,AQ35)+COUNTIF(AQ$13:BJ$13,AQ35)+COUNTIF(AQ$16:BJ$16,AQ35)+COUNTIF(AQ$19:BJ$19,AQ35)+COUNTIF(AQ$22:BJ$22,AQ35)+COUNTIF(AQ$25:BJ$25,AQ35))/設定!$D26+IFERROR((COUNTIF(AQ$6:BJ$7,処理!$L7)+COUNTIF(AQ$10:BJ$10,処理!$L7)+COUNTIF(AQ$13:BJ$13,処理!$L7)+COUNTIF(AQ$16:BJ$16,処理!$L7)+COUNTIF(AQ$19:BJ$19,処理!$L7)+COUNTIF(AQ$22:BJ$22,処理!$L7)+COUNTIF(AQ$25:BJ$25,処理!$L7))/処理!$M7,0))","v":""},"",{"$f":"$G$35","v":""},null,{"$f":"IF(LEN(AU35)=0,\"\",(COUNTIF(AQ$6:BJ$7,AU35)+COUNTIF(AQ$10:BJ$10,AU35)+COUNTIF(AQ$13:BJ$13,AU35)+COUNTIF(AQ$16:BJ$16,AU35)+COUNTIF(AQ$19:BJ$19,AU35)+COUNTIF(AQ$22:BJ$22,AU35)+COUNTIF(AQ$25:BJ$25,AU35))/設定!$G26+IFERROR((COUNTIF(AQ$6:BJ$7,処理!$L13)+COUNTIF(AQ$10:BJ$10,処理!$L13)+COUNTIF(AQ$13:BJ$13,処理!$L13)+COUNTIF(AQ$16:BJ$16,処理!$L13)+COUNTIF(AQ$19:BJ$19,処理!$L13)+COUNTIF(AQ$22:BJ$22,処理!$L13)+COUNTIF(AQ$25:BJ$25,処理!$L13))/処理!$M13,0))","v":""},"",{"$f":"$K$35","v":""},null,{"$f":"IF(LEN(AY35)=0,\"\",(COUNTIF(AQ$6:BJ$7,AY35)+COUNTIF(AQ$10:BJ$10,AY35)+COUNTIF(AQ$13:BJ$13,AY35)+COUNTIF(AQ$16:BJ$16,AY35)+COUNTIF(AQ$19:BJ$19,AY35)+COUNTIF(AQ$22:BJ$22,AY35)+COUNTIF(AQ$25:BJ$25,AY35))/設定!$J26+IFERROR((COUNTIF(AQ$6:BJ$7,処理!$L19)+COUNTIF(AQ$10:BJ$10,処理!$L19)+COUNTIF(AQ$13:BJ$13,処理!$L19)+COUNTIF(AQ$16:BJ$16,処理!$L19)+COUNTIF(AQ$19:BJ$19,処理!$L19)+COUNTIF(AQ$22:BJ$22,処理!$L19)+COUNTIF(AQ$25:BJ$25,処理!$L19))/処理!$M19,0))","v":""},"",{"$f":"$O$35","v":""},null,{"$f":"IF(LEN(BC35)=0,\"\",(COUNTIF(AQ$6:BJ$7,BC35)+COUNTIF(AQ$10:BJ$10,BC35)+COUNTIF(AQ$13:BJ$13,BC35)+COUNTIF(AQ$16:BJ$16,BC35)+COUNTIF(AQ$19:BJ$19,BC35)+COUNTIF(AQ$22:BJ$22,BC35)+COUNTIF(AQ$25:BJ$25,BC35))/設定!$M26+IFERROR((COUNTIF(AQ$6:BJ$7,処理!$L25)+COUNTIF(AQ$10:BJ$10,処理!$L25)+COUNTIF(AQ$13:BJ$13,処理!$L25)+COUNTIF(AQ$16:BJ$16,処理!$L25)+COUNTIF(AQ$19:BJ$19,処理!$L25)+COUNTIF(AQ$22:BJ$22,処理!$L25)+COUNTIF(AQ$25:BJ$25,処理!$L25))/処理!$M25,0))","v":""},"",{"$f":"$S$35","v":""},null,{"$f":"IF(LEN(BG35)=0,\"\",COUNTIF(AQ$6:BJ$7,BG35)+COUNTIF(AQ$10:BJ$10,BG35)+COUNTIF(AQ$13:BJ$13,BG35)+COUNTIF(AQ$16:BJ$16,BG35)+COUNTIF(AQ$19:BJ$19,BG35)+COUNTIF(AQ$22:BJ$22,BG35)+COUNTIF(AQ$25:BJ$25,BG35))","v":""},"",{"$f":"$C$35","v":""},null,{"$f":"IF(LEN(BK35)=0,\"\",(COUNTIF(BK$6:CD$7,BK35)+COUNTIF(BK$10:CD$10,BK35)+COUNTIF(BK$13:CD$13,BK35)+COUNTIF(BK$16:CD$16,BK35)+COUNTIF(BK$19:CD$19,BK35)+COUNTIF(BK$22:CD$22,BK35)+COUNTIF(BK$25:CD$25,BK35))/設定!$D26+IFERROR((COUNTIF(BK$6:CD$7,処理!$L7)+COUNTIF(BK$10:CD$10,処理!$L7)+COUNTIF(BK$13:CD$13,処理!$L7)+COUNTIF(BK$16:CD$16,処理!$L7)+COUNTIF(BK$19:CD$19,処理!$L7)+COUNTIF(BK$22:CD$22,処理!$L7)+COUNTIF(BK$25:CD$25,処理!$L7))/処理!$M7,0))","v":""},"",{"$f":"$G$35","v":""},null,{"$f":"IF(LEN(BO35)=0,\"\",(COUNTIF(BK$6:CD$7,BO35)+COUNTIF(BK$10:CD$10,BO35)+COUNTIF(BK$13:CD$13,BO35)+COUNTIF(BK$16:CD$16,BO35)+COUNTIF(BK$19:CD$19,BO35)+COUNTIF(BK$22:CD$22,BO35)+COUNTIF(BK$25:CD$25,BO35))/設定!$G26+IFERROR((COUNTIF(BK$6:CD$7,処理!$L13)+COUNTIF(BK$10:CD$10,処理!$L13)+COUNTIF(BK$13:CD$13,処理!$L13)+COUNTIF(BK$16:CD$16,処理!$L13)+COUNTIF(BK$19:CD$19,処理!$L13)+COUNTIF(BK$22:CD$22,処理!$L13)+COUNTIF(BK$25:CD$25,処理!$L13))/処理!$M13,0))","v":""},"",{"$f":"$K$35","v":""},null,{"$f":"IF(LEN(BS35)=0,\"\",(COUNTIF(BK$6:CD$7,BS35)+COUNTIF(BK$10:CD$10,BS35)+COUNTIF(BK$13:CD$13,BS35)+COUNTIF(BK$16:CD$16,BS35)+COUNTIF(BK$19:CD$19,BS35)+COUNTIF(BK$22:CD$22,BS35)+COUNTIF(BK$25:CD$25,BS35))/設定!$J26+IFERROR((COUNTIF(BK$6:CD$7,処理!$L19)+COUNTIF(BK$10:CD$10,処理!$L19)+COUNTIF(BK$13:CD$13,処理!$L19)+COUNTIF(BK$16:CD$16,処理!$L19)+COUNTIF(BK$19:CD$19,処理!$L19)+COUNTIF(BK$22:CD$22,処理!$L19)+COUNTIF(BK$25:CD$25,処理!$L19))/処理!$M19,0))","v":""},"",{"$f":"$O$35","v":""},null,{"$f":"IF(LEN(BW35)=0,\"\",(COUNTIF(BK$6:CD$7,BW35)+COUNTIF(BK$10:CD$10,BW35)+COUNTIF(BK$13:CD$13,BW35)+COUNTIF(BK$16:CD$16,BW35)+COUNTIF(BK$19:CD$19,BW35)+COUNTIF(BK$22:CD$22,BW35)+COUNTIF(BK$25:CD$25,BW35))/設定!$M26+IFERROR((COUNTIF(BK$6:CD$7,処理!$L25)+COUNTIF(BK$10:CD$10,処理!$L25)+COUNTIF(BK$13:CD$13,処理!$L25)+COUNTIF(BK$16:CD$16,処理!$L25)+COUNTIF(BK$19:CD$19,処理!$L25)+COUNTIF(BK$22:CD$22,処理!$L25)+COUNTIF(BK$25:CD$25,処理!$L25))/処理!$M25,0))","v":""},"",{"$f":"$S$35","v":""},null,{"$f":"IF(LEN(CA35)=0,\"\",COUNTIF(BK$6:CD$7,CA35)+COUNTIF(BK$10:CD$10,CA35)+COUNTIF(BK$13:CD$13,CA35)+COUNTIF(BK$16:CD$16,CA35)+COUNTIF(BK$19:CD$19,CA35)+COUNTIF(BK$22:CD$22,CA35)+COUNTIF(BK$25:CD$25,CA35))","v":""},"",{"$f":"$C$35","v":""},null,{"$f":"IF(LEN(CE35)=0,\"\",(COUNTIF(CE$6:CX$7,CE35)+COUNTIF(CE$10:CX$10,CE35)+COUNTIF(CE$13:CX$13,CE35)+COUNTIF(CE$16:CX$16,CE35)+COUNTIF(CE$19:CX$19,CE35)+COUNTIF(CE$22:CX$22,CE35)+COUNTIF(CE$25:CX$25,CE35))/設定!$D26+IFERROR((COUNTIF(CE$6:CX$7,処理!$L7)+COUNTIF(CE$10:CX$10,処理!$L7)+COUNTIF(CE$13:CX$13,処理!$L7)+COUNTIF(CE$16:CX$16,処理!$L7)+COUNTIF(CE$19:CX$19,処理!$L7)+COUNTIF(CE$22:CX$22,処理!$L7)+COUNTIF(CE$25:CX$25,処理!$L7))/処理!$M7,0))","v":""},"",{"$f":"$G$35","v":""},null,{"$f":"IF(LEN(CI35)=0,\"\",(COUNTIF(CE$6:CX$7,CI35)+COUNTIF(CE$10:CX$10,CI35)+COUNTIF(CE$13:CX$13,CI35)+COUNTIF(CE$16:CX$16,CI35)+COUNTIF(CE$19:CX$19,CI35)+COUNTIF(CE$22:CX$22,CI35)+COUNTIF(CE$25:CX$25,CI35))/設定!$G26+IFERROR((COUNTIF(CE$6:CX$7,処理!$L13)+COUNTIF(CE$10:CX$10,処理!$L13)+COUNTIF(CE$13:CX$13,処理!$L13)+COUNTIF(CE$16:CX$16,処理!$L13)+COUNTIF(CE$19:CX$19,処理!$L13)+COUNTIF(CE$22:CX$22,処理!$L13)+COUNTIF(CE$25:CX$25,処理!$L13))/処理!$M13,0))","v":""},"",{"$f":"$K$35","v":""},null,{"$f":"IF(LEN(CM35)=0,\"\",(COUNTIF(CE$6:CX$7,CM35)+COUNTIF(CE$10:CX$10,CM35)+COUNTIF(CE$13:CX$13,CM35)+COUNTIF(CE$16:CX$16,CM35)+COUNTIF(CE$19:CX$19,CM35)+COUNTIF(CE$22:CX$22,CM35)+COUNTIF(CE$25:CX$25,CM35))/設定!$J26+IFERROR((COUNTIF(CE$6:CX$7,処理!$L19)+COUNTIF(CE$10:CX$10,処理!$L19)+COUNTIF(CE$13:CX$13,処理!$L19)+COUNTIF(CE$16:CX$16,処理!$L19)+COUNTIF(CE$19:CX$19,処理!$L19)+COUNTIF(CE$22:CX$22,処理!$L19)+COUNTIF(CE$25:CX$25,処理!$L19))/処理!$M19,0))","v":""},"",{"$f":"$O$35","v":""},null,{"$f":"IF(LEN(CQ35)=0,\"\",(COUNTIF(CE$6:CX$7,CQ35)+COUNTIF(CE$10:CX$10,CQ35)+COUNTIF(CE$13:CX$13,CQ35)+COUNTIF(CE$16:CX$16,CQ35)+COUNTIF(CE$19:CX$19,CQ35)+COUNTIF(CE$22:CX$22,CQ35)+COUNTIF(CE$25:CX$25,CQ35))/設定!$M26+IFERROR((COUNTIF(CE$6:CX$7,処理!$L25)+COUNTIF(CE$10:CX$10,処理!$L25)+COUNTIF(CE$13:CX$13,処理!$L25)+COUNTIF(CE$16:CX$16,処理!$L25)+COUNTIF(CE$19:CX$19,処理!$L25)+COUNTIF(CE$22:CX$22,処理!$L25)+COUNTIF(CE$25:CX$25,処理!$L25))/処理!$M25,0))","v":""},"",{"$f":"$S$35","v":""},null,{"$f":"IF(LEN(CU35)=0,\"\",COUNTIF(CE$6:CX$7,CU35)+COUNTIF(CE$10:CX$10,CU35)+COUNTIF(CE$13:CX$13,CU35)+COUNTIF(CE$16:CX$16,CU35)+COUNTIF(CE$19:CX$19,CU35)+COUNTIF(CE$22:CX$22,CU35)+COUNTIF(CE$25:CX$25,CU35))","v":""},"",{"$f":"$C$35","v":""},null,{"$f":"IF(LEN(CY35)=0,\"\",(COUNTIF(CY$6:DR$7,CY35)+COUNTIF(CY$10:DR$10,CY35)+COUNTIF(CY$13:DR$13,CY35)+COUNTIF(CY$16:DR$16,CY35)+COUNTIF(CY$19:DR$19,CY35)+COUNTIF(CY$22:DR$22,CY35)+COUNTIF(CY$25:DR$25,CY35))/設定!$D26+IFERROR((COUNTIF(CY$6:DR$7,処理!$L7)+COUNTIF(CY$10:DR$10,処理!$L7)+COUNTIF(CY$13:DR$13,処理!$L7)+COUNTIF(CY$16:DR$16,処理!$L7)+COUNTIF(CY$19:DR$19,処理!$L7)+COUNTIF(CY$22:DR$22,処理!$L7)+COUNTIF(CY$25:DR$25,処理!$L7))/処理!$M7,0))","v":""},"",{"$f":"$G$35","v":""},null,{"$f":"IF(LEN(DC35)=0,\"\",(COUNTIF(CY$6:DR$7,DC35)+COUNTIF(CY$10:DR$10,DC35)+COUNTIF(CY$13:DR$13,DC35)+COUNTIF(CY$16:DR$16,DC35)+COUNTIF(CY$19:DR$19,DC35)+COUNTIF(CY$22:DR$22,DC35)+COUNTIF(CY$25:DR$25,DC35))/設定!$G26+IFERROR((COUNTIF(CY$6:DR$7,処理!$L13)+COUNTIF(CY$10:DR$10,処理!$L13)+COUNTIF(CY$13:DR$13,処理!$L13)+COUNTIF(CY$16:DR$16,処理!$L13)+COUNTIF(CY$19:DR$19,処理!$L13)+COUNTIF(CY$22:DR$22,処理!$L13)+COUNTIF(CY$25:DR$25,処理!$L13))/処理!$M13,0))","v":""},"",{"$f":"$K$35","v":""},null,{"$f":"IF(LEN(DG35)=0,\"\",(COUNTIF(CY$6:DR$7,DG35)+COUNTIF(CY$10:DR$10,DG35)+COUNTIF(CY$13:DR$13,DG35)+COUNTIF(CY$16:DR$16,DG35)+COUNTIF(CY$19:DR$19,DG35)+COUNTIF(CY$22:DR$22,DG35)+COUNTIF(CY$25:DR$25,DG35))/設定!$J26+IFERROR((COUNTIF(CY$6:DR$7,処理!$L19)+COUNTIF(CY$10:DR$10,処理!$L19)+COUNTIF(CY$13:DR$13,処理!$L19)+COUNTIF(CY$16:DR$16,処理!$L19)+COUNTIF(CY$19:DR$19,処理!$L19)+COUNTIF(CY$22:DR$22,処理!$L19)+COUNTIF(CY$25:DR$25,処理!$L19))/処理!$M19,0))","v":""},"",{"$f":"$O$35","v":""},null,{"$f":"IF(LEN(DK35)=0,\"\",(COUNTIF(CY$6:DR$7,DK35)+COUNTIF(CY$10:DR$10,DK35)+COUNTIF(CY$13:DR$13,DK35)+COUNTIF(CY$16:DR$16,DK35)+COUNTIF(CY$19:DR$19,DK35)+COUNTIF(CY$22:DR$22,DK35)+COUNTIF(CY$25:DR$25,DK35))/設定!$M26+IFERROR((COUNTIF(CY$6:DR$7,処理!$L25)+COUNTIF(CY$10:DR$10,処理!$L25)+COUNTIF(CY$13:DR$13,処理!$L25)+COUNTIF(CY$16:DR$16,処理!$L25)+COUNTIF(CY$19:DR$19,処理!$L25)+COUNTIF(CY$22:DR$22,処理!$L25)+COUNTIF(CY$25:DR$25,処理!$L25))/処理!$M25,0))","v":""},"",{"$f":"$S$35","v":""},null,{"$f":"IF(LEN(DO35)=0,\"\",COUNTIF(CY$6:DR$7,DO35)+COUNTIF(CY$10:DR$10,DO35)+COUNTIF(CY$13:DR$13,DO35)+COUNTIF(CY$16:DR$16,DO35)+COUNTIF(CY$19:DR$19,DO35)+COUNTIF(CY$22:DR$22,DO35)+COUNTIF(CY$25:DR$25,DO35))","v":""},"",{"$f":"$C$35","v":""},null,{"$f":"IF(LEN(DS35)=0,\"\",(COUNTIF(DS$6:EL$7,DS35)+COUNTIF(DS$10:EL$10,DS35)+COUNTIF(DS$13:EL$13,DS35)+COUNTIF(DS$16:EL$16,DS35)+COUNTIF(DS$19:EL$19,DS35)+COUNTIF(DS$22:EL$22,DS35)+COUNTIF(DS$25:EL$25,DS35))/設定!$D26+IFERROR((COUNTIF(DS$6:EL$7,処理!$L7)+COUNTIF(DS$10:EL$10,処理!$L7)+COUNTIF(DS$13:EL$13,処理!$L7)+COUNTIF(DS$16:EL$16,処理!$L7)+COUNTIF(DS$19:EL$19,処理!$L7)+COUNTIF(DS$22:EL$22,処理!$L7)+COUNTIF(DS$25:EL$25,処理!$L7))/処理!$M7,0))","v":""},"",{"$f":"$G$35","v":""},null,{"$f":"IF(LEN(DW35)=0,\"\",(COUNTIF(DS$6:EL$7,DW35)+COUNTIF(DS$10:EL$10,DW35)+COUNTIF(DS$13:EL$13,DW35)+COUNTIF(DS$16:EL$16,DW35)+COUNTIF(DS$19:EL$19,DW35)+COUNTIF(DS$22:EL$22,DW35)+COUNTIF(DS$25:EL$25,DW35))/設定!$G26+IFERROR((COUNTIF(DS$6:EL$7,処理!$L13)+COUNTIF(DS$10:EL$10,処理!$L13)+COUNTIF(DS$13:EL$13,処理!$L13)+COUNTIF(DS$16:EL$16,処理!$L13)+COUNTIF(DS$19:EL$19,処理!$L13)+COUNTIF(DS$22:EL$22,処理!$L13)+COUNTIF(DS$25:EL$25,処理!$L13))/処理!$M13,0))","v":""},"",{"$f":"$K$35","v":""},null,{"$f":"IF(LEN(EA35)=0,\"\",(COUNTIF(DS$6:EL$7,EA35)+COUNTIF(DS$10:EL$10,EA35)+COUNTIF(DS$13:EL$13,EA35)+COUNTIF(DS$16:EL$16,EA35)+COUNTIF(DS$19:EL$19,EA35)+COUNTIF(DS$22:EL$22,EA35)+COUNTIF(DS$25:EL$25,EA35))/設定!$J26+IFERROR((COUNTIF(DS$6:EL$7,処理!$L19)+COUNTIF(DS$10:EL$10,処理!$L19)+COUNTIF(DS$13:EL$13,処理!$L19)+COUNTIF(DS$16:EL$16,処理!$L19)+COUNTIF(DS$19:EL$19,処理!$L19)+COUNTIF(DS$22:EL$22,処理!$L19)+COUNTIF(DS$25:EL$25,処理!$L19))/処理!$M19,0))","v":""},"",{"$f":"$O$35","v":""},null,{"$f":"IF(LEN(EE35)=0,\"\",(COUNTIF(DS$6:EL$7,EE35)+COUNTIF(DS$10:EL$10,EE35)+COUNTIF(DS$13:EL$13,EE35)+COUNTIF(DS$16:EL$16,EE35)+COUNTIF(DS$19:EL$19,EE35)+COUNTIF(DS$22:EL$22,EE35)+COUNTIF(DS$25:EL$25,EE35))/設定!$M26+IFERROR((COUNTIF(DS$6:EL$7,処理!$L25)+COUNTIF(DS$10:EL$10,処理!$L25)+COUNTIF(DS$13:EL$13,処理!$L25)+COUNTIF(DS$16:EL$16,処理!$L25)+COUNTIF(DS$19:EL$19,処理!$L25)+COUNTIF(DS$22:EL$22,処理!$L25)+COUNTIF(DS$25:EL$25,処理!$L25))/処理!$M25,0))","v":""},"",{"$f":"$S$35","v":""},null,{"$f":"IF(LEN(EI35)=0,\"\",COUNTIF(DS$6:EL$7,EI35)+COUNTIF(DS$10:EL$10,EI35)+COUNTIF(DS$13:EL$13,EI35)+COUNTIF(DS$16:EL$16,EI35)+COUNTIF(DS$19:EL$19,EI35)+COUNTIF(DS$22:EL$22,EI35)+COUNTIF(DS$25:EL$25,EI35))","v":""},"",{"$f":"$C$35","v":""},null,{"$f":"IF(LEN(EM35)=0,\"\",(COUNTIF(EM$6:FF$7,EM35)+COUNTIF(EM$10:FF$10,EM35)+COUNTIF(EM$13:FF$13,EM35)+COUNTIF(EM$16:FF$16,EM35)+COUNTIF(EM$19:FF$19,EM35)+COUNTIF(EM$22:FF$22,EM35)+COUNTIF(EM$25:FF$25,EM35))/設定!$D26+IFERROR((COUNTIF(EM$6:FF$7,処理!$L7)+COUNTIF(EM$10:FF$10,処理!$L7)+COUNTIF(EM$13:FF$13,処理!$L7)+COUNTIF(EM$16:FF$16,処理!$L7)+COUNTIF(EM$19:FF$19,処理!$L7)+COUNTIF(EM$22:FF$22,処理!$L7)+COUNTIF(EM$25:FF$25,処理!$L7))/処理!$M7,0))","v":""},"",{"$f":"$G$35","v":""},null,{"$f":"IF(LEN(EQ35)=0,\"\",(COUNTIF(EM$6:FF$7,EQ35)+COUNTIF(EM$10:FF$10,EQ35)+COUNTIF(EM$13:FF$13,EQ35)+COUNTIF(EM$16:FF$16,EQ35)+COUNTIF(EM$19:FF$19,EQ35)+COUNTIF(EM$22:FF$22,EQ35)+COUNTIF(EM$25:FF$25,EQ35))/設定!$G26+IFERROR((COUNTIF(EM$6:FF$7,処理!$L13)+COUNTIF(EM$10:FF$10,処理!$L13)+COUNTIF(EM$13:FF$13,処理!$L13)+COUNTIF(EM$16:FF$16,処理!$L13)+COUNTIF(EM$19:FF$19,処理!$L13)+COUNTIF(EM$22:FF$22,処理!$L13)+COUNTIF(EM$25:FF$25,処理!$L13))/処理!$M13,0))","v":""},"",{"$f":"$K$35","v":""},null,{"$f":"IF(LEN(EU35)=0,\"\",(COUNTIF(EM$6:FF$7,EU35)+COUNTIF(EM$10:FF$10,EU35)+COUNTIF(EM$13:FF$13,EU35)+COUNTIF(EM$16:FF$16,EU35)+COUNTIF(EM$19:FF$19,EU35)+COUNTIF(EM$22:FF$22,EU35)+COUNTIF(EM$25:FF$25,EU35))/設定!$J26+IFERROR((COUNTIF(EM$6:FF$7,処理!$L19)+COUNTIF(EM$10:FF$10,処理!$L19)+COUNTIF(EM$13:FF$13,処理!$L19)+COUNTIF(EM$16:FF$16,処理!$L19)+COUNTIF(EM$19:FF$19,処理!$L19)+COUNTIF(EM$22:FF$22,処理!$L19)+COUNTIF(EM$25:FF$25,処理!$L19))/処理!$M19,0))","v":""},"",{"$f":"$O$35","v":""},null,{"$f":"IF(LEN(EY35)=0,\"\",(COUNTIF(EM$6:FF$7,EY35)+COUNTIF(EM$10:FF$10,EY35)+COUNTIF(EM$13:FF$13,EY35)+COUNTIF(EM$16:FF$16,EY35)+COUNTIF(EM$19:FF$19,EY35)+COUNTIF(EM$22:FF$22,EY35)+COUNTIF(EM$25:FF$25,EY35))/設定!$M26+IFERROR((COUNTIF(EM$6:FF$7,処理!$L25)+COUNTIF(EM$10:FF$10,処理!$L25)+COUNTIF(EM$13:FF$13,処理!$L25)+COUNTIF(EM$16:FF$16,処理!$L25)+COUNTIF(EM$19:FF$19,処理!$L25)+COUNTIF(EM$22:FF$22,処理!$L25)+COUNTIF(EM$25:FF$25,処理!$L25))/処理!$M25,0))","v":""},"",{"$f":"$S$35","v":""},null,{"$f":"IF(LEN(FC35)=0,\"\",COUNTIF(EM$6:FF$7,FC35)+COUNTIF(EM$10:FF$10,FC35)+COUNTIF(EM$13:FF$13,FC35)+COUNTIF(EM$16:FF$16,FC35)+COUNTIF(EM$19:FF$19,FC35)+COUNTIF(EM$22:FF$22,FC35)+COUNTIF(EM$25:FF$25,FC35))","v":""},"",{"$f":"$C$35","v":""},null,{"$f":"IF(LEN(FG35)=0,\"\",(COUNTIF(FG$6:FZ$7,FG35)+COUNTIF(FG$10:FZ$10,FG35)+COUNTIF(FG$13:FZ$13,FG35)+COUNTIF(FG$16:FZ$16,FG35)+COUNTIF(FG$19:FZ$19,FG35)+COUNTIF(FG$22:FZ$22,FG35)+COUNTIF(FG$25:FZ$25,FG35))/設定!$D26+IFERROR((COUNTIF(FG$6:FZ$7,処理!$L7)+COUNTIF(FG$10:FZ$10,処理!$L7)+COUNTIF(FG$13:FZ$13,処理!$L7)+COUNTIF(FG$16:FZ$16,処理!$L7)+COUNTIF(FG$19:FZ$19,処理!$L7)+COUNTIF(FG$22:FZ$22,処理!$L7)+COUNTIF(FG$25:FZ$25,処理!$L7))/処理!$M7,0))","v":""},"",{"$f":"$G$35","v":""},null,{"$f":"IF(LEN(FK35)=0,\"\",(COUNTIF(FG$6:FZ$7,FK35)+COUNTIF(FG$10:FZ$10,FK35)+COUNTIF(FG$13:FZ$13,FK35)+COUNTIF(FG$16:FZ$16,FK35)+COUNTIF(FG$19:FZ$19,FK35)+COUNTIF(FG$22:FZ$22,FK35)+COUNTIF(FG$25:FZ$25,FK35))/設定!$G26+IFERROR((COUNTIF(FG$6:FZ$7,処理!$L13)+COUNTIF(FG$10:FZ$10,処理!$L13)+COUNTIF(FG$13:FZ$13,処理!$L13)+COUNTIF(FG$16:FZ$16,処理!$L13)+COUNTIF(FG$19:FZ$19,処理!$L13)+COUNTIF(FG$22:FZ$22,処理!$L13)+COUNTIF(FG$25:FZ$25,処理!$L13))/処理!$M13,0))","v":""},"",{"$f":"$K$35","v":""},null,{"$f":"IF(LEN(FO35)=0,\"\",(COUNTIF(FG$6:FZ$7,FO35)+COUNTIF(FG$10:FZ$10,FO35)+COUNTIF(FG$13:FZ$13,FO35)+COUNTIF(FG$16:FZ$16,FO35)+COUNTIF(FG$19:FZ$19,FO35)+COUNTIF(FG$22:FZ$22,FO35)+COUNTIF(FG$25:FZ$25,FO35))/設定!$J26+IFERROR((COUNTIF(FG$6:FZ$7,処理!$L19)+COUNTIF(FG$10:FZ$10,処理!$L19)+COUNTIF(FG$13:FZ$13,処理!$L19)+COUNTIF(FG$16:FZ$16,処理!$L19)+COUNTIF(FG$19:FZ$19,処理!$L19)+COUNTIF(FG$22:FZ$22,処理!$L19)+COUNTIF(FG$25:FZ$25,処理!$L19))/処理!$M19,0))","v":""},"",{"$f":"$O$35","v":""},null,{"$f":"IF(LEN(FS35)=0,\"\",(COUNTIF(FG$6:FZ$7,FS35)+COUNTIF(FG$10:FZ$10,FS35)+COUNTIF(FG$13:FZ$13,FS35)+COUNTIF(FG$16:FZ$16,FS35)+COUNTIF(FG$19:FZ$19,FS35)+COUNTIF(FG$22:FZ$22,FS35)+COUNTIF(FG$25:FZ$25,FS35))/設定!$M26+IFERROR((COUNTIF(FG$6:FZ$7,処理!$L25)+COUNTIF(FG$10:FZ$10,処理!$L25)+COUNTIF(FG$13:FZ$13,処理!$L25)+COUNTIF(FG$16:FZ$16,処理!$L25)+COUNTIF(FG$19:FZ$19,処理!$L25)+COUNTIF(FG$22:FZ$22,処理!$L25)+COUNTIF(FG$25:FZ$25,処理!$L25))/処理!$M25,0))","v":""},"",{"$f":"$S$35","v":""},null,{"$f":"IF(LEN(FW35)=0,\"\",COUNTIF(FG$6:FZ$7,FW35)+COUNTIF(FG$10:FZ$10,FW35)+COUNTIF(FG$13:FZ$13,FW35)+COUNTIF(FG$16:FZ$16,FW35)+COUNTIF(FG$19:FZ$19,FW35)+COUNTIF(FG$22:FZ$22,FW35)+COUNTIF(FG$25:FZ$25,FW35))","v":""},"",{"$f":"$C$35","v":""},null,{"$f":"IF(LEN(GA35)=0,\"\",(COUNTIF(GA$6:GT$7,GA35)+COUNTIF(GA$10:GT$10,GA35)+COUNTIF(GA$13:GT$13,GA35)+COUNTIF(GA$16:GT$16,GA35)+COUNTIF(GA$19:GT$19,GA35)+COUNTIF(GA$22:GT$22,GA35)+COUNTIF(GA$25:GT$25,GA35))/設定!$D26+IFERROR((COUNTIF(GA$6:GT$7,処理!$L7)+COUNTIF(GA$10:GT$10,処理!$L7)+COUNTIF(GA$13:GT$13,処理!$L7)+COUNTIF(GA$16:GT$16,処理!$L7)+COUNTIF(GA$19:GT$19,処理!$L7)+COUNTIF(GA$22:GT$22,処理!$L7)+COUNTIF(GA$25:GT$25,処理!$L7))/処理!$M7,0))","v":""},"",{"$f":"$G$35","v":""},null,{"$f":"IF(LEN(GE35)=0,\"\",(COUNTIF(GA$6:GT$7,GE35)+COUNTIF(GA$10:GT$10,GE35)+COUNTIF(GA$13:GT$13,GE35)+COUNTIF(GA$16:GT$16,GE35)+COUNTIF(GA$19:GT$19,GE35)+COUNTIF(GA$22:GT$22,GE35)+COUNTIF(GA$25:GT$25,GE35))/設定!$G26+IFERROR((COUNTIF(GA$6:GT$7,処理!$L13)+COUNTIF(GA$10:GT$10,処理!$L13)+COUNTIF(GA$13:GT$13,処理!$L13)+COUNTIF(GA$16:GT$16,処理!$L13)+COUNTIF(GA$19:GT$19,処理!$L13)+COUNTIF(GA$22:GT$22,処理!$L13)+COUNTIF(GA$25:GT$25,処理!$L13))/処理!$M13,0))","v":""},"",{"$f":"$K$35","v":""},null,{"$f":"IF(LEN(GI35)=0,\"\",(COUNTIF(GA$6:GT$7,GI35)+COUNTIF(GA$10:GT$10,GI35)+COUNTIF(GA$13:GT$13,GI35)+COUNTIF(GA$16:GT$16,GI35)+COUNTIF(GA$19:GT$19,GI35)+COUNTIF(GA$22:GT$22,GI35)+COUNTIF(GA$25:GT$25,GI35))/設定!$J26+IFERROR((COUNTIF(GA$6:GT$7,処理!$L19)+COUNTIF(GA$10:GT$10,処理!$L19)+COUNTIF(GA$13:GT$13,処理!$L19)+COUNTIF(GA$16:GT$16,処理!$L19)+COUNTIF(GA$19:GT$19,処理!$L19)+COUNTIF(GA$22:GT$22,処理!$L19)+COUNTIF(GA$25:GT$25,処理!$L19))/処理!$M19,0))","v":""},"",{"$f":"$O$35","v":""},null,{"$f":"IF(LEN(GM35)=0,\"\",(COUNTIF(GA$6:GT$7,GM35)+COUNTIF(GA$10:GT$10,GM35)+COUNTIF(GA$13:GT$13,GM35)+COUNTIF(GA$16:GT$16,GM35)+COUNTIF(GA$19:GT$19,GM35)+COUNTIF(GA$22:GT$22,GM35)+COUNTIF(GA$25:GT$25,GM35))/設定!$M26+IFERROR((COUNTIF(GA$6:GT$7,処理!$L25)+COUNTIF(GA$10:GT$10,処理!$L25)+COUNTIF(GA$13:GT$13,処理!$L25)+COUNTIF(GA$16:GT$16,処理!$L25)+COUNTIF(GA$19:GT$19,処理!$L25)+COUNTIF(GA$22:GT$22,処理!$L25)+COUNTIF(GA$25:GT$25,処理!$L25))/処理!$M25,0))","v":""},"",{"$f":"$S$35","v":""},null,{"$f":"IF(LEN(GQ35)=0,\"\",COUNTIF(GA$6:GT$7,GQ35)+COUNTIF(GA$10:GT$10,GQ35)+COUNTIF(GA$13:GT$13,GQ35)+COUNTIF(GA$16:GT$16,GQ35)+COUNTIF(GA$19:GT$19,GQ35)+COUNTIF(GA$22:GT$22,GQ35)+COUNTIF(GA$25:GT$25,GQ35))","v":""},"",{"$f":"$C$35","v":""},null,{"$f":"IF(LEN(GU35)=0,\"\",(COUNTIF(GU$6:HN$7,GU35)+COUNTIF(GU$10:HN$10,GU35)+COUNTIF(GU$13:HN$13,GU35)+COUNTIF(GU$16:HN$16,GU35)+COUNTIF(GU$19:HN$19,GU35)+COUNTIF(GU$22:HN$22,GU35)+COUNTIF(GU$25:HN$25,GU35))/設定!$D26+IFERROR((COUNTIF(GU$6:HN$7,処理!$L7)+COUNTIF(GU$10:HN$10,処理!$L7)+COUNTIF(GU$13:HN$13,処理!$L7)+COUNTIF(GU$16:HN$16,処理!$L7)+COUNTIF(GU$19:HN$19,処理!$L7)+COUNTIF(GU$22:HN$22,処理!$L7)+COUNTIF(GU$25:HN$25,処理!$L7))/処理!$M7,0))","v":""},"",{"$f":"$G$35","v":""},null,{"$f":"IF(LEN(GY35)=0,\"\",(COUNTIF(GU$6:HN$7,GY35)+COUNTIF(GU$10:HN$10,GY35)+COUNTIF(GU$13:HN$13,GY35)+COUNTIF(GU$16:HN$16,GY35)+COUNTIF(GU$19:HN$19,GY35)+COUNTIF(GU$22:HN$22,GY35)+COUNTIF(GU$25:HN$25,GY35))/設定!$G26+IFERROR((COUNTIF(GU$6:HN$7,処理!$L13)+COUNTIF(GU$10:HN$10,処理!$L13)+COUNTIF(GU$13:HN$13,処理!$L13)+COUNTIF(GU$16:HN$16,処理!$L13)+COUNTIF(GU$19:HN$19,処理!$L13)+COUNTIF(GU$22:HN$22,処理!$L13)+COUNTIF(GU$25:HN$25,処理!$L13))/処理!$M13,0))","v":""},"",{"$f":"$K$35","v":""},null,{"$f":"IF(LEN(HC35)=0,\"\",(COUNTIF(GU$6:HN$7,HC35)+COUNTIF(GU$10:HN$10,HC35)+COUNTIF(GU$13:HN$13,HC35)+COUNTIF(GU$16:HN$16,HC35)+COUNTIF(GU$19:HN$19,HC35)+COUNTIF(GU$22:HN$22,HC35)+COUNTIF(GU$25:HN$25,HC35))/設定!$J26+IFERROR((COUNTIF(GU$6:HN$7,処理!$L19)+COUNTIF(GU$10:HN$10,処理!$L19)+COUNTIF(GU$13:HN$13,処理!$L19)+COUNTIF(GU$16:HN$16,処理!$L19)+COUNTIF(GU$19:HN$19,処理!$L19)+COUNTIF(GU$22:HN$22,処理!$L19)+COUNTIF(GU$25:HN$25,処理!$L19))/処理!$M19,0))","v":""},"",{"$f":"$O$35","v":""},null,{"$f":"IF(LEN(HG35)=0,\"\",(COUNTIF(GU$6:HN$7,HG35)+COUNTIF(GU$10:HN$10,HG35)+COUNTIF(GU$13:HN$13,HG35)+COUNTIF(GU$16:HN$16,HG35)+COUNTIF(GU$19:HN$19,HG35)+COUNTIF(GU$22:HN$22,HG35)+COUNTIF(GU$25:HN$25,HG35))/設定!$M26+IFERROR((COUNTIF(GU$6:HN$7,処理!$L25)+COUNTIF(GU$10:HN$10,処理!$L25)+COUNTIF(GU$13:HN$13,処理!$L25)+COUNTIF(GU$16:HN$16,処理!$L25)+COUNTIF(GU$19:HN$19,処理!$L25)+COUNTIF(GU$22:HN$22,処理!$L25)+COUNTIF(GU$25:HN$25,処理!$L25))/処理!$M25,0))","v":""},"",{"$f":"$S$35","v":""},null,{"$f":"IF(LEN(HK35)=0,\"\",COUNTIF(GU$6:HN$7,HK35)+COUNTIF(GU$10:HN$10,HK35)+COUNTIF(GU$13:HN$13,HK35)+COUNTIF(GU$16:HN$16,HK35)+COUNTIF(GU$19:HN$19,HK35)+COUNTIF(GU$22:HN$22,HK35)+COUNTIF(GU$25:HN$25,HK35))","v":""},"",{"$f":"$C$35","v":""},null,{"$f":"IF(LEN(HO35)=0,\"\",(COUNTIF(HO$6:IH$7,HO35)+COUNTIF(HO$10:IH$10,HO35)+COUNTIF(HO$13:IH$13,HO35)+COUNTIF(HO$16:IH$16,HO35)+COUNTIF(HO$19:IH$19,HO35)+COUNTIF(HO$22:IH$22,HO35)+COUNTIF(HO$25:IH$25,HO35))/設定!$D26+IFERROR((COUNTIF(HO$6:IH$7,処理!$L7)+COUNTIF(HO$10:IH$10,処理!$L7)+COUNTIF(HO$13:IH$13,処理!$L7)+COUNTIF(HO$16:IH$16,処理!$L7)+COUNTIF(HO$19:IH$19,処理!$L7)+COUNTIF(HO$22:IH$22,処理!$L7)+COUNTIF(HO$25:IH$25,処理!$L7))/処理!$M7,0))","v":""},"",{"$f":"$G$35","v":""},null,{"$f":"IF(LEN(HS35)=0,\"\",(COUNTIF(HO$6:IH$7,HS35)+COUNTIF(HO$10:IH$10,HS35)+COUNTIF(HO$13:IH$13,HS35)+COUNTIF(HO$16:IH$16,HS35)+COUNTIF(HO$19:IH$19,HS35)+COUNTIF(HO$22:IH$22,HS35)+COUNTIF(HO$25:IH$25,HS35))/設定!$G26+IFERROR((COUNTIF(HO$6:IH$7,処理!$L13)+COUNTIF(HO$10:IH$10,処理!$L13)+COUNTIF(HO$13:IH$13,処理!$L13)+COUNTIF(HO$16:IH$16,処理!$L13)+COUNTIF(HO$19:IH$19,処理!$L13)+COUNTIF(HO$22:IH$22,処理!$L13)+COUNTIF(HO$25:IH$25,処理!$L13))/処理!$M13,0))","v":""},"",{"$f":"$K$35","v":""},null,{"$f":"IF(LEN(HW35)=0,\"\",(COUNTIF(HO$6:IH$7,HW35)+COUNTIF(HO$10:IH$10,HW35)+COUNTIF(HO$13:IH$13,HW35)+COUNTIF(HO$16:IH$16,HW35)+COUNTIF(HO$19:IH$19,HW35)+COUNTIF(HO$22:IH$22,HW35)+COUNTIF(HO$25:IH$25,HW35))/設定!$J26+IFERROR((COUNTIF(HO$6:IH$7,処理!$L19)+COUNTIF(HO$10:IH$10,処理!$L19)+COUNTIF(HO$13:IH$13,処理!$L19)+COUNTIF(HO$16:IH$16,処理!$L19)+COUNTIF(HO$19:IH$19,処理!$L19)+COUNTIF(HO$22:IH$22,処理!$L19)+COUNTIF(HO$25:IH$25,処理!$L19))/処理!$M19,0))","v":""},"",{"$f":"$O$35","v":""},null,{"$f":"IF(LEN(IA35)=0,\"\",(COUNTIF(HO$6:IH$7,IA35)+COUNTIF(HO$10:IH$10,IA35)+COUNTIF(HO$13:IH$13,IA35)+COUNTIF(HO$16:IH$16,IA35)+COUNTIF(HO$19:IH$19,IA35)+COUNTIF(HO$22:IH$22,IA35)+COUNTIF(HO$25:IH$25,IA35))/設定!$M26+IFERROR((COUNTIF(HO$6:IH$7,処理!$L25)+COUNTIF(HO$10:IH$10,処理!$L25)+COUNTIF(HO$13:IH$13,処理!$L25)+COUNTIF(HO$16:IH$16,処理!$L25)+COUNTIF(HO$19:IH$19,処理!$L25)+COUNTIF(HO$22:IH$22,処理!$L25)+COUNTIF(HO$25:IH$25,処理!$L25))/処理!$M25,0))","v":""},"",{"$f":"$S$35","v":""},null,{"$f":"IF(LEN(IE35)=0,\"\",COUNTIF(HO$6:IH$7,IE35)+COUNTIF(HO$10:IH$10,IE35)+COUNTIF(HO$13:IH$13,IE35)+COUNTIF(HO$16:IH$16,IE35)+COUNTIF(HO$19:IH$19,IE35)+COUNTIF(HO$22:IH$22,IE35)+COUNTIF(HO$25:IH$25,IE35))","v":""},"",{"$f":"$C$35","v":""},null,{"$f":"IF(LEN(II35)=0,\"\",(COUNTIF(II$6:JB$7,II35)+COUNTIF(II$10:JB$10,II35)+COUNTIF(II$13:JB$13,II35)+COUNTIF(II$16:JB$16,II35)+COUNTIF(II$19:JB$19,II35)+COUNTIF(II$22:JB$22,II35)+COUNTIF(II$25:JB$25,II35))/設定!$D26+IFERROR((COUNTIF(II$6:JB$7,処理!$L7)+COUNTIF(II$10:JB$10,処理!$L7)+COUNTIF(II$13:JB$13,処理!$L7)+COUNTIF(II$16:JB$16,処理!$L7)+COUNTIF(II$19:JB$19,処理!$L7)+COUNTIF(II$22:JB$22,処理!$L7)+COUNTIF(II$25:JB$25,処理!$L7))/処理!$M7,0))","v":""},"",{"$f":"$G$35","v":""},null,{"$f":"IF(LEN(IM35)=0,\"\",(COUNTIF(II$6:JB$7,IM35)+COUNTIF(II$10:JB$10,IM35)+COUNTIF(II$13:JB$13,IM35)+COUNTIF(II$16:JB$16,IM35)+COUNTIF(II$19:JB$19,IM35)+COUNTIF(II$22:JB$22,IM35)+COUNTIF(II$25:JB$25,IM35))/設定!$G26+IFERROR((COUNTIF(II$6:JB$7,処理!$L13)+COUNTIF(II$10:JB$10,処理!$L13)+COUNTIF(II$13:JB$13,処理!$L13)+COUNTIF(II$16:JB$16,処理!$L13)+COUNTIF(II$19:JB$19,処理!$L13)+COUNTIF(II$22:JB$22,処理!$L13)+COUNTIF(II$25:JB$25,処理!$L13))/処理!$M13,0))","v":""},"",{"$f":"$K$35","v":""},null,{"$f":"IF(LEN(IQ35)=0,\"\",(COUNTIF(II$6:JB$7,IQ35)+COUNTIF(II$10:JB$10,IQ35)+COUNTIF(II$13:JB$13,IQ35)+COUNTIF(II$16:JB$16,IQ35)+COUNTIF(II$19:JB$19,IQ35)+COUNTIF(II$22:JB$22,IQ35)+COUNTIF(II$25:JB$25,IQ35))/設定!$J26+IFERROR((COUNTIF(II$6:JB$7,処理!$L19)+COUNTIF(II$10:JB$10,処理!$L19)+COUNTIF(II$13:JB$13,処理!$L19)+COUNTIF(II$16:JB$16,処理!$L19)+COUNTIF(II$19:JB$19,処理!$L19)+COUNTIF(II$22:JB$22,処理!$L19)+COUNTIF(II$25:JB$25,処理!$L19))/処理!$M19,0))","v":""},"",{"$f":"$O$35","v":""},null,{"$f":"IF(LEN(IU35)=0,\"\",(COUNTIF(II$6:JB$7,IU35)+COUNTIF(II$10:JB$10,IU35)+COUNTIF(II$13:JB$13,IU35)+COUNTIF(II$16:JB$16,IU35)+COUNTIF(II$19:JB$19,IU35)+COUNTIF(II$22:JB$22,IU35)+COUNTIF(II$25:JB$25,IU35))/設定!$M26+IFERROR((COUNTIF(II$6:JB$7,処理!$L25)+COUNTIF(II$10:JB$10,処理!$L25)+COUNTIF(II$13:JB$13,処理!$L25)+COUNTIF(II$16:JB$16,処理!$L25)+COUNTIF(II$19:JB$19,処理!$L25)+COUNTIF(II$22:JB$22,処理!$L25)+COUNTIF(II$25:JB$25,処理!$L25))/処理!$M25,0))","v":""},"",{"$f":"$S$35","v":""},null,{"$f":"IF(LEN(IY35)=0,\"\",COUNTIF(II$6:JB$7,IY35)+COUNTIF(II$10:JB$10,IY35)+COUNTIF(II$13:JB$13,IY35)+COUNTIF(II$16:JB$16,IY35)+COUNTIF(II$19:JB$19,IY35)+COUNTIF(II$22:JB$22,IY35)+COUNTIF(II$25:JB$25,IY35))","v":""},""]

{"sheet":"集計表","index":5,"n_rows":43,"n_cols":19,"rows_kept":43,"cut":false,"hidden":false,"merged":[[2,16,2,18],[0,0,0,6],[0,8,0,12],[2,11,3,11],[1,10,1,12],[2,12,3,12],[1,0,3,0],[1,1,1,9],[2,1,2,3],[2,4,2,6],[2,7,2,9],[2,10,3,10]]}
[{"$f":"DBCS(TEXT(DATE(設定!B4,4,1),\"ggge年度　時間数集計表\"))","v":"明治３３年度　時間数集計表"}]
["時 間\n教 科\n等","時　　　間　　　数",null,null,null,null,null,null,null,null,{"$f":"IF(I29=0,IF(F29=0,\"１学期まで\",\"２学期まで\"),\"年間\")","v":"１学期まで"}]
[null,"１学期",null,null,"２学期",null,null,"３学期",null,null,"標準\n時間数","実施\n時間数","±",null,null,null,"標準授業時数"]
[null,"標 準","実 施","±","標 準","実 施","±","標 準","実 施","±",null,null,null,null,null,null,"１年","２年","３年"]
[{"$f":"処理!K2","v":""},null,{"$f":"IF(LEN($A5)=0,\"\",INDEX('１学期'!$LN$30:$MD$35,MOD(SMALL(処理!$J$2:$J$25,ROW()-4),6)+1,4*QUOTIENT(SMALL(処理!$J$2:$J$25,ROW()-4),6)+1))","v":""},{"$f":"IF(LEN($B5)=0,\"\",C5-B5)","v":""},null,{"$f":"IF(LEN($A5)=0,\"\",INDEX('２学期'!$MH$30:$MX$35,MOD(SMALL(処理!$J$2:$J$25,ROW()-4),6)+1,4*QUOTIENT(SMALL(処理!$J$2:$J$25,ROW()-4),6)+1))","v":""},{"$f":"IF(LEN($E5)=0,\"\",F5-E5)","v":""},null,{"$f":"IF(LEN($A5)=0,\"\",INDEX('３学期'!$IL$30:$JB$35,MOD(SMALL(処理!$J$2:$J$25,ROW()-4),6)+1,4*QUOTIENT(SMALL(処理!$J$2:$J$25,ROW()-4),6)+1))","v":""},{"$f":"IF(LEN($H5)=0,\"\",I5-H5)","v":""},{"$f":"IF(COUNT(B5,E5,H5)=0,\"\",IF($I$29=0,IF($F$29=0,B5,SUM(B5,E5)),SUM(B5,E5,H5)))","v":""},{"$f":"IF(LEN($A5)=0,\"\",SUM(C5,F5,I5))","v":""},{"$f":"IF(LEN($K5)=0,\"\",L5-K5)","v":""},null,"国語","１学期",52,52,39]
[{"$f":"処理!K3","v":""},null,{"$f":"IF(LEN($A6)=0,\"\",INDEX('１学期'!$LN$30:$MD$35,MOD(SMALL(処理!$J$2:$J$25,ROW()-4),6)+1,4*QUOTIENT(SMALL(処理!$J$2:$J$25,ROW()-4),6)+1))","v":""},{"$f":"IF(LEN($B6)=0,\"\",C6-B6)","v":""},null,{"$f":"IF(LEN($A6)=0,\"\",INDEX('２学期'!$MH$30:$MX$35,MOD(SMALL(処理!$J$2:$J$25,ROW()-4),6)+1,4*QUOTIENT(SMALL(処理!$J$2:$J$25,ROW()-4),6)+1))","v":""},"",null,{"$f":"IF(LEN($A6)=0,\"\",INDEX('３学期'!$IL$30:$JB$35,MOD(SMALL(処理!$J$2:$J$25,ROW()-4),6)+1,4*QUOTIENT(SMALL(処理!$J$2:$J$25,ROW()-4),6)+1))","v":""},{"$f":"IF(LEN($H6)=0,\"\",I6-H6)","v":""},{"$f":"IF(COUNT(B6,E6,H6)=0,\"\",IF($I$29=0,IF($F$29=0,B6,SUM(B6,E6)),SUM(B6,E6,H6)))","v":""},{"$f":"IF(LEN($A6)=0,\"\",SUM(C6,F6,I6))","v":""},{"$f":"IF(LEN($K6)=0,\"\",L6-K6)","v":""},null,null,"２学期",56,56,42]
[{"$f":"処理!K4","v":""},null,{"$f":"IF(LEN($A7)=0,\"\",INDEX('１学期'!$LN$30:$MD$35,MOD(SMALL(処理!$J$2:$J$25,ROW()-4),6)+1,4*QUOTIENT(SMALL(処理!$J$2:$J$25,ROW()-4),6)+1))","v":""},"",null,{"$f":"IF(LEN($A7)=0,\"\",INDEX('２学期'!$MH$30:$MX$35,MOD(SMALL(処理!$J$2:$J$25,ROW()-4),6)+1,4*QUOTIENT(SMALL(処理!$J$2:$J$25,ROW()-4),6)+1))","v":""},"",null,{"$f":"IF(LEN($A7)=0,\"\",INDEX('３学期'!$IL$30:$JB$35,MOD(SMALL(処理!$J$2:$J$25,ROW()-4),6)+1,4*QUOTIENT(SMALL(処理!$J$2:$J$25,ROW()-4),6)+1))","v":""},"","","","",null,null,"３学期",32,32,24]
[{"$f":"処理!K5","v":""},null,{"$f":"IF(LEN($A8)=0,\"\",INDEX('１学期'!$LN$30:$MD$35,MOD(SMALL(処理!$J$2:$J$25,ROW()-4),6)+1,4*QUOTIENT(SMALL(処理!$J$2:$J$25,ROW()-4),6)+1))","v":""},"",null,{"$f":"IF(LEN($A8)=0,\"\",INDEX('２学期'!$MH$30:$MX$35,MOD(SMALL(処理!$J$2:$J$25,ROW()-4),6)+1,4*QUOTIENT(SMALL(処理!$J$2:$J$25,ROW()-4),6)+1))","v":""},"",null,{"$f":"IF(LEN($A8)=0,\"\",INDEX('３学期'!$IL$30:$JB$35,MOD(SMALL(処理!$J$2:$J$25,ROW()-4),6)+1,4*QUOTIENT(SMALL(処理!$J$2:$J$25,ROW()-4),6)+1))","v":""},"","","","",null,"社会","１学期",39,39,52]
[{"$f":"処理!K6","v":""},null,{"$f":"IF(LEN($A9)=0,\"\",INDEX('１学期'!$LN$30:$MD$35,MOD(SMALL(処理!$J$2:$J$25,ROW()-4),6)+1,4*QUOTIENT(SMALL(処理!$J$2:$J$25,ROW()-4),6)+1))","v":""},"",null,{"$f":"IF(LEN($A9)=0,\"\",INDEX('２学期'!$MH$30:$MX$35,MOD(SMALL(処理!$J$2:$J$25,ROW()-4),6)+1,4*QUOTIENT(SMALL(処理!$J$2:$J$25,ROW()-4),6)+1))","v":""},"",null,{"$f":"IF(LEN($A9)=0,\"\",INDEX('３学期'!$IL$30:$JB$35,MOD(SMALL(処理!$J$2:$J$25,ROW()-4),6)+1,4*QUOTIENT(SMALL(処理!$J$2:$J$25,ROW()-4),6)+1))","v":""},"","","","",null,null,"２学期",42,42,56]
[{"$f":"処理!K7","v":""},null,{"$f":"IF(LEN($A10)=0,\"\",INDEX('１学期'!$LN$30:$MD$35,MOD(SMALL(処理!$J$2:$J$25,ROW()-4),6)+1,4*QUOTIENT(SMALL(処理!$J$2:$J$25,ROW()-4),6)+1))","v":""},"",null,{"$f":"IF(LEN($A10)=0,\"\",INDEX('２学期'!$MH$30:$MX$35,MOD(SMALL(処理!$J$2:$J$25,ROW()-4),6)+1,4*QUOTIENT(SMALL(処理!$J$2:$J$25,ROW()-4),6)+1))","v":""},"",null,{"$f":"IF(LEN($A10)=0,\"\",INDEX('３学期'!$IL$30:$JB$35,MOD(SMALL(処理!$J$2:$J$25,ROW()-4),6)+1,4*QUOTIENT(SMALL(処理!$J$2:$J$25,ROW()-4),6)+1))","v":""},"","","","",null,null,"３学期",24,24,32]
[{"$f":"処理!K8","v":""},null,{"$f":"IF(LEN($A11)=0,\"\",INDEX('１学期'!$LN$30:$MD$35,MOD(SMALL(処理!$J$2:$J$25,ROW()-4),6)+1,4*QUOTIENT(SMALL(処理!$J$2:$J$25,ROW()-4),6)+1))","v":""},"",null,{"$f":"IF(LEN($A11)=0,\"\",INDEX('２学期'!$MH$30:$MX$35,MOD(SMALL(処理!$J$2:$J$25,ROW()-4),6)+1,4*QUOTIENT(SMALL(処理!$J$2:$J$25,ROW()-4),6)+1))","v":""},"",null,{"$f":"IF(LEN($A11)=0,\"\",INDEX('３学期'!$IL$30:$JB$35,MOD(SMALL(処理!$J$2:$J$25,ROW()-4),6)+1,4*QUOTIENT(SMALL(処理!$J$2:$J$25,ROW()-4),6)+1))","v":""},"","","","",null,"数学","１学期",52,39,52]
[{"$f":"処理!K9","v":""},null,{"$f":"IF(LEN($A12)=0,\"\",INDEX('１学期'!$LN$30:$MD$35,MOD(SMALL(処理!$J$2:$J$25,ROW()-4),6)+1,4*QUOTIENT(SMALL(処理!$J$2:$J$25,ROW()-4),6)+1))","v":""},"",null,{"$f":"IF(LEN($A12)=0,\"\",INDEX('２学期'!$MH$30:$MX$35,MOD(SMALL(処理!$J$2:$J$25,ROW()-4),6)+1,4*QUOTIENT(SMALL(処理!$J$2:$J$25,ROW()-4),6)+1))","v":""},"",null,{"$f":"IF(LEN($A12)=0,\"\",INDEX('３学期'!$IL$30:$JB$35,MOD(SMALL(処理!$J$2:$J$25,ROW()-4),6)+1,4*QUOTIENT(SMALL(処理!$J$2:$J$25,ROW()-4),6)+1))","v":""},"","","","",null,null,"２学期",56,42,56]
[{"$f":"処理!K10","v":""},null,{"$f":"IF(LEN($A13)=0,\"\",INDEX('１学期'!$LN$30:$MD$35,MOD(SMALL(処理!$J$2:$J$25,ROW()-4),6)+1,4*QUOTIENT(SMALL(処理!$J$2:$J$25,ROW()-4),6)+1))","v":""},"",null,{"$f":"IF(LEN($A13)=0,\"\",INDEX('２学期'!$MH$30:$MX$35,MOD(SMALL(処理!$J$2:$J$25,ROW()-4),6)+1,4*QUOTIENT(SMALL(処理!$J$2:$J$25,ROW()-4),6)+1))","v":""},"",null,{"$f":"IF(LEN($A13)=0,\"\",INDEX('３学期'!$IL$30:$JB$35,MOD(SMALL(処理!$J$2:$J$25,ROW()-4),6)+1,4*QUOTIENT(SMALL(処理!$J$2:$J$25,ROW()-4),6)+1))","v":""},"","","","",null,null,"３学期",32,24,32]
[{"$f":"処理!K11","v":""},null,{"$f":"IF(LEN($A14)=0,\"\",INDEX('１学期'!$LN$30:$MD$35,MOD(SMALL(処理!$J$2:$J$25,ROW()-4),6)+1,4*QUOTIENT(SMALL(処理!$J$2:$J$25,ROW()-4),6)+1))","v":""},"",null,{"$f":"IF(LEN($A14)=0,\"\",INDEX('２学期'!$MH$30:$MX$35,MOD(SMALL(処理!$J$2:$J$25,ROW()-4),6)+1,4*QUOTIENT(SMALL(処理!$J$2:$J$25,ROW()-4),6)+1))","v":""},"",null,{"$f":"IF(LEN($A14)=0,\"\",INDEX('３学期'!$IL$30:$JB$35,MOD(SMALL(処理!$J$2:$J$25,ROW()-4),6)+1,4*QUOTIENT(SMALL(処理!$J$2:$J$25,ROW()-4),6)+1))","v":""},"","","","",null,"理科","１学期",39,52,52]
[{"$f":"処理!K12","v":""},null,{"$f":"IF(LEN($A15)=0,\"\",INDEX('１学期'!$LN$30:$MD$35,MOD(SMALL(処理!$J$2:$J$25,ROW()-4),6)+1,4*QUOTIENT(SMALL(処理!$J$2:$J$25,ROW()-4),6)+1))","v":""},"",null,{"$f":"IF(LEN($A15)=0,\"\",INDEX('２学期'!$MH$30:$MX$35,MOD(SMALL(処理!$J$2:$J$25,ROW()-4),6)+1,4*QUOTIENT(SMALL(処理!$J$2:$J$25,ROW()-4),6)+1))","v":""},"",null,{"$f":"IF(LEN($A15)=0,\"\",INDEX('３学期'!$IL$30:$JB$35,MOD(SMALL(処理!$J$2:$J$25,ROW()-4),6)+1,4*QUOTIENT(SMALL(処理!$J$2:$J$25,ROW()-4),6)+1))","v":""},"","","","",null,null,"２学期",42,56,56]
[{"$f":"処理!K13","v":""},null,{"$f":"IF(LEN($A16)=0,\"\",INDEX('１学期'!$LN$30:$MD$35,MOD(SMALL(処理!$J$2:$J$25,ROW()-4),6)+1,4*QUOTIENT(SMALL(処理!$J$2:$J$25,ROW()-4),6)+1))","v":""},"",null,{"$f":"IF(LEN($A16)=0,\"\",INDEX('２学期'!$MH$30:$MX$35,MOD(SMALL(処理!$J$2:$J$25,ROW()-4),6)+1,4*QUOTIENT(SMALL(処理!$J$2:$J$25,ROW()-4),6)+1))","v":""},"",null,{"$f":"IF(LEN($A16)=0,\"\",INDEX('３学期'!$IL$30:$JB$35,MOD(SMALL(処理!$J$2:$J$25,ROW()-4),6)+1,4*QUOTIENT(SMALL(処理!$J$2:$J$25,ROW()-4),6)+1))","v":""},"","","","",null,null,"３学期",24,32,32]
[{"$f":"処理!K14","v":""},null,{"$f":"IF(LEN($A17)=0,\"\",INDEX('１学期'!$LN$30:$MD$35,MOD(SMALL(処理!$J$2:$J$25,ROW()-4),6)+1,4*QUOTIENT(SMALL(処理!$J$2:$J$25,ROW()-4),6)+1))","v":""},"",null,{"$f":"IF(LEN($A17)=0,\"\",INDEX('２学期'!$MH$30:$MX$35,MOD(SMALL(処理!$J$2:$J$25,ROW()-4),6)+1,4*QUOTIENT(SMALL(処理!$J$2:$J$25,ROW()-4),6)+1))","v":""},"",null,{"$f":"IF(LEN($A17)=0,\"\",INDEX('３学期'!$IL$30:$JB$35,MOD(SMALL(処理!$J$2:$J$25,ROW()-4),6)+1,4*QUOTIENT(SMALL(処理!$J$2:$J$25,ROW()-4),6)+1))","v":""},"","","","",null,"音楽","１学期",17,13,13]
[{"$f":"処理!K15","v":""},null,{"$f":"IF(LEN($A18)=0,\"\",INDEX('１学期'!$LN$30:$MD$35,MOD(SMALL(処理!$J$2:$J$25,ROW()-4),6)+1,4*QUOTIENT(SMALL(処理!$J$2:$J$25,ROW()-4),6)+1))","v":""},"",null,{"$f":"IF(LEN($A18)=0,\"\",INDEX('２学期'!$MH$30:$MX$35,MOD(SMALL(処理!$J$2:$J$25,ROW()-4),6)+1,4*QUOTIENT(SMALL(処理!$J$2:$J$25,ROW()-4),6)+1))","v":""},"",null,{"$f":"IF(LEN($A18)=0,\"\",INDEX('３学期'!$IL$30:$JB$35,MOD(SMALL(処理!$J$2:$J$25,ROW()-4),6)+1,4*QUOTIENT(SMALL(処理!$J$2:$J$25,ROW()-4),6)+1))","v":""},"","","","",null,null,"２学期",18,14,14]
[{"$f":"処理!K16","v":""},null,{"$f":"IF(LEN($A19)=0,\"\",INDEX('１学期'!$LN$30:$MD$35,MOD(SMALL(処理!$J$2:$J$25,ROW()-4),6)+1,4*QUOTIENT(SMALL(処理!$J$2:$J$25,ROW()-4),6)+1))","v":""},"",null,{"$f":"IF(LEN($A19)=0,\"\",INDEX('２学期'!$MH$30:$MX$35,MOD(SMALL(処理!$J$2:$J$25,ROW()-4),6)+1,4*QUOTIENT(SMALL(処理!$J$2:$J$25,ROW()-4),6)+1))","v":""},"",null,{"$f":"IF(LEN($A19)=0,\"\",INDEX('３学期'!$IL$30:$JB$35,MOD(SMALL(処理!$J$2:$J$25,ROW()-4),6)+1,4*QUOTIENT(SMALL(処理!$J$2:$J$25,ROW()-4),6)+1))","v":""},"","","","",null,null,"３学期",10,8,8]
[{"$f":"処理!K17","v":""},null,{"$f":"IF(LEN($A20)=0,\"\",INDEX('１学期'!$LN$30:$MD$35,MOD(SMALL(処理!$J$2:$J$25,ROW()-4),6)+1,4*QUOTIENT(SMALL(処理!$J$2:$J$25,ROW()-4),6)+1))","v":""},"",null,{"$f":"IF(LEN($A20)=0,\"\",INDEX('２学期'!$MH$30:$MX$35,MOD(SMALL(処理!$J$2:$J$25,ROW()-4),6)+1,4*QUOTIENT(SMALL(処理!$J$2:$J$25,ROW()-4),6)+1))","v":""},"",null,{"$f":"IF(LEN($A20)=0,\"\",INDEX('３学期'!$IL$30:$JB$35,MOD(SMALL(処理!$J$2:$J$25,ROW()-4),6)+1,4*QUOTIENT(SMALL(処理!$J$2:$J$25,ROW()-4),6)+1))","v":""},"","","","",null,"美術","１学期",17,13,13]
[{"$f":"処理!K18","v":""},null,{"$f":"IF(LEN($A21)=0,\"\",INDEX('１学期'!$LN$30:$MD$35,MOD(SMALL(処理!$J$2:$J$25,ROW()-4),6)+1,4*QUOTIENT(SMALL(処理!$J$2:$J$25,ROW()-4),6)+1))","v":""},"",null,{"$f":"IF(LEN($A21)=0,\"\",INDEX('２学期'!$MH$30:$MX$35,MOD(SMALL(処理!$J$2:$J$25,ROW()-4),6)+1,4*QUOTIENT(SMALL(処理!$J$2:$J$25,ROW()-4),6)+1))","v":""},"",null,{"$f":"IF(LEN($A21)=0,\"\",INDEX('３学期'!$IL$30:$JB$35,MOD(SMALL(処理!$J$2:$J$25,ROW()-4),6)+1,4*QUOTIENT(SMALL(処理!$J$2:$J$25,ROW()-4),6)+1))","v":""},"","","","",null,null,"２学期",18,14,14]
[{"$f":"処理!K19","v":""},null,{"$f":"IF(LEN($A22)=0,\"\",INDEX('１学期'!$LN$30:$MD$35,MOD(SMALL(処理!$J$2:$J$25,ROW()-4),6)+1,4*QUOTIENT(SMALL(処理!$J$2:$J$25,ROW()-4),6)+1))","v":""},"",null,{"$f":"IF(LEN($A22)=0,\"\",INDEX('２学期'!$MH$30:$MX$35,MOD(SMALL(処理!$J$2:$J$25,ROW()-4),6)+1,4*QUOTIENT(SMALL(処理!$J$2:$J$25,ROW()-4),6)+1))","v":""},"",null,{"$f":"IF(LEN($A22)=0,\"\",INDEX('３学期'!$IL$30:$JB$35,MOD(SMALL(処理!$J$2:$J$25,ROW()-4),6)+1,4*QUOTIENT(SMALL(処理!$J$2:$J$25,ROW()-4),6)+1))","v":""},"","","","",null,null,"３学期",10,8,8]
[{"$f":"処理!K20","v":""},null,{"$f":"IF(LEN($A23)=0,\"\",INDEX('１学期'!$LN$30:$MD$35,MOD(SMALL(処理!$J$2:$J$25,ROW()-4),6)+1,4*QUOTIENT(SMALL(処理!$J$2:$J$25,ROW()-4),6)+1))","v":""},"",null,{"$f":"IF(LEN($A23)=0,\"\",INDEX('２学期'!$MH$30:$MX$35,MOD(SMALL(処理!$J$2:$J$25,ROW()-4),6)+1,4*QUOTIENT(SMALL(処理!$J$2:$J$25,ROW()-4),6)+1))","v":""},"",null,{"$f":"IF(LEN($A23)=0,\"\",INDEX('３学期'!$IL$30:$JB$35,MOD(SMALL(処理!$J$2:$J$25,ROW()-4),6)+1,4*QUOTIENT(SMALL(処理!$J$2:$J$25,ROW()-4),6)+1))","v":""},"","","","",null,"保健体育","１学期",39,39,39]
[{"$f":"処理!K21","v":""},null,{"$f":"IF(LEN($A24)=0,\"\",INDEX('１学期'!$LN$30:$MD$35,MOD(SMALL(処理!$J$2:$J$25,ROW()-4),6)+1,4*QUOTIENT(SMALL(処理!$J$2:$J$25,ROW()-4),6)+1))","v":""},"",null,{"$f":"IF(LEN($A24)=0,\"\",INDEX('２学期'!$MH$30:$MX$35,MOD(SMALL(処理!$J$2:$J$25,ROW()-4),6)+1,4*QUOTIENT(SMALL(処理!$J$2:$J$25,ROW()-4),6)+1))","v":""},"",null,{"$f":"IF(LEN($A24)=0,\"\",INDEX('３学期'!$IL$30:$JB$35,MOD(SMALL(処理!$J$2:$J$25,ROW()-4),6)+1,4*QUOTIENT(SMALL(処理!$J$2:$J$25,ROW()-4),6)+1))","v":""},"","","","",null,null,"２学期",42,42,42]
[{"$f":"処理!K22","v":""},null,{"$f":"IF(LEN($A25)=0,\"\",INDEX('１学期'!$LN$30:$MD$35,MOD(SMALL(処理!$J$2:$J$25,ROW()-4),6)+1,4*QUOTIENT(SMALL(処理!$J$2:$J$25,ROW()-4),6)+1))","v":""},"",null,{"$f":"IF(LEN($A25)=0,\"\",INDEX('２学期'!$MH$30:$MX$35,MOD(SMALL(処理!$J$2:$J$25,ROW()-4),6)+1,4*QUOTIENT(SMALL(処理!$J$2:$J$25,ROW()-4),6)+1))","v":""},"",null,{"$f":"IF(LEN($A25)=0,\"\",INDEX('３学期'!$IL$30:$JB$35,MOD(SMALL(処理!$J$2:$J$25,ROW()-4),6)+1,4*QUOTIENT(SMALL(処理!$J$2:$J$25,ROW()-4),6)+1))","v":""},"","","","",null,null,"３学期",24,24,24]
[{"$f":"処理!K23","v":""},null,{"$f":"IF(LEN($A26)=0,\"\",INDEX('１学期'!$LN$30:$MD$35,MOD(SMALL(処理!$J$2:$J$25,ROW()-4),6)+1,4*QUOTIENT(SMALL(処理!$J$2:$J$25,ROW()-4),6)+1))","v":""},"",null,{"$f":"IF(LEN($A26)=0,\"\",INDEX('２学期'!$MH$30:$MX$35,MOD(SMALL(処理!$J$2:$J$25,ROW()-4),6)+1,4*QUOTIENT(SMALL(処理!$J$2:$J$25,ROW()-4),6)+1))","v":""},"",null,{"$f":"IF(LEN($A26)=0,\"\",INDEX('３学期'!$IL$30:$JB$35,MOD(SMALL(処理!$J$2:$J$25,ROW()-4),6)+1,4*QUOTIENT(SMALL(処理!$J$2:$J$25,ROW()-4),6)+1))","v":""},"","","","",null,"技術","１学期",13,13,6.5]
[{"$f":"処理!K24","v":""},null,{"$f":"IF(LEN($A27)=0,\"\",INDEX('１学期'!$LN$30:$MD$35,MOD(SMALL(処理!$J$2:$J$25,ROW()-4),6)+1,4*QUOTIENT(SMALL(処理!$J$2:$J$25,ROW()-4),6)+1))","v":""},"",null,{"$f":"IF(LEN($A27)=0,\"\",INDEX('２学期'!$MH$30:$MX$35,MOD(SMALL(処理!$J$2:$J$25,ROW()-4),6)+1,4*QUOTIENT(SMALL(処理!$J$2:$J$25,ROW()-4),6)+1))","v":""},{"$f":"IF(LEN($E27)=0,\"\",F27-E27)","v":""},null,{"$f":"IF(LEN($A27)=0,\"\",INDEX('３学期'!$IL$30:$JB$35,MOD(SMALL(処理!$J$2:$J$25,ROW()-4),6)+1,4*QUOTIENT(SMALL(処理!$J$2:$J$25,ROW()-4),6)+1))","v":""},"","","","",null,null,"２学期",14,14,7]
[{"$f":"処理!K25","v":""},null,{"$f":"IF(LEN($A28)=0,\"\",INDEX('１学期'!$LN$30:$MD$35,MOD(SMALL(処理!$J$2:$J$25,ROW()-4),6)+1,4*QUOTIENT(SMALL(処理!$J$2:$J$25,ROW()-4),6)+1))","v":""},"",null,{"$f":"IF(LEN($A28)=0,\"\",INDEX('２学期'!$MH$30:$MX$35,MOD(SMALL(処理!$J$2:$J$25,ROW()-4),6)+1,4*QUOTIENT(SMALL(処理!$J$2:$J$25,ROW()-4),6)+1))","v":""},"",null,{"$f":"IF(LEN($A28)=0,\"\",INDEX('３学期'!$IL$30:$JB$35,MOD(SMALL(処理!$J$2:$J$25,ROW()-4),6)+1,4*QUOTIENT(SMALL(処理!$J$2:$J$25,ROW()-4),6)+1))","v":""},"","","","",null,null,"３学期",8,8,4]
["計",{"$f":"SUM(B5:B28)","v":0},{"$f":"SUM(C5:C28)","v":0},{"$f":"C29-B29","v":0},{"$f":"SUM(E5:E28)","v":0},{"$f":"SUM(F5:F28)","v":0},{"$f":"F29-E29","v":0},{"$f":"SUM(H5:H28)","v":0},{"$f":"SUM(I5:I28)","v":0},{"$f":"I29-H29","v":0},{"$f":"SUM(K5:K28)","v":0},{"$f":"SUM(L5:L28)","v":0},{"$f":"L29-K29","v":0},null,"家庭","１学期",13,13,6.5]
[{"$f":"設定!N22&\"\"","v":""},null,{"$f":"'１学期'!MD31","v":""},{"$f":"IF(LEN($B30)=0,\"\",C30-B30)","v":""},null,{"$f":"'２学期'!MX31","v":""},{"$f":"IF(LEN($E30)=0,\"\",F30-E30)","v":""},null,{"$f":"'３学期'!JB31","v":""},{"$f":"IF(LEN($H30)=0,\"\",I30-H30)","v":""},{"$f":"IF(COUNT(B30,E30,H30)=0,\"\",SUM(B30,E30,H30))","v":""},{"$f":"IF(COUNT(C30,F30,I30)=0,\"\",SUM(C30,F30,I30))","v":""},"",null,null,"２学期",14,14,7]
[{"$f":"設定!N23&\"\"","v":""},null,{"$f":"'１学期'!MD32","v":""},"",null,{"$f":"'２学期'!MX32","v":""},"",null,{"$f":"'３学期'!JB32","v":""},"","","","",null,null,"３学期",8,8,4]
[{"$f":"設定!N24&\"\"","v":""},null,{"$f":"'１学期'!MD33","v":""},"",null,{"$f":"'２学期'!MX33","v":""},"",null,{"$f":"'３学期'!JB33","v":""},"","","","",null,"英語","１学期",52,52,52]
[{"$f":"設定!N25&\"\"","v":""},null,{"$f":"'１学期'!MD34","v":""},"",null,{"$f":"'２学期'!MX34","v":""},"",null,{"$f":"'３学期'!JB34","v":""},"","","","",null,null,"２学期",56,56,56]
[{"$f":"設定!N26&\"\"","v":""},null,{"$f":"'１学期'!MD35","v":""},"",null,{"$f":"'２学期'!MX35","v":""},"",null,{"$f":"'３学期'!JB35","v":""},"","","","",null,null,"３学期",32,32,32]
[null,null,null,null,null,null,null,null,null,null,null,null,null,null,"道徳","１学期",13,13,13]
[null,null,null,null,null,null,null,null,null,null,null,null,null,null,null,"２学期",14,14,14]
[null,null,null,null,null,null,null,null,null,null,null,null,null,null,null,"３学期",8,8,8]
[null,null,null,null,null,null,null,null,null,null,null,null,null,null,"学活","１学期",13,13,13]
[null,null,null,null,null,null,null,null,null,null,null,null,null,null,null,"２学期",14,14,14]
[null,null,null,null,null,null,null,null,null,null,null,null,null,null,null,"３学期",8,8,8]
[null,null,null,null,null,null,null,null,null,null,null,null,null,null,"総合","１学期",18,26,26]
[null,null,null,null,null,null,null,null,null,null,null,null,null,null,null,"２学期",20,28,28]
[null,null,null,null,null,null,null,null,null,null,null,null,null,null,null,"３学期",12,16,16]

{"sheet":"取説","index":6,"n_rows":177,"n_cols":30,"rows_kept":177,"cut":false,"hidden":true,"merged":[[34,11,34,12],[34,9,34,10],[34,5,34,8],[35,5,35,8],[35,9,35,10],[35,11,35,12],[32,0,32,13],[7,4,7,12],[24,1,24,3],[25,1,25,3],[25,4,25,6],[26,1,26,3],[26,4,26,6],[24,4,24,6],[24,7,24,8],[22,0,22,13],[10,0,10,13],[15,0,15,13],[25,7,25,8],[26,7,26,8],[7,1,8,3],[8,4,8,12],[62,1,67,1],[75,0,75,13],[37,11,37,12],[38,5,38,8],[38,9,38,10],[38,11,38,12],[50,6,52,7],[43,0,43,13],[36,11,36,12],[37,5,37,8],[37,9,37,10],[58,0,58,13],[46,8,47,12],[48,8,49,12],[36,5,36,8],[36,9,36,10],[102,1,103,3],[102,4,102,12],[103,4,103,12],[81,2,81,6],[82,2,82,6],[81,9,81,15],[81,7,81,8],[82,7,82,8],[82,9,82,15],[154,5,156,5],[154,11,154,12],[162,21,162,32],[162,6,162,17],[162,1,164,5],[163,6,163,17],[143,2,148,2],[108,1,110,1],[143,8,143,9],[140,3,140,9],[141,3,141,9],[116,5,121,5],[113,6,113,12],[114,6,114,12],[126,6,126,12],[127,6,127,12],[129,5,134,5],[165,1,166,5],[164,6,164,9],[164,10,164,13],[164,14,164,17],[165,6,166,9],[165,10,166,13],[165,14,166,17],[79,7,80,32],[165,29,166,32],[165,25,166,28],[165,21,166,24],[163,21,164,24],[163,25,164,28],[163,29,164,32],[151,6,151,12],[152,6,152,12],[81,16,81,32],[82,16,82,32]]}
["＜取扱説明書、使用上の注意＞"]
[]
["＜はじめに＞"]
["※ このソフトはファイル名を変更しても使用可能です。好きな名前に変えてお使いください。"]
[]
["Ａ．＜設定＞シート"]
[null,null,null,null,null,null,null,null,null,null,null,null,null,null,1,"入学式の日にち"]
[null,null,null,null,"2023-05-22",null,null,null,null,null,null,null,null,null,null,"※","西暦を基に２・３学期の日案を作成します。始業式"]
[null,null,null,null,"月",null,null,null,null,null,null,null,null,null,null,null,"が入る週を第１週としています。"]
[null,null,null,null,null,null,null,null,null,null,null,null,null,null,null,"※","入学式の日にちを基に１学期の日案を作成します。"]
["＜○学期＞シートより",null,null,null,null,null,null,null,null,null,null,null,null,null,null,null,"入学式が入る週を第１週としています。"]
[null,null,null,null,null,null,null,null,null,null,null,null,null,null,2,"主幹教諭の有無"]
[null,"○学期",null,null,null,null,null,null,null,null,null,null,null,null,null,"※","「いる」と入力すると、日案上部に主幹教諭の押印"]
[null,"  第○週",null,null,null,null,"校長　　教頭　　…",null,null,null,null,null,null,null,null,null,"場所が現れます。"]
[]
["＜○学期＞シートより"]
[null,null,null,null,null,null,null,null,null,null,null,null,null,null,3,"追加したい授業名・その他名"]
[null,"※国語、社会、数学、理科、…",null,null,null,null,null,null,null,null,null,null,null,null,null,"※","追加した授業、その他は４　持ち授業の登録、＜単"]
[null,"学活",null,null,null,"道徳",null,null,null,null,null,null,null,null,null,null,"元・内容＞シートに追加されます。単元や内容を直"]
[null,null,null,null,null,null,null,null,null,null,null,null,null,null,null,null,"接入力して日案の作成に使用することができます。"]
[null,null,null,null,null,null,null,null,null,null,null,null,null,null,null,"※","国語、社会、数学、理科、音楽、美術、保体、技術、"]
[null,null,null,null,null,null,null,null,null,null,null,null,null,null,null,null,"家庭、英語はすでに設定されているので入力の必要"]
["＜設定＞シートより",null,null,null,null,null,null,null,null,null,null,null,null,null,null,null,"はありません。"]
[null,null,null,null,null,null,null,null,null,null,null,null,null,null,4,"持ち授業の登録"]
[null,"授業",null,null,"クラス",null,null,"回数",null,null,null,null,null,null,null,"※","ここで作られたコマは６　時間割、日案の授業枠で"]
[null,"国語",null,null,"1-1",null,null,1,null,"→1-1国語",null,null,null,null,null,null,"使用します。"]
[null,"国語",null,null,"3-2",null,null,3,null,"→3-2帯国語",null,null,null,null,null,"※","この表と日案の時間数集計が同じ配置になります。"]
[null,null,null,null,null,null,null,null,null,null,null,null,null,null,null,"※","通常授業と同名教科の帯授業を行う場合は、それぞ"]
[null,null,null,null,null,null,null,null,null,null,null,null,null,null,null,null,"れ入力してください。"]
[null,null,null,null,null,null,null,null,null,null,null,null,null,null,null,"※","その他の枠に入力したものについては、時間数集計"]
[null,null,null,null,null,null,null,null,null,null,null,null,null,null,null,null,"表の授業数に合計されず、個々に集計されます。行"]
[null,null,null,null,null,null,null,null,null,null,null,null,null,null,null,null,"事や委員会など、授業時間数に換算したくないもの"]
["＜設定＞シートより",null,null,null,null,null,null,null,null,null,null,null,null,null,null,null,"については「その他」に入力してください。"]
[null,null,null,null,null,null,null,null,null,null,null,null,null,null,5,"帯授業との合算"]
[null,null,null,null,null,"授業",null,null,null,"実施",null,"累計",null,null,null,"※","「する」と入力すると、帯授業の授業時間と通常授"]
[null,null,null,null,"「しない」","1-1国語",null,null,null,2,null,5,null,null,null,null,"業の同教科の授業時間を合算します。"]
[null,null,null,null,null,"1-1帯国語",null,null,null,0.3,null,2.7,null,null,null,"※","帯授業ごとに合算する、しないを設定することはで"]
[null,null,null,null,null,null,null,null,null,null,null,null,null,null,null,null,"きません。帯授業ごとに帯授業分のみの時数を集計"]
[null,null,null,null,"「する」","1-1国語",null,null,null,2.2999999999999998,null,7.7,null,null,null,null,"したい場合は以下のように設定してください。"]
[null,null,null,null,null,null,null,null,null,null,null,null,null,null,null,null,"①","５　帯授業との合算で、「する」と入力"]
[null,null,null,null,null,null,null,null,null,null,null,null,null,null,null,null,"②","３　追加したい授業名・その他名で、帯授業分"]
[null,null,null,null,null,null,null,null,null,null,null,null,null,null,null,null,null,"のみで集計したい帯授業の授業名を通常授業と"]
[null,null,null,null,null,null,null,null,null,null,null,null,null,null,null,null,null,"は別の授業名で登録"]
["＜○学期＞シートより",null,null,null,null,null,null,null,null,null,null,null,null,null,null,null,"③","４　持ち授業の登録で、各々登録"]
[null,null,null,null,null,null,null,null,null,null,null,null,null,null,6,"時間割"]
[null,null,null,null,null,null,null,null,null,null,null,null,null,null,null,"※","時間割を入力しなくてもこのソフトを利用すること"]
[null,null,null,null,null,null,null,null,"5/",null,null,null,null,null,null,null,"はできますが、入力しておくと＜○学期＞シート内"]
[null,null,null,null,null,null,null,null,null,null,null,null,null,null,null,null,"にある【時間割複写】ボタンを使用することができ"]
[null,null,null,null,null,null,null,null,"月",null,null,null,null,null,null,null,"るようになります。"]
[null,null,null,null,null,null,null,null,null,null,null,null,null,null,null,"※","授業時間ではないところに「×」と入力すると、日"]
[null,null,null,null,null,null,"前",null,null,null,null,null,null,null,null,null,"案の該当時間の枠が灰色になります。また、「なし」"]
[null,null,null,null,null,null,null,null,null,null,null,null,null,null,null,null,"と入力すると、日案の該当時間の枠内は灰色になら"]
[null,null,null,null,null,null,null,null,null,null,null,null,null,null,null,null,"ず、授業枠に「なし」と表示されます。どちらも必"]
[null,null,null,null,null,null,null,null,null,null,null,null,null,null,null,null,"要ない場合は、何も入力しないでください。"]
[null,null,null,null,null,null,null,null,null,null,null,null,null,null,null,"※","隔週で授業が入れ替わる場合は、どちらかを入れて"]
[null,null,null,null,null,null,null,null,null,null,null,null,null,null,null,null,"おき、入力していない方の授業を日案上の授業枠に"]
[null,null,null,null,null,null,null,null,null,null,null,null,null,null,null,null,"手入力してください。"]
[null,null,null,null,null,null,null,null,null,null,null,null,null,null,null,"※","年度の途中で時間割を変えても、これまでに入力さ"]
["＜○学期＞シートより",null,null,null,null,null,null,null,null,null,null,null,null,null,null,null,"れた日案の授業は変更されません。"]
[null,null,null,null,null,null,null,null,null,null,null,null,null,null,7,"知多カリデータ呼び込み"]
[null,null,"４で入力した授業等",null,null,null,null,null,null,null,null,null,null,null,null,"※","知多カリデータを取り込まなくてもこのソフトを利"]
[null,null,null,null,null,"↓",null,null,null,null,null,null,null,null,null,null,"用することはできますが、取り込んでおくと＜○学"]
[null,1,null,null,null,null,null,null,null,null,"←授業No",null,null,null,null,null,"期＞シート内で単元名と内容を自動で表示すること"]
[null,null,null,null,null,null,null,null,null,null,"←単元名",null,null,null,null,null,"ができるようになります。"]
[null,null,null,null,null,null,null,null,null,null,null,null,null,null,null,"※","知多カリデータを取り込む場合は、事前に知多教育"]
[null,null,null,null,null,null,null,null,null,null,"←内容",null,null,null,null,null,"事務所ＨＰより最新の知多カリデータをダウンロー"]
[null,null,null,null,null,null,null,null,null,null,null,null,null,null,null,null,"ドしておいてください。"]
[null,null,null,null,null,null,null,null,null,null,null,null,null,null,null,"※","全ての教科の知多カリデータを取り込むこともでき"]
[null,null,null,null,null,null,null,null,null,null,null,null,null,null,null,null,"ますが、その分ファイルサイズが大きくなるので注"]
[null,null,null,null,null,null,null,null,null,null,null,null,null,null,null,null,"意してください。"]
[null,null,null,null,null,null,null,null,null,null,null,null,null,null,null,"※","＜単元・内容＞にすでに知多カリデータが入ってい"]
[null,null,null,null,null,null,null,null,null,null,null,null,null,null,null,null,"る状態で知多カリデータを取り込む場合、追加で取"]
[null,null,null,null,null,null,null,null,null,null,null,null,null,null,null,null,"り込むか、入力されているデータを消去して取り込"]
[null,null,null,null,null,null,null,null,null,null,null,null,null,null,null,null,"むかを選ぶことができます。"]
[null,null,null,null,null,null,null,null,null,null,null,null,null,null,null,"※","旧教科書を使用する場合は、その教科書が使われて"]
["＜○学期＞シートより",null,null,null,null,null,null,null,null,null,null,null,null,null,null,null,"いた年度の知多カリデータも取り込んでください。"]
[]
["Ｂ．＜単元・内容＞シート"]
[]
[null,null,null,null,null,null,null,"国語"]
[]
[null,null,"No",null,null,null,null,"学年",null,"単元名",null,null,null,null,null,null,"内容"]
[null,null,1,null,null,null,null,1,null,"つづけよう①",null,null,null,null,null,null,"詩を楽しんだり想像を広げたりして読む。"]
[]
[null,"①","各教科、その他の学年、単元名、内容を入力します。"]
[null,null,"※","Ａは国語、社会、数学、理科、音楽、美術、保体、技術、家庭、英語と＜設定＞シートの３"]
[null,null,null,"で入力した教科名、その他名が入っています。"]
[null,null,"※","＜設定＞シートの７で取り込んだ知多カリデータに、新たに追加したり、入力されているも"]
[null,null,null,"のを訂正したりすることができます。"]
[null,null,"※","＜設定＞シートの３で入力した教科、その他にも各々で単元名、内容を入力して日案に反映"]
[null,null,null,"させることができます。"]
[null,null,"※","Ｂの【知多ｶﾘ消去】ボタンを押し、「国語から英語まで」「全て」のどちらかを選ぶことで、"]
[null,null,null,"知多カリデータを一括消去することができます。消去した知多カリデータは戻らないので注"]
[null,null,null,"意してください。"]
[null,null,"※","Ｃの【非表示】ボタンを押すと、国語から英語までは学年、単元名、内容のいずれも入力さ"]
[null,null,null,"れていない教科、その他はＡに何も入力されていない教科を非表示にすることができます。"]
[null,null,null,"また、【非表示】ボタンを押すと、【非表示】ボタンが【全表示】ボタンに変わりますので、"]
[null,null,null,"【全表示】ボタンを押すと、全ての教科を表示することができます。"]
[]
["Ｃ．＜○学期＞シート"]
[null,null,null,null,null,null,null,null,null,null,null,null,null,null,1,"日にち"]
[null,null,null,null,null,null,null,null,null,null,null,null,null,null,null,"①","週休日に行事等がある場合は、週休日の振り替えら"]
[null,null,null,null,"2023-05-22",null,null,null,null,null,null,null,null,null,null,null,"れた日の欄に、行事等のある日にちを入力して使う"]
[null,null,null,null,"月",null,null,null,null,null,null,null,null,null,null,null,"ことができます。"]
[null,null,null,null,null,null,null,null,null,null,null,null,null,null,null,null,"※","曜日は自動で変更されます。曜日が正しく出な"]
[null,null,null,null,null,null,null,null,null,null,null,null,null,null,null,null,null,"い場合は、日にちを西暦から入力してください。"]
[null,null,null,null,null,null,null,null,null,null,null,null,null,null,2,"備考"]
[null,null,null,null,null,null,null,null,null,null,null,null,null,null,null,"①","３行とも自由に入力ができます。"]
[null,"備考","月",null,null,null,null,null,null,null,null,null,null,null,null,null,"※","１行目に「休日」と入力すると、その日の枠が"]
[null,null,null,null,null,null,null,null,null,null,null,null,null,null,null,null,null,"桃色になります。"]
[null,null,null,null,null,null,null,null,null,null,null,null,null,null,null,null,"※","１行目に「月」から「金」と入力すると、その"]
[null,null,null,null,null,null,null,null,null,null,null,null,null,null,null,null,null,"日の枠に入力した曜日の授業が入ります。"]
[null,null,null,null,null,null,null,null,null,null,null,null,null,null,3,"行う授業"]
[null,null,null,null,null,null,"2023-05-22",null,null,null,null,null,null,null,null,"①","その時間に行う授業等を入力します。"]
[null,null,null,null,null,null,"月",null,null,null,null,null,null,null,null,null,"※","①にカーソルを合わせると、＜設定＞シートの"]
[null,null,null,null,null,"前",null,null,null,null,null,null,null,null,null,null,null,"４で入力した授業等がリストから選べます。"]
[null,null,null,null,null,1,null,null,null,null,null,null,null,null,null,null,"※","「×」を入力すると、その授業枠が灰色になり"]
[null,null,null,null,null,null,null,null,null,null,null,null,null,null,null,null,null,"ます。"]
[null,null,null,null,null,null,null,null,null,null,null,null,null,null,null,null,"※","Ａの【時間割複写】ボタンを押すと、カーソル"]
[null,null,null,null,null,null,null,null,null,null,null,null,null,null,"　",null,null,"が置かれた週の該当曜日に＜設定＞シートの６"]
[null,null,null,null,null,null,null,null,null,null,null,null,null,null,null,null,null,"で入力した時間割を複写します。"]
[null,null,null,null,null,null,null,null,null,null,null,null,null,null,null,null,"※","２　備考の１行目に「休日」と入力された日に"]
[null,null,null,null,null,null,null,null,null,null,null,null,null,null,null,null,null,"は時間割は複写されません。"]
[null,null,null,null,null,null,null,null,null,null,null,null,null,null,null,null,"※","①に入力した後に＜設定＞シートの時間割を変"]
[null,null,null,null,null,null,null,null,null,null,null,null,null,null,null,null,null,"えても、入力された授業は変わりません。"]
[null,null,null,null,null,null,null,null,null,null,null,null,null,null,4,"授業No"]
[null,null,null,null,null,null,"2023-05-22",null,null,null,null,null,null,null,null,"①","＜単元・内容＞シートで割り振った授業Noを入力"]
[null,null,null,null,null,null,"月",null,null,null,null,null,null,null,null,null,"します。"]
[null,null,null,null,null,"前",null,null,null,null,null,null,null,null,null,null,"※","Ａには＜単元・内容＞シートで割り振られた授"]
[null,null,null,null,null,1,"2-1社会",null,null,null,null,null,null,null,null,null,null,"業の単元名、Ｂには授業の内容が自動で表示さ"]
[null,null,null,null,null,null,null,null,null,null,null,null,null,null,null,null,null,"れます。"]
[null,null,null,null,null,null,null,null,null,null,null,null,null,null,null,null,"※","①にカーソルを合わせると、その時間の授業No"]
[null,null,null,null,null,null,null,null,null,null,null,null,null,null,null,null,null,"の候補がリストに出ます。"]
[null,null,null,null,null,null,null,null,null,null,null,null,null,null,null,null,"※","①に必ず授業Noを入力しなくてはいけない訳で"]
[null,null,null,null,null,null,null,null,null,null,null,null,null,null,null,null,null,"はありません。Ａ、Ｂには直接単元名、内容を"]
[null,null,null,null,null,null,null,null,null,null,null,null,null,null,null,null,null,"入力することができます。"]
[null,null,null,null,null,null,null,null,null,null,null,null,null,null,null,null,"※","Ｃの【授業読込】ボタンを押すと、３　行う授"]
[null,null,null,null,null,null,null,null,null,null,null,null,null,null,null,null,null,"業で入力された時間割に自動で候補の授業Noを"]
[null,null,null,null,null,null,null,null,null,null,null,null,null,null,null,null,null,"読み込みます。"]
[null,null,null,null,null,null,null,null,null,null,null,null,null,null,5,"授業の単元名、内容"]
[null,null,null,"2023-05-22",null,null,null,null,null,null,null,null,null,null,null,"①","その授業の単元名を入力し、文字サイズを調整しま"]
[null,null,null,"月",null,null,null,null,null,null,null,null,null,null,null,null,"す。"]
[null,null,"前",null,null,null,null,null,null,null,null,null,null,null,null,"②","その授業の内容を入力し、文字サイズを調整します。"]
[null,null,1,"2-1社会",null,null,null,null,32,null,null,null,null,null,null,null,"※","４　授業Noで自動入力された単元名、内容も"]
[null,null,null,"日本の諸地域",null,null,null,null,null,null,null,null,null,null,null,null,null,"直接変更することができます。"]
[null,null,null,"自然環境に影響を受け",null,null,null,null,null,null,null,null,null,null,null,null,"※","単元名、内容の文字サイズを自動で調整する機"]
[null,null,null,"る人々の生活について",null,null,null,null,null,null,null,null,null,null,null,null,null,"能が付いていますが、ＰＣ、プリンタなどの環"]
[null,null,null,"調べる。",null,null,null,null,null,null,null,null,null,null,null,null,null,"境によってうまく調整できないことがあります。"]
[null,null,null,null,null,null,null,null,null,null,null,null,null,null,null,null,null,"必要であれば文字サイズの調整をしてください。"]
[]
[null,null,null,null,null,null,null,null,null,null,null,null,null,null,6,"日案の印刷"]
[null,null,null,null,null,null,"2023-05-22",null,null,null,null,null,null,null,null,"①","全ての項目の入力が終わったら、日案の印刷をしま"]
[null,null,null,null,null,null,"月",null,null,null,null,null,null,null,null,null,"す。"]
[null,null,null,null,null,"前",null,null,null,null,null,null,null,null,null,null,"※","Ａの【選択頁印刷】ボタンを押すと、カーソル"]
[null,null,null,null,null,1,"2-1社会",null,null,null,null,32,null,null,null,null,null,"が置かれた週のページのみ印刷することができ"]
[null,null,null,null,null,null,"日本の諸地域",null,null,null,null,null,null,null,null,null,null,"ます。"]
[null,null,null,null,null,null,"自然環境に影響を受け"]
[]
[]
["Ｄ．＜集計表＞シート"]
[]
[]
[null,"時　間\n教　科\n等",null,null,null,null,"時　　　　　",null,null,null,null,null,null,null,null,null,null,null,null,null,null,"１学期まで"]
[null,null,null,null,null,null,"１　　学　　期",null,null,null,null,null,null,null,null,null,null,null,null,null,null,"標準\n時間数",null,null,null,"実施\n時間数",null,null,null,"±"]
[null,null,null,null,null,null,"標　準",null,null,null,"実　施",null,null,null,"±",null,null,null,null,"…"]
[null,"2-1社会",null,null,null,null,null,null,null,null,49]
[]
[]
[]
[null,"①","各教科の標準時間数を入力します。"]
[null,null,"※","枠外にある【標準授業時数自動入力】ボタンを押すと、枠外の標準授業時数の表から該当す"]
[null,null,null,"る時数を自動入力します。"]
[null,null,"※","枠外の標準授業時数の表は変更可能です。"]
[null,null,"※","Ａ、Ｂ、Ｃは自動で入力されます。"]
[null,null,"※","Ｄは＜２学期＞シートの入力が確認されたら「２学期まで」に、＜３学期＞シートの入力が"]
[null,null,null,"確認されたら「年間」に自動で変更されます。"]
[null,null,"※","Ｅには職員名など、自由に文字を入力することができます。"]

{"sheet":"更新履歴","index":7,"n_rows":13,"n_cols":3,"rows_kept":13,"cut":false,"hidden":true,"merged":[]}
["更新履歴"]
["バージョン","日付","更新内容"]
["1.1.0","2025-01-17","・＜日案シート＞の備考の１行目に曜日を入力すると、その曜日の時"]
[null,null,"　間割が複写できるようにしました。"]
[null,null,"・＜日案シート＞の【授業読込】ボタンを押すと、授業の単元と内容"]
[null,null,"　の候補Noを自動で読み込めるようにしました。"]
[null,null,"・＜日案シート＞の単元や内容の欄に教科名を入力しても時間数集計"]
[null,null,"　に反映されないようにしました。"]
[null,null,"・＜日案シート＞のその他の授業も、授業Noを入力したら単元と内"]
[null,null,"　容を取り込めるようにしました。"]
[null,null,"・＜単元・内容シート＞の【非表示】ボタンを押すと、入力されてい"]
[null,null,"　ない教科を一括で非表示できるようにしました。"]
[null,null,"・軽微な修正を行いました。"]

{"sheet":"有効化","index":8,"n_rows":12,"n_cols":3,"rows_kept":12,"cut":false,"hidden":true,"merged":[]}
[]
[]
[]
[]
[null,"【コンテンツの有効化】を押して，マクロを有効にしてください。"]
[null,null,"※一度マクロを有効化していただくと，以後このメッセージは表示されなくなります。"]
[null,null,"※EXCELの設定によっては，再びセキュリティの警告が出ることがあります。"]
[null,null,"　その際は，必ず【コンテンツの有効化】を押すようにしてください。"]
[null,null,"　ソフトが破損する恐れがあります。"]
[null,null,"※他のEXCELファイルを開いてからこのソフトを開くと、【コンテンツの有効化】ボタン"]
[null,null,"　が表示されないことがあります。"]
[null,null,"　その際は，他のEXCELファイルを閉じてから，このソフトを開くようにしてください。"]

{"sheet":"処理","index":9,"n_rows":1921,"n_cols":17,"rows_kept":1921,"cut":false,"hidden":true,"merged":[[0,5,0,10],[0,11,0,12]]}
["入学式曜日",{"$f":"MOD(WEEKDAY(DATE(設定!B4,4,設定!D4),12),7)","v":5},null,null,"教科Ｌ","時間割Ｌ",null,null,null,null,null,"帯",null,null,"No.",{"$f":"IF(COUNTIF(O2:O1921,1)=0,1,\"\")","v":1},"リスト"]
["9/1曜日",{"$f":"IF(MOD(WEEKDAY(DATE(設定!B4,9,1),12),7)<5,MOD(WEEKDAY(DATE(設定!B4,9,1),12),7),MOD(WEEKDAY(DATE(設定!B4,9,1),12),7)-7)","v":-2},null,null,"国語",{"$f":"IF(LEN(設定!B21)=0,\"\",0)","v":""},{"$f":"IF(LEN(F2)=0,\"\",設定!B21)","v":""},{"$f":"IF(LEN(F2)=0,\"\",ASC(設定!C21)&IF(設定!D21>1,\"帯\",\"\")&G2)","v":""},{"$f":"IFERROR(INDEX($H$2:$H$31,SMALL($F$2:$F$31,1)+1)&\"\",\"×\")","v":"×"},{"$f":"IF(設定!$C$32=\"しない\",F2,IF(LEN(F2)=0,\"\",IF(ISERROR(FIND(\"帯\",H2)),F2,IF(COUNTIF($H$2:$H$32,SUBSTITUTE(H2,\"帯\",\"\"))>0,\"\",F2))))","v":""},{"$f":"IFERROR(INDEX($H$2:$H$31,SMALL($J$2:$J$25,1)+1)&\"\",\"\")","v":""},{"$f":"IF(LEN(J2)=0,\"\",IF(設定!D21>1,\"\",IF(COUNTIF($H$2:$H$25,ASC(設定!C21)&\"帯\"&G2)>0,ASC(設定!C21)&\"帯\"&G2,\"\")))","v":""},{"$f":"IF(LEN(L2)=0,\"\",IF(設定!$C$32=\"しない\",\"\",INDEX(設定!$B$21:$O$26,MOD(INDEX($F$2:$F$25,MATCH(L2,$H$2:$H$25,0)),6)+1,3*QUOTIENT(INDEX($F$2:$F$25,MATCH(L2,$H$2:$H$25,0)),6)+3)))","v":""},null,{"$f":"IF(2<=$B$10,IF(LEN('１学期'!C6)=0,\"\",IF('１学期'!C6=$B$8,IF(LEN('１学期'!F6)=0,\"\",'１学期'!F6),\"\")),\"\")","v":""},{"$f":"IF(LEN(O2)=0,\"\",IF(COUNTIF($O$2:$O$1921,O2+1)>0,\"\",IF(COUNTIF($O$2:O2,O2)>1,\"\",O2+1)))","v":""},{"$f":"IFERROR(SMALL($P$1:$P$1921,1),\"\")","v":1}]
["1/7曜日",{"$f":"IF(MOD(WEEKDAY(DATE(設定!B4+1,1,7),12),7)<5,MOD(WEEKDAY(DATE(設定!B4+1,1,7),12),7),MOD(WEEKDAY(DATE(設定!B4+1,1,7),12),7)-7)","v":0},null,null,"社会",{"$f":"IF(LEN(設定!B22)=0,\"\",1)","v":""},{"$f":"IF(LEN(F3)=0,\"\",設定!B22)","v":""},{"$f":"IF(LEN(F3)=0,\"\",ASC(設定!C22)&IF(設定!D22>1,\"帯\",\"\")&G3)","v":""},{"$f":"IFERROR(INDEX($H$2:$H$31,SMALL($F$2:$F$31,2)+1)&\"\",IF(COUNTIF($I$2:I2,\"×\")=0,\"×\",\"なし\"))","v":"なし"},{"$f":"IF(設定!$C$32=\"しない\",F3,IF(LEN(F3)=0,\"\",IF(ISERROR(FIND(\"帯\",H3)),F3,IF(COUNTIF($H$2:$H$32,SUBSTITUTE(H3,\"帯\",\"\"))>0,\"\",F3))))","v":""},{"$f":"IFERROR(INDEX($H$2:$H$31,SMALL($J$2:$J$25,2)+1)&\"\",\"\")","v":""},{"$f":"IF(LEN(J3)=0,\"\",IF(設定!D22>1,\"\",IF(COUNTIF($H$2:$H$25,ASC(設定!C22)&\"帯\"&G3)>0,ASC(設定!C22)&\"帯\"&G3,\"\")))","v":""},{"$f":"IF(LEN(L3)=0,\"\",IF(設定!$C$32=\"しない\",\"\",INDEX(設定!$B$21:$O$26,MOD(INDEX($F$2:$F$25,MATCH(L3,$H$2:$H$25,0)),6)+1,3*QUOTIENT(INDEX($F$2:$F$25,MATCH(L3,$H$2:$H$25,0)),6)+3)))","v":""},null,{"$f":"IF(3<=$B$10,IF(LEN('１学期'!C7)=0,\"\",IF('１学期'!C7=$B$8,IF(LEN('１学期'!F7)=0,\"\",'１学期'!F7),\"\")),\"\")","v":""},{"$f":"IF(LEN(O3)=0,\"\",IF(COUNTIF($O$2:$O$1921,O3+1)>0,\"\",IF(COUNTIF($O$2:O3,O3)>1,\"\",O3+1)))","v":""},{"$f":"IFERROR(SMALL($P$1:$P$1921,2),\"\")","v":""}]
["日にち","2023-04-08",{"$f":"TEXT(B4,\"aaa\")","v":"土"},null,"数学",{"$f":"IF(LEN(設定!B23)=0,\"\",2)","v":""},{"$f":"IF(LEN(F4)=0,\"\",設定!B23)","v":""},{"$f":"IF(LEN(F4)=0,\"\",ASC(設定!C23)&IF(設定!D23>1,\"帯\",\"\")&G4)","v":""},{"$f":"IFERROR(INDEX($H$2:$H$31,SMALL($F$2:$F$31,3)+1)&\"\",IF(COUNTIF($I$2:I3,\"×\")=0,\"×\",IF(COUNTIF($I$2:I3,\"なし\")=0,\"なし\",\"\")))","v":""},{"$f":"IF(設定!$C$32=\"しない\",F4,IF(LEN(F4)=0,\"\",IF(ISERROR(FIND(\"帯\",H4)),F4,IF(COUNTIF($H$2:$H$32,SUBSTITUTE(H4,\"帯\",\"\"))>0,\"\",F4))))","v":""},{"$f":"IFERROR(INDEX($H$2:$H$31,SMALL($J$2:$J$25,3)+1)&\"\",\"\")","v":""},{"$f":"IF(LEN(J4)=0,\"\",IF(設定!D23>1,\"\",IF(COUNTIF($H$2:$H$25,ASC(設定!C23)&\"帯\"&G4)>0,ASC(設定!C23)&\"帯\"&G4,\"\")))","v":""},{"$f":"IF(LEN(L4)=0,\"\",IF(設定!$C$32=\"しない\",\"\",INDEX(設定!$B$21:$O$26,MOD(INDEX($F$2:$F$25,MATCH(L4,$H$2:$H$25,0)),6)+1,3*QUOTIENT(INDEX($F$2:$F$25,MATCH(L4,$H$2:$H$25,0)),6)+3)))","v":""},null,{"$f":"IF(4<=$B$10,IF(LEN('１学期'!C10)=0,\"\",IF('１学期'!C10=$B$8,IF(LEN('１学期'!F10)=0,\"\",'１学期'!F10),\"\")),\"\")","v":""},{"$f":"IF(LEN(O4)=0,\"\",IF(COUNTIF($O$2:$O$1921,O4+1)>0,\"\",IF(COUNTIF($O$2:O4,O4)>1,\"\",O4+1)))","v":""},{"$f":"IFERROR(SMALL($P$1:$P$1921,3),\"\")","v":""}]
["授業No",4,null,null,"理科",{"$f":"IF(LEN(設定!B24)=0,\"\",3)","v":""},{"$f":"IF(LEN(F5)=0,\"\",設定!B24)","v":""},{"$f":"IF(LEN(F5)=0,\"\",ASC(設定!C24)&IF(設定!D24>1,\"帯\",\"\")&G5)","v":""},{"$f":"IFERROR(INDEX($H$2:$H$31,SMALL($F$2:$F$31,4)+1)&\"\",IF(COUNTIF($I$2:I4,\"×\")=0,\"×\",IF(COUNTIF($I$2:I4,\"なし\")=0,\"なし\",\"\")))","v":""},{"$f":"IF(設定!$C$32=\"しない\",F5,IF(LEN(F5)=0,\"\",IF(ISERROR(FIND(\"帯\",H5)),F5,IF(COUNTIF($H$2:$H$32,SUBSTITUTE(H5,\"帯\",\"\"))>0,\"\",F5))))","v":""},{"$f":"IFERROR(INDEX($H$2:$H$31,SMALL($J$2:$J$25,4)+1)&\"\",\"\")","v":""},{"$f":"IF(LEN(J5)=0,\"\",IF(設定!D24>1,\"\",IF(COUNTIF($H$2:$H$25,ASC(設定!C24)&\"帯\"&G5)>0,ASC(設定!C24)&\"帯\"&G5,\"\")))","v":""},{"$f":"IF(LEN(L5)=0,\"\",IF(設定!$C$32=\"しない\",\"\",INDEX(設定!$B$21:$O$26,MOD(INDEX($F$2:$F$25,MATCH(L5,$H$2:$H$25,0)),6)+1,3*QUOTIENT(INDEX($F$2:$F$25,MATCH(L5,$H$2:$H$25,0)),6)+3)))","v":""},null,{"$f":"IF(5<=$B$10,IF(LEN('１学期'!C13)=0,\"\",IF('１学期'!C13=$B$8,IF(LEN('１学期'!F13)=0,\"\",'１学期'!F13),\"\")),\"\")","v":""},{"$f":"IF(LEN(O5)=0,\"\",IF(COUNTIF($O$2:$O$1921,O5+1)>0,\"\",IF(COUNTIF($O$2:O5,O5)>1,\"\",O5+1)))","v":""},{"$f":"IFERROR(SMALL($P$1:$P$1921,4),\"\")","v":""}]
["授業単元",{"$f":"IFERROR(IF(LEN(B5)=0,\"\",INDEX(単元・内容!$B$3:$BO$1402,B5,MATCH(C6,単元・内容!$B$1:$BO$1,0)+1)&\"\"),\"\")","v":""},{"$f":"INDEX($G$2:$G$31,MATCH(B8,$H$2:$H$31,0))","v":{"$error":"#N/A"}},{"$f":"IF(LENB(B6)<=18,9,IF(LENB(B6)<=20,8,IF(LENB(B6)<=48,7,IF(LENB(B6)<=56,6,5))))","v":9},"音楽",{"$f":"IF(LEN(設定!B25)=0,\"\",4)","v":""},{"$f":"IF(LEN(F6)=0,\"\",設定!B25)","v":""},{"$f":"IF(LEN(F6)=0,\"\",ASC(設定!C25)&IF(設定!D25>1,\"帯\",\"\")&G6)","v":""},{"$f":"IFERROR(INDEX($H$2:$H$31,SMALL($F$2:$F$31,5)+1)&\"\",IF(COUNTIF($I$2:I5,\"×\")=0,\"×\",IF(COUNTIF($I$2:I5,\"なし\")=0,\"なし\",\"\")))","v":""},{"$f":"IF(設定!$C$32=\"しない\",F6,IF(LEN(F6)=0,\"\",IF(ISERROR(FIND(\"帯\",H6)),F6,IF(COUNTIF($H$2:$H$32,SUBSTITUTE(H6,\"帯\",\"\"))>0,\"\",F6))))","v":""},{"$f":"IFERROR(INDEX($H$2:$H$31,SMALL($J$2:$J$25,5)+1)&\"\",\"\")","v":""},{"$f":"IF(LEN(J6)=0,\"\",IF(設定!D25>1,\"\",IF(COUNTIF($H$2:$H$25,ASC(設定!C25)&\"帯\"&G6)>0,ASC(設定!C25)&\"帯\"&G6,\"\")))","v":""},{"$f":"IF(LEN(L6)=0,\"\",IF(設定!$C$32=\"しない\",\"\",INDEX(設定!$B$21:$O$26,MOD(INDEX($F$2:$F$25,MATCH(L6,$H$2:$H$25,0)),6)+1,3*QUOTIENT(INDEX($F$2:$F$25,MATCH(L6,$H$2:$H$25,0)),6)+3)))","v":""},null,{"$f":"IF(6<=$B$10,IF(LEN('１学期'!C16)=0,\"\",IF('１学期'!C16=$B$8,IF(LEN('１学期'!F16)=0,\"\",'１学期'!F16),\"\")),\"\")","v":""},{"$f":"IF(LEN(O6)=0,\"\",IF(COUNTIF($O$2:$O$1921,O6+1)>0,\"\",IF(COUNTIF($O$2:O6,O6)>1,\"\",O6+1)))","v":""},{"$f":"IFERROR(SMALL($P$1:$P$1921,5),\"\")","v":""}]
["授業内容",{"$f":"IFERROR(IF(LEN(B5)=0,\"\",INDEX(単元・内容!$B$3:$BO$1402,B5,MATCH(INDEX($G$2:$G$25,MATCH(B8,$H$2:$H$25,0)),単元・内容!$B$1:$BO$1,0)+2)&\"\"),\"\")","v":""},{"$f":"IF(ISERROR(FIND(\"★\",B7)),B7,LEFT(B7,FIND(\"★\",B7)-1))","v":""},{"$f":"IF(LENB(C7)<=108,9,IF(LENB(C7)<=140,8,IF(LENB(C7)<=168,7,IF(LENB(C7)<=224,6,5))))","v":9},"美術",{"$f":"IF(LEN(設定!B26)=0,\"\",5)","v":""},{"$f":"IF(LEN(F7)=0,\"\",設定!B26)","v":""},{"$f":"IF(LEN(F7)=0,\"\",ASC(設定!C26)&IF(設定!D26>1,\"帯\",\"\")&G7)","v":""},{"$f":"IFERROR(INDEX($H$2:$H$31,SMALL($F$2:$F$31,6)+1)&\"\",IF(COUNTIF($I$2:I6,\"×\")=0,\"×\",IF(COUNTIF($I$2:I6,\"なし\")=0,\"なし\",\"\")))","v":""},{"$f":"IF(設定!$C$32=\"しない\",F7,IF(LEN(F7)=0,\"\",IF(ISERROR(FIND(\"帯\",H7)),F7,IF(COUNTIF($H$2:$H$32,SUBSTITUTE(H7,\"帯\",\"\"))>0,\"\",F7))))","v":""},{"$f":"IFERROR(INDEX($H$2:$H$31,SMALL($J$2:$J$25,6)+1)&\"\",\"\")","v":""},{"$f":"IF(LEN(J7)=0,\"\",IF(設定!D26>1,\"\",IF(COUNTIF($H$2:$H$25,ASC(設定!C26)&\"帯\"&G7)>0,ASC(設定!C26)&\"帯\"&G7,\"\")))","v":""},{"$f":"IF(LEN(L7)=0,\"\",IF(設定!$C$32=\"しない\",\"\",INDEX(設定!$B$21:$O$26,MOD(INDEX($F$2:$F$25,MATCH(L7,$H$2:$H$25,0)),6)+1,3*QUOTIENT(INDEX($F$2:$F$25,MATCH(L7,$H$2:$H$25,0)),6)+3)))","v":""},null,{"$f":"IF(7<=$B$10,IF(LEN('１学期'!C19)=0,\"\",IF('１学期'!C19=$B$8,IF(LEN('１学期'!F19)=0,\"\",'１学期'!F19),\"\")),\"\")","v":""},{"$f":"IF(LEN(O7)=0,\"\",IF(COUNTIF($O$2:$O$1921,O7+1)>0,\"\",IF(COUNTIF($O$2:O7,O7)>1,\"\",O7+1)))","v":""},{"$f":"IFERROR(SMALL($P$1:$P$1921,6),\"\")","v":""}]
["授業","1-1数学","１学期",null,"保健体育",{"$f":"IF(LEN(設定!E21)=0,\"\",6)","v":""},{"$f":"IF(LEN(F8)=0,\"\",設定!E21)","v":""},{"$f":"IF(LEN(F8)=0,\"\",ASC(設定!F21)&IF(設定!G21>1,\"帯\",\"\")&G8)","v":""},{"$f":"IFERROR(INDEX($H$2:$H$31,SMALL($F$2:$F$31,7)+1)&\"\",IF(COUNTIF($I$2:I7,\"×\")=0,\"×\",IF(COUNTIF($I$2:I7,\"なし\")=0,\"なし\",\"\")))","v":""},{"$f":"IF(設定!$C$32=\"しない\",F8,IF(LEN(F8)=0,\"\",IF(ISERROR(FIND(\"帯\",H8)),F8,IF(COUNTIF($H$2:$H$32,SUBSTITUTE(H8,\"帯\",\"\"))>0,\"\",F8))))","v":""},{"$f":"IFERROR(INDEX($H$2:$H$31,SMALL($J$2:$J$25,7)+1)&\"\",\"\")","v":""},{"$f":"IF(LEN(J8)=0,\"\",IF(設定!D27>1,\"\",IF(COUNTIF($H$2:$H$25,ASC(設定!C27)&\"帯\"&G8)>0,ASC(設定!C27)&\"帯\"&G8,\"\")))","v":""},{"$f":"IF(LEN(L8)=0,\"\",IF(設定!$C$32=\"しない\",\"\",INDEX(設定!$B$21:$O$26,MOD(INDEX($F$2:$F$25,MATCH(L8,$H$2:$H$25,0)),6)+1,3*QUOTIENT(INDEX($F$2:$F$25,MATCH(L8,$H$2:$H$25,0)),6)+3)))","v":""},null,{"$f":"IF(8<=$B$10,IF(LEN('１学期'!C22)=0,\"\",IF('１学期'!C22=$B$8,IF(LEN('１学期'!F22)=0,\"\",'１学期'!F22),\"\")),\"\")","v":""},{"$f":"IF(LEN(O8)=0,\"\",IF(COUNTIF($O$2:$O$1921,O8+1)>0,\"\",IF(COUNTIF($O$2:O8,O8)>1,\"\",O8+1)))","v":""},{"$f":"IFERROR(SMALL($P$1:$P$1921,7),\"\")","v":""}]
["選択セル",25,22,null,"技術",{"$f":"IF(LEN(設定!E22)=0,\"\",7)","v":""},{"$f":"IF(LEN(F9)=0,\"\",設定!E22)","v":""},{"$f":"IF(LEN(F9)=0,\"\",ASC(設定!F22)&IF(設定!G22>1,\"帯\",\"\")&G9)","v":""},{"$f":"IFERROR(INDEX($H$2:$H$31,SMALL($F$2:$F$31,8)+1)&\"\",IF(COUNTIF($I$2:I8,\"×\")=0,\"×\",IF(COUNTIF($I$2:I8,\"なし\")=0,\"なし\",\"\")))","v":""},{"$f":"IF(設定!$C$32=\"しない\",F9,IF(LEN(F9)=0,\"\",IF(ISERROR(FIND(\"帯\",H9)),F9,IF(COUNTIF($H$2:$H$32,SUBSTITUTE(H9,\"帯\",\"\"))>0,\"\",F9))))","v":""},{"$f":"IFERROR(INDEX($H$2:$H$31,SMALL($J$2:$J$25,8)+1)&\"\",\"\")","v":""},{"$f":"IF(LEN(J9)=0,\"\",IF(設定!D29>1,\"\",IF(COUNTIF($H$2:$H$25,ASC(設定!C29)&\"帯\"&G9)>0,ASC(設定!C29)&\"帯\"&G9,\"\")))","v":""},{"$f":"IF(LEN(L9)=0,\"\",IF(設定!$C$32=\"しない\",\"\",INDEX(設定!$B$21:$O$26,MOD(INDEX($F$2:$F$25,MATCH(L9,$H$2:$H$25,0)),6)+1,3*QUOTIENT(INDEX($F$2:$F$25,MATCH(L9,$H$2:$H$25,0)),6)+3)))","v":""},null,{"$f":"IF(9<=$B$10,IF(LEN('１学期'!C25)=0,\"\",IF('１学期'!C25=$B$8,IF(LEN('１学期'!F25)=0,\"\",'１学期'!F25),\"\")),\"\")","v":""},{"$f":"IF(LEN(O9)=0,\"\",IF(COUNTIF($O$2:$O$1921,O9+1)>0,\"\",IF(COUNTIF($O$2:O9,O9)>1,\"\",O9+1)))","v":""},{"$f":"IFERROR(SMALL($P$1:$P$1921,8),\"\")","v":""}]
["範囲",{"$f":"QUOTIENT(B9-1,3)+QUOTIENT(C9-6,4)*8+CHOOSE(VALUE(LEFT(C8)),0,680,1400)","v":40},null,null,"家庭",{"$f":"IF(LEN(設定!E23)=0,\"\",8)","v":""},{"$f":"IF(LEN(F10)=0,\"\",設定!E23)","v":""},{"$f":"IF(LEN(F10)=0,\"\",ASC(設定!F23)&IF(設定!G23>1,\"帯\",\"\")&G10)","v":""},{"$f":"IFERROR(INDEX($H$2:$H$31,SMALL($F$2:$F$31,9)+1)&\"\",IF(COUNTIF($I$2:I9,\"×\")=0,\"×\",IF(COUNTIF($I$2:I9,\"なし\")=0,\"なし\",\"\")))","v":""},{"$f":"IF(設定!$C$32=\"しない\",F10,IF(LEN(F10)=0,\"\",IF(ISERROR(FIND(\"帯\",H10)),F10,IF(COUNTIF($H$2:$H$32,SUBSTITUTE(H10,\"帯\",\"\"))>0,\"\",F10))))","v":""},{"$f":"IFERROR(INDEX($H$2:$H$31,SMALL($J$2:$J$25,9)+1)&\"\",\"\")","v":""},{"$f":"IF(LEN(J10)=0,\"\",IF(設定!D31>1,\"\",IF(COUNTIF($H$2:$H$25,ASC(設定!C31)&\"帯\"&G10)>0,ASC(設定!C31)&\"帯\"&G10,\"\")))","v":""},{"$f":"IF(LEN(L10)=0,\"\",IF(設定!$C$32=\"しない\",\"\",INDEX(設定!$B$21:$O$26,MOD(INDEX($F$2:$F$25,MATCH(L10,$H$2:$H$25,0)),6)+1,3*QUOTIENT(INDEX($F$2:$F$25,MATCH(L10,$H$2:$H$25,0)),6)+3)))","v":""},null,{"$f":"IF(10<=$B$10,IF(LEN('１学期'!G6)=0,\"\",IF('１学期'!G6=$B$8,IF(LEN('１学期'!J6)=0,\"\",'１学期'!J6),\"\")),\"\")","v":""},{"$f":"IF(LEN(O10)=0,\"\",IF(COUNTIF($O$2:$O$1921,O10+1)>0,\"\",IF(COUNTIF($O$2:O10,O10)>1,\"\",O10+1)))","v":""},{"$f":"IFERROR(SMALL($P$1:$P$1921,9),\"\")","v":""}]
["教科",3,null,null,"英語",{"$f":"IF(LEN(設定!E24)=0,\"\",9)","v":""},{"$f":"IF(LEN(F11)=0,\"\",設定!E24)","v":""},{"$f":"IF(LEN(F11)=0,\"\",ASC(設定!F24)&IF(設定!G24>1,\"帯\",\"\")&G11)","v":""},{"$f":"IFERROR(INDEX($H$2:$H$31,SMALL($F$2:$F$31,10)+1)&\"\",IF(COUNTIF($I$2:I10,\"×\")=0,\"×\",IF(COUNTIF($I$2:I10,\"なし\")=0,\"なし\",\"\")))","v":""},{"$f":"IF(設定!$C$32=\"しない\",F11,IF(LEN(F11)=0,\"\",IF(ISERROR(FIND(\"帯\",H11)),F11,IF(COUNTIF($H$2:$H$32,SUBSTITUTE(H11,\"帯\",\"\"))>0,\"\",F11))))","v":""},{"$f":"IFERROR(INDEX($H$2:$H$31,SMALL($J$2:$J$25,10)+1)&\"\",\"\")","v":""},{"$f":"IF(LEN(J11)=0,\"\",IF(設定!D32>1,\"\",IF(COUNTIF($H$2:$H$25,ASC(設定!C32)&\"帯\"&G11)>0,ASC(設定!C32)&\"帯\"&G11,\"\")))","v":""},{"$f":"IF(LEN(L11)=0,\"\",IF(設定!$C$32=\"しない\",\"\",INDEX(設定!$B$21:$O$26,MOD(INDEX($F$2:$F$25,MATCH(L11,$H$2:$H$25,0)),6)+1,3*QUOTIENT(INDEX($F$2:$F$25,MATCH(L11,$H$2:$H$25,0)),6)+3)))","v":""},null,{"$f":"IF(11<=$B$10,IF(LEN('１学期'!G7)=0,\"\",IF('１学期'!G7=$B$8,IF(LEN('１学期'!J7)=0,\"\",'１学期'!J7),\"\")),\"\")","v":""},{"$f":"IF(LEN(O11)=0,\"\",IF(COUNTIF($O$2:$O$1921,O11+1)>0,\"\",IF(COUNTIF($O$2:O11,O11)>1,\"\",O11+1)))","v":""},{"$f":"IFERROR(SMALL($P$1:$P$1921,10),\"\")","v":""}]
["貼付先セル",{"$f":"ADDRESS(COUNT(INDEX(単元・内容!B3:AH1402,0,3*B11-2))+3,B11*3,4)&\":\"&ADDRESS(COUNT(INDEX(単元・内容!B3:AH1402,0,3*B11-2))+302,B11*3+1,4)","v":"I3:J302"},{"$f":"ADDRESS(COUNT(INDEX(単元・内容!B3:AH1402,0,3*B11-2))+3,B11*3-1,4)&\":\"&ADDRESS(COUNTA(INDEX(単元・内容!B3:AH1402,0,3*B11-1))+2,B11*3-1,4)","v":"H3:H2"},null,{"$f":"設定!B12&\"\"","v":""},{"$f":"IF(LEN(設定!E25)=0,\"\",10)","v":""},{"$f":"IF(LEN(F12)=0,\"\",設定!E25)","v":""},{"$f":"IF(LEN(F12)=0,\"\",ASC(設定!F25)&IF(設定!G25>1,\"帯\",\"\")&G12)","v":""},{"$f":"IFERROR(INDEX($H$2:$H$31,SMALL($F$2:$F$31,11)+1)&\"\",IF(COUNTIF($I$2:I11,\"×\")=0,\"×\",IF(COUNTIF($I$2:I11,\"なし\")=0,\"なし\",\"\")))","v":""},{"$f":"IF(設定!$C$32=\"しない\",F12,IF(LEN(F12)=0,\"\",IF(ISERROR(FIND(\"帯\",H12)),F12,IF(COUNTIF($H$2:$H$32,SUBSTITUTE(H12,\"帯\",\"\"))>0,\"\",F12))))","v":""},{"$f":"IFERROR(INDEX($H$2:$H$31,SMALL($J$2:$J$25,11)+1)&\"\",\"\")","v":""},{"$f":"IF(LEN(J12)=0,\"\",IF(設定!D33>1,\"\",IF(COUNTIF($H$2:$H$25,ASC(設定!C33)&\"帯\"&G12)>0,ASC(設定!C33)&\"帯\"&G12,\"\")))","v":""},{"$f":"IF(LEN(L12)=0,\"\",IF(設定!$C$32=\"しない\",\"\",INDEX(設定!$B$21:$O$26,MOD(INDEX($F$2:$F$25,MATCH(L12,$H$2:$H$25,0)),6)+1,3*QUOTIENT(INDEX($F$2:$F$25,MATCH(L12,$H$2:$H$25,0)),6)+3)))","v":""},null,{"$f":"IF(12<=$B$10,IF(LEN('１学期'!G10)=0,\"\",IF('１学期'!G10=$B$8,IF(LEN('１学期'!J10)=0,\"\",'１学期'!J10),\"\")),\"\")","v":""},{"$f":"IF(LEN(O12)=0,\"\",IF(COUNTIF($O$2:$O$1921,O12+1)>0,\"\",IF(COUNTIF($O$2:O12,O12)>1,\"\",O12+1)))","v":""},{"$f":"IFERROR(SMALL($P$1:$P$1921,11),\"\")","v":""}]
["貼付元セル",{"$f":"ADDRESS(3,B11*2,4)&\":\"&ADDRESS(302,B11*2+1,4)","v":"F3:G302"},null,null,{"$f":"設定!C12&\"\"","v":""},{"$f":"IF(LEN(設定!E26)=0,\"\",11)","v":""},{"$f":"IF(LEN(F13)=0,\"\",設定!E26)","v":""},{"$f":"IF(LEN(F13)=0,\"\",ASC(設定!F26)&IF(設定!G26>1,\"帯\",\"\")&G13)","v":""},{"$f":"IFERROR(INDEX($H$2:$H$31,SMALL($F$2:$F$31,12)+1)&\"\",IF(COUNTIF($I$2:I12,\"×\")=0,\"×\",IF(COUNTIF($I$2:I12,\"なし\")=0,\"なし\",\"\")))","v":""},{"$f":"IF(設定!$C$32=\"しない\",F13,IF(LEN(F13)=0,\"\",IF(ISERROR(FIND(\"帯\",H13)),F13,IF(COUNTIF($H$2:$H$32,SUBSTITUTE(H13,\"帯\",\"\"))>0,\"\",F13))))","v":""},{"$f":"IFERROR(INDEX($H$2:$H$31,SMALL($J$2:$J$25,12)+1)&\"\",\"\")","v":""},{"$f":"IF(LEN(J13)=0,\"\",IF(設定!D34>1,\"\",IF(COUNTIF($H$2:$H$25,ASC(設定!C34)&\"帯\"&G13)>0,ASC(設定!C34)&\"帯\"&G13,\"\")))","v":""},{"$f":"IF(LEN(L13)=0,\"\",IF(設定!$C$32=\"しない\",\"\",INDEX(設定!$B$21:$O$26,MOD(INDEX($F$2:$F$25,MATCH(L13,$H$2:$H$25,0)),6)+1,3*QUOTIENT(INDEX($F$2:$F$25,MATCH(L13,$H$2:$H$25,0)),6)+3)))","v":""},null,{"$f":"IF(13<=$B$10,IF(LEN('１学期'!G13)=0,\"\",IF('１学期'!G13=$B$8,IF(LEN('１学期'!J13)=0,\"\",'１学期'!J13),\"\")),\"\")","v":""},{"$f":"IF(LEN(O13)=0,\"\",IF(COUNTIF($O$2:$O$1921,O13+1)>0,\"\",IF(COUNTIF($O$2:O13,O13)>1,\"\",O13+1)))","v":""},{"$f":"IFERROR(SMALL($P$1:$P$1921,12),\"\")","v":""}]
["知多ｶﾘﾃﾞｰﾀ",{"$f":"IF(COUNTA(単元・内容!B3:AH1402)>0,\"○\",\"\")","v":""},null,null,{"$f":"設定!D12&\"\"","v":""},{"$f":"IF(LEN(設定!H21)=0,\"\",12)","v":""},{"$f":"IF(LEN(F14)=0,\"\",設定!H21)","v":""},{"$f":"IF(LEN(F14)=0,\"\",ASC(設定!I21)&IF(設定!J21>1,\"帯\",\"\")&G14)","v":""},{"$f":"IFERROR(INDEX($H$2:$H$31,SMALL($F$2:$F$31,13)+1)&\"\",IF(COUNTIF($I$2:I13,\"×\")=0,\"×\",IF(COUNTIF($I$2:I13,\"なし\")=0,\"なし\",\"\")))","v":""},{"$f":"IF(設定!$C$32=\"しない\",F14,IF(LEN(F14)=0,\"\",IF(ISERROR(FIND(\"帯\",H14)),F14,IF(COUNTIF($H$2:$H$32,SUBSTITUTE(H14,\"帯\",\"\"))>0,\"\",F14))))","v":""},{"$f":"IFERROR(INDEX($H$2:$H$31,SMALL($J$2:$J$25,13)+1)&\"\",\"\")","v":""},{"$f":"IF(LEN(J14)=0,\"\",IF(設定!D35>1,\"\",IF(COUNTIF($H$2:$H$25,ASC(設定!C35)&\"帯\"&G14)>0,ASC(設定!C35)&\"帯\"&G14,\"\")))","v":""},{"$f":"IF(LEN(L14)=0,\"\",IF(設定!$C$32=\"しない\",\"\",INDEX(設定!$B$21:$O$26,MOD(INDEX($F$2:$F$25,MATCH(L14,$H$2:$H$25,0)),6)+1,3*QUOTIENT(INDEX($F$2:$F$25,MATCH(L14,$H$2:$H$25,0)),6)+3)))","v":""},null,{"$f":"IF(14<=$B$10,IF(LEN('１学期'!G16)=0,\"\",IF('１学期'!G16=$B$8,IF(LEN('１学期'!J16)=0,\"\",'１学期'!J16),\"\")),\"\")","v":""},{"$f":"IF(LEN(O14)=0,\"\",IF(COUNTIF($O$2:$O$1921,O14+1)>0,\"\",IF(COUNTIF($O$2:O14,O14)>1,\"\",O14+1)))","v":""},{"$f":"IFERROR(SMALL($P$1:$P$1921,13),\"\")","v":""}]
["保存時ｼｰﾄ","設定",null,null,{"$f":"設定!E12&\"\"","v":""},{"$f":"IF(LEN(設定!H22)=0,\"\",13)","v":""},{"$f":"IF(LEN(F15)=0,\"\",設定!H22)","v":""},{"$f":"IF(LEN(F15)=0,\"\",ASC(設定!I22)&IF(設定!J22>1,\"帯\",\"\")&G15)","v":""},{"$f":"IFERROR(INDEX($H$2:$H$31,SMALL($F$2:$F$31,14)+1)&\"\",IF(COUNTIF($I$2:I14,\"×\")=0,\"×\",IF(COUNTIF($I$2:I14,\"なし\")=0,\"なし\",\"\")))","v":""},{"$f":"IF(設定!$C$32=\"しない\",F15,IF(LEN(F15)=0,\"\",IF(ISERROR(FIND(\"帯\",H15)),F15,IF(COUNTIF($H$2:$H$32,SUBSTITUTE(H15,\"帯\",\"\"))>0,\"\",F15))))","v":""},{"$f":"IFERROR(INDEX($H$2:$H$31,SMALL($J$2:$J$25,14)+1)&\"\",\"\")","v":""},{"$f":"IF(LEN(J15)=0,\"\",IF(設定!D36>1,\"\",IF(COUNTIF($H$2:$H$25,ASC(設定!C36)&\"帯\"&G15)>0,ASC(設定!C36)&\"帯\"&G15,\"\")))","v":""},{"$f":"IF(LEN(L15)=0,\"\",IF(設定!$C$32=\"しない\",\"\",INDEX(設定!$B$21:$O$26,MOD(INDEX($F$2:$F$25,MATCH(L15,$H$2:$H$25,0)),6)+1,3*QUOTIENT(INDEX($F$2:$F$25,MATCH(L15,$H$2:$H$25,0)),6)+3)))","v":""},null,{"$f":"IF(15<=$B$10,IF(LEN('１学期'!G19)=0,\"\",IF('１学期'!G19=$B$8,IF(LEN('１学期'!J19)=0,\"\",'１学期'!J19),\"\")),\"\")","v":""},{"$f":"IF(LEN(O15)=0,\"\",IF(COUNTIF($O$2:$O$1921,O15+1)>0,\"\",IF(COUNTIF($O$2:O15,O15)>1,\"\",O15+1)))","v":""},{"$f":"IFERROR(SMALL($P$1:$P$1921,14),\"\")","v":""}]
["単元サイズ",2,{"$f":"IF(B16<=108,9,IF(B16<=140,8,IF(B16<=168,7,IF(B16<=224,6,5))))","v":9},null,{"$f":"設定!F12&\"\"","v":""},{"$f":"IF(LEN(設定!H23)=0,\"\",14)","v":""},{"$f":"IF(LEN(F16)=0,\"\",設定!H23)","v":""},{"$f":"IF(LEN(F16)=0,\"\",ASC(設定!I23)&IF(設定!J23>1,\"帯\",\"\")&G16)","v":""},{"$f":"IFERROR(INDEX($H$2:$H$31,SMALL($F$2:$F$31,15)+1)&\"\",IF(COUNTIF($I$2:I15,\"×\")=0,\"×\",IF(COUNTIF($I$2:I15,\"なし\")=0,\"なし\",\"\")))","v":""},{"$f":"IF(設定!$C$32=\"しない\",F16,IF(LEN(F16)=0,\"\",IF(ISERROR(FIND(\"帯\",H16)),F16,IF(COUNTIF($H$2:$H$32,SUBSTITUTE(H16,\"帯\",\"\"))>0,\"\",F16))))","v":""},{"$f":"IFERROR(INDEX($H$2:$H$31,SMALL($J$2:$J$25,15)+1)&\"\",\"\")","v":""},{"$f":"IF(LEN(J16)=0,\"\",IF(設定!D37>1,\"\",IF(COUNTIF($H$2:$H$25,ASC(設定!C37)&\"帯\"&G16)>0,ASC(設定!C37)&\"帯\"&G16,\"\")))","v":""},{"$f":"IF(LEN(L16)=0,\"\",IF(設定!$C$32=\"しない\",\"\",INDEX(設定!$B$21:$O$26,MOD(INDEX($F$2:$F$25,MATCH(L16,$H$2:$H$25,0)),6)+1,3*QUOTIENT(INDEX($F$2:$F$25,MATCH(L16,$H$2:$H$25,0)),6)+3)))","v":""},null,{"$f":"IF(16<=$B$10,IF(LEN('１学期'!G22)=0,\"\",IF('１学期'!G22=$B$8,IF(LEN('１学期'!J22)=0,\"\",'１学期'!J22),\"\")),\"\")","v":""},{"$f":"IF(LEN(O16)=0,\"\",IF(COUNTIF($O$2:$O$1921,O16+1)>0,\"\",IF(COUNTIF($O$2:O16,O16)>1,\"\",O16+1)))","v":""},{"$f":"IFERROR(SMALL($P$1:$P$1921,15),\"\")","v":""}]
["内容サイズ",6,{"$f":"IF(B17<=108,9,IF(B17<=140,8,IF(B17<=168,7,IF(B17<=224,6,5))))","v":9},null,{"$f":"設定!G12&\"\"","v":""},{"$f":"IF(LEN(設定!H24)=0,\"\",15)","v":""},{"$f":"IF(LEN(F17)=0,\"\",設定!H24)","v":""},{"$f":"IF(LEN(F17)=0,\"\",ASC(設定!I24)&IF(設定!J24>1,\"帯\",\"\")&G17)","v":""},{"$f":"IFERROR(INDEX($H$2:$H$31,SMALL($F$2:$F$31,16)+1)&\"\",IF(COUNTIF($I$2:I16,\"×\")=0,\"×\",IF(COUNTIF($I$2:I16,\"なし\")=0,\"なし\",\"\")))","v":""},{"$f":"IF(設定!$C$32=\"しない\",F17,IF(LEN(F17)=0,\"\",IF(ISERROR(FIND(\"帯\",H17)),F17,IF(COUNTIF($H$2:$H$32,SUBSTITUTE(H17,\"帯\",\"\"))>0,\"\",F17))))","v":""},{"$f":"IFERROR(INDEX($H$2:$H$31,SMALL($J$2:$J$25,16)+1)&\"\",\"\")","v":""},{"$f":"IF(LEN(J17)=0,\"\",IF(設定!D38>1,\"\",IF(COUNTIF($H$2:$H$25,ASC(設定!C38)&\"帯\"&G17)>0,ASC(設定!C38)&\"帯\"&G17,\"\")))","v":""},{"$f":"IF(LEN(L17)=0,\"\",IF(設定!$C$32=\"しない\",\"\",INDEX(設定!$B$21:$O$26,MOD(INDEX($F$2:$F$25,MATCH(L17,$H$2:$H$25,0)),6)+1,3*QUOTIENT(INDEX($F$2:$F$25,MATCH(L17,$H$2:$H$25,0)),6)+3)))","v":""},null,{"$f":"IF(17<=$B$10,IF(LEN('１学期'!G25)=0,\"\",IF('１学期'!G25=$B$8,IF(LEN('１学期'!J25)=0,\"\",'１学期'!J25),\"\")),\"\")","v":""},{"$f":"IF(LEN(O17)=0,\"\",IF(COUNTIF($O$2:$O$1921,O17+1)>0,\"\",IF(COUNTIF($O$2:O17,O17)>1,\"\",O17+1)))","v":""},{"$f":"IFERROR(SMALL($P$1:$P$1921,16),\"\")","v":""}]
["曜日",null,{"$f":"IF(B18=\"月\",3,IF(B18=\"火\",4,IF(B18=\"水\",5,IF(B18=\"木\",6,IF(B18=\"金\",7,IF(B18=\"休日\",8,\"\"))))))","v":""},null,{"$f":"設定!H12&\"\"","v":""},{"$f":"IF(LEN(設定!H25)=0,\"\",16)","v":""},{"$f":"IF(LEN(F18)=0,\"\",設定!H25)","v":""},{"$f":"IF(LEN(F18)=0,\"\",ASC(設定!I25)&IF(設定!J25>1,\"帯\",\"\")&G18)","v":""},{"$f":"IFERROR(INDEX($H$2:$H$31,SMALL($F$2:$F$31,17)+1)&\"\",IF(COUNTIF($I$2:I17,\"×\")=0,\"×\",IF(COUNTIF($I$2:I17,\"なし\")=0,\"なし\",\"\")))","v":""},{"$f":"IF(設定!$C$32=\"しない\",F18,IF(LEN(F18)=0,\"\",IF(ISERROR(FIND(\"帯\",H18)),F18,IF(COUNTIF($H$2:$H$32,SUBSTITUTE(H18,\"帯\",\"\"))>0,\"\",F18))))","v":""},{"$f":"IFERROR(INDEX($H$2:$H$31,SMALL($J$2:$J$25,17)+1)&\"\",\"\")","v":""},{"$f":"IF(LEN(J18)=0,\"\",IF(設定!D39>1,\"\",IF(COUNTIF($H$2:$H$25,ASC(設定!C39)&\"帯\"&G18)>0,ASC(設定!C39)&\"帯\"&G18,\"\")))","v":""},{"$f":"IF(LEN(L18)=0,\"\",IF(設定!$C$32=\"しない\",\"\",INDEX(設定!$B$21:$O$26,MOD(INDEX($F$2:$F$25,MATCH(L18,$H$2:$H$25,0)),6)+1,3*QUOTIENT(INDEX($F$2:$F$25,MATCH(L18,$H$2:$H$25,0)),6)+3)))","v":""},null,{"$f":"IF(18<=$B$10,IF(LEN('１学期'!K6)=0,\"\",IF('１学期'!K6=$B$8,IF(LEN('１学期'!N6)=0,\"\",'１学期'!N6),\"\")),\"\")","v":""},{"$f":"IF(LEN(O18)=0,\"\",IF(COUNTIF($O$2:$O$1921,O18+1)>0,\"\",IF(COUNTIF($O$2:O18,O18)>1,\"\",O18+1)))","v":""},{"$f":"IFERROR(SMALL($P$1:$P$1921,17),\"\")","v":""}]
["次授業",{"$f":"IF(C19=0,\"\",IF(COUNT(O2:O1921)=0,1,IF(D19>C19,\"\",D19)))","v":{"$error":"#N/A"}},{"$f":"MAX(INDEX((LEN(INDEX(単元・内容!B3:BO1402,0,MATCH(C6,単元・内容!B1:BM1,0)))>0)*ROW(1:1400),0))","v":{"$error":"#N/A"}},{"$f":"_xlfn.MINIFS(P1:P1921,P1:P1921,\">\"&INDEX(O1:O1921,MAX(INDEX((LEN(O2:O1921)>0)*ROW(2:1921),0))))","v":0},{"$f":"設定!I12&\"\"","v":""},{"$f":"IF(LEN(設定!H26)=0,\"\",17)","v":""},{"$f":"IF(LEN(F19)=0,\"\",設定!H26)","v":""},{"$f":"IF(LEN(F19)=0,\"\",ASC(設定!I26)&IF(設定!J26>1,\"帯\",\"\")&G19)","v":""},{"$f":"IFERROR(INDEX($H$2:$H$31,SMALL($F$2:$F$31,18)+1)&\"\",IF(COUNTIF($I$2:I18,\"×\")=0,\"×\",IF(COUNTIF($I$2:I18,\"なし\")=0,\"なし\",\"\")))","v":""},{"$f":"IF(設定!$C$32=\"しない\",F19,IF(LEN(F19)=0,\"\",IF(ISERROR(FIND(\"帯\",H19)),F19,IF(COUNTIF($H$2:$H$32,SUBSTITUTE(H19,\"帯\",\"\"))>0,\"\",F19))))","v":""},{"$f":"IFERROR(INDEX($H$2:$H$31,SMALL($J$2:$J$25,18)+1)&\"\",\"\")","v":""},{"$f":"IF(LEN(J19)=0,\"\",IF(設定!D40>1,\"\",IF(COUNTIF($H$2:$H$25,ASC(設定!C40)&\"帯\"&G19)>0,ASC(設定!C40)&\"帯\"&G19,\"\")))","v":""},{"$f":"IF(LEN(L19)=0,\"\",IF(設定!$C$32=\"しない\",\"\",INDEX(設定!$B$21:$O$26,MOD(INDEX($F$2:$F$25,MATCH(L19,$H$2:$H$25,0)),6)+1,3*QUOTIENT(INDEX($F$2:$F$25,MATCH(L19,$H$2:$H$25,0)),6)+3)))","v":""},null,{"$f":"IF(19<=$B$10,IF(LEN('１学期'!K7)=0,\"\",IF('１学期'!K7=$B$8,IF(LEN('１学期'!N7)=0,\"\",'１学期'!N7),\"\")),\"\")","v":""},{"$f":"IF(LEN(O19)=0,\"\",IF(COUNTIF($O$2:$O$1921,O19+1)>0,\"\",IF(COUNTIF($O$2:O19,O19)>1,\"\",O19+1)))","v":""},{"$f":"IFERROR(SMALL($P$1:$P$1921,18),\"\")","v":""}]
["非表示",0,10,{"$f":"COUNTIF(INDEX(単元・内容!$B$3:$AE$1402,0,3*C20-2),\"\")+COUNTIF(INDEX(単元・内容!$B$3:$AE$1402,0,3*C20-1),\"\")+COUNTIF(INDEX(単元・内容!$B$3:$AE$1402,0,3*C20),\"\")","v":4200},{"$f":"設定!J12&\"\"","v":""},{"$f":"IF(LEN(設定!K21)=0,\"\",18)","v":""},{"$f":"IF(LEN(F20)=0,\"\",設定!K21)","v":""},{"$f":"IF(LEN(F20)=0,\"\",ASC(設定!L21)&IF(設定!M21>1,\"帯\",\"\")&G20)","v":""},{"$f":"IFERROR(INDEX($H$2:$H$31,SMALL($F$2:$F$31,19)+1)&\"\",IF(COUNTIF($I$2:I19,\"×\")=0,\"×\",IF(COUNTIF($I$2:I19,\"なし\")=0,\"なし\",\"\")))","v":""},{"$f":"IF(設定!$C$32=\"しない\",F20,IF(LEN(F20)=0,\"\",IF(ISERROR(FIND(\"帯\",H20)),F20,IF(COUNTIF($H$2:$H$32,SUBSTITUTE(H20,\"帯\",\"\"))>0,\"\",F20))))","v":""},{"$f":"IFERROR(INDEX($H$2:$H$31,SMALL($J$2:$J$25,19)+1)&\"\",\"\")","v":""},{"$f":"IF(LEN(J20)=0,\"\",IF(設定!D41>1,\"\",IF(COUNTIF($H$2:$H$25,ASC(設定!C41)&\"帯\"&G20)>0,ASC(設定!C41)&\"帯\"&G20,\"\")))","v":""},{"$f":"IF(LEN(L20)=0,\"\",IF(設定!$C$32=\"しない\",\"\",INDEX(設定!$B$21:$O$26,MOD(INDEX($F$2:$F$25,MATCH(L20,$H$2:$H$25,0)),6)+1,3*QUOTIENT(INDEX($F$2:$F$25,MATCH(L20,$H$2:$H$25,0)),6)+3)))","v":""},null,{"$f":"IF(20<=$B$10,IF(LEN('１学期'!K10)=0,\"\",IF('１学期'!K10=$B$8,IF(LEN('１学期'!N10)=0,\"\",'１学期'!N10),\"\")),\"\")","v":""},{"$f":"IF(LEN(O20)=0,\"\",IF(COUNTIF($O$2:$O$1921,O20+1)>0,\"\",IF(COUNTIF($O$2:O20,O20)>1,\"\",O20+1)))","v":""},{"$f":"IFERROR(SMALL($P$1:$P$1921,19),\"\")","v":""}]
[null,null,null,null,{"$f":"設定!K12&\"\"","v":""},{"$f":"IF(LEN(設定!K22)=0,\"\",19)","v":""},{"$f":"IF(LEN(F21)=0,\"\",設定!K22)","v":""},{"$f":"IF(LEN(F21)=0,\"\",ASC(設定!L22)&IF(設定!M22>1,\"帯\",\"\")&G21)","v":""},{"$f":"IFERROR(INDEX($H$2:$H$31,SMALL($F$2:$F$31,20)+1)&\"\",IF(COUNTIF($I$2:I20,\"×\")=0,\"×\",IF(COUNTIF($I$2:I20,\"なし\")=0,\"なし\",\"\")))","v":""},{"$f":"IF(設定!$C$32=\"しない\",F21,IF(LEN(F21)=0,\"\",IF(ISERROR(FIND(\"帯\",H21)),F21,IF(COUNTIF($H$2:$H$32,SUBSTITUTE(H21,\"帯\",\"\"))>0,\"\",F21))))","v":""},{"$f":"IFERROR(INDEX($H$2:$H$31,SMALL($J$2:$J$25,20)+1)&\"\",\"\")","v":""},{"$f":"IF(LEN(J21)=0,\"\",IF(設定!D42>1,\"\",IF(COUNTIF($H$2:$H$25,ASC(設定!C42)&\"帯\"&G21)>0,ASC(設定!C42)&\"帯\"&G21,\"\")))","v":""},{"$f":"IF(LEN(L21)=0,\"\",IF(設定!$C$32=\"しない\",\"\",INDEX(設定!$B$21:$O$26,MOD(INDEX($F$2:$F$25,MATCH(L21,$H$2:$H$25,0)),6)+1,3*QUOTIENT(INDEX($F$2:$F$25,MATCH(L21,$H$2:$H$25,0)),6)+3)))","v":""},null,{"$f":"IF(21<=$B$10,IF(LEN('１学期'!K13)=0,\"\",IF('１学期'!K13=$B$8,IF(LEN('１学期'!N13)=0,\"\",'１学期'!N13),\"\")),\"\")","v":""},{"$f":"IF(LEN(O21)=0,\"\",IF(COUNTIF($O$2:$O$1921,O21+1)>0,\"\",IF(COUNTIF($O$2:O21,O21)>1,\"\",O21+1)))","v":""},{"$f":"IFERROR(SMALL($P$1:$P$1921,20),\"\")","v":""}]
[null,null,null,null,{"$f":"設定!L12&\"\"","v":""},{"$f":"IF(LEN(設定!K23)=0,\"\",20)","v":""},{"$f":"IF(LEN(F22)=0,\"\",設定!K23)","v":""},{"$f":"IF(LEN(F22)=0,\"\",ASC(設定!L23)&IF(設定!M23>1,\"帯\",\"\")&G22)","v":""},{"$f":"IFERROR(INDEX($H$2:$H$31,SMALL($F$2:$F$31,21)+1)&\"\",IF(COUNTIF($I$2:I21,\"×\")=0,\"×\",IF(COUNTIF($I$2:I21,\"なし\")=0,\"なし\",\"\")))","v":""},{"$f":"IF(設定!$C$32=\"しない\",F22,IF(LEN(F22)=0,\"\",IF(ISERROR(FIND(\"帯\",H22)),F22,IF(COUNTIF($H$2:$H$32,SUBSTITUTE(H22,\"帯\",\"\"))>0,\"\",F22))))","v":""},{"$f":"IFERROR(INDEX($H$2:$H$31,SMALL($J$2:$J$25,21)+1)&\"\",\"\")","v":""},{"$f":"IF(LEN(J22)=0,\"\",IF(設定!D43>1,\"\",IF(COUNTIF($H$2:$H$25,ASC(設定!C43)&\"帯\"&G22)>0,ASC(設定!C43)&\"帯\"&G22,\"\")))","v":""},{"$f":"IF(LEN(L22)=0,\"\",IF(設定!$C$32=\"しない\",\"\",INDEX(設定!$B$21:$O$26,MOD(INDEX($F$2:$F$25,MATCH(L22,$H$2:$H$25,0)),6)+1,3*QUOTIENT(INDEX($F$2:$F$25,MATCH(L22,$H$2:$H$25,0)),6)+3)))","v":""},null,{"$f":"IF(22<=$B$10,IF(LEN('１学期'!K16)=0,\"\",IF('１学期'!K16=$B$8,IF(LEN('１学期'!N16)=0,\"\",'１学期'!N16),\"\")),\"\")","v":""},{"$f":"IF(LEN(O22)=0,\"\",IF(COUNTIF($O$2:$O$1921,O22+1)>0,\"\",IF(COUNTIF($O$2:O22,O22)>1,\"\",O22+1)))","v":""},{"$f":"IFERROR(SMALL($P$1:$P$1921,21),\"\")","v":""}]
[null,null,null,null,{"$f":"設定!M12&\"\"","v":""},{"$f":"IF(LEN(設定!K24)=0,\"\",21)","v":""},{"$f":"IF(LEN(F23)=0,\"\",設定!K24)","v":""},{"$f":"IF(LEN(F23)=0,\"\",ASC(設定!L24)&IF(設定!M24>1,\"帯\",\"\")&G23)","v":""},{"$f":"IFERROR(INDEX($H$2:$H$31,SMALL($F$2:$F$31,22)+1)&\"\",IF(COUNTIF($I$2:I22,\"×\")=0,\"×\",IF(COUNTIF($I$2:I22,\"なし\")=0,\"なし\",\"\")))","v":""},{"$f":"IF(設定!$C$32=\"しない\",F23,IF(LEN(F23)=0,\"\",IF(ISERROR(FIND(\"帯\",H23)),F23,IF(COUNTIF($H$2:$H$32,SUBSTITUTE(H23,\"帯\",\"\"))>0,\"\",F23))))","v":""},{"$f":"IFERROR(INDEX($H$2:$H$31,SMALL($J$2:$J$25,22)+1)&\"\",\"\")","v":""},{"$f":"IF(LEN(J23)=0,\"\",IF(設定!D44>1,\"\",IF(COUNTIF($H$2:$H$25,ASC(設定!C44)&\"帯\"&G23)>0,ASC(設定!C44)&\"帯\"&G23,\"\")))","v":""},{"$f":"IF(LEN(L23)=0,\"\",IF(設定!$C$32=\"しない\",\"\",INDEX(設定!$B$21:$O$26,MOD(INDEX($F$2:$F$25,MATCH(L23,$H$2:$H$25,0)),6)+1,3*QUOTIENT(INDEX($F$2:$F$25,MATCH(L23,$H$2:$H$25,0)),6)+3)))","v":""},null,{"$f":"IF(23<=$B$10,IF(LEN('１学期'!K19)=0,\"\",IF('１学期'!K19=$B$8,IF(LEN('１学期'!N19)=0,\"\",'１学期'!N19),\"\")),\"\")","v":""},{"$f":"IF(LEN(O23)=0,\"\",IF(COUNTIF($O$2:$O$1921,O23+1)>0,\"\",IF(COUNTIF($O$2:O23,O23)>1,\"\",O23+1)))","v":""},{"$f":"IFERROR(SMALL($P$1:$P$1921,22),\"\")","v":""}]
[null,null,null,null,null,{"$f":"IF(LEN(設定!K25)=0,\"\",22)","v":""},{"$f":"IF(LEN(F24)=0,\"\",設定!K25)","v":""},{"$f":"IF(LEN(F24)=0,\"\",ASC(設定!L25)&IF(設定!M25>1,\"帯\",\"\")&G24)","v":""},{"$f":"IFERROR(INDEX($H$2:$H$31,SMALL($F$2:$F$31,23)+1)&\"\",IF(COUNTIF($I$2:I23,\"×\")=0,\"×\",IF(COUNTIF($I$2:I23,\"なし\")=0,\"なし\",\"\")))","v":""},{"$f":"IF(設定!$C$32=\"しない\",F24,IF(LEN(F24)=0,\"\",IF(ISERROR(FIND(\"帯\",H24)),F24,IF(COUNTIF($H$2:$H$32,SUBSTITUTE(H24,\"帯\",\"\"))>0,\"\",F24))))","v":""},{"$f":"IFERROR(INDEX($H$2:$H$31,SMALL($J$2:$J$25,23)+1)&\"\",\"\")","v":""},{"$f":"IF(LEN(J24)=0,\"\",IF(設定!D46>1,\"\",IF(COUNTIF($H$2:$H$25,ASC(設定!C46)&\"帯\"&G24)>0,ASC(設定!C46)&\"帯\"&G24,\"\")))","v":""},{"$f":"IF(LEN(L24)=0,\"\",IF(設定!$C$32=\"しない\",\"\",INDEX(設定!$B$21:$O$26,MOD(INDEX($F$2:$F$25,MATCH(L24,$H$2:$H$25,0)),6)+1,3*QUOTIENT(INDEX($F$2:$F$25,MATCH(L24,$H$2:$H$25,0)),6)+3)))","v":""},null,{"$f":"IF(24<=$B$10,IF(LEN('１学期'!K22)=0,\"\",IF('１学期'!K22=$B$8,IF(LEN('１学期'!N22)=0,\"\",'１学期'!N22),\"\")),\"\")","v":""},{"$f":"IF(LEN(O24)=0,\"\",IF(COUNTIF($O$2:$O$1921,O24+1)>0,\"\",IF(COUNTIF($O$2:O24,O24)>1,\"\",O24+1)))","v":""},{"$f":"IFERROR(SMALL($P$1:$P$1921,23),\"\")","v":""}]
[null,null,null,null,null,{"$f":"IF(LEN(設定!K26)=0,\"\",23)","v":""},{"$f":"IF(LEN(F25)=0,\"\",設定!K26)","v":""},{"$f":"IF(LEN(F25)=0,\"\",ASC(設定!L26)&IF(設定!M26>1,\"帯\",\"\")&G25)","v":""},{"$f":"IFERROR(INDEX($H$2:$H$31,SMALL($F$2:$F$31,24)+1)&\"\",IF(COUNTIF($I$2:I24,\"×\")=0,\"×\",IF(COUNTIF($I$2:I24,\"なし\")=0,\"なし\",\"\")))","v":""},{"$f":"IF(設定!$C$32=\"しない\",F25,IF(LEN(F25)=0,\"\",IF(ISERROR(FIND(\"帯\",H25)),F25,IF(COUNTIF($H$2:$H$32,SUBSTITUTE(H25,\"帯\",\"\"))>0,\"\",F25))))","v":""},{"$f":"IFERROR(INDEX($H$2:$H$31,SMALL($J$2:$J$25,24)+1)&\"\",\"\")","v":""},{"$f":"IF(LEN(J25)=0,\"\",IF(設定!#REF!>1,\"\",IF(COUNTIF($H$2:$H$25,ASC(設定!#REF!)&\"帯\"&G25)>0,ASC(設定!#REF!)&\"帯\"&G25,\"\")))","v":""},{"$f":"IF(LEN(L25)=0,\"\",IF(設定!$C$32=\"しない\",\"\",INDEX(設定!$B$21:$O$26,MOD(INDEX($F$2:$F$25,MATCH(L25,$H$2:$H$25,0)),6)+1,3*QUOTIENT(INDEX($F$2:$F$25,MATCH(L25,$H$2:$H$25,0)),6)+3)))","v":""},null,{"$f":"IF(25<=$B$10,IF(LEN('１学期'!K25)=0,\"\",IF('１学期'!K25=$B$8,IF(LEN('１学期'!N25)=0,\"\",'１学期'!N25),\"\")),\"\")","v":""},{"$f":"IF(LEN(O25)=0,\"\",IF(COUNTIF($O$2:$O$1921,O25+1)>0,\"\",IF(COUNTIF($O$2:O25,O25)>1,\"\",O25+1)))","v":""},{"$f":"IFERROR(SMALL($P$1:$P$1921,24),\"\")","v":""}]
[null,null,null,null,null,null,null,null,{"$f":"IFERROR(INDEX($H$2:$H$31,SMALL($F$2:$F$31,25)+1)&\"\",IF(COUNTIF($I$2:I25,\"×\")=0,\"×\",IF(COUNTIF($I$2:I25,\"なし\")=0,\"なし\",\"\")))","v":""},null,null,null,null,null,{"$f":"IF(26<=$B$10,IF(LEN('１学期'!O6)=0,\"\",IF('１学期'!O6=$B$8,IF(LEN('１学期'!R6)=0,\"\",'１学期'!R6),\"\")),\"\")","v":""},{"$f":"IF(LEN(O26)=0,\"\",IF(COUNTIF($O$2:$O$1921,O26+1)>0,\"\",IF(COUNTIF($O$2:O26,O26)>1,\"\",O26+1)))","v":""},{"$f":"IFERROR(SMALL($P$1:$P$1921,25),\"\")","v":""}]
[null,null,null,null,null,{"$f":"IF(LEN(設定!N22)=0,\"\",25)","v":""},{"$f":"IF(LEN(F27)=0,\"\",設定!N22)","v":""},{"$f":"G27","v":""},{"$f":"IFERROR(INDEX($H$2:$H$31,SMALL($F$2:$F$31,26)+1)&\"\",IF(COUNTIF($I$2:I26,\"×\")=0,\"×\",IF(COUNTIF($I$2:I26,\"なし\")=0,\"なし\",\"\")))","v":""},null,null,null,null,null,{"$f":"IF(27<=$B$10,IF(LEN('１学期'!O7)=0,\"\",IF('１学期'!O7=$B$8,IF(LEN('１学期'!R7)=0,\"\",'１学期'!R7),\"\")),\"\")","v":""},{"$f":"IF(LEN(O27)=0,\"\",IF(COUNTIF($O$2:$O$1921,O27+1)>0,\"\",IF(COUNTIF($O$2:O27,O27)>1,\"\",O27+1)))","v":""},{"$f":"IFERROR(SMALL($P$1:$P$1921,26),\"\")","v":""}]
[null,null,null,null,null,{"$f":"IF(LEN(設定!N23)=0,\"\",26)","v":""},{"$f":"IF(LEN(F28)=0,\"\",設定!N23)","v":""},{"$f":"G28","v":""},{"$f":"IFERROR(INDEX($H$2:$H$31,SMALL($F$2:$F$31,27)+1)&\"\",IF(COUNTIF($I$2:I27,\"×\")=0,\"×\",IF(COUNTIF($I$2:I27,\"なし\")=0,\"なし\",\"\")))","v":""},null,null,null,null,null,{"$f":"IF(28<=$B$10,IF(LEN('１学期'!O10)=0,\"\",IF('１学期'!O10=$B$8,IF(LEN('１学期'!R10)=0,\"\",'１学期'!R10),\"\")),\"\")","v":""},{"$f":"IF(LEN(O28)=0,\"\",IF(COUNTIF($O$2:$O$1921,O28+1)>0,\"\",IF(COUNTIF($O$2:O28,O28)>1,\"\",O28+1)))","v":""},{"$f":"IFERROR(SMALL($P$1:$P$1921,27),\"\")","v":""}]
[null,null,null,null,null,{"$f":"IF(LEN(設定!N24)=0,\"\",27)","v":""},{"$f":"IF(LEN(F29)=0,\"\",設定!N24)","v":""},"",{"$f":"IFERROR(INDEX($H$2:$H$31,SMALL($F$2:$F$31,28)+1)&\"\",IF(COUNTIF($I$2:I28,\"×\")=0,\"×\",IF(COUNTIF($I$2:I28,\"なし\")=0,\"なし\",\"\")))","v":""},null,null,null,null,null,{"$f":"IF(29<=$B$10,IF(LEN('１学期'!O13)=0,\"\",IF('１学期'!O13=$B$8,IF(LEN('１学期'!R13)=0,\"\",'１学期'!R13),\"\")),\"\")","v":""},{"$f":"IF(LEN(O29)=0,\"\",IF(COUNTIF($O$2:$O$1921,O29+1)>0,\"\",IF(COUNTIF($O$2:O29,O29)>1,\"\",O29+1)))","v":""},{"$f":"IFERROR(SMALL($P$1:$P$1921,28),\"\")","v":""}]
[null,null,null,null,null,{"$f":"IF(LEN(設定!N25)=0,\"\",28)","v":""},{"$f":"IF(LEN(F30)=0,\"\",設定!N25)","v":""},"",{"$f":"IFERROR(INDEX($H$2:$H$31,SMALL($F$2:$F$31,29)+1)&\"\",IF(COUNTIF($I$2:I29,\"×\")=0,\"×\",IF(COUNTIF($I$2:I29,\"なし\")=0,\"なし\",\"\")))","v":""},null,null,null,null,null,{"$f":"IF(30<=$B$10,IF(LEN('１学期'!O16)=0,\"\",IF('１学期'!O16=$B$8,IF(LEN('１学期'!R16)=0,\"\",'１学期'!R16),\"\")),\"\")","v":""},{"$f":"IF(LEN(O30)=0,\"\",IF(COUNTIF($O$2:$O$1921,O30+1)>0,\"\",IF(COUNTIF($O$2:O30,O30)>1,\"\",O30+1)))","v":""},{"$f":"IFERROR(SMALL($P$1:$P$1921,29),\"\")","v":""}]
[null,null,null,null,null,{"$f":"IF(LEN(設定!N26)=0,\"\",29)","v":""},{"$f":"IF(LEN(F31)=0,\"\",設定!N26)","v":""},"",{"$f":"IFERROR(INDEX($H$2:$H$31,SMALL($F$2:$F$31,30)+1)&\"\",IF(COUNTIF($I$2:I30,\"×\")=0,\"×\",IF(COUNTIF($I$2:I30,\"なし\")=0,\"なし\",\"\")))","v":""},null,null,null,null,null,{"$f":"IF(31<=$B$10,IF(LEN('１学期'!O19)=0,\"\",IF('１学期'!O19=$B$8,IF(LEN('１学期'!R19)=0,\"\",'１学期'!R19),\"\")),\"\")","v":""},{"$f":"IF(LEN(O31)=0,\"\",IF(COUNTIF($O$2:$O$1921,O31+1)>0,\"\",IF(COUNTIF($O$2:O31,O31)>1,\"\",O31+1)))","v":""},{"$f":"IFERROR(SMALL($P$1:$P$1921,30),\"\")","v":""}]
[null,null,null,null,null,null,null,null,{"$f":"IFERROR(INDEX($H$2:$H$31,SMALL($F$2:$F$31,30)+1)&\"\",IF(COUNTIF($I$2:I31,\"×\")=0,\"×\",IF(COUNTIF($I$2:I31,\"なし\")=0,\"なし\",\"\")))","v":""},null,null,null,null,null,{"$f":"IF(32<=$B$10,IF(LEN('１学期'!O22)=0,\"\",IF('１学期'!O22=$B$8,IF(LEN('１学期'!R22)=0,\"\",'１学期'!R22),\"\")),\"\")","v":""},{"$f":"IF(LEN(O32)=0,\"\",IF(COUNTIF($O$2:$O$1921,O32+1)>0,\"\",IF(COUNTIF($O$2:O32,O32)>1,\"\",O32+1)))","v":""},{"$f":"IFERROR(SMALL($P$1:$P$1921,31),\"\")","v":""}]
[null,null,null,null,null,null,null,null,null,null,null,null,null,null,{"$f":"IF(33<=$B$10,IF(LEN('１学期'!O25)=0,\"\",IF('１学期'!O25=$B$8,IF(LEN('１学期'!R25)=0,\"\",'１学期'!R25),\"\")),\"\")","v":""},{"$f":"IF(LEN(O33)=0,\"\",IF(COUNTIF($O$2:$O$1921,O33+1)>0,\"\",IF(COUNTIF($O$2:O33,O33)>1,\"\",O33+1)))","v":""},{"$f":"IFERROR(SMALL($P$1:$P$1921,32),\"\")","v":""}]
[null,null,null,null,null,null,null,null,null,null,null,null,null,null,{"$f":"IF(34<=$B$10,IF(LEN('１学期'!S6)=0,\"\",IF('１学期'!S6=$B$8,IF(LEN('１学期'!V6)=0,\"\",'１学期'!V6),\"\")),\"\")","v":""},{"$f":"IF(LEN(O34)=0,\"\",IF(COUNTIF($O$2:$O$1921,O34+1)>0,\"\",IF(COUNTIF($O$2:O34,O34)>1,\"\",O34+1)))","v":""},{"$f":"IFERROR(SMALL($P$1:$P$1921,33),\"\")","v":""}]
[null,null,null,null,null,null,null,null,null,null,null,null,null,null,{"$f":"IF(35<=$B$10,IF(LEN('１学期'!S7)=0,\"\",IF('１学期'!S7=$B$8,IF(LEN('１学期'!V7)=0,\"\",'１学期'!V7),\"\")),\"\")","v":""},{"$f":"IF(LEN(O35)=0,\"\",IF(COUNTIF($O$2:$O$1921,O35+1)>0,\"\",IF(COUNTIF($O$2:O35,O35)>1,\"\",O35+1)))","v":""},{"$f":"IFERROR(SMALL($P$1:$P$1921,34),\"\")","v":""}]
[null,null,null,null,null,null,null,null,null,null,null,null,null,null,{"$f":"IF(36<=$B$10,IF(LEN('１学期'!S10)=0,\"\",IF('１学期'!S10=$B$8,IF(LEN('１学期'!V10)=0,\"\",'１学期'!V10),\"\")),\"\")","v":""},{"$f":"IF(LEN(O36)=0,\"\",IF(COUNTIF($O$2:$O$1921,O36+1)>0,\"\",IF(COUNTIF($O$2:O36,O36)>1,\"\",O36+1)))","v":""},{"$f":"IFERROR(SMALL($P$1:$P$1921,35),\"\")","v":""}]
[null,null,null,null,null,null,null,null,null,null,null,null,null,null,{"$f":"IF(37<=$B$10,IF(LEN('１学期'!S13)=0,\"\",IF('１学期'!S13=$B$8,IF(LEN('１学期'!V13)=0,\"\",'１学期'!V13),\"\")),\"\")","v":""},{"$f":"IF(LEN(O37)=0,\"\",IF(COUNTIF($O$2:$O$1921,O37+1)>0,\"\",IF(COUNTIF($O$2:O37,O37)>1,\"\",O37+1)))","v":""},{"$f":"IFERROR(SMALL($P$1:$P$1921,36),\"\")","v":""}]
[null,null,null,null,null,null,null,null,null,null,null,null,null,null,{"$f":"IF(38<=$B$10,IF(LEN('１学期'!S16)=0,\"\",IF('１学期'!S16=$B$8,IF(LEN('１学期'!V16)=0,\"\",'１学期'!V16),\"\")),\"\")","v":""},{"$f":"IF(LEN(O38)=0,\"\",IF(COUNTIF($O$2:$O$1921,O38+1)>0,\"\",IF(COUNTIF($O$2:O38,O38)>1,\"\",O38+1)))","v":""},{"$f":"IFERROR(SMALL($P$1:$P$1921,37),\"\")","v":""}]
[null,null,null,null,null,null,null,null,null,null,null,null,null,null,{"$f":"IF(39<=$B$10,IF(LEN('１学期'!S19)=0,\"\",IF('１学期'!S19=$B$8,IF(LEN('１学期'!V19)=0,\"\",'１学期'!V19),\"\")),\"\")","v":""},{"$f":"IF(LEN(O39)=0,\"\",IF(COUNTIF($O$2:$O$1921,O39+1)>0,\"\",IF(COUNTIF($O$2:O39,O39)>1,\"\",O39+1)))","v":""},{"$f":"IFERROR(SMALL($P$1:$P$1921,38),\"\")","v":""}]
[null,null,null,null,null,null,null,null,null,null,null,null,null,null,{"$f":"IF(40<=$B$10,IF(LEN('１学期'!S22)=0,\"\",IF('１学期'!S22=$B$8,IF(LEN('１学期'!V22)=0,\"\",'１学期'!V22),\"\")),\"\")","v":""},{"$f":"IF(LEN(O40)=0,\"\",IF(COUNTIF($O$2:$O$1921,O40+1)>0,\"\",IF(COUNTIF($O$2:O40,O40)>1,\"\",O40+1)))","v":""},{"$f":"IFERROR(SMALL($P$1:$P$1921,39),\"\")","v":""}]
[null,null,null,null,null,null,null,null,null,null,null,null,null,null,{"$f":"IF(41<=$B$10,IF(LEN('１学期'!S25)=0,\"\",IF('１学期'!S25=$B$8,IF(LEN('１学期'!V25)=0,\"\",'１学期'!V25),\"\")),\"\")","v":""},{"$f":"IF(LEN(O41)=0,\"\",IF(COUNTIF($O$2:$O$1921,O41+1)>0,\"\",IF(COUNTIF($O$2:O41,O41)>1,\"\",O41+1)))","v":""},{"$f":"IFERROR(SMALL($P$1:$P$1921,40),\"\")","v":""}]
[null,null,null,null,null,null,null,null,null,null,null,null,null,null,{"$f":"IF(42<=$B$10,IF(LEN('１学期'!W6)=0,\"\",IF('１学期'!W6=$B$8,IF(LEN('１学期'!Z6)=0,\"\",'１学期'!Z6),\"\")),\"\")","v":""},{"$f":"IF(LEN(O42)=0,\"\",IF(COUNTIF($O$2:$O$1921,O42+1)>0,\"\",IF(COUNTIF($O$2:O42,O42)>1,\"\",O42+1)))","v":""},{"$f":"IFERROR(SMALL($P$1:$P$1921,41),\"\")","v":""}]
[null,null,null,null,null,null,null,null,null,null,null,null,null,null,{"$f":"IF(43<=$B$10,IF(LEN('１学期'!W7)=0,\"\",IF('１学期'!W7=$B$8,IF(LEN('１学期'!Z7)=0,\"\",'１学期'!Z7),\"\")),\"\")","v":""},{"$f":"IF(LEN(O43)=0,\"\",IF(COUNTIF($O$2:$O$1921,O43+1)>0,\"\",IF(COUNTIF($O$2:O43,O43)>1,\"\",O43+1)))","v":""},{"$f":"IFERROR(SMALL($P$1:$P$1921,42),\"\")","v":""}]
[null,null,null,null,null,null,null,null,null,null,null,null,null,null,{"$f":"IF(44<=$B$10,IF(LEN('１学期'!W10)=0,\"\",IF('１学期'!W10=$B$8,IF(LEN('１学期'!Z10)=0,\"\",'１学期'!Z10),\"\")),\"\")","v":""},{"$f":"IF(LEN(O44)=0,\"\",IF(COUNTIF($O$2:$O$1921,O44+1)>0,\"\",IF(COUNTIF($O$2:O44,O44)>1,\"\",O44+1)))","v":""},{"$f":"IFERROR(SMALL($P$1:$P$1921,43),\"\")","v":""}]
[null,null,null,null,null,null,null,null,null,null,null,null,null,null,{"$f":"IF(45<=$B$10,IF(LEN('１学期'!W13)=0,\"\",IF('１学期'!W13=$B$8,IF(LEN('１学期'!Z13)=0,\"\",'１学期'!Z13),\"\")),\"\")","v":""},{"$f":"IF(LEN(O45)=0,\"\",IF(COUNTIF($O$2:$O$1921,O45+1)>0,\"\",IF(COUNTIF($O$2:O45,O45)>1,\"\",O45+1)))","v":""},{"$f":"IFERROR(SMALL($P$1:$P$1921,44),\"\")","v":""}]
[null,null,null,null,null,null,null,null,null,null,null,null,null,null,{"$f":"IF(46<=$B$10,IF(LEN('１学期'!W16)=0,\"\",IF('１学期'!W16=$B$8,IF(LEN('１学期'!Z16)=0,\"\",'１学期'!Z16),\"\")),\"\")","v":""},{"$f":"IF(LEN(O46)=0,\"\",IF(COUNTIF($O$2:$O$1921,O46+1)>0,\"\",IF(COUNTIF($O$2:O46,O46)>1,\"\",O46+1)))","v":""},{"$f":"IFERROR(SMALL($P$1:$P$1921,45),\"\")","v":""}]
[null,null,null,null,null,null,null,null,null,null,null,null,null,null,{"$f":"IF(47<=$B$10,IF(LEN('１学期'!W19)=0,\"\",IF('１学期'!W19=$B$8,IF(LEN('１学期'!Z19)=0,\"\",'１学期'!Z19),\"\")),\"\")","v":""},{"$f":"IF(LEN(O47)=0,\"\",IF(COUNTIF($O$2:$O$1921,O47+1)>0,\"\",IF(COUNTIF($O$2:O47,O47)>1,\"\",O47+1)))","v":""},{"$f":"IFERROR(SMALL($P$1:$P$1921,46),\"\")","v":""}]
[null,null,null,null,null,null,null,null,null,null,null,null,null,null,{"$f":"IF(48<=$B$10,IF(LEN('１学期'!W22)=0,\"\",IF('１学期'!W22=$B$8,IF(LEN('１学期'!Z22)=0,\"\",'１学期'!Z22),\"\")),\"\")","v":""},{"$f":"IF(LEN(O48)=0,\"\",IF(COUNTIF($O$2:$O$1921,O48+1)>0,\"\",IF(COUNTIF($O$2:O48,O48)>1,\"\",O48+1)))","v":""},{"$f":"IFERROR(SMALL($P$1:$P$1921,47),\"\")","v":""}]
[null,null,null,null,null,null,null,null,null,null,null,null,null,null,{"$f":"IF(49<=$B$10,IF(LEN('１学期'!W25)=0,\"\",IF('１学期'!W25=$B$8,IF(LEN('１学期'!Z25)=0,\"\",'１学期'!Z25),\"\")),\"\")","v":""},{"$f":"IF(LEN(O49)=0,\"\",IF(COUNTIF($O$2:$O$1921,O49+1)>0,\"\",IF(COUNTIF($O$2:O49,O49)>1,\"\",O49+1)))","v":""},{"$f":"IFERROR(SMALL($P$1:$P$1921,48),\"\")","v":""}]
[null,null,null,null,null,null,null,null,null,null,null,null,null,null,{"$f":"IF(50<=$B$10,IF(LEN('１学期'!AA6)=0,\"\",IF('１学期'!AA6=$B$8,IF(LEN('１学期'!AD6)=0,\"\",'１学期'!AD6),\"\")),\"\")","v":""},{"$f":"IF(LEN(O50)=0,\"\",IF(COUNTIF($O$2:$O$1921,O50+1)>0,\"\",IF(COUNTIF($O$2:O50,O50)>1,\"\",O50+1)))","v":""},{"$f":"IFERROR(SMALL($P$1:$P$1921,49),\"\")","v":""}]
[null,null,null,null,null,null,null,null,null,null,null,null,null,null,{"$f":"IF(51<=$B$10,IF(LEN('１学期'!AA7)=0,\"\",IF('１学期'!AA7=$B$8,IF(LEN('１学期'!AD7)=0,\"\",'１学期'!AD7),\"\")),\"\")","v":""},{"$f":"IF(LEN(O51)=0,\"\",IF(COUNTIF($O$2:$O$1921,O51+1)>0,\"\",IF(COUNTIF($O$2:O51,O51)>1,\"\",O51+1)))","v":""},{"$f":"IFERROR(SMALL($P$1:$P$1921,50),\"\")","v":""}]
[null,null,null,null,null,null,null,null,null,null,null,null,null,null,{"$f":"IF(52<=$B$10,IF(LEN('１学期'!AA10)=0,\"\",IF('１学期'!AA10=$B$8,IF(LEN('１学期'!AD10)=0,\"\",'１学期'!AD10),\"\")),\"\")","v":""},{"$f":"IF(LEN(O52)=0,\"\",IF(COUNTIF($O$2:$O$1921,O52+1)>0,\"\",IF(COUNTIF($O$2:O52,O52)>1,\"\",O52+1)))","v":""},{"$f":"IFERROR(SMALL($P$1:$P$1921,51),\"\")","v":""}]
[null,null,null,null,null,null,null,null,null,null,null,null,null,null,{"$f":"IF(53<=$B$10,IF(LEN('１学期'!AA13)=0,\"\",IF('１学期'!AA13=$B$8,IF(LEN('１学期'!AD13)=0,\"\",'１学期'!AD13),\"\")),\"\")","v":""},{"$f":"IF(LEN(O53)=0,\"\",IF(COUNTIF($O$2:$O$1921,O53+1)>0,\"\",IF(COUNTIF($O$2:O53,O53)>1,\"\",O53+1)))","v":""},{"$f":"IFERROR(SMALL($P$1:$P$1921,52),\"\")","v":""}]
[null,null,null,null,null,null,null,null,null,null,null,null,null,null,{"$f":"IF(54<=$B$10,IF(LEN('１学期'!AA16)=0,\"\",IF('１学期'!AA16=$B$8,IF(LEN('１学期'!AD16)=0,\"\",'１学期'!AD16),\"\")),\"\")","v":""},{"$f":"IF(LEN(O54)=0,\"\",IF(COUNTIF($O$2:$O$1921,O54+1)>0,\"\",IF(COUNTIF($O$2:O54,O54)>1,\"\",O54+1)))","v":""},{"$f":"IFERROR(SMALL($P$1:$P$1921,53),\"\")","v":""}]
[null,null,null,null,null,null,null,null,null,null,null,null,null,null,{"$f":"IF(55<=$B$10,IF(LEN('１学期'!AA19)=0,\"\",IF('１学期'!AA19=$B$8,IF(LEN('１学期'!AD19)=0,\"\",'１学期'!AD19),\"\")),\"\")","v":""},{"$f":"IF(LEN(O55)=0,\"\",IF(COUNTIF($O$2:$O$1921,O55+1)>0,\"\",IF(COUNTIF($O$2:O55,O55)>1,\"\",O55+1)))","v":""},{"$f":"IFERROR(SMALL($P$1:$P$1921,54),\"\")","v":""}]
[null,null,null,null,null,null,null,null,null,null,null,null,null,null,{"$f":"IF(56<=$B$10,IF(LEN('１学期'!AA22)=0,\"\",IF('１学期'!AA22=$B$8,IF(LEN('１学期'!AD22)=0,\"\",'１学期'!AD22),\"\")),\"\")","v":""},{"$f":"IF(LEN(O56)=0,\"\",IF(COUNTIF($O$2:$O$1921,O56+1)>0,\"\",IF(COUNTIF($O$2:O56,O56)>1,\"\",O56+1)))","v":""},{"$f":"IFERROR(SMALL($P$1:$P$1921,55),\"\")","v":""}]
[null,null,null,null,null,null,null,null,null,null,null,null,null,null,{"$f":"IF(57<=$B$10,IF(LEN('１学期'!AA25)=0,\"\",IF('１学期'!AA25=$B$8,IF(LEN('１学期'!AD25)=0,\"\",'１学期'!AD25),\"\")),\"\")","v":""},{"$f":"IF(LEN(O57)=0,\"\",IF(COUNTIF($O$2:$O$1921,O57+1)>0,\"\",IF(COUNTIF($O$2:O57,O57)>1,\"\",O57+1)))","v":""},{"$f":"IFERROR(SMALL($P$1:$P$1921,56),\"\")","v":""}]
[null,null,null,null,null,null,null,null,null,null,null,null,null,null,{"$f":"IF(58<=$B$10,IF(LEN('１学期'!AE6)=0,\"\",IF('１学期'!AE6=$B$8,IF(LEN('１学期'!AH6)=0,\"\",'１学期'!AH6),\"\")),\"\")","v":""},{"$f":"IF(LEN(O58)=0,\"\",IF(COUNTIF($O$2:$O$1921,O58+1)>0,\"\",IF(COUNTIF($O$2:O58,O58)>1,\"\",O58+1)))","v":""},{"$f":"IFERROR(SMALL($P$1:$P$1921,57),\"\")","v":""}]
[null,null,null,null,null,null,null,null,null,null,null,null,null,null,{"$f":"IF(59<=$B$10,IF(LEN('１学期'!AE7)=0,\"\",IF('１学期'!AE7=$B$8,IF(LEN('１学期'!AH7)=0,\"\",'１学期'!AH7),\"\")),\"\")","v":""},{"$f":"IF(LEN(O59)=0,\"\",IF(COUNTIF($O$2:$O$1921,O59+1)>0,\"\",IF(COUNTIF($O$2:O59,O59)>1,\"\",O59+1)))","v":""},{"$f":"IFERROR(SMALL($P$1:$P$1921,58),\"\")","v":""}]
[null,null,null,null,null,null,null,null,null,null,null,null,null,null,{"$f":"IF(60<=$B$10,IF(LEN('１学期'!AE10)=0,\"\",IF('１学期'!AE10=$B$8,IF(LEN('１学期'!AH10)=0,\"\",'１学期'!AH10),\"\")),\"\")","v":""},{"$f":"IF(LEN(O60)=0,\"\",IF(COUNTIF($O$2:$O$1921,O60+1)>0,\"\",IF(COUNTIF($O$2:O60,O60)>1,\"\",O60+1)))","v":""},{"$f":"IFERROR(SMALL($P$1:$P$1921,59),\"\")","v":""}]
[null,null,null,null,null,null,null,null,null,null,null,null,null,null,{"$f":"IF(61<=$B$10,IF(LEN('１学期'!AE13)=0,\"\",IF('１学期'!AE13=$B$8,IF(LEN('１学期'!AH13)=0,\"\",'１学期'!AH13),\"\")),\"\")","v":""},{"$f":"IF(LEN(O61)=0,\"\",IF(COUNTIF($O$2:$O$1921,O61+1)>0,\"\",IF(COUNTIF($O$2:O61,O61)>1,\"\",O61+1)))","v":""},{"$f":"IFERROR(SMALL($P$1:$P$1921,60),\"\")","v":""}]
[null,null,null,null,null,null,null,null,null,null,null,null,null,null,{"$f":"IF(62<=$B$10,IF(LEN('１学期'!AE16)=0,\"\",IF('１学期'!AE16=$B$8,IF(LEN('１学期'!AH16)=0,\"\",'１学期'!AH16),\"\")),\"\")","v":""},{"$f":"IF(LEN(O62)=0,\"\",IF(COUNTIF($O$2:$O$1921,O62+1)>0,\"\",IF(COUNTIF($O$2:O62,O62)>1,\"\",O62+1)))","v":""},{"$f":"IFERROR(SMALL($P$1:$P$1921,61),\"\")","v":""}]
[null,null,null,null,null,null,null,null,null,null,null,null,null,null,{"$f":"IF(63<=$B$10,IF(LEN('１学期'!AE19)=0,\"\",IF('１学期'!AE19=$B$8,IF(LEN('１学期'!AH19)=0,\"\",'１学期'!AH19),\"\")),\"\")","v":""},{"$f":"IF(LEN(O63)=0,\"\",IF(COUNTIF($O$2:$O$1921,O63+1)>0,\"\",IF(COUNTIF($O$2:O63,O63)>1,\"\",O63+1)))","v":""},{"$f":"IFERROR(SMALL($P$1:$P$1921,62),\"\")","v":""}]
[null,null,null,null,null,null,null,null,null,null,null,null,null,null,{"$f":"IF(64<=$B$10,IF(LEN('１学期'!AE22)=0,\"\",IF('１学期'!AE22=$B$8,IF(LEN('１学期'!AH22)=0,\"\",'１学期'!AH22),\"\")),\"\")","v":""},{"$f":"IF(LEN(O64)=0,\"\",IF(COUNTIF($O$2:$O$1921,O64+1)>0,\"\",IF(COUNTIF($O$2:O64,O64)>1,\"\",O64+1)))","v":""},{"$f":"IFERROR(SMALL($P$1:$P$1921,63),\"\")","v":""}]
[null,null,null,null,null,null,null,null,null,null,null,null,null,null,{"$f":"IF(65<=$B$10,IF(LEN('１学期'!AE25)=0,\"\",IF('１学期'!AE25=$B$8,IF(LEN('１学期'!AH25)=0,\"\",'１学期'!AH25),\"\")),\"\")","v":""},{"$f":"IF(LEN(O65)=0,\"\",IF(COUNTIF($O$2:$O$1921,O65+1)>0,\"\",IF(COUNTIF($O$2:O65,O65)>1,\"\",O65+1)))","v":""},{"$f":"IFERROR(SMALL($P$1:$P$1921,64),\"\")","v":""}]
[null,null,null,null,null,null,null,null,null,null,null,null,null,null,{"$f":"IF(66<=$B$10,IF(LEN('１学期'!AI6)=0,\"\",IF('１学期'!AI6=$B$8,IF(LEN('１学期'!AL6)=0,\"\",'１学期'!AL6),\"\")),\"\")","v":""},{"$f":"IF(LEN(O66)=0,\"\",IF(COUNTIF($O$2:$O$1921,O66+1)>0,\"\",IF(COUNTIF($O$2:O66,O66)>1,\"\",O66+1)))","v":""},{"$f":"IFERROR(SMALL($P$1:$P$1921,65),\"\")","v":""}]
[null,null,null,null,null,null,null,null,null,null,null,null,null,null,{"$f":"IF(67<=$B$10,IF(LEN('１学期'!AI7)=0,\"\",IF('１学期'!AI7=$B$8,IF(LEN('１学期'!AL7)=0,\"\",'１学期'!AL7),\"\")),\"\")","v":""},{"$f":"IF(LEN(O67)=0,\"\",IF(COUNTIF($O$2:$O$1921,O67+1)>0,\"\",IF(COUNTIF($O$2:O67,O67)>1,\"\",O67+1)))","v":""},{"$f":"IFERROR(SMALL($P$1:$P$1921,66),\"\")","v":""}]
[null,null,null,null,null,null,null,null,null,null,null,null,null,null,{"$f":"IF(68<=$B$10,IF(LEN('１学期'!AI10)=0,\"\",IF('１学期'!AI10=$B$8,IF(LEN('１学期'!AL10)=0,\"\",'１学期'!AL10),\"\")),\"\")","v":""},{"$f":"IF(LEN(O68)=0,\"\",IF(COUNTIF($O$2:$O$1921,O68+1)>0,\"\",IF(COUNTIF($O$2:O68,O68)>1,\"\",O68+1)))","v":""},{"$f":"IFERROR(SMALL($P$1:$P$1921,67),\"\")","v":""}]
[null,null,null,null,null,null,null,null,null,null,null,null,null,null,{"$f":"IF(69<=$B$10,IF(LEN('１学期'!AI13)=0,\"\",IF('１学期'!AI13=$B$8,IF(LEN('１学期'!AL13)=0,\"\",'１学期'!AL13),\"\")),\"\")","v":""},{"$f":"IF(LEN(O69)=0,\"\",IF(COUNTIF($O$2:$O$1921,O69+1)>0,\"\",IF(COUNTIF($O$2:O69,O69)>1,\"\",O69+1)))","v":""},{"$f":"IFERROR(SMALL($P$1:$P$1921,68),\"\")","v":""}]
[null,null,null,null,null,null,null,null,null,null,null,null,null,null,{"$f":"IF(70<=$B$10,IF(LEN('１学期'!AI16)=0,\"\",IF('１学期'!AI16=$B$8,IF(LEN('１学期'!AL16)=0,\"\",'１学期'!AL16),\"\")),\"\")","v":""},{"$f":"IF(LEN(O70)=0,\"\",IF(COUNTIF($O$2:$O$1921,O70+1)>0,\"\",IF(COUNTIF($O$2:O70,O70)>1,\"\",O70+1)))","v":""},{"$f":"IFERROR(SMALL($P$1:$P$1921,69),\"\")","v":""}]
[null,null,null,null,null,null,null,null,null,null,null,null,null,null,{"$f":"IF(71<=$B$10,IF(LEN('１学期'!AI19)=0,\"\",IF('１学期'!AI19=$B$8,IF(LEN('１学期'!AL19)=0,\"\",'１学期'!AL19),\"\")),\"\")","v":""},{"$f":"IF(LEN(O71)=0,\"\",IF(COUNTIF($O$2:$O$1921,O71+1)>0,\"\",IF(COUNTIF($O$2:O71,O71)>1,\"\",O71+1)))","v":""},{"$f":"IFERROR(SMALL($P$1:$P$1921,70),\"\")","v":""}]
[null,null,null,null,null,null,null,null,null,null,null,null,null,null,{"$f":"IF(72<=$B$10,IF(LEN('１学期'!AI22)=0,\"\",IF('１学期'!AI22=$B$8,IF(LEN('１学期'!AL22)=0,\"\",'１学期'!AL22),\"\")),\"\")","v":""},{"$f":"IF(LEN(O72)=0,\"\",IF(COUNTIF($O$2:$O$1921,O72+1)>0,\"\",IF(COUNTIF($O$2:O72,O72)>1,\"\",O72+1)))","v":""},{"$f":"IFERROR(SMALL($P$1:$P$1921,71),\"\")","v":""}]
[null,null,null,null,null,null,null,null,null,null,null,null,null,null,{"$f":"IF(73<=$B$10,IF(LEN('１学期'!AI25)=0,\"\",IF('１学期'!AI25=$B$8,IF(LEN('１学期'!AL25)=0,\"\",'１学期'!AL25),\"\")),\"\")","v":""},{"$f":"IF(LEN(O73)=0,\"\",IF(COUNTIF($O$2:$O$1921,O73+1)>0,\"\",IF(COUNTIF($O$2:O73,O73)>1,\"\",O73+1)))","v":""},{"$f":"IFERROR(SMALL($P$1:$P$1921,72),\"\")","v":""}]
[null,null,null,null,null,null,null,null,null,null,null,null,null,null,{"$f":"IF(74<=$B$10,IF(LEN('１学期'!AM6)=0,\"\",IF('１学期'!AM6=$B$8,IF(LEN('１学期'!AP6)=0,\"\",'１学期'!AP6),\"\")),\"\")","v":""},{"$f":"IF(LEN(O74)=0,\"\",IF(COUNTIF($O$2:$O$1921,O74+1)>0,\"\",IF(COUNTIF($O$2:O74,O74)>1,\"\",O74+1)))","v":""},{"$f":"IFERROR(SMALL($P$1:$P$1921,73),\"\")","v":""}]
[null,null,null,null,null,null,null,null,null,null,null,null,null,null,{"$f":"IF(75<=$B$10,IF(LEN('１学期'!AM7)=0,\"\",IF('１学期'!AM7=$B$8,IF(LEN('１学期'!AP7)=0,\"\",'１学期'!AP7),\"\")),\"\")","v":""},{"$f":"IF(LEN(O75)=0,\"\",IF(COUNTIF($O$2:$O$1921,O75+1)>0,\"\",IF(COUNTIF($O$2:O75,O75)>1,\"\",O75+1)))","v":""},{"$f":"IFERROR(SMALL($P$1:$P$1921,74),\"\")","v":""}]
[null,null,null,null,null,null,null,null,null,null,null,null,null,null,{"$f":"IF(76<=$B$10,IF(LEN('１学期'!AM10)=0,\"\",IF('１学期'!AM10=$B$8,IF(LEN('１学期'!AP10)=0,\"\",'１学期'!AP10),\"\")),\"\")","v":""},{"$f":"IF(LEN(O76)=0,\"\",IF(COUNTIF($O$2:$O$1921,O76+1)>0,\"\",IF(COUNTIF($O$2:O76,O76)>1,\"\",O76+1)))","v":""},{"$f":"IFERROR(SMALL($P$1:$P$1921,75),\"\")","v":""}]
[null,null,null,null,null,null,null,null,null,null,null,null,null,null,{"$f":"IF(77<=$B$10,IF(LEN('１学期'!AM13)=0,\"\",IF('１学期'!AM13=$B$8,IF(LEN('１学期'!AP13)=0,\"\",'１学期'!AP13),\"\")),\"\")","v":""},{"$f":"IF(LEN(O77)=0,\"\",IF(COUNTIF($O$2:$O$1921,O77+1)>0,\"\",IF(COUNTIF($O$2:O77,O77)>1,\"\",O77+1)))","v":""},{"$f":"IFERROR(SMALL($P$1:$P$1921,76),\"\")","v":""}]
[null,null,null,null,null,null,null,null,null,null,null,null,null,null,{"$f":"IF(78<=$B$10,IF(LEN('１学期'!AM16)=0,\"\",IF('１学期'!AM16=$B$8,IF(LEN('１学期'!AP16)=0,\"\",'１学期'!AP16),\"\")),\"\")","v":""},{"$f":"IF(LEN(O78)=0,\"\",IF(COUNTIF($O$2:$O$1921,O78+1)>0,\"\",IF(COUNTIF($O$2:O78,O78)>1,\"\",O78+1)))","v":""},{"$f":"IFERROR(SMALL($P$1:$P$1921,77),\"\")","v":""}]
[null,null,null,null,null,null,null,null,null,null,null,null,null,null,{"$f":"IF(79<=$B$10,IF(LEN('１学期'!AM19)=0,\"\",IF('１学期'!AM19=$B$8,IF(LEN('１学期'!AP19)=0,\"\",'１学期'!AP19),\"\")),\"\")","v":""},{"$f":"IF(LEN(O79)=0,\"\",IF(COUNTIF($O$2:$O$1921,O79+1)>0,\"\",IF(COUNTIF($O$2:O79,O79)>1,\"\",O79+1)))","v":""},{"$f":"IFERROR(SMALL($P$1:$P$1921,78),\"\")","v":""}]
[null,null,null,null,null,null,null,null,null,null,null,null,null,null,{"$f":"IF(80<=$B$10,IF(LEN('１学期'!AM22)=0,\"\",IF('１学期'!AM22=$B$8,IF(LEN('１学期'!AP22)=0,\"\",'１学期'!AP22),\"\")),\"\")","v":""},{"$f":"IF(LEN(O80)=0,\"\",IF(COUNTIF($O$2:$O$1921,O80+1)>0,\"\",IF(COUNTIF($O$2:O80,O80)>1,\"\",O80+1)))","v":""},{"$f":"IFERROR(SMALL($P$1:$P$1921,79),\"\")","v":""}]
[null,null,null,null,null,null,null,null,null,null,null,null,null,null,{"$f":"IF(81<=$B$10,IF(LEN('１学期'!AM25)=0,\"\",IF('１学期'!AM25=$B$8,IF(LEN('１学期'!AP25)=0,\"\",'１学期'!AP25),\"\")),\"\")","v":""},{"$f":"IF(LEN(O81)=0,\"\",IF(COUNTIF($O$2:$O$1921,O81+1)>0,\"\",IF(COUNTIF($O$2:O81,O81)>1,\"\",O81+1)))","v":""},{"$f":"IFERROR(SMALL($P$1:$P$1921,80),\"\")","v":""}]
[null,null,null,null,null,null,null,null,null,null,null,null,null,null,{"$f":"IF(82<=$B$10,IF(LEN('１学期'!AQ6)=0,\"\",IF('１学期'!AQ6=$B$8,IF(LEN('１学期'!AT6)=0,\"\",'１学期'!AT6),\"\")),\"\")","v":""},{"$f":"IF(LEN(O82)=0,\"\",IF(COUNTIF($O$2:$O$1921,O82+1)>0,\"\",IF(COUNTIF($O$2:O82,O82)>1,\"\",O82+1)))","v":""},{"$f":"IFERROR(SMALL($P$1:$P$1921,81),\"\")","v":""}]
[null,null,null,null,null,null,null,null,null,null,null,null,null,null,{"$f":"IF(83<=$B$10,IF(LEN('１学期'!AQ7)=0,\"\",IF('１学期'!AQ7=$B$8,IF(LEN('１学期'!AT7)=0,\"\",'１学期'!AT7),\"\")),\"\")","v":""},{"$f":"IF(LEN(O83)=0,\"\",IF(COUNTIF($O$2:$O$1921,O83+1)>0,\"\",IF(COUNTIF($O$2:O83,O83)>1,\"\",O83+1)))","v":""},{"$f":"IFERROR(SMALL($P$1:$P$1921,82),\"\")","v":""}]
[null,null,null,null,null,null,null,null,null,null,null,null,null,null,{"$f":"IF(84<=$B$10,IF(LEN('１学期'!AQ10)=0,\"\",IF('１学期'!AQ10=$B$8,IF(LEN('１学期'!AT10)=0,\"\",'１学期'!AT10),\"\")),\"\")","v":""},{"$f":"IF(LEN(O84)=0,\"\",IF(COUNTIF($O$2:$O$1921,O84+1)>0,\"\",IF(COUNTIF($O$2:O84,O84)>1,\"\",O84+1)))","v":""},{"$f":"IFERROR(SMALL($P$1:$P$1921,83),\"\")","v":""}]
[null,null,null,null,null,null,null,null,null,null,null,null,null,null,{"$f":"IF(85<=$B$10,IF(LEN('１学期'!AQ13)=0,\"\",IF('１学期'!AQ13=$B$8,IF(LEN('１学期'!AT13)=0,\"\",'１学期'!AT13),\"\")),\"\")","v":""},{"$f":"IF(LEN(O85)=0,\"\",IF(COUNTIF($O$2:$O$1921,O85+1)>0,\"\",IF(COUNTIF($O$2:O85,O85)>1,\"\",O85+1)))","v":""},{"$f":"IFERROR(SMALL($P$1:$P$1921,84),\"\")","v":""}]
[null,null,null,null,null,null,null,null,null,null,null,null,null,null,{"$f":"IF(86<=$B$10,IF(LEN('１学期'!AQ16)=0,\"\",IF('１学期'!AQ16=$B$8,IF(LEN('１学期'!AT16)=0,\"\",'１学期'!AT16),\"\")),\"\")","v":""},{"$f":"IF(LEN(O86)=0,\"\",IF(COUNTIF($O$2:$O$1921,O86+1)>0,\"\",IF(COUNTIF($O$2:O86,O86)>1,\"\",O86+1)))","v":""},{"$f":"IFERROR(SMALL($P$1:$P$1921,85),\"\")","v":""}]
[null,null,null,null,null,null,null,null,null,null,null,null,null,null,{"$f":"IF(87<=$B$10,IF(LEN('１学期'!AQ19)=0,\"\",IF('１学期'!AQ19=$B$8,IF(LEN('１学期'!AT19)=0,\"\",'１学期'!AT19),\"\")),\"\")","v":""},{"$f":"IF(LEN(O87)=0,\"\",IF(COUNTIF($O$2:$O$1921,O87+1)>0,\"\",IF(COUNTIF($O$2:O87,O87)>1,\"\",O87+1)))","v":""},{"$f":"IFERROR(SMALL($P$1:$P$1921,86),\"\")","v":""}]
[null,null,null,null,null,null,null,null,null,null,null,null,null,null,{"$f":"IF(88<=$B$10,IF(LEN('１学期'!AQ22)=0,\"\",IF('１学期'!AQ22=$B$8,IF(LEN('１学期'!AT22)=0,\"\",'１学期'!AT22),\"\")),\"\")","v":""},{"$f":"IF(LEN(O88)=0,\"\",IF(COUNTIF($O$2:$O$1921,O88+1)>0,\"\",IF(COUNTIF($O$2:O88,O88)>1,\"\",O88+1)))","v":""},{"$f":"IFERROR(SMALL($P$1:$P$1921,87),\"\")","v":""}]
[null,null,null,null,null,null,null,null,null,null,null,null,null,null,{"$f":"IF(89<=$B$10,IF(LEN('１学期'!AQ25)=0,\"\",IF('１学期'!AQ25=$B$8,IF(LEN('１学期'!AT25)=0,\"\",'１学期'!AT25),\"\")),\"\")","v":""},{"$f":"IF(LEN(O89)=0,\"\",IF(COUNTIF($O$2:$O$1921,O89+1)>0,\"\",IF(COUNTIF($O$2:O89,O89)>1,\"\",O89+1)))","v":""},{"$f":"IFERROR(SMALL($P$1:$P$1921,88),\"\")","v":""}]
[null,null,null,null,null,null,null,null,null,null,null,null,null,null,{"$f":"IF(90<=$B$10,IF(LEN('１学期'!AU6)=0,\"\",IF('１学期'!AU6=$B$8,IF(LEN('１学期'!AX6)=0,\"\",'１学期'!AX6),\"\")),\"\")","v":""},{"$f":"IF(LEN(O90)=0,\"\",IF(COUNTIF($O$2:$O$1921,O90+1)>0,\"\",IF(COUNTIF($O$2:O90,O90)>1,\"\",O90+1)))","v":""},{"$f":"IFERROR(SMALL($P$1:$P$1921,89),\"\")","v":""}]
[null,null,null,null,null,null,null,null,null,null,null,null,null,null,{"$f":"IF(91<=$B$10,IF(LEN('１学期'!AU7)=0,\"\",IF('１学期'!AU7=$B$8,IF(LEN('１学期'!AX7)=0,\"\",'１学期'!AX7),\"\")),\"\")","v":""},{"$f":"IF(LEN(O91)=0,\"\",IF(COUNTIF($O$2:$O$1921,O91+1)>0,\"\",IF(COUNTIF($O$2:O91,O91)>1,\"\",O91+1)))","v":""},{"$f":"IFERROR(SMALL($P$1:$P$1921,90),\"\")","v":""}]
[null,null,null,null,null,null,null,null,null,null,null,null,null,null,{"$f":"IF(92<=$B$10,IF(LEN('１学期'!AU10)=0,\"\",IF('１学期'!AU10=$B$8,IF(LEN('１学期'!AX10)=0,\"\",'１学期'!AX10),\"\")),\"\")","v":""},{"$f":"IF(LEN(O92)=0,\"\",IF(COUNTIF($O$2:$O$1921,O92+1)>0,\"\",IF(COUNTIF($O$2:O92,O92)>1,\"\",O92+1)))","v":""},{"$f":"IFERROR(SMALL($P$1:$P$1921,91),\"\")","v":""}]
[null,null,null,null,null,null,null,null,null,null,null,null,null,null,{"$f":"IF(93<=$B$10,IF(LEN('１学期'!AU13)=0,\"\",IF('１学期'!AU13=$B$8,IF(LEN('１学期'!AX13)=0,\"\",'１学期'!AX13),\"\")),\"\")","v":""},{"$f":"IF(LEN(O93)=0,\"\",IF(COUNTIF($O$2:$O$1921,O93+1)>0,\"\",IF(COUNTIF($O$2:O93,O93)>1,\"\",O93+1)))","v":""},{"$f":"IFERROR(SMALL($P$1:$P$1921,92),\"\")","v":""}]
[null,null,null,null,null,null,null,null,null,null,null,null,null,null,{"$f":"IF(94<=$B$10,IF(LEN('１学期'!AU16)=0,\"\",IF('１学期'!AU16=$B$8,IF(LEN('１学期'!AX16)=0,\"\",'１学期'!AX16),\"\")),\"\")","v":""},{"$f":"IF(LEN(O94)=0,\"\",IF(COUNTIF($O$2:$O$1921,O94+1)>0,\"\",IF(COUNTIF($O$2:O94,O94)>1,\"\",O94+1)))","v":""},{"$f":"IFERROR(SMALL($P$1:$P$1921,93),\"\")","v":""}]
[null,null,null,null,null,null,null,null,null,null,null,null,null,null,{"$f":"IF(95<=$B$10,IF(LEN('１学期'!AU19)=0,\"\",IF('１学期'!AU19=$B$8,IF(LEN('１学期'!AX19)=0,\"\",'１学期'!AX19),\"\")),\"\")","v":""},{"$f":"IF(LEN(O95)=0,\"\",IF(COUNTIF($O$2:$O$1921,O95+1)>0,\"\",IF(COUNTIF($O$2:O95,O95)>1,\"\",O95+1)))","v":""},{"$f":"IFERROR(SMALL($P$1:$P$1921,94),\"\")","v":""}]
[null,null,null,null,null,null,null,null,null,null,null,null,null,null,{"$f":"IF(96<=$B$10,IF(LEN('１学期'!AU22)=0,\"\",IF('１学期'!AU22=$B$8,IF(LEN('１学期'!AX22)=0,\"\",'１学期'!AX22),\"\")),\"\")","v":""},{"$f":"IF(LEN(O96)=0,\"\",IF(COUNTIF($O$2:$O$1921,O96+1)>0,\"\",IF(COUNTIF($O$2:O96,O96)>1,\"\",O96+1)))","v":""},{"$f":"IFERROR(SMALL($P$1:$P$1921,95),\"\")","v":""}]
[null,null,null,null,null,null,null,null,null,null,null,null,null,null,{"$f":"IF(97<=$B$10,IF(LEN('１学期'!AU25)=0,\"\",IF('１学期'!AU25=$B$8,IF(LEN('１学期'!AX25)=0,\"\",'１学期'!AX25),\"\")),\"\")","v":""},{"$f":"IF(LEN(O97)=0,\"\",IF(COUNTIF($O$2:$O$1921,O97+1)>0,\"\",IF(COUNTIF($O$2:O97,O97)>1,\"\",O97+1)))","v":""},{"$f":"IFERROR(SMALL($P$1:$P$1921,96),\"\")","v":""}]
[null,null,null,null,null,null,null,null,null,null,null,null,null,null,{"$f":"IF(98<=$B$10,IF(LEN('１学期'!AY6)=0,\"\",IF('１学期'!AY6=$B$8,IF(LEN('１学期'!BB6)=0,\"\",'１学期'!BB6),\"\")),\"\")","v":""},{"$f":"IF(LEN(O98)=0,\"\",IF(COUNTIF($O$2:$O$1921,O98+1)>0,\"\",IF(COUNTIF($O$2:O98,O98)>1,\"\",O98+1)))","v":""},{"$f":"IFERROR(SMALL($P$1:$P$1921,97),\"\")","v":""}]
[null,null,null,null,null,null,null,null,null,null,null,null,null,null,{"$f":"IF(99<=$B$10,IF(LEN('１学期'!AY7)=0,\"\",IF('１学期'!AY7=$B$8,IF(LEN('１学期'!BB7)=0,\"\",'１学期'!BB7),\"\")),\"\")","v":""},{"$f":"IF(LEN(O99)=0,\"\",IF(COUNTIF($O$2:$O$1921,O99+1)>0,\"\",IF(COUNTIF($O$2:O99,O99)>1,\"\",O99+1)))","v":""},{"$f":"IFERROR(SMALL($P$1:$P$1921,98),\"\")","v":""}]
[null,null,null,null,null,null,null,null,null,null,null,null,null,null,{"$f":"IF(100<=$B$10,IF(LEN('１学期'!AY10)=0,\"\",IF('１学期'!AY10=$B$8,IF(LEN('１学期'!BB10)=0,\"\",'１学期'!BB10),\"\")),\"\")","v":""},{"$f":"IF(LEN(O100)=0,\"\",IF(COUNTIF($O$2:$O$1921,O100+1)>0,\"\",IF(COUNTIF($O$2:O100,O100)>1,\"\",O100+1)))","v":""},{"$f":"IFERROR(SMALL($P$1:$P$1921,99),\"\")","v":""}]
[null,null,null,null,null,null,null,null,null,null,null,null,null,null,{"$f":"IF(101<=$B$10,IF(LEN('１学期'!AY13)=0,\"\",IF('１学期'!AY13=$B$8,IF(LEN('１学期'!BB13)=0,\"\",'１学期'!BB13),\"\")),\"\")","v":""},{"$f":"IF(LEN(O101)=0,\"\",IF(COUNTIF($O$2:$O$1921,O101+1)>0,\"\",IF(COUNTIF($O$2:O101,O101)>1,\"\",O101+1)))","v":""},{"$f":"IFERROR(SMALL($P$1:$P$1921,100),\"\")","v":""}]
[null,null,null,null,null,null,null,null,null,null,null,null,null,null,{"$f":"IF(102<=$B$10,IF(LEN('１学期'!AY16)=0,\"\",IF('１学期'!AY16=$B$8,IF(LEN('１学期'!BB16)=0,\"\",'１学期'!BB16),\"\")),\"\")","v":""},{"$f":"IF(LEN(O102)=0,\"\",IF(COUNTIF($O$2:$O$1921,O102+1)>0,\"\",IF(COUNTIF($O$2:O102,O102)>1,\"\",O102+1)))","v":""},{"$f":"IFERROR(SMALL($P$1:$P$1921,101),\"\")","v":""}]
[null,null,null,null,null,null,null,null,null,null,null,null,null,null,{"$f":"IF(103<=$B$10,IF(LEN('１学期'!AY19)=0,\"\",IF('１学期'!AY19=$B$8,IF(LEN('１学期'!BB19)=0,\"\",'１学期'!BB19),\"\")),\"\")","v":""},{"$f":"IF(LEN(O103)=0,\"\",IF(COUNTIF($O$2:$O$1921,O103+1)>0,\"\",IF(COUNTIF($O$2:O103,O103)>1,\"\",O103+1)))","v":""},{"$f":"IFERROR(SMALL($P$1:$P$1921,102),\"\")","v":""}]
[null,null,null,null,null,null,null,null,null,null,null,null,null,null,{"$f":"IF(104<=$B$10,IF(LEN('１学期'!AY22)=0,\"\",IF('１学期'!AY22=$B$8,IF(LEN('１学期'!BB22)=0,\"\",'１学期'!BB22),\"\")),\"\")","v":""},{"$f":"IF(LEN(O104)=0,\"\",IF(COUNTIF($O$2:$O$1921,O104+1)>0,\"\",IF(COUNTIF($O$2:O104,O104)>1,\"\",O104+1)))","v":""},{"$f":"IFERROR(SMALL($P$1:$P$1921,103),\"\")","v":""}]
[null,null,null,null,null,null,null,null,null,null,null,null,null,null,{"$f":"IF(105<=$B$10,IF(LEN('１学期'!AY25)=0,\"\",IF('１学期'!AY25=$B$8,IF(LEN('１学期'!BB25)=0,\"\",'１学期'!BB25),\"\")),\"\")","v":""},{"$f":"IF(LEN(O105)=0,\"\",IF(COUNTIF($O$2:$O$1921,O105+1)>0,\"\",IF(COUNTIF($O$2:O105,O105)>1,\"\",O105+1)))","v":""},{"$f":"IFERROR(SMALL($P$1:$P$1921,104),\"\")","v":""}]
[null,null,null,null,null,null,null,null,null,null,null,null,null,null,{"$f":"IF(106<=$B$10,IF(LEN('１学期'!BC6)=0,\"\",IF('１学期'!BC6=$B$8,IF(LEN('１学期'!BF6)=0,\"\",'１学期'!BF6),\"\")),\"\")","v":""},{"$f":"IF(LEN(O106)=0,\"\",IF(COUNTIF($O$2:$O$1921,O106+1)>0,\"\",IF(COUNTIF($O$2:O106,O106)>1,\"\",O106+1)))","v":""},{"$f":"IFERROR(SMALL($P$1:$P$1921,105),\"\")","v":""}]
[null,null,null,null,null,null,null,null,null,null,null,null,null,null,{"$f":"IF(107<=$B$10,IF(LEN('１学期'!BC7)=0,\"\",IF('１学期'!BC7=$B$8,IF(LEN('１学期'!BF7)=0,\"\",'１学期'!BF7),\"\")),\"\")","v":""},{"$f":"IF(LEN(O107)=0,\"\",IF(COUNTIF($O$2:$O$1921,O107+1)>0,\"\",IF(COUNTIF($O$2:O107,O107)>1,\"\",O107+1)))","v":""},{"$f":"IFERROR(SMALL($P$1:$P$1921,106),\"\")","v":""}]
[null,null,null,null,null,null,null,null,null,null,null,null,null,null,{"$f":"IF(108<=$B$10,IF(LEN('１学期'!BC10)=0,\"\",IF('１学期'!BC10=$B$8,IF(LEN('１学期'!BF10)=0,\"\",'１学期'!BF10),\"\")),\"\")","v":""},{"$f":"IF(LEN(O108)=0,\"\",IF(COUNTIF($O$2:$O$1921,O108+1)>0,\"\",IF(COUNTIF($O$2:O108,O108)>1,\"\",O108+1)))","v":""},{"$f":"IFERROR(SMALL($P$1:$P$1921,107),\"\")","v":""}]
[null,null,null,null,null,null,null,null,null,null,null,null,null,null,{"$f":"IF(109<=$B$10,IF(LEN('１学期'!BC13)=0,\"\",IF('１学期'!BC13=$B$8,IF(LEN('１学期'!BF13)=0,\"\",'１学期'!BF13),\"\")),\"\")","v":""},{"$f":"IF(LEN(O109)=0,\"\",IF(COUNTIF($O$2:$O$1921,O109+1)>0,\"\",IF(COUNTIF($O$2:O109,O109)>1,\"\",O109+1)))","v":""},{"$f":"IFERROR(SMALL($P$1:$P$1921,108),\"\")","v":""}]
[null,null,null,null,null,null,null,null,null,null,null,null,null,null,{"$f":"IF(110<=$B$10,IF(LEN('１学期'!BC16)=0,\"\",IF('１学期'!BC16=$B$8,IF(LEN('１学期'!BF16)=0,\"\",'１学期'!BF16),\"\")),\"\")","v":""},{"$f":"IF(LEN(O110)=0,\"\",IF(COUNTIF($O$2:$O$1921,O110+1)>0,\"\",IF(COUNTIF($O$2:O110,O110)>1,\"\",O110+1)))","v":""},{"$f":"IFERROR(SMALL($P$1:$P$1921,109),\"\")","v":""}]
[null,null,null,null,null,null,null,null,null,null,null,null,null,null,{"$f":"IF(111<=$B$10,IF(LEN('１学期'!BC19)=0,\"\",IF('１学期'!BC19=$B$8,IF(LEN('１学期'!BF19)=0,\"\",'１学期'!BF19),\"\")),\"\")","v":""},{"$f":"IF(LEN(O111)=0,\"\",IF(COUNTIF($O$2:$O$1921,O111+1)>0,\"\",IF(COUNTIF($O$2:O111,O111)>1,\"\",O111+1)))","v":""},{"$f":"IFERROR(SMALL($P$1:$P$1921,110),\"\")","v":""}]
[null,null,null,null,null,null,null,null,null,null,null,null,null,null,{"$f":"IF(112<=$B$10,IF(LEN('１学期'!BC22)=0,\"\",IF('１学期'!BC22=$B$8,IF(LEN('１学期'!BF22)=0,\"\",'１学期'!BF22),\"\")),\"\")","v":""},{"$f":"IF(LEN(O112)=0,\"\",IF(COUNTIF($O$2:$O$1921,O112+1)>0,\"\",IF(COUNTIF($O$2:O112,O112)>1,\"\",O112+1)))","v":""},{"$f":"IFERROR(SMALL($P$1:$P$1921,111),\"\")","v":""}]
[null,null,null,null,null,null,null,null,null,null,null,null,null,null,{"$f":"IF(113<=$B$10,IF(LEN('１学期'!BC25)=0,\"\",IF('１学期'!BC25=$B$8,IF(LEN('１学期'!BF25)=0,\"\",'１学期'!BF25),\"\")),\"\")","v":""},{"$f":"IF(LEN(O113)=0,\"\",IF(COUNTIF($O$2:$O$1921,O113+1)>0,\"\",IF(COUNTIF($O$2:O113,O113)>1,\"\",O113+1)))","v":""},{"$f":"IFERROR(SMALL($P$1:$P$1921,112),\"\")","v":""}]
[null,null,null,null,null,null,null,null,null,null,null,null,null,null,{"$f":"IF(114<=$B$10,IF(LEN('１学期'!BG6)=0,\"\",IF('１学期'!BG6=$B$8,IF(LEN('１学期'!BJ6)=0,\"\",'１学期'!BJ6),\"\")),\"\")","v":""},{"$f":"IF(LEN(O114)=0,\"\",IF(COUNTIF($O$2:$O$1921,O114+1)>0,\"\",IF(COUNTIF($O$2:O114,O114)>1,\"\",O114+1)))","v":""},{"$f":"IFERROR(SMALL($P$1:$P$1921,113),\"\")","v":""}]
[null,null,null,null,null,null,null,null,null,null,null,null,null,null,{"$f":"IF(115<=$B$10,IF(LEN('１学期'!BG7)=0,\"\",IF('１学期'!BG7=$B$8,IF(LEN('１学期'!BJ7)=0,\"\",'１学期'!BJ7),\"\")),\"\")","v":""},{"$f":"IF(LEN(O115)=0,\"\",IF(COUNTIF($O$2:$O$1921,O115+1)>0,\"\",IF(COUNTIF($O$2:O115,O115)>1,\"\",O115+1)))","v":""},{"$f":"IFERROR(SMALL($P$1:$P$1921,114),\"\")","v":""}]
[null,null,null,null,null,null,null,null,null,null,null,null,null,null,{"$f":"IF(116<=$B$10,IF(LEN('１学期'!BG10)=0,\"\",IF('１学期'!BG10=$B$8,IF(LEN('１学期'!BJ10)=0,\"\",'１学期'!BJ10),\"\")),\"\")","v":""},{"$f":"IF(LEN(O116)=0,\"\",IF(COUNTIF($O$2:$O$1921,O116+1)>0,\"\",IF(COUNTIF($O$2:O116,O116)>1,\"\",O116+1)))","v":""},{"$f":"IFERROR(SMALL($P$1:$P$1921,115),\"\")","v":""}]
[null,null,null,null,null,null,null,null,null,null,null,null,null,null,{"$f":"IF(117<=$B$10,IF(LEN('１学期'!BG13)=0,\"\",IF('１学期'!BG13=$B$8,IF(LEN('１学期'!BJ13)=0,\"\",'１学期'!BJ13),\"\")),\"\")","v":""},{"$f":"IF(LEN(O117)=0,\"\",IF(COUNTIF($O$2:$O$1921,O117+1)>0,\"\",IF(COUNTIF($O$2:O117,O117)>1,\"\",O117+1)))","v":""},{"$f":"IFERROR(SMALL($P$1:$P$1921,116),\"\")","v":""}]
[null,null,null,null,null,null,null,null,null,null,null,null,null,null,{"$f":"IF(118<=$B$10,IF(LEN('１学期'!BG16)=0,\"\",IF('１学期'!BG16=$B$8,IF(LEN('１学期'!BJ16)=0,\"\",'１学期'!BJ16),\"\")),\"\")","v":""},{"$f":"IF(LEN(O118)=0,\"\",IF(COUNTIF($O$2:$O$1921,O118+1)>0,\"\",IF(COUNTIF($O$2:O118,O118)>1,\"\",O118+1)))","v":""},{"$f":"IFERROR(SMALL($P$1:$P$1921,117),\"\")","v":""}]
[null,null,null,null,null,null,null,null,null,null,null,null,null,null,{"$f":"IF(119<=$B$10,IF(LEN('１学期'!BG19)=0,\"\",IF('１学期'!BG19=$B$8,IF(LEN('１学期'!BJ19)=0,\"\",'１学期'!BJ19),\"\")),\"\")","v":""},{"$f":"IF(LEN(O119)=0,\"\",IF(COUNTIF($O$2:$O$1921,O119+1)>0,\"\",IF(COUNTIF($O$2:O119,O119)>1,\"\",O119+1)))","v":""},{"$f":"IFERROR(SMALL($P$1:$P$1921,118),\"\")","v":""}]
[null,null,null,null,null,null,null,null,null,null,null,null,null,null,{"$f":"IF(120<=$B$10,IF(LEN('１学期'!BG22)=0,\"\",IF('１学期'!BG22=$B$8,IF(LEN('１学期'!BJ22)=0,\"\",'１学期'!BJ22),\"\")),\"\")","v":""},{"$f":"IF(LEN(O120)=0,\"\",IF(COUNTIF($O$2:$O$1921,O120+1)>0,\"\",IF(COUNTIF($O$2:O120,O120)>1,\"\",O120+1)))","v":""},{"$f":"IFERROR(SMALL($P$1:$P$1921,119),\"\")","v":""}]
[null,null,null,null,null,null,null,null,null,null,null,null,null,null,{"$f":"IF(121<=$B$10,IF(LEN('１学期'!BG25)=0,\"\",IF('１学期'!BG25=$B$8,IF(LEN('１学期'!BJ25)=0,\"\",'１学期'!BJ25),\"\")),\"\")","v":""},{"$f":"IF(LEN(O121)=0,\"\",IF(COUNTIF($O$2:$O$1921,O121+1)>0,\"\",IF(COUNTIF($O$2:O121,O121)>1,\"\",O121+1)))","v":""},{"$f":"IFERROR(SMALL($P$1:$P$1921,120),\"\")","v":""}]
[null,null,null,null,null,null,null,null,null,null,null,null,null,null,{"$f":"IF(122<=$B$10,IF(LEN('１学期'!BK6)=0,\"\",IF('１学期'!BK6=$B$8,IF(LEN('１学期'!BN6)=0,\"\",'１学期'!BN6),\"\")),\"\")","v":""},{"$f":"IF(LEN(O122)=0,\"\",IF(COUNTIF($O$2:$O$1921,O122+1)>0,\"\",IF(COUNTIF($O$2:O122,O122)>1,\"\",O122+1)))","v":""},{"$f":"IFERROR(SMALL($P$1:$P$1921,121),\"\")","v":""}]
[null,null,null,null,null,null,null,null,null,null,null,null,null,null,{"$f":"IF(123<=$B$10,IF(LEN('１学期'!BK7)=0,\"\",IF('１学期'!BK7=$B$8,IF(LEN('１学期'!BN7)=0,\"\",'１学期'!BN7),\"\")),\"\")","v":""},{"$f":"IF(LEN(O123)=0,\"\",IF(COUNTIF($O$2:$O$1921,O123+1)>0,\"\",IF(COUNTIF($O$2:O123,O123)>1,\"\",O123+1)))","v":""},{"$f":"IFERROR(SMALL($P$1:$P$1921,122),\"\")","v":""}]
[null,null,null,null,null,null,null,null,null,null,null,null,null,null,{"$f":"IF(124<=$B$10,IF(LEN('１学期'!BK10)=0,\"\",IF('１学期'!BK10=$B$8,IF(LEN('１学期'!BN10)=0,\"\",'１学期'!BN10),\"\")),\"\")","v":""},{"$f":"IF(LEN(O124)=0,\"\",IF(COUNTIF($O$2:$O$1921,O124+1)>0,\"\",IF(COUNTIF($O$2:O124,O124)>1,\"\",O124+1)))","v":""},{"$f":"IFERROR(SMALL($P$1:$P$1921,123),\"\")","v":""}]
[null,null,null,null,null,null,null,null,null,null,null,null,null,null,{"$f":"IF(125<=$B$10,IF(LEN('１学期'!BK13)=0,\"\",IF('１学期'!BK13=$B$8,IF(LEN('１学期'!BN13)=0,\"\",'１学期'!BN13),\"\")),\"\")","v":""},{"$f":"IF(LEN(O125)=0,\"\",IF(COUNTIF($O$2:$O$1921,O125+1)>0,\"\",IF(COUNTIF($O$2:O125,O125)>1,\"\",O125+1)))","v":""},{"$f":"IFERROR(SMALL($P$1:$P$1921,124),\"\")","v":""}]
[null,null,null,null,null,null,null,null,null,null,null,null,null,null,{"$f":"IF(126<=$B$10,IF(LEN('１学期'!BK16)=0,\"\",IF('１学期'!BK16=$B$8,IF(LEN('１学期'!BN16)=0,\"\",'１学期'!BN16),\"\")),\"\")","v":""},{"$f":"IF(LEN(O126)=0,\"\",IF(COUNTIF($O$2:$O$1921,O126+1)>0,\"\",IF(COUNTIF($O$2:O126,O126)>1,\"\",O126+1)))","v":""},{"$f":"IFERROR(SMALL($P$1:$P$1921,125),\"\")","v":""}]
[null,null,null,null,null,null,null,null,null,null,null,null,null,null,{"$f":"IF(127<=$B$10,IF(LEN('１学期'!BK19)=0,\"\",IF('１学期'!BK19=$B$8,IF(LEN('１学期'!BN19)=0,\"\",'１学期'!BN19),\"\")),\"\")","v":""},{"$f":"IF(LEN(O127)=0,\"\",IF(COUNTIF($O$2:$O$1921,O127+1)>0,\"\",IF(COUNTIF($O$2:O127,O127)>1,\"\",O127+1)))","v":""},{"$f":"IFERROR(SMALL($P$1:$P$1921,126),\"\")","v":""}]
[null,null,null,null,null,null,null,null,null,null,null,null,null,null,{"$f":"IF(128<=$B$10,IF(LEN('１学期'!BK22)=0,\"\",IF('１学期'!BK22=$B$8,IF(LEN('１学期'!BN22)=0,\"\",'１学期'!BN22),\"\")),\"\")","v":""},{"$f":"IF(LEN(O128)=0,\"\",IF(COUNTIF($O$2:$O$1921,O128+1)>0,\"\",IF(COUNTIF($O$2:O128,O128)>1,\"\",O128+1)))","v":""},{"$f":"IFERROR(SMALL($P$1:$P$1921,127),\"\")","v":""}]
[null,null,null,null,null,null,null,null,null,null,null,null,null,null,{"$f":"IF(129<=$B$10,IF(LEN('１学期'!BK25)=0,\"\",IF('１学期'!BK25=$B$8,IF(LEN('１学期'!BN25)=0,\"\",'１学期'!BN25),\"\")),\"\")","v":""},{"$f":"IF(LEN(O129)=0,\"\",IF(COUNTIF($O$2:$O$1921,O129+1)>0,\"\",IF(COUNTIF($O$2:O129,O129)>1,\"\",O129+1)))","v":""},{"$f":"IFERROR(SMALL($P$1:$P$1921,128),\"\")","v":""}]
[null,null,null,null,null,null,null,null,null,null,null,null,null,null,{"$f":"IF(130<=$B$10,IF(LEN('１学期'!BO6)=0,\"\",IF('１学期'!BO6=$B$8,IF(LEN('１学期'!BR6)=0,\"\",'１学期'!BR6),\"\")),\"\")","v":""},{"$f":"IF(LEN(O130)=0,\"\",IF(COUNTIF($O$2:$O$1921,O130+1)>0,\"\",IF(COUNTIF($O$2:O130,O130)>1,\"\",O130+1)))","v":""},{"$f":"IFERROR(SMALL($P$1:$P$1921,129),\"\")","v":""}]
[null,null,null,null,null,null,null,null,null,null,null,null,null,null,{"$f":"IF(131<=$B$10,IF(LEN('１学期'!BO7)=0,\"\",IF('１学期'!BO7=$B$8,IF(LEN('１学期'!BR7)=0,\"\",'１学期'!BR7),\"\")),\"\")","v":""},{"$f":"IF(LEN(O131)=0,\"\",IF(COUNTIF($O$2:$O$1921,O131+1)>0,\"\",IF(COUNTIF($O$2:O131,O131)>1,\"\",O131+1)))","v":""},{"$f":"IFERROR(SMALL($P$1:$P$1921,130),\"\")","v":""}]
[null,null,null,null,null,null,null,null,null,null,null,null,null,null,{"$f":"IF(132<=$B$10,IF(LEN('１学期'!BO10)=0,\"\",IF('１学期'!BO10=$B$8,IF(LEN('１学期'!BR10)=0,\"\",'１学期'!BR10),\"\")),\"\")","v":""},{"$f":"IF(LEN(O132)=0,\"\",IF(COUNTIF($O$2:$O$1921,O132+1)>0,\"\",IF(COUNTIF($O$2:O132,O132)>1,\"\",O132+1)))","v":""},{"$f":"IFERROR(SMALL($P$1:$P$1921,131),\"\")","v":""}]
[null,null,null,null,null,null,null,null,null,null,null,null,null,null,{"$f":"IF(133<=$B$10,IF(LEN('１学期'!BO13)=0,\"\",IF('１学期'!BO13=$B$8,IF(LEN('１学期'!BR13)=0,\"\",'１学期'!BR13),\"\")),\"\")","v":""},{"$f":"IF(LEN(O133)=0,\"\",IF(COUNTIF($O$2:$O$1921,O133+1)>0,\"\",IF(COUNTIF($O$2:O133,O133)>1,\"\",O133+1)))","v":""},{"$f":"IFERROR(SMALL($P$1:$P$1921,132),\"\")","v":""}]
[null,null,null,null,null,null,null,null,null,null,null,null,null,null,{"$f":"IF(134<=$B$10,IF(LEN('１学期'!BO16)=0,\"\",IF('１学期'!BO16=$B$8,IF(LEN('１学期'!BR16)=0,\"\",'１学期'!BR16),\"\")),\"\")","v":""},{"$f":"IF(LEN(O134)=0,\"\",IF(COUNTIF($O$2:$O$1921,O134+1)>0,\"\",IF(COUNTIF($O$2:O134,O134)>1,\"\",O134+1)))","v":""},{"$f":"IFERROR(SMALL($P$1:$P$1921,133),\"\")","v":""}]
[null,null,null,null,null,null,null,null,null,null,null,null,null,null,{"$f":"IF(135<=$B$10,IF(LEN('１学期'!BO19)=0,\"\",IF('１学期'!BO19=$B$8,IF(LEN('１学期'!BR19)=0,\"\",'１学期'!BR19),\"\")),\"\")","v":""},{"$f":"IF(LEN(O135)=0,\"\",IF(COUNTIF($O$2:$O$1921,O135+1)>0,\"\",IF(COUNTIF($O$2:O135,O135)>1,\"\",O135+1)))","v":""},{"$f":"IFERROR(SMALL($P$1:$P$1921,134),\"\")","v":""}]
[null,null,null,null,null,null,null,null,null,null,null,null,null,null,{"$f":"IF(136<=$B$10,IF(LEN('１学期'!BO22)=0,\"\",IF('１学期'!BO22=$B$8,IF(LEN('１学期'!BR22)=0,\"\",'１学期'!BR22),\"\")),\"\")","v":""},{"$f":"IF(LEN(O136)=0,\"\",IF(COUNTIF($O$2:$O$1921,O136+1)>0,\"\",IF(COUNTIF($O$2:O136,O136)>1,\"\",O136+1)))","v":""},{"$f":"IFERROR(SMALL($P$1:$P$1921,135),\"\")","v":""}]
[null,null,null,null,null,null,null,null,null,null,null,null,null,null,{"$f":"IF(137<=$B$10,IF(LEN('１学期'!BO25)=0,\"\",IF('１学期'!BO25=$B$8,IF(LEN('１学期'!BR25)=0,\"\",'１学期'!BR25),\"\")),\"\")","v":""},{"$f":"IF(LEN(O137)=0,\"\",IF(COUNTIF($O$2:$O$1921,O137+1)>0,\"\",IF(COUNTIF($O$2:O137,O137)>1,\"\",O137+1)))","v":""},{"$f":"IFERROR(SMALL($P$1:$P$1921,136),\"\")","v":""}]
[null,null,null,null,null,null,null,null,null,null,null,null,null,null,{"$f":"IF(138<=$B$10,IF(LEN('１学期'!BS6)=0,\"\",IF('１学期'!BS6=$B$8,IF(LEN('１学期'!BV6)=0,\"\",'１学期'!BV6),\"\")),\"\")","v":""},{"$f":"IF(LEN(O138)=0,\"\",IF(COUNTIF($O$2:$O$1921,O138+1)>0,\"\",IF(COUNTIF($O$2:O138,O138)>1,\"\",O138+1)))","v":""},{"$f":"IFERROR(SMALL($P$1:$P$1921,137),\"\")","v":""}]
[null,null,null,null,null,null,null,null,null,null,null,null,null,null,{"$f":"IF(139<=$B$10,IF(LEN('１学期'!BS7)=0,\"\",IF('１学期'!BS7=$B$8,IF(LEN('１学期'!BV7)=0,\"\",'１学期'!BV7),\"\")),\"\")","v":""},{"$f":"IF(LEN(O139)=0,\"\",IF(COUNTIF($O$2:$O$1921,O139+1)>0,\"\",IF(COUNTIF($O$2:O139,O139)>1,\"\",O139+1)))","v":""},{"$f":"IFERROR(SMALL($P$1:$P$1921,138),\"\")","v":""}]
[null,null,null,null,null,null,null,null,null,null,null,null,null,null,{"$f":"IF(140<=$B$10,IF(LEN('１学期'!BS10)=0,\"\",IF('１学期'!BS10=$B$8,IF(LEN('１学期'!BV10)=0,\"\",'１学期'!BV10),\"\")),\"\")","v":""},{"$f":"IF(LEN(O140)=0,\"\",IF(COUNTIF($O$2:$O$1921,O140+1)>0,\"\",IF(COUNTIF($O$2:O140,O140)>1,\"\",O140+1)))","v":""},{"$f":"IFERROR(SMALL($P$1:$P$1921,139),\"\")","v":""}]
[null,null,null,null,null,null,null,null,null,null,null,null,null,null,{"$f":"IF(141<=$B$10,IF(LEN('１学期'!BS13)=0,\"\",IF('１学期'!BS13=$B$8,IF(LEN('１学期'!BV13)=0,\"\",'１学期'!BV13),\"\")),\"\")","v":""},{"$f":"IF(LEN(O141)=0,\"\",IF(COUNTIF($O$2:$O$1921,O141+1)>0,\"\",IF(COUNTIF($O$2:O141,O141)>1,\"\",O141+1)))","v":""},{"$f":"IFERROR(SMALL($P$1:$P$1921,140),\"\")","v":""}]
[null,null,null,null,null,null,null,null,null,null,null,null,null,null,{"$f":"IF(142<=$B$10,IF(LEN('１学期'!BS16)=0,\"\",IF('１学期'!BS16=$B$8,IF(LEN('１学期'!BV16)=0,\"\",'１学期'!BV16),\"\")),\"\")","v":""},{"$f":"IF(LEN(O142)=0,\"\",IF(COUNTIF($O$2:$O$1921,O142+1)>0,\"\",IF(COUNTIF($O$2:O142,O142)>1,\"\",O142+1)))","v":""},{"$f":"IFERROR(SMALL($P$1:$P$1921,141),\"\")","v":""}]
[null,null,null,null,null,null,null,null,null,null,null,null,null,null,{"$f":"IF(143<=$B$10,IF(LEN('１学期'!BS19)=0,\"\",IF('１学期'!BS19=$B$8,IF(LEN('１学期'!BV19)=0,\"\",'１学期'!BV19),\"\")),\"\")","v":""},{"$f":"IF(LEN(O143)=0,\"\",IF(COUNTIF($O$2:$O$1921,O143+1)>0,\"\",IF(COUNTIF($O$2:O143,O143)>1,\"\",O143+1)))","v":""},{"$f":"IFERROR(SMALL($P$1:$P$1921,142),\"\")","v":""}]
[null,null,null,null,null,null,null,null,null,null,null,null,null,null,{"$f":"IF(144<=$B$10,IF(LEN('１学期'!BS22)=0,\"\",IF('１学期'!BS22=$B$8,IF(LEN('１学期'!BV22)=0,\"\",'１学期'!BV22),\"\")),\"\")","v":""},{"$f":"IF(LEN(O144)=0,\"\",IF(COUNTIF($O$2:$O$1921,O144+1)>0,\"\",IF(COUNTIF($O$2:O144,O144)>1,\"\",O144+1)))","v":""},{"$f":"IFERROR(SMALL($P$1:$P$1921,143),\"\")","v":""}]
[null,null,null,null,null,null,null,null,null,null,null,null,null,null,{"$f":"IF(145<=$B$10,IF(LEN('１学期'!BS25)=0,\"\",IF('１学期'!BS25=$B$8,IF(LEN('１学期'!BV25)=0,\"\",'１学期'!BV25),\"\")),\"\")","v":""},{"$f":"IF(LEN(O145)=0,\"\",IF(COUNTIF($O$2:$O$1921,O145+1)>0,\"\",IF(COUNTIF($O$2:O145,O145)>1,\"\",O145+1)))","v":""},{"$f":"IFERROR(SMALL($P$1:$P$1921,144),\"\")","v":""}]
[null,null,null,null,null,null,null,null,null,null,null,null,null,null,{"$f":"IF(146<=$B$10,IF(LEN('１学期'!BW6)=0,\"\",IF('１学期'!BW6=$B$8,IF(LEN('１学期'!BZ6)=0,\"\",'１学期'!BZ6),\"\")),\"\")","v":""},{"$f":"IF(LEN(O146)=0,\"\",IF(COUNTIF($O$2:$O$1921,O146+1)>0,\"\",IF(COUNTIF($O$2:O146,O146)>1,\"\",O146+1)))","v":""},{"$f":"IFERROR(SMALL($P$1:$P$1921,145),\"\")","v":""}]
[null,null,null,null,null,null,null,null,null,null,null,null,null,null,{"$f":"IF(147<=$B$10,IF(LEN('１学期'!BW7)=0,\"\",IF('１学期'!BW7=$B$8,IF(LEN('１学期'!BZ7)=0,\"\",'１学期'!BZ7),\"\")),\"\")","v":""},{"$f":"IF(LEN(O147)=0,\"\",IF(COUNTIF($O$2:$O$1921,O147+1)>0,\"\",IF(COUNTIF($O$2:O147,O147)>1,\"\",O147+1)))","v":""},{"$f":"IFERROR(SMALL($P$1:$P$1921,146),\"\")","v":""}]
[null,null,null,null,null,null,null,null,null,null,null,null,null,null,{"$f":"IF(148<=$B$10,IF(LEN('１学期'!BW10)=0,\"\",IF('１学期'!BW10=$B$8,IF(LEN('１学期'!BZ10)=0,\"\",'１学期'!BZ10),\"\")),\"\")","v":""},{"$f":"IF(LEN(O148)=0,\"\",IF(COUNTIF($O$2:$O$1921,O148+1)>0,\"\",IF(COUNTIF($O$2:O148,O148)>1,\"\",O148+1)))","v":""},{"$f":"IFERROR(SMALL($P$1:$P$1921,147),\"\")","v":""}]
[null,null,null,null,null,null,null,null,null,null,null,null,null,null,{"$f":"IF(149<=$B$10,IF(LEN('１学期'!BW13)=0,\"\",IF('１学期'!BW13=$B$8,IF(LEN('１学期'!BZ13)=0,\"\",'１学期'!BZ13),\"\")),\"\")","v":""},{"$f":"IF(LEN(O149)=0,\"\",IF(COUNTIF($O$2:$O$1921,O149+1)>0,\"\",IF(COUNTIF($O$2:O149,O149)>1,\"\",O149+1)))","v":""},{"$f":"IFERROR(SMALL($P$1:$P$1921,148),\"\")","v":""}]
[null,null,null,null,null,null,null,null,null,null,null,null,null,null,{"$f":"IF(150<=$B$10,IF(LEN('１学期'!BW16)=0,\"\",IF('１学期'!BW16=$B$8,IF(LEN('１学期'!BZ16)=0,\"\",'１学期'!BZ16),\"\")),\"\")","v":""},{"$f":"IF(LEN(O150)=0,\"\",IF(COUNTIF($O$2:$O$1921,O150+1)>0,\"\",IF(COUNTIF($O$2:O150,O150)>1,\"\",O150+1)))","v":""},{"$f":"IFERROR(SMALL($P$1:$P$1921,149),\"\")","v":""}]
[null,null,null,null,null,null,null,null,null,null,null,null,null,null,{"$f":"IF(151<=$B$10,IF(LEN('１学期'!BW19)=0,\"\",IF('１学期'!BW19=$B$8,IF(LEN('１学期'!BZ19)=0,\"\",'１学期'!BZ19),\"\")),\"\")","v":""},{"$f":"IF(LEN(O151)=0,\"\",IF(COUNTIF($O$2:$O$1921,O151+1)>0,\"\",IF(COUNTIF($O$2:O151,O151)>1,\"\",O151+1)))","v":""},{"$f":"IFERROR(SMALL($P$1:$P$1921,150),\"\")","v":""}]
[null,null,null,null,null,null,null,null,null,null,null,null,null,null,{"$f":"IF(152<=$B$10,IF(LEN('１学期'!BW22)=0,\"\",IF('１学期'!BW22=$B$8,IF(LEN('１学期'!BZ22)=0,\"\",'１学期'!BZ22),\"\")),\"\")","v":""},{"$f":"IF(LEN(O152)=0,\"\",IF(COUNTIF($O$2:$O$1921,O152+1)>0,\"\",IF(COUNTIF($O$2:O152,O152)>1,\"\",O152+1)))","v":""},{"$f":"IFERROR(SMALL($P$1:$P$1921,151),\"\")","v":""}]
[null,null,null,null,null,null,null,null,null,null,null,null,null,null,{"$f":"IF(153<=$B$10,IF(LEN('１学期'!BW25)=0,\"\",IF('１学期'!BW25=$B$8,IF(LEN('１学期'!BZ25)=0,\"\",'１学期'!BZ25),\"\")),\"\")","v":""},{"$f":"IF(LEN(O153)=0,\"\",IF(COUNTIF($O$2:$O$1921,O153+1)>0,\"\",IF(COUNTIF($O$2:O153,O153)>1,\"\",O153+1)))","v":""},{"$f":"IFERROR(SMALL($P$1:$P$1921,152),\"\")","v":""}]
[null,null,null,null,null,null,null,null,null,null,null,null,null,null,{"$f":"IF(154<=$B$10,IF(LEN('１学期'!CA6)=0,\"\",IF('１学期'!CA6=$B$8,IF(LEN('１学期'!CD6)=0,\"\",'１学期'!CD6),\"\")),\"\")","v":""},{"$f":"IF(LEN(O154)=0,\"\",IF(COUNTIF($O$2:$O$1921,O154+1)>0,\"\",IF(COUNTIF($O$2:O154,O154)>1,\"\",O154+1)))","v":""},{"$f":"IFERROR(SMALL($P$1:$P$1921,153),\"\")","v":""}]
[null,null,null,null,null,null,null,null,null,null,null,null,null,null,{"$f":"IF(155<=$B$10,IF(LEN('１学期'!CA7)=0,\"\",IF('１学期'!CA7=$B$8,IF(LEN('１学期'!CD7)=0,\"\",'１学期'!CD7),\"\")),\"\")","v":""},{"$f":"IF(LEN(O155)=0,\"\",IF(COUNTIF($O$2:$O$1921,O155+1)>0,\"\",IF(COUNTIF($O$2:O155,O155)>1,\"\",O155+1)))","v":""},{"$f":"IFERROR(SMALL($P$1:$P$1921,154),\"\")","v":""}]
[null,null,null,null,null,null,null,null,null,null,null,null,null,null,{"$f":"IF(156<=$B$10,IF(LEN('１学期'!CA10)=0,\"\",IF('１学期'!CA10=$B$8,IF(LEN('１学期'!CD10)=0,\"\",'１学期'!CD10),\"\")),\"\")","v":""},{"$f":"IF(LEN(O156)=0,\"\",IF(COUNTIF($O$2:$O$1921,O156+1)>0,\"\",IF(COUNTIF($O$2:O156,O156)>1,\"\",O156+1)))","v":""},{"$f":"IFERROR(SMALL($P$1:$P$1921,155),\"\")","v":""}]
[null,null,null,null,null,null,null,null,null,null,null,null,null,null,{"$f":"IF(157<=$B$10,IF(LEN('１学期'!CA13)=0,\"\",IF('１学期'!CA13=$B$8,IF(LEN('１学期'!CD13)=0,\"\",'１学期'!CD13),\"\")),\"\")","v":""},{"$f":"IF(LEN(O157)=0,\"\",IF(COUNTIF($O$2:$O$1921,O157+1)>0,\"\",IF(COUNTIF($O$2:O157,O157)>1,\"\",O157+1)))","v":""},{"$f":"IFERROR(SMALL($P$1:$P$1921,156),\"\")","v":""}]
[null,null,null,null,null,null,null,null,null,null,null,null,null,null,{"$f":"IF(158<=$B$10,IF(LEN('１学期'!CA16)=0,\"\",IF('１学期'!CA16=$B$8,IF(LEN('１学期'!CD16)=0,\"\",'１学期'!CD16),\"\")),\"\")","v":""},{"$f":"IF(LEN(O158)=0,\"\",IF(COUNTIF($O$2:$O$1921,O158+1)>0,\"\",IF(COUNTIF($O$2:O158,O158)>1,\"\",O158+1)))","v":""},{"$f":"IFERROR(SMALL($P$1:$P$1921,157),\"\")","v":""}]
[null,null,null,null,null,null,null,null,null,null,null,null,null,null,{"$f":"IF(159<=$B$10,IF(LEN('１学期'!CA19)=0,\"\",IF('１学期'!CA19=$B$8,IF(LEN('１学期'!CD19)=0,\"\",'１学期'!CD19),\"\")),\"\")","v":""},{"$f":"IF(LEN(O159)=0,\"\",IF(COUNTIF($O$2:$O$1921,O159+1)>0,\"\",IF(COUNTIF($O$2:O159,O159)>1,\"\",O159+1)))","v":""},{"$f":"IFERROR(SMALL($P$1:$P$1921,158),\"\")","v":""}]
[null,null,null,null,null,null,null,null,null,null,null,null,null,null,{"$f":"IF(160<=$B$10,IF(LEN('１学期'!CA22)=0,\"\",IF('１学期'!CA22=$B$8,IF(LEN('１学期'!CD22)=0,\"\",'１学期'!CD22),\"\")),\"\")","v":""},{"$f":"IF(LEN(O160)=0,\"\",IF(COUNTIF($O$2:$O$1921,O160+1)>0,\"\",IF(COUNTIF($O$2:O160,O160)>1,\"\",O160+1)))","v":""},{"$f":"IFERROR(SMALL($P$1:$P$1921,159),\"\")","v":""}]
[null,null,null,null,null,null,null,null,null,null,null,null,null,null,{"$f":"IF(161<=$B$10,IF(LEN('１学期'!CA25)=0,\"\",IF('１学期'!CA25=$B$8,IF(LEN('１学期'!CD25)=0,\"\",'１学期'!CD25),\"\")),\"\")","v":""},{"$f":"IF(LEN(O161)=0,\"\",IF(COUNTIF($O$2:$O$1921,O161+1)>0,\"\",IF(COUNTIF($O$2:O161,O161)>1,\"\",O161+1)))","v":""},{"$f":"IFERROR(SMALL($P$1:$P$1921,160),\"\")","v":""}]
[null,null,null,null,null,null,null,null,null,null,null,null,null,null,{"$f":"IF(162<=$B$10,IF(LEN('１学期'!CE6)=0,\"\",IF('１学期'!CE6=$B$8,IF(LEN('１学期'!CH6)=0,\"\",'１学期'!CH6),\"\")),\"\")","v":""},{"$f":"IF(LEN(O162)=0,\"\",IF(COUNTIF($O$2:$O$1921,O162+1)>0,\"\",IF(COUNTIF($O$2:O162,O162)>1,\"\",O162+1)))","v":""},{"$f":"IFERROR(SMALL($P$1:$P$1921,161),\"\")","v":""}]
[null,null,null,null,null,null,null,null,null,null,null,null,null,null,{"$f":"IF(163<=$B$10,IF(LEN('１学期'!CE7)=0,\"\",IF('１学期'!CE7=$B$8,IF(LEN('１学期'!CH7)=0,\"\",'１学期'!CH7),\"\")),\"\")","v":""},{"$f":"IF(LEN(O163)=0,\"\",IF(COUNTIF($O$2:$O$1921,O163+1)>0,\"\",IF(COUNTIF($O$2:O163,O163)>1,\"\",O163+1)))","v":""},{"$f":"IFERROR(SMALL($P$1:$P$1921,162),\"\")","v":""}]
[null,null,null,null,null,null,null,null,null,null,null,null,null,null,{"$f":"IF(164<=$B$10,IF(LEN('１学期'!CE10)=0,\"\",IF('１学期'!CE10=$B$8,IF(LEN('１学期'!CH10)=0,\"\",'１学期'!CH10),\"\")),\"\")","v":""},{"$f":"IF(LEN(O164)=0,\"\",IF(COUNTIF($O$2:$O$1921,O164+1)>0,\"\",IF(COUNTIF($O$2:O164,O164)>1,\"\",O164+1)))","v":""},{"$f":"IFERROR(SMALL($P$1:$P$1921,163),\"\")","v":""}]
[null,null,null,null,null,null,null,null,null,null,null,null,null,null,{"$f":"IF(165<=$B$10,IF(LEN('１学期'!CE13)=0,\"\",IF('１学期'!CE13=$B$8,IF(LEN('１学期'!CH13)=0,\"\",'１学期'!CH13),\"\")),\"\")","v":""},{"$f":"IF(LEN(O165)=0,\"\",IF(COUNTIF($O$2:$O$1921,O165+1)>0,\"\",IF(COUNTIF($O$2:O165,O165)>1,\"\",O165+1)))","v":""},{"$f":"IFERROR(SMALL($P$1:$P$1921,164),\"\")","v":""}]
[null,null,null,null,null,null,null,null,null,null,null,null,null,null,{"$f":"IF(166<=$B$10,IF(LEN('１学期'!CE16)=0,\"\",IF('１学期'!CE16=$B$8,IF(LEN('１学期'!CH16)=0,\"\",'１学期'!CH16),\"\")),\"\")","v":""},{"$f":"IF(LEN(O166)=0,\"\",IF(COUNTIF($O$2:$O$1921,O166+1)>0,\"\",IF(COUNTIF($O$2:O166,O166)>1,\"\",O166+1)))","v":""},{"$f":"IFERROR(SMALL($P$1:$P$1921,165),\"\")","v":""}]
[null,null,null,null,null,null,null,null,null,null,null,null,null,null,{"$f":"IF(167<=$B$10,IF(LEN('１学期'!CE19)=0,\"\",IF('１学期'!CE19=$B$8,IF(LEN('１学期'!CH19)=0,\"\",'１学期'!CH19),\"\")),\"\")","v":""},{"$f":"IF(LEN(O167)=0,\"\",IF(COUNTIF($O$2:$O$1921,O167+1)>0,\"\",IF(COUNTIF($O$2:O167,O167)>1,\"\",O167+1)))","v":""},{"$f":"IFERROR(SMALL($P$1:$P$1921,166),\"\")","v":""}]
[null,null,null,null,null,null,null,null,null,null,null,null,null,null,{"$f":"IF(168<=$B$10,IF(LEN('１学期'!CE22)=0,\"\",IF('１学期'!CE22=$B$8,IF(LEN('１学期'!CH22)=0,\"\",'１学期'!CH22),\"\")),\"\")","v":""},{"$f":"IF(LEN(O168)=0,\"\",IF(COUNTIF($O$2:$O$1921,O168+1)>0,\"\",IF(COUNTIF($O$2:O168,O168)>1,\"\",O168+1)))","v":""},{"$f":"IFERROR(SMALL($P$1:$P$1921,167),\"\")","v":""}]
[null,null,null,null,null,null,null,null,null,null,null,null,null,null,{"$f":"IF(169<=$B$10,IF(LEN('１学期'!CE25)=0,\"\",IF('１学期'!CE25=$B$8,IF(LEN('１学期'!CH25)=0,\"\",'１学期'!CH25),\"\")),\"\")","v":""},{"$f":"IF(LEN(O169)=0,\"\",IF(COUNTIF($O$2:$O$1921,O169+1)>0,\"\",IF(COUNTIF($O$2:O169,O169)>1,\"\",O169+1)))","v":""},{"$f":"IFERROR(SMALL($P$1:$P$1921,168),\"\")","v":""}]
[null,null,null,null,null,null,null,null,null,null,null,null,null,null,{"$f":"IF(170<=$B$10,IF(LEN('１学期'!CI6)=0,\"\",IF('１学期'!CI6=$B$8,IF(LEN('１学期'!CL6)=0,\"\",'１学期'!CL6),\"\")),\"\")","v":""},{"$f":"IF(LEN(O170)=0,\"\",IF(COUNTIF($O$2:$O$1921,O170+1)>0,\"\",IF(COUNTIF($O$2:O170,O170)>1,\"\",O170+1)))","v":""},{"$f":"IFERROR(SMALL($P$1:$P$1921,169),\"\")","v":""}]
[null,null,null,null,null,null,null,null,null,null,null,null,null,null,{"$f":"IF(171<=$B$10,IF(LEN('１学期'!CI7)=0,\"\",IF('１学期'!CI7=$B$8,IF(LEN('１学期'!CL7)=0,\"\",'１学期'!CL7),\"\")),\"\")","v":""},{"$f":"IF(LEN(O171)=0,\"\",IF(COUNTIF($O$2:$O$1921,O171+1)>0,\"\",IF(COUNTIF($O$2:O171,O171)>1,\"\",O171+1)))","v":""},{"$f":"IFERROR(SMALL($P$1:$P$1921,170),\"\")","v":""}]
[null,null,null,null,null,null,null,null,null,null,null,null,null,null,{"$f":"IF(172<=$B$10,IF(LEN('１学期'!CI10)=0,\"\",IF('１学期'!CI10=$B$8,IF(LEN('１学期'!CL10)=0,\"\",'１学期'!CL10),\"\")),\"\")","v":""},{"$f":"IF(LEN(O172)=0,\"\",IF(COUNTIF($O$2:$O$1921,O172+1)>0,\"\",IF(COUNTIF($O$2:O172,O172)>1,\"\",O172+1)))","v":""},{"$f":"IFERROR(SMALL($P$1:$P$1921,171),\"\")","v":""}]
[null,null,null,null,null,null,null,null,null,null,null,null,null,null,{"$f":"IF(173<=$B$10,IF(LEN('１学期'!CI13)=0,\"\",IF('１学期'!CI13=$B$8,IF(LEN('１学期'!CL13)=0,\"\",'１学期'!CL13),\"\")),\"\")","v":""},{"$f":"IF(LEN(O173)=0,\"\",IF(COUNTIF($O$2:$O$1921,O173+1)>0,\"\",IF(COUNTIF($O$2:O173,O173)>1,\"\",O173+1)))","v":""},{"$f":"IFERROR(SMALL($P$1:$P$1921,172),\"\")","v":""}]
[null,null,null,null,null,null,null,null,null,null,null,null,null,null,{"$f":"IF(174<=$B$10,IF(LEN('１学期'!CI16)=0,\"\",IF('１学期'!CI16=$B$8,IF(LEN('１学期'!CL16)=0,\"\",'１学期'!CL16),\"\")),\"\")","v":""},{"$f":"IF(LEN(O174)=0,\"\",IF(COUNTIF($O$2:$O$1921,O174+1)>0,\"\",IF(COUNTIF($O$2:O174,O174)>1,\"\",O174+1)))","v":""},{"$f":"IFERROR(SMALL($P$1:$P$1921,173),\"\")","v":""}]
[null,null,null,null,null,null,null,null,null,null,null,null,null,null,{"$f":"IF(175<=$B$10,IF(LEN('１学期'!CI19)=0,\"\",IF('１学期'!CI19=$B$8,IF(LEN('１学期'!CL19)=0,\"\",'１学期'!CL19),\"\")),\"\")","v":""},{"$f":"IF(LEN(O175)=0,\"\",IF(COUNTIF($O$2:$O$1921,O175+1)>0,\"\",IF(COUNTIF($O$2:O175,O175)>1,\"\",O175+1)))","v":""},{"$f":"IFERROR(SMALL($P$1:$P$1921,174),\"\")","v":""}]
[null,null,null,null,null,null,null,null,null,null,null,null,null,null,{"$f":"IF(176<=$B$10,IF(LEN('１学期'!CI22)=0,\"\",IF('１学期'!CI22=$B$8,IF(LEN('１学期'!CL22)=0,\"\",'１学期'!CL22),\"\")),\"\")","v":""},{"$f":"IF(LEN(O176)=0,\"\",IF(COUNTIF($O$2:$O$1921,O176+1)>0,\"\",IF(COUNTIF($O$2:O176,O176)>1,\"\",O176+1)))","v":""},{"$f":"IFERROR(SMALL($P$1:$P$1921,175),\"\")","v":""}]
[null,null,null,null,null,null,null,null,null,null,null,null,null,null,{"$f":"IF(177<=$B$10,IF(LEN('１学期'!CI25)=0,\"\",IF('１学期'!CI25=$B$8,IF(LEN('１学期'!CL25)=0,\"\",'１学期'!CL25),\"\")),\"\")","v":""},{"$f":"IF(LEN(O177)=0,\"\",IF(COUNTIF($O$2:$O$1921,O177+1)>0,\"\",IF(COUNTIF($O$2:O177,O177)>1,\"\",O177+1)))","v":""},{"$f":"IFERROR(SMALL($P$1:$P$1921,176),\"\")","v":""}]
[null,null,null,null,null,null,null,null,null,null,null,null,null,null,{"$f":"IF(178<=$B$10,IF(LEN('１学期'!CM6)=0,\"\",IF('１学期'!CM6=$B$8,IF(LEN('１学期'!CP6)=0,\"\",'１学期'!CP6),\"\")),\"\")","v":""},{"$f":"IF(LEN(O178)=0,\"\",IF(COUNTIF($O$2:$O$1921,O178+1)>0,\"\",IF(COUNTIF($O$2:O178,O178)>1,\"\",O178+1)))","v":""},{"$f":"IFERROR(SMALL($P$1:$P$1921,177),\"\")","v":""}]
[null,null,null,null,null,null,null,null,null,null,null,null,null,null,{"$f":"IF(179<=$B$10,IF(LEN('１学期'!CM7)=0,\"\",IF('１学期'!CM7=$B$8,IF(LEN('１学期'!CP7)=0,\"\",'１学期'!CP7),\"\")),\"\")","v":""},{"$f":"IF(LEN(O179)=0,\"\",IF(COUNTIF($O$2:$O$1921,O179+1)>0,\"\",IF(COUNTIF($O$2:O179,O179)>1,\"\",O179+1)))","v":""},{"$f":"IFERROR(SMALL($P$1:$P$1921,178),\"\")","v":""}]
[null,null,null,null,null,null,null,null,null,null,null,null,null,null,{"$f":"IF(180<=$B$10,IF(LEN('１学期'!CM10)=0,\"\",IF('１学期'!CM10=$B$8,IF(LEN('１学期'!CP10)=0,\"\",'１学期'!CP10),\"\")),\"\")","v":""},{"$f":"IF(LEN(O180)=0,\"\",IF(COUNTIF($O$2:$O$1921,O180+1)>0,\"\",IF(COUNTIF($O$2:O180,O180)>1,\"\",O180+1)))","v":""},{"$f":"IFERROR(SMALL($P$1:$P$1921,179),\"\")","v":""}]
[null,null,null,null,null,null,null,null,null,null,null,null,null,null,{"$f":"IF(181<=$B$10,IF(LEN('１学期'!CM13)=0,\"\",IF('１学期'!CM13=$B$8,IF(LEN('１学期'!CP13)=0,\"\",'１学期'!CP13),\"\")),\"\")","v":""},{"$f":"IF(LEN(O181)=0,\"\",IF(COUNTIF($O$2:$O$1921,O181+1)>0,\"\",IF(COUNTIF($O$2:O181,O181)>1,\"\",O181+1)))","v":""},{"$f":"IFERROR(SMALL($P$1:$P$1921,180),\"\")","v":""}]
[null,null,null,null,null,null,null,null,null,null,null,null,null,null,{"$f":"IF(182<=$B$10,IF(LEN('１学期'!CM16)=0,\"\",IF('１学期'!CM16=$B$8,IF(LEN('１学期'!CP16)=0,\"\",'１学期'!CP16),\"\")),\"\")","v":""},{"$f":"IF(LEN(O182)=0,\"\",IF(COUNTIF($O$2:$O$1921,O182+1)>0,\"\",IF(COUNTIF($O$2:O182,O182)>1,\"\",O182+1)))","v":""},{"$f":"IFERROR(SMALL($P$1:$P$1921,181),\"\")","v":""}]
[null,null,null,null,null,null,null,null,null,null,null,null,null,null,{"$f":"IF(183<=$B$10,IF(LEN('１学期'!CM19)=0,\"\",IF('１学期'!CM19=$B$8,IF(LEN('１学期'!CP19)=0,\"\",'１学期'!CP19),\"\")),\"\")","v":""},{"$f":"IF(LEN(O183)=0,\"\",IF(COUNTIF($O$2:$O$1921,O183+1)>0,\"\",IF(COUNTIF($O$2:O183,O183)>1,\"\",O183+1)))","v":""},{"$f":"IFERROR(SMALL($P$1:$P$1921,182),\"\")","v":""}]
[null,null,null,null,null,null,null,null,null,null,null,null,null,null,{"$f":"IF(184<=$B$10,IF(LEN('１学期'!CM22)=0,\"\",IF('１学期'!CM22=$B$8,IF(LEN('１学期'!CP22)=0,\"\",'１学期'!CP22),\"\")),\"\")","v":""},{"$f":"IF(LEN(O184)=0,\"\",IF(COUNTIF($O$2:$O$1921,O184+1)>0,\"\",IF(COUNTIF($O$2:O184,O184)>1,\"\",O184+1)))","v":""},{"$f":"IFERROR(SMALL($P$1:$P$1921,183),\"\")","v":""}]
[null,null,null,null,null,null,null,null,null,null,null,null,null,null,{"$f":"IF(185<=$B$10,IF(LEN('１学期'!CM25)=0,\"\",IF('１学期'!CM25=$B$8,IF(LEN('１学期'!CP25)=0,\"\",'１学期'!CP25),\"\")),\"\")","v":""},{"$f":"IF(LEN(O185)=0,\"\",IF(COUNTIF($O$2:$O$1921,O185+1)>0,\"\",IF(COUNTIF($O$2:O185,O185)>1,\"\",O185+1)))","v":""},{"$f":"IFERROR(SMALL($P$1:$P$1921,184),\"\")","v":""}]
[null,null,null,null,null,null,null,null,null,null,null,null,null,null,{"$f":"IF(186<=$B$10,IF(LEN('１学期'!CQ6)=0,\"\",IF('１学期'!CQ6=$B$8,IF(LEN('１学期'!CT6)=0,\"\",'１学期'!CT6),\"\")),\"\")","v":""},{"$f":"IF(LEN(O186)=0,\"\",IF(COUNTIF($O$2:$O$1921,O186+1)>0,\"\",IF(COUNTIF($O$2:O186,O186)>1,\"\",O186+1)))","v":""},{"$f":"IFERROR(SMALL($P$1:$P$1921,185),\"\")","v":""}]
[null,null,null,null,null,null,null,null,null,null,null,null,null,null,{"$f":"IF(187<=$B$10,IF(LEN('１学期'!CQ7)=0,\"\",IF('１学期'!CQ7=$B$8,IF(LEN('１学期'!CT7)=0,\"\",'１学期'!CT7),\"\")),\"\")","v":""},{"$f":"IF(LEN(O187)=0,\"\",IF(COUNTIF($O$2:$O$1921,O187+1)>0,\"\",IF(COUNTIF($O$2:O187,O187)>1,\"\",O187+1)))","v":""},{"$f":"IFERROR(SMALL($P$1:$P$1921,186),\"\")","v":""}]
[null,null,null,null,null,null,null,null,null,null,null,null,null,null,{"$f":"IF(188<=$B$10,IF(LEN('１学期'!CQ10)=0,\"\",IF('１学期'!CQ10=$B$8,IF(LEN('１学期'!CT10)=0,\"\",'１学期'!CT10),\"\")),\"\")","v":""},{"$f":"IF(LEN(O188)=0,\"\",IF(COUNTIF($O$2:$O$1921,O188+1)>0,\"\",IF(COUNTIF($O$2:O188,O188)>1,\"\",O188+1)))","v":""},{"$f":"IFERROR(SMALL($P$1:$P$1921,187),\"\")","v":""}]
[null,null,null,null,null,null,null,null,null,null,null,null,null,null,{"$f":"IF(189<=$B$10,IF(LEN('１学期'!CQ13)=0,\"\",IF('１学期'!CQ13=$B$8,IF(LEN('１学期'!CT13)=0,\"\",'１学期'!CT13),\"\")),\"\")","v":""},{"$f":"IF(LEN(O189)=0,\"\",IF(COUNTIF($O$2:$O$1921,O189+1)>0,\"\",IF(COUNTIF($O$2:O189,O189)>1,\"\",O189+1)))","v":""},{"$f":"IFERROR(SMALL($P$1:$P$1921,188),\"\")","v":""}]
[null,null,null,null,null,null,null,null,null,null,null,null,null,null,{"$f":"IF(190<=$B$10,IF(LEN('１学期'!CQ16)=0,\"\",IF('１学期'!CQ16=$B$8,IF(LEN('１学期'!CT16)=0,\"\",'１学期'!CT16),\"\")),\"\")","v":""},{"$f":"IF(LEN(O190)=0,\"\",IF(COUNTIF($O$2:$O$1921,O190+1)>0,\"\",IF(COUNTIF($O$2:O190,O190)>1,\"\",O190+1)))","v":""},{"$f":"IFERROR(SMALL($P$1:$P$1921,189),\"\")","v":""}]
[null,null,null,null,null,null,null,null,null,null,null,null,null,null,{"$f":"IF(191<=$B$10,IF(LEN('１学期'!CQ19)=0,\"\",IF('１学期'!CQ19=$B$8,IF(LEN('１学期'!CT19)=0,\"\",'１学期'!CT19),\"\")),\"\")","v":""},{"$f":"IF(LEN(O191)=0,\"\",IF(COUNTIF($O$2:$O$1921,O191+1)>0,\"\",IF(COUNTIF($O$2:O191,O191)>1,\"\",O191+1)))","v":""},{"$f":"IFERROR(SMALL($P$1:$P$1921,190),\"\")","v":""}]
[null,null,null,null,null,null,null,null,null,null,null,null,null,null,{"$f":"IF(192<=$B$10,IF(LEN('１学期'!CQ22)=0,\"\",IF('１学期'!CQ22=$B$8,IF(LEN('１学期'!CT22)=0,\"\",'１学期'!CT22),\"\")),\"\")","v":""},{"$f":"IF(LEN(O192)=0,\"\",IF(COUNTIF($O$2:$O$1921,O192+1)>0,\"\",IF(COUNTIF($O$2:O192,O192)>1,\"\",O192+1)))","v":""},{"$f":"IFERROR(SMALL($P$1:$P$1921,191),\"\")","v":""}]
[null,null,null,null,null,null,null,null,null,null,null,null,null,null,{"$f":"IF(193<=$B$10,IF(LEN('１学期'!CQ25)=0,\"\",IF('１学期'!CQ25=$B$8,IF(LEN('１学期'!CT25)=0,\"\",'１学期'!CT25),\"\")),\"\")","v":""},{"$f":"IF(LEN(O193)=0,\"\",IF(COUNTIF($O$2:$O$1921,O193+1)>0,\"\",IF(COUNTIF($O$2:O193,O193)>1,\"\",O193+1)))","v":""},{"$f":"IFERROR(SMALL($P$1:$P$1921,192),\"\")","v":""}]
[null,null,null,null,null,null,null,null,null,null,null,null,null,null,{"$f":"IF(194<=$B$10,IF(LEN('１学期'!CU6)=0,\"\",IF('１学期'!CU6=$B$8,IF(LEN('１学期'!CX6)=0,\"\",'１学期'!CX6),\"\")),\"\")","v":""},{"$f":"IF(LEN(O194)=0,\"\",IF(COUNTIF($O$2:$O$1921,O194+1)>0,\"\",IF(COUNTIF($O$2:O194,O194)>1,\"\",O194+1)))","v":""},{"$f":"IFERROR(SMALL($P$1:$P$1921,193),\"\")","v":""}]
[null,null,null,null,null,null,null,null,null,null,null,null,null,null,{"$f":"IF(195<=$B$10,IF(LEN('１学期'!CU7)=0,\"\",IF('１学期'!CU7=$B$8,IF(LEN('１学期'!CX7)=0,\"\",'１学期'!CX7),\"\")),\"\")","v":""},{"$f":"IF(LEN(O195)=0,\"\",IF(COUNTIF($O$2:$O$1921,O195+1)>0,\"\",IF(COUNTIF($O$2:O195,O195)>1,\"\",O195+1)))","v":""},{"$f":"IFERROR(SMALL($P$1:$P$1921,194),\"\")","v":""}]
[null,null,null,null,null,null,null,null,null,null,null,null,null,null,{"$f":"IF(196<=$B$10,IF(LEN('１学期'!CU10)=0,\"\",IF('１学期'!CU10=$B$8,IF(LEN('１学期'!CX10)=0,\"\",'１学期'!CX10),\"\")),\"\")","v":""},{"$f":"IF(LEN(O196)=0,\"\",IF(COUNTIF($O$2:$O$1921,O196+1)>0,\"\",IF(COUNTIF($O$2:O196,O196)>1,\"\",O196+1)))","v":""},{"$f":"IFERROR(SMALL($P$1:$P$1921,195),\"\")","v":""}]
[null,null,null,null,null,null,null,null,null,null,null,null,null,null,{"$f":"IF(197<=$B$10,IF(LEN('１学期'!CU13)=0,\"\",IF('１学期'!CU13=$B$8,IF(LEN('１学期'!CX13)=0,\"\",'１学期'!CX13),\"\")),\"\")","v":""},{"$f":"IF(LEN(O197)=0,\"\",IF(COUNTIF($O$2:$O$1921,O197+1)>0,\"\",IF(COUNTIF($O$2:O197,O197)>1,\"\",O197+1)))","v":""},{"$f":"IFERROR(SMALL($P$1:$P$1921,196),\"\")","v":""}]
[null,null,null,null,null,null,null,null,null,null,null,null,null,null,{"$f":"IF(198<=$B$10,IF(LEN('１学期'!CU16)=0,\"\",IF('１学期'!CU16=$B$8,IF(LEN('１学期'!CX16)=0,\"\",'１学期'!CX16),\"\")),\"\")","v":""},{"$f":"IF(LEN(O198)=0,\"\",IF(COUNTIF($O$2:$O$1921,O198+1)>0,\"\",IF(COUNTIF($O$2:O198,O198)>1,\"\",O198+1)))","v":""},{"$f":"IFERROR(SMALL($P$1:$P$1921,197),\"\")","v":""}]
[null,null,null,null,null,null,null,null,null,null,null,null,null,null,{"$f":"IF(199<=$B$10,IF(LEN('１学期'!CU19)=0,\"\",IF('１学期'!CU19=$B$8,IF(LEN('１学期'!CX19)=0,\"\",'１学期'!CX19),\"\")),\"\")","v":""},{"$f":"IF(LEN(O199)=0,\"\",IF(COUNTIF($O$2:$O$1921,O199+1)>0,\"\",IF(COUNTIF($O$2:O199,O199)>1,\"\",O199+1)))","v":""},{"$f":"IFERROR(SMALL($P$1:$P$1921,198),\"\")","v":""}]
[null,null,null,null,null,null,null,null,null,null,null,null,null,null,{"$f":"IF(200<=$B$10,IF(LEN('１学期'!CU22)=0,\"\",IF('１学期'!CU22=$B$8,IF(LEN('１学期'!CX22)=0,\"\",'１学期'!CX22),\"\")),\"\")","v":""},{"$f":"IF(LEN(O200)=0,\"\",IF(COUNTIF($O$2:$O$1921,O200+1)>0,\"\",IF(COUNTIF($O$2:O200,O200)>1,\"\",O200+1)))","v":""},{"$f":"IFERROR(SMALL($P$1:$P$1921,199),\"\")","v":""}]
[null,null,null,null,null,null,null,null,null,null,null,null,null,null,{"$f":"IF(201<=$B$10,IF(LEN('１学期'!CU25)=0,\"\",IF('１学期'!CU25=$B$8,IF(LEN('１学期'!CX25)=0,\"\",'１学期'!CX25),\"\")),\"\")","v":""},{"$f":"IF(LEN(O201)=0,\"\",IF(COUNTIF($O$2:$O$1921,O201+1)>0,\"\",IF(COUNTIF($O$2:O201,O201)>1,\"\",O201+1)))","v":""},{"$f":"IFERROR(SMALL($P$1:$P$1921,200),\"\")","v":""}]
[null,null,null,null,null,null,null,null,null,null,null,null,null,null,{"$f":"IF(202<=$B$10,IF(LEN('１学期'!CY6)=0,\"\",IF('１学期'!CY6=$B$8,IF(LEN('１学期'!DB6)=0,\"\",'１学期'!DB6),\"\")),\"\")","v":""},{"$f":"IF(LEN(O202)=0,\"\",IF(COUNTIF($O$2:$O$1921,O202+1)>0,\"\",IF(COUNTIF($O$2:O202,O202)>1,\"\",O202+1)))","v":""},{"$f":"IFERROR(SMALL($P$1:$P$1921,201),\"\")","v":""}]
[null,null,null,null,null,null,null,null,null,null,null,null,null,null,{"$f":"IF(203<=$B$10,IF(LEN('１学期'!CY7)=0,\"\",IF('１学期'!CY7=$B$8,IF(LEN('１学期'!DB7)=0,\"\",'１学期'!DB7),\"\")),\"\")","v":""},{"$f":"IF(LEN(O203)=0,\"\",IF(COUNTIF($O$2:$O$1921,O203+1)>0,\"\",IF(COUNTIF($O$2:O203,O203)>1,\"\",O203+1)))","v":""},{"$f":"IFERROR(SMALL($P$1:$P$1921,202),\"\")","v":""}]
[null,null,null,null,null,null,null,null,null,null,null,null,null,null,{"$f":"IF(204<=$B$10,IF(LEN('１学期'!CY10)=0,\"\",IF('１学期'!CY10=$B$8,IF(LEN('１学期'!DB10)=0,\"\",'１学期'!DB10),\"\")),\"\")","v":""},{"$f":"IF(LEN(O204)=0,\"\",IF(COUNTIF($O$2:$O$1921,O204+1)>0,\"\",IF(COUNTIF($O$2:O204,O204)>1,\"\",O204+1)))","v":""},{"$f":"IFERROR(SMALL($P$1:$P$1921,203),\"\")","v":""}]
[null,null,null,null,null,null,null,null,null,null,null,null,null,null,{"$f":"IF(205<=$B$10,IF(LEN('１学期'!CY13)=0,\"\",IF('１学期'!CY13=$B$8,IF(LEN('１学期'!DB13)=0,\"\",'１学期'!DB13),\"\")),\"\")","v":""},{"$f":"IF(LEN(O205)=0,\"\",IF(COUNTIF($O$2:$O$1921,O205+1)>0,\"\",IF(COUNTIF($O$2:O205,O205)>1,\"\",O205+1)))","v":""},{"$f":"IFERROR(SMALL($P$1:$P$1921,204),\"\")","v":""}]
[null,null,null,null,null,null,null,null,null,null,null,null,null,null,{"$f":"IF(206<=$B$10,IF(LEN('１学期'!CY16)=0,\"\",IF('１学期'!CY16=$B$8,IF(LEN('１学期'!DB16)=0,\"\",'１学期'!DB16),\"\")),\"\")","v":""},{"$f":"IF(LEN(O206)=0,\"\",IF(COUNTIF($O$2:$O$1921,O206+1)>0,\"\",IF(COUNTIF($O$2:O206,O206)>1,\"\",O206+1)))","v":""},{"$f":"IFERROR(SMALL($P$1:$P$1921,205),\"\")","v":""}]
[null,null,null,null,null,null,null,null,null,null,null,null,null,null,{"$f":"IF(207<=$B$10,IF(LEN('１学期'!CY19)=0,\"\",IF('１学期'!CY19=$B$8,IF(LEN('１学期'!DB19)=0,\"\",'１学期'!DB19),\"\")),\"\")","v":""},{"$f":"IF(LEN(O207)=0,\"\",IF(COUNTIF($O$2:$O$1921,O207+1)>0,\"\",IF(COUNTIF($O$2:O207,O207)>1,\"\",O207+1)))","v":""},{"$f":"IFERROR(SMALL($P$1:$P$1921,206),\"\")","v":""}]
[null,null,null,null,null,null,null,null,null,null,null,null,null,null,{"$f":"IF(208<=$B$10,IF(LEN('１学期'!CY22)=0,\"\",IF('１学期'!CY22=$B$8,IF(LEN('１学期'!DB22)=0,\"\",'１学期'!DB22),\"\")),\"\")","v":""},{"$f":"IF(LEN(O208)=0,\"\",IF(COUNTIF($O$2:$O$1921,O208+1)>0,\"\",IF(COUNTIF($O$2:O208,O208)>1,\"\",O208+1)))","v":""},{"$f":"IFERROR(SMALL($P$1:$P$1921,207),\"\")","v":""}]
[null,null,null,null,null,null,null,null,null,null,null,null,null,null,{"$f":"IF(209<=$B$10,IF(LEN('１学期'!CY25)=0,\"\",IF('１学期'!CY25=$B$8,IF(LEN('１学期'!DB25)=0,\"\",'１学期'!DB25),\"\")),\"\")","v":""},{"$f":"IF(LEN(O209)=0,\"\",IF(COUNTIF($O$2:$O$1921,O209+1)>0,\"\",IF(COUNTIF($O$2:O209,O209)>1,\"\",O209+1)))","v":""},{"$f":"IFERROR(SMALL($P$1:$P$1921,208),\"\")","v":""}]
[null,null,null,null,null,null,null,null,null,null,null,null,null,null,{"$f":"IF(210<=$B$10,IF(LEN('１学期'!DC6)=0,\"\",IF('１学期'!DC6=$B$8,IF(LEN('１学期'!DF6)=0,\"\",'１学期'!DF6),\"\")),\"\")","v":""},{"$f":"IF(LEN(O210)=0,\"\",IF(COUNTIF($O$2:$O$1921,O210+1)>0,\"\",IF(COUNTIF($O$2:O210,O210)>1,\"\",O210+1)))","v":""},{"$f":"IFERROR(SMALL($P$1:$P$1921,209),\"\")","v":""}]
[null,null,null,null,null,null,null,null,null,null,null,null,null,null,{"$f":"IF(211<=$B$10,IF(LEN('１学期'!DC7)=0,\"\",IF('１学期'!DC7=$B$8,IF(LEN('１学期'!DF7)=0,\"\",'１学期'!DF7),\"\")),\"\")","v":""},{"$f":"IF(LEN(O211)=0,\"\",IF(COUNTIF($O$2:$O$1921,O211+1)>0,\"\",IF(COUNTIF($O$2:O211,O211)>1,\"\",O211+1)))","v":""},{"$f":"IFERROR(SMALL($P$1:$P$1921,210),\"\")","v":""}]
[null,null,null,null,null,null,null,null,null,null,null,null,null,null,{"$f":"IF(212<=$B$10,IF(LEN('１学期'!DC10)=0,\"\",IF('１学期'!DC10=$B$8,IF(LEN('１学期'!DF10)=0,\"\",'１学期'!DF10),\"\")),\"\")","v":""},{"$f":"IF(LEN(O212)=0,\"\",IF(COUNTIF($O$2:$O$1921,O212+1)>0,\"\",IF(COUNTIF($O$2:O212,O212)>1,\"\",O212+1)))","v":""},{"$f":"IFERROR(SMALL($P$1:$P$1921,211),\"\")","v":""}]
[null,null,null,null,null,null,null,null,null,null,null,null,null,null,{"$f":"IF(213<=$B$10,IF(LEN('１学期'!DC13)=0,\"\",IF('１学期'!DC13=$B$8,IF(LEN('１学期'!DF13)=0,\"\",'１学期'!DF13),\"\")),\"\")","v":""},{"$f":"IF(LEN(O213)=0,\"\",IF(COUNTIF($O$2:$O$1921,O213+1)>0,\"\",IF(COUNTIF($O$2:O213,O213)>1,\"\",O213+1)))","v":""},{"$f":"IFERROR(SMALL($P$1:$P$1921,212),\"\")","v":""}]
[null,null,null,null,null,null,null,null,null,null,null,null,null,null,{"$f":"IF(214<=$B$10,IF(LEN('１学期'!DC16)=0,\"\",IF('１学期'!DC16=$B$8,IF(LEN('１学期'!DF16)=0,\"\",'１学期'!DF16),\"\")),\"\")","v":""},{"$f":"IF(LEN(O214)=0,\"\",IF(COUNTIF($O$2:$O$1921,O214+1)>0,\"\",IF(COUNTIF($O$2:O214,O214)>1,\"\",O214+1)))","v":""},{"$f":"IFERROR(SMALL($P$1:$P$1921,213),\"\")","v":""}]
[null,null,null,null,null,null,null,null,null,null,null,null,null,null,{"$f":"IF(215<=$B$10,IF(LEN('１学期'!DC19)=0,\"\",IF('１学期'!DC19=$B$8,IF(LEN('１学期'!DF19)=0,\"\",'１学期'!DF19),\"\")),\"\")","v":""},{"$f":"IF(LEN(O215)=0,\"\",IF(COUNTIF($O$2:$O$1921,O215+1)>0,\"\",IF(COUNTIF($O$2:O215,O215)>1,\"\",O215+1)))","v":""},{"$f":"IFERROR(SMALL($P$1:$P$1921,214),\"\")","v":""}]
[null,null,null,null,null,null,null,null,null,null,null,null,null,null,{"$f":"IF(216<=$B$10,IF(LEN('１学期'!DC22)=0,\"\",IF('１学期'!DC22=$B$8,IF(LEN('１学期'!DF22)=0,\"\",'１学期'!DF22),\"\")),\"\")","v":""},{"$f":"IF(LEN(O216)=0,\"\",IF(COUNTIF($O$2:$O$1921,O216+1)>0,\"\",IF(COUNTIF($O$2:O216,O216)>1,\"\",O216+1)))","v":""},{"$f":"IFERROR(SMALL($P$1:$P$1921,215),\"\")","v":""}]
[null,null,null,null,null,null,null,null,null,null,null,null,null,null,{"$f":"IF(217<=$B$10,IF(LEN('１学期'!DC25)=0,\"\",IF('１学期'!DC25=$B$8,IF(LEN('１学期'!DF25)=0,\"\",'１学期'!DF25),\"\")),\"\")","v":""},{"$f":"IF(LEN(O217)=0,\"\",IF(COUNTIF($O$2:$O$1921,O217+1)>0,\"\",IF(COUNTIF($O$2:O217,O217)>1,\"\",O217+1)))","v":""},{"$f":"IFERROR(SMALL($P$1:$P$1921,216),\"\")","v":""}]
[null,null,null,null,null,null,null,null,null,null,null,null,null,null,{"$f":"IF(218<=$B$10,IF(LEN('１学期'!DG6)=0,\"\",IF('１学期'!DG6=$B$8,IF(LEN('１学期'!DJ6)=0,\"\",'１学期'!DJ6),\"\")),\"\")","v":""},{"$f":"IF(LEN(O218)=0,\"\",IF(COUNTIF($O$2:$O$1921,O218+1)>0,\"\",IF(COUNTIF($O$2:O218,O218)>1,\"\",O218+1)))","v":""},{"$f":"IFERROR(SMALL($P$1:$P$1921,217),\"\")","v":""}]
[null,null,null,null,null,null,null,null,null,null,null,null,null,null,{"$f":"IF(219<=$B$10,IF(LEN('１学期'!DG7)=0,\"\",IF('１学期'!DG7=$B$8,IF(LEN('１学期'!DJ7)=0,\"\",'１学期'!DJ7),\"\")),\"\")","v":""},{"$f":"IF(LEN(O219)=0,\"\",IF(COUNTIF($O$2:$O$1921,O219+1)>0,\"\",IF(COUNTIF($O$2:O219,O219)>1,\"\",O219+1)))","v":""},{"$f":"IFERROR(SMALL($P$1:$P$1921,218),\"\")","v":""}]
[null,null,null,null,null,null,null,null,null,null,null,null,null,null,{"$f":"IF(220<=$B$10,IF(LEN('１学期'!DG10)=0,\"\",IF('１学期'!DG10=$B$8,IF(LEN('１学期'!DJ10)=0,\"\",'１学期'!DJ10),\"\")),\"\")","v":""},{"$f":"IF(LEN(O220)=0,\"\",IF(COUNTIF($O$2:$O$1921,O220+1)>0,\"\",IF(COUNTIF($O$2:O220,O220)>1,\"\",O220+1)))","v":""},{"$f":"IFERROR(SMALL($P$1:$P$1921,219),\"\")","v":""}]
[null,null,null,null,null,null,null,null,null,null,null,null,null,null,{"$f":"IF(221<=$B$10,IF(LEN('１学期'!DG13)=0,\"\",IF('１学期'!DG13=$B$8,IF(LEN('１学期'!DJ13)=0,\"\",'１学期'!DJ13),\"\")),\"\")","v":""},{"$f":"IF(LEN(O221)=0,\"\",IF(COUNTIF($O$2:$O$1921,O221+1)>0,\"\",IF(COUNTIF($O$2:O221,O221)>1,\"\",O221+1)))","v":""},{"$f":"IFERROR(SMALL($P$1:$P$1921,220),\"\")","v":""}]
[null,null,null,null,null,null,null,null,null,null,null,null,null,null,{"$f":"IF(222<=$B$10,IF(LEN('１学期'!DG16)=0,\"\",IF('１学期'!DG16=$B$8,IF(LEN('１学期'!DJ16)=0,\"\",'１学期'!DJ16),\"\")),\"\")","v":""},{"$f":"IF(LEN(O222)=0,\"\",IF(COUNTIF($O$2:$O$1921,O222+1)>0,\"\",IF(COUNTIF($O$2:O222,O222)>1,\"\",O222+1)))","v":""},{"$f":"IFERROR(SMALL($P$1:$P$1921,221),\"\")","v":""}]
[null,null,null,null,null,null,null,null,null,null,null,null,null,null,{"$f":"IF(223<=$B$10,IF(LEN('１学期'!DG19)=0,\"\",IF('１学期'!DG19=$B$8,IF(LEN('１学期'!DJ19)=0,\"\",'１学期'!DJ19),\"\")),\"\")","v":""},{"$f":"IF(LEN(O223)=0,\"\",IF(COUNTIF($O$2:$O$1921,O223+1)>0,\"\",IF(COUNTIF($O$2:O223,O223)>1,\"\",O223+1)))","v":""},{"$f":"IFERROR(SMALL($P$1:$P$1921,222),\"\")","v":""}]
[null,null,null,null,null,null,null,null,null,null,null,null,null,null,{"$f":"IF(224<=$B$10,IF(LEN('１学期'!DG22)=0,\"\",IF('１学期'!DG22=$B$8,IF(LEN('１学期'!DJ22)=0,\"\",'１学期'!DJ22),\"\")),\"\")","v":""},{"$f":"IF(LEN(O224)=0,\"\",IF(COUNTIF($O$2:$O$1921,O224+1)>0,\"\",IF(COUNTIF($O$2:O224,O224)>1,\"\",O224+1)))","v":""},{"$f":"IFERROR(SMALL($P$1:$P$1921,223),\"\")","v":""}]
[null,null,null,null,null,null,null,null,null,null,null,null,null,null,{"$f":"IF(225<=$B$10,IF(LEN('１学期'!DG25)=0,\"\",IF('１学期'!DG25=$B$8,IF(LEN('１学期'!DJ25)=0,\"\",'１学期'!DJ25),\"\")),\"\")","v":""},{"$f":"IF(LEN(O225)=0,\"\",IF(COUNTIF($O$2:$O$1921,O225+1)>0,\"\",IF(COUNTIF($O$2:O225,O225)>1,\"\",O225+1)))","v":""},{"$f":"IFERROR(SMALL($P$1:$P$1921,224),\"\")","v":""}]
[null,null,null,null,null,null,null,null,null,null,null,null,null,null,{"$f":"IF(226<=$B$10,IF(LEN('１学期'!DK6)=0,\"\",IF('１学期'!DK6=$B$8,IF(LEN('１学期'!DN6)=0,\"\",'１学期'!DN6),\"\")),\"\")","v":""},{"$f":"IF(LEN(O226)=0,\"\",IF(COUNTIF($O$2:$O$1921,O226+1)>0,\"\",IF(COUNTIF($O$2:O226,O226)>1,\"\",O226+1)))","v":""},{"$f":"IFERROR(SMALL($P$1:$P$1921,225),\"\")","v":""}]
[null,null,null,null,null,null,null,null,null,null,null,null,null,null,{"$f":"IF(227<=$B$10,IF(LEN('１学期'!DK7)=0,\"\",IF('１学期'!DK7=$B$8,IF(LEN('１学期'!DN7)=0,\"\",'１学期'!DN7),\"\")),\"\")","v":""},{"$f":"IF(LEN(O227)=0,\"\",IF(COUNTIF($O$2:$O$1921,O227+1)>0,\"\",IF(COUNTIF($O$2:O227,O227)>1,\"\",O227+1)))","v":""},{"$f":"IFERROR(SMALL($P$1:$P$1921,226),\"\")","v":""}]
[null,null,null,null,null,null,null,null,null,null,null,null,null,null,{"$f":"IF(228<=$B$10,IF(LEN('１学期'!DK10)=0,\"\",IF('１学期'!DK10=$B$8,IF(LEN('１学期'!DN10)=0,\"\",'１学期'!DN10),\"\")),\"\")","v":""},{"$f":"IF(LEN(O228)=0,\"\",IF(COUNTIF($O$2:$O$1921,O228+1)>0,\"\",IF(COUNTIF($O$2:O228,O228)>1,\"\",O228+1)))","v":""},{"$f":"IFERROR(SMALL($P$1:$P$1921,227),\"\")","v":""}]
[null,null,null,null,null,null,null,null,null,null,null,null,null,null,{"$f":"IF(229<=$B$10,IF(LEN('１学期'!DK13)=0,\"\",IF('１学期'!DK13=$B$8,IF(LEN('１学期'!DN13)=0,\"\",'１学期'!DN13),\"\")),\"\")","v":""},{"$f":"IF(LEN(O229)=0,\"\",IF(COUNTIF($O$2:$O$1921,O229+1)>0,\"\",IF(COUNTIF($O$2:O229,O229)>1,\"\",O229+1)))","v":""},{"$f":"IFERROR(SMALL($P$1:$P$1921,228),\"\")","v":""}]
[null,null,null,null,null,null,null,null,null,null,null,null,null,null,{"$f":"IF(230<=$B$10,IF(LEN('１学期'!DK16)=0,\"\",IF('１学期'!DK16=$B$8,IF(LEN('１学期'!DN16)=0,\"\",'１学期'!DN16),\"\")),\"\")","v":""},{"$f":"IF(LEN(O230)=0,\"\",IF(COUNTIF($O$2:$O$1921,O230+1)>0,\"\",IF(COUNTIF($O$2:O230,O230)>1,\"\",O230+1)))","v":""},{"$f":"IFERROR(SMALL($P$1:$P$1921,229),\"\")","v":""}]
[null,null,null,null,null,null,null,null,null,null,null,null,null,null,{"$f":"IF(231<=$B$10,IF(LEN('１学期'!DK19)=0,\"\",IF('１学期'!DK19=$B$8,IF(LEN('１学期'!DN19)=0,\"\",'１学期'!DN19),\"\")),\"\")","v":""},{"$f":"IF(LEN(O231)=0,\"\",IF(COUNTIF($O$2:$O$1921,O231+1)>0,\"\",IF(COUNTIF($O$2:O231,O231)>1,\"\",O231+1)))","v":""},{"$f":"IFERROR(SMALL($P$1:$P$1921,230),\"\")","v":""}]
[null,null,null,null,null,null,null,null,null,null,null,null,null,null,{"$f":"IF(232<=$B$10,IF(LEN('１学期'!DK22)=0,\"\",IF('１学期'!DK22=$B$8,IF(LEN('１学期'!DN22)=0,\"\",'１学期'!DN22),\"\")),\"\")","v":""},{"$f":"IF(LEN(O232)=0,\"\",IF(COUNTIF($O$2:$O$1921,O232+1)>0,\"\",IF(COUNTIF($O$2:O232,O232)>1,\"\",O232+1)))","v":""},{"$f":"IFERROR(SMALL($P$1:$P$1921,231),\"\")","v":""}]
[null,null,null,null,null,null,null,null,null,null,null,null,null,null,{"$f":"IF(233<=$B$10,IF(LEN('１学期'!DK25)=0,\"\",IF('１学期'!DK25=$B$8,IF(LEN('１学期'!DN25)=0,\"\",'１学期'!DN25),\"\")),\"\")","v":""},{"$f":"IF(LEN(O233)=0,\"\",IF(COUNTIF($O$2:$O$1921,O233+1)>0,\"\",IF(COUNTIF($O$2:O233,O233)>1,\"\",O233+1)))","v":""},{"$f":"IFERROR(SMALL($P$1:$P$1921,232),\"\")","v":""}]
[null,null,null,null,null,null,null,null,null,null,null,null,null,null,{"$f":"IF(234<=$B$10,IF(LEN('１学期'!DO6)=0,\"\",IF('１学期'!DO6=$B$8,IF(LEN('１学期'!DR6)=0,\"\",'１学期'!DR6),\"\")),\"\")","v":""},{"$f":"IF(LEN(O234)=0,\"\",IF(COUNTIF($O$2:$O$1921,O234+1)>0,\"\",IF(COUNTIF($O$2:O234,O234)>1,\"\",O234+1)))","v":""},{"$f":"IFERROR(SMALL($P$1:$P$1921,233),\"\")","v":""}]
[null,null,null,null,null,null,null,null,null,null,null,null,null,null,{"$f":"IF(235<=$B$10,IF(LEN('１学期'!DO7)=0,\"\",IF('１学期'!DO7=$B$8,IF(LEN('１学期'!DR7)=0,\"\",'１学期'!DR7),\"\")),\"\")","v":""},{"$f":"IF(LEN(O235)=0,\"\",IF(COUNTIF($O$2:$O$1921,O235+1)>0,\"\",IF(COUNTIF($O$2:O235,O235)>1,\"\",O235+1)))","v":""},{"$f":"IFERROR(SMALL($P$1:$P$1921,234),\"\")","v":""}]
[null,null,null,null,null,null,null,null,null,null,null,null,null,null,{"$f":"IF(236<=$B$10,IF(LEN('１学期'!DO10)=0,\"\",IF('１学期'!DO10=$B$8,IF(LEN('１学期'!DR10)=0,\"\",'１学期'!DR10),\"\")),\"\")","v":""},{"$f":"IF(LEN(O236)=0,\"\",IF(COUNTIF($O$2:$O$1921,O236+1)>0,\"\",IF(COUNTIF($O$2:O236,O236)>1,\"\",O236+1)))","v":""},{"$f":"IFERROR(SMALL($P$1:$P$1921,235),\"\")","v":""}]
[null,null,null,null,null,null,null,null,null,null,null,null,null,null,{"$f":"IF(237<=$B$10,IF(LEN('１学期'!DO13)=0,\"\",IF('１学期'!DO13=$B$8,IF(LEN('１学期'!DR13)=0,\"\",'１学期'!DR13),\"\")),\"\")","v":""},{"$f":"IF(LEN(O237)=0,\"\",IF(COUNTIF($O$2:$O$1921,O237+1)>0,\"\",IF(COUNTIF($O$2:O237,O237)>1,\"\",O237+1)))","v":""},{"$f":"IFERROR(SMALL($P$1:$P$1921,236),\"\")","v":""}]
[null,null,null,null,null,null,null,null,null,null,null,null,null,null,{"$f":"IF(238<=$B$10,IF(LEN('１学期'!DO16)=0,\"\",IF('１学期'!DO16=$B$8,IF(LEN('１学期'!DR16)=0,\"\",'１学期'!DR16),\"\")),\"\")","v":""},{"$f":"IF(LEN(O238)=0,\"\",IF(COUNTIF($O$2:$O$1921,O238+1)>0,\"\",IF(COUNTIF($O$2:O238,O238)>1,\"\",O238+1)))","v":""},{"$f":"IFERROR(SMALL($P$1:$P$1921,237),\"\")","v":""}]
[null,null,null,null,null,null,null,null,null,null,null,null,null,null,{"$f":"IF(239<=$B$10,IF(LEN('１学期'!DO19)=0,\"\",IF('１学期'!DO19=$B$8,IF(LEN('１学期'!DR19)=0,\"\",'１学期'!DR19),\"\")),\"\")","v":""},{"$f":"IF(LEN(O239)=0,\"\",IF(COUNTIF($O$2:$O$1921,O239+1)>0,\"\",IF(COUNTIF($O$2:O239,O239)>1,\"\",O239+1)))","v":""},{"$f":"IFERROR(SMALL($P$1:$P$1921,238),\"\")","v":""}]
[null,null,null,null,null,null,null,null,null,null,null,null,null,null,{"$f":"IF(240<=$B$10,IF(LEN('１学期'!DO22)=0,\"\",IF('１学期'!DO22=$B$8,IF(LEN('１学期'!DR22)=0,\"\",'１学期'!DR22),\"\")),\"\")","v":""},{"$f":"IF(LEN(O240)=0,\"\",IF(COUNTIF($O$2:$O$1921,O240+1)>0,\"\",IF(COUNTIF($O$2:O240,O240)>1,\"\",O240+1)))","v":""},{"$f":"IFERROR(SMALL($P$1:$P$1921,239),\"\")","v":""}]
[null,null,null,null,null,null,null,null,null,null,null,null,null,null,{"$f":"IF(241<=$B$10,IF(LEN('１学期'!DO25)=0,\"\",IF('１学期'!DO25=$B$8,IF(LEN('１学期'!DR25)=0,\"\",'１学期'!DR25),\"\")),\"\")","v":""},{"$f":"IF(LEN(O241)=0,\"\",IF(COUNTIF($O$2:$O$1921,O241+1)>0,\"\",IF(COUNTIF($O$2:O241,O241)>1,\"\",O241+1)))","v":""},{"$f":"IFERROR(SMALL($P$1:$P$1921,240),\"\")","v":""}]
[null,null,null,null,null,null,null,null,null,null,null,null,null,null,{"$f":"IF(242<=$B$10,IF(LEN('１学期'!DS6)=0,\"\",IF('１学期'!DS6=$B$8,IF(LEN('１学期'!DV6)=0,\"\",'１学期'!DV6),\"\")),\"\")","v":""},{"$f":"IF(LEN(O242)=0,\"\",IF(COUNTIF($O$2:$O$1921,O242+1)>0,\"\",IF(COUNTIF($O$2:O242,O242)>1,\"\",O242+1)))","v":""},{"$f":"IFERROR(SMALL($P$1:$P$1921,241),\"\")","v":""}]
[null,null,null,null,null,null,null,null,null,null,null,null,null,null,{"$f":"IF(243<=$B$10,IF(LEN('１学期'!DS7)=0,\"\",IF('１学期'!DS7=$B$8,IF(LEN('１学期'!DV7)=0,\"\",'１学期'!DV7),\"\")),\"\")","v":""},{"$f":"IF(LEN(O243)=0,\"\",IF(COUNTIF($O$2:$O$1921,O243+1)>0,\"\",IF(COUNTIF($O$2:O243,O243)>1,\"\",O243+1)))","v":""},{"$f":"IFERROR(SMALL($P$1:$P$1921,242),\"\")","v":""}]
[null,null,null,null,null,null,null,null,null,null,null,null,null,null,{"$f":"IF(244<=$B$10,IF(LEN('１学期'!DS10)=0,\"\",IF('１学期'!DS10=$B$8,IF(LEN('１学期'!DV10)=0,\"\",'１学期'!DV10),\"\")),\"\")","v":""},{"$f":"IF(LEN(O244)=0,\"\",IF(COUNTIF($O$2:$O$1921,O244+1)>0,\"\",IF(COUNTIF($O$2:O244,O244)>1,\"\",O244+1)))","v":""},{"$f":"IFERROR(SMALL($P$1:$P$1921,243),\"\")","v":""}]
[null,null,null,null,null,null,null,null,null,null,null,null,null,null,{"$f":"IF(245<=$B$10,IF(LEN('１学期'!DS13)=0,\"\",IF('１学期'!DS13=$B$8,IF(LEN('１学期'!DV13)=0,\"\",'１学期'!DV13),\"\")),\"\")","v":""},{"$f":"IF(LEN(O245)=0,\"\",IF(COUNTIF($O$2:$O$1921,O245+1)>0,\"\",IF(COUNTIF($O$2:O245,O245)>1,\"\",O245+1)))","v":""},{"$f":"IFERROR(SMALL($P$1:$P$1921,244),\"\")","v":""}]
[null,null,null,null,null,null,null,null,null,null,null,null,null,null,{"$f":"IF(246<=$B$10,IF(LEN('１学期'!DS16)=0,\"\",IF('１学期'!DS16=$B$8,IF(LEN('１学期'!DV16)=0,\"\",'１学期'!DV16),\"\")),\"\")","v":""},{"$f":"IF(LEN(O246)=0,\"\",IF(COUNTIF($O$2:$O$1921,O246+1)>0,\"\",IF(COUNTIF($O$2:O246,O246)>1,\"\",O246+1)))","v":""},{"$f":"IFERROR(SMALL($P$1:$P$1921,245),\"\")","v":""}]
[null,null,null,null,null,null,null,null,null,null,null,null,null,null,{"$f":"IF(247<=$B$10,IF(LEN('１学期'!DS19)=0,\"\",IF('１学期'!DS19=$B$8,IF(LEN('１学期'!DV19)=0,\"\",'１学期'!DV19),\"\")),\"\")","v":""},{"$f":"IF(LEN(O247)=0,\"\",IF(COUNTIF($O$2:$O$1921,O247+1)>0,\"\",IF(COUNTIF($O$2:O247,O247)>1,\"\",O247+1)))","v":""},{"$f":"IFERROR(SMALL($P$1:$P$1921,246),\"\")","v":""}]
[null,null,null,null,null,null,null,null,null,null,null,null,null,null,{"$f":"IF(248<=$B$10,IF(LEN('１学期'!DS22)=0,\"\",IF('１学期'!DS22=$B$8,IF(LEN('１学期'!DV22)=0,\"\",'１学期'!DV22),\"\")),\"\")","v":""},{"$f":"IF(LEN(O248)=0,\"\",IF(COUNTIF($O$2:$O$1921,O248+1)>0,\"\",IF(COUNTIF($O$2:O248,O248)>1,\"\",O248+1)))","v":""},{"$f":"IFERROR(SMALL($P$1:$P$1921,247),\"\")","v":""}]
[null,null,null,null,null,null,null,null,null,null,null,null,null,null,{"$f":"IF(249<=$B$10,IF(LEN('１学期'!DS25)=0,\"\",IF('１学期'!DS25=$B$8,IF(LEN('１学期'!DV25)=0,\"\",'１学期'!DV25),\"\")),\"\")","v":""},{"$f":"IF(LEN(O249)=0,\"\",IF(COUNTIF($O$2:$O$1921,O249+1)>0,\"\",IF(COUNTIF($O$2:O249,O249)>1,\"\",O249+1)))","v":""},{"$f":"IFERROR(SMALL($P$1:$P$1921,248),\"\")","v":""}]
[null,null,null,null,null,null,null,null,null,null,null,null,null,null,{"$f":"IF(250<=$B$10,IF(LEN('１学期'!DW6)=0,\"\",IF('１学期'!DW6=$B$8,IF(LEN('１学期'!DZ6)=0,\"\",'１学期'!DZ6),\"\")),\"\")","v":""},{"$f":"IF(LEN(O250)=0,\"\",IF(COUNTIF($O$2:$O$1921,O250+1)>0,\"\",IF(COUNTIF($O$2:O250,O250)>1,\"\",O250+1)))","v":""},{"$f":"IFERROR(SMALL($P$1:$P$1921,249),\"\")","v":""}]
[null,null,null,null,null,null,null,null,null,null,null,null,null,null,{"$f":"IF(251<=$B$10,IF(LEN('１学期'!DW7)=0,\"\",IF('１学期'!DW7=$B$8,IF(LEN('１学期'!DZ7)=0,\"\",'１学期'!DZ7),\"\")),\"\")","v":""},{"$f":"IF(LEN(O251)=0,\"\",IF(COUNTIF($O$2:$O$1921,O251+1)>0,\"\",IF(COUNTIF($O$2:O251,O251)>1,\"\",O251+1)))","v":""},{"$f":"IFERROR(SMALL($P$1:$P$1921,250),\"\")","v":""}]
[null,null,null,null,null,null,null,null,null,null,null,null,null,null,{"$f":"IF(252<=$B$10,IF(LEN('１学期'!DW10)=0,\"\",IF('１学期'!DW10=$B$8,IF(LEN('１学期'!DZ10)=0,\"\",'１学期'!DZ10),\"\")),\"\")","v":""},{"$f":"IF(LEN(O252)=0,\"\",IF(COUNTIF($O$2:$O$1921,O252+1)>0,\"\",IF(COUNTIF($O$2:O252,O252)>1,\"\",O252+1)))","v":""},{"$f":"IFERROR(SMALL($P$1:$P$1921,251),\"\")","v":""}]
[null,null,null,null,null,null,null,null,null,null,null,null,null,null,{"$f":"IF(253<=$B$10,IF(LEN('１学期'!DW13)=0,\"\",IF('１学期'!DW13=$B$8,IF(LEN('１学期'!DZ13)=0,\"\",'１学期'!DZ13),\"\")),\"\")","v":""},{"$f":"IF(LEN(O253)=0,\"\",IF(COUNTIF($O$2:$O$1921,O253+1)>0,\"\",IF(COUNTIF($O$2:O253,O253)>1,\"\",O253+1)))","v":""},{"$f":"IFERROR(SMALL($P$1:$P$1921,252),\"\")","v":""}]
[null,null,null,null,null,null,null,null,null,null,null,null,null,null,{"$f":"IF(254<=$B$10,IF(LEN('１学期'!DW16)=0,\"\",IF('１学期'!DW16=$B$8,IF(LEN('１学期'!DZ16)=0,\"\",'１学期'!DZ16),\"\")),\"\")","v":""},{"$f":"IF(LEN(O254)=0,\"\",IF(COUNTIF($O$2:$O$1921,O254+1)>0,\"\",IF(COUNTIF($O$2:O254,O254)>1,\"\",O254+1)))","v":""},{"$f":"IFERROR(SMALL($P$1:$P$1921,253),\"\")","v":""}]
[null,null,null,null,null,null,null,null,null,null,null,null,null,null,{"$f":"IF(255<=$B$10,IF(LEN('１学期'!DW19)=0,\"\",IF('１学期'!DW19=$B$8,IF(LEN('１学期'!DZ19)=0,\"\",'１学期'!DZ19),\"\")),\"\")","v":""},{"$f":"IF(LEN(O255)=0,\"\",IF(COUNTIF($O$2:$O$1921,O255+1)>0,\"\",IF(COUNTIF($O$2:O255,O255)>1,\"\",O255+1)))","v":""},{"$f":"IFERROR(SMALL($P$1:$P$1921,254),\"\")","v":""}]
[null,null,null,null,null,null,null,null,null,null,null,null,null,null,{"$f":"IF(256<=$B$10,IF(LEN('１学期'!DW22)=0,\"\",IF('１学期'!DW22=$B$8,IF(LEN('１学期'!DZ22)=0,\"\",'１学期'!DZ22),\"\")),\"\")","v":""},{"$f":"IF(LEN(O256)=0,\"\",IF(COUNTIF($O$2:$O$1921,O256+1)>0,\"\",IF(COUNTIF($O$2:O256,O256)>1,\"\",O256+1)))","v":""},{"$f":"IFERROR(SMALL($P$1:$P$1921,255),\"\")","v":""}]
[null,null,null,null,null,null,null,null,null,null,null,null,null,null,{"$f":"IF(257<=$B$10,IF(LEN('１学期'!DW25)=0,\"\",IF('１学期'!DW25=$B$8,IF(LEN('１学期'!DZ25)=0,\"\",'１学期'!DZ25),\"\")),\"\")","v":""},{"$f":"IF(LEN(O257)=0,\"\",IF(COUNTIF($O$2:$O$1921,O257+1)>0,\"\",IF(COUNTIF($O$2:O257,O257)>1,\"\",O257+1)))","v":""},{"$f":"IFERROR(SMALL($P$1:$P$1921,256),\"\")","v":""}]
[null,null,null,null,null,null,null,null,null,null,null,null,null,null,{"$f":"IF(258<=$B$10,IF(LEN('１学期'!EA6)=0,\"\",IF('１学期'!EA6=$B$8,IF(LEN('１学期'!ED6)=0,\"\",'１学期'!ED6),\"\")),\"\")","v":""},{"$f":"IF(LEN(O258)=0,\"\",IF(COUNTIF($O$2:$O$1921,O258+1)>0,\"\",IF(COUNTIF($O$2:O258,O258)>1,\"\",O258+1)))","v":""},{"$f":"IFERROR(SMALL($P$1:$P$1921,257),\"\")","v":""}]
[null,null,null,null,null,null,null,null,null,null,null,null,null,null,{"$f":"IF(259<=$B$10,IF(LEN('１学期'!EA7)=0,\"\",IF('１学期'!EA7=$B$8,IF(LEN('１学期'!ED7)=0,\"\",'１学期'!ED7),\"\")),\"\")","v":""},{"$f":"IF(LEN(O259)=0,\"\",IF(COUNTIF($O$2:$O$1921,O259+1)>0,\"\",IF(COUNTIF($O$2:O259,O259)>1,\"\",O259+1)))","v":""},{"$f":"IFERROR(SMALL($P$1:$P$1921,258),\"\")","v":""}]
[null,null,null,null,null,null,null,null,null,null,null,null,null,null,{"$f":"IF(260<=$B$10,IF(LEN('１学期'!EA10)=0,\"\",IF('１学期'!EA10=$B$8,IF(LEN('１学期'!ED10)=0,\"\",'１学期'!ED10),\"\")),\"\")","v":""},{"$f":"IF(LEN(O260)=0,\"\",IF(COUNTIF($O$2:$O$1921,O260+1)>0,\"\",IF(COUNTIF($O$2:O260,O260)>1,\"\",O260+1)))","v":""},{"$f":"IFERROR(SMALL($P$1:$P$1921,259),\"\")","v":""}]
[null,null,null,null,null,null,null,null,null,null,null,null,null,null,{"$f":"IF(261<=$B$10,IF(LEN('１学期'!EA13)=0,\"\",IF('１学期'!EA13=$B$8,IF(LEN('１学期'!ED13)=0,\"\",'１学期'!ED13),\"\")),\"\")","v":""},{"$f":"IF(LEN(O261)=0,\"\",IF(COUNTIF($O$2:$O$1921,O261+1)>0,\"\",IF(COUNTIF($O$2:O261,O261)>1,\"\",O261+1)))","v":""},{"$f":"IFERROR(SMALL($P$1:$P$1921,260),\"\")","v":""}]
[null,null,null,null,null,null,null,null,null,null,null,null,null,null,{"$f":"IF(262<=$B$10,IF(LEN('１学期'!EA16)=0,\"\",IF('１学期'!EA16=$B$8,IF(LEN('１学期'!ED16)=0,\"\",'１学期'!ED16),\"\")),\"\")","v":""},{"$f":"IF(LEN(O262)=0,\"\",IF(COUNTIF($O$2:$O$1921,O262+1)>0,\"\",IF(COUNTIF($O$2:O262,O262)>1,\"\",O262+1)))","v":""},{"$f":"IFERROR(SMALL($P$1:$P$1921,261),\"\")","v":""}]
[null,null,null,null,null,null,null,null,null,null,null,null,null,null,{"$f":"IF(263<=$B$10,IF(LEN('１学期'!EA19)=0,\"\",IF('１学期'!EA19=$B$8,IF(LEN('１学期'!ED19)=0,\"\",'１学期'!ED19),\"\")),\"\")","v":""},{"$f":"IF(LEN(O263)=0,\"\",IF(COUNTIF($O$2:$O$1921,O263+1)>0,\"\",IF(COUNTIF($O$2:O263,O263)>1,\"\",O263+1)))","v":""},{"$f":"IFERROR(SMALL($P$1:$P$1921,262),\"\")","v":""}]
[null,null,null,null,null,null,null,null,null,null,null,null,null,null,{"$f":"IF(264<=$B$10,IF(LEN('１学期'!EA22)=0,\"\",IF('１学期'!EA22=$B$8,IF(LEN('１学期'!ED22)=0,\"\",'１学期'!ED22),\"\")),\"\")","v":""},{"$f":"IF(LEN(O264)=0,\"\",IF(COUNTIF($O$2:$O$1921,O264+1)>0,\"\",IF(COUNTIF($O$2:O264,O264)>1,\"\",O264+1)))","v":""},{"$f":"IFERROR(SMALL($P$1:$P$1921,263),\"\")","v":""}]
[null,null,null,null,null,null,null,null,null,null,null,null,null,null,{"$f":"IF(265<=$B$10,IF(LEN('１学期'!EA25)=0,\"\",IF('１学期'!EA25=$B$8,IF(LEN('１学期'!ED25)=0,\"\",'１学期'!ED25),\"\")),\"\")","v":""},{"$f":"IF(LEN(O265)=0,\"\",IF(COUNTIF($O$2:$O$1921,O265+1)>0,\"\",IF(COUNTIF($O$2:O265,O265)>1,\"\",O265+1)))","v":""},{"$f":"IFERROR(SMALL($P$1:$P$1921,264),\"\")","v":""}]
[null,null,null,null,null,null,null,null,null,null,null,null,null,null,{"$f":"IF(266<=$B$10,IF(LEN('１学期'!EE6)=0,\"\",IF('１学期'!EE6=$B$8,IF(LEN('１学期'!EH6)=0,\"\",'１学期'!EH6),\"\")),\"\")","v":""},{"$f":"IF(LEN(O266)=0,\"\",IF(COUNTIF($O$2:$O$1921,O266+1)>0,\"\",IF(COUNTIF($O$2:O266,O266)>1,\"\",O266+1)))","v":""},{"$f":"IFERROR(SMALL($P$1:$P$1921,265),\"\")","v":""}]
[null,null,null,null,null,null,null,null,null,null,null,null,null,null,{"$f":"IF(267<=$B$10,IF(LEN('１学期'!EE7)=0,\"\",IF('１学期'!EE7=$B$8,IF(LEN('１学期'!EH7)=0,\"\",'１学期'!EH7),\"\")),\"\")","v":""},{"$f":"IF(LEN(O267)=0,\"\",IF(COUNTIF($O$2:$O$1921,O267+1)>0,\"\",IF(COUNTIF($O$2:O267,O267)>1,\"\",O267+1)))","v":""},{"$f":"IFERROR(SMALL($P$1:$P$1921,266),\"\")","v":""}]
[null,null,null,null,null,null,null,null,null,null,null,null,null,null,{"$f":"IF(268<=$B$10,IF(LEN('１学期'!EE10)=0,\"\",IF('１学期'!EE10=$B$8,IF(LEN('１学期'!EH10)=0,\"\",'１学期'!EH10),\"\")),\"\")","v":""},{"$f":"IF(LEN(O268)=0,\"\",IF(COUNTIF($O$2:$O$1921,O268+1)>0,\"\",IF(COUNTIF($O$2:O268,O268)>1,\"\",O268+1)))","v":""},{"$f":"IFERROR(SMALL($P$1:$P$1921,267),\"\")","v":""}]
[null,null,null,null,null,null,null,null,null,null,null,null,null,null,{"$f":"IF(269<=$B$10,IF(LEN('１学期'!EE13)=0,\"\",IF('１学期'!EE13=$B$8,IF(LEN('１学期'!EH13)=0,\"\",'１学期'!EH13),\"\")),\"\")","v":""},{"$f":"IF(LEN(O269)=0,\"\",IF(COUNTIF($O$2:$O$1921,O269+1)>0,\"\",IF(COUNTIF($O$2:O269,O269)>1,\"\",O269+1)))","v":""},{"$f":"IFERROR(SMALL($P$1:$P$1921,268),\"\")","v":""}]
[null,null,null,null,null,null,null,null,null,null,null,null,null,null,{"$f":"IF(270<=$B$10,IF(LEN('１学期'!EE16)=0,\"\",IF('１学期'!EE16=$B$8,IF(LEN('１学期'!EH16)=0,\"\",'１学期'!EH16),\"\")),\"\")","v":""},{"$f":"IF(LEN(O270)=0,\"\",IF(COUNTIF($O$2:$O$1921,O270+1)>0,\"\",IF(COUNTIF($O$2:O270,O270)>1,\"\",O270+1)))","v":""},{"$f":"IFERROR(SMALL($P$1:$P$1921,269),\"\")","v":""}]
[null,null,null,null,null,null,null,null,null,null,null,null,null,null,{"$f":"IF(271<=$B$10,IF(LEN('１学期'!EE19)=0,\"\",IF('１学期'!EE19=$B$8,IF(LEN('１学期'!EH19)=0,\"\",'１学期'!EH19),\"\")),\"\")","v":""},{"$f":"IF(LEN(O271)=0,\"\",IF(COUNTIF($O$2:$O$1921,O271+1)>0,\"\",IF(COUNTIF($O$2:O271,O271)>1,\"\",O271+1)))","v":""},{"$f":"IFERROR(SMALL($P$1:$P$1921,270),\"\")","v":""}]
[null,null,null,null,null,null,null,null,null,null,null,null,null,null,{"$f":"IF(272<=$B$10,IF(LEN('１学期'!EE22)=0,\"\",IF('１学期'!EE22=$B$8,IF(LEN('１学期'!EH22)=0,\"\",'１学期'!EH22),\"\")),\"\")","v":""},{"$f":"IF(LEN(O272)=0,\"\",IF(COUNTIF($O$2:$O$1921,O272+1)>0,\"\",IF(COUNTIF($O$2:O272,O272)>1,\"\",O272+1)))","v":""},{"$f":"IFERROR(SMALL($P$1:$P$1921,271),\"\")","v":""}]
[null,null,null,null,null,null,null,null,null,null,null,null,null,null,{"$f":"IF(273<=$B$10,IF(LEN('１学期'!EE25)=0,\"\",IF('１学期'!EE25=$B$8,IF(LEN('１学期'!EH25)=0,\"\",'１学期'!EH25),\"\")),\"\")","v":""},{"$f":"IF(LEN(O273)=0,\"\",IF(COUNTIF($O$2:$O$1921,O273+1)>0,\"\",IF(COUNTIF($O$2:O273,O273)>1,\"\",O273+1)))","v":""},{"$f":"IFERROR(SMALL($P$1:$P$1921,272),\"\")","v":""}]
[null,null,null,null,null,null,null,null,null,null,null,null,null,null,{"$f":"IF(274<=$B$10,IF(LEN('１学期'!EI6)=0,\"\",IF('１学期'!EI6=$B$8,IF(LEN('１学期'!EL6)=0,\"\",'１学期'!EL6),\"\")),\"\")","v":""},{"$f":"IF(LEN(O274)=0,\"\",IF(COUNTIF($O$2:$O$1921,O274+1)>0,\"\",IF(COUNTIF($O$2:O274,O274)>1,\"\",O274+1)))","v":""},{"$f":"IFERROR(SMALL($P$1:$P$1921,273),\"\")","v":""}]
[null,null,null,null,null,null,null,null,null,null,null,null,null,null,{"$f":"IF(275<=$B$10,IF(LEN('１学期'!EI7)=0,\"\",IF('１学期'!EI7=$B$8,IF(LEN('１学期'!EL7)=0,\"\",'１学期'!EL7),\"\")),\"\")","v":""},{"$f":"IF(LEN(O275)=0,\"\",IF(COUNTIF($O$2:$O$1921,O275+1)>0,\"\",IF(COUNTIF($O$2:O275,O275)>1,\"\",O275+1)))","v":""},{"$f":"IFERROR(SMALL($P$1:$P$1921,274),\"\")","v":""}]
[null,null,null,null,null,null,null,null,null,null,null,null,null,null,{"$f":"IF(276<=$B$10,IF(LEN('１学期'!EI10)=0,\"\",IF('１学期'!EI10=$B$8,IF(LEN('１学期'!EL10)=0,\"\",'１学期'!EL10),\"\")),\"\")","v":""},{"$f":"IF(LEN(O276)=0,\"\",IF(COUNTIF($O$2:$O$1921,O276+1)>0,\"\",IF(COUNTIF($O$2:O276,O276)>1,\"\",O276+1)))","v":""},{"$f":"IFERROR(SMALL($P$1:$P$1921,275),\"\")","v":""}]
[null,null,null,null,null,null,null,null,null,null,null,null,null,null,{"$f":"IF(277<=$B$10,IF(LEN('１学期'!EI13)=0,\"\",IF('１学期'!EI13=$B$8,IF(LEN('１学期'!EL13)=0,\"\",'１学期'!EL13),\"\")),\"\")","v":""},{"$f":"IF(LEN(O277)=0,\"\",IF(COUNTIF($O$2:$O$1921,O277+1)>0,\"\",IF(COUNTIF($O$2:O277,O277)>1,\"\",O277+1)))","v":""},{"$f":"IFERROR(SMALL($P$1:$P$1921,276),\"\")","v":""}]
[null,null,null,null,null,null,null,null,null,null,null,null,null,null,{"$f":"IF(278<=$B$10,IF(LEN('１学期'!EI16)=0,\"\",IF('１学期'!EI16=$B$8,IF(LEN('１学期'!EL16)=0,\"\",'１学期'!EL16),\"\")),\"\")","v":""},{"$f":"IF(LEN(O278)=0,\"\",IF(COUNTIF($O$2:$O$1921,O278+1)>0,\"\",IF(COUNTIF($O$2:O278,O278)>1,\"\",O278+1)))","v":""},{"$f":"IFERROR(SMALL($P$1:$P$1921,277),\"\")","v":""}]
[null,null,null,null,null,null,null,null,null,null,null,null,null,null,{"$f":"IF(279<=$B$10,IF(LEN('１学期'!EI19)=0,\"\",IF('１学期'!EI19=$B$8,IF(LEN('１学期'!EL19)=0,\"\",'１学期'!EL19),\"\")),\"\")","v":""},{"$f":"IF(LEN(O279)=0,\"\",IF(COUNTIF($O$2:$O$1921,O279+1)>0,\"\",IF(COUNTIF($O$2:O279,O279)>1,\"\",O279+1)))","v":""},{"$f":"IFERROR(SMALL($P$1:$P$1921,278),\"\")","v":""}]
[null,null,null,null,null,null,null,null,null,null,null,null,null,null,{"$f":"IF(280<=$B$10,IF(LEN('１学期'!EI22)=0,\"\",IF('１学期'!EI22=$B$8,IF(LEN('１学期'!EL22)=0,\"\",'１学期'!EL22),\"\")),\"\")","v":""},{"$f":"IF(LEN(O280)=0,\"\",IF(COUNTIF($O$2:$O$1921,O280+1)>0,\"\",IF(COUNTIF($O$2:O280,O280)>1,\"\",O280+1)))","v":""},{"$f":"IFERROR(SMALL($P$1:$P$1921,279),\"\")","v":""}]
[null,null,null,null,null,null,null,null,null,null,null,null,null,null,{"$f":"IF(281<=$B$10,IF(LEN('１学期'!EI25)=0,\"\",IF('１学期'!EI25=$B$8,IF(LEN('１学期'!EL25)=0,\"\",'１学期'!EL25),\"\")),\"\")","v":""},{"$f":"IF(LEN(O281)=0,\"\",IF(COUNTIF($O$2:$O$1921,O281+1)>0,\"\",IF(COUNTIF($O$2:O281,O281)>1,\"\",O281+1)))","v":""},{"$f":"IFERROR(SMALL($P$1:$P$1921,280),\"\")","v":""}]
[null,null,null,null,null,null,null,null,null,null,null,null,null,null,{"$f":"IF(282<=$B$10,IF(LEN('１学期'!EM6)=0,\"\",IF('１学期'!EM6=$B$8,IF(LEN('１学期'!EP6)=0,\"\",'１学期'!EP6),\"\")),\"\")","v":""},{"$f":"IF(LEN(O282)=0,\"\",IF(COUNTIF($O$2:$O$1921,O282+1)>0,\"\",IF(COUNTIF($O$2:O282,O282)>1,\"\",O282+1)))","v":""},{"$f":"IFERROR(SMALL($P$1:$P$1921,281),\"\")","v":""}]
[null,null,null,null,null,null,null,null,null,null,null,null,null,null,{"$f":"IF(283<=$B$10,IF(LEN('１学期'!EM7)=0,\"\",IF('１学期'!EM7=$B$8,IF(LEN('１学期'!EP7)=0,\"\",'１学期'!EP7),\"\")),\"\")","v":""},{"$f":"IF(LEN(O283)=0,\"\",IF(COUNTIF($O$2:$O$1921,O283+1)>0,\"\",IF(COUNTIF($O$2:O283,O283)>1,\"\",O283+1)))","v":""},{"$f":"IFERROR(SMALL($P$1:$P$1921,282),\"\")","v":""}]
[null,null,null,null,null,null,null,null,null,null,null,null,null,null,{"$f":"IF(284<=$B$10,IF(LEN('１学期'!EM10)=0,\"\",IF('１学期'!EM10=$B$8,IF(LEN('１学期'!EP10)=0,\"\",'１学期'!EP10),\"\")),\"\")","v":""},{"$f":"IF(LEN(O284)=0,\"\",IF(COUNTIF($O$2:$O$1921,O284+1)>0,\"\",IF(COUNTIF($O$2:O284,O284)>1,\"\",O284+1)))","v":""},{"$f":"IFERROR(SMALL($P$1:$P$1921,283),\"\")","v":""}]
[null,null,null,null,null,null,null,null,null,null,null,null,null,null,{"$f":"IF(285<=$B$10,IF(LEN('１学期'!EM13)=0,\"\",IF('１学期'!EM13=$B$8,IF(LEN('１学期'!EP13)=0,\"\",'１学期'!EP13),\"\")),\"\")","v":""},{"$f":"IF(LEN(O285)=0,\"\",IF(COUNTIF($O$2:$O$1921,O285+1)>0,\"\",IF(COUNTIF($O$2:O285,O285)>1,\"\",O285+1)))","v":""},{"$f":"IFERROR(SMALL($P$1:$P$1921,284),\"\")","v":""}]
[null,null,null,null,null,null,null,null,null,null,null,null,null,null,{"$f":"IF(286<=$B$10,IF(LEN('１学期'!EM16)=0,\"\",IF('１学期'!EM16=$B$8,IF(LEN('１学期'!EP16)=0,\"\",'１学期'!EP16),\"\")),\"\")","v":""},{"$f":"IF(LEN(O286)=0,\"\",IF(COUNTIF($O$2:$O$1921,O286+1)>0,\"\",IF(COUNTIF($O$2:O286,O286)>1,\"\",O286+1)))","v":""},{"$f":"IFERROR(SMALL($P$1:$P$1921,285),\"\")","v":""}]
[null,null,null,null,null,null,null,null,null,null,null,null,null,null,{"$f":"IF(287<=$B$10,IF(LEN('１学期'!EM19)=0,\"\",IF('１学期'!EM19=$B$8,IF(LEN('１学期'!EP19)=0,\"\",'１学期'!EP19),\"\")),\"\")","v":""},{"$f":"IF(LEN(O287)=0,\"\",IF(COUNTIF($O$2:$O$1921,O287+1)>0,\"\",IF(COUNTIF($O$2:O287,O287)>1,\"\",O287+1)))","v":""},{"$f":"IFERROR(SMALL($P$1:$P$1921,286),\"\")","v":""}]
[null,null,null,null,null,null,null,null,null,null,null,null,null,null,{"$f":"IF(288<=$B$10,IF(LEN('１学期'!EM22)=0,\"\",IF('１学期'!EM22=$B$8,IF(LEN('１学期'!EP22)=0,\"\",'１学期'!EP22),\"\")),\"\")","v":""},{"$f":"IF(LEN(O288)=0,\"\",IF(COUNTIF($O$2:$O$1921,O288+1)>0,\"\",IF(COUNTIF($O$2:O288,O288)>1,\"\",O288+1)))","v":""},{"$f":"IFERROR(SMALL($P$1:$P$1921,287),\"\")","v":""}]
[null,null,null,null,null,null,null,null,null,null,null,null,null,null,{"$f":"IF(289<=$B$10,IF(LEN('１学期'!EM25)=0,\"\",IF('１学期'!EM25=$B$8,IF(LEN('１学期'!EP25)=0,\"\",'１学期'!EP25),\"\")),\"\")","v":""},{"$f":"IF(LEN(O289)=0,\"\",IF(COUNTIF($O$2:$O$1921,O289+1)>0,\"\",IF(COUNTIF($O$2:O289,O289)>1,\"\",O289+1)))","v":""},{"$f":"IFERROR(SMALL($P$1:$P$1921,288),\"\")","v":""}]
[null,null,null,null,null,null,null,null,null,null,null,null,null,null,{"$f":"IF(290<=$B$10,IF(LEN('１学期'!EQ6)=0,\"\",IF('１学期'!EQ6=$B$8,IF(LEN('１学期'!ET6)=0,\"\",'１学期'!ET6),\"\")),\"\")","v":""},{"$f":"IF(LEN(O290)=0,\"\",IF(COUNTIF($O$2:$O$1921,O290+1)>0,\"\",IF(COUNTIF($O$2:O290,O290)>1,\"\",O290+1)))","v":""},{"$f":"IFERROR(SMALL($P$1:$P$1921,289),\"\")","v":""}]
[null,null,null,null,null,null,null,null,null,null,null,null,null,null,{"$f":"IF(291<=$B$10,IF(LEN('１学期'!EQ7)=0,\"\",IF('１学期'!EQ7=$B$8,IF(LEN('１学期'!ET7)=0,\"\",'１学期'!ET7),\"\")),\"\")","v":""},{"$f":"IF(LEN(O291)=0,\"\",IF(COUNTIF($O$2:$O$1921,O291+1)>0,\"\",IF(COUNTIF($O$2:O291,O291)>1,\"\",O291+1)))","v":""},{"$f":"IFERROR(SMALL($P$1:$P$1921,290),\"\")","v":""}]
[null,null,null,null,null,null,null,null,null,null,null,null,null,null,{"$f":"IF(292<=$B$10,IF(LEN('１学期'!EQ10)=0,\"\",IF('１学期'!EQ10=$B$8,IF(LEN('１学期'!ET10)=0,\"\",'１学期'!ET10),\"\")),\"\")","v":""},{"$f":"IF(LEN(O292)=0,\"\",IF(COUNTIF($O$2:$O$1921,O292+1)>0,\"\",IF(COUNTIF($O$2:O292,O292)>1,\"\",O292+1)))","v":""},{"$f":"IFERROR(SMALL($P$1:$P$1921,291),\"\")","v":""}]
[null,null,null,null,null,null,null,null,null,null,null,null,null,null,{"$f":"IF(293<=$B$10,IF(LEN('１学期'!EQ13)=0,\"\",IF('１学期'!EQ13=$B$8,IF(LEN('１学期'!ET13)=0,\"\",'１学期'!ET13),\"\")),\"\")","v":""},{"$f":"IF(LEN(O293)=0,\"\",IF(COUNTIF($O$2:$O$1921,O293+1)>0,\"\",IF(COUNTIF($O$2:O293,O293)>1,\"\",O293+1)))","v":""},{"$f":"IFERROR(SMALL($P$1:$P$1921,292),\"\")","v":""}]
[null,null,null,null,null,null,null,null,null,null,null,null,null,null,{"$f":"IF(294<=$B$10,IF(LEN('１学期'!EQ16)=0,\"\",IF('１学期'!EQ16=$B$8,IF(LEN('１学期'!ET16)=0,\"\",'１学期'!ET16),\"\")),\"\")","v":""},{"$f":"IF(LEN(O294)=0,\"\",IF(COUNTIF($O$2:$O$1921,O294+1)>0,\"\",IF(COUNTIF($O$2:O294,O294)>1,\"\",O294+1)))","v":""},{"$f":"IFERROR(SMALL($P$1:$P$1921,293),\"\")","v":""}]
[null,null,null,null,null,null,null,null,null,null,null,null,null,null,{"$f":"IF(295<=$B$10,IF(LEN('１学期'!EQ19)=0,\"\",IF('１学期'!EQ19=$B$8,IF(LEN('１学期'!ET19)=0,\"\",'１学期'!ET19),\"\")),\"\")","v":""},{"$f":"IF(LEN(O295)=0,\"\",IF(COUNTIF($O$2:$O$1921,O295+1)>0,\"\",IF(COUNTIF($O$2:O295,O295)>1,\"\",O295+1)))","v":""},{"$f":"IFERROR(SMALL($P$1:$P$1921,294),\"\")","v":""}]
[null,null,null,null,null,null,null,null,null,null,null,null,null,null,{"$f":"IF(296<=$B$10,IF(LEN('１学期'!EQ22)=0,\"\",IF('１学期'!EQ22=$B$8,IF(LEN('１学期'!ET22)=0,\"\",'１学期'!ET22),\"\")),\"\")","v":""},{"$f":"IF(LEN(O296)=0,\"\",IF(COUNTIF($O$2:$O$1921,O296+1)>0,\"\",IF(COUNTIF($O$2:O296,O296)>1,\"\",O296+1)))","v":""},{"$f":"IFERROR(SMALL($P$1:$P$1921,295),\"\")","v":""}]
[null,null,null,null,null,null,null,null,null,null,null,null,null,null,{"$f":"IF(297<=$B$10,IF(LEN('１学期'!EQ25)=0,\"\",IF('１学期'!EQ25=$B$8,IF(LEN('１学期'!ET25)=0,\"\",'１学期'!ET25),\"\")),\"\")","v":""},{"$f":"IF(LEN(O297)=0,\"\",IF(COUNTIF($O$2:$O$1921,O297+1)>0,\"\",IF(COUNTIF($O$2:O297,O297)>1,\"\",O297+1)))","v":""},{"$f":"IFERROR(SMALL($P$1:$P$1921,296),\"\")","v":""}]
[null,null,null,null,null,null,null,null,null,null,null,null,null,null,{"$f":"IF(298<=$B$10,IF(LEN('１学期'!EU6)=0,\"\",IF('１学期'!EU6=$B$8,IF(LEN('１学期'!EX6)=0,\"\",'１学期'!EX6),\"\")),\"\")","v":""},{"$f":"IF(LEN(O298)=0,\"\",IF(COUNTIF($O$2:$O$1921,O298+1)>0,\"\",IF(COUNTIF($O$2:O298,O298)>1,\"\",O298+1)))","v":""},{"$f":"IFERROR(SMALL($P$1:$P$1921,297),\"\")","v":""}]
[null,null,null,null,null,null,null,null,null,null,null,null,null,null,{"$f":"IF(299<=$B$10,IF(LEN('１学期'!EU7)=0,\"\",IF('１学期'!EU7=$B$8,IF(LEN('１学期'!EX7)=0,\"\",'１学期'!EX7),\"\")),\"\")","v":""},{"$f":"IF(LEN(O299)=0,\"\",IF(COUNTIF($O$2:$O$1921,O299+1)>0,\"\",IF(COUNTIF($O$2:O299,O299)>1,\"\",O299+1)))","v":""},{"$f":"IFERROR(SMALL($P$1:$P$1921,298),\"\")","v":""}]
[null,null,null,null,null,null,null,null,null,null,null,null,null,null,{"$f":"IF(300<=$B$10,IF(LEN('１学期'!EU10)=0,\"\",IF('１学期'!EU10=$B$8,IF(LEN('１学期'!EX10)=0,\"\",'１学期'!EX10),\"\")),\"\")","v":""},{"$f":"IF(LEN(O300)=0,\"\",IF(COUNTIF($O$2:$O$1921,O300+1)>0,\"\",IF(COUNTIF($O$2:O300,O300)>1,\"\",O300+1)))","v":""},{"$f":"IFERROR(SMALL($P$1:$P$1921,299),\"\")","v":""}]
[null,null,null,null,null,null,null,null,null,null,null,null,null,null,{"$f":"IF(301<=$B$10,IF(LEN('１学期'!EU13)=0,\"\",IF('１学期'!EU13=$B$8,IF(LEN('１学期'!EX13)=0,\"\",'１学期'!EX13),\"\")),\"\")","v":""},{"$f":"IF(LEN(O301)=0,\"\",IF(COUNTIF($O$2:$O$1921,O301+1)>0,\"\",IF(COUNTIF($O$2:O301,O301)>1,\"\",O301+1)))","v":""},{"$f":"IFERROR(SMALL($P$1:$P$1921,300),\"\")","v":""}]
[null,null,null,null,null,null,null,null,null,null,null,null,null,null,{"$f":"IF(302<=$B$10,IF(LEN('１学期'!EU16)=0,\"\",IF('１学期'!EU16=$B$8,IF(LEN('１学期'!EX16)=0,\"\",'１学期'!EX16),\"\")),\"\")","v":""},{"$f":"IF(LEN(O302)=0,\"\",IF(COUNTIF($O$2:$O$1921,O302+1)>0,\"\",IF(COUNTIF($O$2:O302,O302)>1,\"\",O302+1)))","v":""},{"$f":"IFERROR(SMALL($P$1:$P$1921,301),\"\")","v":""}]
[null,null,null,null,null,null,null,null,null,null,null,null,null,null,{"$f":"IF(303<=$B$10,IF(LEN('１学期'!EU19)=0,\"\",IF('１学期'!EU19=$B$8,IF(LEN('１学期'!EX19)=0,\"\",'１学期'!EX19),\"\")),\"\")","v":""},{"$f":"IF(LEN(O303)=0,\"\",IF(COUNTIF($O$2:$O$1921,O303+1)>0,\"\",IF(COUNTIF($O$2:O303,O303)>1,\"\",O303+1)))","v":""},{"$f":"IFERROR(SMALL($P$1:$P$1921,302),\"\")","v":""}]
[null,null,null,null,null,null,null,null,null,null,null,null,null,null,{"$f":"IF(304<=$B$10,IF(LEN('１学期'!EU22)=0,\"\",IF('１学期'!EU22=$B$8,IF(LEN('１学期'!EX22)=0,\"\",'１学期'!EX22),\"\")),\"\")","v":""},{"$f":"IF(LEN(O304)=0,\"\",IF(COUNTIF($O$2:$O$1921,O304+1)>0,\"\",IF(COUNTIF($O$2:O304,O304)>1,\"\",O304+1)))","v":""},{"$f":"IFERROR(SMALL($P$1:$P$1921,303),\"\")","v":""}]
[null,null,null,null,null,null,null,null,null,null,null,null,null,null,{"$f":"IF(305<=$B$10,IF(LEN('１学期'!EU25)=0,\"\",IF('１学期'!EU25=$B$8,IF(LEN('１学期'!EX25)=0,\"\",'１学期'!EX25),\"\")),\"\")","v":""},{"$f":"IF(LEN(O305)=0,\"\",IF(COUNTIF($O$2:$O$1921,O305+1)>0,\"\",IF(COUNTIF($O$2:O305,O305)>1,\"\",O305+1)))","v":""},{"$f":"IFERROR(SMALL($P$1:$P$1921,304),\"\")","v":""}]
[null,null,null,null,null,null,null,null,null,null,null,null,null,null,{"$f":"IF(306<=$B$10,IF(LEN('１学期'!EY6)=0,\"\",IF('１学期'!EY6=$B$8,IF(LEN('１学期'!FB6)=0,\"\",'１学期'!FB6),\"\")),\"\")","v":""},{"$f":"IF(LEN(O306)=0,\"\",IF(COUNTIF($O$2:$O$1921,O306+1)>0,\"\",IF(COUNTIF($O$2:O306,O306)>1,\"\",O306+1)))","v":""},{"$f":"IFERROR(SMALL($P$1:$P$1921,305),\"\")","v":""}]
[null,null,null,null,null,null,null,null,null,null,null,null,null,null,{"$f":"IF(307<=$B$10,IF(LEN('１学期'!EY7)=0,\"\",IF('１学期'!EY7=$B$8,IF(LEN('１学期'!FB7)=0,\"\",'１学期'!FB7),\"\")),\"\")","v":""},{"$f":"IF(LEN(O307)=0,\"\",IF(COUNTIF($O$2:$O$1921,O307+1)>0,\"\",IF(COUNTIF($O$2:O307,O307)>1,\"\",O307+1)))","v":""},{"$f":"IFERROR(SMALL($P$1:$P$1921,306),\"\")","v":""}]
[null,null,null,null,null,null,null,null,null,null,null,null,null,null,{"$f":"IF(308<=$B$10,IF(LEN('１学期'!EY10)=0,\"\",IF('１学期'!EY10=$B$8,IF(LEN('１学期'!FB10)=0,\"\",'１学期'!FB10),\"\")),\"\")","v":""},{"$f":"IF(LEN(O308)=0,\"\",IF(COUNTIF($O$2:$O$1921,O308+1)>0,\"\",IF(COUNTIF($O$2:O308,O308)>1,\"\",O308+1)))","v":""},{"$f":"IFERROR(SMALL($P$1:$P$1921,307),\"\")","v":""}]
[null,null,null,null,null,null,null,null,null,null,null,null,null,null,{"$f":"IF(309<=$B$10,IF(LEN('１学期'!EY13)=0,\"\",IF('１学期'!EY13=$B$8,IF(LEN('１学期'!FB13)=0,\"\",'１学期'!FB13),\"\")),\"\")","v":""},{"$f":"IF(LEN(O309)=0,\"\",IF(COUNTIF($O$2:$O$1921,O309+1)>0,\"\",IF(COUNTIF($O$2:O309,O309)>1,\"\",O309+1)))","v":""},{"$f":"IFERROR(SMALL($P$1:$P$1921,308),\"\")","v":""}]
[null,null,null,null,null,null,null,null,null,null,null,null,null,null,{"$f":"IF(310<=$B$10,IF(LEN('１学期'!EY16)=0,\"\",IF('１学期'!EY16=$B$8,IF(LEN('１学期'!FB16)=0,\"\",'１学期'!FB16),\"\")),\"\")","v":""},{"$f":"IF(LEN(O310)=0,\"\",IF(COUNTIF($O$2:$O$1921,O310+1)>0,\"\",IF(COUNTIF($O$2:O310,O310)>1,\"\",O310+1)))","v":""},{"$f":"IFERROR(SMALL($P$1:$P$1921,309),\"\")","v":""}]
[null,null,null,null,null,null,null,null,null,null,null,null,null,null,{"$f":"IF(311<=$B$10,IF(LEN('１学期'!EY19)=0,\"\",IF('１学期'!EY19=$B$8,IF(LEN('１学期'!FB19)=0,\"\",'１学期'!FB19),\"\")),\"\")","v":""},{"$f":"IF(LEN(O311)=0,\"\",IF(COUNTIF($O$2:$O$1921,O311+1)>0,\"\",IF(COUNTIF($O$2:O311,O311)>1,\"\",O311+1)))","v":""},{"$f":"IFERROR(SMALL($P$1:$P$1921,310),\"\")","v":""}]
[null,null,null,null,null,null,null,null,null,null,null,null,null,null,{"$f":"IF(312<=$B$10,IF(LEN('１学期'!EY22)=0,\"\",IF('１学期'!EY22=$B$8,IF(LEN('１学期'!FB22)=0,\"\",'１学期'!FB22),\"\")),\"\")","v":""},{"$f":"IF(LEN(O312)=0,\"\",IF(COUNTIF($O$2:$O$1921,O312+1)>0,\"\",IF(COUNTIF($O$2:O312,O312)>1,\"\",O312+1)))","v":""},{"$f":"IFERROR(SMALL($P$1:$P$1921,311),\"\")","v":""}]
[null,null,null,null,null,null,null,null,null,null,null,null,null,null,{"$f":"IF(313<=$B$10,IF(LEN('１学期'!EY25)=0,\"\",IF('１学期'!EY25=$B$8,IF(LEN('１学期'!FB25)=0,\"\",'１学期'!FB25),\"\")),\"\")","v":""},{"$f":"IF(LEN(O313)=0,\"\",IF(COUNTIF($O$2:$O$1921,O313+1)>0,\"\",IF(COUNTIF($O$2:O313,O313)>1,\"\",O313+1)))","v":""},{"$f":"IFERROR(SMALL($P$1:$P$1921,312),\"\")","v":""}]
[null,null,null,null,null,null,null,null,null,null,null,null,null,null,{"$f":"IF(314<=$B$10,IF(LEN('１学期'!FC6)=0,\"\",IF('１学期'!FC6=$B$8,IF(LEN('１学期'!FF6)=0,\"\",'１学期'!FF6),\"\")),\"\")","v":""},{"$f":"IF(LEN(O314)=0,\"\",IF(COUNTIF($O$2:$O$1921,O314+1)>0,\"\",IF(COUNTIF($O$2:O314,O314)>1,\"\",O314+1)))","v":""},{"$f":"IFERROR(SMALL($P$1:$P$1921,313),\"\")","v":""}]
[null,null,null,null,null,null,null,null,null,null,null,null,null,null,{"$f":"IF(315<=$B$10,IF(LEN('１学期'!FC7)=0,\"\",IF('１学期'!FC7=$B$8,IF(LEN('１学期'!FF7)=0,\"\",'１学期'!FF7),\"\")),\"\")","v":""},{"$f":"IF(LEN(O315)=0,\"\",IF(COUNTIF($O$2:$O$1921,O315+1)>0,\"\",IF(COUNTIF($O$2:O315,O315)>1,\"\",O315+1)))","v":""},{"$f":"IFERROR(SMALL($P$1:$P$1921,314),\"\")","v":""}]
[null,null,null,null,null,null,null,null,null,null,null,null,null,null,{"$f":"IF(316<=$B$10,IF(LEN('１学期'!FC10)=0,\"\",IF('１学期'!FC10=$B$8,IF(LEN('１学期'!FF10)=0,\"\",'１学期'!FF10),\"\")),\"\")","v":""},{"$f":"IF(LEN(O316)=0,\"\",IF(COUNTIF($O$2:$O$1921,O316+1)>0,\"\",IF(COUNTIF($O$2:O316,O316)>1,\"\",O316+1)))","v":""},{"$f":"IFERROR(SMALL($P$1:$P$1921,315),\"\")","v":""}]
[null,null,null,null,null,null,null,null,null,null,null,null,null,null,{"$f":"IF(317<=$B$10,IF(LEN('１学期'!FC13)=0,\"\",IF('１学期'!FC13=$B$8,IF(LEN('１学期'!FF13)=0,\"\",'１学期'!FF13),\"\")),\"\")","v":""},{"$f":"IF(LEN(O317)=0,\"\",IF(COUNTIF($O$2:$O$1921,O317+1)>0,\"\",IF(COUNTIF($O$2:O317,O317)>1,\"\",O317+1)))","v":""},{"$f":"IFERROR(SMALL($P$1:$P$1921,316),\"\")","v":""}]
[null,null,null,null,null,null,null,null,null,null,null,null,null,null,{"$f":"IF(318<=$B$10,IF(LEN('１学期'!FC16)=0,\"\",IF('１学期'!FC16=$B$8,IF(LEN('１学期'!FF16)=0,\"\",'１学期'!FF16),\"\")),\"\")","v":""},{"$f":"IF(LEN(O318)=0,\"\",IF(COUNTIF($O$2:$O$1921,O318+1)>0,\"\",IF(COUNTIF($O$2:O318,O318)>1,\"\",O318+1)))","v":""},{"$f":"IFERROR(SMALL($P$1:$P$1921,317),\"\")","v":""}]
[null,null,null,null,null,null,null,null,null,null,null,null,null,null,{"$f":"IF(319<=$B$10,IF(LEN('１学期'!FC19)=0,\"\",IF('１学期'!FC19=$B$8,IF(LEN('１学期'!FF19)=0,\"\",'１学期'!FF19),\"\")),\"\")","v":""},{"$f":"IF(LEN(O319)=0,\"\",IF(COUNTIF($O$2:$O$1921,O319+1)>0,\"\",IF(COUNTIF($O$2:O319,O319)>1,\"\",O319+1)))","v":""},{"$f":"IFERROR(SMALL($P$1:$P$1921,318),\"\")","v":""}]
[null,null,null,null,null,null,null,null,null,null,null,null,null,null,{"$f":"IF(320<=$B$10,IF(LEN('１学期'!FC22)=0,\"\",IF('１学期'!FC22=$B$8,IF(LEN('１学期'!FF22)=0,\"\",'１学期'!FF22),\"\")),\"\")","v":""},{"$f":"IF(LEN(O320)=0,\"\",IF(COUNTIF($O$2:$O$1921,O320+1)>0,\"\",IF(COUNTIF($O$2:O320,O320)>1,\"\",O320+1)))","v":""},{"$f":"IFERROR(SMALL($P$1:$P$1921,319),\"\")","v":""}]
[null,null,null,null,null,null,null,null,null,null,null,null,null,null,{"$f":"IF(321<=$B$10,IF(LEN('１学期'!FC25)=0,\"\",IF('１学期'!FC25=$B$8,IF(LEN('１学期'!FF25)=0,\"\",'１学期'!FF25),\"\")),\"\")","v":""},{"$f":"IF(LEN(O321)=0,\"\",IF(COUNTIF($O$2:$O$1921,O321+1)>0,\"\",IF(COUNTIF($O$2:O321,O321)>1,\"\",O321+1)))","v":""},{"$f":"IFERROR(SMALL($P$1:$P$1921,320),\"\")","v":""}]
[null,null,null,null,null,null,null,null,null,null,null,null,null,null,{"$f":"IF(322<=$B$10,IF(LEN('１学期'!FG6)=0,\"\",IF('１学期'!FG6=$B$8,IF(LEN('１学期'!FJ6)=0,\"\",'１学期'!FJ6),\"\")),\"\")","v":""},{"$f":"IF(LEN(O322)=0,\"\",IF(COUNTIF($O$2:$O$1921,O322+1)>0,\"\",IF(COUNTIF($O$2:O322,O322)>1,\"\",O322+1)))","v":""},{"$f":"IFERROR(SMALL($P$1:$P$1921,321),\"\")","v":""}]
[null,null,null,null,null,null,null,null,null,null,null,null,null,null,{"$f":"IF(323<=$B$10,IF(LEN('１学期'!FG7)=0,\"\",IF('１学期'!FG7=$B$8,IF(LEN('１学期'!FJ7)=0,\"\",'１学期'!FJ7),\"\")),\"\")","v":""},{"$f":"IF(LEN(O323)=0,\"\",IF(COUNTIF($O$2:$O$1921,O323+1)>0,\"\",IF(COUNTIF($O$2:O323,O323)>1,\"\",O323+1)))","v":""},{"$f":"IFERROR(SMALL($P$1:$P$1921,322),\"\")","v":""}]
[null,null,null,null,null,null,null,null,null,null,null,null,null,null,{"$f":"IF(324<=$B$10,IF(LEN('１学期'!FG10)=0,\"\",IF('１学期'!FG10=$B$8,IF(LEN('１学期'!FJ10)=0,\"\",'１学期'!FJ10),\"\")),\"\")","v":""},{"$f":"IF(LEN(O324)=0,\"\",IF(COUNTIF($O$2:$O$1921,O324+1)>0,\"\",IF(COUNTIF($O$2:O324,O324)>1,\"\",O324+1)))","v":""},{"$f":"IFERROR(SMALL($P$1:$P$1921,323),\"\")","v":""}]
[null,null,null,null,null,null,null,null,null,null,null,null,null,null,{"$f":"IF(325<=$B$10,IF(LEN('１学期'!FG13)=0,\"\",IF('１学期'!FG13=$B$8,IF(LEN('１学期'!FJ13)=0,\"\",'１学期'!FJ13),\"\")),\"\")","v":""},{"$f":"IF(LEN(O325)=0,\"\",IF(COUNTIF($O$2:$O$1921,O325+1)>0,\"\",IF(COUNTIF($O$2:O325,O325)>1,\"\",O325+1)))","v":""},{"$f":"IFERROR(SMALL($P$1:$P$1921,324),\"\")","v":""}]
[null,null,null,null,null,null,null,null,null,null,null,null,null,null,{"$f":"IF(326<=$B$10,IF(LEN('１学期'!FG16)=0,\"\",IF('１学期'!FG16=$B$8,IF(LEN('１学期'!FJ16)=0,\"\",'１学期'!FJ16),\"\")),\"\")","v":""},{"$f":"IF(LEN(O326)=0,\"\",IF(COUNTIF($O$2:$O$1921,O326+1)>0,\"\",IF(COUNTIF($O$2:O326,O326)>1,\"\",O326+1)))","v":""},{"$f":"IFERROR(SMALL($P$1:$P$1921,325),\"\")","v":""}]
[null,null,null,null,null,null,null,null,null,null,null,null,null,null,{"$f":"IF(327<=$B$10,IF(LEN('１学期'!FG19)=0,\"\",IF('１学期'!FG19=$B$8,IF(LEN('１学期'!FJ19)=0,\"\",'１学期'!FJ19),\"\")),\"\")","v":""},{"$f":"IF(LEN(O327)=0,\"\",IF(COUNTIF($O$2:$O$1921,O327+1)>0,\"\",IF(COUNTIF($O$2:O327,O327)>1,\"\",O327+1)))","v":""},{"$f":"IFERROR(SMALL($P$1:$P$1921,326),\"\")","v":""}]
[null,null,null,null,null,null,null,null,null,null,null,null,null,null,{"$f":"IF(328<=$B$10,IF(LEN('１学期'!FG22)=0,\"\",IF('１学期'!FG22=$B$8,IF(LEN('１学期'!FJ22)=0,\"\",'１学期'!FJ22),\"\")),\"\")","v":""},{"$f":"IF(LEN(O328)=0,\"\",IF(COUNTIF($O$2:$O$1921,O328+1)>0,\"\",IF(COUNTIF($O$2:O328,O328)>1,\"\",O328+1)))","v":""},{"$f":"IFERROR(SMALL($P$1:$P$1921,327),\"\")","v":""}]
[null,null,null,null,null,null,null,null,null,null,null,null,null,null,{"$f":"IF(329<=$B$10,IF(LEN('１学期'!FG25)=0,\"\",IF('１学期'!FG25=$B$8,IF(LEN('１学期'!FJ25)=0,\"\",'１学期'!FJ25),\"\")),\"\")","v":""},{"$f":"IF(LEN(O329)=0,\"\",IF(COUNTIF($O$2:$O$1921,O329+1)>0,\"\",IF(COUNTIF($O$2:O329,O329)>1,\"\",O329+1)))","v":""},{"$f":"IFERROR(SMALL($P$1:$P$1921,328),\"\")","v":""}]
[null,null,null,null,null,null,null,null,null,null,null,null,null,null,{"$f":"IF(330<=$B$10,IF(LEN('１学期'!FK6)=0,\"\",IF('１学期'!FK6=$B$8,IF(LEN('１学期'!FN6)=0,\"\",'１学期'!FN6),\"\")),\"\")","v":""},{"$f":"IF(LEN(O330)=0,\"\",IF(COUNTIF($O$2:$O$1921,O330+1)>0,\"\",IF(COUNTIF($O$2:O330,O330)>1,\"\",O330+1)))","v":""},{"$f":"IFERROR(SMALL($P$1:$P$1921,329),\"\")","v":""}]
[null,null,null,null,null,null,null,null,null,null,null,null,null,null,{"$f":"IF(331<=$B$10,IF(LEN('１学期'!FK7)=0,\"\",IF('１学期'!FK7=$B$8,IF(LEN('１学期'!FN7)=0,\"\",'１学期'!FN7),\"\")),\"\")","v":""},{"$f":"IF(LEN(O331)=0,\"\",IF(COUNTIF($O$2:$O$1921,O331+1)>0,\"\",IF(COUNTIF($O$2:O331,O331)>1,\"\",O331+1)))","v":""},{"$f":"IFERROR(SMALL($P$1:$P$1921,330),\"\")","v":""}]
[null,null,null,null,null,null,null,null,null,null,null,null,null,null,{"$f":"IF(332<=$B$10,IF(LEN('１学期'!FK10)=0,\"\",IF('１学期'!FK10=$B$8,IF(LEN('１学期'!FN10)=0,\"\",'１学期'!FN10),\"\")),\"\")","v":""},{"$f":"IF(LEN(O332)=0,\"\",IF(COUNTIF($O$2:$O$1921,O332+1)>0,\"\",IF(COUNTIF($O$2:O332,O332)>1,\"\",O332+1)))","v":""},{"$f":"IFERROR(SMALL($P$1:$P$1921,331),\"\")","v":""}]
[null,null,null,null,null,null,null,null,null,null,null,null,null,null,{"$f":"IF(333<=$B$10,IF(LEN('１学期'!FK13)=0,\"\",IF('１学期'!FK13=$B$8,IF(LEN('１学期'!FN13)=0,\"\",'１学期'!FN13),\"\")),\"\")","v":""},{"$f":"IF(LEN(O333)=0,\"\",IF(COUNTIF($O$2:$O$1921,O333+1)>0,\"\",IF(COUNTIF($O$2:O333,O333)>1,\"\",O333+1)))","v":""},{"$f":"IFERROR(SMALL($P$1:$P$1921,332),\"\")","v":""}]
[null,null,null,null,null,null,null,null,null,null,null,null,null,null,{"$f":"IF(334<=$B$10,IF(LEN('１学期'!FK16)=0,\"\",IF('１学期'!FK16=$B$8,IF(LEN('１学期'!FN16)=0,\"\",'１学期'!FN16),\"\")),\"\")","v":""},{"$f":"IF(LEN(O334)=0,\"\",IF(COUNTIF($O$2:$O$1921,O334+1)>0,\"\",IF(COUNTIF($O$2:O334,O334)>1,\"\",O334+1)))","v":""},{"$f":"IFERROR(SMALL($P$1:$P$1921,333),\"\")","v":""}]
[null,null,null,null,null,null,null,null,null,null,null,null,null,null,{"$f":"IF(335<=$B$10,IF(LEN('１学期'!FK19)=0,\"\",IF('１学期'!FK19=$B$8,IF(LEN('１学期'!FN19)=0,\"\",'１学期'!FN19),\"\")),\"\")","v":""},{"$f":"IF(LEN(O335)=0,\"\",IF(COUNTIF($O$2:$O$1921,O335+1)>0,\"\",IF(COUNTIF($O$2:O335,O335)>1,\"\",O335+1)))","v":""},{"$f":"IFERROR(SMALL($P$1:$P$1921,334),\"\")","v":""}]
[null,null,null,null,null,null,null,null,null,null,null,null,null,null,{"$f":"IF(336<=$B$10,IF(LEN('１学期'!FK22)=0,\"\",IF('１学期'!FK22=$B$8,IF(LEN('１学期'!FN22)=0,\"\",'１学期'!FN22),\"\")),\"\")","v":""},{"$f":"IF(LEN(O336)=0,\"\",IF(COUNTIF($O$2:$O$1921,O336+1)>0,\"\",IF(COUNTIF($O$2:O336,O336)>1,\"\",O336+1)))","v":""},{"$f":"IFERROR(SMALL($P$1:$P$1921,335),\"\")","v":""}]
[null,null,null,null,null,null,null,null,null,null,null,null,null,null,{"$f":"IF(337<=$B$10,IF(LEN('１学期'!FK25)=0,\"\",IF('１学期'!FK25=$B$8,IF(LEN('１学期'!FN25)=0,\"\",'１学期'!FN25),\"\")),\"\")","v":""},{"$f":"IF(LEN(O337)=0,\"\",IF(COUNTIF($O$2:$O$1921,O337+1)>0,\"\",IF(COUNTIF($O$2:O337,O337)>1,\"\",O337+1)))","v":""},{"$f":"IFERROR(SMALL($P$1:$P$1921,336),\"\")","v":""}]
[null,null,null,null,null,null,null,null,null,null,null,null,null,null,{"$f":"IF(338<=$B$10,IF(LEN('１学期'!FO6)=0,\"\",IF('１学期'!FO6=$B$8,IF(LEN('１学期'!FR6)=0,\"\",'１学期'!FR6),\"\")),\"\")","v":""},{"$f":"IF(LEN(O338)=0,\"\",IF(COUNTIF($O$2:$O$1921,O338+1)>0,\"\",IF(COUNTIF($O$2:O338,O338)>1,\"\",O338+1)))","v":""},{"$f":"IFERROR(SMALL($P$1:$P$1921,337),\"\")","v":""}]
[null,null,null,null,null,null,null,null,null,null,null,null,null,null,{"$f":"IF(339<=$B$10,IF(LEN('１学期'!FO7)=0,\"\",IF('１学期'!FO7=$B$8,IF(LEN('１学期'!FR7)=0,\"\",'１学期'!FR7),\"\")),\"\")","v":""},{"$f":"IF(LEN(O339)=0,\"\",IF(COUNTIF($O$2:$O$1921,O339+1)>0,\"\",IF(COUNTIF($O$2:O339,O339)>1,\"\",O339+1)))","v":""},{"$f":"IFERROR(SMALL($P$1:$P$1921,338),\"\")","v":""}]
[null,null,null,null,null,null,null,null,null,null,null,null,null,null,{"$f":"IF(340<=$B$10,IF(LEN('１学期'!FO10)=0,\"\",IF('１学期'!FO10=$B$8,IF(LEN('１学期'!FR10)=0,\"\",'１学期'!FR10),\"\")),\"\")","v":""},{"$f":"IF(LEN(O340)=0,\"\",IF(COUNTIF($O$2:$O$1921,O340+1)>0,\"\",IF(COUNTIF($O$2:O340,O340)>1,\"\",O340+1)))","v":""},{"$f":"IFERROR(SMALL($P$1:$P$1921,339),\"\")","v":""}]
[null,null,null,null,null,null,null,null,null,null,null,null,null,null,{"$f":"IF(341<=$B$10,IF(LEN('１学期'!FO13)=0,\"\",IF('１学期'!FO13=$B$8,IF(LEN('１学期'!FR13)=0,\"\",'１学期'!FR13),\"\")),\"\")","v":""},{"$f":"IF(LEN(O341)=0,\"\",IF(COUNTIF($O$2:$O$1921,O341+1)>0,\"\",IF(COUNTIF($O$2:O341,O341)>1,\"\",O341+1)))","v":""},{"$f":"IFERROR(SMALL($P$1:$P$1921,340),\"\")","v":""}]
[null,null,null,null,null,null,null,null,null,null,null,null,null,null,{"$f":"IF(342<=$B$10,IF(LEN('１学期'!FO16)=0,\"\",IF('１学期'!FO16=$B$8,IF(LEN('１学期'!FR16)=0,\"\",'１学期'!FR16),\"\")),\"\")","v":""},{"$f":"IF(LEN(O342)=0,\"\",IF(COUNTIF($O$2:$O$1921,O342+1)>0,\"\",IF(COUNTIF($O$2:O342,O342)>1,\"\",O342+1)))","v":""},{"$f":"IFERROR(SMALL($P$1:$P$1921,341),\"\")","v":""}]
[null,null,null,null,null,null,null,null,null,null,null,null,null,null,{"$f":"IF(343<=$B$10,IF(LEN('１学期'!FO19)=0,\"\",IF('１学期'!FO19=$B$8,IF(LEN('１学期'!FR19)=0,\"\",'１学期'!FR19),\"\")),\"\")","v":""},{"$f":"IF(LEN(O343)=0,\"\",IF(COUNTIF($O$2:$O$1921,O343+1)>0,\"\",IF(COUNTIF($O$2:O343,O343)>1,\"\",O343+1)))","v":""},{"$f":"IFERROR(SMALL($P$1:$P$1921,342),\"\")","v":""}]
[null,null,null,null,null,null,null,null,null,null,null,null,null,null,{"$f":"IF(344<=$B$10,IF(LEN('１学期'!FO22)=0,\"\",IF('１学期'!FO22=$B$8,IF(LEN('１学期'!FR22)=0,\"\",'１学期'!FR22),\"\")),\"\")","v":""},{"$f":"IF(LEN(O344)=0,\"\",IF(COUNTIF($O$2:$O$1921,O344+1)>0,\"\",IF(COUNTIF($O$2:O344,O344)>1,\"\",O344+1)))","v":""},{"$f":"IFERROR(SMALL($P$1:$P$1921,343),\"\")","v":""}]
[null,null,null,null,null,null,null,null,null,null,null,null,null,null,{"$f":"IF(345<=$B$10,IF(LEN('１学期'!FO25)=0,\"\",IF('１学期'!FO25=$B$8,IF(LEN('１学期'!FR25)=0,\"\",'１学期'!FR25),\"\")),\"\")","v":""},{"$f":"IF(LEN(O345)=0,\"\",IF(COUNTIF($O$2:$O$1921,O345+1)>0,\"\",IF(COUNTIF($O$2:O345,O345)>1,\"\",O345+1)))","v":""},{"$f":"IFERROR(SMALL($P$1:$P$1921,344),\"\")","v":""}]
[null,null,null,null,null,null,null,null,null,null,null,null,null,null,{"$f":"IF(346<=$B$10,IF(LEN('１学期'!FS6)=0,\"\",IF('１学期'!FS6=$B$8,IF(LEN('１学期'!FV6)=0,\"\",'１学期'!FV6),\"\")),\"\")","v":""},{"$f":"IF(LEN(O346)=0,\"\",IF(COUNTIF($O$2:$O$1921,O346+1)>0,\"\",IF(COUNTIF($O$2:O346,O346)>1,\"\",O346+1)))","v":""},{"$f":"IFERROR(SMALL($P$1:$P$1921,345),\"\")","v":""}]
[null,null,null,null,null,null,null,null,null,null,null,null,null,null,{"$f":"IF(347<=$B$10,IF(LEN('１学期'!FS7)=0,\"\",IF('１学期'!FS7=$B$8,IF(LEN('１学期'!FV7)=0,\"\",'１学期'!FV7),\"\")),\"\")","v":""},{"$f":"IF(LEN(O347)=0,\"\",IF(COUNTIF($O$2:$O$1921,O347+1)>0,\"\",IF(COUNTIF($O$2:O347,O347)>1,\"\",O347+1)))","v":""},{"$f":"IFERROR(SMALL($P$1:$P$1921,346),\"\")","v":""}]
[null,null,null,null,null,null,null,null,null,null,null,null,null,null,{"$f":"IF(348<=$B$10,IF(LEN('１学期'!FS10)=0,\"\",IF('１学期'!FS10=$B$8,IF(LEN('１学期'!FV10)=0,\"\",'１学期'!FV10),\"\")),\"\")","v":""},{"$f":"IF(LEN(O348)=0,\"\",IF(COUNTIF($O$2:$O$1921,O348+1)>0,\"\",IF(COUNTIF($O$2:O348,O348)>1,\"\",O348+1)))","v":""},{"$f":"IFERROR(SMALL($P$1:$P$1921,347),\"\")","v":""}]
[null,null,null,null,null,null,null,null,null,null,null,null,null,null,{"$f":"IF(349<=$B$10,IF(LEN('１学期'!FS13)=0,\"\",IF('１学期'!FS13=$B$8,IF(LEN('１学期'!FV13)=0,\"\",'１学期'!FV13),\"\")),\"\")","v":""},{"$f":"IF(LEN(O349)=0,\"\",IF(COUNTIF($O$2:$O$1921,O349+1)>0,\"\",IF(COUNTIF($O$2:O349,O349)>1,\"\",O349+1)))","v":""},{"$f":"IFERROR(SMALL($P$1:$P$1921,348),\"\")","v":""}]
[null,null,null,null,null,null,null,null,null,null,null,null,null,null,{"$f":"IF(350<=$B$10,IF(LEN('１学期'!FS16)=0,\"\",IF('１学期'!FS16=$B$8,IF(LEN('１学期'!FV16)=0,\"\",'１学期'!FV16),\"\")),\"\")","v":""},{"$f":"IF(LEN(O350)=0,\"\",IF(COUNTIF($O$2:$O$1921,O350+1)>0,\"\",IF(COUNTIF($O$2:O350,O350)>1,\"\",O350+1)))","v":""},{"$f":"IFERROR(SMALL($P$1:$P$1921,349),\"\")","v":""}]
[null,null,null,null,null,null,null,null,null,null,null,null,null,null,{"$f":"IF(351<=$B$10,IF(LEN('１学期'!FS19)=0,\"\",IF('１学期'!FS19=$B$8,IF(LEN('１学期'!FV19)=0,\"\",'１学期'!FV19),\"\")),\"\")","v":""},{"$f":"IF(LEN(O351)=0,\"\",IF(COUNTIF($O$2:$O$1921,O351+1)>0,\"\",IF(COUNTIF($O$2:O351,O351)>1,\"\",O351+1)))","v":""},{"$f":"IFERROR(SMALL($P$1:$P$1921,350),\"\")","v":""}]
[null,null,null,null,null,null,null,null,null,null,null,null,null,null,{"$f":"IF(352<=$B$10,IF(LEN('１学期'!FS22)=0,\"\",IF('１学期'!FS22=$B$8,IF(LEN('１学期'!FV22)=0,\"\",'１学期'!FV22),\"\")),\"\")","v":""},{"$f":"IF(LEN(O352)=0,\"\",IF(COUNTIF($O$2:$O$1921,O352+1)>0,\"\",IF(COUNTIF($O$2:O352,O352)>1,\"\",O352+1)))","v":""},{"$f":"IFERROR(SMALL($P$1:$P$1921,351),\"\")","v":""}]
[null,null,null,null,null,null,null,null,null,null,null,null,null,null,{"$f":"IF(353<=$B$10,IF(LEN('１学期'!FS25)=0,\"\",IF('１学期'!FS25=$B$8,IF(LEN('１学期'!FV25)=0,\"\",'１学期'!FV25),\"\")),\"\")","v":""},{"$f":"IF(LEN(O353)=0,\"\",IF(COUNTIF($O$2:$O$1921,O353+1)>0,\"\",IF(COUNTIF($O$2:O353,O353)>1,\"\",O353+1)))","v":""},{"$f":"IFERROR(SMALL($P$1:$P$1921,352),\"\")","v":""}]
[null,null,null,null,null,null,null,null,null,null,null,null,null,null,{"$f":"IF(354<=$B$10,IF(LEN('１学期'!FW6)=0,\"\",IF('１学期'!FW6=$B$8,IF(LEN('１学期'!FZ6)=0,\"\",'１学期'!FZ6),\"\")),\"\")","v":""},{"$f":"IF(LEN(O354)=0,\"\",IF(COUNTIF($O$2:$O$1921,O354+1)>0,\"\",IF(COUNTIF($O$2:O354,O354)>1,\"\",O354+1)))","v":""},{"$f":"IFERROR(SMALL($P$1:$P$1921,353),\"\")","v":""}]
[null,null,null,null,null,null,null,null,null,null,null,null,null,null,{"$f":"IF(355<=$B$10,IF(LEN('１学期'!FW7)=0,\"\",IF('１学期'!FW7=$B$8,IF(LEN('１学期'!FZ7)=0,\"\",'１学期'!FZ7),\"\")),\"\")","v":""},{"$f":"IF(LEN(O355)=0,\"\",IF(COUNTIF($O$2:$O$1921,O355+1)>0,\"\",IF(COUNTIF($O$2:O355,O355)>1,\"\",O355+1)))","v":""},{"$f":"IFERROR(SMALL($P$1:$P$1921,354),\"\")","v":""}]
[null,null,null,null,null,null,null,null,null,null,null,null,null,null,{"$f":"IF(356<=$B$10,IF(LEN('１学期'!FW10)=0,\"\",IF('１学期'!FW10=$B$8,IF(LEN('１学期'!FZ10)=0,\"\",'１学期'!FZ10),\"\")),\"\")","v":""},{"$f":"IF(LEN(O356)=0,\"\",IF(COUNTIF($O$2:$O$1921,O356+1)>0,\"\",IF(COUNTIF($O$2:O356,O356)>1,\"\",O356+1)))","v":""},{"$f":"IFERROR(SMALL($P$1:$P$1921,355),\"\")","v":""}]
[null,null,null,null,null,null,null,null,null,null,null,null,null,null,{"$f":"IF(357<=$B$10,IF(LEN('１学期'!FW13)=0,\"\",IF('１学期'!FW13=$B$8,IF(LEN('１学期'!FZ13)=0,\"\",'１学期'!FZ13),\"\")),\"\")","v":""},{"$f":"IF(LEN(O357)=0,\"\",IF(COUNTIF($O$2:$O$1921,O357+1)>0,\"\",IF(COUNTIF($O$2:O357,O357)>1,\"\",O357+1)))","v":""},{"$f":"IFERROR(SMALL($P$1:$P$1921,356),\"\")","v":""}]
[null,null,null,null,null,null,null,null,null,null,null,null,null,null,{"$f":"IF(358<=$B$10,IF(LEN('１学期'!FW16)=0,\"\",IF('１学期'!FW16=$B$8,IF(LEN('１学期'!FZ16)=0,\"\",'１学期'!FZ16),\"\")),\"\")","v":""},{"$f":"IF(LEN(O358)=0,\"\",IF(COUNTIF($O$2:$O$1921,O358+1)>0,\"\",IF(COUNTIF($O$2:O358,O358)>1,\"\",O358+1)))","v":""},{"$f":"IFERROR(SMALL($P$1:$P$1921,357),\"\")","v":""}]
[null,null,null,null,null,null,null,null,null,null,null,null,null,null,{"$f":"IF(359<=$B$10,IF(LEN('１学期'!FW19)=0,\"\",IF('１学期'!FW19=$B$8,IF(LEN('１学期'!FZ19)=0,\"\",'１学期'!FZ19),\"\")),\"\")","v":""},{"$f":"IF(LEN(O359)=0,\"\",IF(COUNTIF($O$2:$O$1921,O359+1)>0,\"\",IF(COUNTIF($O$2:O359,O359)>1,\"\",O359+1)))","v":""},{"$f":"IFERROR(SMALL($P$1:$P$1921,358),\"\")","v":""}]
[null,null,null,null,null,null,null,null,null,null,null,null,null,null,{"$f":"IF(360<=$B$10,IF(LEN('１学期'!FW22)=0,\"\",IF('１学期'!FW22=$B$8,IF(LEN('１学期'!FZ22)=0,\"\",'１学期'!FZ22),\"\")),\"\")","v":""},{"$f":"IF(LEN(O360)=0,\"\",IF(COUNTIF($O$2:$O$1921,O360+1)>0,\"\",IF(COUNTIF($O$2:O360,O360)>1,\"\",O360+1)))","v":""},{"$f":"IFERROR(SMALL($P$1:$P$1921,359),\"\")","v":""}]
[null,null,null,null,null,null,null,null,null,null,null,null,null,null,{"$f":"IF(361<=$B$10,IF(LEN('１学期'!FW25)=0,\"\",IF('１学期'!FW25=$B$8,IF(LEN('１学期'!FZ25)=0,\"\",'１学期'!FZ25),\"\")),\"\")","v":""},{"$f":"IF(LEN(O361)=0,\"\",IF(COUNTIF($O$2:$O$1921,O361+1)>0,\"\",IF(COUNTIF($O$2:O361,O361)>1,\"\",O361+1)))","v":""},{"$f":"IFERROR(SMALL($P$1:$P$1921,360),\"\")","v":""}]
[null,null,null,null,null,null,null,null,null,null,null,null,null,null,{"$f":"IF(362<=$B$10,IF(LEN('１学期'!GA6)=0,\"\",IF('１学期'!GA6=$B$8,IF(LEN('１学期'!GD6)=0,\"\",'１学期'!GD6),\"\")),\"\")","v":""},{"$f":"IF(LEN(O362)=0,\"\",IF(COUNTIF($O$2:$O$1921,O362+1)>0,\"\",IF(COUNTIF($O$2:O362,O362)>1,\"\",O362+1)))","v":""},{"$f":"IFERROR(SMALL($P$1:$P$1921,361),\"\")","v":""}]
[null,null,null,null,null,null,null,null,null,null,null,null,null,null,{"$f":"IF(363<=$B$10,IF(LEN('１学期'!GA7)=0,\"\",IF('１学期'!GA7=$B$8,IF(LEN('１学期'!GD7)=0,\"\",'１学期'!GD7),\"\")),\"\")","v":""},{"$f":"IF(LEN(O363)=0,\"\",IF(COUNTIF($O$2:$O$1921,O363+1)>0,\"\",IF(COUNTIF($O$2:O363,O363)>1,\"\",O363+1)))","v":""},{"$f":"IFERROR(SMALL($P$1:$P$1921,362),\"\")","v":""}]
[null,null,null,null,null,null,null,null,null,null,null,null,null,null,{"$f":"IF(364<=$B$10,IF(LEN('１学期'!GA10)=0,\"\",IF('１学期'!GA10=$B$8,IF(LEN('１学期'!GD10)=0,\"\",'１学期'!GD10),\"\")),\"\")","v":""},{"$f":"IF(LEN(O364)=0,\"\",IF(COUNTIF($O$2:$O$1921,O364+1)>0,\"\",IF(COUNTIF($O$2:O364,O364)>1,\"\",O364+1)))","v":""},{"$f":"IFERROR(SMALL($P$1:$P$1921,363),\"\")","v":""}]
[null,null,null,null,null,null,null,null,null,null,null,null,null,null,{"$f":"IF(365<=$B$10,IF(LEN('１学期'!GA13)=0,\"\",IF('１学期'!GA13=$B$8,IF(LEN('１学期'!GD13)=0,\"\",'１学期'!GD13),\"\")),\"\")","v":""},{"$f":"IF(LEN(O365)=0,\"\",IF(COUNTIF($O$2:$O$1921,O365+1)>0,\"\",IF(COUNTIF($O$2:O365,O365)>1,\"\",O365+1)))","v":""},{"$f":"IFERROR(SMALL($P$1:$P$1921,364),\"\")","v":""}]
[null,null,null,null,null,null,null,null,null,null,null,null,null,null,{"$f":"IF(366<=$B$10,IF(LEN('１学期'!GA16)=0,\"\",IF('１学期'!GA16=$B$8,IF(LEN('１学期'!GD16)=0,\"\",'１学期'!GD16),\"\")),\"\")","v":""},{"$f":"IF(LEN(O366)=0,\"\",IF(COUNTIF($O$2:$O$1921,O366+1)>0,\"\",IF(COUNTIF($O$2:O366,O366)>1,\"\",O366+1)))","v":""},{"$f":"IFERROR(SMALL($P$1:$P$1921,365),\"\")","v":""}]
[null,null,null,null,null,null,null,null,null,null,null,null,null,null,{"$f":"IF(367<=$B$10,IF(LEN('１学期'!GA19)=0,\"\",IF('１学期'!GA19=$B$8,IF(LEN('１学期'!GD19)=0,\"\",'１学期'!GD19),\"\")),\"\")","v":""},{"$f":"IF(LEN(O367)=0,\"\",IF(COUNTIF($O$2:$O$1921,O367+1)>0,\"\",IF(COUNTIF($O$2:O367,O367)>1,\"\",O367+1)))","v":""},{"$f":"IFERROR(SMALL($P$1:$P$1921,366),\"\")","v":""}]
[null,null,null,null,null,null,null,null,null,null,null,null,null,null,{"$f":"IF(368<=$B$10,IF(LEN('１学期'!GA22)=0,\"\",IF('１学期'!GA22=$B$8,IF(LEN('１学期'!GD22)=0,\"\",'１学期'!GD22),\"\")),\"\")","v":""},{"$f":"IF(LEN(O368)=0,\"\",IF(COUNTIF($O$2:$O$1921,O368+1)>0,\"\",IF(COUNTIF($O$2:O368,O368)>1,\"\",O368+1)))","v":""},{"$f":"IFERROR(SMALL($P$1:$P$1921,367),\"\")","v":""}]
[null,null,null,null,null,null,null,null,null,null,null,null,null,null,{"$f":"IF(369<=$B$10,IF(LEN('１学期'!GA25)=0,\"\",IF('１学期'!GA25=$B$8,IF(LEN('１学期'!GD25)=0,\"\",'１学期'!GD25),\"\")),\"\")","v":""},{"$f":"IF(LEN(O369)=0,\"\",IF(COUNTIF($O$2:$O$1921,O369+1)>0,\"\",IF(COUNTIF($O$2:O369,O369)>1,\"\",O369+1)))","v":""},{"$f":"IFERROR(SMALL($P$1:$P$1921,368),\"\")","v":""}]
[null,null,null,null,null,null,null,null,null,null,null,null,null,null,{"$f":"IF(370<=$B$10,IF(LEN('１学期'!GE6)=0,\"\",IF('１学期'!GE6=$B$8,IF(LEN('１学期'!GH6)=0,\"\",'１学期'!GH6),\"\")),\"\")","v":""},{"$f":"IF(LEN(O370)=0,\"\",IF(COUNTIF($O$2:$O$1921,O370+1)>0,\"\",IF(COUNTIF($O$2:O370,O370)>1,\"\",O370+1)))","v":""},{"$f":"IFERROR(SMALL($P$1:$P$1921,369),\"\")","v":""}]
[null,null,null,null,null,null,null,null,null,null,null,null,null,null,{"$f":"IF(371<=$B$10,IF(LEN('１学期'!GE7)=0,\"\",IF('１学期'!GE7=$B$8,IF(LEN('１学期'!GH7)=0,\"\",'１学期'!GH7),\"\")),\"\")","v":""},{"$f":"IF(LEN(O371)=0,\"\",IF(COUNTIF($O$2:$O$1921,O371+1)>0,\"\",IF(COUNTIF($O$2:O371,O371)>1,\"\",O371+1)))","v":""},{"$f":"IFERROR(SMALL($P$1:$P$1921,370),\"\")","v":""}]
[null,null,null,null,null,null,null,null,null,null,null,null,null,null,{"$f":"IF(372<=$B$10,IF(LEN('１学期'!GE10)=0,\"\",IF('１学期'!GE10=$B$8,IF(LEN('１学期'!GH10)=0,\"\",'１学期'!GH10),\"\")),\"\")","v":""},{"$f":"IF(LEN(O372)=0,\"\",IF(COUNTIF($O$2:$O$1921,O372+1)>0,\"\",IF(COUNTIF($O$2:O372,O372)>1,\"\",O372+1)))","v":""},{"$f":"IFERROR(SMALL($P$1:$P$1921,371),\"\")","v":""}]
[null,null,null,null,null,null,null,null,null,null,null,null,null,null,{"$f":"IF(373<=$B$10,IF(LEN('１学期'!GE13)=0,\"\",IF('１学期'!GE13=$B$8,IF(LEN('１学期'!GH13)=0,\"\",'１学期'!GH13),\"\")),\"\")","v":""},{"$f":"IF(LEN(O373)=0,\"\",IF(COUNTIF($O$2:$O$1921,O373+1)>0,\"\",IF(COUNTIF($O$2:O373,O373)>1,\"\",O373+1)))","v":""},{"$f":"IFERROR(SMALL($P$1:$P$1921,372),\"\")","v":""}]
[null,null,null,null,null,null,null,null,null,null,null,null,null,null,{"$f":"IF(374<=$B$10,IF(LEN('１学期'!GE16)=0,\"\",IF('１学期'!GE16=$B$8,IF(LEN('１学期'!GH16)=0,\"\",'１学期'!GH16),\"\")),\"\")","v":""},{"$f":"IF(LEN(O374)=0,\"\",IF(COUNTIF($O$2:$O$1921,O374+1)>0,\"\",IF(COUNTIF($O$2:O374,O374)>1,\"\",O374+1)))","v":""},{"$f":"IFERROR(SMALL($P$1:$P$1921,373),\"\")","v":""}]
[null,null,null,null,null,null,null,null,null,null,null,null,null,null,{"$f":"IF(375<=$B$10,IF(LEN('１学期'!GE19)=0,\"\",IF('１学期'!GE19=$B$8,IF(LEN('１学期'!GH19)=0,\"\",'１学期'!GH19),\"\")),\"\")","v":""},{"$f":"IF(LEN(O375)=0,\"\",IF(COUNTIF($O$2:$O$1921,O375+1)>0,\"\",IF(COUNTIF($O$2:O375,O375)>1,\"\",O375+1)))","v":""},{"$f":"IFERROR(SMALL($P$1:$P$1921,374),\"\")","v":""}]
[null,null,null,null,null,null,null,null,null,null,null,null,null,null,{"$f":"IF(376<=$B$10,IF(LEN('１学期'!GE22)=0,\"\",IF('１学期'!GE22=$B$8,IF(LEN('１学期'!GH22)=0,\"\",'１学期'!GH22),\"\")),\"\")","v":""},{"$f":"IF(LEN(O376)=0,\"\",IF(COUNTIF($O$2:$O$1921,O376+1)>0,\"\",IF(COUNTIF($O$2:O376,O376)>1,\"\",O376+1)))","v":""},{"$f":"IFERROR(SMALL($P$1:$P$1921,375),\"\")","v":""}]
[null,null,null,null,null,null,null,null,null,null,null,null,null,null,{"$f":"IF(377<=$B$10,IF(LEN('１学期'!GE25)=0,\"\",IF('１学期'!GE25=$B$8,IF(LEN('１学期'!GH25)=0,\"\",'１学期'!GH25),\"\")),\"\")","v":""},{"$f":"IF(LEN(O377)=0,\"\",IF(COUNTIF($O$2:$O$1921,O377+1)>0,\"\",IF(COUNTIF($O$2:O377,O377)>1,\"\",O377+1)))","v":""},{"$f":"IFERROR(SMALL($P$1:$P$1921,376),\"\")","v":""}]
[null,null,null,null,null,null,null,null,null,null,null,null,null,null,{"$f":"IF(378<=$B$10,IF(LEN('１学期'!GI6)=0,\"\",IF('１学期'!GI6=$B$8,IF(LEN('１学期'!GL6)=0,\"\",'１学期'!GL6),\"\")),\"\")","v":""},{"$f":"IF(LEN(O378)=0,\"\",IF(COUNTIF($O$2:$O$1921,O378+1)>0,\"\",IF(COUNTIF($O$2:O378,O378)>1,\"\",O378+1)))","v":""},{"$f":"IFERROR(SMALL($P$1:$P$1921,377),\"\")","v":""}]
[null,null,null,null,null,null,null,null,null,null,null,null,null,null,{"$f":"IF(379<=$B$10,IF(LEN('１学期'!GI7)=0,\"\",IF('１学期'!GI7=$B$8,IF(LEN('１学期'!GL7)=0,\"\",'１学期'!GL7),\"\")),\"\")","v":""},{"$f":"IF(LEN(O379)=0,\"\",IF(COUNTIF($O$2:$O$1921,O379+1)>0,\"\",IF(COUNTIF($O$2:O379,O379)>1,\"\",O379+1)))","v":""},{"$f":"IFERROR(SMALL($P$1:$P$1921,378),\"\")","v":""}]
[null,null,null,null,null,null,null,null,null,null,null,null,null,null,{"$f":"IF(380<=$B$10,IF(LEN('１学期'!GI10)=0,\"\",IF('１学期'!GI10=$B$8,IF(LEN('１学期'!GL10)=0,\"\",'１学期'!GL10),\"\")),\"\")","v":""},{"$f":"IF(LEN(O380)=0,\"\",IF(COUNTIF($O$2:$O$1921,O380+1)>0,\"\",IF(COUNTIF($O$2:O380,O380)>1,\"\",O380+1)))","v":""},{"$f":"IFERROR(SMALL($P$1:$P$1921,379),\"\")","v":""}]
[null,null,null,null,null,null,null,null,null,null,null,null,null,null,{"$f":"IF(381<=$B$10,IF(LEN('１学期'!GI13)=0,\"\",IF('１学期'!GI13=$B$8,IF(LEN('１学期'!GL13)=0,\"\",'１学期'!GL13),\"\")),\"\")","v":""},{"$f":"IF(LEN(O381)=0,\"\",IF(COUNTIF($O$2:$O$1921,O381+1)>0,\"\",IF(COUNTIF($O$2:O381,O381)>1,\"\",O381+1)))","v":""},{"$f":"IFERROR(SMALL($P$1:$P$1921,380),\"\")","v":""}]
[null,null,null,null,null,null,null,null,null,null,null,null,null,null,{"$f":"IF(382<=$B$10,IF(LEN('１学期'!GI16)=0,\"\",IF('１学期'!GI16=$B$8,IF(LEN('１学期'!GL16)=0,\"\",'１学期'!GL16),\"\")),\"\")","v":""},{"$f":"IF(LEN(O382)=0,\"\",IF(COUNTIF($O$2:$O$1921,O382+1)>0,\"\",IF(COUNTIF($O$2:O382,O382)>1,\"\",O382+1)))","v":""},{"$f":"IFERROR(SMALL($P$1:$P$1921,381),\"\")","v":""}]
[null,null,null,null,null,null,null,null,null,null,null,null,null,null,{"$f":"IF(383<=$B$10,IF(LEN('１学期'!GI19)=0,\"\",IF('１学期'!GI19=$B$8,IF(LEN('１学期'!GL19)=0,\"\",'１学期'!GL19),\"\")),\"\")","v":""},{"$f":"IF(LEN(O383)=0,\"\",IF(COUNTIF($O$2:$O$1921,O383+1)>0,\"\",IF(COUNTIF($O$2:O383,O383)>1,\"\",O383+1)))","v":""},{"$f":"IFERROR(SMALL($P$1:$P$1921,382),\"\")","v":""}]
[null,null,null,null,null,null,null,null,null,null,null,null,null,null,{"$f":"IF(384<=$B$10,IF(LEN('１学期'!GI22)=0,\"\",IF('１学期'!GI22=$B$8,IF(LEN('１学期'!GL22)=0,\"\",'１学期'!GL22),\"\")),\"\")","v":""},{"$f":"IF(LEN(O384)=0,\"\",IF(COUNTIF($O$2:$O$1921,O384+1)>0,\"\",IF(COUNTIF($O$2:O384,O384)>1,\"\",O384+1)))","v":""},{"$f":"IFERROR(SMALL($P$1:$P$1921,383),\"\")","v":""}]
[null,null,null,null,null,null,null,null,null,null,null,null,null,null,{"$f":"IF(385<=$B$10,IF(LEN('１学期'!GI25)=0,\"\",IF('１学期'!GI25=$B$8,IF(LEN('１学期'!GL25)=0,\"\",'１学期'!GL25),\"\")),\"\")","v":""},{"$f":"IF(LEN(O385)=0,\"\",IF(COUNTIF($O$2:$O$1921,O385+1)>0,\"\",IF(COUNTIF($O$2:O385,O385)>1,\"\",O385+1)))","v":""},{"$f":"IFERROR(SMALL($P$1:$P$1921,384),\"\")","v":""}]
[null,null,null,null,null,null,null,null,null,null,null,null,null,null,{"$f":"IF(386<=$B$10,IF(LEN('１学期'!GM6)=0,\"\",IF('１学期'!GM6=$B$8,IF(LEN('１学期'!GP6)=0,\"\",'１学期'!GP6),\"\")),\"\")","v":""},{"$f":"IF(LEN(O386)=0,\"\",IF(COUNTIF($O$2:$O$1921,O386+1)>0,\"\",IF(COUNTIF($O$2:O386,O386)>1,\"\",O386+1)))","v":""},{"$f":"IFERROR(SMALL($P$1:$P$1921,385),\"\")","v":""}]
[null,null,null,null,null,null,null,null,null,null,null,null,null,null,{"$f":"IF(387<=$B$10,IF(LEN('１学期'!GM7)=0,\"\",IF('１学期'!GM7=$B$8,IF(LEN('１学期'!GP7)=0,\"\",'１学期'!GP7),\"\")),\"\")","v":""},{"$f":"IF(LEN(O387)=0,\"\",IF(COUNTIF($O$2:$O$1921,O387+1)>0,\"\",IF(COUNTIF($O$2:O387,O387)>1,\"\",O387+1)))","v":""},{"$f":"IFERROR(SMALL($P$1:$P$1921,386),\"\")","v":""}]
[null,null,null,null,null,null,null,null,null,null,null,null,null,null,{"$f":"IF(388<=$B$10,IF(LEN('１学期'!GM10)=0,\"\",IF('１学期'!GM10=$B$8,IF(LEN('１学期'!GP10)=0,\"\",'１学期'!GP10),\"\")),\"\")","v":""},{"$f":"IF(LEN(O388)=0,\"\",IF(COUNTIF($O$2:$O$1921,O388+1)>0,\"\",IF(COUNTIF($O$2:O388,O388)>1,\"\",O388+1)))","v":""},{"$f":"IFERROR(SMALL($P$1:$P$1921,387),\"\")","v":""}]
[null,null,null,null,null,null,null,null,null,null,null,null,null,null,{"$f":"IF(389<=$B$10,IF(LEN('１学期'!GM13)=0,\"\",IF('１学期'!GM13=$B$8,IF(LEN('１学期'!GP13)=0,\"\",'１学期'!GP13),\"\")),\"\")","v":""},{"$f":"IF(LEN(O389)=0,\"\",IF(COUNTIF($O$2:$O$1921,O389+1)>0,\"\",IF(COUNTIF($O$2:O389,O389)>1,\"\",O389+1)))","v":""},{"$f":"IFERROR(SMALL($P$1:$P$1921,388),\"\")","v":""}]
[null,null,null,null,null,null,null,null,null,null,null,null,null,null,{"$f":"IF(390<=$B$10,IF(LEN('１学期'!GM16)=0,\"\",IF('１学期'!GM16=$B$8,IF(LEN('１学期'!GP16)=0,\"\",'１学期'!GP16),\"\")),\"\")","v":""},{"$f":"IF(LEN(O390)=0,\"\",IF(COUNTIF($O$2:$O$1921,O390+1)>0,\"\",IF(COUNTIF($O$2:O390,O390)>1,\"\",O390+1)))","v":""},{"$f":"IFERROR(SMALL($P$1:$P$1921,389),\"\")","v":""}]
[null,null,null,null,null,null,null,null,null,null,null,null,null,null,{"$f":"IF(391<=$B$10,IF(LEN('１学期'!GM19)=0,\"\",IF('１学期'!GM19=$B$8,IF(LEN('１学期'!GP19)=0,\"\",'１学期'!GP19),\"\")),\"\")","v":""},{"$f":"IF(LEN(O391)=0,\"\",IF(COUNTIF($O$2:$O$1921,O391+1)>0,\"\",IF(COUNTIF($O$2:O391,O391)>1,\"\",O391+1)))","v":""},{"$f":"IFERROR(SMALL($P$1:$P$1921,390),\"\")","v":""}]
[null,null,null,null,null,null,null,null,null,null,null,null,null,null,{"$f":"IF(392<=$B$10,IF(LEN('１学期'!GM22)=0,\"\",IF('１学期'!GM22=$B$8,IF(LEN('１学期'!GP22)=0,\"\",'１学期'!GP22),\"\")),\"\")","v":""},{"$f":"IF(LEN(O392)=0,\"\",IF(COUNTIF($O$2:$O$1921,O392+1)>0,\"\",IF(COUNTIF($O$2:O392,O392)>1,\"\",O392+1)))","v":""},{"$f":"IFERROR(SMALL($P$1:$P$1921,391),\"\")","v":""}]
[null,null,null,null,null,null,null,null,null,null,null,null,null,null,{"$f":"IF(393<=$B$10,IF(LEN('１学期'!GM25)=0,\"\",IF('１学期'!GM25=$B$8,IF(LEN('１学期'!GP25)=0,\"\",'１学期'!GP25),\"\")),\"\")","v":""},{"$f":"IF(LEN(O393)=0,\"\",IF(COUNTIF($O$2:$O$1921,O393+1)>0,\"\",IF(COUNTIF($O$2:O393,O393)>1,\"\",O393+1)))","v":""},{"$f":"IFERROR(SMALL($P$1:$P$1921,392),\"\")","v":""}]
[null,null,null,null,null,null,null,null,null,null,null,null,null,null,{"$f":"IF(394<=$B$10,IF(LEN('１学期'!GQ6)=0,\"\",IF('１学期'!GQ6=$B$8,IF(LEN('１学期'!GT6)=0,\"\",'１学期'!GT6),\"\")),\"\")","v":""},{"$f":"IF(LEN(O394)=0,\"\",IF(COUNTIF($O$2:$O$1921,O394+1)>0,\"\",IF(COUNTIF($O$2:O394,O394)>1,\"\",O394+1)))","v":""},{"$f":"IFERROR(SMALL($P$1:$P$1921,393),\"\")","v":""}]
[null,null,null,null,null,null,null,null,null,null,null,null,null,null,{"$f":"IF(395<=$B$10,IF(LEN('１学期'!GQ7)=0,\"\",IF('１学期'!GQ7=$B$8,IF(LEN('１学期'!GT7)=0,\"\",'１学期'!GT7),\"\")),\"\")","v":""},{"$f":"IF(LEN(O395)=0,\"\",IF(COUNTIF($O$2:$O$1921,O395+1)>0,\"\",IF(COUNTIF($O$2:O395,O395)>1,\"\",O395+1)))","v":""},{"$f":"IFERROR(SMALL($P$1:$P$1921,394),\"\")","v":""}]
[null,null,null,null,null,null,null,null,null,null,null,null,null,null,{"$f":"IF(396<=$B$10,IF(LEN('１学期'!GQ10)=0,\"\",IF('１学期'!GQ10=$B$8,IF(LEN('１学期'!GT10)=0,\"\",'１学期'!GT10),\"\")),\"\")","v":""},{"$f":"IF(LEN(O396)=0,\"\",IF(COUNTIF($O$2:$O$1921,O396+1)>0,\"\",IF(COUNTIF($O$2:O396,O396)>1,\"\",O396+1)))","v":""},{"$f":"IFERROR(SMALL($P$1:$P$1921,395),\"\")","v":""}]
[null,null,null,null,null,null,null,null,null,null,null,null,null,null,{"$f":"IF(397<=$B$10,IF(LEN('１学期'!GQ13)=0,\"\",IF('１学期'!GQ13=$B$8,IF(LEN('１学期'!GT13)=0,\"\",'１学期'!GT13),\"\")),\"\")","v":""},{"$f":"IF(LEN(O397)=0,\"\",IF(COUNTIF($O$2:$O$1921,O397+1)>0,\"\",IF(COUNTIF($O$2:O397,O397)>1,\"\",O397+1)))","v":""},{"$f":"IFERROR(SMALL($P$1:$P$1921,396),\"\")","v":""}]
[null,null,null,null,null,null,null,null,null,null,null,null,null,null,{"$f":"IF(398<=$B$10,IF(LEN('１学期'!GQ16)=0,\"\",IF('１学期'!GQ16=$B$8,IF(LEN('１学期'!GT16)=0,\"\",'１学期'!GT16),\"\")),\"\")","v":""},{"$f":"IF(LEN(O398)=0,\"\",IF(COUNTIF($O$2:$O$1921,O398+1)>0,\"\",IF(COUNTIF($O$2:O398,O398)>1,\"\",O398+1)))","v":""},{"$f":"IFERROR(SMALL($P$1:$P$1921,397),\"\")","v":""}]
[null,null,null,null,null,null,null,null,null,null,null,null,null,null,{"$f":"IF(399<=$B$10,IF(LEN('１学期'!GQ19)=0,\"\",IF('１学期'!GQ19=$B$8,IF(LEN('１学期'!GT19)=0,\"\",'１学期'!GT19),\"\")),\"\")","v":""},{"$f":"IF(LEN(O399)=0,\"\",IF(COUNTIF($O$2:$O$1921,O399+1)>0,\"\",IF(COUNTIF($O$2:O399,O399)>1,\"\",O399+1)))","v":""},{"$f":"IFERROR(SMALL($P$1:$P$1921,398),\"\")","v":""}]
[null,null,null,null,null,null,null,null,null,null,null,null,null,null,{"$f":"IF(400<=$B$10,IF(LEN('１学期'!GQ22)=0,\"\",IF('１学期'!GQ22=$B$8,IF(LEN('１学期'!GT22)=0,\"\",'１学期'!GT22),\"\")),\"\")","v":""},{"$f":"IF(LEN(O400)=0,\"\",IF(COUNTIF($O$2:$O$1921,O400+1)>0,\"\",IF(COUNTIF($O$2:O400,O400)>1,\"\",O400+1)))","v":""},{"$f":"IFERROR(SMALL($P$1:$P$1921,399),\"\")","v":""}]
[null,null,null,null,null,null,null,null,null,null,null,null,null,null,{"$f":"IF(401<=$B$10,IF(LEN('１学期'!GQ25)=0,\"\",IF('１学期'!GQ25=$B$8,IF(LEN('１学期'!GT25)=0,\"\",'１学期'!GT25),\"\")),\"\")","v":""},{"$f":"IF(LEN(O401)=0,\"\",IF(COUNTIF($O$2:$O$1921,O401+1)>0,\"\",IF(COUNTIF($O$2:O401,O401)>1,\"\",O401+1)))","v":""},{"$f":"IFERROR(SMALL($P$1:$P$1921,400),\"\")","v":""}]
[null,null,null,null,null,null,null,null,null,null,null,null,null,null,{"$f":"IF(402<=$B$10,IF(LEN('１学期'!GU6)=0,\"\",IF('１学期'!GU6=$B$8,IF(LEN('１学期'!GX6)=0,\"\",'１学期'!GX6),\"\")),\"\")","v":""},{"$f":"IF(LEN(O402)=0,\"\",IF(COUNTIF($O$2:$O$1921,O402+1)>0,\"\",IF(COUNTIF($O$2:O402,O402)>1,\"\",O402+1)))","v":""},{"$f":"IFERROR(SMALL($P$1:$P$1921,401),\"\")","v":""}]
[null,null,null,null,null,null,null,null,null,null,null,null,null,null,{"$f":"IF(403<=$B$10,IF(LEN('１学期'!GU7)=0,\"\",IF('１学期'!GU7=$B$8,IF(LEN('１学期'!GX7)=0,\"\",'１学期'!GX7),\"\")),\"\")","v":""},{"$f":"IF(LEN(O403)=0,\"\",IF(COUNTIF($O$2:$O$1921,O403+1)>0,\"\",IF(COUNTIF($O$2:O403,O403)>1,\"\",O403+1)))","v":""},{"$f":"IFERROR(SMALL($P$1:$P$1921,402),\"\")","v":""}]
[null,null,null,null,null,null,null,null,null,null,null,null,null,null,{"$f":"IF(404<=$B$10,IF(LEN('１学期'!GU10)=0,\"\",IF('１学期'!GU10=$B$8,IF(LEN('１学期'!GX10)=0,\"\",'１学期'!GX10),\"\")),\"\")","v":""},{"$f":"IF(LEN(O404)=0,\"\",IF(COUNTIF($O$2:$O$1921,O404+1)>0,\"\",IF(COUNTIF($O$2:O404,O404)>1,\"\",O404+1)))","v":""},{"$f":"IFERROR(SMALL($P$1:$P$1921,403),\"\")","v":""}]
[null,null,null,null,null,null,null,null,null,null,null,null,null,null,{"$f":"IF(405<=$B$10,IF(LEN('１学期'!GU13)=0,\"\",IF('１学期'!GU13=$B$8,IF(LEN('１学期'!GX13)=0,\"\",'１学期'!GX13),\"\")),\"\")","v":""},{"$f":"IF(LEN(O405)=0,\"\",IF(COUNTIF($O$2:$O$1921,O405+1)>0,\"\",IF(COUNTIF($O$2:O405,O405)>1,\"\",O405+1)))","v":""},{"$f":"IFERROR(SMALL($P$1:$P$1921,404),\"\")","v":""}]
[null,null,null,null,null,null,null,null,null,null,null,null,null,null,{"$f":"IF(406<=$B$10,IF(LEN('１学期'!GU16)=0,\"\",IF('１学期'!GU16=$B$8,IF(LEN('１学期'!GX16)=0,\"\",'１学期'!GX16),\"\")),\"\")","v":""},{"$f":"IF(LEN(O406)=0,\"\",IF(COUNTIF($O$2:$O$1921,O406+1)>0,\"\",IF(COUNTIF($O$2:O406,O406)>1,\"\",O406+1)))","v":""},{"$f":"IFERROR(SMALL($P$1:$P$1921,405),\"\")","v":""}]
[null,null,null,null,null,null,null,null,null,null,null,null,null,null,{"$f":"IF(407<=$B$10,IF(LEN('１学期'!GU19)=0,\"\",IF('１学期'!GU19=$B$8,IF(LEN('１学期'!GX19)=0,\"\",'１学期'!GX19),\"\")),\"\")","v":""},{"$f":"IF(LEN(O407)=0,\"\",IF(COUNTIF($O$2:$O$1921,O407+1)>0,\"\",IF(COUNTIF($O$2:O407,O407)>1,\"\",O407+1)))","v":""},{"$f":"IFERROR(SMALL($P$1:$P$1921,406),\"\")","v":""}]
[null,null,null,null,null,null,null,null,null,null,null,null,null,null,{"$f":"IF(408<=$B$10,IF(LEN('１学期'!GU22)=0,\"\",IF('１学期'!GU22=$B$8,IF(LEN('１学期'!GX22)=0,\"\",'１学期'!GX22),\"\")),\"\")","v":""},{"$f":"IF(LEN(O408)=0,\"\",IF(COUNTIF($O$2:$O$1921,O408+1)>0,\"\",IF(COUNTIF($O$2:O408,O408)>1,\"\",O408+1)))","v":""},{"$f":"IFERROR(SMALL($P$1:$P$1921,407),\"\")","v":""}]
[null,null,null,null,null,null,null,null,null,null,null,null,null,null,{"$f":"IF(409<=$B$10,IF(LEN('１学期'!GU25)=0,\"\",IF('１学期'!GU25=$B$8,IF(LEN('１学期'!GX25)=0,\"\",'１学期'!GX25),\"\")),\"\")","v":""},{"$f":"IF(LEN(O409)=0,\"\",IF(COUNTIF($O$2:$O$1921,O409+1)>0,\"\",IF(COUNTIF($O$2:O409,O409)>1,\"\",O409+1)))","v":""},{"$f":"IFERROR(SMALL($P$1:$P$1921,408),\"\")","v":""}]
[null,null,null,null,null,null,null,null,null,null,null,null,null,null,{"$f":"IF(410<=$B$10,IF(LEN('１学期'!GY6)=0,\"\",IF('１学期'!GY6=$B$8,IF(LEN('１学期'!HB6)=0,\"\",'１学期'!HB6),\"\")),\"\")","v":""},{"$f":"IF(LEN(O410)=0,\"\",IF(COUNTIF($O$2:$O$1921,O410+1)>0,\"\",IF(COUNTIF($O$2:O410,O410)>1,\"\",O410+1)))","v":""},{"$f":"IFERROR(SMALL($P$1:$P$1921,409),\"\")","v":""}]
[null,null,null,null,null,null,null,null,null,null,null,null,null,null,{"$f":"IF(411<=$B$10,IF(LEN('１学期'!GY7)=0,\"\",IF('１学期'!GY7=$B$8,IF(LEN('１学期'!HB7)=0,\"\",'１学期'!HB7),\"\")),\"\")","v":""},{"$f":"IF(LEN(O411)=0,\"\",IF(COUNTIF($O$2:$O$1921,O411+1)>0,\"\",IF(COUNTIF($O$2:O411,O411)>1,\"\",O411+1)))","v":""},{"$f":"IFERROR(SMALL($P$1:$P$1921,410),\"\")","v":""}]
[null,null,null,null,null,null,null,null,null,null,null,null,null,null,{"$f":"IF(412<=$B$10,IF(LEN('１学期'!GY10)=0,\"\",IF('１学期'!GY10=$B$8,IF(LEN('１学期'!HB10)=0,\"\",'１学期'!HB10),\"\")),\"\")","v":""},{"$f":"IF(LEN(O412)=0,\"\",IF(COUNTIF($O$2:$O$1921,O412+1)>0,\"\",IF(COUNTIF($O$2:O412,O412)>1,\"\",O412+1)))","v":""},{"$f":"IFERROR(SMALL($P$1:$P$1921,411),\"\")","v":""}]
[null,null,null,null,null,null,null,null,null,null,null,null,null,null,{"$f":"IF(413<=$B$10,IF(LEN('１学期'!GY13)=0,\"\",IF('１学期'!GY13=$B$8,IF(LEN('１学期'!HB13)=0,\"\",'１学期'!HB13),\"\")),\"\")","v":""},{"$f":"IF(LEN(O413)=0,\"\",IF(COUNTIF($O$2:$O$1921,O413+1)>0,\"\",IF(COUNTIF($O$2:O413,O413)>1,\"\",O413+1)))","v":""},{"$f":"IFERROR(SMALL($P$1:$P$1921,412),\"\")","v":""}]
[null,null,null,null,null,null,null,null,null,null,null,null,null,null,{"$f":"IF(414<=$B$10,IF(LEN('１学期'!GY16)=0,\"\",IF('１学期'!GY16=$B$8,IF(LEN('１学期'!HB16)=0,\"\",'１学期'!HB16),\"\")),\"\")","v":""},{"$f":"IF(LEN(O414)=0,\"\",IF(COUNTIF($O$2:$O$1921,O414+1)>0,\"\",IF(COUNTIF($O$2:O414,O414)>1,\"\",O414+1)))","v":""},{"$f":"IFERROR(SMALL($P$1:$P$1921,413),\"\")","v":""}]
[null,null,null,null,null,null,null,null,null,null,null,null,null,null,{"$f":"IF(415<=$B$10,IF(LEN('１学期'!GY19)=0,\"\",IF('１学期'!GY19=$B$8,IF(LEN('１学期'!HB19)=0,\"\",'１学期'!HB19),\"\")),\"\")","v":""},{"$f":"IF(LEN(O415)=0,\"\",IF(COUNTIF($O$2:$O$1921,O415+1)>0,\"\",IF(COUNTIF($O$2:O415,O415)>1,\"\",O415+1)))","v":""},{"$f":"IFERROR(SMALL($P$1:$P$1921,414),\"\")","v":""}]
[null,null,null,null,null,null,null,null,null,null,null,null,null,null,{"$f":"IF(416<=$B$10,IF(LEN('１学期'!GY22)=0,\"\",IF('１学期'!GY22=$B$8,IF(LEN('１学期'!HB22)=0,\"\",'１学期'!HB22),\"\")),\"\")","v":""},{"$f":"IF(LEN(O416)=0,\"\",IF(COUNTIF($O$2:$O$1921,O416+1)>0,\"\",IF(COUNTIF($O$2:O416,O416)>1,\"\",O416+1)))","v":""},{"$f":"IFERROR(SMALL($P$1:$P$1921,415),\"\")","v":""}]
[null,null,null,null,null,null,null,null,null,null,null,null,null,null,{"$f":"IF(417<=$B$10,IF(LEN('１学期'!GY25)=0,\"\",IF('１学期'!GY25=$B$8,IF(LEN('１学期'!HB25)=0,\"\",'１学期'!HB25),\"\")),\"\")","v":""},{"$f":"IF(LEN(O417)=0,\"\",IF(COUNTIF($O$2:$O$1921,O417+1)>0,\"\",IF(COUNTIF($O$2:O417,O417)>1,\"\",O417+1)))","v":""},{"$f":"IFERROR(SMALL($P$1:$P$1921,416),\"\")","v":""}]
[null,null,null,null,null,null,null,null,null,null,null,null,null,null,{"$f":"IF(418<=$B$10,IF(LEN('１学期'!HC6)=0,\"\",IF('１学期'!HC6=$B$8,IF(LEN('１学期'!HF6)=0,\"\",'１学期'!HF6),\"\")),\"\")","v":""},{"$f":"IF(LEN(O418)=0,\"\",IF(COUNTIF($O$2:$O$1921,O418+1)>0,\"\",IF(COUNTIF($O$2:O418,O418)>1,\"\",O418+1)))","v":""},{"$f":"IFERROR(SMALL($P$1:$P$1921,417),\"\")","v":""}]
[null,null,null,null,null,null,null,null,null,null,null,null,null,null,{"$f":"IF(419<=$B$10,IF(LEN('１学期'!HC7)=0,\"\",IF('１学期'!HC7=$B$8,IF(LEN('１学期'!HF7)=0,\"\",'１学期'!HF7),\"\")),\"\")","v":""},{"$f":"IF(LEN(O419)=0,\"\",IF(COUNTIF($O$2:$O$1921,O419+1)>0,\"\",IF(COUNTIF($O$2:O419,O419)>1,\"\",O419+1)))","v":""},{"$f":"IFERROR(SMALL($P$1:$P$1921,418),\"\")","v":""}]
[null,null,null,null,null,null,null,null,null,null,null,null,null,null,{"$f":"IF(420<=$B$10,IF(LEN('１学期'!HC10)=0,\"\",IF('１学期'!HC10=$B$8,IF(LEN('１学期'!HF10)=0,\"\",'１学期'!HF10),\"\")),\"\")","v":""},{"$f":"IF(LEN(O420)=0,\"\",IF(COUNTIF($O$2:$O$1921,O420+1)>0,\"\",IF(COUNTIF($O$2:O420,O420)>1,\"\",O420+1)))","v":""},{"$f":"IFERROR(SMALL($P$1:$P$1921,419),\"\")","v":""}]
[null,null,null,null,null,null,null,null,null,null,null,null,null,null,{"$f":"IF(421<=$B$10,IF(LEN('１学期'!HC13)=0,\"\",IF('１学期'!HC13=$B$8,IF(LEN('１学期'!HF13)=0,\"\",'１学期'!HF13),\"\")),\"\")","v":""},{"$f":"IF(LEN(O421)=0,\"\",IF(COUNTIF($O$2:$O$1921,O421+1)>0,\"\",IF(COUNTIF($O$2:O421,O421)>1,\"\",O421+1)))","v":""},{"$f":"IFERROR(SMALL($P$1:$P$1921,420),\"\")","v":""}]
[null,null,null,null,null,null,null,null,null,null,null,null,null,null,{"$f":"IF(422<=$B$10,IF(LEN('１学期'!HC16)=0,\"\",IF('１学期'!HC16=$B$8,IF(LEN('１学期'!HF16)=0,\"\",'１学期'!HF16),\"\")),\"\")","v":""},{"$f":"IF(LEN(O422)=0,\"\",IF(COUNTIF($O$2:$O$1921,O422+1)>0,\"\",IF(COUNTIF($O$2:O422,O422)>1,\"\",O422+1)))","v":""},{"$f":"IFERROR(SMALL($P$1:$P$1921,421),\"\")","v":""}]
[null,null,null,null,null,null,null,null,null,null,null,null,null,null,{"$f":"IF(423<=$B$10,IF(LEN('１学期'!HC19)=0,\"\",IF('１学期'!HC19=$B$8,IF(LEN('１学期'!HF19)=0,\"\",'１学期'!HF19),\"\")),\"\")","v":""},{"$f":"IF(LEN(O423)=0,\"\",IF(COUNTIF($O$2:$O$1921,O423+1)>0,\"\",IF(COUNTIF($O$2:O423,O423)>1,\"\",O423+1)))","v":""},{"$f":"IFERROR(SMALL($P$1:$P$1921,422),\"\")","v":""}]
[null,null,null,null,null,null,null,null,null,null,null,null,null,null,{"$f":"IF(424<=$B$10,IF(LEN('１学期'!HC22)=0,\"\",IF('１学期'!HC22=$B$8,IF(LEN('１学期'!HF22)=0,\"\",'１学期'!HF22),\"\")),\"\")","v":""},{"$f":"IF(LEN(O424)=0,\"\",IF(COUNTIF($O$2:$O$1921,O424+1)>0,\"\",IF(COUNTIF($O$2:O424,O424)>1,\"\",O424+1)))","v":""},{"$f":"IFERROR(SMALL($P$1:$P$1921,423),\"\")","v":""}]
[null,null,null,null,null,null,null,null,null,null,null,null,null,null,{"$f":"IF(425<=$B$10,IF(LEN('１学期'!HC25)=0,\"\",IF('１学期'!HC25=$B$8,IF(LEN('１学期'!HF25)=0,\"\",'１学期'!HF25),\"\")),\"\")","v":""},{"$f":"IF(LEN(O425)=0,\"\",IF(COUNTIF($O$2:$O$1921,O425+1)>0,\"\",IF(COUNTIF($O$2:O425,O425)>1,\"\",O425+1)))","v":""},{"$f":"IFERROR(SMALL($P$1:$P$1921,424),\"\")","v":""}]
[null,null,null,null,null,null,null,null,null,null,null,null,null,null,{"$f":"IF(426<=$B$10,IF(LEN('１学期'!HG6)=0,\"\",IF('１学期'!HG6=$B$8,IF(LEN('１学期'!HJ6)=0,\"\",'１学期'!HJ6),\"\")),\"\")","v":""},{"$f":"IF(LEN(O426)=0,\"\",IF(COUNTIF($O$2:$O$1921,O426+1)>0,\"\",IF(COUNTIF($O$2:O426,O426)>1,\"\",O426+1)))","v":""},{"$f":"IFERROR(SMALL($P$1:$P$1921,425),\"\")","v":""}]
[null,null,null,null,null,null,null,null,null,null,null,null,null,null,{"$f":"IF(427<=$B$10,IF(LEN('１学期'!HG7)=0,\"\",IF('１学期'!HG7=$B$8,IF(LEN('１学期'!HJ7)=0,\"\",'１学期'!HJ7),\"\")),\"\")","v":""},{"$f":"IF(LEN(O427)=0,\"\",IF(COUNTIF($O$2:$O$1921,O427+1)>0,\"\",IF(COUNTIF($O$2:O427,O427)>1,\"\",O427+1)))","v":""},{"$f":"IFERROR(SMALL($P$1:$P$1921,426),\"\")","v":""}]
[null,null,null,null,null,null,null,null,null,null,null,null,null,null,{"$f":"IF(428<=$B$10,IF(LEN('１学期'!HG10)=0,\"\",IF('１学期'!HG10=$B$8,IF(LEN('１学期'!HJ10)=0,\"\",'１学期'!HJ10),\"\")),\"\")","v":""},{"$f":"IF(LEN(O428)=0,\"\",IF(COUNTIF($O$2:$O$1921,O428+1)>0,\"\",IF(COUNTIF($O$2:O428,O428)>1,\"\",O428+1)))","v":""},{"$f":"IFERROR(SMALL($P$1:$P$1921,427),\"\")","v":""}]
[null,null,null,null,null,null,null,null,null,null,null,null,null,null,{"$f":"IF(429<=$B$10,IF(LEN('１学期'!HG13)=0,\"\",IF('１学期'!HG13=$B$8,IF(LEN('１学期'!HJ13)=0,\"\",'１学期'!HJ13),\"\")),\"\")","v":""},{"$f":"IF(LEN(O429)=0,\"\",IF(COUNTIF($O$2:$O$1921,O429+1)>0,\"\",IF(COUNTIF($O$2:O429,O429)>1,\"\",O429+1)))","v":""},{"$f":"IFERROR(SMALL($P$1:$P$1921,428),\"\")","v":""}]
[null,null,null,null,null,null,null,null,null,null,null,null,null,null,{"$f":"IF(430<=$B$10,IF(LEN('１学期'!HG16)=0,\"\",IF('１学期'!HG16=$B$8,IF(LEN('１学期'!HJ16)=0,\"\",'１学期'!HJ16),\"\")),\"\")","v":""},{"$f":"IF(LEN(O430)=0,\"\",IF(COUNTIF($O$2:$O$1921,O430+1)>0,\"\",IF(COUNTIF($O$2:O430,O430)>1,\"\",O430+1)))","v":""},{"$f":"IFERROR(SMALL($P$1:$P$1921,429),\"\")","v":""}]
[null,null,null,null,null,null,null,null,null,null,null,null,null,null,{"$f":"IF(431<=$B$10,IF(LEN('１学期'!HG19)=0,\"\",IF('１学期'!HG19=$B$8,IF(LEN('１学期'!HJ19)=0,\"\",'１学期'!HJ19),\"\")),\"\")","v":""},{"$f":"IF(LEN(O431)=0,\"\",IF(COUNTIF($O$2:$O$1921,O431+1)>0,\"\",IF(COUNTIF($O$2:O431,O431)>1,\"\",O431+1)))","v":""},{"$f":"IFERROR(SMALL($P$1:$P$1921,430),\"\")","v":""}]
[null,null,null,null,null,null,null,null,null,null,null,null,null,null,{"$f":"IF(432<=$B$10,IF(LEN('１学期'!HG22)=0,\"\",IF('１学期'!HG22=$B$8,IF(LEN('１学期'!HJ22)=0,\"\",'１学期'!HJ22),\"\")),\"\")","v":""},{"$f":"IF(LEN(O432)=0,\"\",IF(COUNTIF($O$2:$O$1921,O432+1)>0,\"\",IF(COUNTIF($O$2:O432,O432)>1,\"\",O432+1)))","v":""},{"$f":"IFERROR(SMALL($P$1:$P$1921,431),\"\")","v":""}]
[null,null,null,null,null,null,null,null,null,null,null,null,null,null,{"$f":"IF(433<=$B$10,IF(LEN('１学期'!HG25)=0,\"\",IF('１学期'!HG25=$B$8,IF(LEN('１学期'!HJ25)=0,\"\",'１学期'!HJ25),\"\")),\"\")","v":""},{"$f":"IF(LEN(O433)=0,\"\",IF(COUNTIF($O$2:$O$1921,O433+1)>0,\"\",IF(COUNTIF($O$2:O433,O433)>1,\"\",O433+1)))","v":""},{"$f":"IFERROR(SMALL($P$1:$P$1921,432),\"\")","v":""}]
[null,null,null,null,null,null,null,null,null,null,null,null,null,null,{"$f":"IF(434<=$B$10,IF(LEN('１学期'!HK6)=0,\"\",IF('１学期'!HK6=$B$8,IF(LEN('１学期'!HN6)=0,\"\",'１学期'!HN6),\"\")),\"\")","v":""},{"$f":"IF(LEN(O434)=0,\"\",IF(COUNTIF($O$2:$O$1921,O434+1)>0,\"\",IF(COUNTIF($O$2:O434,O434)>1,\"\",O434+1)))","v":""},{"$f":"IFERROR(SMALL($P$1:$P$1921,433),\"\")","v":""}]
[null,null,null,null,null,null,null,null,null,null,null,null,null,null,{"$f":"IF(435<=$B$10,IF(LEN('１学期'!HK7)=0,\"\",IF('１学期'!HK7=$B$8,IF(LEN('１学期'!HN7)=0,\"\",'１学期'!HN7),\"\")),\"\")","v":""},{"$f":"IF(LEN(O435)=0,\"\",IF(COUNTIF($O$2:$O$1921,O435+1)>0,\"\",IF(COUNTIF($O$2:O435,O435)>1,\"\",O435+1)))","v":""},{"$f":"IFERROR(SMALL($P$1:$P$1921,434),\"\")","v":""}]
[null,null,null,null,null,null,null,null,null,null,null,null,null,null,{"$f":"IF(436<=$B$10,IF(LEN('１学期'!HK10)=0,\"\",IF('１学期'!HK10=$B$8,IF(LEN('１学期'!HN10)=0,\"\",'１学期'!HN10),\"\")),\"\")","v":""},{"$f":"IF(LEN(O436)=0,\"\",IF(COUNTIF($O$2:$O$1921,O436+1)>0,\"\",IF(COUNTIF($O$2:O436,O436)>1,\"\",O436+1)))","v":""},{"$f":"IFERROR(SMALL($P$1:$P$1921,435),\"\")","v":""}]
[null,null,null,null,null,null,null,null,null,null,null,null,null,null,{"$f":"IF(437<=$B$10,IF(LEN('１学期'!HK13)=0,\"\",IF('１学期'!HK13=$B$8,IF(LEN('１学期'!HN13)=0,\"\",'１学期'!HN13),\"\")),\"\")","v":""},{"$f":"IF(LEN(O437)=0,\"\",IF(COUNTIF($O$2:$O$1921,O437+1)>0,\"\",IF(COUNTIF($O$2:O437,O437)>1,\"\",O437+1)))","v":""},{"$f":"IFERROR(SMALL($P$1:$P$1921,436),\"\")","v":""}]
[null,null,null,null,null,null,null,null,null,null,null,null,null,null,{"$f":"IF(438<=$B$10,IF(LEN('１学期'!HK16)=0,\"\",IF('１学期'!HK16=$B$8,IF(LEN('１学期'!HN16)=0,\"\",'１学期'!HN16),\"\")),\"\")","v":""},{"$f":"IF(LEN(O438)=0,\"\",IF(COUNTIF($O$2:$O$1921,O438+1)>0,\"\",IF(COUNTIF($O$2:O438,O438)>1,\"\",O438+1)))","v":""},{"$f":"IFERROR(SMALL($P$1:$P$1921,437),\"\")","v":""}]
[null,null,null,null,null,null,null,null,null,null,null,null,null,null,{"$f":"IF(439<=$B$10,IF(LEN('１学期'!HK19)=0,\"\",IF('１学期'!HK19=$B$8,IF(LEN('１学期'!HN19)=0,\"\",'１学期'!HN19),\"\")),\"\")","v":""},{"$f":"IF(LEN(O439)=0,\"\",IF(COUNTIF($O$2:$O$1921,O439+1)>0,\"\",IF(COUNTIF($O$2:O439,O439)>1,\"\",O439+1)))","v":""},{"$f":"IFERROR(SMALL($P$1:$P$1921,438),\"\")","v":""}]
[null,null,null,null,null,null,null,null,null,null,null,null,null,null,{"$f":"IF(440<=$B$10,IF(LEN('１学期'!HK22)=0,\"\",IF('１学期'!HK22=$B$8,IF(LEN('１学期'!HN22)=0,\"\",'１学期'!HN22),\"\")),\"\")","v":""},{"$f":"IF(LEN(O440)=0,\"\",IF(COUNTIF($O$2:$O$1921,O440+1)>0,\"\",IF(COUNTIF($O$2:O440,O440)>1,\"\",O440+1)))","v":""},{"$f":"IFERROR(SMALL($P$1:$P$1921,439),\"\")","v":""}]
[null,null,null,null,null,null,null,null,null,null,null,null,null,null,{"$f":"IF(441<=$B$10,IF(LEN('１学期'!HK25)=0,\"\",IF('１学期'!HK25=$B$8,IF(LEN('１学期'!HN25)=0,\"\",'１学期'!HN25),\"\")),\"\")","v":""},{"$f":"IF(LEN(O441)=0,\"\",IF(COUNTIF($O$2:$O$1921,O441+1)>0,\"\",IF(COUNTIF($O$2:O441,O441)>1,\"\",O441+1)))","v":""},{"$f":"IFERROR(SMALL($P$1:$P$1921,440),\"\")","v":""}]
[null,null,null,null,null,null,null,null,null,null,null,null,null,null,{"$f":"IF(442<=$B$10,IF(LEN('１学期'!HO6)=0,\"\",IF('１学期'!HO6=$B$8,IF(LEN('１学期'!HR6)=0,\"\",'１学期'!HR6),\"\")),\"\")","v":""},{"$f":"IF(LEN(O442)=0,\"\",IF(COUNTIF($O$2:$O$1921,O442+1)>0,\"\",IF(COUNTIF($O$2:O442,O442)>1,\"\",O442+1)))","v":""},{"$f":"IFERROR(SMALL($P$1:$P$1921,441),\"\")","v":""}]
[null,null,null,null,null,null,null,null,null,null,null,null,null,null,{"$f":"IF(443<=$B$10,IF(LEN('１学期'!HO7)=0,\"\",IF('１学期'!HO7=$B$8,IF(LEN('１学期'!HR7)=0,\"\",'１学期'!HR7),\"\")),\"\")","v":""},{"$f":"IF(LEN(O443)=0,\"\",IF(COUNTIF($O$2:$O$1921,O443+1)>0,\"\",IF(COUNTIF($O$2:O443,O443)>1,\"\",O443+1)))","v":""},{"$f":"IFERROR(SMALL($P$1:$P$1921,442),\"\")","v":""}]
[null,null,null,null,null,null,null,null,null,null,null,null,null,null,{"$f":"IF(444<=$B$10,IF(LEN('１学期'!HO10)=0,\"\",IF('１学期'!HO10=$B$8,IF(LEN('１学期'!HR10)=0,\"\",'１学期'!HR10),\"\")),\"\")","v":""},{"$f":"IF(LEN(O444)=0,\"\",IF(COUNTIF($O$2:$O$1921,O444+1)>0,\"\",IF(COUNTIF($O$2:O444,O444)>1,\"\",O444+1)))","v":""},{"$f":"IFERROR(SMALL($P$1:$P$1921,443),\"\")","v":""}]
[null,null,null,null,null,null,null,null,null,null,null,null,null,null,{"$f":"IF(445<=$B$10,IF(LEN('１学期'!HO13)=0,\"\",IF('１学期'!HO13=$B$8,IF(LEN('１学期'!HR13)=0,\"\",'１学期'!HR13),\"\")),\"\")","v":""},{"$f":"IF(LEN(O445)=0,\"\",IF(COUNTIF($O$2:$O$1921,O445+1)>0,\"\",IF(COUNTIF($O$2:O445,O445)>1,\"\",O445+1)))","v":""},{"$f":"IFERROR(SMALL($P$1:$P$1921,444),\"\")","v":""}]
[null,null,null,null,null,null,null,null,null,null,null,null,null,null,{"$f":"IF(446<=$B$10,IF(LEN('１学期'!HO16)=0,\"\",IF('１学期'!HO16=$B$8,IF(LEN('１学期'!HR16)=0,\"\",'１学期'!HR16),\"\")),\"\")","v":""},{"$f":"IF(LEN(O446)=0,\"\",IF(COUNTIF($O$2:$O$1921,O446+1)>0,\"\",IF(COUNTIF($O$2:O446,O446)>1,\"\",O446+1)))","v":""},{"$f":"IFERROR(SMALL($P$1:$P$1921,445),\"\")","v":""}]
[null,null,null,null,null,null,null,null,null,null,null,null,null,null,{"$f":"IF(447<=$B$10,IF(LEN('１学期'!HO19)=0,\"\",IF('１学期'!HO19=$B$8,IF(LEN('１学期'!HR19)=0,\"\",'１学期'!HR19),\"\")),\"\")","v":""},{"$f":"IF(LEN(O447)=0,\"\",IF(COUNTIF($O$2:$O$1921,O447+1)>0,\"\",IF(COUNTIF($O$2:O447,O447)>1,\"\",O447+1)))","v":""},{"$f":"IFERROR(SMALL($P$1:$P$1921,446),\"\")","v":""}]
[null,null,null,null,null,null,null,null,null,null,null,null,null,null,{"$f":"IF(448<=$B$10,IF(LEN('１学期'!HO22)=0,\"\",IF('１学期'!HO22=$B$8,IF(LEN('１学期'!HR22)=0,\"\",'１学期'!HR22),\"\")),\"\")","v":""},{"$f":"IF(LEN(O448)=0,\"\",IF(COUNTIF($O$2:$O$1921,O448+1)>0,\"\",IF(COUNTIF($O$2:O448,O448)>1,\"\",O448+1)))","v":""},{"$f":"IFERROR(SMALL($P$1:$P$1921,447),\"\")","v":""}]
[null,null,null,null,null,null,null,null,null,null,null,null,null,null,{"$f":"IF(449<=$B$10,IF(LEN('１学期'!HO25)=0,\"\",IF('１学期'!HO25=$B$8,IF(LEN('１学期'!HR25)=0,\"\",'１学期'!HR25),\"\")),\"\")","v":""},{"$f":"IF(LEN(O449)=0,\"\",IF(COUNTIF($O$2:$O$1921,O449+1)>0,\"\",IF(COUNTIF($O$2:O449,O449)>1,\"\",O449+1)))","v":""},{"$f":"IFERROR(SMALL($P$1:$P$1921,448),\"\")","v":""}]
[null,null,null,null,null,null,null,null,null,null,null,null,null,null,{"$f":"IF(450<=$B$10,IF(LEN('１学期'!HS6)=0,\"\",IF('１学期'!HS6=$B$8,IF(LEN('１学期'!HV6)=0,\"\",'１学期'!HV6),\"\")),\"\")","v":""},{"$f":"IF(LEN(O450)=0,\"\",IF(COUNTIF($O$2:$O$1921,O450+1)>0,\"\",IF(COUNTIF($O$2:O450,O450)>1,\"\",O450+1)))","v":""},{"$f":"IFERROR(SMALL($P$1:$P$1921,449),\"\")","v":""}]
[null,null,null,null,null,null,null,null,null,null,null,null,null,null,{"$f":"IF(451<=$B$10,IF(LEN('１学期'!HS7)=0,\"\",IF('１学期'!HS7=$B$8,IF(LEN('１学期'!HV7)=0,\"\",'１学期'!HV7),\"\")),\"\")","v":""},{"$f":"IF(LEN(O451)=0,\"\",IF(COUNTIF($O$2:$O$1921,O451+1)>0,\"\",IF(COUNTIF($O$2:O451,O451)>1,\"\",O451+1)))","v":""},{"$f":"IFERROR(SMALL($P$1:$P$1921,450),\"\")","v":""}]
[null,null,null,null,null,null,null,null,null,null,null,null,null,null,{"$f":"IF(452<=$B$10,IF(LEN('１学期'!HS10)=0,\"\",IF('１学期'!HS10=$B$8,IF(LEN('１学期'!HV10)=0,\"\",'１学期'!HV10),\"\")),\"\")","v":""},{"$f":"IF(LEN(O452)=0,\"\",IF(COUNTIF($O$2:$O$1921,O452+1)>0,\"\",IF(COUNTIF($O$2:O452,O452)>1,\"\",O452+1)))","v":""},{"$f":"IFERROR(SMALL($P$1:$P$1921,451),\"\")","v":""}]
[null,null,null,null,null,null,null,null,null,null,null,null,null,null,{"$f":"IF(453<=$B$10,IF(LEN('１学期'!HS13)=0,\"\",IF('１学期'!HS13=$B$8,IF(LEN('１学期'!HV13)=0,\"\",'１学期'!HV13),\"\")),\"\")","v":""},{"$f":"IF(LEN(O453)=0,\"\",IF(COUNTIF($O$2:$O$1921,O453+1)>0,\"\",IF(COUNTIF($O$2:O453,O453)>1,\"\",O453+1)))","v":""},{"$f":"IFERROR(SMALL($P$1:$P$1921,452),\"\")","v":""}]
[null,null,null,null,null,null,null,null,null,null,null,null,null,null,{"$f":"IF(454<=$B$10,IF(LEN('１学期'!HS16)=0,\"\",IF('１学期'!HS16=$B$8,IF(LEN('１学期'!HV16)=0,\"\",'１学期'!HV16),\"\")),\"\")","v":""},{"$f":"IF(LEN(O454)=0,\"\",IF(COUNTIF($O$2:$O$1921,O454+1)>0,\"\",IF(COUNTIF($O$2:O454,O454)>1,\"\",O454+1)))","v":""},{"$f":"IFERROR(SMALL($P$1:$P$1921,453),\"\")","v":""}]
[null,null,null,null,null,null,null,null,null,null,null,null,null,null,{"$f":"IF(455<=$B$10,IF(LEN('１学期'!HS19)=0,\"\",IF('１学期'!HS19=$B$8,IF(LEN('１学期'!HV19)=0,\"\",'１学期'!HV19),\"\")),\"\")","v":""},{"$f":"IF(LEN(O455)=0,\"\",IF(COUNTIF($O$2:$O$1921,O455+1)>0,\"\",IF(COUNTIF($O$2:O455,O455)>1,\"\",O455+1)))","v":""},{"$f":"IFERROR(SMALL($P$1:$P$1921,454),\"\")","v":""}]
[null,null,null,null,null,null,null,null,null,null,null,null,null,null,{"$f":"IF(456<=$B$10,IF(LEN('１学期'!HS22)=0,\"\",IF('１学期'!HS22=$B$8,IF(LEN('１学期'!HV22)=0,\"\",'１学期'!HV22),\"\")),\"\")","v":""},{"$f":"IF(LEN(O456)=0,\"\",IF(COUNTIF($O$2:$O$1921,O456+1)>0,\"\",IF(COUNTIF($O$2:O456,O456)>1,\"\",O456+1)))","v":""},{"$f":"IFERROR(SMALL($P$1:$P$1921,455),\"\")","v":""}]
[null,null,null,null,null,null,null,null,null,null,null,null,null,null,{"$f":"IF(457<=$B$10,IF(LEN('１学期'!HS25)=0,\"\",IF('１学期'!HS25=$B$8,IF(LEN('１学期'!HV25)=0,\"\",'１学期'!HV25),\"\")),\"\")","v":""},{"$f":"IF(LEN(O457)=0,\"\",IF(COUNTIF($O$2:$O$1921,O457+1)>0,\"\",IF(COUNTIF($O$2:O457,O457)>1,\"\",O457+1)))","v":""},{"$f":"IFERROR(SMALL($P$1:$P$1921,456),\"\")","v":""}]
[null,null,null,null,null,null,null,null,null,null,null,null,null,null,{"$f":"IF(458<=$B$10,IF(LEN('１学期'!HW6)=0,\"\",IF('１学期'!HW6=$B$8,IF(LEN('１学期'!HZ6)=0,\"\",'１学期'!HZ6),\"\")),\"\")","v":""},{"$f":"IF(LEN(O458)=0,\"\",IF(COUNTIF($O$2:$O$1921,O458+1)>0,\"\",IF(COUNTIF($O$2:O458,O458)>1,\"\",O458+1)))","v":""},{"$f":"IFERROR(SMALL($P$1:$P$1921,457),\"\")","v":""}]
[null,null,null,null,null,null,null,null,null,null,null,null,null,null,{"$f":"IF(459<=$B$10,IF(LEN('１学期'!HW7)=0,\"\",IF('１学期'!HW7=$B$8,IF(LEN('１学期'!HZ7)=0,\"\",'１学期'!HZ7),\"\")),\"\")","v":""},{"$f":"IF(LEN(O459)=0,\"\",IF(COUNTIF($O$2:$O$1921,O459+1)>0,\"\",IF(COUNTIF($O$2:O459,O459)>1,\"\",O459+1)))","v":""},{"$f":"IFERROR(SMALL($P$1:$P$1921,458),\"\")","v":""}]
[null,null,null,null,null,null,null,null,null,null,null,null,null,null,{"$f":"IF(460<=$B$10,IF(LEN('１学期'!HW10)=0,\"\",IF('１学期'!HW10=$B$8,IF(LEN('１学期'!HZ10)=0,\"\",'１学期'!HZ10),\"\")),\"\")","v":""},{"$f":"IF(LEN(O460)=0,\"\",IF(COUNTIF($O$2:$O$1921,O460+1)>0,\"\",IF(COUNTIF($O$2:O460,O460)>1,\"\",O460+1)))","v":""},{"$f":"IFERROR(SMALL($P$1:$P$1921,459),\"\")","v":""}]
[null,null,null,null,null,null,null,null,null,null,null,null,null,null,{"$f":"IF(461<=$B$10,IF(LEN('１学期'!HW13)=0,\"\",IF('１学期'!HW13=$B$8,IF(LEN('１学期'!HZ13)=0,\"\",'１学期'!HZ13),\"\")),\"\")","v":""},{"$f":"IF(LEN(O461)=0,\"\",IF(COUNTIF($O$2:$O$1921,O461+1)>0,\"\",IF(COUNTIF($O$2:O461,O461)>1,\"\",O461+1)))","v":""},{"$f":"IFERROR(SMALL($P$1:$P$1921,460),\"\")","v":""}]
[null,null,null,null,null,null,null,null,null,null,null,null,null,null,{"$f":"IF(462<=$B$10,IF(LEN('１学期'!HW16)=0,\"\",IF('１学期'!HW16=$B$8,IF(LEN('１学期'!HZ16)=0,\"\",'１学期'!HZ16),\"\")),\"\")","v":""},{"$f":"IF(LEN(O462)=0,\"\",IF(COUNTIF($O$2:$O$1921,O462+1)>0,\"\",IF(COUNTIF($O$2:O462,O462)>1,\"\",O462+1)))","v":""},{"$f":"IFERROR(SMALL($P$1:$P$1921,461),\"\")","v":""}]
[null,null,null,null,null,null,null,null,null,null,null,null,null,null,{"$f":"IF(463<=$B$10,IF(LEN('１学期'!HW19)=0,\"\",IF('１学期'!HW19=$B$8,IF(LEN('１学期'!HZ19)=0,\"\",'１学期'!HZ19),\"\")),\"\")","v":""},{"$f":"IF(LEN(O463)=0,\"\",IF(COUNTIF($O$2:$O$1921,O463+1)>0,\"\",IF(COUNTIF($O$2:O463,O463)>1,\"\",O463+1)))","v":""},{"$f":"IFERROR(SMALL($P$1:$P$1921,462),\"\")","v":""}]
[null,null,null,null,null,null,null,null,null,null,null,null,null,null,{"$f":"IF(464<=$B$10,IF(LEN('１学期'!HW22)=0,\"\",IF('１学期'!HW22=$B$8,IF(LEN('１学期'!HZ22)=0,\"\",'１学期'!HZ22),\"\")),\"\")","v":""},{"$f":"IF(LEN(O464)=0,\"\",IF(COUNTIF($O$2:$O$1921,O464+1)>0,\"\",IF(COUNTIF($O$2:O464,O464)>1,\"\",O464+1)))","v":""},{"$f":"IFERROR(SMALL($P$1:$P$1921,463),\"\")","v":""}]
[null,null,null,null,null,null,null,null,null,null,null,null,null,null,{"$f":"IF(465<=$B$10,IF(LEN('１学期'!HW25)=0,\"\",IF('１学期'!HW25=$B$8,IF(LEN('１学期'!HZ25)=0,\"\",'１学期'!HZ25),\"\")),\"\")","v":""},{"$f":"IF(LEN(O465)=0,\"\",IF(COUNTIF($O$2:$O$1921,O465+1)>0,\"\",IF(COUNTIF($O$2:O465,O465)>1,\"\",O465+1)))","v":""},{"$f":"IFERROR(SMALL($P$1:$P$1921,464),\"\")","v":""}]
[null,null,null,null,null,null,null,null,null,null,null,null,null,null,{"$f":"IF(466<=$B$10,IF(LEN('１学期'!IA6)=0,\"\",IF('１学期'!IA6=$B$8,IF(LEN('１学期'!ID6)=0,\"\",'１学期'!ID6),\"\")),\"\")","v":""},{"$f":"IF(LEN(O466)=0,\"\",IF(COUNTIF($O$2:$O$1921,O466+1)>0,\"\",IF(COUNTIF($O$2:O466,O466)>1,\"\",O466+1)))","v":""},{"$f":"IFERROR(SMALL($P$1:$P$1921,465),\"\")","v":""}]
[null,null,null,null,null,null,null,null,null,null,null,null,null,null,{"$f":"IF(467<=$B$10,IF(LEN('１学期'!IA7)=0,\"\",IF('１学期'!IA7=$B$8,IF(LEN('１学期'!ID7)=0,\"\",'１学期'!ID7),\"\")),\"\")","v":""},{"$f":"IF(LEN(O467)=0,\"\",IF(COUNTIF($O$2:$O$1921,O467+1)>0,\"\",IF(COUNTIF($O$2:O467,O467)>1,\"\",O467+1)))","v":""},{"$f":"IFERROR(SMALL($P$1:$P$1921,466),\"\")","v":""}]
[null,null,null,null,null,null,null,null,null,null,null,null,null,null,{"$f":"IF(468<=$B$10,IF(LEN('１学期'!IA10)=0,\"\",IF('１学期'!IA10=$B$8,IF(LEN('１学期'!ID10)=0,\"\",'１学期'!ID10),\"\")),\"\")","v":""},{"$f":"IF(LEN(O468)=0,\"\",IF(COUNTIF($O$2:$O$1921,O468+1)>0,\"\",IF(COUNTIF($O$2:O468,O468)>1,\"\",O468+1)))","v":""},{"$f":"IFERROR(SMALL($P$1:$P$1921,467),\"\")","v":""}]
[null,null,null,null,null,null,null,null,null,null,null,null,null,null,{"$f":"IF(469<=$B$10,IF(LEN('１学期'!IA13)=0,\"\",IF('１学期'!IA13=$B$8,IF(LEN('１学期'!ID13)=0,\"\",'１学期'!ID13),\"\")),\"\")","v":""},{"$f":"IF(LEN(O469)=0,\"\",IF(COUNTIF($O$2:$O$1921,O469+1)>0,\"\",IF(COUNTIF($O$2:O469,O469)>1,\"\",O469+1)))","v":""},{"$f":"IFERROR(SMALL($P$1:$P$1921,468),\"\")","v":""}]
[null,null,null,null,null,null,null,null,null,null,null,null,null,null,{"$f":"IF(470<=$B$10,IF(LEN('１学期'!IA16)=0,\"\",IF('１学期'!IA16=$B$8,IF(LEN('１学期'!ID16)=0,\"\",'１学期'!ID16),\"\")),\"\")","v":""},{"$f":"IF(LEN(O470)=0,\"\",IF(COUNTIF($O$2:$O$1921,O470+1)>0,\"\",IF(COUNTIF($O$2:O470,O470)>1,\"\",O470+1)))","v":""},{"$f":"IFERROR(SMALL($P$1:$P$1921,469),\"\")","v":""}]
[null,null,null,null,null,null,null,null,null,null,null,null,null,null,{"$f":"IF(471<=$B$10,IF(LEN('１学期'!IA19)=0,\"\",IF('１学期'!IA19=$B$8,IF(LEN('１学期'!ID19)=0,\"\",'１学期'!ID19),\"\")),\"\")","v":""},{"$f":"IF(LEN(O471)=0,\"\",IF(COUNTIF($O$2:$O$1921,O471+1)>0,\"\",IF(COUNTIF($O$2:O471,O471)>1,\"\",O471+1)))","v":""},{"$f":"IFERROR(SMALL($P$1:$P$1921,470),\"\")","v":""}]
[null,null,null,null,null,null,null,null,null,null,null,null,null,null,{"$f":"IF(472<=$B$10,IF(LEN('１学期'!IA22)=0,\"\",IF('１学期'!IA22=$B$8,IF(LEN('１学期'!ID22)=0,\"\",'１学期'!ID22),\"\")),\"\")","v":""},{"$f":"IF(LEN(O472)=0,\"\",IF(COUNTIF($O$2:$O$1921,O472+1)>0,\"\",IF(COUNTIF($O$2:O472,O472)>1,\"\",O472+1)))","v":""},{"$f":"IFERROR(SMALL($P$1:$P$1921,471),\"\")","v":""}]
[null,null,null,null,null,null,null,null,null,null,null,null,null,null,{"$f":"IF(473<=$B$10,IF(LEN('１学期'!IA25)=0,\"\",IF('１学期'!IA25=$B$8,IF(LEN('１学期'!ID25)=0,\"\",'１学期'!ID25),\"\")),\"\")","v":""},{"$f":"IF(LEN(O473)=0,\"\",IF(COUNTIF($O$2:$O$1921,O473+1)>0,\"\",IF(COUNTIF($O$2:O473,O473)>1,\"\",O473+1)))","v":""},{"$f":"IFERROR(SMALL($P$1:$P$1921,472),\"\")","v":""}]
[null,null,null,null,null,null,null,null,null,null,null,null,null,null,{"$f":"IF(474<=$B$10,IF(LEN('１学期'!IE6)=0,\"\",IF('１学期'!IE6=$B$8,IF(LEN('１学期'!IH6)=0,\"\",'１学期'!IH6),\"\")),\"\")","v":""},{"$f":"IF(LEN(O474)=0,\"\",IF(COUNTIF($O$2:$O$1921,O474+1)>0,\"\",IF(COUNTIF($O$2:O474,O474)>1,\"\",O474+1)))","v":""},{"$f":"IFERROR(SMALL($P$1:$P$1921,473),\"\")","v":""}]
[null,null,null,null,null,null,null,null,null,null,null,null,null,null,{"$f":"IF(475<=$B$10,IF(LEN('１学期'!IE7)=0,\"\",IF('１学期'!IE7=$B$8,IF(LEN('１学期'!IH7)=0,\"\",'１学期'!IH7),\"\")),\"\")","v":""},{"$f":"IF(LEN(O475)=0,\"\",IF(COUNTIF($O$2:$O$1921,O475+1)>0,\"\",IF(COUNTIF($O$2:O475,O475)>1,\"\",O475+1)))","v":""},{"$f":"IFERROR(SMALL($P$1:$P$1921,474),\"\")","v":""}]
[null,null,null,null,null,null,null,null,null,null,null,null,null,null,{"$f":"IF(476<=$B$10,IF(LEN('１学期'!IE10)=0,\"\",IF('１学期'!IE10=$B$8,IF(LEN('１学期'!IH10)=0,\"\",'１学期'!IH10),\"\")),\"\")","v":""},{"$f":"IF(LEN(O476)=0,\"\",IF(COUNTIF($O$2:$O$1921,O476+1)>0,\"\",IF(COUNTIF($O$2:O476,O476)>1,\"\",O476+1)))","v":""},{"$f":"IFERROR(SMALL($P$1:$P$1921,475),\"\")","v":""}]
[null,null,null,null,null,null,null,null,null,null,null,null,null,null,{"$f":"IF(477<=$B$10,IF(LEN('１学期'!IE13)=0,\"\",IF('１学期'!IE13=$B$8,IF(LEN('１学期'!IH13)=0,\"\",'１学期'!IH13),\"\")),\"\")","v":""},{"$f":"IF(LEN(O477)=0,\"\",IF(COUNTIF($O$2:$O$1921,O477+1)>0,\"\",IF(COUNTIF($O$2:O477,O477)>1,\"\",O477+1)))","v":""},{"$f":"IFERROR(SMALL($P$1:$P$1921,476),\"\")","v":""}]
[null,null,null,null,null,null,null,null,null,null,null,null,null,null,{"$f":"IF(478<=$B$10,IF(LEN('１学期'!IE16)=0,\"\",IF('１学期'!IE16=$B$8,IF(LEN('１学期'!IH16)=0,\"\",'１学期'!IH16),\"\")),\"\")","v":""},{"$f":"IF(LEN(O478)=0,\"\",IF(COUNTIF($O$2:$O$1921,O478+1)>0,\"\",IF(COUNTIF($O$2:O478,O478)>1,\"\",O478+1)))","v":""},{"$f":"IFERROR(SMALL($P$1:$P$1921,477),\"\")","v":""}]
[null,null,null,null,null,null,null,null,null,null,null,null,null,null,{"$f":"IF(479<=$B$10,IF(LEN('１学期'!IE19)=0,\"\",IF('１学期'!IE19=$B$8,IF(LEN('１学期'!IH19)=0,\"\",'１学期'!IH19),\"\")),\"\")","v":""},{"$f":"IF(LEN(O479)=0,\"\",IF(COUNTIF($O$2:$O$1921,O479+1)>0,\"\",IF(COUNTIF($O$2:O479,O479)>1,\"\",O479+1)))","v":""},{"$f":"IFERROR(SMALL($P$1:$P$1921,478),\"\")","v":""}]
[null,null,null,null,null,null,null,null,null,null,null,null,null,null,{"$f":"IF(480<=$B$10,IF(LEN('１学期'!IE22)=0,\"\",IF('１学期'!IE22=$B$8,IF(LEN('１学期'!IH22)=0,\"\",'１学期'!IH22),\"\")),\"\")","v":""},{"$f":"IF(LEN(O480)=0,\"\",IF(COUNTIF($O$2:$O$1921,O480+1)>0,\"\",IF(COUNTIF($O$2:O480,O480)>1,\"\",O480+1)))","v":""},{"$f":"IFERROR(SMALL($P$1:$P$1921,479),\"\")","v":""}]
[null,null,null,null,null,null,null,null,null,null,null,null,null,null,{"$f":"IF(481<=$B$10,IF(LEN('１学期'!IE25)=0,\"\",IF('１学期'!IE25=$B$8,IF(LEN('１学期'!IH25)=0,\"\",'１学期'!IH25),\"\")),\"\")","v":""},{"$f":"IF(LEN(O481)=0,\"\",IF(COUNTIF($O$2:$O$1921,O481+1)>0,\"\",IF(COUNTIF($O$2:O481,O481)>1,\"\",O481+1)))","v":""},{"$f":"IFERROR(SMALL($P$1:$P$1921,480),\"\")","v":""}]
[null,null,null,null,null,null,null,null,null,null,null,null,null,null,{"$f":"IF(482<=$B$10,IF(LEN('１学期'!II6)=0,\"\",IF('１学期'!II6=$B$8,IF(LEN('１学期'!IL6)=0,\"\",'１学期'!IL6),\"\")),\"\")","v":""},{"$f":"IF(LEN(O482)=0,\"\",IF(COUNTIF($O$2:$O$1921,O482+1)>0,\"\",IF(COUNTIF($O$2:O482,O482)>1,\"\",O482+1)))","v":""},{"$f":"IFERROR(SMALL($P$1:$P$1921,481),\"\")","v":""}]
[null,null,null,null,null,null,null,null,null,null,null,null,null,null,{"$f":"IF(483<=$B$10,IF(LEN('１学期'!II7)=0,\"\",IF('１学期'!II7=$B$8,IF(LEN('１学期'!IL7)=0,\"\",'１学期'!IL7),\"\")),\"\")","v":""},{"$f":"IF(LEN(O483)=0,\"\",IF(COUNTIF($O$2:$O$1921,O483+1)>0,\"\",IF(COUNTIF($O$2:O483,O483)>1,\"\",O483+1)))","v":""},{"$f":"IFERROR(SMALL($P$1:$P$1921,482),\"\")","v":""}]
[null,null,null,null,null,null,null,null,null,null,null,null,null,null,{"$f":"IF(484<=$B$10,IF(LEN('１学期'!II10)=0,\"\",IF('１学期'!II10=$B$8,IF(LEN('１学期'!IL10)=0,\"\",'１学期'!IL10),\"\")),\"\")","v":""},{"$f":"IF(LEN(O484)=0,\"\",IF(COUNTIF($O$2:$O$1921,O484+1)>0,\"\",IF(COUNTIF($O$2:O484,O484)>1,\"\",O484+1)))","v":""},{"$f":"IFERROR(SMALL($P$1:$P$1921,483),\"\")","v":""}]
[null,null,null,null,null,null,null,null,null,null,null,null,null,null,{"$f":"IF(485<=$B$10,IF(LEN('１学期'!II13)=0,\"\",IF('１学期'!II13=$B$8,IF(LEN('１学期'!IL13)=0,\"\",'１学期'!IL13),\"\")),\"\")","v":""},{"$f":"IF(LEN(O485)=0,\"\",IF(COUNTIF($O$2:$O$1921,O485+1)>0,\"\",IF(COUNTIF($O$2:O485,O485)>1,\"\",O485+1)))","v":""},{"$f":"IFERROR(SMALL($P$1:$P$1921,484),\"\")","v":""}]
[null,null,null,null,null,null,null,null,null,null,null,null,null,null,{"$f":"IF(486<=$B$10,IF(LEN('１学期'!II16)=0,\"\",IF('１学期'!II16=$B$8,IF(LEN('１学期'!IL16)=0,\"\",'１学期'!IL16),\"\")),\"\")","v":""},{"$f":"IF(LEN(O486)=0,\"\",IF(COUNTIF($O$2:$O$1921,O486+1)>0,\"\",IF(COUNTIF($O$2:O486,O486)>1,\"\",O486+1)))","v":""},{"$f":"IFERROR(SMALL($P$1:$P$1921,485),\"\")","v":""}]
[null,null,null,null,null,null,null,null,null,null,null,null,null,null,{"$f":"IF(487<=$B$10,IF(LEN('１学期'!II19)=0,\"\",IF('１学期'!II19=$B$8,IF(LEN('１学期'!IL19)=0,\"\",'１学期'!IL19),\"\")),\"\")","v":""},{"$f":"IF(LEN(O487)=0,\"\",IF(COUNTIF($O$2:$O$1921,O487+1)>0,\"\",IF(COUNTIF($O$2:O487,O487)>1,\"\",O487+1)))","v":""},{"$f":"IFERROR(SMALL($P$1:$P$1921,486),\"\")","v":""}]
[null,null,null,null,null,null,null,null,null,null,null,null,null,null,{"$f":"IF(488<=$B$10,IF(LEN('１学期'!II22)=0,\"\",IF('１学期'!II22=$B$8,IF(LEN('１学期'!IL22)=0,\"\",'１学期'!IL22),\"\")),\"\")","v":""},{"$f":"IF(LEN(O488)=0,\"\",IF(COUNTIF($O$2:$O$1921,O488+1)>0,\"\",IF(COUNTIF($O$2:O488,O488)>1,\"\",O488+1)))","v":""},{"$f":"IFERROR(SMALL($P$1:$P$1921,487),\"\")","v":""}]
[null,null,null,null,null,null,null,null,null,null,null,null,null,null,{"$f":"IF(489<=$B$10,IF(LEN('１学期'!II25)=0,\"\",IF('１学期'!II25=$B$8,IF(LEN('１学期'!IL25)=0,\"\",'１学期'!IL25),\"\")),\"\")","v":""},{"$f":"IF(LEN(O489)=0,\"\",IF(COUNTIF($O$2:$O$1921,O489+1)>0,\"\",IF(COUNTIF($O$2:O489,O489)>1,\"\",O489+1)))","v":""},{"$f":"IFERROR(SMALL($P$1:$P$1921,488),\"\")","v":""}]
[null,null,null,null,null,null,null,null,null,null,null,null,null,null,{"$f":"IF(490<=$B$10,IF(LEN('１学期'!IM6)=0,\"\",IF('１学期'!IM6=$B$8,IF(LEN('１学期'!IP6)=0,\"\",'１学期'!IP6),\"\")),\"\")","v":""},{"$f":"IF(LEN(O490)=0,\"\",IF(COUNTIF($O$2:$O$1921,O490+1)>0,\"\",IF(COUNTIF($O$2:O490,O490)>1,\"\",O490+1)))","v":""},{"$f":"IFERROR(SMALL($P$1:$P$1921,489),\"\")","v":""}]
[null,null,null,null,null,null,null,null,null,null,null,null,null,null,{"$f":"IF(491<=$B$10,IF(LEN('１学期'!IM7)=0,\"\",IF('１学期'!IM7=$B$8,IF(LEN('１学期'!IP7)=0,\"\",'１学期'!IP7),\"\")),\"\")","v":""},{"$f":"IF(LEN(O491)=0,\"\",IF(COUNTIF($O$2:$O$1921,O491+1)>0,\"\",IF(COUNTIF($O$2:O491,O491)>1,\"\",O491+1)))","v":""},{"$f":"IFERROR(SMALL($P$1:$P$1921,490),\"\")","v":""}]
[null,null,null,null,null,null,null,null,null,null,null,null,null,null,{"$f":"IF(492<=$B$10,IF(LEN('１学期'!IM10)=0,\"\",IF('１学期'!IM10=$B$8,IF(LEN('１学期'!IP10)=0,\"\",'１学期'!IP10),\"\")),\"\")","v":""},{"$f":"IF(LEN(O492)=0,\"\",IF(COUNTIF($O$2:$O$1921,O492+1)>0,\"\",IF(COUNTIF($O$2:O492,O492)>1,\"\",O492+1)))","v":""},{"$f":"IFERROR(SMALL($P$1:$P$1921,491),\"\")","v":""}]
[null,null,null,null,null,null,null,null,null,null,null,null,null,null,{"$f":"IF(493<=$B$10,IF(LEN('１学期'!IM13)=0,\"\",IF('１学期'!IM13=$B$8,IF(LEN('１学期'!IP13)=0,\"\",'１学期'!IP13),\"\")),\"\")","v":""},{"$f":"IF(LEN(O493)=0,\"\",IF(COUNTIF($O$2:$O$1921,O493+1)>0,\"\",IF(COUNTIF($O$2:O493,O493)>1,\"\",O493+1)))","v":""},{"$f":"IFERROR(SMALL($P$1:$P$1921,492),\"\")","v":""}]
[null,null,null,null,null,null,null,null,null,null,null,null,null,null,{"$f":"IF(494<=$B$10,IF(LEN('１学期'!IM16)=0,\"\",IF('１学期'!IM16=$B$8,IF(LEN('１学期'!IP16)=0,\"\",'１学期'!IP16),\"\")),\"\")","v":""},{"$f":"IF(LEN(O494)=0,\"\",IF(COUNTIF($O$2:$O$1921,O494+1)>0,\"\",IF(COUNTIF($O$2:O494,O494)>1,\"\",O494+1)))","v":""},{"$f":"IFERROR(SMALL($P$1:$P$1921,493),\"\")","v":""}]
[null,null,null,null,null,null,null,null,null,null,null,null,null,null,{"$f":"IF(495<=$B$10,IF(LEN('１学期'!IM19)=0,\"\",IF('１学期'!IM19=$B$8,IF(LEN('１学期'!IP19)=0,\"\",'１学期'!IP19),\"\")),\"\")","v":""},{"$f":"IF(LEN(O495)=0,\"\",IF(COUNTIF($O$2:$O$1921,O495+1)>0,\"\",IF(COUNTIF($O$2:O495,O495)>1,\"\",O495+1)))","v":""},{"$f":"IFERROR(SMALL($P$1:$P$1921,494),\"\")","v":""}]
[null,null,null,null,null,null,null,null,null,null,null,null,null,null,{"$f":"IF(496<=$B$10,IF(LEN('１学期'!IM22)=0,\"\",IF('１学期'!IM22=$B$8,IF(LEN('１学期'!IP22)=0,\"\",'１学期'!IP22),\"\")),\"\")","v":""},{"$f":"IF(LEN(O496)=0,\"\",IF(COUNTIF($O$2:$O$1921,O496+1)>0,\"\",IF(COUNTIF($O$2:O496,O496)>1,\"\",O496+1)))","v":""},{"$f":"IFERROR(SMALL($P$1:$P$1921,495),\"\")","v":""}]
[null,null,null,null,null,null,null,null,null,null,null,null,null,null,{"$f":"IF(497<=$B$10,IF(LEN('１学期'!IM25)=0,\"\",IF('１学期'!IM25=$B$8,IF(LEN('１学期'!IP25)=0,\"\",'１学期'!IP25),\"\")),\"\")","v":""},{"$f":"IF(LEN(O497)=0,\"\",IF(COUNTIF($O$2:$O$1921,O497+1)>0,\"\",IF(COUNTIF($O$2:O497,O497)>1,\"\",O497+1)))","v":""},{"$f":"IFERROR(SMALL($P$1:$P$1921,496),\"\")","v":""}]
[null,null,null,null,null,null,null,null,null,null,null,null,null,null,{"$f":"IF(498<=$B$10,IF(LEN('１学期'!IQ6)=0,\"\",IF('１学期'!IQ6=$B$8,IF(LEN('１学期'!IT6)=0,\"\",'１学期'!IT6),\"\")),\"\")","v":""},{"$f":"IF(LEN(O498)=0,\"\",IF(COUNTIF($O$2:$O$1921,O498+1)>0,\"\",IF(COUNTIF($O$2:O498,O498)>1,\"\",O498+1)))","v":""},{"$f":"IFERROR(SMALL($P$1:$P$1921,497),\"\")","v":""}]
[null,null,null,null,null,null,null,null,null,null,null,null,null,null,{"$f":"IF(499<=$B$10,IF(LEN('１学期'!IQ7)=0,\"\",IF('１学期'!IQ7=$B$8,IF(LEN('１学期'!IT7)=0,\"\",'１学期'!IT7),\"\")),\"\")","v":""},{"$f":"IF(LEN(O499)=0,\"\",IF(COUNTIF($O$2:$O$1921,O499+1)>0,\"\",IF(COUNTIF($O$2:O499,O499)>1,\"\",O499+1)))","v":""},{"$f":"IFERROR(SMALL($P$1:$P$1921,498),\"\")","v":""}]
[null,null,null,null,null,null,null,null,null,null,null,null,null,null,{"$f":"IF(500<=$B$10,IF(LEN('１学期'!IQ10)=0,\"\",IF('１学期'!IQ10=$B$8,IF(LEN('１学期'!IT10)=0,\"\",'１学期'!IT10),\"\")),\"\")","v":""},{"$f":"IF(LEN(O500)=0,\"\",IF(COUNTIF($O$2:$O$1921,O500+1)>0,\"\",IF(COUNTIF($O$2:O500,O500)>1,\"\",O500+1)))","v":""},{"$f":"IFERROR(SMALL($P$1:$P$1921,499),\"\")","v":""}]
[null,null,null,null,null,null,null,null,null,null,null,null,null,null,{"$f":"IF(501<=$B$10,IF(LEN('１学期'!IQ13)=0,\"\",IF('１学期'!IQ13=$B$8,IF(LEN('１学期'!IT13)=0,\"\",'１学期'!IT13),\"\")),\"\")","v":""},{"$f":"IF(LEN(O501)=0,\"\",IF(COUNTIF($O$2:$O$1921,O501+1)>0,\"\",IF(COUNTIF($O$2:O501,O501)>1,\"\",O501+1)))","v":""},{"$f":"IFERROR(SMALL($P$1:$P$1921,500),\"\")","v":""}]
[null,null,null,null,null,null,null,null,null,null,null,null,null,null,{"$f":"IF(502<=$B$10,IF(LEN('１学期'!IQ16)=0,\"\",IF('１学期'!IQ16=$B$8,IF(LEN('１学期'!IT16)=0,\"\",'１学期'!IT16),\"\")),\"\")","v":""},{"$f":"IF(LEN(O502)=0,\"\",IF(COUNTIF($O$2:$O$1921,O502+1)>0,\"\",IF(COUNTIF($O$2:O502,O502)>1,\"\",O502+1)))","v":""},{"$f":"IFERROR(SMALL($P$1:$P$1921,501),\"\")","v":""}]
[null,null,null,null,null,null,null,null,null,null,null,null,null,null,{"$f":"IF(503<=$B$10,IF(LEN('１学期'!IQ19)=0,\"\",IF('１学期'!IQ19=$B$8,IF(LEN('１学期'!IT19)=0,\"\",'１学期'!IT19),\"\")),\"\")","v":""},{"$f":"IF(LEN(O503)=0,\"\",IF(COUNTIF($O$2:$O$1921,O503+1)>0,\"\",IF(COUNTIF($O$2:O503,O503)>1,\"\",O503+1)))","v":""},{"$f":"IFERROR(SMALL($P$1:$P$1921,502),\"\")","v":""}]
[null,null,null,null,null,null,null,null,null,null,null,null,null,null,{"$f":"IF(504<=$B$10,IF(LEN('１学期'!IQ22)=0,\"\",IF('１学期'!IQ22=$B$8,IF(LEN('１学期'!IT22)=0,\"\",'１学期'!IT22),\"\")),\"\")","v":""},{"$f":"IF(LEN(O504)=0,\"\",IF(COUNTIF($O$2:$O$1921,O504+1)>0,\"\",IF(COUNTIF($O$2:O504,O504)>1,\"\",O504+1)))","v":""},{"$f":"IFERROR(SMALL($P$1:$P$1921,503),\"\")","v":""}]
[null,null,null,null,null,null,null,null,null,null,null,null,null,null,{"$f":"IF(505<=$B$10,IF(LEN('１学期'!IQ25)=0,\"\",IF('１学期'!IQ25=$B$8,IF(LEN('１学期'!IT25)=0,\"\",'１学期'!IT25),\"\")),\"\")","v":""},{"$f":"IF(LEN(O505)=0,\"\",IF(COUNTIF($O$2:$O$1921,O505+1)>0,\"\",IF(COUNTIF($O$2:O505,O505)>1,\"\",O505+1)))","v":""},{"$f":"IFERROR(SMALL($P$1:$P$1921,504),\"\")","v":""}]
[null,null,null,null,null,null,null,null,null,null,null,null,null,null,{"$f":"IF(506<=$B$10,IF(LEN('１学期'!IU6)=0,\"\",IF('１学期'!IU6=$B$8,IF(LEN('１学期'!IX6)=0,\"\",'１学期'!IX6),\"\")),\"\")","v":""},{"$f":"IF(LEN(O506)=0,\"\",IF(COUNTIF($O$2:$O$1921,O506+1)>0,\"\",IF(COUNTIF($O$2:O506,O506)>1,\"\",O506+1)))","v":""},{"$f":"IFERROR(SMALL($P$1:$P$1921,505),\"\")","v":""}]
[null,null,null,null,null,null,null,null,null,null,null,null,null,null,{"$f":"IF(507<=$B$10,IF(LEN('１学期'!IU7)=0,\"\",IF('１学期'!IU7=$B$8,IF(LEN('１学期'!IX7)=0,\"\",'１学期'!IX7),\"\")),\"\")","v":""},{"$f":"IF(LEN(O507)=0,\"\",IF(COUNTIF($O$2:$O$1921,O507+1)>0,\"\",IF(COUNTIF($O$2:O507,O507)>1,\"\",O507+1)))","v":""},{"$f":"IFERROR(SMALL($P$1:$P$1921,506),\"\")","v":""}]
[null,null,null,null,null,null,null,null,null,null,null,null,null,null,{"$f":"IF(508<=$B$10,IF(LEN('１学期'!IU10)=0,\"\",IF('１学期'!IU10=$B$8,IF(LEN('１学期'!IX10)=0,\"\",'１学期'!IX10),\"\")),\"\")","v":""},{"$f":"IF(LEN(O508)=0,\"\",IF(COUNTIF($O$2:$O$1921,O508+1)>0,\"\",IF(COUNTIF($O$2:O508,O508)>1,\"\",O508+1)))","v":""},{"$f":"IFERROR(SMALL($P$1:$P$1921,507),\"\")","v":""}]
[null,null,null,null,null,null,null,null,null,null,null,null,null,null,{"$f":"IF(509<=$B$10,IF(LEN('１学期'!IU13)=0,\"\",IF('１学期'!IU13=$B$8,IF(LEN('１学期'!IX13)=0,\"\",'１学期'!IX13),\"\")),\"\")","v":""},{"$f":"IF(LEN(O509)=0,\"\",IF(COUNTIF($O$2:$O$1921,O509+1)>0,\"\",IF(COUNTIF($O$2:O509,O509)>1,\"\",O509+1)))","v":""},{"$f":"IFERROR(SMALL($P$1:$P$1921,508),\"\")","v":""}]
[null,null,null,null,null,null,null,null,null,null,null,null,null,null,{"$f":"IF(510<=$B$10,IF(LEN('１学期'!IU16)=0,\"\",IF('１学期'!IU16=$B$8,IF(LEN('１学期'!IX16)=0,\"\",'１学期'!IX16),\"\")),\"\")","v":""},{"$f":"IF(LEN(O510)=0,\"\",IF(COUNTIF($O$2:$O$1921,O510+1)>0,\"\",IF(COUNTIF($O$2:O510,O510)>1,\"\",O510+1)))","v":""},{"$f":"IFERROR(SMALL($P$1:$P$1921,509),\"\")","v":""}]
[null,null,null,null,null,null,null,null,null,null,null,null,null,null,{"$f":"IF(511<=$B$10,IF(LEN('１学期'!IU19)=0,\"\",IF('１学期'!IU19=$B$8,IF(LEN('１学期'!IX19)=0,\"\",'１学期'!IX19),\"\")),\"\")","v":""},{"$f":"IF(LEN(O511)=0,\"\",IF(COUNTIF($O$2:$O$1921,O511+1)>0,\"\",IF(COUNTIF($O$2:O511,O511)>1,\"\",O511+1)))","v":""},{"$f":"IFERROR(SMALL($P$1:$P$1921,510),\"\")","v":""}]
[null,null,null,null,null,null,null,null,null,null,null,null,null,null,{"$f":"IF(512<=$B$10,IF(LEN('１学期'!IU22)=0,\"\",IF('１学期'!IU22=$B$8,IF(LEN('１学期'!IX22)=0,\"\",'１学期'!IX22),\"\")),\"\")","v":""},{"$f":"IF(LEN(O512)=0,\"\",IF(COUNTIF($O$2:$O$1921,O512+1)>0,\"\",IF(COUNTIF($O$2:O512,O512)>1,\"\",O512+1)))","v":""},{"$f":"IFERROR(SMALL($P$1:$P$1921,511),\"\")","v":""}]
[null,null,null,null,null,null,null,null,null,null,null,null,null,null,{"$f":"IF(513<=$B$10,IF(LEN('１学期'!IU25)=0,\"\",IF('１学期'!IU25=$B$8,IF(LEN('１学期'!IX25)=0,\"\",'１学期'!IX25),\"\")),\"\")","v":""},{"$f":"IF(LEN(O513)=0,\"\",IF(COUNTIF($O$2:$O$1921,O513+1)>0,\"\",IF(COUNTIF($O$2:O513,O513)>1,\"\",O513+1)))","v":""},{"$f":"IFERROR(SMALL($P$1:$P$1921,512),\"\")","v":""}]
[null,null,null,null,null,null,null,null,null,null,null,null,null,null,{"$f":"IF(514<=$B$10,IF(LEN('１学期'!IY6)=0,\"\",IF('１学期'!IY6=$B$8,IF(LEN('１学期'!JB6)=0,\"\",'１学期'!JB6),\"\")),\"\")","v":""},{"$f":"IF(LEN(O514)=0,\"\",IF(COUNTIF($O$2:$O$1921,O514+1)>0,\"\",IF(COUNTIF($O$2:O514,O514)>1,\"\",O514+1)))","v":""},{"$f":"IFERROR(SMALL($P$1:$P$1921,513),\"\")","v":""}]
[null,null,null,null,null,null,null,null,null,null,null,null,null,null,{"$f":"IF(515<=$B$10,IF(LEN('１学期'!IY7)=0,\"\",IF('１学期'!IY7=$B$8,IF(LEN('１学期'!JB7)=0,\"\",'１学期'!JB7),\"\")),\"\")","v":""},{"$f":"IF(LEN(O515)=0,\"\",IF(COUNTIF($O$2:$O$1921,O515+1)>0,\"\",IF(COUNTIF($O$2:O515,O515)>1,\"\",O515+1)))","v":""},{"$f":"IFERROR(SMALL($P$1:$P$1921,514),\"\")","v":""}]
[null,null,null,null,null,null,null,null,null,null,null,null,null,null,{"$f":"IF(516<=$B$10,IF(LEN('１学期'!IY10)=0,\"\",IF('１学期'!IY10=$B$8,IF(LEN('１学期'!JB10)=0,\"\",'１学期'!JB10),\"\")),\"\")","v":""},{"$f":"IF(LEN(O516)=0,\"\",IF(COUNTIF($O$2:$O$1921,O516+1)>0,\"\",IF(COUNTIF($O$2:O516,O516)>1,\"\",O516+1)))","v":""},{"$f":"IFERROR(SMALL($P$1:$P$1921,515),\"\")","v":""}]
[null,null,null,null,null,null,null,null,null,null,null,null,null,null,{"$f":"IF(517<=$B$10,IF(LEN('１学期'!IY13)=0,\"\",IF('１学期'!IY13=$B$8,IF(LEN('１学期'!JB13)=0,\"\",'１学期'!JB13),\"\")),\"\")","v":""},{"$f":"IF(LEN(O517)=0,\"\",IF(COUNTIF($O$2:$O$1921,O517+1)>0,\"\",IF(COUNTIF($O$2:O517,O517)>1,\"\",O517+1)))","v":""},{"$f":"IFERROR(SMALL($P$1:$P$1921,516),\"\")","v":""}]
[null,null,null,null,null,null,null,null,null,null,null,null,null,null,{"$f":"IF(518<=$B$10,IF(LEN('１学期'!IY16)=0,\"\",IF('１学期'!IY16=$B$8,IF(LEN('１学期'!JB16)=0,\"\",'１学期'!JB16),\"\")),\"\")","v":""},{"$f":"IF(LEN(O518)=0,\"\",IF(COUNTIF($O$2:$O$1921,O518+1)>0,\"\",IF(COUNTIF($O$2:O518,O518)>1,\"\",O518+1)))","v":""},{"$f":"IFERROR(SMALL($P$1:$P$1921,517),\"\")","v":""}]
[null,null,null,null,null,null,null,null,null,null,null,null,null,null,{"$f":"IF(519<=$B$10,IF(LEN('１学期'!IY19)=0,\"\",IF('１学期'!IY19=$B$8,IF(LEN('１学期'!JB19)=0,\"\",'１学期'!JB19),\"\")),\"\")","v":""},{"$f":"IF(LEN(O519)=0,\"\",IF(COUNTIF($O$2:$O$1921,O519+1)>0,\"\",IF(COUNTIF($O$2:O519,O519)>1,\"\",O519+1)))","v":""},{"$f":"IFERROR(SMALL($P$1:$P$1921,518),\"\")","v":""}]
[null,null,null,null,null,null,null,null,null,null,null,null,null,null,{"$f":"IF(520<=$B$10,IF(LEN('１学期'!IY22)=0,\"\",IF('１学期'!IY22=$B$8,IF(LEN('１学期'!JB22)=0,\"\",'１学期'!JB22),\"\")),\"\")","v":""},{"$f":"IF(LEN(O520)=0,\"\",IF(COUNTIF($O$2:$O$1921,O520+1)>0,\"\",IF(COUNTIF($O$2:O520,O520)>1,\"\",O520+1)))","v":""},{"$f":"IFERROR(SMALL($P$1:$P$1921,519),\"\")","v":""}]
[null,null,null,null,null,null,null,null,null,null,null,null,null,null,{"$f":"IF(521<=$B$10,IF(LEN('１学期'!IY25)=0,\"\",IF('１学期'!IY25=$B$8,IF(LEN('１学期'!JB25)=0,\"\",'１学期'!JB25),\"\")),\"\")","v":""},{"$f":"IF(LEN(O521)=0,\"\",IF(COUNTIF($O$2:$O$1921,O521+1)>0,\"\",IF(COUNTIF($O$2:O521,O521)>1,\"\",O521+1)))","v":""},{"$f":"IFERROR(SMALL($P$1:$P$1921,520),\"\")","v":""}]
[null,null,null,null,null,null,null,null,null,null,null,null,null,null,{"$f":"IF(522<=$B$10,IF(LEN('１学期'!JC6)=0,\"\",IF('１学期'!JC6=$B$8,IF(LEN('１学期'!JF6)=0,\"\",'１学期'!JF6),\"\")),\"\")","v":""},{"$f":"IF(LEN(O522)=0,\"\",IF(COUNTIF($O$2:$O$1921,O522+1)>0,\"\",IF(COUNTIF($O$2:O522,O522)>1,\"\",O522+1)))","v":""},{"$f":"IFERROR(SMALL($P$1:$P$1921,521),\"\")","v":""}]
[null,null,null,null,null,null,null,null,null,null,null,null,null,null,{"$f":"IF(523<=$B$10,IF(LEN('１学期'!JC7)=0,\"\",IF('１学期'!JC7=$B$8,IF(LEN('１学期'!JF7)=0,\"\",'１学期'!JF7),\"\")),\"\")","v":""},{"$f":"IF(LEN(O523)=0,\"\",IF(COUNTIF($O$2:$O$1921,O523+1)>0,\"\",IF(COUNTIF($O$2:O523,O523)>1,\"\",O523+1)))","v":""},{"$f":"IFERROR(SMALL($P$1:$P$1921,522),\"\")","v":""}]
[null,null,null,null,null,null,null,null,null,null,null,null,null,null,{"$f":"IF(524<=$B$10,IF(LEN('１学期'!JC10)=0,\"\",IF('１学期'!JC10=$B$8,IF(LEN('１学期'!JF10)=0,\"\",'１学期'!JF10),\"\")),\"\")","v":""},{"$f":"IF(LEN(O524)=0,\"\",IF(COUNTIF($O$2:$O$1921,O524+1)>0,\"\",IF(COUNTIF($O$2:O524,O524)>1,\"\",O524+1)))","v":""},{"$f":"IFERROR(SMALL($P$1:$P$1921,523),\"\")","v":""}]
[null,null,null,null,null,null,null,null,null,null,null,null,null,null,{"$f":"IF(525<=$B$10,IF(LEN('１学期'!JC13)=0,\"\",IF('１学期'!JC13=$B$8,IF(LEN('１学期'!JF13)=0,\"\",'１学期'!JF13),\"\")),\"\")","v":""},{"$f":"IF(LEN(O525)=0,\"\",IF(COUNTIF($O$2:$O$1921,O525+1)>0,\"\",IF(COUNTIF($O$2:O525,O525)>1,\"\",O525+1)))","v":""},{"$f":"IFERROR(SMALL($P$1:$P$1921,524),\"\")","v":""}]
[null,null,null,null,null,null,null,null,null,null,null,null,null,null,{"$f":"IF(526<=$B$10,IF(LEN('１学期'!JC16)=0,\"\",IF('１学期'!JC16=$B$8,IF(LEN('１学期'!JF16)=0,\"\",'１学期'!JF16),\"\")),\"\")","v":""},{"$f":"IF(LEN(O526)=0,\"\",IF(COUNTIF($O$2:$O$1921,O526+1)>0,\"\",IF(COUNTIF($O$2:O526,O526)>1,\"\",O526+1)))","v":""},{"$f":"IFERROR(SMALL($P$1:$P$1921,525),\"\")","v":""}]
[null,null,null,null,null,null,null,null,null,null,null,null,null,null,{"$f":"IF(527<=$B$10,IF(LEN('１学期'!JC19)=0,\"\",IF('１学期'!JC19=$B$8,IF(LEN('１学期'!JF19)=0,\"\",'１学期'!JF19),\"\")),\"\")","v":""},{"$f":"IF(LEN(O527)=0,\"\",IF(COUNTIF($O$2:$O$1921,O527+1)>0,\"\",IF(COUNTIF($O$2:O527,O527)>1,\"\",O527+1)))","v":""},{"$f":"IFERROR(SMALL($P$1:$P$1921,526),\"\")","v":""}]
[null,null,null,null,null,null,null,null,null,null,null,null,null,null,{"$f":"IF(528<=$B$10,IF(LEN('１学期'!JC22)=0,\"\",IF('１学期'!JC22=$B$8,IF(LEN('１学期'!JF22)=0,\"\",'１学期'!JF22),\"\")),\"\")","v":""},{"$f":"IF(LEN(O528)=0,\"\",IF(COUNTIF($O$2:$O$1921,O528+1)>0,\"\",IF(COUNTIF($O$2:O528,O528)>1,\"\",O528+1)))","v":""},{"$f":"IFERROR(SMALL($P$1:$P$1921,527),\"\")","v":""}]
[null,null,null,null,null,null,null,null,null,null,null,null,null,null,{"$f":"IF(529<=$B$10,IF(LEN('１学期'!JC25)=0,\"\",IF('１学期'!JC25=$B$8,IF(LEN('１学期'!JF25)=0,\"\",'１学期'!JF25),\"\")),\"\")","v":""},{"$f":"IF(LEN(O529)=0,\"\",IF(COUNTIF($O$2:$O$1921,O529+1)>0,\"\",IF(COUNTIF($O$2:O529,O529)>1,\"\",O529+1)))","v":""},{"$f":"IFERROR(SMALL($P$1:$P$1921,528),\"\")","v":""}]
[null,null,null,null,null,null,null,null,null,null,null,null,null,null,{"$f":"IF(530<=$B$10,IF(LEN('１学期'!JG6)=0,\"\",IF('１学期'!JG6=$B$8,IF(LEN('１学期'!JJ6)=0,\"\",'１学期'!JJ6),\"\")),\"\")","v":""},{"$f":"IF(LEN(O530)=0,\"\",IF(COUNTIF($O$2:$O$1921,O530+1)>0,\"\",IF(COUNTIF($O$2:O530,O530)>1,\"\",O530+1)))","v":""},{"$f":"IFERROR(SMALL($P$1:$P$1921,529),\"\")","v":""}]
[null,null,null,null,null,null,null,null,null,null,null,null,null,null,{"$f":"IF(531<=$B$10,IF(LEN('１学期'!JG7)=0,\"\",IF('１学期'!JG7=$B$8,IF(LEN('１学期'!JJ7)=0,\"\",'１学期'!JJ7),\"\")),\"\")","v":""},{"$f":"IF(LEN(O531)=0,\"\",IF(COUNTIF($O$2:$O$1921,O531+1)>0,\"\",IF(COUNTIF($O$2:O531,O531)>1,\"\",O531+1)))","v":""},{"$f":"IFERROR(SMALL($P$1:$P$1921,530),\"\")","v":""}]
[null,null,null,null,null,null,null,null,null,null,null,null,null,null,{"$f":"IF(532<=$B$10,IF(LEN('１学期'!JG10)=0,\"\",IF('１学期'!JG10=$B$8,IF(LEN('１学期'!JJ10)=0,\"\",'１学期'!JJ10),\"\")),\"\")","v":""},{"$f":"IF(LEN(O532)=0,\"\",IF(COUNTIF($O$2:$O$1921,O532+1)>0,\"\",IF(COUNTIF($O$2:O532,O532)>1,\"\",O532+1)))","v":""},{"$f":"IFERROR(SMALL($P$1:$P$1921,531),\"\")","v":""}]
[null,null,null,null,null,null,null,null,null,null,null,null,null,null,{"$f":"IF(533<=$B$10,IF(LEN('１学期'!JG13)=0,\"\",IF('１学期'!JG13=$B$8,IF(LEN('１学期'!JJ13)=0,\"\",'１学期'!JJ13),\"\")),\"\")","v":""},{"$f":"IF(LEN(O533)=0,\"\",IF(COUNTIF($O$2:$O$1921,O533+1)>0,\"\",IF(COUNTIF($O$2:O533,O533)>1,\"\",O533+1)))","v":""},{"$f":"IFERROR(SMALL($P$1:$P$1921,532),\"\")","v":""}]
[null,null,null,null,null,null,null,null,null,null,null,null,null,null,{"$f":"IF(534<=$B$10,IF(LEN('１学期'!JG16)=0,\"\",IF('１学期'!JG16=$B$8,IF(LEN('１学期'!JJ16)=0,\"\",'１学期'!JJ16),\"\")),\"\")","v":""},{"$f":"IF(LEN(O534)=0,\"\",IF(COUNTIF($O$2:$O$1921,O534+1)>0,\"\",IF(COUNTIF($O$2:O534,O534)>1,\"\",O534+1)))","v":""},{"$f":"IFERROR(SMALL($P$1:$P$1921,533),\"\")","v":""}]
[null,null,null,null,null,null,null,null,null,null,null,null,null,null,{"$f":"IF(535<=$B$10,IF(LEN('１学期'!JG19)=0,\"\",IF('１学期'!JG19=$B$8,IF(LEN('１学期'!JJ19)=0,\"\",'１学期'!JJ19),\"\")),\"\")","v":""},{"$f":"IF(LEN(O535)=0,\"\",IF(COUNTIF($O$2:$O$1921,O535+1)>0,\"\",IF(COUNTIF($O$2:O535,O535)>1,\"\",O535+1)))","v":""},{"$f":"IFERROR(SMALL($P$1:$P$1921,534),\"\")","v":""}]
[null,null,null,null,null,null,null,null,null,null,null,null,null,null,{"$f":"IF(536<=$B$10,IF(LEN('１学期'!JG22)=0,\"\",IF('１学期'!JG22=$B$8,IF(LEN('１学期'!JJ22)=0,\"\",'１学期'!JJ22),\"\")),\"\")","v":""},{"$f":"IF(LEN(O536)=0,\"\",IF(COUNTIF($O$2:$O$1921,O536+1)>0,\"\",IF(COUNTIF($O$2:O536,O536)>1,\"\",O536+1)))","v":""},{"$f":"IFERROR(SMALL($P$1:$P$1921,535),\"\")","v":""}]
[null,null,null,null,null,null,null,null,null,null,null,null,null,null,{"$f":"IF(537<=$B$10,IF(LEN('１学期'!JG25)=0,\"\",IF('１学期'!JG25=$B$8,IF(LEN('１学期'!JJ25)=0,\"\",'１学期'!JJ25),\"\")),\"\")","v":""},{"$f":"IF(LEN(O537)=0,\"\",IF(COUNTIF($O$2:$O$1921,O537+1)>0,\"\",IF(COUNTIF($O$2:O537,O537)>1,\"\",O537+1)))","v":""},{"$f":"IFERROR(SMALL($P$1:$P$1921,536),\"\")","v":""}]
[null,null,null,null,null,null,null,null,null,null,null,null,null,null,{"$f":"IF(538<=$B$10,IF(LEN('１学期'!JK6)=0,\"\",IF('１学期'!JK6=$B$8,IF(LEN('１学期'!JN6)=0,\"\",'１学期'!JN6),\"\")),\"\")","v":""},{"$f":"IF(LEN(O538)=0,\"\",IF(COUNTIF($O$2:$O$1921,O538+1)>0,\"\",IF(COUNTIF($O$2:O538,O538)>1,\"\",O538+1)))","v":""},{"$f":"IFERROR(SMALL($P$1:$P$1921,537),\"\")","v":""}]
[null,null,null,null,null,null,null,null,null,null,null,null,null,null,{"$f":"IF(539<=$B$10,IF(LEN('１学期'!JK7)=0,\"\",IF('１学期'!JK7=$B$8,IF(LEN('１学期'!JN7)=0,\"\",'１学期'!JN7),\"\")),\"\")","v":""},{"$f":"IF(LEN(O539)=0,\"\",IF(COUNTIF($O$2:$O$1921,O539+1)>0,\"\",IF(COUNTIF($O$2:O539,O539)>1,\"\",O539+1)))","v":""},{"$f":"IFERROR(SMALL($P$1:$P$1921,538),\"\")","v":""}]
[null,null,null,null,null,null,null,null,null,null,null,null,null,null,{"$f":"IF(540<=$B$10,IF(LEN('１学期'!JK10)=0,\"\",IF('１学期'!JK10=$B$8,IF(LEN('１学期'!JN10)=0,\"\",'１学期'!JN10),\"\")),\"\")","v":""},{"$f":"IF(LEN(O540)=0,\"\",IF(COUNTIF($O$2:$O$1921,O540+1)>0,\"\",IF(COUNTIF($O$2:O540,O540)>1,\"\",O540+1)))","v":""},{"$f":"IFERROR(SMALL($P$1:$P$1921,539),\"\")","v":""}]
[null,null,null,null,null,null,null,null,null,null,null,null,null,null,{"$f":"IF(541<=$B$10,IF(LEN('１学期'!JK13)=0,\"\",IF('１学期'!JK13=$B$8,IF(LEN('１学期'!JN13)=0,\"\",'１学期'!JN13),\"\")),\"\")","v":""},{"$f":"IF(LEN(O541)=0,\"\",IF(COUNTIF($O$2:$O$1921,O541+1)>0,\"\",IF(COUNTIF($O$2:O541,O541)>1,\"\",O541+1)))","v":""},{"$f":"IFERROR(SMALL($P$1:$P$1921,540),\"\")","v":""}]
[null,null,null,null,null,null,null,null,null,null,null,null,null,null,{"$f":"IF(542<=$B$10,IF(LEN('１学期'!JK16)=0,\"\",IF('１学期'!JK16=$B$8,IF(LEN('１学期'!JN16)=0,\"\",'１学期'!JN16),\"\")),\"\")","v":""},{"$f":"IF(LEN(O542)=0,\"\",IF(COUNTIF($O$2:$O$1921,O542+1)>0,\"\",IF(COUNTIF($O$2:O542,O542)>1,\"\",O542+1)))","v":""},{"$f":"IFERROR(SMALL($P$1:$P$1921,541),\"\")","v":""}]
[null,null,null,null,null,null,null,null,null,null,null,null,null,null,{"$f":"IF(543<=$B$10,IF(LEN('１学期'!JK19)=0,\"\",IF('１学期'!JK19=$B$8,IF(LEN('１学期'!JN19)=0,\"\",'１学期'!JN19),\"\")),\"\")","v":""},{"$f":"IF(LEN(O543)=0,\"\",IF(COUNTIF($O$2:$O$1921,O543+1)>0,\"\",IF(COUNTIF($O$2:O543,O543)>1,\"\",O543+1)))","v":""},{"$f":"IFERROR(SMALL($P$1:$P$1921,542),\"\")","v":""}]
[null,null,null,null,null,null,null,null,null,null,null,null,null,null,{"$f":"IF(544<=$B$10,IF(LEN('１学期'!JK22)=0,\"\",IF('１学期'!JK22=$B$8,IF(LEN('１学期'!JN22)=0,\"\",'１学期'!JN22),\"\")),\"\")","v":""},{"$f":"IF(LEN(O544)=0,\"\",IF(COUNTIF($O$2:$O$1921,O544+1)>0,\"\",IF(COUNTIF($O$2:O544,O544)>1,\"\",O544+1)))","v":""},{"$f":"IFERROR(SMALL($P$1:$P$1921,543),\"\")","v":""}]
[null,null,null,null,null,null,null,null,null,null,null,null,null,null,{"$f":"IF(545<=$B$10,IF(LEN('１学期'!JK25)=0,\"\",IF('１学期'!JK25=$B$8,IF(LEN('１学期'!JN25)=0,\"\",'１学期'!JN25),\"\")),\"\")","v":""},{"$f":"IF(LEN(O545)=0,\"\",IF(COUNTIF($O$2:$O$1921,O545+1)>0,\"\",IF(COUNTIF($O$2:O545,O545)>1,\"\",O545+1)))","v":""},{"$f":"IFERROR(SMALL($P$1:$P$1921,544),\"\")","v":""}]
[null,null,null,null,null,null,null,null,null,null,null,null,null,null,{"$f":"IF(546<=$B$10,IF(LEN('１学期'!JO6)=0,\"\",IF('１学期'!JO6=$B$8,IF(LEN('１学期'!JR6)=0,\"\",'１学期'!JR6),\"\")),\"\")","v":""},{"$f":"IF(LEN(O546)=0,\"\",IF(COUNTIF($O$2:$O$1921,O546+1)>0,\"\",IF(COUNTIF($O$2:O546,O546)>1,\"\",O546+1)))","v":""},{"$f":"IFERROR(SMALL($P$1:$P$1921,545),\"\")","v":""}]
[null,null,null,null,null,null,null,null,null,null,null,null,null,null,{"$f":"IF(547<=$B$10,IF(LEN('１学期'!JO7)=0,\"\",IF('１学期'!JO7=$B$8,IF(LEN('１学期'!JR7)=0,\"\",'１学期'!JR7),\"\")),\"\")","v":""},{"$f":"IF(LEN(O547)=0,\"\",IF(COUNTIF($O$2:$O$1921,O547+1)>0,\"\",IF(COUNTIF($O$2:O547,O547)>1,\"\",O547+1)))","v":""},{"$f":"IFERROR(SMALL($P$1:$P$1921,546),\"\")","v":""}]
[null,null,null,null,null,null,null,null,null,null,null,null,null,null,{"$f":"IF(548<=$B$10,IF(LEN('１学期'!JO10)=0,\"\",IF('１学期'!JO10=$B$8,IF(LEN('１学期'!JR10)=0,\"\",'１学期'!JR10),\"\")),\"\")","v":""},{"$f":"IF(LEN(O548)=0,\"\",IF(COUNTIF($O$2:$O$1921,O548+1)>0,\"\",IF(COUNTIF($O$2:O548,O548)>1,\"\",O548+1)))","v":""},{"$f":"IFERROR(SMALL($P$1:$P$1921,547),\"\")","v":""}]
[null,null,null,null,null,null,null,null,null,null,null,null,null,null,{"$f":"IF(549<=$B$10,IF(LEN('１学期'!JO13)=0,\"\",IF('１学期'!JO13=$B$8,IF(LEN('１学期'!JR13)=0,\"\",'１学期'!JR13),\"\")),\"\")","v":""},{"$f":"IF(LEN(O549)=0,\"\",IF(COUNTIF($O$2:$O$1921,O549+1)>0,\"\",IF(COUNTIF($O$2:O549,O549)>1,\"\",O549+1)))","v":""},{"$f":"IFERROR(SMALL($P$1:$P$1921,548),\"\")","v":""}]
[null,null,null,null,null,null,null,null,null,null,null,null,null,null,{"$f":"IF(550<=$B$10,IF(LEN('１学期'!JO16)=0,\"\",IF('１学期'!JO16=$B$8,IF(LEN('１学期'!JR16)=0,\"\",'１学期'!JR16),\"\")),\"\")","v":""},{"$f":"IF(LEN(O550)=0,\"\",IF(COUNTIF($O$2:$O$1921,O550+1)>0,\"\",IF(COUNTIF($O$2:O550,O550)>1,\"\",O550+1)))","v":""},{"$f":"IFERROR(SMALL($P$1:$P$1921,549),\"\")","v":""}]
[null,null,null,null,null,null,null,null,null,null,null,null,null,null,{"$f":"IF(551<=$B$10,IF(LEN('１学期'!JO19)=0,\"\",IF('１学期'!JO19=$B$8,IF(LEN('１学期'!JR19)=0,\"\",'１学期'!JR19),\"\")),\"\")","v":""},{"$f":"IF(LEN(O551)=0,\"\",IF(COUNTIF($O$2:$O$1921,O551+1)>0,\"\",IF(COUNTIF($O$2:O551,O551)>1,\"\",O551+1)))","v":""},{"$f":"IFERROR(SMALL($P$1:$P$1921,550),\"\")","v":""}]
[null,null,null,null,null,null,null,null,null,null,null,null,null,null,{"$f":"IF(552<=$B$10,IF(LEN('１学期'!JO22)=0,\"\",IF('１学期'!JO22=$B$8,IF(LEN('１学期'!JR22)=0,\"\",'１学期'!JR22),\"\")),\"\")","v":""},{"$f":"IF(LEN(O552)=0,\"\",IF(COUNTIF($O$2:$O$1921,O552+1)>0,\"\",IF(COUNTIF($O$2:O552,O552)>1,\"\",O552+1)))","v":""},{"$f":"IFERROR(SMALL($P$1:$P$1921,551),\"\")","v":""}]
[null,null,null,null,null,null,null,null,null,null,null,null,null,null,{"$f":"IF(553<=$B$10,IF(LEN('１学期'!JO25)=0,\"\",IF('１学期'!JO25=$B$8,IF(LEN('１学期'!JR25)=0,\"\",'１学期'!JR25),\"\")),\"\")","v":""},{"$f":"IF(LEN(O553)=0,\"\",IF(COUNTIF($O$2:$O$1921,O553+1)>0,\"\",IF(COUNTIF($O$2:O553,O553)>1,\"\",O553+1)))","v":""},{"$f":"IFERROR(SMALL($P$1:$P$1921,552),\"\")","v":""}]
[null,null,null,null,null,null,null,null,null,null,null,null,null,null,{"$f":"IF(554<=$B$10,IF(LEN('１学期'!JS6)=0,\"\",IF('１学期'!JS6=$B$8,IF(LEN('１学期'!JV6)=0,\"\",'１学期'!JV6),\"\")),\"\")","v":""},{"$f":"IF(LEN(O554)=0,\"\",IF(COUNTIF($O$2:$O$1921,O554+1)>0,\"\",IF(COUNTIF($O$2:O554,O554)>1,\"\",O554+1)))","v":""},{"$f":"IFERROR(SMALL($P$1:$P$1921,553),\"\")","v":""}]
[null,null,null,null,null,null,null,null,null,null,null,null,null,null,{"$f":"IF(555<=$B$10,IF(LEN('１学期'!JS7)=0,\"\",IF('１学期'!JS7=$B$8,IF(LEN('１学期'!JV7)=0,\"\",'１学期'!JV7),\"\")),\"\")","v":""},{"$f":"IF(LEN(O555)=0,\"\",IF(COUNTIF($O$2:$O$1921,O555+1)>0,\"\",IF(COUNTIF($O$2:O555,O555)>1,\"\",O555+1)))","v":""},{"$f":"IFERROR(SMALL($P$1:$P$1921,554),\"\")","v":""}]
[null,null,null,null,null,null,null,null,null,null,null,null,null,null,{"$f":"IF(556<=$B$10,IF(LEN('１学期'!JS10)=0,\"\",IF('１学期'!JS10=$B$8,IF(LEN('１学期'!JV10)=0,\"\",'１学期'!JV10),\"\")),\"\")","v":""},{"$f":"IF(LEN(O556)=0,\"\",IF(COUNTIF($O$2:$O$1921,O556+1)>0,\"\",IF(COUNTIF($O$2:O556,O556)>1,\"\",O556+1)))","v":""},{"$f":"IFERROR(SMALL($P$1:$P$1921,555),\"\")","v":""}]
[null,null,null,null,null,null,null,null,null,null,null,null,null,null,{"$f":"IF(557<=$B$10,IF(LEN('１学期'!JS13)=0,\"\",IF('１学期'!JS13=$B$8,IF(LEN('１学期'!JV13)=0,\"\",'１学期'!JV13),\"\")),\"\")","v":""},{"$f":"IF(LEN(O557)=0,\"\",IF(COUNTIF($O$2:$O$1921,O557+1)>0,\"\",IF(COUNTIF($O$2:O557,O557)>1,\"\",O557+1)))","v":""},{"$f":"IFERROR(SMALL($P$1:$P$1921,556),\"\")","v":""}]
[null,null,null,null,null,null,null,null,null,null,null,null,null,null,{"$f":"IF(558<=$B$10,IF(LEN('１学期'!JS16)=0,\"\",IF('１学期'!JS16=$B$8,IF(LEN('１学期'!JV16)=0,\"\",'１学期'!JV16),\"\")),\"\")","v":""},{"$f":"IF(LEN(O558)=0,\"\",IF(COUNTIF($O$2:$O$1921,O558+1)>0,\"\",IF(COUNTIF($O$2:O558,O558)>1,\"\",O558+1)))","v":""},{"$f":"IFERROR(SMALL($P$1:$P$1921,557),\"\")","v":""}]
[null,null,null,null,null,null,null,null,null,null,null,null,null,null,{"$f":"IF(559<=$B$10,IF(LEN('１学期'!JS19)=0,\"\",IF('１学期'!JS19=$B$8,IF(LEN('１学期'!JV19)=0,\"\",'１学期'!JV19),\"\")),\"\")","v":""},{"$f":"IF(LEN(O559)=0,\"\",IF(COUNTIF($O$2:$O$1921,O559+1)>0,\"\",IF(COUNTIF($O$2:O559,O559)>1,\"\",O559+1)))","v":""},{"$f":"IFERROR(SMALL($P$1:$P$1921,558),\"\")","v":""}]
[null,null,null,null,null,null,null,null,null,null,null,null,null,null,{"$f":"IF(560<=$B$10,IF(LEN('１学期'!JS22)=0,\"\",IF('１学期'!JS22=$B$8,IF(LEN('１学期'!JV22)=0,\"\",'１学期'!JV22),\"\")),\"\")","v":""},{"$f":"IF(LEN(O560)=0,\"\",IF(COUNTIF($O$2:$O$1921,O560+1)>0,\"\",IF(COUNTIF($O$2:O560,O560)>1,\"\",O560+1)))","v":""},{"$f":"IFERROR(SMALL($P$1:$P$1921,559),\"\")","v":""}]
[null,null,null,null,null,null,null,null,null,null,null,null,null,null,{"$f":"IF(561<=$B$10,IF(LEN('１学期'!JS25)=0,\"\",IF('１学期'!JS25=$B$8,IF(LEN('１学期'!JV25)=0,\"\",'１学期'!JV25),\"\")),\"\")","v":""},{"$f":"IF(LEN(O561)=0,\"\",IF(COUNTIF($O$2:$O$1921,O561+1)>0,\"\",IF(COUNTIF($O$2:O561,O561)>1,\"\",O561+1)))","v":""},{"$f":"IFERROR(SMALL($P$1:$P$1921,560),\"\")","v":""}]
[null,null,null,null,null,null,null,null,null,null,null,null,null,null,{"$f":"IF(562<=$B$10,IF(LEN('１学期'!JW6)=0,\"\",IF('１学期'!JW6=$B$8,IF(LEN('１学期'!JZ6)=0,\"\",'１学期'!JZ6),\"\")),\"\")","v":""},{"$f":"IF(LEN(O562)=0,\"\",IF(COUNTIF($O$2:$O$1921,O562+1)>0,\"\",IF(COUNTIF($O$2:O562,O562)>1,\"\",O562+1)))","v":""},{"$f":"IFERROR(SMALL($P$1:$P$1921,561),\"\")","v":""}]
[null,null,null,null,null,null,null,null,null,null,null,null,null,null,{"$f":"IF(563<=$B$10,IF(LEN('１学期'!JW7)=0,\"\",IF('１学期'!JW7=$B$8,IF(LEN('１学期'!JZ7)=0,\"\",'１学期'!JZ7),\"\")),\"\")","v":""},{"$f":"IF(LEN(O563)=0,\"\",IF(COUNTIF($O$2:$O$1921,O563+1)>0,\"\",IF(COUNTIF($O$2:O563,O563)>1,\"\",O563+1)))","v":""},{"$f":"IFERROR(SMALL($P$1:$P$1921,562),\"\")","v":""}]
[null,null,null,null,null,null,null,null,null,null,null,null,null,null,{"$f":"IF(564<=$B$10,IF(LEN('１学期'!JW10)=0,\"\",IF('１学期'!JW10=$B$8,IF(LEN('１学期'!JZ10)=0,\"\",'１学期'!JZ10),\"\")),\"\")","v":""},{"$f":"IF(LEN(O564)=0,\"\",IF(COUNTIF($O$2:$O$1921,O564+1)>0,\"\",IF(COUNTIF($O$2:O564,O564)>1,\"\",O564+1)))","v":""},{"$f":"IFERROR(SMALL($P$1:$P$1921,563),\"\")","v":""}]
[null,null,null,null,null,null,null,null,null,null,null,null,null,null,{"$f":"IF(565<=$B$10,IF(LEN('１学期'!JW13)=0,\"\",IF('１学期'!JW13=$B$8,IF(LEN('１学期'!JZ13)=0,\"\",'１学期'!JZ13),\"\")),\"\")","v":""},{"$f":"IF(LEN(O565)=0,\"\",IF(COUNTIF($O$2:$O$1921,O565+1)>0,\"\",IF(COUNTIF($O$2:O565,O565)>1,\"\",O565+1)))","v":""},{"$f":"IFERROR(SMALL($P$1:$P$1921,564),\"\")","v":""}]
[null,null,null,null,null,null,null,null,null,null,null,null,null,null,{"$f":"IF(566<=$B$10,IF(LEN('１学期'!JW16)=0,\"\",IF('１学期'!JW16=$B$8,IF(LEN('１学期'!JZ16)=0,\"\",'１学期'!JZ16),\"\")),\"\")","v":""},{"$f":"IF(LEN(O566)=0,\"\",IF(COUNTIF($O$2:$O$1921,O566+1)>0,\"\",IF(COUNTIF($O$2:O566,O566)>1,\"\",O566+1)))","v":""},{"$f":"IFERROR(SMALL($P$1:$P$1921,565),\"\")","v":""}]
[null,null,null,null,null,null,null,null,null,null,null,null,null,null,{"$f":"IF(567<=$B$10,IF(LEN('１学期'!JW19)=0,\"\",IF('１学期'!JW19=$B$8,IF(LEN('１学期'!JZ19)=0,\"\",'１学期'!JZ19),\"\")),\"\")","v":""},{"$f":"IF(LEN(O567)=0,\"\",IF(COUNTIF($O$2:$O$1921,O567+1)>0,\"\",IF(COUNTIF($O$2:O567,O567)>1,\"\",O567+1)))","v":""},{"$f":"IFERROR(SMALL($P$1:$P$1921,566),\"\")","v":""}]
[null,null,null,null,null,null,null,null,null,null,null,null,null,null,{"$f":"IF(568<=$B$10,IF(LEN('１学期'!JW22)=0,\"\",IF('１学期'!JW22=$B$8,IF(LEN('１学期'!JZ22)=0,\"\",'１学期'!JZ22),\"\")),\"\")","v":""},{"$f":"IF(LEN(O568)=0,\"\",IF(COUNTIF($O$2:$O$1921,O568+1)>0,\"\",IF(COUNTIF($O$2:O568,O568)>1,\"\",O568+1)))","v":""},{"$f":"IFERROR(SMALL($P$1:$P$1921,567),\"\")","v":""}]
[null,null,null,null,null,null,null,null,null,null,null,null,null,null,{"$f":"IF(569<=$B$10,IF(LEN('１学期'!JW25)=0,\"\",IF('１学期'!JW25=$B$8,IF(LEN('１学期'!JZ25)=0,\"\",'１学期'!JZ25),\"\")),\"\")","v":""},{"$f":"IF(LEN(O569)=0,\"\",IF(COUNTIF($O$2:$O$1921,O569+1)>0,\"\",IF(COUNTIF($O$2:O569,O569)>1,\"\",O569+1)))","v":""},{"$f":"IFERROR(SMALL($P$1:$P$1921,568),\"\")","v":""}]
[null,null,null,null,null,null,null,null,null,null,null,null,null,null,{"$f":"IF(570<=$B$10,IF(LEN('１学期'!KA6)=0,\"\",IF('１学期'!KA6=$B$8,IF(LEN('１学期'!KD6)=0,\"\",'１学期'!KD6),\"\")),\"\")","v":""},{"$f":"IF(LEN(O570)=0,\"\",IF(COUNTIF($O$2:$O$1921,O570+1)>0,\"\",IF(COUNTIF($O$2:O570,O570)>1,\"\",O570+1)))","v":""},{"$f":"IFERROR(SMALL($P$1:$P$1921,569),\"\")","v":""}]
[null,null,null,null,null,null,null,null,null,null,null,null,null,null,{"$f":"IF(571<=$B$10,IF(LEN('１学期'!KA7)=0,\"\",IF('１学期'!KA7=$B$8,IF(LEN('１学期'!KD7)=0,\"\",'１学期'!KD7),\"\")),\"\")","v":""},{"$f":"IF(LEN(O571)=0,\"\",IF(COUNTIF($O$2:$O$1921,O571+1)>0,\"\",IF(COUNTIF($O$2:O571,O571)>1,\"\",O571+1)))","v":""},{"$f":"IFERROR(SMALL($P$1:$P$1921,570),\"\")","v":""}]
[null,null,null,null,null,null,null,null,null,null,null,null,null,null,{"$f":"IF(572<=$B$10,IF(LEN('１学期'!KA10)=0,\"\",IF('１学期'!KA10=$B$8,IF(LEN('１学期'!KD10)=0,\"\",'１学期'!KD10),\"\")),\"\")","v":""},{"$f":"IF(LEN(O572)=0,\"\",IF(COUNTIF($O$2:$O$1921,O572+1)>0,\"\",IF(COUNTIF($O$2:O572,O572)>1,\"\",O572+1)))","v":""},{"$f":"IFERROR(SMALL($P$1:$P$1921,571),\"\")","v":""}]
[null,null,null,null,null,null,null,null,null,null,null,null,null,null,{"$f":"IF(573<=$B$10,IF(LEN('１学期'!KA13)=0,\"\",IF('１学期'!KA13=$B$8,IF(LEN('１学期'!KD13)=0,\"\",'１学期'!KD13),\"\")),\"\")","v":""},{"$f":"IF(LEN(O573)=0,\"\",IF(COUNTIF($O$2:$O$1921,O573+1)>0,\"\",IF(COUNTIF($O$2:O573,O573)>1,\"\",O573+1)))","v":""},{"$f":"IFERROR(SMALL($P$1:$P$1921,572),\"\")","v":""}]
[null,null,null,null,null,null,null,null,null,null,null,null,null,null,{"$f":"IF(574<=$B$10,IF(LEN('１学期'!KA16)=0,\"\",IF('１学期'!KA16=$B$8,IF(LEN('１学期'!KD16)=0,\"\",'１学期'!KD16),\"\")),\"\")","v":""},{"$f":"IF(LEN(O574)=0,\"\",IF(COUNTIF($O$2:$O$1921,O574+1)>0,\"\",IF(COUNTIF($O$2:O574,O574)>1,\"\",O574+1)))","v":""},{"$f":"IFERROR(SMALL($P$1:$P$1921,573),\"\")","v":""}]
[null,null,null,null,null,null,null,null,null,null,null,null,null,null,{"$f":"IF(575<=$B$10,IF(LEN('１学期'!KA19)=0,\"\",IF('１学期'!KA19=$B$8,IF(LEN('１学期'!KD19)=0,\"\",'１学期'!KD19),\"\")),\"\")","v":""},{"$f":"IF(LEN(O575)=0,\"\",IF(COUNTIF($O$2:$O$1921,O575+1)>0,\"\",IF(COUNTIF($O$2:O575,O575)>1,\"\",O575+1)))","v":""},{"$f":"IFERROR(SMALL($P$1:$P$1921,574),\"\")","v":""}]
[null,null,null,null,null,null,null,null,null,null,null,null,null,null,{"$f":"IF(576<=$B$10,IF(LEN('１学期'!KA22)=0,\"\",IF('１学期'!KA22=$B$8,IF(LEN('１学期'!KD22)=0,\"\",'１学期'!KD22),\"\")),\"\")","v":""},{"$f":"IF(LEN(O576)=0,\"\",IF(COUNTIF($O$2:$O$1921,O576+1)>0,\"\",IF(COUNTIF($O$2:O576,O576)>1,\"\",O576+1)))","v":""},{"$f":"IFERROR(SMALL($P$1:$P$1921,575),\"\")","v":""}]
[null,null,null,null,null,null,null,null,null,null,null,null,null,null,{"$f":"IF(577<=$B$10,IF(LEN('１学期'!KA25)=0,\"\",IF('１学期'!KA25=$B$8,IF(LEN('１学期'!KD25)=0,\"\",'１学期'!KD25),\"\")),\"\")","v":""},{"$f":"IF(LEN(O577)=0,\"\",IF(COUNTIF($O$2:$O$1921,O577+1)>0,\"\",IF(COUNTIF($O$2:O577,O577)>1,\"\",O577+1)))","v":""},{"$f":"IFERROR(SMALL($P$1:$P$1921,576),\"\")","v":""}]
[null,null,null,null,null,null,null,null,null,null,null,null,null,null,{"$f":"IF(578<=$B$10,IF(LEN('１学期'!KE6)=0,\"\",IF('１学期'!KE6=$B$8,IF(LEN('１学期'!KH6)=0,\"\",'１学期'!KH6),\"\")),\"\")","v":""},{"$f":"IF(LEN(O578)=0,\"\",IF(COUNTIF($O$2:$O$1921,O578+1)>0,\"\",IF(COUNTIF($O$2:O578,O578)>1,\"\",O578+1)))","v":""},{"$f":"IFERROR(SMALL($P$1:$P$1921,577),\"\")","v":""}]
[null,null,null,null,null,null,null,null,null,null,null,null,null,null,{"$f":"IF(579<=$B$10,IF(LEN('１学期'!KE7)=0,\"\",IF('１学期'!KE7=$B$8,IF(LEN('１学期'!KH7)=0,\"\",'１学期'!KH7),\"\")),\"\")","v":""},{"$f":"IF(LEN(O579)=0,\"\",IF(COUNTIF($O$2:$O$1921,O579+1)>0,\"\",IF(COUNTIF($O$2:O579,O579)>1,\"\",O579+1)))","v":""},{"$f":"IFERROR(SMALL($P$1:$P$1921,578),\"\")","v":""}]
[null,null,null,null,null,null,null,null,null,null,null,null,null,null,{"$f":"IF(580<=$B$10,IF(LEN('１学期'!KE10)=0,\"\",IF('１学期'!KE10=$B$8,IF(LEN('１学期'!KH10)=0,\"\",'１学期'!KH10),\"\")),\"\")","v":""},{"$f":"IF(LEN(O580)=0,\"\",IF(COUNTIF($O$2:$O$1921,O580+1)>0,\"\",IF(COUNTIF($O$2:O580,O580)>1,\"\",O580+1)))","v":""},{"$f":"IFERROR(SMALL($P$1:$P$1921,579),\"\")","v":""}]
[null,null,null,null,null,null,null,null,null,null,null,null,null,null,{"$f":"IF(581<=$B$10,IF(LEN('１学期'!KE13)=0,\"\",IF('１学期'!KE13=$B$8,IF(LEN('１学期'!KH13)=0,\"\",'１学期'!KH13),\"\")),\"\")","v":""},{"$f":"IF(LEN(O581)=0,\"\",IF(COUNTIF($O$2:$O$1921,O581+1)>0,\"\",IF(COUNTIF($O$2:O581,O581)>1,\"\",O581+1)))","v":""},{"$f":"IFERROR(SMALL($P$1:$P$1921,580),\"\")","v":""}]
[null,null,null,null,null,null,null,null,null,null,null,null,null,null,{"$f":"IF(582<=$B$10,IF(LEN('１学期'!KE16)=0,\"\",IF('１学期'!KE16=$B$8,IF(LEN('１学期'!KH16)=0,\"\",'１学期'!KH16),\"\")),\"\")","v":""},{"$f":"IF(LEN(O582)=0,\"\",IF(COUNTIF($O$2:$O$1921,O582+1)>0,\"\",IF(COUNTIF($O$2:O582,O582)>1,\"\",O582+1)))","v":""},{"$f":"IFERROR(SMALL($P$1:$P$1921,581),\"\")","v":""}]
[null,null,null,null,null,null,null,null,null,null,null,null,null,null,{"$f":"IF(583<=$B$10,IF(LEN('１学期'!KE19)=0,\"\",IF('１学期'!KE19=$B$8,IF(LEN('１学期'!KH19)=0,\"\",'１学期'!KH19),\"\")),\"\")","v":""},{"$f":"IF(LEN(O583)=0,\"\",IF(COUNTIF($O$2:$O$1921,O583+1)>0,\"\",IF(COUNTIF($O$2:O583,O583)>1,\"\",O583+1)))","v":""},{"$f":"IFERROR(SMALL($P$1:$P$1921,582),\"\")","v":""}]
[null,null,null,null,null,null,null,null,null,null,null,null,null,null,{"$f":"IF(584<=$B$10,IF(LEN('１学期'!KE22)=0,\"\",IF('１学期'!KE22=$B$8,IF(LEN('１学期'!KH22)=0,\"\",'１学期'!KH22),\"\")),\"\")","v":""},{"$f":"IF(LEN(O584)=0,\"\",IF(COUNTIF($O$2:$O$1921,O584+1)>0,\"\",IF(COUNTIF($O$2:O584,O584)>1,\"\",O584+1)))","v":""},{"$f":"IFERROR(SMALL($P$1:$P$1921,583),\"\")","v":""}]
[null,null,null,null,null,null,null,null,null,null,null,null,null,null,{"$f":"IF(585<=$B$10,IF(LEN('１学期'!KE25)=0,\"\",IF('１学期'!KE25=$B$8,IF(LEN('１学期'!KH25)=0,\"\",'１学期'!KH25),\"\")),\"\")","v":""},{"$f":"IF(LEN(O585)=0,\"\",IF(COUNTIF($O$2:$O$1921,O585+1)>0,\"\",IF(COUNTIF($O$2:O585,O585)>1,\"\",O585+1)))","v":""},{"$f":"IFERROR(SMALL($P$1:$P$1921,584),\"\")","v":""}]
[null,null,null,null,null,null,null,null,null,null,null,null,null,null,{"$f":"IF(586<=$B$10,IF(LEN('１学期'!KI6)=0,\"\",IF('１学期'!KI6=$B$8,IF(LEN('１学期'!KL6)=0,\"\",'１学期'!KL6),\"\")),\"\")","v":""},{"$f":"IF(LEN(O586)=0,\"\",IF(COUNTIF($O$2:$O$1921,O586+1)>0,\"\",IF(COUNTIF($O$2:O586,O586)>1,\"\",O586+1)))","v":""},{"$f":"IFERROR(SMALL($P$1:$P$1921,585),\"\")","v":""}]
[null,null,null,null,null,null,null,null,null,null,null,null,null,null,{"$f":"IF(587<=$B$10,IF(LEN('１学期'!KI7)=0,\"\",IF('１学期'!KI7=$B$8,IF(LEN('１学期'!KL7)=0,\"\",'１学期'!KL7),\"\")),\"\")","v":""},{"$f":"IF(LEN(O587)=0,\"\",IF(COUNTIF($O$2:$O$1921,O587+1)>0,\"\",IF(COUNTIF($O$2:O587,O587)>1,\"\",O587+1)))","v":""},{"$f":"IFERROR(SMALL($P$1:$P$1921,586),\"\")","v":""}]
[null,null,null,null,null,null,null,null,null,null,null,null,null,null,{"$f":"IF(588<=$B$10,IF(LEN('１学期'!KI10)=0,\"\",IF('１学期'!KI10=$B$8,IF(LEN('１学期'!KL10)=0,\"\",'１学期'!KL10),\"\")),\"\")","v":""},{"$f":"IF(LEN(O588)=0,\"\",IF(COUNTIF($O$2:$O$1921,O588+1)>0,\"\",IF(COUNTIF($O$2:O588,O588)>1,\"\",O588+1)))","v":""},{"$f":"IFERROR(SMALL($P$1:$P$1921,587),\"\")","v":""}]
[null,null,null,null,null,null,null,null,null,null,null,null,null,null,{"$f":"IF(589<=$B$10,IF(LEN('１学期'!KI13)=0,\"\",IF('１学期'!KI13=$B$8,IF(LEN('１学期'!KL13)=0,\"\",'１学期'!KL13),\"\")),\"\")","v":""},{"$f":"IF(LEN(O589)=0,\"\",IF(COUNTIF($O$2:$O$1921,O589+1)>0,\"\",IF(COUNTIF($O$2:O589,O589)>1,\"\",O589+1)))","v":""},{"$f":"IFERROR(SMALL($P$1:$P$1921,588),\"\")","v":""}]
[null,null,null,null,null,null,null,null,null,null,null,null,null,null,{"$f":"IF(590<=$B$10,IF(LEN('１学期'!KI16)=0,\"\",IF('１学期'!KI16=$B$8,IF(LEN('１学期'!KL16)=0,\"\",'１学期'!KL16),\"\")),\"\")","v":""},{"$f":"IF(LEN(O590)=0,\"\",IF(COUNTIF($O$2:$O$1921,O590+1)>0,\"\",IF(COUNTIF($O$2:O590,O590)>1,\"\",O590+1)))","v":""},{"$f":"IFERROR(SMALL($P$1:$P$1921,589),\"\")","v":""}]
[null,null,null,null,null,null,null,null,null,null,null,null,null,null,{"$f":"IF(591<=$B$10,IF(LEN('１学期'!KI19)=0,\"\",IF('１学期'!KI19=$B$8,IF(LEN('１学期'!KL19)=0,\"\",'１学期'!KL19),\"\")),\"\")","v":""},{"$f":"IF(LEN(O591)=0,\"\",IF(COUNTIF($O$2:$O$1921,O591+1)>0,\"\",IF(COUNTIF($O$2:O591,O591)>1,\"\",O591+1)))","v":""},{"$f":"IFERROR(SMALL($P$1:$P$1921,590),\"\")","v":""}]
[null,null,null,null,null,null,null,null,null,null,null,null,null,null,{"$f":"IF(592<=$B$10,IF(LEN('１学期'!KI22)=0,\"\",IF('１学期'!KI22=$B$8,IF(LEN('１学期'!KL22)=0,\"\",'１学期'!KL22),\"\")),\"\")","v":""},{"$f":"IF(LEN(O592)=0,\"\",IF(COUNTIF($O$2:$O$1921,O592+1)>0,\"\",IF(COUNTIF($O$2:O592,O592)>1,\"\",O592+1)))","v":""},{"$f":"IFERROR(SMALL($P$1:$P$1921,591),\"\")","v":""}]
[null,null,null,null,null,null,null,null,null,null,null,null,null,null,{"$f":"IF(593<=$B$10,IF(LEN('１学期'!KI25)=0,\"\",IF('１学期'!KI25=$B$8,IF(LEN('１学期'!KL25)=0,\"\",'１学期'!KL25),\"\")),\"\")","v":""},{"$f":"IF(LEN(O593)=0,\"\",IF(COUNTIF($O$2:$O$1921,O593+1)>0,\"\",IF(COUNTIF($O$2:O593,O593)>1,\"\",O593+1)))","v":""},{"$f":"IFERROR(SMALL($P$1:$P$1921,592),\"\")","v":""}]
[null,null,null,null,null,null,null,null,null,null,null,null,null,null,{"$f":"IF(594<=$B$10,IF(LEN('１学期'!KM6)=0,\"\",IF('１学期'!KM6=$B$8,IF(LEN('１学期'!KP6)=0,\"\",'１学期'!KP6),\"\")),\"\")","v":""},{"$f":"IF(LEN(O594)=0,\"\",IF(COUNTIF($O$2:$O$1921,O594+1)>0,\"\",IF(COUNTIF($O$2:O594,O594)>1,\"\",O594+1)))","v":""},{"$f":"IFERROR(SMALL($P$1:$P$1921,593),\"\")","v":""}]
[null,null,null,null,null,null,null,null,null,null,null,null,null,null,{"$f":"IF(595<=$B$10,IF(LEN('１学期'!KM7)=0,\"\",IF('１学期'!KM7=$B$8,IF(LEN('１学期'!KP7)=0,\"\",'１学期'!KP7),\"\")),\"\")","v":""},{"$f":"IF(LEN(O595)=0,\"\",IF(COUNTIF($O$2:$O$1921,O595+1)>0,\"\",IF(COUNTIF($O$2:O595,O595)>1,\"\",O595+1)))","v":""},{"$f":"IFERROR(SMALL($P$1:$P$1921,594),\"\")","v":""}]
[null,null,null,null,null,null,null,null,null,null,null,null,null,null,{"$f":"IF(596<=$B$10,IF(LEN('１学期'!KM10)=0,\"\",IF('１学期'!KM10=$B$8,IF(LEN('１学期'!KP10)=0,\"\",'１学期'!KP10),\"\")),\"\")","v":""},{"$f":"IF(LEN(O596)=0,\"\",IF(COUNTIF($O$2:$O$1921,O596+1)>0,\"\",IF(COUNTIF($O$2:O596,O596)>1,\"\",O596+1)))","v":""},{"$f":"IFERROR(SMALL($P$1:$P$1921,595),\"\")","v":""}]
[null,null,null,null,null,null,null,null,null,null,null,null,null,null,{"$f":"IF(597<=$B$10,IF(LEN('１学期'!KM13)=0,\"\",IF('１学期'!KM13=$B$8,IF(LEN('１学期'!KP13)=0,\"\",'１学期'!KP13),\"\")),\"\")","v":""},{"$f":"IF(LEN(O597)=0,\"\",IF(COUNTIF($O$2:$O$1921,O597+1)>0,\"\",IF(COUNTIF($O$2:O597,O597)>1,\"\",O597+1)))","v":""},{"$f":"IFERROR(SMALL($P$1:$P$1921,596),\"\")","v":""}]
[null,null,null,null,null,null,null,null,null,null,null,null,null,null,{"$f":"IF(598<=$B$10,IF(LEN('１学期'!KM16)=0,\"\",IF('１学期'!KM16=$B$8,IF(LEN('１学期'!KP16)=0,\"\",'１学期'!KP16),\"\")),\"\")","v":""},{"$f":"IF(LEN(O598)=0,\"\",IF(COUNTIF($O$2:$O$1921,O598+1)>0,\"\",IF(COUNTIF($O$2:O598,O598)>1,\"\",O598+1)))","v":""},{"$f":"IFERROR(SMALL($P$1:$P$1921,597),\"\")","v":""}]
[null,null,null,null,null,null,null,null,null,null,null,null,null,null,{"$f":"IF(599<=$B$10,IF(LEN('１学期'!KM19)=0,\"\",IF('１学期'!KM19=$B$8,IF(LEN('１学期'!KP19)=0,\"\",'１学期'!KP19),\"\")),\"\")","v":""},{"$f":"IF(LEN(O599)=0,\"\",IF(COUNTIF($O$2:$O$1921,O599+1)>0,\"\",IF(COUNTIF($O$2:O599,O599)>1,\"\",O599+1)))","v":""},{"$f":"IFERROR(SMALL($P$1:$P$1921,598),\"\")","v":""}]
[null,null,null,null,null,null,null,null,null,null,null,null,null,null,{"$f":"IF(600<=$B$10,IF(LEN('１学期'!KM22)=0,\"\",IF('１学期'!KM22=$B$8,IF(LEN('１学期'!KP22)=0,\"\",'１学期'!KP22),\"\")),\"\")","v":""},{"$f":"IF(LEN(O600)=0,\"\",IF(COUNTIF($O$2:$O$1921,O600+1)>0,\"\",IF(COUNTIF($O$2:O600,O600)>1,\"\",O600+1)))","v":""},{"$f":"IFERROR(SMALL($P$1:$P$1921,599),\"\")","v":""}]
[null,null,null,null,null,null,null,null,null,null,null,null,null,null,{"$f":"IF(601<=$B$10,IF(LEN('１学期'!KM25)=0,\"\",IF('１学期'!KM25=$B$8,IF(LEN('１学期'!KP25)=0,\"\",'１学期'!KP25),\"\")),\"\")","v":""},{"$f":"IF(LEN(O601)=0,\"\",IF(COUNTIF($O$2:$O$1921,O601+1)>0,\"\",IF(COUNTIF($O$2:O601,O601)>1,\"\",O601+1)))","v":""},{"$f":"IFERROR(SMALL($P$1:$P$1921,600),\"\")","v":""}]
[null,null,null,null,null,null,null,null,null,null,null,null,null,null,{"$f":"IF(602<=$B$10,IF(LEN('１学期'!KQ6)=0,\"\",IF('１学期'!KQ6=$B$8,IF(LEN('１学期'!KT6)=0,\"\",'１学期'!KT6),\"\")),\"\")","v":""},{"$f":"IF(LEN(O602)=0,\"\",IF(COUNTIF($O$2:$O$1921,O602+1)>0,\"\",IF(COUNTIF($O$2:O602,O602)>1,\"\",O602+1)))","v":""},{"$f":"IFERROR(SMALL($P$1:$P$1921,601),\"\")","v":""}]
[null,null,null,null,null,null,null,null,null,null,null,null,null,null,{"$f":"IF(603<=$B$10,IF(LEN('１学期'!KQ7)=0,\"\",IF('１学期'!KQ7=$B$8,IF(LEN('１学期'!KT7)=0,\"\",'１学期'!KT7),\"\")),\"\")","v":""},{"$f":"IF(LEN(O603)=0,\"\",IF(COUNTIF($O$2:$O$1921,O603+1)>0,\"\",IF(COUNTIF($O$2:O603,O603)>1,\"\",O603+1)))","v":""},{"$f":"IFERROR(SMALL($P$1:$P$1921,602),\"\")","v":""}]
[null,null,null,null,null,null,null,null,null,null,null,null,null,null,{"$f":"IF(604<=$B$10,IF(LEN('１学期'!KQ10)=0,\"\",IF('１学期'!KQ10=$B$8,IF(LEN('１学期'!KT10)=0,\"\",'１学期'!KT10),\"\")),\"\")","v":""},{"$f":"IF(LEN(O604)=0,\"\",IF(COUNTIF($O$2:$O$1921,O604+1)>0,\"\",IF(COUNTIF($O$2:O604,O604)>1,\"\",O604+1)))","v":""},{"$f":"IFERROR(SMALL($P$1:$P$1921,603),\"\")","v":""}]
[null,null,null,null,null,null,null,null,null,null,null,null,null,null,{"$f":"IF(605<=$B$10,IF(LEN('１学期'!KQ13)=0,\"\",IF('１学期'!KQ13=$B$8,IF(LEN('１学期'!KT13)=0,\"\",'１学期'!KT13),\"\")),\"\")","v":""},{"$f":"IF(LEN(O605)=0,\"\",IF(COUNTIF($O$2:$O$1921,O605+1)>0,\"\",IF(COUNTIF($O$2:O605,O605)>1,\"\",O605+1)))","v":""},{"$f":"IFERROR(SMALL($P$1:$P$1921,604),\"\")","v":""}]
[null,null,null,null,null,null,null,null,null,null,null,null,null,null,{"$f":"IF(606<=$B$10,IF(LEN('１学期'!KQ16)=0,\"\",IF('１学期'!KQ16=$B$8,IF(LEN('１学期'!KT16)=0,\"\",'１学期'!KT16),\"\")),\"\")","v":""},{"$f":"IF(LEN(O606)=0,\"\",IF(COUNTIF($O$2:$O$1921,O606+1)>0,\"\",IF(COUNTIF($O$2:O606,O606)>1,\"\",O606+1)))","v":""},{"$f":"IFERROR(SMALL($P$1:$P$1921,605),\"\")","v":""}]
[null,null,null,null,null,null,null,null,null,null,null,null,null,null,{"$f":"IF(607<=$B$10,IF(LEN('１学期'!KQ19)=0,\"\",IF('１学期'!KQ19=$B$8,IF(LEN('１学期'!KT19)=0,\"\",'１学期'!KT19),\"\")),\"\")","v":""},{"$f":"IF(LEN(O607)=0,\"\",IF(COUNTIF($O$2:$O$1921,O607+1)>0,\"\",IF(COUNTIF($O$2:O607,O607)>1,\"\",O607+1)))","v":""},{"$f":"IFERROR(SMALL($P$1:$P$1921,606),\"\")","v":""}]
[null,null,null,null,null,null,null,null,null,null,null,null,null,null,{"$f":"IF(608<=$B$10,IF(LEN('１学期'!KQ22)=0,\"\",IF('１学期'!KQ22=$B$8,IF(LEN('１学期'!KT22)=0,\"\",'１学期'!KT22),\"\")),\"\")","v":""},{"$f":"IF(LEN(O608)=0,\"\",IF(COUNTIF($O$2:$O$1921,O608+1)>0,\"\",IF(COUNTIF($O$2:O608,O608)>1,\"\",O608+1)))","v":""},{"$f":"IFERROR(SMALL($P$1:$P$1921,607),\"\")","v":""}]
[null,null,null,null,null,null,null,null,null,null,null,null,null,null,{"$f":"IF(609<=$B$10,IF(LEN('１学期'!KQ25)=0,\"\",IF('１学期'!KQ25=$B$8,IF(LEN('１学期'!KT25)=0,\"\",'１学期'!KT25),\"\")),\"\")","v":""},{"$f":"IF(LEN(O609)=0,\"\",IF(COUNTIF($O$2:$O$1921,O609+1)>0,\"\",IF(COUNTIF($O$2:O609,O609)>1,\"\",O609+1)))","v":""},{"$f":"IFERROR(SMALL($P$1:$P$1921,608),\"\")","v":""}]
[null,null,null,null,null,null,null,null,null,null,null,null,null,null,{"$f":"IF(610<=$B$10,IF(LEN('１学期'!KU6)=0,\"\",IF('１学期'!KU6=$B$8,IF(LEN('１学期'!KX6)=0,\"\",'１学期'!KX6),\"\")),\"\")","v":""},{"$f":"IF(LEN(O610)=0,\"\",IF(COUNTIF($O$2:$O$1921,O610+1)>0,\"\",IF(COUNTIF($O$2:O610,O610)>1,\"\",O610+1)))","v":""},{"$f":"IFERROR(SMALL($P$1:$P$1921,609),\"\")","v":""}]
[null,null,null,null,null,null,null,null,null,null,null,null,null,null,{"$f":"IF(611<=$B$10,IF(LEN('１学期'!KU7)=0,\"\",IF('１学期'!KU7=$B$8,IF(LEN('１学期'!KX7)=0,\"\",'１学期'!KX7),\"\")),\"\")","v":""},{"$f":"IF(LEN(O611)=0,\"\",IF(COUNTIF($O$2:$O$1921,O611+1)>0,\"\",IF(COUNTIF($O$2:O611,O611)>1,\"\",O611+1)))","v":""},{"$f":"IFERROR(SMALL($P$1:$P$1921,610),\"\")","v":""}]
[null,null,null,null,null,null,null,null,null,null,null,null,null,null,{"$f":"IF(612<=$B$10,IF(LEN('１学期'!KU10)=0,\"\",IF('１学期'!KU10=$B$8,IF(LEN('１学期'!KX10)=0,\"\",'１学期'!KX10),\"\")),\"\")","v":""},{"$f":"IF(LEN(O612)=0,\"\",IF(COUNTIF($O$2:$O$1921,O612+1)>0,\"\",IF(COUNTIF($O$2:O612,O612)>1,\"\",O612+1)))","v":""},{"$f":"IFERROR(SMALL($P$1:$P$1921,611),\"\")","v":""}]
[null,null,null,null,null,null,null,null,null,null,null,null,null,null,{"$f":"IF(613<=$B$10,IF(LEN('１学期'!KU13)=0,\"\",IF('１学期'!KU13=$B$8,IF(LEN('１学期'!KX13)=0,\"\",'１学期'!KX13),\"\")),\"\")","v":""},{"$f":"IF(LEN(O613)=0,\"\",IF(COUNTIF($O$2:$O$1921,O613+1)>0,\"\",IF(COUNTIF($O$2:O613,O613)>1,\"\",O613+1)))","v":""},{"$f":"IFERROR(SMALL($P$1:$P$1921,612),\"\")","v":""}]
[null,null,null,null,null,null,null,null,null,null,null,null,null,null,{"$f":"IF(614<=$B$10,IF(LEN('１学期'!KU16)=0,\"\",IF('１学期'!KU16=$B$8,IF(LEN('１学期'!KX16)=0,\"\",'１学期'!KX16),\"\")),\"\")","v":""},{"$f":"IF(LEN(O614)=0,\"\",IF(COUNTIF($O$2:$O$1921,O614+1)>0,\"\",IF(COUNTIF($O$2:O614,O614)>1,\"\",O614+1)))","v":""},{"$f":"IFERROR(SMALL($P$1:$P$1921,613),\"\")","v":""}]
[null,null,null,null,null,null,null,null,null,null,null,null,null,null,{"$f":"IF(615<=$B$10,IF(LEN('１学期'!KU19)=0,\"\",IF('１学期'!KU19=$B$8,IF(LEN('１学期'!KX19)=0,\"\",'１学期'!KX19),\"\")),\"\")","v":""},{"$f":"IF(LEN(O615)=0,\"\",IF(COUNTIF($O$2:$O$1921,O615+1)>0,\"\",IF(COUNTIF($O$2:O615,O615)>1,\"\",O615+1)))","v":""},{"$f":"IFERROR(SMALL($P$1:$P$1921,614),\"\")","v":""}]
[null,null,null,null,null,null,null,null,null,null,null,null,null,null,{"$f":"IF(616<=$B$10,IF(LEN('１学期'!KU22)=0,\"\",IF('１学期'!KU22=$B$8,IF(LEN('１学期'!KX22)=0,\"\",'１学期'!KX22),\"\")),\"\")","v":""},{"$f":"IF(LEN(O616)=0,\"\",IF(COUNTIF($O$2:$O$1921,O616+1)>0,\"\",IF(COUNTIF($O$2:O616,O616)>1,\"\",O616+1)))","v":""},{"$f":"IFERROR(SMALL($P$1:$P$1921,615),\"\")","v":""}]
[null,null,null,null,null,null,null,null,null,null,null,null,null,null,{"$f":"IF(617<=$B$10,IF(LEN('１学期'!KU25)=0,\"\",IF('１学期'!KU25=$B$8,IF(LEN('１学期'!KX25)=0,\"\",'１学期'!KX25),\"\")),\"\")","v":""},{"$f":"IF(LEN(O617)=0,\"\",IF(COUNTIF($O$2:$O$1921,O617+1)>0,\"\",IF(COUNTIF($O$2:O617,O617)>1,\"\",O617+1)))","v":""},{"$f":"IFERROR(SMALL($P$1:$P$1921,616),\"\")","v":""}]
[null,null,null,null,null,null,null,null,null,null,null,null,null,null,{"$f":"IF(618<=$B$10,IF(LEN('１学期'!KY6)=0,\"\",IF('１学期'!KY6=$B$8,IF(LEN('１学期'!LB6)=0,\"\",'１学期'!LB6),\"\")),\"\")","v":""},{"$f":"IF(LEN(O618)=0,\"\",IF(COUNTIF($O$2:$O$1921,O618+1)>0,\"\",IF(COUNTIF($O$2:O618,O618)>1,\"\",O618+1)))","v":""},{"$f":"IFERROR(SMALL($P$1:$P$1921,617),\"\")","v":""}]
[null,null,null,null,null,null,null,null,null,null,null,null,null,null,{"$f":"IF(619<=$B$10,IF(LEN('１学期'!KY7)=0,\"\",IF('１学期'!KY7=$B$8,IF(LEN('１学期'!LB7)=0,\"\",'１学期'!LB7),\"\")),\"\")","v":""},{"$f":"IF(LEN(O619)=0,\"\",IF(COUNTIF($O$2:$O$1921,O619+1)>0,\"\",IF(COUNTIF($O$2:O619,O619)>1,\"\",O619+1)))","v":""},{"$f":"IFERROR(SMALL($P$1:$P$1921,618),\"\")","v":""}]
[null,null,null,null,null,null,null,null,null,null,null,null,null,null,{"$f":"IF(620<=$B$10,IF(LEN('１学期'!KY10)=0,\"\",IF('１学期'!KY10=$B$8,IF(LEN('１学期'!LB10)=0,\"\",'１学期'!LB10),\"\")),\"\")","v":""},{"$f":"IF(LEN(O620)=0,\"\",IF(COUNTIF($O$2:$O$1921,O620+1)>0,\"\",IF(COUNTIF($O$2:O620,O620)>1,\"\",O620+1)))","v":""},{"$f":"IFERROR(SMALL($P$1:$P$1921,619),\"\")","v":""}]
[null,null,null,null,null,null,null,null,null,null,null,null,null,null,{"$f":"IF(621<=$B$10,IF(LEN('１学期'!KY13)=0,\"\",IF('１学期'!KY13=$B$8,IF(LEN('１学期'!LB13)=0,\"\",'１学期'!LB13),\"\")),\"\")","v":""},{"$f":"IF(LEN(O621)=0,\"\",IF(COUNTIF($O$2:$O$1921,O621+1)>0,\"\",IF(COUNTIF($O$2:O621,O621)>1,\"\",O621+1)))","v":""},{"$f":"IFERROR(SMALL($P$1:$P$1921,620),\"\")","v":""}]
[null,null,null,null,null,null,null,null,null,null,null,null,null,null,{"$f":"IF(622<=$B$10,IF(LEN('１学期'!KY16)=0,\"\",IF('１学期'!KY16=$B$8,IF(LEN('１学期'!LB16)=0,\"\",'１学期'!LB16),\"\")),\"\")","v":""},{"$f":"IF(LEN(O622)=0,\"\",IF(COUNTIF($O$2:$O$1921,O622+1)>0,\"\",IF(COUNTIF($O$2:O622,O622)>1,\"\",O622+1)))","v":""},{"$f":"IFERROR(SMALL($P$1:$P$1921,621),\"\")","v":""}]
[null,null,null,null,null,null,null,null,null,null,null,null,null,null,{"$f":"IF(623<=$B$10,IF(LEN('１学期'!KY19)=0,\"\",IF('１学期'!KY19=$B$8,IF(LEN('１学期'!LB19)=0,\"\",'１学期'!LB19),\"\")),\"\")","v":""},{"$f":"IF(LEN(O623)=0,\"\",IF(COUNTIF($O$2:$O$1921,O623+1)>0,\"\",IF(COUNTIF($O$2:O623,O623)>1,\"\",O623+1)))","v":""},{"$f":"IFERROR(SMALL($P$1:$P$1921,622),\"\")","v":""}]
[null,null,null,null,null,null,null,null,null,null,null,null,null,null,{"$f":"IF(624<=$B$10,IF(LEN('１学期'!KY22)=0,\"\",IF('１学期'!KY22=$B$8,IF(LEN('１学期'!LB22)=0,\"\",'１学期'!LB22),\"\")),\"\")","v":""},{"$f":"IF(LEN(O624)=0,\"\",IF(COUNTIF($O$2:$O$1921,O624+1)>0,\"\",IF(COUNTIF($O$2:O624,O624)>1,\"\",O624+1)))","v":""},{"$f":"IFERROR(SMALL($P$1:$P$1921,623),\"\")","v":""}]
[null,null,null,null,null,null,null,null,null,null,null,null,null,null,{"$f":"IF(625<=$B$10,IF(LEN('１学期'!KY25)=0,\"\",IF('１学期'!KY25=$B$8,IF(LEN('１学期'!LB25)=0,\"\",'１学期'!LB25),\"\")),\"\")","v":""},{"$f":"IF(LEN(O625)=0,\"\",IF(COUNTIF($O$2:$O$1921,O625+1)>0,\"\",IF(COUNTIF($O$2:O625,O625)>1,\"\",O625+1)))","v":""},{"$f":"IFERROR(SMALL($P$1:$P$1921,624),\"\")","v":""}]
[null,null,null,null,null,null,null,null,null,null,null,null,null,null,{"$f":"IF(626<=$B$10,IF(LEN('１学期'!LC6)=0,\"\",IF('１学期'!LC6=$B$8,IF(LEN('１学期'!LF6)=0,\"\",'１学期'!LF6),\"\")),\"\")","v":""},{"$f":"IF(LEN(O626)=0,\"\",IF(COUNTIF($O$2:$O$1921,O626+1)>0,\"\",IF(COUNTIF($O$2:O626,O626)>1,\"\",O626+1)))","v":""},{"$f":"IFERROR(SMALL($P$1:$P$1921,625),\"\")","v":""}]
[null,null,null,null,null,null,null,null,null,null,null,null,null,null,{"$f":"IF(627<=$B$10,IF(LEN('１学期'!LC7)=0,\"\",IF('１学期'!LC7=$B$8,IF(LEN('１学期'!LF7)=0,\"\",'１学期'!LF7),\"\")),\"\")","v":""},{"$f":"IF(LEN(O627)=0,\"\",IF(COUNTIF($O$2:$O$1921,O627+1)>0,\"\",IF(COUNTIF($O$2:O627,O627)>1,\"\",O627+1)))","v":""},{"$f":"IFERROR(SMALL($P$1:$P$1921,626),\"\")","v":""}]
[null,null,null,null,null,null,null,null,null,null,null,null,null,null,{"$f":"IF(628<=$B$10,IF(LEN('１学期'!LC10)=0,\"\",IF('１学期'!LC10=$B$8,IF(LEN('１学期'!LF10)=0,\"\",'１学期'!LF10),\"\")),\"\")","v":""},{"$f":"IF(LEN(O628)=0,\"\",IF(COUNTIF($O$2:$O$1921,O628+1)>0,\"\",IF(COUNTIF($O$2:O628,O628)>1,\"\",O628+1)))","v":""},{"$f":"IFERROR(SMALL($P$1:$P$1921,627),\"\")","v":""}]
[null,null,null,null,null,null,null,null,null,null,null,null,null,null,{"$f":"IF(629<=$B$10,IF(LEN('１学期'!LC13)=0,\"\",IF('１学期'!LC13=$B$8,IF(LEN('１学期'!LF13)=0,\"\",'１学期'!LF13),\"\")),\"\")","v":""},{"$f":"IF(LEN(O629)=0,\"\",IF(COUNTIF($O$2:$O$1921,O629+1)>0,\"\",IF(COUNTIF($O$2:O629,O629)>1,\"\",O629+1)))","v":""},{"$f":"IFERROR(SMALL($P$1:$P$1921,628),\"\")","v":""}]
[null,null,null,null,null,null,null,null,null,null,null,null,null,null,{"$f":"IF(630<=$B$10,IF(LEN('１学期'!LC16)=0,\"\",IF('１学期'!LC16=$B$8,IF(LEN('１学期'!LF16)=0,\"\",'１学期'!LF16),\"\")),\"\")","v":""},{"$f":"IF(LEN(O630)=0,\"\",IF(COUNTIF($O$2:$O$1921,O630+1)>0,\"\",IF(COUNTIF($O$2:O630,O630)>1,\"\",O630+1)))","v":""},{"$f":"IFERROR(SMALL($P$1:$P$1921,629),\"\")","v":""}]
[null,null,null,null,null,null,null,null,null,null,null,null,null,null,{"$f":"IF(631<=$B$10,IF(LEN('１学期'!LC19)=0,\"\",IF('１学期'!LC19=$B$8,IF(LEN('１学期'!LF19)=0,\"\",'１学期'!LF19),\"\")),\"\")","v":""},{"$f":"IF(LEN(O631)=0,\"\",IF(COUNTIF($O$2:$O$1921,O631+1)>0,\"\",IF(COUNTIF($O$2:O631,O631)>1,\"\",O631+1)))","v":""},{"$f":"IFERROR(SMALL($P$1:$P$1921,630),\"\")","v":""}]
[null,null,null,null,null,null,null,null,null,null,null,null,null,null,{"$f":"IF(632<=$B$10,IF(LEN('１学期'!LC22)=0,\"\",IF('１学期'!LC22=$B$8,IF(LEN('１学期'!LF22)=0,\"\",'１学期'!LF22),\"\")),\"\")","v":""},{"$f":"IF(LEN(O632)=0,\"\",IF(COUNTIF($O$2:$O$1921,O632+1)>0,\"\",IF(COUNTIF($O$2:O632,O632)>1,\"\",O632+1)))","v":""},{"$f":"IFERROR(SMALL($P$1:$P$1921,631),\"\")","v":""}]
[null,null,null,null,null,null,null,null,null,null,null,null,null,null,{"$f":"IF(633<=$B$10,IF(LEN('１学期'!LC25)=0,\"\",IF('１学期'!LC25=$B$8,IF(LEN('１学期'!LF25)=0,\"\",'１学期'!LF25),\"\")),\"\")","v":""},{"$f":"IF(LEN(O633)=0,\"\",IF(COUNTIF($O$2:$O$1921,O633+1)>0,\"\",IF(COUNTIF($O$2:O633,O633)>1,\"\",O633+1)))","v":""},{"$f":"IFERROR(SMALL($P$1:$P$1921,632),\"\")","v":""}]
[null,null,null,null,null,null,null,null,null,null,null,null,null,null,{"$f":"IF(634<=$B$10,IF(LEN('１学期'!LG6)=0,\"\",IF('１学期'!LG6=$B$8,IF(LEN('１学期'!LJ6)=0,\"\",'１学期'!LJ6),\"\")),\"\")","v":""},{"$f":"IF(LEN(O634)=0,\"\",IF(COUNTIF($O$2:$O$1921,O634+1)>0,\"\",IF(COUNTIF($O$2:O634,O634)>1,\"\",O634+1)))","v":""},{"$f":"IFERROR(SMALL($P$1:$P$1921,633),\"\")","v":""}]
[null,null,null,null,null,null,null,null,null,null,null,null,null,null,{"$f":"IF(635<=$B$10,IF(LEN('１学期'!LG7)=0,\"\",IF('１学期'!LG7=$B$8,IF(LEN('１学期'!LJ7)=0,\"\",'１学期'!LJ7),\"\")),\"\")","v":""},{"$f":"IF(LEN(O635)=0,\"\",IF(COUNTIF($O$2:$O$1921,O635+1)>0,\"\",IF(COUNTIF($O$2:O635,O635)>1,\"\",O635+1)))","v":""},{"$f":"IFERROR(SMALL($P$1:$P$1921,634),\"\")","v":""}]
[null,null,null,null,null,null,null,null,null,null,null,null,null,null,{"$f":"IF(636<=$B$10,IF(LEN('１学期'!LG10)=0,\"\",IF('１学期'!LG10=$B$8,IF(LEN('１学期'!LJ10)=0,\"\",'１学期'!LJ10),\"\")),\"\")","v":""},{"$f":"IF(LEN(O636)=0,\"\",IF(COUNTIF($O$2:$O$1921,O636+1)>0,\"\",IF(COUNTIF($O$2:O636,O636)>1,\"\",O636+1)))","v":""},{"$f":"IFERROR(SMALL($P$1:$P$1921,635),\"\")","v":""}]
[null,null,null,null,null,null,null,null,null,null,null,null,null,null,{"$f":"IF(637<=$B$10,IF(LEN('１学期'!LG13)=0,\"\",IF('１学期'!LG13=$B$8,IF(LEN('１学期'!LJ13)=0,\"\",'１学期'!LJ13),\"\")),\"\")","v":""},{"$f":"IF(LEN(O637)=0,\"\",IF(COUNTIF($O$2:$O$1921,O637+1)>0,\"\",IF(COUNTIF($O$2:O637,O637)>1,\"\",O637+1)))","v":""},{"$f":"IFERROR(SMALL($P$1:$P$1921,636),\"\")","v":""}]
[null,null,null,null,null,null,null,null,null,null,null,null,null,null,{"$f":"IF(638<=$B$10,IF(LEN('１学期'!LG16)=0,\"\",IF('１学期'!LG16=$B$8,IF(LEN('１学期'!LJ16)=0,\"\",'１学期'!LJ16),\"\")),\"\")","v":""},{"$f":"IF(LEN(O638)=0,\"\",IF(COUNTIF($O$2:$O$1921,O638+1)>0,\"\",IF(COUNTIF($O$2:O638,O638)>1,\"\",O638+1)))","v":""},{"$f":"IFERROR(SMALL($P$1:$P$1921,637),\"\")","v":""}]
[null,null,null,null,null,null,null,null,null,null,null,null,null,null,{"$f":"IF(639<=$B$10,IF(LEN('１学期'!LG19)=0,\"\",IF('１学期'!LG19=$B$8,IF(LEN('１学期'!LJ19)=0,\"\",'１学期'!LJ19),\"\")),\"\")","v":""},{"$f":"IF(LEN(O639)=0,\"\",IF(COUNTIF($O$2:$O$1921,O639+1)>0,\"\",IF(COUNTIF($O$2:O639,O639)>1,\"\",O639+1)))","v":""},{"$f":"IFERROR(SMALL($P$1:$P$1921,638),\"\")","v":""}]
[null,null,null,null,null,null,null,null,null,null,null,null,null,null,{"$f":"IF(640<=$B$10,IF(LEN('１学期'!LG22)=0,\"\",IF('１学期'!LG22=$B$8,IF(LEN('１学期'!LJ22)=0,\"\",'１学期'!LJ22),\"\")),\"\")","v":""},{"$f":"IF(LEN(O640)=0,\"\",IF(COUNTIF($O$2:$O$1921,O640+1)>0,\"\",IF(COUNTIF($O$2:O640,O640)>1,\"\",O640+1)))","v":""},{"$f":"IFERROR(SMALL($P$1:$P$1921,639),\"\")","v":""}]
[null,null,null,null,null,null,null,null,null,null,null,null,null,null,{"$f":"IF(641<=$B$10,IF(LEN('１学期'!LG25)=0,\"\",IF('１学期'!LG25=$B$8,IF(LEN('１学期'!LJ25)=0,\"\",'１学期'!LJ25),\"\")),\"\")","v":""},{"$f":"IF(LEN(O641)=0,\"\",IF(COUNTIF($O$2:$O$1921,O641+1)>0,\"\",IF(COUNTIF($O$2:O641,O641)>1,\"\",O641+1)))","v":""},{"$f":"IFERROR(SMALL($P$1:$P$1921,640),\"\")","v":""}]
[null,null,null,null,null,null,null,null,null,null,null,null,null,null,{"$f":"IF(642<=$B$10,IF(LEN('１学期'!LK6)=0,\"\",IF('１学期'!LK6=$B$8,IF(LEN('１学期'!LN6)=0,\"\",'１学期'!LN6),\"\")),\"\")","v":""},{"$f":"IF(LEN(O642)=0,\"\",IF(COUNTIF($O$2:$O$1921,O642+1)>0,\"\",IF(COUNTIF($O$2:O642,O642)>1,\"\",O642+1)))","v":""},{"$f":"IFERROR(SMALL($P$1:$P$1921,641),\"\")","v":""}]
[null,null,null,null,null,null,null,null,null,null,null,null,null,null,{"$f":"IF(643<=$B$10,IF(LEN('１学期'!LK7)=0,\"\",IF('１学期'!LK7=$B$8,IF(LEN('１学期'!LN7)=0,\"\",'１学期'!LN7),\"\")),\"\")","v":""},{"$f":"IF(LEN(O643)=0,\"\",IF(COUNTIF($O$2:$O$1921,O643+1)>0,\"\",IF(COUNTIF($O$2:O643,O643)>1,\"\",O643+1)))","v":""},{"$f":"IFERROR(SMALL($P$1:$P$1921,642),\"\")","v":""}]
[null,null,null,null,null,null,null,null,null,null,null,null,null,null,{"$f":"IF(644<=$B$10,IF(LEN('１学期'!LK10)=0,\"\",IF('１学期'!LK10=$B$8,IF(LEN('１学期'!LN10)=0,\"\",'１学期'!LN10),\"\")),\"\")","v":""},{"$f":"IF(LEN(O644)=0,\"\",IF(COUNTIF($O$2:$O$1921,O644+1)>0,\"\",IF(COUNTIF($O$2:O644,O644)>1,\"\",O644+1)))","v":""},{"$f":"IFERROR(SMALL($P$1:$P$1921,643),\"\")","v":""}]
[null,null,null,null,null,null,null,null,null,null,null,null,null,null,{"$f":"IF(645<=$B$10,IF(LEN('１学期'!LK13)=0,\"\",IF('１学期'!LK13=$B$8,IF(LEN('１学期'!LN13)=0,\"\",'１学期'!LN13),\"\")),\"\")","v":""},{"$f":"IF(LEN(O645)=0,\"\",IF(COUNTIF($O$2:$O$1921,O645+1)>0,\"\",IF(COUNTIF($O$2:O645,O645)>1,\"\",O645+1)))","v":""},{"$f":"IFERROR(SMALL($P$1:$P$1921,644),\"\")","v":""}]
[null,null,null,null,null,null,null,null,null,null,null,null,null,null,{"$f":"IF(646<=$B$10,IF(LEN('１学期'!LK16)=0,\"\",IF('１学期'!LK16=$B$8,IF(LEN('１学期'!LN16)=0,\"\",'１学期'!LN16),\"\")),\"\")","v":""},{"$f":"IF(LEN(O646)=0,\"\",IF(COUNTIF($O$2:$O$1921,O646+1)>0,\"\",IF(COUNTIF($O$2:O646,O646)>1,\"\",O646+1)))","v":""},{"$f":"IFERROR(SMALL($P$1:$P$1921,645),\"\")","v":""}]
[null,null,null,null,null,null,null,null,null,null,null,null,null,null,{"$f":"IF(647<=$B$10,IF(LEN('１学期'!LK19)=0,\"\",IF('１学期'!LK19=$B$8,IF(LEN('１学期'!LN19)=0,\"\",'１学期'!LN19),\"\")),\"\")","v":""},{"$f":"IF(LEN(O647)=0,\"\",IF(COUNTIF($O$2:$O$1921,O647+1)>0,\"\",IF(COUNTIF($O$2:O647,O647)>1,\"\",O647+1)))","v":""},{"$f":"IFERROR(SMALL($P$1:$P$1921,646),\"\")","v":""}]
[null,null,null,null,null,null,null,null,null,null,null,null,null,null,{"$f":"IF(648<=$B$10,IF(LEN('１学期'!LK22)=0,\"\",IF('１学期'!LK22=$B$8,IF(LEN('１学期'!LN22)=0,\"\",'１学期'!LN22),\"\")),\"\")","v":""},{"$f":"IF(LEN(O648)=0,\"\",IF(COUNTIF($O$2:$O$1921,O648+1)>0,\"\",IF(COUNTIF($O$2:O648,O648)>1,\"\",O648+1)))","v":""},{"$f":"IFERROR(SMALL($P$1:$P$1921,647),\"\")","v":""}]
[null,null,null,null,null,null,null,null,null,null,null,null,null,null,{"$f":"IF(649<=$B$10,IF(LEN('１学期'!LK25)=0,\"\",IF('１学期'!LK25=$B$8,IF(LEN('１学期'!LN25)=0,\"\",'１学期'!LN25),\"\")),\"\")","v":""},{"$f":"IF(LEN(O649)=0,\"\",IF(COUNTIF($O$2:$O$1921,O649+1)>0,\"\",IF(COUNTIF($O$2:O649,O649)>1,\"\",O649+1)))","v":""},{"$f":"IFERROR(SMALL($P$1:$P$1921,648),\"\")","v":""}]
[null,null,null,null,null,null,null,null,null,null,null,null,null,null,{"$f":"IF(650<=$B$10,IF(LEN('１学期'!LO6)=0,\"\",IF('１学期'!LO6=$B$8,IF(LEN('１学期'!LR6)=0,\"\",'１学期'!LR6),\"\")),\"\")","v":""},{"$f":"IF(LEN(O650)=0,\"\",IF(COUNTIF($O$2:$O$1921,O650+1)>0,\"\",IF(COUNTIF($O$2:O650,O650)>1,\"\",O650+1)))","v":""},{"$f":"IFERROR(SMALL($P$1:$P$1921,649),\"\")","v":""}]
[null,null,null,null,null,null,null,null,null,null,null,null,null,null,{"$f":"IF(651<=$B$10,IF(LEN('１学期'!LO7)=0,\"\",IF('１学期'!LO7=$B$8,IF(LEN('１学期'!LR7)=0,\"\",'１学期'!LR7),\"\")),\"\")","v":""},{"$f":"IF(LEN(O651)=0,\"\",IF(COUNTIF($O$2:$O$1921,O651+1)>0,\"\",IF(COUNTIF($O$2:O651,O651)>1,\"\",O651+1)))","v":""},{"$f":"IFERROR(SMALL($P$1:$P$1921,650),\"\")","v":""}]
[null,null,null,null,null,null,null,null,null,null,null,null,null,null,{"$f":"IF(652<=$B$10,IF(LEN('１学期'!LO10)=0,\"\",IF('１学期'!LO10=$B$8,IF(LEN('１学期'!LR10)=0,\"\",'１学期'!LR10),\"\")),\"\")","v":""},{"$f":"IF(LEN(O652)=0,\"\",IF(COUNTIF($O$2:$O$1921,O652+1)>0,\"\",IF(COUNTIF($O$2:O652,O652)>1,\"\",O652+1)))","v":""},{"$f":"IFERROR(SMALL($P$1:$P$1921,651),\"\")","v":""}]
[null,null,null,null,null,null,null,null,null,null,null,null,null,null,{"$f":"IF(653<=$B$10,IF(LEN('１学期'!LO13)=0,\"\",IF('１学期'!LO13=$B$8,IF(LEN('１学期'!LR13)=0,\"\",'１学期'!LR13),\"\")),\"\")","v":""},{"$f":"IF(LEN(O653)=0,\"\",IF(COUNTIF($O$2:$O$1921,O653+1)>0,\"\",IF(COUNTIF($O$2:O653,O653)>1,\"\",O653+1)))","v":""},{"$f":"IFERROR(SMALL($P$1:$P$1921,652),\"\")","v":""}]
[null,null,null,null,null,null,null,null,null,null,null,null,null,null,{"$f":"IF(654<=$B$10,IF(LEN('１学期'!LO16)=0,\"\",IF('１学期'!LO16=$B$8,IF(LEN('１学期'!LR16)=0,\"\",'１学期'!LR16),\"\")),\"\")","v":""},{"$f":"IF(LEN(O654)=0,\"\",IF(COUNTIF($O$2:$O$1921,O654+1)>0,\"\",IF(COUNTIF($O$2:O654,O654)>1,\"\",O654+1)))","v":""},{"$f":"IFERROR(SMALL($P$1:$P$1921,653),\"\")","v":""}]
[null,null,null,null,null,null,null,null,null,null,null,null,null,null,{"$f":"IF(655<=$B$10,IF(LEN('１学期'!LO19)=0,\"\",IF('１学期'!LO19=$B$8,IF(LEN('１学期'!LR19)=0,\"\",'１学期'!LR19),\"\")),\"\")","v":""},{"$f":"IF(LEN(O655)=0,\"\",IF(COUNTIF($O$2:$O$1921,O655+1)>0,\"\",IF(COUNTIF($O$2:O655,O655)>1,\"\",O655+1)))","v":""},{"$f":"IFERROR(SMALL($P$1:$P$1921,654),\"\")","v":""}]
[null,null,null,null,null,null,null,null,null,null,null,null,null,null,{"$f":"IF(656<=$B$10,IF(LEN('１学期'!LO22)=0,\"\",IF('１学期'!LO22=$B$8,IF(LEN('１学期'!LR22)=0,\"\",'１学期'!LR22),\"\")),\"\")","v":""},{"$f":"IF(LEN(O656)=0,\"\",IF(COUNTIF($O$2:$O$1921,O656+1)>0,\"\",IF(COUNTIF($O$2:O656,O656)>1,\"\",O656+1)))","v":""},{"$f":"IFERROR(SMALL($P$1:$P$1921,655),\"\")","v":""}]
[null,null,null,null,null,null,null,null,null,null,null,null,null,null,{"$f":"IF(657<=$B$10,IF(LEN('１学期'!LO25)=0,\"\",IF('１学期'!LO25=$B$8,IF(LEN('１学期'!LR25)=0,\"\",'１学期'!LR25),\"\")),\"\")","v":""},{"$f":"IF(LEN(O657)=0,\"\",IF(COUNTIF($O$2:$O$1921,O657+1)>0,\"\",IF(COUNTIF($O$2:O657,O657)>1,\"\",O657+1)))","v":""},{"$f":"IFERROR(SMALL($P$1:$P$1921,656),\"\")","v":""}]
[null,null,null,null,null,null,null,null,null,null,null,null,null,null,{"$f":"IF(658<=$B$10,IF(LEN('１学期'!LS6)=0,\"\",IF('１学期'!LS6=$B$8,IF(LEN('１学期'!LV6)=0,\"\",'１学期'!LV6),\"\")),\"\")","v":""},{"$f":"IF(LEN(O658)=0,\"\",IF(COUNTIF($O$2:$O$1921,O658+1)>0,\"\",IF(COUNTIF($O$2:O658,O658)>1,\"\",O658+1)))","v":""},{"$f":"IFERROR(SMALL($P$1:$P$1921,657),\"\")","v":""}]
[null,null,null,null,null,null,null,null,null,null,null,null,null,null,{"$f":"IF(659<=$B$10,IF(LEN('１学期'!LS7)=0,\"\",IF('１学期'!LS7=$B$8,IF(LEN('１学期'!LV7)=0,\"\",'１学期'!LV7),\"\")),\"\")","v":""},{"$f":"IF(LEN(O659)=0,\"\",IF(COUNTIF($O$2:$O$1921,O659+1)>0,\"\",IF(COUNTIF($O$2:O659,O659)>1,\"\",O659+1)))","v":""},{"$f":"IFERROR(SMALL($P$1:$P$1921,658),\"\")","v":""}]
[null,null,null,null,null,null,null,null,null,null,null,null,null,null,{"$f":"IF(660<=$B$10,IF(LEN('１学期'!LS10)=0,\"\",IF('１学期'!LS10=$B$8,IF(LEN('１学期'!LV10)=0,\"\",'１学期'!LV10),\"\")),\"\")","v":""},{"$f":"IF(LEN(O660)=0,\"\",IF(COUNTIF($O$2:$O$1921,O660+1)>0,\"\",IF(COUNTIF($O$2:O660,O660)>1,\"\",O660+1)))","v":""},{"$f":"IFERROR(SMALL($P$1:$P$1921,659),\"\")","v":""}]
[null,null,null,null,null,null,null,null,null,null,null,null,null,null,{"$f":"IF(661<=$B$10,IF(LEN('１学期'!LS13)=0,\"\",IF('１学期'!LS13=$B$8,IF(LEN('１学期'!LV13)=0,\"\",'１学期'!LV13),\"\")),\"\")","v":""},{"$f":"IF(LEN(O661)=0,\"\",IF(COUNTIF($O$2:$O$1921,O661+1)>0,\"\",IF(COUNTIF($O$2:O661,O661)>1,\"\",O661+1)))","v":""},{"$f":"IFERROR(SMALL($P$1:$P$1921,660),\"\")","v":""}]
[null,null,null,null,null,null,null,null,null,null,null,null,null,null,{"$f":"IF(662<=$B$10,IF(LEN('１学期'!LS16)=0,\"\",IF('１学期'!LS16=$B$8,IF(LEN('１学期'!LV16)=0,\"\",'１学期'!LV16),\"\")),\"\")","v":""},{"$f":"IF(LEN(O662)=0,\"\",IF(COUNTIF($O$2:$O$1921,O662+1)>0,\"\",IF(COUNTIF($O$2:O662,O662)>1,\"\",O662+1)))","v":""},{"$f":"IFERROR(SMALL($P$1:$P$1921,661),\"\")","v":""}]
[null,null,null,null,null,null,null,null,null,null,null,null,null,null,{"$f":"IF(663<=$B$10,IF(LEN('１学期'!LS19)=0,\"\",IF('１学期'!LS19=$B$8,IF(LEN('１学期'!LV19)=0,\"\",'１学期'!LV19),\"\")),\"\")","v":""},{"$f":"IF(LEN(O663)=0,\"\",IF(COUNTIF($O$2:$O$1921,O663+1)>0,\"\",IF(COUNTIF($O$2:O663,O663)>1,\"\",O663+1)))","v":""},{"$f":"IFERROR(SMALL($P$1:$P$1921,662),\"\")","v":""}]
[null,null,null,null,null,null,null,null,null,null,null,null,null,null,{"$f":"IF(664<=$B$10,IF(LEN('１学期'!LS22)=0,\"\",IF('１学期'!LS22=$B$8,IF(LEN('１学期'!LV22)=0,\"\",'１学期'!LV22),\"\")),\"\")","v":""},{"$f":"IF(LEN(O664)=0,\"\",IF(COUNTIF($O$2:$O$1921,O664+1)>0,\"\",IF(COUNTIF($O$2:O664,O664)>1,\"\",O664+1)))","v":""},{"$f":"IFERROR(SMALL($P$1:$P$1921,663),\"\")","v":""}]
[null,null,null,null,null,null,null,null,null,null,null,null,null,null,{"$f":"IF(665<=$B$10,IF(LEN('１学期'!LS25)=0,\"\",IF('１学期'!LS25=$B$8,IF(LEN('１学期'!LV25)=0,\"\",'１学期'!LV25),\"\")),\"\")","v":""},{"$f":"IF(LEN(O665)=0,\"\",IF(COUNTIF($O$2:$O$1921,O665+1)>0,\"\",IF(COUNTIF($O$2:O665,O665)>1,\"\",O665+1)))","v":""},{"$f":"IFERROR(SMALL($P$1:$P$1921,664),\"\")","v":""}]
[null,null,null,null,null,null,null,null,null,null,null,null,null,null,{"$f":"IF(666<=$B$10,IF(LEN('１学期'!LW6)=0,\"\",IF('１学期'!LW6=$B$8,IF(LEN('１学期'!LZ6)=0,\"\",'１学期'!LZ6),\"\")),\"\")","v":""},{"$f":"IF(LEN(O666)=0,\"\",IF(COUNTIF($O$2:$O$1921,O666+1)>0,\"\",IF(COUNTIF($O$2:O666,O666)>1,\"\",O666+1)))","v":""},{"$f":"IFERROR(SMALL($P$1:$P$1921,665),\"\")","v":""}]
[null,null,null,null,null,null,null,null,null,null,null,null,null,null,{"$f":"IF(667<=$B$10,IF(LEN('１学期'!LW7)=0,\"\",IF('１学期'!LW7=$B$8,IF(LEN('１学期'!LZ7)=0,\"\",'１学期'!LZ7),\"\")),\"\")","v":""},{"$f":"IF(LEN(O667)=0,\"\",IF(COUNTIF($O$2:$O$1921,O667+1)>0,\"\",IF(COUNTIF($O$2:O667,O667)>1,\"\",O667+1)))","v":""},{"$f":"IFERROR(SMALL($P$1:$P$1921,666),\"\")","v":""}]
[null,null,null,null,null,null,null,null,null,null,null,null,null,null,{"$f":"IF(668<=$B$10,IF(LEN('１学期'!LW10)=0,\"\",IF('１学期'!LW10=$B$8,IF(LEN('１学期'!LZ10)=0,\"\",'１学期'!LZ10),\"\")),\"\")","v":""},{"$f":"IF(LEN(O668)=0,\"\",IF(COUNTIF($O$2:$O$1921,O668+1)>0,\"\",IF(COUNTIF($O$2:O668,O668)>1,\"\",O668+1)))","v":""},{"$f":"IFERROR(SMALL($P$1:$P$1921,667),\"\")","v":""}]
[null,null,null,null,null,null,null,null,null,null,null,null,null,null,{"$f":"IF(669<=$B$10,IF(LEN('１学期'!LW13)=0,\"\",IF('１学期'!LW13=$B$8,IF(LEN('１学期'!LZ13)=0,\"\",'１学期'!LZ13),\"\")),\"\")","v":""},{"$f":"IF(LEN(O669)=0,\"\",IF(COUNTIF($O$2:$O$1921,O669+1)>0,\"\",IF(COUNTIF($O$2:O669,O669)>1,\"\",O669+1)))","v":""},{"$f":"IFERROR(SMALL($P$1:$P$1921,668),\"\")","v":""}]
[null,null,null,null,null,null,null,null,null,null,null,null,null,null,{"$f":"IF(670<=$B$10,IF(LEN('１学期'!LW16)=0,\"\",IF('１学期'!LW16=$B$8,IF(LEN('１学期'!LZ16)=0,\"\",'１学期'!LZ16),\"\")),\"\")","v":""},{"$f":"IF(LEN(O670)=0,\"\",IF(COUNTIF($O$2:$O$1921,O670+1)>0,\"\",IF(COUNTIF($O$2:O670,O670)>1,\"\",O670+1)))","v":""},{"$f":"IFERROR(SMALL($P$1:$P$1921,669),\"\")","v":""}]
[null,null,null,null,null,null,null,null,null,null,null,null,null,null,{"$f":"IF(671<=$B$10,IF(LEN('１学期'!LW19)=0,\"\",IF('１学期'!LW19=$B$8,IF(LEN('１学期'!LZ19)=0,\"\",'１学期'!LZ19),\"\")),\"\")","v":""},{"$f":"IF(LEN(O671)=0,\"\",IF(COUNTIF($O$2:$O$1921,O671+1)>0,\"\",IF(COUNTIF($O$2:O671,O671)>1,\"\",O671+1)))","v":""},{"$f":"IFERROR(SMALL($P$1:$P$1921,670),\"\")","v":""}]
[null,null,null,null,null,null,null,null,null,null,null,null,null,null,{"$f":"IF(672<=$B$10,IF(LEN('１学期'!LW22)=0,\"\",IF('１学期'!LW22=$B$8,IF(LEN('１学期'!LZ22)=0,\"\",'１学期'!LZ22),\"\")),\"\")","v":""},{"$f":"IF(LEN(O672)=0,\"\",IF(COUNTIF($O$2:$O$1921,O672+1)>0,\"\",IF(COUNTIF($O$2:O672,O672)>1,\"\",O672+1)))","v":""},{"$f":"IFERROR(SMALL($P$1:$P$1921,671),\"\")","v":""}]
[null,null,null,null,null,null,null,null,null,null,null,null,null,null,{"$f":"IF(673<=$B$10,IF(LEN('１学期'!LW25)=0,\"\",IF('１学期'!LW25=$B$8,IF(LEN('１学期'!LZ25)=0,\"\",'１学期'!LZ25),\"\")),\"\")","v":""},{"$f":"IF(LEN(O673)=0,\"\",IF(COUNTIF($O$2:$O$1921,O673+1)>0,\"\",IF(COUNTIF($O$2:O673,O673)>1,\"\",O673+1)))","v":""},{"$f":"IFERROR(SMALL($P$1:$P$1921,672),\"\")","v":""}]
[null,null,null,null,null,null,null,null,null,null,null,null,null,null,{"$f":"IF(674<=$B$10,IF(LEN('１学期'!MA6)=0,\"\",IF('１学期'!MA6=$B$8,IF(LEN('１学期'!MD6)=0,\"\",'１学期'!MD6),\"\")),\"\")","v":""},{"$f":"IF(LEN(O674)=0,\"\",IF(COUNTIF($O$2:$O$1921,O674+1)>0,\"\",IF(COUNTIF($O$2:O674,O674)>1,\"\",O674+1)))","v":""},{"$f":"IFERROR(SMALL($P$1:$P$1921,673),\"\")","v":""}]
[null,null,null,null,null,null,null,null,null,null,null,null,null,null,{"$f":"IF(675<=$B$10,IF(LEN('１学期'!MA7)=0,\"\",IF('１学期'!MA7=$B$8,IF(LEN('１学期'!MD7)=0,\"\",'１学期'!MD7),\"\")),\"\")","v":""},{"$f":"IF(LEN(O675)=0,\"\",IF(COUNTIF($O$2:$O$1921,O675+1)>0,\"\",IF(COUNTIF($O$2:O675,O675)>1,\"\",O675+1)))","v":""},{"$f":"IFERROR(SMALL($P$1:$P$1921,674),\"\")","v":""}]
[null,null,null,null,null,null,null,null,null,null,null,null,null,null,{"$f":"IF(676<=$B$10,IF(LEN('１学期'!MA10)=0,\"\",IF('１学期'!MA10=$B$8,IF(LEN('１学期'!MD10)=0,\"\",'１学期'!MD10),\"\")),\"\")","v":""},{"$f":"IF(LEN(O676)=0,\"\",IF(COUNTIF($O$2:$O$1921,O676+1)>0,\"\",IF(COUNTIF($O$2:O676,O676)>1,\"\",O676+1)))","v":""},{"$f":"IFERROR(SMALL($P$1:$P$1921,675),\"\")","v":""}]
[null,null,null,null,null,null,null,null,null,null,null,null,null,null,{"$f":"IF(677<=$B$10,IF(LEN('１学期'!MA13)=0,\"\",IF('１学期'!MA13=$B$8,IF(LEN('１学期'!MD13)=0,\"\",'１学期'!MD13),\"\")),\"\")","v":""},{"$f":"IF(LEN(O677)=0,\"\",IF(COUNTIF($O$2:$O$1921,O677+1)>0,\"\",IF(COUNTIF($O$2:O677,O677)>1,\"\",O677+1)))","v":""},{"$f":"IFERROR(SMALL($P$1:$P$1921,676),\"\")","v":""}]
[null,null,null,null,null,null,null,null,null,null,null,null,null,null,{"$f":"IF(678<=$B$10,IF(LEN('１学期'!MA16)=0,\"\",IF('１学期'!MA16=$B$8,IF(LEN('１学期'!MD16)=0,\"\",'１学期'!MD16),\"\")),\"\")","v":""},{"$f":"IF(LEN(O678)=0,\"\",IF(COUNTIF($O$2:$O$1921,O678+1)>0,\"\",IF(COUNTIF($O$2:O678,O678)>1,\"\",O678+1)))","v":""},{"$f":"IFERROR(SMALL($P$1:$P$1921,677),\"\")","v":""}]
[null,null,null,null,null,null,null,null,null,null,null,null,null,null,{"$f":"IF(679<=$B$10,IF(LEN('１学期'!MA19)=0,\"\",IF('１学期'!MA19=$B$8,IF(LEN('１学期'!MD19)=0,\"\",'１学期'!MD19),\"\")),\"\")","v":""},{"$f":"IF(LEN(O679)=0,\"\",IF(COUNTIF($O$2:$O$1921,O679+1)>0,\"\",IF(COUNTIF($O$2:O679,O679)>1,\"\",O679+1)))","v":""},{"$f":"IFERROR(SMALL($P$1:$P$1921,678),\"\")","v":""}]
[null,null,null,null,null,null,null,null,null,null,null,null,null,null,{"$f":"IF(680<=$B$10,IF(LEN('１学期'!MA22)=0,\"\",IF('１学期'!MA22=$B$8,IF(LEN('１学期'!MD22)=0,\"\",'１学期'!MD22),\"\")),\"\")","v":""},{"$f":"IF(LEN(O680)=0,\"\",IF(COUNTIF($O$2:$O$1921,O680+1)>0,\"\",IF(COUNTIF($O$2:O680,O680)>1,\"\",O680+1)))","v":""},{"$f":"IFERROR(SMALL($P$1:$P$1921,679),\"\")","v":""}]
[null,null,null,null,null,null,null,null,null,null,null,null,null,null,{"$f":"IF(681<=$B$10,IF(LEN('１学期'!MA25)=0,\"\",IF('１学期'!MA25=$B$8,IF(LEN('１学期'!MD25)=0,\"\",'１学期'!MD25),\"\")),\"\")","v":""},{"$f":"IF(LEN(O681)=0,\"\",IF(COUNTIF($O$2:$O$1921,O681+1)>0,\"\",IF(COUNTIF($O$2:O681,O681)>1,\"\",O681+1)))","v":""},{"$f":"IFERROR(SMALL($P$1:$P$1921,680),\"\")","v":""}]
[null,null,null,null,null,null,null,null,null,null,null,null,null,null,{"$f":"IF(682<=$B$10,IF(LEN('２学期'!C6)=0,\"\",IF('２学期'!C6=$B$8,IF(LEN('２学期'!F6)=0,\"\",'２学期'!F6),\"\")),\"\")","v":""},{"$f":"IF(LEN(O682)=0,\"\",IF(COUNTIF($O$2:$O$1921,O682+1)>0,\"\",IF(COUNTIF($O$2:O682,O682)>1,\"\",O682+1)))","v":""},{"$f":"IFERROR(SMALL($P$1:$P$1921,681),\"\")","v":""}]
[null,null,null,null,null,null,null,null,null,null,null,null,null,null,{"$f":"IF(683<=$B$10,IF(LEN('２学期'!C7)=0,\"\",IF('２学期'!C7=$B$8,IF(LEN('２学期'!F7)=0,\"\",'２学期'!F7),\"\")),\"\")","v":""},{"$f":"IF(LEN(O683)=0,\"\",IF(COUNTIF($O$2:$O$1921,O683+1)>0,\"\",IF(COUNTIF($O$2:O683,O683)>1,\"\",O683+1)))","v":""},{"$f":"IFERROR(SMALL($P$1:$P$1921,682),\"\")","v":""}]
[null,null,null,null,null,null,null,null,null,null,null,null,null,null,{"$f":"IF(684<=$B$10,IF(LEN('２学期'!C10)=0,\"\",IF('２学期'!C10=$B$8,IF(LEN('２学期'!F10)=0,\"\",'２学期'!F10),\"\")),\"\")","v":""},{"$f":"IF(LEN(O684)=0,\"\",IF(COUNTIF($O$2:$O$1921,O684+1)>0,\"\",IF(COUNTIF($O$2:O684,O684)>1,\"\",O684+1)))","v":""},{"$f":"IFERROR(SMALL($P$1:$P$1921,683),\"\")","v":""}]
[null,null,null,null,null,null,null,null,null,null,null,null,null,null,{"$f":"IF(685<=$B$10,IF(LEN('２学期'!C13)=0,\"\",IF('２学期'!C13=$B$8,IF(LEN('２学期'!F13)=0,\"\",'２学期'!F13),\"\")),\"\")","v":""},{"$f":"IF(LEN(O685)=0,\"\",IF(COUNTIF($O$2:$O$1921,O685+1)>0,\"\",IF(COUNTIF($O$2:O685,O685)>1,\"\",O685+1)))","v":""},{"$f":"IFERROR(SMALL($P$1:$P$1921,684),\"\")","v":""}]
[null,null,null,null,null,null,null,null,null,null,null,null,null,null,{"$f":"IF(686<=$B$10,IF(LEN('２学期'!C16)=0,\"\",IF('２学期'!C16=$B$8,IF(LEN('２学期'!F16)=0,\"\",'２学期'!F16),\"\")),\"\")","v":""},{"$f":"IF(LEN(O686)=0,\"\",IF(COUNTIF($O$2:$O$1921,O686+1)>0,\"\",IF(COUNTIF($O$2:O686,O686)>1,\"\",O686+1)))","v":""},{"$f":"IFERROR(SMALL($P$1:$P$1921,685),\"\")","v":""}]
[null,null,null,null,null,null,null,null,null,null,null,null,null,null,{"$f":"IF(687<=$B$10,IF(LEN('２学期'!C19)=0,\"\",IF('２学期'!C19=$B$8,IF(LEN('２学期'!F19)=0,\"\",'２学期'!F19),\"\")),\"\")","v":""},{"$f":"IF(LEN(O687)=0,\"\",IF(COUNTIF($O$2:$O$1921,O687+1)>0,\"\",IF(COUNTIF($O$2:O687,O687)>1,\"\",O687+1)))","v":""},{"$f":"IFERROR(SMALL($P$1:$P$1921,686),\"\")","v":""}]
[null,null,null,null,null,null,null,null,null,null,null,null,null,null,{"$f":"IF(688<=$B$10,IF(LEN('２学期'!C22)=0,\"\",IF('２学期'!C22=$B$8,IF(LEN('２学期'!F22)=0,\"\",'２学期'!F22),\"\")),\"\")","v":""},{"$f":"IF(LEN(O688)=0,\"\",IF(COUNTIF($O$2:$O$1921,O688+1)>0,\"\",IF(COUNTIF($O$2:O688,O688)>1,\"\",O688+1)))","v":""},{"$f":"IFERROR(SMALL($P$1:$P$1921,687),\"\")","v":""}]
[null,null,null,null,null,null,null,null,null,null,null,null,null,null,{"$f":"IF(689<=$B$10,IF(LEN('２学期'!C25)=0,\"\",IF('２学期'!C25=$B$8,IF(LEN('２学期'!F25)=0,\"\",'２学期'!F25),\"\")),\"\")","v":""},{"$f":"IF(LEN(O689)=0,\"\",IF(COUNTIF($O$2:$O$1921,O689+1)>0,\"\",IF(COUNTIF($O$2:O689,O689)>1,\"\",O689+1)))","v":""},{"$f":"IFERROR(SMALL($P$1:$P$1921,688),\"\")","v":""}]
[null,null,null,null,null,null,null,null,null,null,null,null,null,null,{"$f":"IF(690<=$B$10,IF(LEN('２学期'!G6)=0,\"\",IF('２学期'!G6=$B$8,IF(LEN('２学期'!J6)=0,\"\",'２学期'!J6),\"\")),\"\")","v":""},{"$f":"IF(LEN(O690)=0,\"\",IF(COUNTIF($O$2:$O$1921,O690+1)>0,\"\",IF(COUNTIF($O$2:O690,O690)>1,\"\",O690+1)))","v":""},{"$f":"IFERROR(SMALL($P$1:$P$1921,689),\"\")","v":""}]
[null,null,null,null,null,null,null,null,null,null,null,null,null,null,{"$f":"IF(691<=$B$10,IF(LEN('２学期'!G7)=0,\"\",IF('２学期'!G7=$B$8,IF(LEN('２学期'!J7)=0,\"\",'２学期'!J7),\"\")),\"\")","v":""},{"$f":"IF(LEN(O691)=0,\"\",IF(COUNTIF($O$2:$O$1921,O691+1)>0,\"\",IF(COUNTIF($O$2:O691,O691)>1,\"\",O691+1)))","v":""},{"$f":"IFERROR(SMALL($P$1:$P$1921,690),\"\")","v":""}]
[null,null,null,null,null,null,null,null,null,null,null,null,null,null,{"$f":"IF(692<=$B$10,IF(LEN('２学期'!G10)=0,\"\",IF('２学期'!G10=$B$8,IF(LEN('２学期'!J10)=0,\"\",'２学期'!J10),\"\")),\"\")","v":""},{"$f":"IF(LEN(O692)=0,\"\",IF(COUNTIF($O$2:$O$1921,O692+1)>0,\"\",IF(COUNTIF($O$2:O692,O692)>1,\"\",O692+1)))","v":""},{"$f":"IFERROR(SMALL($P$1:$P$1921,691),\"\")","v":""}]
[null,null,null,null,null,null,null,null,null,null,null,null,null,null,{"$f":"IF(693<=$B$10,IF(LEN('２学期'!G13)=0,\"\",IF('２学期'!G13=$B$8,IF(LEN('２学期'!J13)=0,\"\",'２学期'!J13),\"\")),\"\")","v":""},{"$f":"IF(LEN(O693)=0,\"\",IF(COUNTIF($O$2:$O$1921,O693+1)>0,\"\",IF(COUNTIF($O$2:O693,O693)>1,\"\",O693+1)))","v":""},{"$f":"IFERROR(SMALL($P$1:$P$1921,692),\"\")","v":""}]
[null,null,null,null,null,null,null,null,null,null,null,null,null,null,{"$f":"IF(694<=$B$10,IF(LEN('２学期'!G16)=0,\"\",IF('２学期'!G16=$B$8,IF(LEN('２学期'!J16)=0,\"\",'２学期'!J16),\"\")),\"\")","v":""},{"$f":"IF(LEN(O694)=0,\"\",IF(COUNTIF($O$2:$O$1921,O694+1)>0,\"\",IF(COUNTIF($O$2:O694,O694)>1,\"\",O694+1)))","v":""},{"$f":"IFERROR(SMALL($P$1:$P$1921,693),\"\")","v":""}]
[null,null,null,null,null,null,null,null,null,null,null,null,null,null,{"$f":"IF(695<=$B$10,IF(LEN('２学期'!G19)=0,\"\",IF('２学期'!G19=$B$8,IF(LEN('２学期'!J19)=0,\"\",'２学期'!J19),\"\")),\"\")","v":""},{"$f":"IF(LEN(O695)=0,\"\",IF(COUNTIF($O$2:$O$1921,O695+1)>0,\"\",IF(COUNTIF($O$2:O695,O695)>1,\"\",O695+1)))","v":""},{"$f":"IFERROR(SMALL($P$1:$P$1921,694),\"\")","v":""}]
[null,null,null,null,null,null,null,null,null,null,null,null,null,null,{"$f":"IF(696<=$B$10,IF(LEN('２学期'!G22)=0,\"\",IF('２学期'!G22=$B$8,IF(LEN('２学期'!J22)=0,\"\",'２学期'!J22),\"\")),\"\")","v":""},{"$f":"IF(LEN(O696)=0,\"\",IF(COUNTIF($O$2:$O$1921,O696+1)>0,\"\",IF(COUNTIF($O$2:O696,O696)>1,\"\",O696+1)))","v":""},{"$f":"IFERROR(SMALL($P$1:$P$1921,695),\"\")","v":""}]
[null,null,null,null,null,null,null,null,null,null,null,null,null,null,{"$f":"IF(697<=$B$10,IF(LEN('２学期'!G25)=0,\"\",IF('２学期'!G25=$B$8,IF(LEN('２学期'!J25)=0,\"\",'２学期'!J25),\"\")),\"\")","v":""},{"$f":"IF(LEN(O697)=0,\"\",IF(COUNTIF($O$2:$O$1921,O697+1)>0,\"\",IF(COUNTIF($O$2:O697,O697)>1,\"\",O697+1)))","v":""},{"$f":"IFERROR(SMALL($P$1:$P$1921,696),\"\")","v":""}]
[null,null,null,null,null,null,null,null,null,null,null,null,null,null,{"$f":"IF(698<=$B$10,IF(LEN('２学期'!K6)=0,\"\",IF('２学期'!K6=$B$8,IF(LEN('２学期'!N6)=0,\"\",'２学期'!N6),\"\")),\"\")","v":""},{"$f":"IF(LEN(O698)=0,\"\",IF(COUNTIF($O$2:$O$1921,O698+1)>0,\"\",IF(COUNTIF($O$2:O698,O698)>1,\"\",O698+1)))","v":""},{"$f":"IFERROR(SMALL($P$1:$P$1921,697),\"\")","v":""}]
[null,null,null,null,null,null,null,null,null,null,null,null,null,null,{"$f":"IF(699<=$B$10,IF(LEN('２学期'!K7)=0,\"\",IF('２学期'!K7=$B$8,IF(LEN('２学期'!N7)=0,\"\",'２学期'!N7),\"\")),\"\")","v":""},{"$f":"IF(LEN(O699)=0,\"\",IF(COUNTIF($O$2:$O$1921,O699+1)>0,\"\",IF(COUNTIF($O$2:O699,O699)>1,\"\",O699+1)))","v":""},{"$f":"IFERROR(SMALL($P$1:$P$1921,698),\"\")","v":""}]
[null,null,null,null,null,null,null,null,null,null,null,null,null,null,{"$f":"IF(700<=$B$10,IF(LEN('２学期'!K10)=0,\"\",IF('２学期'!K10=$B$8,IF(LEN('２学期'!N10)=0,\"\",'２学期'!N10),\"\")),\"\")","v":""},{"$f":"IF(LEN(O700)=0,\"\",IF(COUNTIF($O$2:$O$1921,O700+1)>0,\"\",IF(COUNTIF($O$2:O700,O700)>1,\"\",O700+1)))","v":""},{"$f":"IFERROR(SMALL($P$1:$P$1921,699),\"\")","v":""}]
[null,null,null,null,null,null,null,null,null,null,null,null,null,null,{"$f":"IF(701<=$B$10,IF(LEN('２学期'!K13)=0,\"\",IF('２学期'!K13=$B$8,IF(LEN('２学期'!N13)=0,\"\",'２学期'!N13),\"\")),\"\")","v":""},{"$f":"IF(LEN(O701)=0,\"\",IF(COUNTIF($O$2:$O$1921,O701+1)>0,\"\",IF(COUNTIF($O$2:O701,O701)>1,\"\",O701+1)))","v":""},{"$f":"IFERROR(SMALL($P$1:$P$1921,700),\"\")","v":""}]
[null,null,null,null,null,null,null,null,null,null,null,null,null,null,{"$f":"IF(702<=$B$10,IF(LEN('２学期'!K16)=0,\"\",IF('２学期'!K16=$B$8,IF(LEN('２学期'!N16)=0,\"\",'２学期'!N16),\"\")),\"\")","v":""},{"$f":"IF(LEN(O702)=0,\"\",IF(COUNTIF($O$2:$O$1921,O702+1)>0,\"\",IF(COUNTIF($O$2:O702,O702)>1,\"\",O702+1)))","v":""},{"$f":"IFERROR(SMALL($P$1:$P$1921,701),\"\")","v":""}]
[null,null,null,null,null,null,null,null,null,null,null,null,null,null,{"$f":"IF(703<=$B$10,IF(LEN('２学期'!K19)=0,\"\",IF('２学期'!K19=$B$8,IF(LEN('２学期'!N19)=0,\"\",'２学期'!N19),\"\")),\"\")","v":""},{"$f":"IF(LEN(O703)=0,\"\",IF(COUNTIF($O$2:$O$1921,O703+1)>0,\"\",IF(COUNTIF($O$2:O703,O703)>1,\"\",O703+1)))","v":""},{"$f":"IFERROR(SMALL($P$1:$P$1921,702),\"\")","v":""}]
[null,null,null,null,null,null,null,null,null,null,null,null,null,null,{"$f":"IF(704<=$B$10,IF(LEN('２学期'!K22)=0,\"\",IF('２学期'!K22=$B$8,IF(LEN('２学期'!N22)=0,\"\",'２学期'!N22),\"\")),\"\")","v":""},{"$f":"IF(LEN(O704)=0,\"\",IF(COUNTIF($O$2:$O$1921,O704+1)>0,\"\",IF(COUNTIF($O$2:O704,O704)>1,\"\",O704+1)))","v":""},{"$f":"IFERROR(SMALL($P$1:$P$1921,703),\"\")","v":""}]
[null,null,null,null,null,null,null,null,null,null,null,null,null,null,{"$f":"IF(705<=$B$10,IF(LEN('２学期'!K25)=0,\"\",IF('２学期'!K25=$B$8,IF(LEN('２学期'!N25)=0,\"\",'２学期'!N25),\"\")),\"\")","v":""},{"$f":"IF(LEN(O705)=0,\"\",IF(COUNTIF($O$2:$O$1921,O705+1)>0,\"\",IF(COUNTIF($O$2:O705,O705)>1,\"\",O705+1)))","v":""},{"$f":"IFERROR(SMALL($P$1:$P$1921,704),\"\")","v":""}]
[null,null,null,null,null,null,null,null,null,null,null,null,null,null,{"$f":"IF(706<=$B$10,IF(LEN('２学期'!O6)=0,\"\",IF('２学期'!O6=$B$8,IF(LEN('２学期'!R6)=0,\"\",'２学期'!R6),\"\")),\"\")","v":""},{"$f":"IF(LEN(O706)=0,\"\",IF(COUNTIF($O$2:$O$1921,O706+1)>0,\"\",IF(COUNTIF($O$2:O706,O706)>1,\"\",O706+1)))","v":""},{"$f":"IFERROR(SMALL($P$1:$P$1921,705),\"\")","v":""}]
[null,null,null,null,null,null,null,null,null,null,null,null,null,null,{"$f":"IF(707<=$B$10,IF(LEN('２学期'!O7)=0,\"\",IF('２学期'!O7=$B$8,IF(LEN('２学期'!R7)=0,\"\",'２学期'!R7),\"\")),\"\")","v":""},{"$f":"IF(LEN(O707)=0,\"\",IF(COUNTIF($O$2:$O$1921,O707+1)>0,\"\",IF(COUNTIF($O$2:O707,O707)>1,\"\",O707+1)))","v":""},{"$f":"IFERROR(SMALL($P$1:$P$1921,706),\"\")","v":""}]
[null,null,null,null,null,null,null,null,null,null,null,null,null,null,{"$f":"IF(708<=$B$10,IF(LEN('２学期'!O10)=0,\"\",IF('２学期'!O10=$B$8,IF(LEN('２学期'!R10)=0,\"\",'２学期'!R10),\"\")),\"\")","v":""},{"$f":"IF(LEN(O708)=0,\"\",IF(COUNTIF($O$2:$O$1921,O708+1)>0,\"\",IF(COUNTIF($O$2:O708,O708)>1,\"\",O708+1)))","v":""},{"$f":"IFERROR(SMALL($P$1:$P$1921,707),\"\")","v":""}]
[null,null,null,null,null,null,null,null,null,null,null,null,null,null,{"$f":"IF(709<=$B$10,IF(LEN('２学期'!O13)=0,\"\",IF('２学期'!O13=$B$8,IF(LEN('２学期'!R13)=0,\"\",'２学期'!R13),\"\")),\"\")","v":""},{"$f":"IF(LEN(O709)=0,\"\",IF(COUNTIF($O$2:$O$1921,O709+1)>0,\"\",IF(COUNTIF($O$2:O709,O709)>1,\"\",O709+1)))","v":""},{"$f":"IFERROR(SMALL($P$1:$P$1921,708),\"\")","v":""}]
[null,null,null,null,null,null,null,null,null,null,null,null,null,null,{"$f":"IF(710<=$B$10,IF(LEN('２学期'!O16)=0,\"\",IF('２学期'!O16=$B$8,IF(LEN('２学期'!R16)=0,\"\",'２学期'!R16),\"\")),\"\")","v":""},{"$f":"IF(LEN(O710)=0,\"\",IF(COUNTIF($O$2:$O$1921,O710+1)>0,\"\",IF(COUNTIF($O$2:O710,O710)>1,\"\",O710+1)))","v":""},{"$f":"IFERROR(SMALL($P$1:$P$1921,709),\"\")","v":""}]
[null,null,null,null,null,null,null,null,null,null,null,null,null,null,{"$f":"IF(711<=$B$10,IF(LEN('２学期'!O19)=0,\"\",IF('２学期'!O19=$B$8,IF(LEN('２学期'!R19)=0,\"\",'２学期'!R19),\"\")),\"\")","v":""},{"$f":"IF(LEN(O711)=0,\"\",IF(COUNTIF($O$2:$O$1921,O711+1)>0,\"\",IF(COUNTIF($O$2:O711,O711)>1,\"\",O711+1)))","v":""},{"$f":"IFERROR(SMALL($P$1:$P$1921,710),\"\")","v":""}]
[null,null,null,null,null,null,null,null,null,null,null,null,null,null,{"$f":"IF(712<=$B$10,IF(LEN('２学期'!O22)=0,\"\",IF('２学期'!O22=$B$8,IF(LEN('２学期'!R22)=0,\"\",'２学期'!R22),\"\")),\"\")","v":""},{"$f":"IF(LEN(O712)=0,\"\",IF(COUNTIF($O$2:$O$1921,O712+1)>0,\"\",IF(COUNTIF($O$2:O712,O712)>1,\"\",O712+1)))","v":""},{"$f":"IFERROR(SMALL($P$1:$P$1921,711),\"\")","v":""}]
[null,null,null,null,null,null,null,null,null,null,null,null,null,null,{"$f":"IF(713<=$B$10,IF(LEN('２学期'!O25)=0,\"\",IF('２学期'!O25=$B$8,IF(LEN('２学期'!R25)=0,\"\",'２学期'!R25),\"\")),\"\")","v":""},{"$f":"IF(LEN(O713)=0,\"\",IF(COUNTIF($O$2:$O$1921,O713+1)>0,\"\",IF(COUNTIF($O$2:O713,O713)>1,\"\",O713+1)))","v":""},{"$f":"IFERROR(SMALL($P$1:$P$1921,712),\"\")","v":""}]
[null,null,null,null,null,null,null,null,null,null,null,null,null,null,{"$f":"IF(714<=$B$10,IF(LEN('２学期'!S6)=0,\"\",IF('２学期'!S6=$B$8,IF(LEN('２学期'!V6)=0,\"\",'２学期'!V6),\"\")),\"\")","v":""},{"$f":"IF(LEN(O714)=0,\"\",IF(COUNTIF($O$2:$O$1921,O714+1)>0,\"\",IF(COUNTIF($O$2:O714,O714)>1,\"\",O714+1)))","v":""},{"$f":"IFERROR(SMALL($P$1:$P$1921,713),\"\")","v":""}]
[null,null,null,null,null,null,null,null,null,null,null,null,null,null,{"$f":"IF(715<=$B$10,IF(LEN('２学期'!S7)=0,\"\",IF('２学期'!S7=$B$8,IF(LEN('２学期'!V7)=0,\"\",'２学期'!V7),\"\")),\"\")","v":""},{"$f":"IF(LEN(O715)=0,\"\",IF(COUNTIF($O$2:$O$1921,O715+1)>0,\"\",IF(COUNTIF($O$2:O715,O715)>1,\"\",O715+1)))","v":""},{"$f":"IFERROR(SMALL($P$1:$P$1921,714),\"\")","v":""}]
[null,null,null,null,null,null,null,null,null,null,null,null,null,null,{"$f":"IF(716<=$B$10,IF(LEN('２学期'!S10)=0,\"\",IF('２学期'!S10=$B$8,IF(LEN('２学期'!V10)=0,\"\",'２学期'!V10),\"\")),\"\")","v":""},{"$f":"IF(LEN(O716)=0,\"\",IF(COUNTIF($O$2:$O$1921,O716+1)>0,\"\",IF(COUNTIF($O$2:O716,O716)>1,\"\",O716+1)))","v":""},{"$f":"IFERROR(SMALL($P$1:$P$1921,715),\"\")","v":""}]
[null,null,null,null,null,null,null,null,null,null,null,null,null,null,{"$f":"IF(717<=$B$10,IF(LEN('２学期'!S13)=0,\"\",IF('２学期'!S13=$B$8,IF(LEN('２学期'!V13)=0,\"\",'２学期'!V13),\"\")),\"\")","v":""},{"$f":"IF(LEN(O717)=0,\"\",IF(COUNTIF($O$2:$O$1921,O717+1)>0,\"\",IF(COUNTIF($O$2:O717,O717)>1,\"\",O717+1)))","v":""},{"$f":"IFERROR(SMALL($P$1:$P$1921,716),\"\")","v":""}]
[null,null,null,null,null,null,null,null,null,null,null,null,null,null,{"$f":"IF(718<=$B$10,IF(LEN('２学期'!S16)=0,\"\",IF('２学期'!S16=$B$8,IF(LEN('２学期'!V16)=0,\"\",'２学期'!V16),\"\")),\"\")","v":""},{"$f":"IF(LEN(O718)=0,\"\",IF(COUNTIF($O$2:$O$1921,O718+1)>0,\"\",IF(COUNTIF($O$2:O718,O718)>1,\"\",O718+1)))","v":""},{"$f":"IFERROR(SMALL($P$1:$P$1921,717),\"\")","v":""}]
[null,null,null,null,null,null,null,null,null,null,null,null,null,null,{"$f":"IF(719<=$B$10,IF(LEN('２学期'!S19)=0,\"\",IF('２学期'!S19=$B$8,IF(LEN('２学期'!V19)=0,\"\",'２学期'!V19),\"\")),\"\")","v":""},{"$f":"IF(LEN(O719)=0,\"\",IF(COUNTIF($O$2:$O$1921,O719+1)>0,\"\",IF(COUNTIF($O$2:O719,O719)>1,\"\",O719+1)))","v":""},{"$f":"IFERROR(SMALL($P$1:$P$1921,718),\"\")","v":""}]
[null,null,null,null,null,null,null,null,null,null,null,null,null,null,{"$f":"IF(720<=$B$10,IF(LEN('２学期'!S22)=0,\"\",IF('２学期'!S22=$B$8,IF(LEN('２学期'!V22)=0,\"\",'２学期'!V22),\"\")),\"\")","v":""},{"$f":"IF(LEN(O720)=0,\"\",IF(COUNTIF($O$2:$O$1921,O720+1)>0,\"\",IF(COUNTIF($O$2:O720,O720)>1,\"\",O720+1)))","v":""},{"$f":"IFERROR(SMALL($P$1:$P$1921,719),\"\")","v":""}]
[null,null,null,null,null,null,null,null,null,null,null,null,null,null,{"$f":"IF(721<=$B$10,IF(LEN('２学期'!S25)=0,\"\",IF('２学期'!S25=$B$8,IF(LEN('２学期'!V25)=0,\"\",'２学期'!V25),\"\")),\"\")","v":""},{"$f":"IF(LEN(O721)=0,\"\",IF(COUNTIF($O$2:$O$1921,O721+1)>0,\"\",IF(COUNTIF($O$2:O721,O721)>1,\"\",O721+1)))","v":""},{"$f":"IFERROR(SMALL($P$1:$P$1921,720),\"\")","v":""}]
[null,null,null,null,null,null,null,null,null,null,null,null,null,null,{"$f":"IF(722<=$B$10,IF(LEN('２学期'!W6)=0,\"\",IF('２学期'!W6=$B$8,IF(LEN('２学期'!Z6)=0,\"\",'２学期'!Z6),\"\")),\"\")","v":""},{"$f":"IF(LEN(O722)=0,\"\",IF(COUNTIF($O$2:$O$1921,O722+1)>0,\"\",IF(COUNTIF($O$2:O722,O722)>1,\"\",O722+1)))","v":""},{"$f":"IFERROR(SMALL($P$1:$P$1921,721),\"\")","v":""}]
[null,null,null,null,null,null,null,null,null,null,null,null,null,null,{"$f":"IF(723<=$B$10,IF(LEN('２学期'!W7)=0,\"\",IF('２学期'!W7=$B$8,IF(LEN('２学期'!Z7)=0,\"\",'２学期'!Z7),\"\")),\"\")","v":""},{"$f":"IF(LEN(O723)=0,\"\",IF(COUNTIF($O$2:$O$1921,O723+1)>0,\"\",IF(COUNTIF($O$2:O723,O723)>1,\"\",O723+1)))","v":""},{"$f":"IFERROR(SMALL($P$1:$P$1921,722),\"\")","v":""}]
[null,null,null,null,null,null,null,null,null,null,null,null,null,null,{"$f":"IF(724<=$B$10,IF(LEN('２学期'!W10)=0,\"\",IF('２学期'!W10=$B$8,IF(LEN('２学期'!Z10)=0,\"\",'２学期'!Z10),\"\")),\"\")","v":""},{"$f":"IF(LEN(O724)=0,\"\",IF(COUNTIF($O$2:$O$1921,O724+1)>0,\"\",IF(COUNTIF($O$2:O724,O724)>1,\"\",O724+1)))","v":""},{"$f":"IFERROR(SMALL($P$1:$P$1921,723),\"\")","v":""}]
[null,null,null,null,null,null,null,null,null,null,null,null,null,null,{"$f":"IF(725<=$B$10,IF(LEN('２学期'!W13)=0,\"\",IF('２学期'!W13=$B$8,IF(LEN('２学期'!Z13)=0,\"\",'２学期'!Z13),\"\")),\"\")","v":""},{"$f":"IF(LEN(O725)=0,\"\",IF(COUNTIF($O$2:$O$1921,O725+1)>0,\"\",IF(COUNTIF($O$2:O725,O725)>1,\"\",O725+1)))","v":""},{"$f":"IFERROR(SMALL($P$1:$P$1921,724),\"\")","v":""}]
[null,null,null,null,null,null,null,null,null,null,null,null,null,null,{"$f":"IF(726<=$B$10,IF(LEN('２学期'!W16)=0,\"\",IF('２学期'!W16=$B$8,IF(LEN('２学期'!Z16)=0,\"\",'２学期'!Z16),\"\")),\"\")","v":""},{"$f":"IF(LEN(O726)=0,\"\",IF(COUNTIF($O$2:$O$1921,O726+1)>0,\"\",IF(COUNTIF($O$2:O726,O726)>1,\"\",O726+1)))","v":""},{"$f":"IFERROR(SMALL($P$1:$P$1921,725),\"\")","v":""}]
[null,null,null,null,null,null,null,null,null,null,null,null,null,null,{"$f":"IF(727<=$B$10,IF(LEN('２学期'!W19)=0,\"\",IF('２学期'!W19=$B$8,IF(LEN('２学期'!Z19)=0,\"\",'２学期'!Z19),\"\")),\"\")","v":""},{"$f":"IF(LEN(O727)=0,\"\",IF(COUNTIF($O$2:$O$1921,O727+1)>0,\"\",IF(COUNTIF($O$2:O727,O727)>1,\"\",O727+1)))","v":""},{"$f":"IFERROR(SMALL($P$1:$P$1921,726),\"\")","v":""}]
[null,null,null,null,null,null,null,null,null,null,null,null,null,null,{"$f":"IF(728<=$B$10,IF(LEN('２学期'!W22)=0,\"\",IF('２学期'!W22=$B$8,IF(LEN('２学期'!Z22)=0,\"\",'２学期'!Z22),\"\")),\"\")","v":""},{"$f":"IF(LEN(O728)=0,\"\",IF(COUNTIF($O$2:$O$1921,O728+1)>0,\"\",IF(COUNTIF($O$2:O728,O728)>1,\"\",O728+1)))","v":""},{"$f":"IFERROR(SMALL($P$1:$P$1921,727),\"\")","v":""}]
[null,null,null,null,null,null,null,null,null,null,null,null,null,null,{"$f":"IF(729<=$B$10,IF(LEN('２学期'!W25)=0,\"\",IF('２学期'!W25=$B$8,IF(LEN('２学期'!Z25)=0,\"\",'２学期'!Z25),\"\")),\"\")","v":""},{"$f":"IF(LEN(O729)=0,\"\",IF(COUNTIF($O$2:$O$1921,O729+1)>0,\"\",IF(COUNTIF($O$2:O729,O729)>1,\"\",O729+1)))","v":""},{"$f":"IFERROR(SMALL($P$1:$P$1921,728),\"\")","v":""}]
[null,null,null,null,null,null,null,null,null,null,null,null,null,null,{"$f":"IF(730<=$B$10,IF(LEN('２学期'!AA6)=0,\"\",IF('２学期'!AA6=$B$8,IF(LEN('２学期'!AD6)=0,\"\",'２学期'!AD6),\"\")),\"\")","v":""},{"$f":"IF(LEN(O730)=0,\"\",IF(COUNTIF($O$2:$O$1921,O730+1)>0,\"\",IF(COUNTIF($O$2:O730,O730)>1,\"\",O730+1)))","v":""},{"$f":"IFERROR(SMALL($P$1:$P$1921,729),\"\")","v":""}]
[null,null,null,null,null,null,null,null,null,null,null,null,null,null,{"$f":"IF(731<=$B$10,IF(LEN('２学期'!AA7)=0,\"\",IF('２学期'!AA7=$B$8,IF(LEN('２学期'!AD7)=0,\"\",'２学期'!AD7),\"\")),\"\")","v":""},{"$f":"IF(LEN(O731)=0,\"\",IF(COUNTIF($O$2:$O$1921,O731+1)>0,\"\",IF(COUNTIF($O$2:O731,O731)>1,\"\",O731+1)))","v":""},{"$f":"IFERROR(SMALL($P$1:$P$1921,730),\"\")","v":""}]
[null,null,null,null,null,null,null,null,null,null,null,null,null,null,{"$f":"IF(732<=$B$10,IF(LEN('２学期'!AA10)=0,\"\",IF('２学期'!AA10=$B$8,IF(LEN('２学期'!AD10)=0,\"\",'２学期'!AD10),\"\")),\"\")","v":""},{"$f":"IF(LEN(O732)=0,\"\",IF(COUNTIF($O$2:$O$1921,O732+1)>0,\"\",IF(COUNTIF($O$2:O732,O732)>1,\"\",O732+1)))","v":""},{"$f":"IFERROR(SMALL($P$1:$P$1921,731),\"\")","v":""}]
[null,null,null,null,null,null,null,null,null,null,null,null,null,null,{"$f":"IF(733<=$B$10,IF(LEN('２学期'!AA13)=0,\"\",IF('２学期'!AA13=$B$8,IF(LEN('２学期'!AD13)=0,\"\",'２学期'!AD13),\"\")),\"\")","v":""},{"$f":"IF(LEN(O733)=0,\"\",IF(COUNTIF($O$2:$O$1921,O733+1)>0,\"\",IF(COUNTIF($O$2:O733,O733)>1,\"\",O733+1)))","v":""},{"$f":"IFERROR(SMALL($P$1:$P$1921,732),\"\")","v":""}]
[null,null,null,null,null,null,null,null,null,null,null,null,null,null,{"$f":"IF(734<=$B$10,IF(LEN('２学期'!AA16)=0,\"\",IF('２学期'!AA16=$B$8,IF(LEN('２学期'!AD16)=0,\"\",'２学期'!AD16),\"\")),\"\")","v":""},{"$f":"IF(LEN(O734)=0,\"\",IF(COUNTIF($O$2:$O$1921,O734+1)>0,\"\",IF(COUNTIF($O$2:O734,O734)>1,\"\",O734+1)))","v":""},{"$f":"IFERROR(SMALL($P$1:$P$1921,733),\"\")","v":""}]
[null,null,null,null,null,null,null,null,null,null,null,null,null,null,{"$f":"IF(735<=$B$10,IF(LEN('２学期'!AA19)=0,\"\",IF('２学期'!AA19=$B$8,IF(LEN('２学期'!AD19)=0,\"\",'２学期'!AD19),\"\")),\"\")","v":""},{"$f":"IF(LEN(O735)=0,\"\",IF(COUNTIF($O$2:$O$1921,O735+1)>0,\"\",IF(COUNTIF($O$2:O735,O735)>1,\"\",O735+1)))","v":""},{"$f":"IFERROR(SMALL($P$1:$P$1921,734),\"\")","v":""}]
[null,null,null,null,null,null,null,null,null,null,null,null,null,null,{"$f":"IF(736<=$B$10,IF(LEN('２学期'!AA22)=0,\"\",IF('２学期'!AA22=$B$8,IF(LEN('２学期'!AD22)=0,\"\",'２学期'!AD22),\"\")),\"\")","v":""},{"$f":"IF(LEN(O736)=0,\"\",IF(COUNTIF($O$2:$O$1921,O736+1)>0,\"\",IF(COUNTIF($O$2:O736,O736)>1,\"\",O736+1)))","v":""},{"$f":"IFERROR(SMALL($P$1:$P$1921,735),\"\")","v":""}]
[null,null,null,null,null,null,null,null,null,null,null,null,null,null,{"$f":"IF(737<=$B$10,IF(LEN('２学期'!AA25)=0,\"\",IF('２学期'!AA25=$B$8,IF(LEN('２学期'!AD25)=0,\"\",'２学期'!AD25),\"\")),\"\")","v":""},{"$f":"IF(LEN(O737)=0,\"\",IF(COUNTIF($O$2:$O$1921,O737+1)>0,\"\",IF(COUNTIF($O$2:O737,O737)>1,\"\",O737+1)))","v":""},{"$f":"IFERROR(SMALL($P$1:$P$1921,736),\"\")","v":""}]
[null,null,null,null,null,null,null,null,null,null,null,null,null,null,{"$f":"IF(738<=$B$10,IF(LEN('２学期'!AE6)=0,\"\",IF('２学期'!AE6=$B$8,IF(LEN('２学期'!AH6)=0,\"\",'２学期'!AH6),\"\")),\"\")","v":""},{"$f":"IF(LEN(O738)=0,\"\",IF(COUNTIF($O$2:$O$1921,O738+1)>0,\"\",IF(COUNTIF($O$2:O738,O738)>1,\"\",O738+1)))","v":""},{"$f":"IFERROR(SMALL($P$1:$P$1921,737),\"\")","v":""}]
[null,null,null,null,null,null,null,null,null,null,null,null,null,null,{"$f":"IF(739<=$B$10,IF(LEN('２学期'!AE7)=0,\"\",IF('２学期'!AE7=$B$8,IF(LEN('２学期'!AH7)=0,\"\",'２学期'!AH7),\"\")),\"\")","v":""},{"$f":"IF(LEN(O739)=0,\"\",IF(COUNTIF($O$2:$O$1921,O739+1)>0,\"\",IF(COUNTIF($O$2:O739,O739)>1,\"\",O739+1)))","v":""},{"$f":"IFERROR(SMALL($P$1:$P$1921,738),\"\")","v":""}]
[null,null,null,null,null,null,null,null,null,null,null,null,null,null,{"$f":"IF(740<=$B$10,IF(LEN('２学期'!AE10)=0,\"\",IF('２学期'!AE10=$B$8,IF(LEN('２学期'!AH10)=0,\"\",'２学期'!AH10),\"\")),\"\")","v":""},{"$f":"IF(LEN(O740)=0,\"\",IF(COUNTIF($O$2:$O$1921,O740+1)>0,\"\",IF(COUNTIF($O$2:O740,O740)>1,\"\",O740+1)))","v":""},{"$f":"IFERROR(SMALL($P$1:$P$1921,739),\"\")","v":""}]
[null,null,null,null,null,null,null,null,null,null,null,null,null,null,{"$f":"IF(741<=$B$10,IF(LEN('２学期'!AE13)=0,\"\",IF('２学期'!AE13=$B$8,IF(LEN('２学期'!AH13)=0,\"\",'２学期'!AH13),\"\")),\"\")","v":""},{"$f":"IF(LEN(O741)=0,\"\",IF(COUNTIF($O$2:$O$1921,O741+1)>0,\"\",IF(COUNTIF($O$2:O741,O741)>1,\"\",O741+1)))","v":""},{"$f":"IFERROR(SMALL($P$1:$P$1921,740),\"\")","v":""}]
[null,null,null,null,null,null,null,null,null,null,null,null,null,null,{"$f":"IF(742<=$B$10,IF(LEN('２学期'!AE16)=0,\"\",IF('２学期'!AE16=$B$8,IF(LEN('２学期'!AH16)=0,\"\",'２学期'!AH16),\"\")),\"\")","v":""},{"$f":"IF(LEN(O742)=0,\"\",IF(COUNTIF($O$2:$O$1921,O742+1)>0,\"\",IF(COUNTIF($O$2:O742,O742)>1,\"\",O742+1)))","v":""},{"$f":"IFERROR(SMALL($P$1:$P$1921,741),\"\")","v":""}]
[null,null,null,null,null,null,null,null,null,null,null,null,null,null,{"$f":"IF(743<=$B$10,IF(LEN('２学期'!AE19)=0,\"\",IF('２学期'!AE19=$B$8,IF(LEN('２学期'!AH19)=0,\"\",'２学期'!AH19),\"\")),\"\")","v":""},{"$f":"IF(LEN(O743)=0,\"\",IF(COUNTIF($O$2:$O$1921,O743+1)>0,\"\",IF(COUNTIF($O$2:O743,O743)>1,\"\",O743+1)))","v":""},{"$f":"IFERROR(SMALL($P$1:$P$1921,742),\"\")","v":""}]
[null,null,null,null,null,null,null,null,null,null,null,null,null,null,{"$f":"IF(744<=$B$10,IF(LEN('２学期'!AE22)=0,\"\",IF('２学期'!AE22=$B$8,IF(LEN('２学期'!AH22)=0,\"\",'２学期'!AH22),\"\")),\"\")","v":""},{"$f":"IF(LEN(O744)=0,\"\",IF(COUNTIF($O$2:$O$1921,O744+1)>0,\"\",IF(COUNTIF($O$2:O744,O744)>1,\"\",O744+1)))","v":""},{"$f":"IFERROR(SMALL($P$1:$P$1921,743),\"\")","v":""}]
[null,null,null,null,null,null,null,null,null,null,null,null,null,null,{"$f":"IF(745<=$B$10,IF(LEN('２学期'!AE25)=0,\"\",IF('２学期'!AE25=$B$8,IF(LEN('２学期'!AH25)=0,\"\",'２学期'!AH25),\"\")),\"\")","v":""},{"$f":"IF(LEN(O745)=0,\"\",IF(COUNTIF($O$2:$O$1921,O745+1)>0,\"\",IF(COUNTIF($O$2:O745,O745)>1,\"\",O745+1)))","v":""},{"$f":"IFERROR(SMALL($P$1:$P$1921,744),\"\")","v":""}]
[null,null,null,null,null,null,null,null,null,null,null,null,null,null,{"$f":"IF(746<=$B$10,IF(LEN('２学期'!AI6)=0,\"\",IF('２学期'!AI6=$B$8,IF(LEN('２学期'!AL6)=0,\"\",'２学期'!AL6),\"\")),\"\")","v":""},{"$f":"IF(LEN(O746)=0,\"\",IF(COUNTIF($O$2:$O$1921,O746+1)>0,\"\",IF(COUNTIF($O$2:O746,O746)>1,\"\",O746+1)))","v":""},{"$f":"IFERROR(SMALL($P$1:$P$1921,745),\"\")","v":""}]
[null,null,null,null,null,null,null,null,null,null,null,null,null,null,{"$f":"IF(747<=$B$10,IF(LEN('２学期'!AI7)=0,\"\",IF('２学期'!AI7=$B$8,IF(LEN('２学期'!AL7)=0,\"\",'２学期'!AL7),\"\")),\"\")","v":""},{"$f":"IF(LEN(O747)=0,\"\",IF(COUNTIF($O$2:$O$1921,O747+1)>0,\"\",IF(COUNTIF($O$2:O747,O747)>1,\"\",O747+1)))","v":""},{"$f":"IFERROR(SMALL($P$1:$P$1921,746),\"\")","v":""}]
[null,null,null,null,null,null,null,null,null,null,null,null,null,null,{"$f":"IF(748<=$B$10,IF(LEN('２学期'!AI10)=0,\"\",IF('２学期'!AI10=$B$8,IF(LEN('２学期'!AL10)=0,\"\",'２学期'!AL10),\"\")),\"\")","v":""},{"$f":"IF(LEN(O748)=0,\"\",IF(COUNTIF($O$2:$O$1921,O748+1)>0,\"\",IF(COUNTIF($O$2:O748,O748)>1,\"\",O748+1)))","v":""},{"$f":"IFERROR(SMALL($P$1:$P$1921,747),\"\")","v":""}]
[null,null,null,null,null,null,null,null,null,null,null,null,null,null,{"$f":"IF(749<=$B$10,IF(LEN('２学期'!AI13)=0,\"\",IF('２学期'!AI13=$B$8,IF(LEN('２学期'!AL13)=0,\"\",'２学期'!AL13),\"\")),\"\")","v":""},{"$f":"IF(LEN(O749)=0,\"\",IF(COUNTIF($O$2:$O$1921,O749+1)>0,\"\",IF(COUNTIF($O$2:O749,O749)>1,\"\",O749+1)))","v":""},{"$f":"IFERROR(SMALL($P$1:$P$1921,748),\"\")","v":""}]
[null,null,null,null,null,null,null,null,null,null,null,null,null,null,{"$f":"IF(750<=$B$10,IF(LEN('２学期'!AI16)=0,\"\",IF('２学期'!AI16=$B$8,IF(LEN('２学期'!AL16)=0,\"\",'２学期'!AL16),\"\")),\"\")","v":""},{"$f":"IF(LEN(O750)=0,\"\",IF(COUNTIF($O$2:$O$1921,O750+1)>0,\"\",IF(COUNTIF($O$2:O750,O750)>1,\"\",O750+1)))","v":""},{"$f":"IFERROR(SMALL($P$1:$P$1921,749),\"\")","v":""}]
[null,null,null,null,null,null,null,null,null,null,null,null,null,null,{"$f":"IF(751<=$B$10,IF(LEN('２学期'!AI19)=0,\"\",IF('２学期'!AI19=$B$8,IF(LEN('２学期'!AL19)=0,\"\",'２学期'!AL19),\"\")),\"\")","v":""},{"$f":"IF(LEN(O751)=0,\"\",IF(COUNTIF($O$2:$O$1921,O751+1)>0,\"\",IF(COUNTIF($O$2:O751,O751)>1,\"\",O751+1)))","v":""},{"$f":"IFERROR(SMALL($P$1:$P$1921,750),\"\")","v":""}]
[null,null,null,null,null,null,null,null,null,null,null,null,null,null,{"$f":"IF(752<=$B$10,IF(LEN('２学期'!AI22)=0,\"\",IF('２学期'!AI22=$B$8,IF(LEN('２学期'!AL22)=0,\"\",'２学期'!AL22),\"\")),\"\")","v":""},{"$f":"IF(LEN(O752)=0,\"\",IF(COUNTIF($O$2:$O$1921,O752+1)>0,\"\",IF(COUNTIF($O$2:O752,O752)>1,\"\",O752+1)))","v":""},{"$f":"IFERROR(SMALL($P$1:$P$1921,751),\"\")","v":""}]
[null,null,null,null,null,null,null,null,null,null,null,null,null,null,{"$f":"IF(753<=$B$10,IF(LEN('２学期'!AI25)=0,\"\",IF('２学期'!AI25=$B$8,IF(LEN('２学期'!AL25)=0,\"\",'２学期'!AL25),\"\")),\"\")","v":""},{"$f":"IF(LEN(O753)=0,\"\",IF(COUNTIF($O$2:$O$1921,O753+1)>0,\"\",IF(COUNTIF($O$2:O753,O753)>1,\"\",O753+1)))","v":""},{"$f":"IFERROR(SMALL($P$1:$P$1921,752),\"\")","v":""}]
[null,null,null,null,null,null,null,null,null,null,null,null,null,null,{"$f":"IF(754<=$B$10,IF(LEN('２学期'!AM6)=0,\"\",IF('２学期'!AM6=$B$8,IF(LEN('２学期'!AP6)=0,\"\",'２学期'!AP6),\"\")),\"\")","v":""},{"$f":"IF(LEN(O754)=0,\"\",IF(COUNTIF($O$2:$O$1921,O754+1)>0,\"\",IF(COUNTIF($O$2:O754,O754)>1,\"\",O754+1)))","v":""},{"$f":"IFERROR(SMALL($P$1:$P$1921,753),\"\")","v":""}]
[null,null,null,null,null,null,null,null,null,null,null,null,null,null,{"$f":"IF(755<=$B$10,IF(LEN('２学期'!AM7)=0,\"\",IF('２学期'!AM7=$B$8,IF(LEN('２学期'!AP7)=0,\"\",'２学期'!AP7),\"\")),\"\")","v":""},{"$f":"IF(LEN(O755)=0,\"\",IF(COUNTIF($O$2:$O$1921,O755+1)>0,\"\",IF(COUNTIF($O$2:O755,O755)>1,\"\",O755+1)))","v":""},{"$f":"IFERROR(SMALL($P$1:$P$1921,754),\"\")","v":""}]
[null,null,null,null,null,null,null,null,null,null,null,null,null,null,{"$f":"IF(756<=$B$10,IF(LEN('２学期'!AM10)=0,\"\",IF('２学期'!AM10=$B$8,IF(LEN('２学期'!AP10)=0,\"\",'２学期'!AP10),\"\")),\"\")","v":""},{"$f":"IF(LEN(O756)=0,\"\",IF(COUNTIF($O$2:$O$1921,O756+1)>0,\"\",IF(COUNTIF($O$2:O756,O756)>1,\"\",O756+1)))","v":""},{"$f":"IFERROR(SMALL($P$1:$P$1921,755),\"\")","v":""}]
[null,null,null,null,null,null,null,null,null,null,null,null,null,null,{"$f":"IF(757<=$B$10,IF(LEN('２学期'!AM13)=0,\"\",IF('２学期'!AM13=$B$8,IF(LEN('２学期'!AP13)=0,\"\",'２学期'!AP13),\"\")),\"\")","v":""},{"$f":"IF(LEN(O757)=0,\"\",IF(COUNTIF($O$2:$O$1921,O757+1)>0,\"\",IF(COUNTIF($O$2:O757,O757)>1,\"\",O757+1)))","v":""},{"$f":"IFERROR(SMALL($P$1:$P$1921,756),\"\")","v":""}]
[null,null,null,null,null,null,null,null,null,null,null,null,null,null,{"$f":"IF(758<=$B$10,IF(LEN('２学期'!AM16)=0,\"\",IF('２学期'!AM16=$B$8,IF(LEN('２学期'!AP16)=0,\"\",'２学期'!AP16),\"\")),\"\")","v":""},{"$f":"IF(LEN(O758)=0,\"\",IF(COUNTIF($O$2:$O$1921,O758+1)>0,\"\",IF(COUNTIF($O$2:O758,O758)>1,\"\",O758+1)))","v":""},{"$f":"IFERROR(SMALL($P$1:$P$1921,757),\"\")","v":""}]
[null,null,null,null,null,null,null,null,null,null,null,null,null,null,{"$f":"IF(759<=$B$10,IF(LEN('２学期'!AM19)=0,\"\",IF('２学期'!AM19=$B$8,IF(LEN('２学期'!AP19)=0,\"\",'２学期'!AP19),\"\")),\"\")","v":""},{"$f":"IF(LEN(O759)=0,\"\",IF(COUNTIF($O$2:$O$1921,O759+1)>0,\"\",IF(COUNTIF($O$2:O759,O759)>1,\"\",O759+1)))","v":""},{"$f":"IFERROR(SMALL($P$1:$P$1921,758),\"\")","v":""}]
[null,null,null,null,null,null,null,null,null,null,null,null,null,null,{"$f":"IF(760<=$B$10,IF(LEN('２学期'!AM22)=0,\"\",IF('２学期'!AM22=$B$8,IF(LEN('２学期'!AP22)=0,\"\",'２学期'!AP22),\"\")),\"\")","v":""},{"$f":"IF(LEN(O760)=0,\"\",IF(COUNTIF($O$2:$O$1921,O760+1)>0,\"\",IF(COUNTIF($O$2:O760,O760)>1,\"\",O760+1)))","v":""},{"$f":"IFERROR(SMALL($P$1:$P$1921,759),\"\")","v":""}]
[null,null,null,null,null,null,null,null,null,null,null,null,null,null,{"$f":"IF(761<=$B$10,IF(LEN('２学期'!AM25)=0,\"\",IF('２学期'!AM25=$B$8,IF(LEN('２学期'!AP25)=0,\"\",'２学期'!AP25),\"\")),\"\")","v":""},{"$f":"IF(LEN(O761)=0,\"\",IF(COUNTIF($O$2:$O$1921,O761+1)>0,\"\",IF(COUNTIF($O$2:O761,O761)>1,\"\",O761+1)))","v":""},{"$f":"IFERROR(SMALL($P$1:$P$1921,760),\"\")","v":""}]
[null,null,null,null,null,null,null,null,null,null,null,null,null,null,{"$f":"IF(762<=$B$10,IF(LEN('２学期'!AQ6)=0,\"\",IF('２学期'!AQ6=$B$8,IF(LEN('２学期'!AT6)=0,\"\",'２学期'!AT6),\"\")),\"\")","v":""},{"$f":"IF(LEN(O762)=0,\"\",IF(COUNTIF($O$2:$O$1921,O762+1)>0,\"\",IF(COUNTIF($O$2:O762,O762)>1,\"\",O762+1)))","v":""},{"$f":"IFERROR(SMALL($P$1:$P$1921,761),\"\")","v":""}]
[null,null,null,null,null,null,null,null,null,null,null,null,null,null,{"$f":"IF(763<=$B$10,IF(LEN('２学期'!AQ7)=0,\"\",IF('２学期'!AQ7=$B$8,IF(LEN('２学期'!AT7)=0,\"\",'２学期'!AT7),\"\")),\"\")","v":""},{"$f":"IF(LEN(O763)=0,\"\",IF(COUNTIF($O$2:$O$1921,O763+1)>0,\"\",IF(COUNTIF($O$2:O763,O763)>1,\"\",O763+1)))","v":""},{"$f":"IFERROR(SMALL($P$1:$P$1921,762),\"\")","v":""}]
[null,null,null,null,null,null,null,null,null,null,null,null,null,null,{"$f":"IF(764<=$B$10,IF(LEN('２学期'!AQ10)=0,\"\",IF('２学期'!AQ10=$B$8,IF(LEN('２学期'!AT10)=0,\"\",'２学期'!AT10),\"\")),\"\")","v":""},{"$f":"IF(LEN(O764)=0,\"\",IF(COUNTIF($O$2:$O$1921,O764+1)>0,\"\",IF(COUNTIF($O$2:O764,O764)>1,\"\",O764+1)))","v":""},{"$f":"IFERROR(SMALL($P$1:$P$1921,763),\"\")","v":""}]
[null,null,null,null,null,null,null,null,null,null,null,null,null,null,{"$f":"IF(765<=$B$10,IF(LEN('２学期'!AQ13)=0,\"\",IF('２学期'!AQ13=$B$8,IF(LEN('２学期'!AT13)=0,\"\",'２学期'!AT13),\"\")),\"\")","v":""},{"$f":"IF(LEN(O765)=0,\"\",IF(COUNTIF($O$2:$O$1921,O765+1)>0,\"\",IF(COUNTIF($O$2:O765,O765)>1,\"\",O765+1)))","v":""},{"$f":"IFERROR(SMALL($P$1:$P$1921,764),\"\")","v":""}]
[null,null,null,null,null,null,null,null,null,null,null,null,null,null,{"$f":"IF(766<=$B$10,IF(LEN('２学期'!AQ16)=0,\"\",IF('２学期'!AQ16=$B$8,IF(LEN('２学期'!AT16)=0,\"\",'２学期'!AT16),\"\")),\"\")","v":""},{"$f":"IF(LEN(O766)=0,\"\",IF(COUNTIF($O$2:$O$1921,O766+1)>0,\"\",IF(COUNTIF($O$2:O766,O766)>1,\"\",O766+1)))","v":""},{"$f":"IFERROR(SMALL($P$1:$P$1921,765),\"\")","v":""}]
[null,null,null,null,null,null,null,null,null,null,null,null,null,null,{"$f":"IF(767<=$B$10,IF(LEN('２学期'!AQ19)=0,\"\",IF('２学期'!AQ19=$B$8,IF(LEN('２学期'!AT19)=0,\"\",'２学期'!AT19),\"\")),\"\")","v":""},{"$f":"IF(LEN(O767)=0,\"\",IF(COUNTIF($O$2:$O$1921,O767+1)>0,\"\",IF(COUNTIF($O$2:O767,O767)>1,\"\",O767+1)))","v":""},{"$f":"IFERROR(SMALL($P$1:$P$1921,766),\"\")","v":""}]
[null,null,null,null,null,null,null,null,null,null,null,null,null,null,{"$f":"IF(768<=$B$10,IF(LEN('２学期'!AQ22)=0,\"\",IF('２学期'!AQ22=$B$8,IF(LEN('２学期'!AT22)=0,\"\",'２学期'!AT22),\"\")),\"\")","v":""},{"$f":"IF(LEN(O768)=0,\"\",IF(COUNTIF($O$2:$O$1921,O768+1)>0,\"\",IF(COUNTIF($O$2:O768,O768)>1,\"\",O768+1)))","v":""},{"$f":"IFERROR(SMALL($P$1:$P$1921,767),\"\")","v":""}]
[null,null,null,null,null,null,null,null,null,null,null,null,null,null,{"$f":"IF(769<=$B$10,IF(LEN('２学期'!AQ25)=0,\"\",IF('２学期'!AQ25=$B$8,IF(LEN('２学期'!AT25)=0,\"\",'２学期'!AT25),\"\")),\"\")","v":""},{"$f":"IF(LEN(O769)=0,\"\",IF(COUNTIF($O$2:$O$1921,O769+1)>0,\"\",IF(COUNTIF($O$2:O769,O769)>1,\"\",O769+1)))","v":""},{"$f":"IFERROR(SMALL($P$1:$P$1921,768),\"\")","v":""}]
[null,null,null,null,null,null,null,null,null,null,null,null,null,null,{"$f":"IF(770<=$B$10,IF(LEN('２学期'!AU6)=0,\"\",IF('２学期'!AU6=$B$8,IF(LEN('２学期'!AX6)=0,\"\",'２学期'!AX6),\"\")),\"\")","v":""},{"$f":"IF(LEN(O770)=0,\"\",IF(COUNTIF($O$2:$O$1921,O770+1)>0,\"\",IF(COUNTIF($O$2:O770,O770)>1,\"\",O770+1)))","v":""},{"$f":"IFERROR(SMALL($P$1:$P$1921,769),\"\")","v":""}]
[null,null,null,null,null,null,null,null,null,null,null,null,null,null,{"$f":"IF(771<=$B$10,IF(LEN('２学期'!AU7)=0,\"\",IF('２学期'!AU7=$B$8,IF(LEN('２学期'!AX7)=0,\"\",'２学期'!AX7),\"\")),\"\")","v":""},{"$f":"IF(LEN(O771)=0,\"\",IF(COUNTIF($O$2:$O$1921,O771+1)>0,\"\",IF(COUNTIF($O$2:O771,O771)>1,\"\",O771+1)))","v":""},{"$f":"IFERROR(SMALL($P$1:$P$1921,770),\"\")","v":""}]
[null,null,null,null,null,null,null,null,null,null,null,null,null,null,{"$f":"IF(772<=$B$10,IF(LEN('２学期'!AU10)=0,\"\",IF('２学期'!AU10=$B$8,IF(LEN('２学期'!AX10)=0,\"\",'２学期'!AX10),\"\")),\"\")","v":""},{"$f":"IF(LEN(O772)=0,\"\",IF(COUNTIF($O$2:$O$1921,O772+1)>0,\"\",IF(COUNTIF($O$2:O772,O772)>1,\"\",O772+1)))","v":""},{"$f":"IFERROR(SMALL($P$1:$P$1921,771),\"\")","v":""}]
[null,null,null,null,null,null,null,null,null,null,null,null,null,null,{"$f":"IF(773<=$B$10,IF(LEN('２学期'!AU13)=0,\"\",IF('２学期'!AU13=$B$8,IF(LEN('２学期'!AX13)=0,\"\",'２学期'!AX13),\"\")),\"\")","v":""},{"$f":"IF(LEN(O773)=0,\"\",IF(COUNTIF($O$2:$O$1921,O773+1)>0,\"\",IF(COUNTIF($O$2:O773,O773)>1,\"\",O773+1)))","v":""},{"$f":"IFERROR(SMALL($P$1:$P$1921,772),\"\")","v":""}]
[null,null,null,null,null,null,null,null,null,null,null,null,null,null,{"$f":"IF(774<=$B$10,IF(LEN('２学期'!AU16)=0,\"\",IF('２学期'!AU16=$B$8,IF(LEN('２学期'!AX16)=0,\"\",'２学期'!AX16),\"\")),\"\")","v":""},{"$f":"IF(LEN(O774)=0,\"\",IF(COUNTIF($O$2:$O$1921,O774+1)>0,\"\",IF(COUNTIF($O$2:O774,O774)>1,\"\",O774+1)))","v":""},{"$f":"IFERROR(SMALL($P$1:$P$1921,773),\"\")","v":""}]
[null,null,null,null,null,null,null,null,null,null,null,null,null,null,{"$f":"IF(775<=$B$10,IF(LEN('２学期'!AU19)=0,\"\",IF('２学期'!AU19=$B$8,IF(LEN('２学期'!AX19)=0,\"\",'２学期'!AX19),\"\")),\"\")","v":""},{"$f":"IF(LEN(O775)=0,\"\",IF(COUNTIF($O$2:$O$1921,O775+1)>0,\"\",IF(COUNTIF($O$2:O775,O775)>1,\"\",O775+1)))","v":""},{"$f":"IFERROR(SMALL($P$1:$P$1921,774),\"\")","v":""}]
[null,null,null,null,null,null,null,null,null,null,null,null,null,null,{"$f":"IF(776<=$B$10,IF(LEN('２学期'!AU22)=0,\"\",IF('２学期'!AU22=$B$8,IF(LEN('２学期'!AX22)=0,\"\",'２学期'!AX22),\"\")),\"\")","v":""},{"$f":"IF(LEN(O776)=0,\"\",IF(COUNTIF($O$2:$O$1921,O776+1)>0,\"\",IF(COUNTIF($O$2:O776,O776)>1,\"\",O776+1)))","v":""},{"$f":"IFERROR(SMALL($P$1:$P$1921,775),\"\")","v":""}]
[null,null,null,null,null,null,null,null,null,null,null,null,null,null,{"$f":"IF(777<=$B$10,IF(LEN('２学期'!AU25)=0,\"\",IF('２学期'!AU25=$B$8,IF(LEN('２学期'!AX25)=0,\"\",'２学期'!AX25),\"\")),\"\")","v":""},{"$f":"IF(LEN(O777)=0,\"\",IF(COUNTIF($O$2:$O$1921,O777+1)>0,\"\",IF(COUNTIF($O$2:O777,O777)>1,\"\",O777+1)))","v":""},{"$f":"IFERROR(SMALL($P$1:$P$1921,776),\"\")","v":""}]
[null,null,null,null,null,null,null,null,null,null,null,null,null,null,{"$f":"IF(778<=$B$10,IF(LEN('２学期'!AY6)=0,\"\",IF('２学期'!AY6=$B$8,IF(LEN('２学期'!BB6)=0,\"\",'２学期'!BB6),\"\")),\"\")","v":""},{"$f":"IF(LEN(O778)=0,\"\",IF(COUNTIF($O$2:$O$1921,O778+1)>0,\"\",IF(COUNTIF($O$2:O778,O778)>1,\"\",O778+1)))","v":""},{"$f":"IFERROR(SMALL($P$1:$P$1921,777),\"\")","v":""}]
[null,null,null,null,null,null,null,null,null,null,null,null,null,null,{"$f":"IF(779<=$B$10,IF(LEN('２学期'!AY7)=0,\"\",IF('２学期'!AY7=$B$8,IF(LEN('２学期'!BB7)=0,\"\",'２学期'!BB7),\"\")),\"\")","v":""},{"$f":"IF(LEN(O779)=0,\"\",IF(COUNTIF($O$2:$O$1921,O779+1)>0,\"\",IF(COUNTIF($O$2:O779,O779)>1,\"\",O779+1)))","v":""},{"$f":"IFERROR(SMALL($P$1:$P$1921,778),\"\")","v":""}]
[null,null,null,null,null,null,null,null,null,null,null,null,null,null,{"$f":"IF(780<=$B$10,IF(LEN('２学期'!AY10)=0,\"\",IF('２学期'!AY10=$B$8,IF(LEN('２学期'!BB10)=0,\"\",'２学期'!BB10),\"\")),\"\")","v":""},{"$f":"IF(LEN(O780)=0,\"\",IF(COUNTIF($O$2:$O$1921,O780+1)>0,\"\",IF(COUNTIF($O$2:O780,O780)>1,\"\",O780+1)))","v":""},{"$f":"IFERROR(SMALL($P$1:$P$1921,779),\"\")","v":""}]
[null,null,null,null,null,null,null,null,null,null,null,null,null,null,{"$f":"IF(781<=$B$10,IF(LEN('２学期'!AY13)=0,\"\",IF('２学期'!AY13=$B$8,IF(LEN('２学期'!BB13)=0,\"\",'２学期'!BB13),\"\")),\"\")","v":""},{"$f":"IF(LEN(O781)=0,\"\",IF(COUNTIF($O$2:$O$1921,O781+1)>0,\"\",IF(COUNTIF($O$2:O781,O781)>1,\"\",O781+1)))","v":""},{"$f":"IFERROR(SMALL($P$1:$P$1921,780),\"\")","v":""}]
[null,null,null,null,null,null,null,null,null,null,null,null,null,null,{"$f":"IF(782<=$B$10,IF(LEN('２学期'!AY16)=0,\"\",IF('２学期'!AY16=$B$8,IF(LEN('２学期'!BB16)=0,\"\",'２学期'!BB16),\"\")),\"\")","v":""},{"$f":"IF(LEN(O782)=0,\"\",IF(COUNTIF($O$2:$O$1921,O782+1)>0,\"\",IF(COUNTIF($O$2:O782,O782)>1,\"\",O782+1)))","v":""},{"$f":"IFERROR(SMALL($P$1:$P$1921,781),\"\")","v":""}]
[null,null,null,null,null,null,null,null,null,null,null,null,null,null,{"$f":"IF(783<=$B$10,IF(LEN('２学期'!AY19)=0,\"\",IF('２学期'!AY19=$B$8,IF(LEN('２学期'!BB19)=0,\"\",'２学期'!BB19),\"\")),\"\")","v":""},{"$f":"IF(LEN(O783)=0,\"\",IF(COUNTIF($O$2:$O$1921,O783+1)>0,\"\",IF(COUNTIF($O$2:O783,O783)>1,\"\",O783+1)))","v":""},{"$f":"IFERROR(SMALL($P$1:$P$1921,782),\"\")","v":""}]
[null,null,null,null,null,null,null,null,null,null,null,null,null,null,{"$f":"IF(784<=$B$10,IF(LEN('２学期'!AY22)=0,\"\",IF('２学期'!AY22=$B$8,IF(LEN('２学期'!BB22)=0,\"\",'２学期'!BB22),\"\")),\"\")","v":""},{"$f":"IF(LEN(O784)=0,\"\",IF(COUNTIF($O$2:$O$1921,O784+1)>0,\"\",IF(COUNTIF($O$2:O784,O784)>1,\"\",O784+1)))","v":""},{"$f":"IFERROR(SMALL($P$1:$P$1921,783),\"\")","v":""}]
[null,null,null,null,null,null,null,null,null,null,null,null,null,null,{"$f":"IF(785<=$B$10,IF(LEN('２学期'!AY25)=0,\"\",IF('２学期'!AY25=$B$8,IF(LEN('２学期'!BB25)=0,\"\",'２学期'!BB25),\"\")),\"\")","v":""},{"$f":"IF(LEN(O785)=0,\"\",IF(COUNTIF($O$2:$O$1921,O785+1)>0,\"\",IF(COUNTIF($O$2:O785,O785)>1,\"\",O785+1)))","v":""},{"$f":"IFERROR(SMALL($P$1:$P$1921,784),\"\")","v":""}]
[null,null,null,null,null,null,null,null,null,null,null,null,null,null,{"$f":"IF(786<=$B$10,IF(LEN('２学期'!BC6)=0,\"\",IF('２学期'!BC6=$B$8,IF(LEN('２学期'!BF6)=0,\"\",'２学期'!BF6),\"\")),\"\")","v":""},{"$f":"IF(LEN(O786)=0,\"\",IF(COUNTIF($O$2:$O$1921,O786+1)>0,\"\",IF(COUNTIF($O$2:O786,O786)>1,\"\",O786+1)))","v":""},{"$f":"IFERROR(SMALL($P$1:$P$1921,785),\"\")","v":""}]
[null,null,null,null,null,null,null,null,null,null,null,null,null,null,{"$f":"IF(787<=$B$10,IF(LEN('２学期'!BC7)=0,\"\",IF('２学期'!BC7=$B$8,IF(LEN('２学期'!BF7)=0,\"\",'２学期'!BF7),\"\")),\"\")","v":""},{"$f":"IF(LEN(O787)=0,\"\",IF(COUNTIF($O$2:$O$1921,O787+1)>0,\"\",IF(COUNTIF($O$2:O787,O787)>1,\"\",O787+1)))","v":""},{"$f":"IFERROR(SMALL($P$1:$P$1921,786),\"\")","v":""}]
[null,null,null,null,null,null,null,null,null,null,null,null,null,null,{"$f":"IF(788<=$B$10,IF(LEN('２学期'!BC10)=0,\"\",IF('２学期'!BC10=$B$8,IF(LEN('２学期'!BF10)=0,\"\",'２学期'!BF10),\"\")),\"\")","v":""},{"$f":"IF(LEN(O788)=0,\"\",IF(COUNTIF($O$2:$O$1921,O788+1)>0,\"\",IF(COUNTIF($O$2:O788,O788)>1,\"\",O788+1)))","v":""},{"$f":"IFERROR(SMALL($P$1:$P$1921,787),\"\")","v":""}]
[null,null,null,null,null,null,null,null,null,null,null,null,null,null,{"$f":"IF(789<=$B$10,IF(LEN('２学期'!BC13)=0,\"\",IF('２学期'!BC13=$B$8,IF(LEN('２学期'!BF13)=0,\"\",'２学期'!BF13),\"\")),\"\")","v":""},{"$f":"IF(LEN(O789)=0,\"\",IF(COUNTIF($O$2:$O$1921,O789+1)>0,\"\",IF(COUNTIF($O$2:O789,O789)>1,\"\",O789+1)))","v":""},{"$f":"IFERROR(SMALL($P$1:$P$1921,788),\"\")","v":""}]
[null,null,null,null,null,null,null,null,null,null,null,null,null,null,{"$f":"IF(790<=$B$10,IF(LEN('２学期'!BC16)=0,\"\",IF('２学期'!BC16=$B$8,IF(LEN('２学期'!BF16)=0,\"\",'２学期'!BF16),\"\")),\"\")","v":""},{"$f":"IF(LEN(O790)=0,\"\",IF(COUNTIF($O$2:$O$1921,O790+1)>0,\"\",IF(COUNTIF($O$2:O790,O790)>1,\"\",O790+1)))","v":""},{"$f":"IFERROR(SMALL($P$1:$P$1921,789),\"\")","v":""}]
[null,null,null,null,null,null,null,null,null,null,null,null,null,null,{"$f":"IF(791<=$B$10,IF(LEN('２学期'!BC19)=0,\"\",IF('２学期'!BC19=$B$8,IF(LEN('２学期'!BF19)=0,\"\",'２学期'!BF19),\"\")),\"\")","v":""},{"$f":"IF(LEN(O791)=0,\"\",IF(COUNTIF($O$2:$O$1921,O791+1)>0,\"\",IF(COUNTIF($O$2:O791,O791)>1,\"\",O791+1)))","v":""},{"$f":"IFERROR(SMALL($P$1:$P$1921,790),\"\")","v":""}]
[null,null,null,null,null,null,null,null,null,null,null,null,null,null,{"$f":"IF(792<=$B$10,IF(LEN('２学期'!BC22)=0,\"\",IF('２学期'!BC22=$B$8,IF(LEN('２学期'!BF22)=0,\"\",'２学期'!BF22),\"\")),\"\")","v":""},{"$f":"IF(LEN(O792)=0,\"\",IF(COUNTIF($O$2:$O$1921,O792+1)>0,\"\",IF(COUNTIF($O$2:O792,O792)>1,\"\",O792+1)))","v":""},{"$f":"IFERROR(SMALL($P$1:$P$1921,791),\"\")","v":""}]
[null,null,null,null,null,null,null,null,null,null,null,null,null,null,{"$f":"IF(793<=$B$10,IF(LEN('２学期'!BC25)=0,\"\",IF('２学期'!BC25=$B$8,IF(LEN('２学期'!BF25)=0,\"\",'２学期'!BF25),\"\")),\"\")","v":""},{"$f":"IF(LEN(O793)=0,\"\",IF(COUNTIF($O$2:$O$1921,O793+1)>0,\"\",IF(COUNTIF($O$2:O793,O793)>1,\"\",O793+1)))","v":""},{"$f":"IFERROR(SMALL($P$1:$P$1921,792),\"\")","v":""}]
[null,null,null,null,null,null,null,null,null,null,null,null,null,null,{"$f":"IF(794<=$B$10,IF(LEN('２学期'!BG6)=0,\"\",IF('２学期'!BG6=$B$8,IF(LEN('２学期'!BJ6)=0,\"\",'２学期'!BJ6),\"\")),\"\")","v":""},{"$f":"IF(LEN(O794)=0,\"\",IF(COUNTIF($O$2:$O$1921,O794+1)>0,\"\",IF(COUNTIF($O$2:O794,O794)>1,\"\",O794+1)))","v":""},{"$f":"IFERROR(SMALL($P$1:$P$1921,793),\"\")","v":""}]
[null,null,null,null,null,null,null,null,null,null,null,null,null,null,{"$f":"IF(795<=$B$10,IF(LEN('２学期'!BG7)=0,\"\",IF('２学期'!BG7=$B$8,IF(LEN('２学期'!BJ7)=0,\"\",'２学期'!BJ7),\"\")),\"\")","v":""},{"$f":"IF(LEN(O795)=0,\"\",IF(COUNTIF($O$2:$O$1921,O795+1)>0,\"\",IF(COUNTIF($O$2:O795,O795)>1,\"\",O795+1)))","v":""},{"$f":"IFERROR(SMALL($P$1:$P$1921,794),\"\")","v":""}]
[null,null,null,null,null,null,null,null,null,null,null,null,null,null,{"$f":"IF(796<=$B$10,IF(LEN('２学期'!BG10)=0,\"\",IF('２学期'!BG10=$B$8,IF(LEN('２学期'!BJ10)=0,\"\",'２学期'!BJ10),\"\")),\"\")","v":""},{"$f":"IF(LEN(O796)=0,\"\",IF(COUNTIF($O$2:$O$1921,O796+1)>0,\"\",IF(COUNTIF($O$2:O796,O796)>1,\"\",O796+1)))","v":""},{"$f":"IFERROR(SMALL($P$1:$P$1921,795),\"\")","v":""}]
[null,null,null,null,null,null,null,null,null,null,null,null,null,null,{"$f":"IF(797<=$B$10,IF(LEN('２学期'!BG13)=0,\"\",IF('２学期'!BG13=$B$8,IF(LEN('２学期'!BJ13)=0,\"\",'２学期'!BJ13),\"\")),\"\")","v":""},{"$f":"IF(LEN(O797)=0,\"\",IF(COUNTIF($O$2:$O$1921,O797+1)>0,\"\",IF(COUNTIF($O$2:O797,O797)>1,\"\",O797+1)))","v":""},{"$f":"IFERROR(SMALL($P$1:$P$1921,796),\"\")","v":""}]
[null,null,null,null,null,null,null,null,null,null,null,null,null,null,{"$f":"IF(798<=$B$10,IF(LEN('２学期'!BG16)=0,\"\",IF('２学期'!BG16=$B$8,IF(LEN('２学期'!BJ16)=0,\"\",'２学期'!BJ16),\"\")),\"\")","v":""},{"$f":"IF(LEN(O798)=0,\"\",IF(COUNTIF($O$2:$O$1921,O798+1)>0,\"\",IF(COUNTIF($O$2:O798,O798)>1,\"\",O798+1)))","v":""},{"$f":"IFERROR(SMALL($P$1:$P$1921,797),\"\")","v":""}]
[null,null,null,null,null,null,null,null,null,null,null,null,null,null,{"$f":"IF(799<=$B$10,IF(LEN('２学期'!BG19)=0,\"\",IF('２学期'!BG19=$B$8,IF(LEN('２学期'!BJ19)=0,\"\",'２学期'!BJ19),\"\")),\"\")","v":""},{"$f":"IF(LEN(O799)=0,\"\",IF(COUNTIF($O$2:$O$1921,O799+1)>0,\"\",IF(COUNTIF($O$2:O799,O799)>1,\"\",O799+1)))","v":""},{"$f":"IFERROR(SMALL($P$1:$P$1921,798),\"\")","v":""}]
[null,null,null,null,null,null,null,null,null,null,null,null,null,null,{"$f":"IF(800<=$B$10,IF(LEN('２学期'!BG22)=0,\"\",IF('２学期'!BG22=$B$8,IF(LEN('２学期'!BJ22)=0,\"\",'２学期'!BJ22),\"\")),\"\")","v":""},{"$f":"IF(LEN(O800)=0,\"\",IF(COUNTIF($O$2:$O$1921,O800+1)>0,\"\",IF(COUNTIF($O$2:O800,O800)>1,\"\",O800+1)))","v":""},{"$f":"IFERROR(SMALL($P$1:$P$1921,799),\"\")","v":""}]
[null,null,null,null,null,null,null,null,null,null,null,null,null,null,{"$f":"IF(801<=$B$10,IF(LEN('２学期'!BG25)=0,\"\",IF('２学期'!BG25=$B$8,IF(LEN('２学期'!BJ25)=0,\"\",'２学期'!BJ25),\"\")),\"\")","v":""},{"$f":"IF(LEN(O801)=0,\"\",IF(COUNTIF($O$2:$O$1921,O801+1)>0,\"\",IF(COUNTIF($O$2:O801,O801)>1,\"\",O801+1)))","v":""},{"$f":"IFERROR(SMALL($P$1:$P$1921,800),\"\")","v":""}]
[null,null,null,null,null,null,null,null,null,null,null,null,null,null,{"$f":"IF(802<=$B$10,IF(LEN('２学期'!BK6)=0,\"\",IF('２学期'!BK6=$B$8,IF(LEN('２学期'!BN6)=0,\"\",'２学期'!BN6),\"\")),\"\")","v":""},{"$f":"IF(LEN(O802)=0,\"\",IF(COUNTIF($O$2:$O$1921,O802+1)>0,\"\",IF(COUNTIF($O$2:O802,O802)>1,\"\",O802+1)))","v":""},{"$f":"IFERROR(SMALL($P$1:$P$1921,801),\"\")","v":""}]
[null,null,null,null,null,null,null,null,null,null,null,null,null,null,{"$f":"IF(803<=$B$10,IF(LEN('２学期'!BK7)=0,\"\",IF('２学期'!BK7=$B$8,IF(LEN('２学期'!BN7)=0,\"\",'２学期'!BN7),\"\")),\"\")","v":""},{"$f":"IF(LEN(O803)=0,\"\",IF(COUNTIF($O$2:$O$1921,O803+1)>0,\"\",IF(COUNTIF($O$2:O803,O803)>1,\"\",O803+1)))","v":""},{"$f":"IFERROR(SMALL($P$1:$P$1921,802),\"\")","v":""}]
[null,null,null,null,null,null,null,null,null,null,null,null,null,null,{"$f":"IF(804<=$B$10,IF(LEN('２学期'!BK10)=0,\"\",IF('２学期'!BK10=$B$8,IF(LEN('２学期'!BN10)=0,\"\",'２学期'!BN10),\"\")),\"\")","v":""},{"$f":"IF(LEN(O804)=0,\"\",IF(COUNTIF($O$2:$O$1921,O804+1)>0,\"\",IF(COUNTIF($O$2:O804,O804)>1,\"\",O804+1)))","v":""},{"$f":"IFERROR(SMALL($P$1:$P$1921,803),\"\")","v":""}]
[null,null,null,null,null,null,null,null,null,null,null,null,null,null,{"$f":"IF(805<=$B$10,IF(LEN('２学期'!BK13)=0,\"\",IF('２学期'!BK13=$B$8,IF(LEN('２学期'!BN13)=0,\"\",'２学期'!BN13),\"\")),\"\")","v":""},{"$f":"IF(LEN(O805)=0,\"\",IF(COUNTIF($O$2:$O$1921,O805+1)>0,\"\",IF(COUNTIF($O$2:O805,O805)>1,\"\",O805+1)))","v":""},{"$f":"IFERROR(SMALL($P$1:$P$1921,804),\"\")","v":""}]
[null,null,null,null,null,null,null,null,null,null,null,null,null,null,{"$f":"IF(806<=$B$10,IF(LEN('２学期'!BK16)=0,\"\",IF('２学期'!BK16=$B$8,IF(LEN('２学期'!BN16)=0,\"\",'２学期'!BN16),\"\")),\"\")","v":""},{"$f":"IF(LEN(O806)=0,\"\",IF(COUNTIF($O$2:$O$1921,O806+1)>0,\"\",IF(COUNTIF($O$2:O806,O806)>1,\"\",O806+1)))","v":""},{"$f":"IFERROR(SMALL($P$1:$P$1921,805),\"\")","v":""}]
[null,null,null,null,null,null,null,null,null,null,null,null,null,null,{"$f":"IF(807<=$B$10,IF(LEN('２学期'!BK19)=0,\"\",IF('２学期'!BK19=$B$8,IF(LEN('２学期'!BN19)=0,\"\",'２学期'!BN19),\"\")),\"\")","v":""},{"$f":"IF(LEN(O807)=0,\"\",IF(COUNTIF($O$2:$O$1921,O807+1)>0,\"\",IF(COUNTIF($O$2:O807,O807)>1,\"\",O807+1)))","v":""},{"$f":"IFERROR(SMALL($P$1:$P$1921,806),\"\")","v":""}]
[null,null,null,null,null,null,null,null,null,null,null,null,null,null,{"$f":"IF(808<=$B$10,IF(LEN('２学期'!BK22)=0,\"\",IF('２学期'!BK22=$B$8,IF(LEN('２学期'!BN22)=0,\"\",'２学期'!BN22),\"\")),\"\")","v":""},{"$f":"IF(LEN(O808)=0,\"\",IF(COUNTIF($O$2:$O$1921,O808+1)>0,\"\",IF(COUNTIF($O$2:O808,O808)>1,\"\",O808+1)))","v":""},{"$f":"IFERROR(SMALL($P$1:$P$1921,807),\"\")","v":""}]
[null,null,null,null,null,null,null,null,null,null,null,null,null,null,{"$f":"IF(809<=$B$10,IF(LEN('２学期'!BK25)=0,\"\",IF('２学期'!BK25=$B$8,IF(LEN('２学期'!BN25)=0,\"\",'２学期'!BN25),\"\")),\"\")","v":""},{"$f":"IF(LEN(O809)=0,\"\",IF(COUNTIF($O$2:$O$1921,O809+1)>0,\"\",IF(COUNTIF($O$2:O809,O809)>1,\"\",O809+1)))","v":""},{"$f":"IFERROR(SMALL($P$1:$P$1921,808),\"\")","v":""}]
[null,null,null,null,null,null,null,null,null,null,null,null,null,null,{"$f":"IF(810<=$B$10,IF(LEN('２学期'!BO6)=0,\"\",IF('２学期'!BO6=$B$8,IF(LEN('２学期'!BR6)=0,\"\",'２学期'!BR6),\"\")),\"\")","v":""},{"$f":"IF(LEN(O810)=0,\"\",IF(COUNTIF($O$2:$O$1921,O810+1)>0,\"\",IF(COUNTIF($O$2:O810,O810)>1,\"\",O810+1)))","v":""},{"$f":"IFERROR(SMALL($P$1:$P$1921,809),\"\")","v":""}]
[null,null,null,null,null,null,null,null,null,null,null,null,null,null,{"$f":"IF(811<=$B$10,IF(LEN('２学期'!BO7)=0,\"\",IF('２学期'!BO7=$B$8,IF(LEN('２学期'!BR7)=0,\"\",'２学期'!BR7),\"\")),\"\")","v":""},{"$f":"IF(LEN(O811)=0,\"\",IF(COUNTIF($O$2:$O$1921,O811+1)>0,\"\",IF(COUNTIF($O$2:O811,O811)>1,\"\",O811+1)))","v":""},{"$f":"IFERROR(SMALL($P$1:$P$1921,810),\"\")","v":""}]
[null,null,null,null,null,null,null,null,null,null,null,null,null,null,{"$f":"IF(812<=$B$10,IF(LEN('２学期'!BO10)=0,\"\",IF('２学期'!BO10=$B$8,IF(LEN('２学期'!BR10)=0,\"\",'２学期'!BR10),\"\")),\"\")","v":""},{"$f":"IF(LEN(O812)=0,\"\",IF(COUNTIF($O$2:$O$1921,O812+1)>0,\"\",IF(COUNTIF($O$2:O812,O812)>1,\"\",O812+1)))","v":""},{"$f":"IFERROR(SMALL($P$1:$P$1921,811),\"\")","v":""}]
[null,null,null,null,null,null,null,null,null,null,null,null,null,null,{"$f":"IF(813<=$B$10,IF(LEN('２学期'!BO13)=0,\"\",IF('２学期'!BO13=$B$8,IF(LEN('２学期'!BR13)=0,\"\",'２学期'!BR13),\"\")),\"\")","v":""},{"$f":"IF(LEN(O813)=0,\"\",IF(COUNTIF($O$2:$O$1921,O813+1)>0,\"\",IF(COUNTIF($O$2:O813,O813)>1,\"\",O813+1)))","v":""},{"$f":"IFERROR(SMALL($P$1:$P$1921,812),\"\")","v":""}]
[null,null,null,null,null,null,null,null,null,null,null,null,null,null,{"$f":"IF(814<=$B$10,IF(LEN('２学期'!BO16)=0,\"\",IF('２学期'!BO16=$B$8,IF(LEN('２学期'!BR16)=0,\"\",'２学期'!BR16),\"\")),\"\")","v":""},{"$f":"IF(LEN(O814)=0,\"\",IF(COUNTIF($O$2:$O$1921,O814+1)>0,\"\",IF(COUNTIF($O$2:O814,O814)>1,\"\",O814+1)))","v":""},{"$f":"IFERROR(SMALL($P$1:$P$1921,813),\"\")","v":""}]
[null,null,null,null,null,null,null,null,null,null,null,null,null,null,{"$f":"IF(815<=$B$10,IF(LEN('２学期'!BO19)=0,\"\",IF('２学期'!BO19=$B$8,IF(LEN('２学期'!BR19)=0,\"\",'２学期'!BR19),\"\")),\"\")","v":""},{"$f":"IF(LEN(O815)=0,\"\",IF(COUNTIF($O$2:$O$1921,O815+1)>0,\"\",IF(COUNTIF($O$2:O815,O815)>1,\"\",O815+1)))","v":""},{"$f":"IFERROR(SMALL($P$1:$P$1921,814),\"\")","v":""}]
[null,null,null,null,null,null,null,null,null,null,null,null,null,null,{"$f":"IF(816<=$B$10,IF(LEN('２学期'!BO22)=0,\"\",IF('２学期'!BO22=$B$8,IF(LEN('２学期'!BR22)=0,\"\",'２学期'!BR22),\"\")),\"\")","v":""},{"$f":"IF(LEN(O816)=0,\"\",IF(COUNTIF($O$2:$O$1921,O816+1)>0,\"\",IF(COUNTIF($O$2:O816,O816)>1,\"\",O816+1)))","v":""},{"$f":"IFERROR(SMALL($P$1:$P$1921,815),\"\")","v":""}]
[null,null,null,null,null,null,null,null,null,null,null,null,null,null,{"$f":"IF(817<=$B$10,IF(LEN('２学期'!BO25)=0,\"\",IF('２学期'!BO25=$B$8,IF(LEN('２学期'!BR25)=0,\"\",'２学期'!BR25),\"\")),\"\")","v":""},{"$f":"IF(LEN(O817)=0,\"\",IF(COUNTIF($O$2:$O$1921,O817+1)>0,\"\",IF(COUNTIF($O$2:O817,O817)>1,\"\",O817+1)))","v":""},{"$f":"IFERROR(SMALL($P$1:$P$1921,816),\"\")","v":""}]
[null,null,null,null,null,null,null,null,null,null,null,null,null,null,{"$f":"IF(818<=$B$10,IF(LEN('２学期'!BS6)=0,\"\",IF('２学期'!BS6=$B$8,IF(LEN('２学期'!BV6)=0,\"\",'２学期'!BV6),\"\")),\"\")","v":""},{"$f":"IF(LEN(O818)=0,\"\",IF(COUNTIF($O$2:$O$1921,O818+1)>0,\"\",IF(COUNTIF($O$2:O818,O818)>1,\"\",O818+1)))","v":""},{"$f":"IFERROR(SMALL($P$1:$P$1921,817),\"\")","v":""}]
[null,null,null,null,null,null,null,null,null,null,null,null,null,null,{"$f":"IF(819<=$B$10,IF(LEN('２学期'!BS7)=0,\"\",IF('２学期'!BS7=$B$8,IF(LEN('２学期'!BV7)=0,\"\",'２学期'!BV7),\"\")),\"\")","v":""},{"$f":"IF(LEN(O819)=0,\"\",IF(COUNTIF($O$2:$O$1921,O819+1)>0,\"\",IF(COUNTIF($O$2:O819,O819)>1,\"\",O819+1)))","v":""},{"$f":"IFERROR(SMALL($P$1:$P$1921,818),\"\")","v":""}]
[null,null,null,null,null,null,null,null,null,null,null,null,null,null,{"$f":"IF(820<=$B$10,IF(LEN('２学期'!BS10)=0,\"\",IF('２学期'!BS10=$B$8,IF(LEN('２学期'!BV10)=0,\"\",'２学期'!BV10),\"\")),\"\")","v":""},{"$f":"IF(LEN(O820)=0,\"\",IF(COUNTIF($O$2:$O$1921,O820+1)>0,\"\",IF(COUNTIF($O$2:O820,O820)>1,\"\",O820+1)))","v":""},{"$f":"IFERROR(SMALL($P$1:$P$1921,819),\"\")","v":""}]
[null,null,null,null,null,null,null,null,null,null,null,null,null,null,{"$f":"IF(821<=$B$10,IF(LEN('２学期'!BS13)=0,\"\",IF('２学期'!BS13=$B$8,IF(LEN('２学期'!BV13)=0,\"\",'２学期'!BV13),\"\")),\"\")","v":""},{"$f":"IF(LEN(O821)=0,\"\",IF(COUNTIF($O$2:$O$1921,O821+1)>0,\"\",IF(COUNTIF($O$2:O821,O821)>1,\"\",O821+1)))","v":""},{"$f":"IFERROR(SMALL($P$1:$P$1921,820),\"\")","v":""}]
[null,null,null,null,null,null,null,null,null,null,null,null,null,null,{"$f":"IF(822<=$B$10,IF(LEN('２学期'!BS16)=0,\"\",IF('２学期'!BS16=$B$8,IF(LEN('２学期'!BV16)=0,\"\",'２学期'!BV16),\"\")),\"\")","v":""},{"$f":"IF(LEN(O822)=0,\"\",IF(COUNTIF($O$2:$O$1921,O822+1)>0,\"\",IF(COUNTIF($O$2:O822,O822)>1,\"\",O822+1)))","v":""},{"$f":"IFERROR(SMALL($P$1:$P$1921,821),\"\")","v":""}]
[null,null,null,null,null,null,null,null,null,null,null,null,null,null,{"$f":"IF(823<=$B$10,IF(LEN('２学期'!BS19)=0,\"\",IF('２学期'!BS19=$B$8,IF(LEN('２学期'!BV19)=0,\"\",'２学期'!BV19),\"\")),\"\")","v":""},{"$f":"IF(LEN(O823)=0,\"\",IF(COUNTIF($O$2:$O$1921,O823+1)>0,\"\",IF(COUNTIF($O$2:O823,O823)>1,\"\",O823+1)))","v":""},{"$f":"IFERROR(SMALL($P$1:$P$1921,822),\"\")","v":""}]
[null,null,null,null,null,null,null,null,null,null,null,null,null,null,{"$f":"IF(824<=$B$10,IF(LEN('２学期'!BS22)=0,\"\",IF('２学期'!BS22=$B$8,IF(LEN('２学期'!BV22)=0,\"\",'２学期'!BV22),\"\")),\"\")","v":""},{"$f":"IF(LEN(O824)=0,\"\",IF(COUNTIF($O$2:$O$1921,O824+1)>0,\"\",IF(COUNTIF($O$2:O824,O824)>1,\"\",O824+1)))","v":""},{"$f":"IFERROR(SMALL($P$1:$P$1921,823),\"\")","v":""}]
[null,null,null,null,null,null,null,null,null,null,null,null,null,null,{"$f":"IF(825<=$B$10,IF(LEN('２学期'!BS25)=0,\"\",IF('２学期'!BS25=$B$8,IF(LEN('２学期'!BV25)=0,\"\",'２学期'!BV25),\"\")),\"\")","v":""},{"$f":"IF(LEN(O825)=0,\"\",IF(COUNTIF($O$2:$O$1921,O825+1)>0,\"\",IF(COUNTIF($O$2:O825,O825)>1,\"\",O825+1)))","v":""},{"$f":"IFERROR(SMALL($P$1:$P$1921,824),\"\")","v":""}]
[null,null,null,null,null,null,null,null,null,null,null,null,null,null,{"$f":"IF(826<=$B$10,IF(LEN('２学期'!BW6)=0,\"\",IF('２学期'!BW6=$B$8,IF(LEN('２学期'!BZ6)=0,\"\",'２学期'!BZ6),\"\")),\"\")","v":""},{"$f":"IF(LEN(O826)=0,\"\",IF(COUNTIF($O$2:$O$1921,O826+1)>0,\"\",IF(COUNTIF($O$2:O826,O826)>1,\"\",O826+1)))","v":""},{"$f":"IFERROR(SMALL($P$1:$P$1921,825),\"\")","v":""}]
[null,null,null,null,null,null,null,null,null,null,null,null,null,null,{"$f":"IF(827<=$B$10,IF(LEN('２学期'!BW7)=0,\"\",IF('２学期'!BW7=$B$8,IF(LEN('２学期'!BZ7)=0,\"\",'２学期'!BZ7),\"\")),\"\")","v":""},{"$f":"IF(LEN(O827)=0,\"\",IF(COUNTIF($O$2:$O$1921,O827+1)>0,\"\",IF(COUNTIF($O$2:O827,O827)>1,\"\",O827+1)))","v":""},{"$f":"IFERROR(SMALL($P$1:$P$1921,826),\"\")","v":""}]
[null,null,null,null,null,null,null,null,null,null,null,null,null,null,{"$f":"IF(828<=$B$10,IF(LEN('２学期'!BW10)=0,\"\",IF('２学期'!BW10=$B$8,IF(LEN('２学期'!BZ10)=0,\"\",'２学期'!BZ10),\"\")),\"\")","v":""},{"$f":"IF(LEN(O828)=0,\"\",IF(COUNTIF($O$2:$O$1921,O828+1)>0,\"\",IF(COUNTIF($O$2:O828,O828)>1,\"\",O828+1)))","v":""},{"$f":"IFERROR(SMALL($P$1:$P$1921,827),\"\")","v":""}]
[null,null,null,null,null,null,null,null,null,null,null,null,null,null,{"$f":"IF(829<=$B$10,IF(LEN('２学期'!BW13)=0,\"\",IF('２学期'!BW13=$B$8,IF(LEN('２学期'!BZ13)=0,\"\",'２学期'!BZ13),\"\")),\"\")","v":""},{"$f":"IF(LEN(O829)=0,\"\",IF(COUNTIF($O$2:$O$1921,O829+1)>0,\"\",IF(COUNTIF($O$2:O829,O829)>1,\"\",O829+1)))","v":""},{"$f":"IFERROR(SMALL($P$1:$P$1921,828),\"\")","v":""}]
[null,null,null,null,null,null,null,null,null,null,null,null,null,null,{"$f":"IF(830<=$B$10,IF(LEN('２学期'!BW16)=0,\"\",IF('２学期'!BW16=$B$8,IF(LEN('２学期'!BZ16)=0,\"\",'２学期'!BZ16),\"\")),\"\")","v":""},{"$f":"IF(LEN(O830)=0,\"\",IF(COUNTIF($O$2:$O$1921,O830+1)>0,\"\",IF(COUNTIF($O$2:O830,O830)>1,\"\",O830+1)))","v":""},{"$f":"IFERROR(SMALL($P$1:$P$1921,829),\"\")","v":""}]
[null,null,null,null,null,null,null,null,null,null,null,null,null,null,{"$f":"IF(831<=$B$10,IF(LEN('２学期'!BW19)=0,\"\",IF('２学期'!BW19=$B$8,IF(LEN('２学期'!BZ19)=0,\"\",'２学期'!BZ19),\"\")),\"\")","v":""},{"$f":"IF(LEN(O831)=0,\"\",IF(COUNTIF($O$2:$O$1921,O831+1)>0,\"\",IF(COUNTIF($O$2:O831,O831)>1,\"\",O831+1)))","v":""},{"$f":"IFERROR(SMALL($P$1:$P$1921,830),\"\")","v":""}]
[null,null,null,null,null,null,null,null,null,null,null,null,null,null,{"$f":"IF(832<=$B$10,IF(LEN('２学期'!BW22)=0,\"\",IF('２学期'!BW22=$B$8,IF(LEN('２学期'!BZ22)=0,\"\",'２学期'!BZ22),\"\")),\"\")","v":""},{"$f":"IF(LEN(O832)=0,\"\",IF(COUNTIF($O$2:$O$1921,O832+1)>0,\"\",IF(COUNTIF($O$2:O832,O832)>1,\"\",O832+1)))","v":""},{"$f":"IFERROR(SMALL($P$1:$P$1921,831),\"\")","v":""}]
[null,null,null,null,null,null,null,null,null,null,null,null,null,null,{"$f":"IF(833<=$B$10,IF(LEN('２学期'!BW25)=0,\"\",IF('２学期'!BW25=$B$8,IF(LEN('２学期'!BZ25)=0,\"\",'２学期'!BZ25),\"\")),\"\")","v":""},{"$f":"IF(LEN(O833)=0,\"\",IF(COUNTIF($O$2:$O$1921,O833+1)>0,\"\",IF(COUNTIF($O$2:O833,O833)>1,\"\",O833+1)))","v":""},{"$f":"IFERROR(SMALL($P$1:$P$1921,832),\"\")","v":""}]
[null,null,null,null,null,null,null,null,null,null,null,null,null,null,{"$f":"IF(834<=$B$10,IF(LEN('２学期'!CA6)=0,\"\",IF('２学期'!CA6=$B$8,IF(LEN('２学期'!CD6)=0,\"\",'２学期'!CD6),\"\")),\"\")","v":""},{"$f":"IF(LEN(O834)=0,\"\",IF(COUNTIF($O$2:$O$1921,O834+1)>0,\"\",IF(COUNTIF($O$2:O834,O834)>1,\"\",O834+1)))","v":""},{"$f":"IFERROR(SMALL($P$1:$P$1921,833),\"\")","v":""}]
[null,null,null,null,null,null,null,null,null,null,null,null,null,null,{"$f":"IF(835<=$B$10,IF(LEN('２学期'!CA7)=0,\"\",IF('２学期'!CA7=$B$8,IF(LEN('２学期'!CD7)=0,\"\",'２学期'!CD7),\"\")),\"\")","v":""},{"$f":"IF(LEN(O835)=0,\"\",IF(COUNTIF($O$2:$O$1921,O835+1)>0,\"\",IF(COUNTIF($O$2:O835,O835)>1,\"\",O835+1)))","v":""},{"$f":"IFERROR(SMALL($P$1:$P$1921,834),\"\")","v":""}]
[null,null,null,null,null,null,null,null,null,null,null,null,null,null,{"$f":"IF(836<=$B$10,IF(LEN('２学期'!CA10)=0,\"\",IF('２学期'!CA10=$B$8,IF(LEN('２学期'!CD10)=0,\"\",'２学期'!CD10),\"\")),\"\")","v":""},{"$f":"IF(LEN(O836)=0,\"\",IF(COUNTIF($O$2:$O$1921,O836+1)>0,\"\",IF(COUNTIF($O$2:O836,O836)>1,\"\",O836+1)))","v":""},{"$f":"IFERROR(SMALL($P$1:$P$1921,835),\"\")","v":""}]
[null,null,null,null,null,null,null,null,null,null,null,null,null,null,{"$f":"IF(837<=$B$10,IF(LEN('２学期'!CA13)=0,\"\",IF('２学期'!CA13=$B$8,IF(LEN('２学期'!CD13)=0,\"\",'２学期'!CD13),\"\")),\"\")","v":""},{"$f":"IF(LEN(O837)=0,\"\",IF(COUNTIF($O$2:$O$1921,O837+1)>0,\"\",IF(COUNTIF($O$2:O837,O837)>1,\"\",O837+1)))","v":""},{"$f":"IFERROR(SMALL($P$1:$P$1921,836),\"\")","v":""}]
[null,null,null,null,null,null,null,null,null,null,null,null,null,null,{"$f":"IF(838<=$B$10,IF(LEN('２学期'!CA16)=0,\"\",IF('２学期'!CA16=$B$8,IF(LEN('２学期'!CD16)=0,\"\",'２学期'!CD16),\"\")),\"\")","v":""},{"$f":"IF(LEN(O838)=0,\"\",IF(COUNTIF($O$2:$O$1921,O838+1)>0,\"\",IF(COUNTIF($O$2:O838,O838)>1,\"\",O838+1)))","v":""},{"$f":"IFERROR(SMALL($P$1:$P$1921,837),\"\")","v":""}]
[null,null,null,null,null,null,null,null,null,null,null,null,null,null,{"$f":"IF(839<=$B$10,IF(LEN('２学期'!CA19)=0,\"\",IF('２学期'!CA19=$B$8,IF(LEN('２学期'!CD19)=0,\"\",'２学期'!CD19),\"\")),\"\")","v":""},{"$f":"IF(LEN(O839)=0,\"\",IF(COUNTIF($O$2:$O$1921,O839+1)>0,\"\",IF(COUNTIF($O$2:O839,O839)>1,\"\",O839+1)))","v":""},{"$f":"IFERROR(SMALL($P$1:$P$1921,838),\"\")","v":""}]
[null,null,null,null,null,null,null,null,null,null,null,null,null,null,{"$f":"IF(840<=$B$10,IF(LEN('２学期'!CA22)=0,\"\",IF('２学期'!CA22=$B$8,IF(LEN('２学期'!CD22)=0,\"\",'２学期'!CD22),\"\")),\"\")","v":""},{"$f":"IF(LEN(O840)=0,\"\",IF(COUNTIF($O$2:$O$1921,O840+1)>0,\"\",IF(COUNTIF($O$2:O840,O840)>1,\"\",O840+1)))","v":""},{"$f":"IFERROR(SMALL($P$1:$P$1921,839),\"\")","v":""}]
[null,null,null,null,null,null,null,null,null,null,null,null,null,null,{"$f":"IF(841<=$B$10,IF(LEN('２学期'!CA25)=0,\"\",IF('２学期'!CA25=$B$8,IF(LEN('２学期'!CD25)=0,\"\",'２学期'!CD25),\"\")),\"\")","v":""},{"$f":"IF(LEN(O841)=0,\"\",IF(COUNTIF($O$2:$O$1921,O841+1)>0,\"\",IF(COUNTIF($O$2:O841,O841)>1,\"\",O841+1)))","v":""},{"$f":"IFERROR(SMALL($P$1:$P$1921,840),\"\")","v":""}]
[null,null,null,null,null,null,null,null,null,null,null,null,null,null,{"$f":"IF(842<=$B$10,IF(LEN('２学期'!CE6)=0,\"\",IF('２学期'!CE6=$B$8,IF(LEN('２学期'!CH6)=0,\"\",'２学期'!CH6),\"\")),\"\")","v":""},{"$f":"IF(LEN(O842)=0,\"\",IF(COUNTIF($O$2:$O$1921,O842+1)>0,\"\",IF(COUNTIF($O$2:O842,O842)>1,\"\",O842+1)))","v":""},{"$f":"IFERROR(SMALL($P$1:$P$1921,841),\"\")","v":""}]
[null,null,null,null,null,null,null,null,null,null,null,null,null,null,{"$f":"IF(843<=$B$10,IF(LEN('２学期'!CE7)=0,\"\",IF('２学期'!CE7=$B$8,IF(LEN('２学期'!CH7)=0,\"\",'２学期'!CH7),\"\")),\"\")","v":""},{"$f":"IF(LEN(O843)=0,\"\",IF(COUNTIF($O$2:$O$1921,O843+1)>0,\"\",IF(COUNTIF($O$2:O843,O843)>1,\"\",O843+1)))","v":""},{"$f":"IFERROR(SMALL($P$1:$P$1921,842),\"\")","v":""}]
[null,null,null,null,null,null,null,null,null,null,null,null,null,null,{"$f":"IF(844<=$B$10,IF(LEN('２学期'!CE10)=0,\"\",IF('２学期'!CE10=$B$8,IF(LEN('２学期'!CH10)=0,\"\",'２学期'!CH10),\"\")),\"\")","v":""},{"$f":"IF(LEN(O844)=0,\"\",IF(COUNTIF($O$2:$O$1921,O844+1)>0,\"\",IF(COUNTIF($O$2:O844,O844)>1,\"\",O844+1)))","v":""},{"$f":"IFERROR(SMALL($P$1:$P$1921,843),\"\")","v":""}]
[null,null,null,null,null,null,null,null,null,null,null,null,null,null,{"$f":"IF(845<=$B$10,IF(LEN('２学期'!CE13)=0,\"\",IF('２学期'!CE13=$B$8,IF(LEN('２学期'!CH13)=0,\"\",'２学期'!CH13),\"\")),\"\")","v":""},{"$f":"IF(LEN(O845)=0,\"\",IF(COUNTIF($O$2:$O$1921,O845+1)>0,\"\",IF(COUNTIF($O$2:O845,O845)>1,\"\",O845+1)))","v":""},{"$f":"IFERROR(SMALL($P$1:$P$1921,844),\"\")","v":""}]
[null,null,null,null,null,null,null,null,null,null,null,null,null,null,{"$f":"IF(846<=$B$10,IF(LEN('２学期'!CE16)=0,\"\",IF('２学期'!CE16=$B$8,IF(LEN('２学期'!CH16)=0,\"\",'２学期'!CH16),\"\")),\"\")","v":""},{"$f":"IF(LEN(O846)=0,\"\",IF(COUNTIF($O$2:$O$1921,O846+1)>0,\"\",IF(COUNTIF($O$2:O846,O846)>1,\"\",O846+1)))","v":""},{"$f":"IFERROR(SMALL($P$1:$P$1921,845),\"\")","v":""}]
[null,null,null,null,null,null,null,null,null,null,null,null,null,null,{"$f":"IF(847<=$B$10,IF(LEN('２学期'!CE19)=0,\"\",IF('２学期'!CE19=$B$8,IF(LEN('２学期'!CH19)=0,\"\",'２学期'!CH19),\"\")),\"\")","v":""},{"$f":"IF(LEN(O847)=0,\"\",IF(COUNTIF($O$2:$O$1921,O847+1)>0,\"\",IF(COUNTIF($O$2:O847,O847)>1,\"\",O847+1)))","v":""},{"$f":"IFERROR(SMALL($P$1:$P$1921,846),\"\")","v":""}]
[null,null,null,null,null,null,null,null,null,null,null,null,null,null,{"$f":"IF(848<=$B$10,IF(LEN('２学期'!CE22)=0,\"\",IF('２学期'!CE22=$B$8,IF(LEN('２学期'!CH22)=0,\"\",'２学期'!CH22),\"\")),\"\")","v":""},{"$f":"IF(LEN(O848)=0,\"\",IF(COUNTIF($O$2:$O$1921,O848+1)>0,\"\",IF(COUNTIF($O$2:O848,O848)>1,\"\",O848+1)))","v":""},{"$f":"IFERROR(SMALL($P$1:$P$1921,847),\"\")","v":""}]
[null,null,null,null,null,null,null,null,null,null,null,null,null,null,{"$f":"IF(849<=$B$10,IF(LEN('２学期'!CE25)=0,\"\",IF('２学期'!CE25=$B$8,IF(LEN('２学期'!CH25)=0,\"\",'２学期'!CH25),\"\")),\"\")","v":""},{"$f":"IF(LEN(O849)=0,\"\",IF(COUNTIF($O$2:$O$1921,O849+1)>0,\"\",IF(COUNTIF($O$2:O849,O849)>1,\"\",O849+1)))","v":""},{"$f":"IFERROR(SMALL($P$1:$P$1921,848),\"\")","v":""}]
[null,null,null,null,null,null,null,null,null,null,null,null,null,null,{"$f":"IF(850<=$B$10,IF(LEN('２学期'!CI6)=0,\"\",IF('２学期'!CI6=$B$8,IF(LEN('２学期'!CL6)=0,\"\",'２学期'!CL6),\"\")),\"\")","v":""},{"$f":"IF(LEN(O850)=0,\"\",IF(COUNTIF($O$2:$O$1921,O850+1)>0,\"\",IF(COUNTIF($O$2:O850,O850)>1,\"\",O850+1)))","v":""},{"$f":"IFERROR(SMALL($P$1:$P$1921,849),\"\")","v":""}]
[null,null,null,null,null,null,null,null,null,null,null,null,null,null,{"$f":"IF(851<=$B$10,IF(LEN('２学期'!CI7)=0,\"\",IF('２学期'!CI7=$B$8,IF(LEN('２学期'!CL7)=0,\"\",'２学期'!CL7),\"\")),\"\")","v":""},{"$f":"IF(LEN(O851)=0,\"\",IF(COUNTIF($O$2:$O$1921,O851+1)>0,\"\",IF(COUNTIF($O$2:O851,O851)>1,\"\",O851+1)))","v":""},{"$f":"IFERROR(SMALL($P$1:$P$1921,850),\"\")","v":""}]
[null,null,null,null,null,null,null,null,null,null,null,null,null,null,{"$f":"IF(852<=$B$10,IF(LEN('２学期'!CI10)=0,\"\",IF('２学期'!CI10=$B$8,IF(LEN('２学期'!CL10)=0,\"\",'２学期'!CL10),\"\")),\"\")","v":""},{"$f":"IF(LEN(O852)=0,\"\",IF(COUNTIF($O$2:$O$1921,O852+1)>0,\"\",IF(COUNTIF($O$2:O852,O852)>1,\"\",O852+1)))","v":""},{"$f":"IFERROR(SMALL($P$1:$P$1921,851),\"\")","v":""}]
[null,null,null,null,null,null,null,null,null,null,null,null,null,null,{"$f":"IF(853<=$B$10,IF(LEN('２学期'!CI13)=0,\"\",IF('２学期'!CI13=$B$8,IF(LEN('２学期'!CL13)=0,\"\",'２学期'!CL13),\"\")),\"\")","v":""},{"$f":"IF(LEN(O853)=0,\"\",IF(COUNTIF($O$2:$O$1921,O853+1)>0,\"\",IF(COUNTIF($O$2:O853,O853)>1,\"\",O853+1)))","v":""},{"$f":"IFERROR(SMALL($P$1:$P$1921,852),\"\")","v":""}]
[null,null,null,null,null,null,null,null,null,null,null,null,null,null,{"$f":"IF(854<=$B$10,IF(LEN('２学期'!CI16)=0,\"\",IF('２学期'!CI16=$B$8,IF(LEN('２学期'!CL16)=0,\"\",'２学期'!CL16),\"\")),\"\")","v":""},{"$f":"IF(LEN(O854)=0,\"\",IF(COUNTIF($O$2:$O$1921,O854+1)>0,\"\",IF(COUNTIF($O$2:O854,O854)>1,\"\",O854+1)))","v":""},{"$f":"IFERROR(SMALL($P$1:$P$1921,853),\"\")","v":""}]
[null,null,null,null,null,null,null,null,null,null,null,null,null,null,{"$f":"IF(855<=$B$10,IF(LEN('２学期'!CI19)=0,\"\",IF('２学期'!CI19=$B$8,IF(LEN('２学期'!CL19)=0,\"\",'２学期'!CL19),\"\")),\"\")","v":""},{"$f":"IF(LEN(O855)=0,\"\",IF(COUNTIF($O$2:$O$1921,O855+1)>0,\"\",IF(COUNTIF($O$2:O855,O855)>1,\"\",O855+1)))","v":""},{"$f":"IFERROR(SMALL($P$1:$P$1921,854),\"\")","v":""}]
[null,null,null,null,null,null,null,null,null,null,null,null,null,null,{"$f":"IF(856<=$B$10,IF(LEN('２学期'!CI22)=0,\"\",IF('２学期'!CI22=$B$8,IF(LEN('２学期'!CL22)=0,\"\",'２学期'!CL22),\"\")),\"\")","v":""},{"$f":"IF(LEN(O856)=0,\"\",IF(COUNTIF($O$2:$O$1921,O856+1)>0,\"\",IF(COUNTIF($O$2:O856,O856)>1,\"\",O856+1)))","v":""},{"$f":"IFERROR(SMALL($P$1:$P$1921,855),\"\")","v":""}]
[null,null,null,null,null,null,null,null,null,null,null,null,null,null,{"$f":"IF(857<=$B$10,IF(LEN('２学期'!CI25)=0,\"\",IF('２学期'!CI25=$B$8,IF(LEN('２学期'!CL25)=0,\"\",'２学期'!CL25),\"\")),\"\")","v":""},{"$f":"IF(LEN(O857)=0,\"\",IF(COUNTIF($O$2:$O$1921,O857+1)>0,\"\",IF(COUNTIF($O$2:O857,O857)>1,\"\",O857+1)))","v":""},{"$f":"IFERROR(SMALL($P$1:$P$1921,856),\"\")","v":""}]
[null,null,null,null,null,null,null,null,null,null,null,null,null,null,{"$f":"IF(858<=$B$10,IF(LEN('２学期'!CM6)=0,\"\",IF('２学期'!CM6=$B$8,IF(LEN('２学期'!CP6)=0,\"\",'２学期'!CP6),\"\")),\"\")","v":""},{"$f":"IF(LEN(O858)=0,\"\",IF(COUNTIF($O$2:$O$1921,O858+1)>0,\"\",IF(COUNTIF($O$2:O858,O858)>1,\"\",O858+1)))","v":""},{"$f":"IFERROR(SMALL($P$1:$P$1921,857),\"\")","v":""}]
[null,null,null,null,null,null,null,null,null,null,null,null,null,null,{"$f":"IF(859<=$B$10,IF(LEN('２学期'!CM7)=0,\"\",IF('２学期'!CM7=$B$8,IF(LEN('２学期'!CP7)=0,\"\",'２学期'!CP7),\"\")),\"\")","v":""},{"$f":"IF(LEN(O859)=0,\"\",IF(COUNTIF($O$2:$O$1921,O859+1)>0,\"\",IF(COUNTIF($O$2:O859,O859)>1,\"\",O859+1)))","v":""},{"$f":"IFERROR(SMALL($P$1:$P$1921,858),\"\")","v":""}]
[null,null,null,null,null,null,null,null,null,null,null,null,null,null,{"$f":"IF(860<=$B$10,IF(LEN('２学期'!CM10)=0,\"\",IF('２学期'!CM10=$B$8,IF(LEN('２学期'!CP10)=0,\"\",'２学期'!CP10),\"\")),\"\")","v":""},{"$f":"IF(LEN(O860)=0,\"\",IF(COUNTIF($O$2:$O$1921,O860+1)>0,\"\",IF(COUNTIF($O$2:O860,O860)>1,\"\",O860+1)))","v":""},{"$f":"IFERROR(SMALL($P$1:$P$1921,859),\"\")","v":""}]
[null,null,null,null,null,null,null,null,null,null,null,null,null,null,{"$f":"IF(861<=$B$10,IF(LEN('２学期'!CM13)=0,\"\",IF('２学期'!CM13=$B$8,IF(LEN('２学期'!CP13)=0,\"\",'２学期'!CP13),\"\")),\"\")","v":""},{"$f":"IF(LEN(O861)=0,\"\",IF(COUNTIF($O$2:$O$1921,O861+1)>0,\"\",IF(COUNTIF($O$2:O861,O861)>1,\"\",O861+1)))","v":""},{"$f":"IFERROR(SMALL($P$1:$P$1921,860),\"\")","v":""}]
[null,null,null,null,null,null,null,null,null,null,null,null,null,null,{"$f":"IF(862<=$B$10,IF(LEN('２学期'!CM16)=0,\"\",IF('２学期'!CM16=$B$8,IF(LEN('２学期'!CP16)=0,\"\",'２学期'!CP16),\"\")),\"\")","v":""},{"$f":"IF(LEN(O862)=0,\"\",IF(COUNTIF($O$2:$O$1921,O862+1)>0,\"\",IF(COUNTIF($O$2:O862,O862)>1,\"\",O862+1)))","v":""},{"$f":"IFERROR(SMALL($P$1:$P$1921,861),\"\")","v":""}]
[null,null,null,null,null,null,null,null,null,null,null,null,null,null,{"$f":"IF(863<=$B$10,IF(LEN('２学期'!CM19)=0,\"\",IF('２学期'!CM19=$B$8,IF(LEN('２学期'!CP19)=0,\"\",'２学期'!CP19),\"\")),\"\")","v":""},{"$f":"IF(LEN(O863)=0,\"\",IF(COUNTIF($O$2:$O$1921,O863+1)>0,\"\",IF(COUNTIF($O$2:O863,O863)>1,\"\",O863+1)))","v":""},{"$f":"IFERROR(SMALL($P$1:$P$1921,862),\"\")","v":""}]
[null,null,null,null,null,null,null,null,null,null,null,null,null,null,{"$f":"IF(864<=$B$10,IF(LEN('２学期'!CM22)=0,\"\",IF('２学期'!CM22=$B$8,IF(LEN('２学期'!CP22)=0,\"\",'２学期'!CP22),\"\")),\"\")","v":""},{"$f":"IF(LEN(O864)=0,\"\",IF(COUNTIF($O$2:$O$1921,O864+1)>0,\"\",IF(COUNTIF($O$2:O864,O864)>1,\"\",O864+1)))","v":""},{"$f":"IFERROR(SMALL($P$1:$P$1921,863),\"\")","v":""}]
[null,null,null,null,null,null,null,null,null,null,null,null,null,null,{"$f":"IF(865<=$B$10,IF(LEN('２学期'!CM25)=0,\"\",IF('２学期'!CM25=$B$8,IF(LEN('２学期'!CP25)=0,\"\",'２学期'!CP25),\"\")),\"\")","v":""},{"$f":"IF(LEN(O865)=0,\"\",IF(COUNTIF($O$2:$O$1921,O865+1)>0,\"\",IF(COUNTIF($O$2:O865,O865)>1,\"\",O865+1)))","v":""},{"$f":"IFERROR(SMALL($P$1:$P$1921,864),\"\")","v":""}]
[null,null,null,null,null,null,null,null,null,null,null,null,null,null,{"$f":"IF(866<=$B$10,IF(LEN('２学期'!CQ6)=0,\"\",IF('２学期'!CQ6=$B$8,IF(LEN('２学期'!CT6)=0,\"\",'２学期'!CT6),\"\")),\"\")","v":""},{"$f":"IF(LEN(O866)=0,\"\",IF(COUNTIF($O$2:$O$1921,O866+1)>0,\"\",IF(COUNTIF($O$2:O866,O866)>1,\"\",O866+1)))","v":""},{"$f":"IFERROR(SMALL($P$1:$P$1921,865),\"\")","v":""}]
[null,null,null,null,null,null,null,null,null,null,null,null,null,null,{"$f":"IF(867<=$B$10,IF(LEN('２学期'!CQ7)=0,\"\",IF('２学期'!CQ7=$B$8,IF(LEN('２学期'!CT7)=0,\"\",'２学期'!CT7),\"\")),\"\")","v":""},{"$f":"IF(LEN(O867)=0,\"\",IF(COUNTIF($O$2:$O$1921,O867+1)>0,\"\",IF(COUNTIF($O$2:O867,O867)>1,\"\",O867+1)))","v":""},{"$f":"IFERROR(SMALL($P$1:$P$1921,866),\"\")","v":""}]
[null,null,null,null,null,null,null,null,null,null,null,null,null,null,{"$f":"IF(868<=$B$10,IF(LEN('２学期'!CQ10)=0,\"\",IF('２学期'!CQ10=$B$8,IF(LEN('２学期'!CT10)=0,\"\",'２学期'!CT10),\"\")),\"\")","v":""},{"$f":"IF(LEN(O868)=0,\"\",IF(COUNTIF($O$2:$O$1921,O868+1)>0,\"\",IF(COUNTIF($O$2:O868,O868)>1,\"\",O868+1)))","v":""},{"$f":"IFERROR(SMALL($P$1:$P$1921,867),\"\")","v":""}]
[null,null,null,null,null,null,null,null,null,null,null,null,null,null,{"$f":"IF(869<=$B$10,IF(LEN('２学期'!CQ13)=0,\"\",IF('２学期'!CQ13=$B$8,IF(LEN('２学期'!CT13)=0,\"\",'２学期'!CT13),\"\")),\"\")","v":""},{"$f":"IF(LEN(O869)=0,\"\",IF(COUNTIF($O$2:$O$1921,O869+1)>0,\"\",IF(COUNTIF($O$2:O869,O869)>1,\"\",O869+1)))","v":""},{"$f":"IFERROR(SMALL($P$1:$P$1921,868),\"\")","v":""}]
[null,null,null,null,null,null,null,null,null,null,null,null,null,null,{"$f":"IF(870<=$B$10,IF(LEN('２学期'!CQ16)=0,\"\",IF('２学期'!CQ16=$B$8,IF(LEN('２学期'!CT16)=0,\"\",'２学期'!CT16),\"\")),\"\")","v":""},{"$f":"IF(LEN(O870)=0,\"\",IF(COUNTIF($O$2:$O$1921,O870+1)>0,\"\",IF(COUNTIF($O$2:O870,O870)>1,\"\",O870+1)))","v":""},{"$f":"IFERROR(SMALL($P$1:$P$1921,869),\"\")","v":""}]
[null,null,null,null,null,null,null,null,null,null,null,null,null,null,{"$f":"IF(871<=$B$10,IF(LEN('２学期'!CQ19)=0,\"\",IF('２学期'!CQ19=$B$8,IF(LEN('２学期'!CT19)=0,\"\",'２学期'!CT19),\"\")),\"\")","v":""},{"$f":"IF(LEN(O871)=0,\"\",IF(COUNTIF($O$2:$O$1921,O871+1)>0,\"\",IF(COUNTIF($O$2:O871,O871)>1,\"\",O871+1)))","v":""},{"$f":"IFERROR(SMALL($P$1:$P$1921,870),\"\")","v":""}]
[null,null,null,null,null,null,null,null,null,null,null,null,null,null,{"$f":"IF(872<=$B$10,IF(LEN('２学期'!CQ22)=0,\"\",IF('２学期'!CQ22=$B$8,IF(LEN('２学期'!CT22)=0,\"\",'２学期'!CT22),\"\")),\"\")","v":""},{"$f":"IF(LEN(O872)=0,\"\",IF(COUNTIF($O$2:$O$1921,O872+1)>0,\"\",IF(COUNTIF($O$2:O872,O872)>1,\"\",O872+1)))","v":""},{"$f":"IFERROR(SMALL($P$1:$P$1921,871),\"\")","v":""}]
[null,null,null,null,null,null,null,null,null,null,null,null,null,null,{"$f":"IF(873<=$B$10,IF(LEN('２学期'!CQ25)=0,\"\",IF('２学期'!CQ25=$B$8,IF(LEN('２学期'!CT25)=0,\"\",'２学期'!CT25),\"\")),\"\")","v":""},{"$f":"IF(LEN(O873)=0,\"\",IF(COUNTIF($O$2:$O$1921,O873+1)>0,\"\",IF(COUNTIF($O$2:O873,O873)>1,\"\",O873+1)))","v":""},{"$f":"IFERROR(SMALL($P$1:$P$1921,872),\"\")","v":""}]
[null,null,null,null,null,null,null,null,null,null,null,null,null,null,{"$f":"IF(874<=$B$10,IF(LEN('２学期'!CU6)=0,\"\",IF('２学期'!CU6=$B$8,IF(LEN('２学期'!CX6)=0,\"\",'２学期'!CX6),\"\")),\"\")","v":""},{"$f":"IF(LEN(O874)=0,\"\",IF(COUNTIF($O$2:$O$1921,O874+1)>0,\"\",IF(COUNTIF($O$2:O874,O874)>1,\"\",O874+1)))","v":""},{"$f":"IFERROR(SMALL($P$1:$P$1921,873),\"\")","v":""}]
[null,null,null,null,null,null,null,null,null,null,null,null,null,null,{"$f":"IF(875<=$B$10,IF(LEN('２学期'!CU7)=0,\"\",IF('２学期'!CU7=$B$8,IF(LEN('２学期'!CX7)=0,\"\",'２学期'!CX7),\"\")),\"\")","v":""},{"$f":"IF(LEN(O875)=0,\"\",IF(COUNTIF($O$2:$O$1921,O875+1)>0,\"\",IF(COUNTIF($O$2:O875,O875)>1,\"\",O875+1)))","v":""},{"$f":"IFERROR(SMALL($P$1:$P$1921,874),\"\")","v":""}]
[null,null,null,null,null,null,null,null,null,null,null,null,null,null,{"$f":"IF(876<=$B$10,IF(LEN('２学期'!CU10)=0,\"\",IF('２学期'!CU10=$B$8,IF(LEN('２学期'!CX10)=0,\"\",'２学期'!CX10),\"\")),\"\")","v":""},{"$f":"IF(LEN(O876)=0,\"\",IF(COUNTIF($O$2:$O$1921,O876+1)>0,\"\",IF(COUNTIF($O$2:O876,O876)>1,\"\",O876+1)))","v":""},{"$f":"IFERROR(SMALL($P$1:$P$1921,875),\"\")","v":""}]
[null,null,null,null,null,null,null,null,null,null,null,null,null,null,{"$f":"IF(877<=$B$10,IF(LEN('２学期'!CU13)=0,\"\",IF('２学期'!CU13=$B$8,IF(LEN('２学期'!CX13)=0,\"\",'２学期'!CX13),\"\")),\"\")","v":""},{"$f":"IF(LEN(O877)=0,\"\",IF(COUNTIF($O$2:$O$1921,O877+1)>0,\"\",IF(COUNTIF($O$2:O877,O877)>1,\"\",O877+1)))","v":""},{"$f":"IFERROR(SMALL($P$1:$P$1921,876),\"\")","v":""}]
[null,null,null,null,null,null,null,null,null,null,null,null,null,null,{"$f":"IF(878<=$B$10,IF(LEN('２学期'!CU16)=0,\"\",IF('２学期'!CU16=$B$8,IF(LEN('２学期'!CX16)=0,\"\",'２学期'!CX16),\"\")),\"\")","v":""},{"$f":"IF(LEN(O878)=0,\"\",IF(COUNTIF($O$2:$O$1921,O878+1)>0,\"\",IF(COUNTIF($O$2:O878,O878)>1,\"\",O878+1)))","v":""},{"$f":"IFERROR(SMALL($P$1:$P$1921,877),\"\")","v":""}]
[null,null,null,null,null,null,null,null,null,null,null,null,null,null,{"$f":"IF(879<=$B$10,IF(LEN('２学期'!CU19)=0,\"\",IF('２学期'!CU19=$B$8,IF(LEN('２学期'!CX19)=0,\"\",'２学期'!CX19),\"\")),\"\")","v":""},{"$f":"IF(LEN(O879)=0,\"\",IF(COUNTIF($O$2:$O$1921,O879+1)>0,\"\",IF(COUNTIF($O$2:O879,O879)>1,\"\",O879+1)))","v":""},{"$f":"IFERROR(SMALL($P$1:$P$1921,878),\"\")","v":""}]
[null,null,null,null,null,null,null,null,null,null,null,null,null,null,{"$f":"IF(880<=$B$10,IF(LEN('２学期'!CU22)=0,\"\",IF('２学期'!CU22=$B$8,IF(LEN('２学期'!CX22)=0,\"\",'２学期'!CX22),\"\")),\"\")","v":""},{"$f":"IF(LEN(O880)=0,\"\",IF(COUNTIF($O$2:$O$1921,O880+1)>0,\"\",IF(COUNTIF($O$2:O880,O880)>1,\"\",O880+1)))","v":""},{"$f":"IFERROR(SMALL($P$1:$P$1921,879),\"\")","v":""}]
[null,null,null,null,null,null,null,null,null,null,null,null,null,null,{"$f":"IF(881<=$B$10,IF(LEN('２学期'!CU25)=0,\"\",IF('２学期'!CU25=$B$8,IF(LEN('２学期'!CX25)=0,\"\",'２学期'!CX25),\"\")),\"\")","v":""},{"$f":"IF(LEN(O881)=0,\"\",IF(COUNTIF($O$2:$O$1921,O881+1)>0,\"\",IF(COUNTIF($O$2:O881,O881)>1,\"\",O881+1)))","v":""},{"$f":"IFERROR(SMALL($P$1:$P$1921,880),\"\")","v":""}]
[null,null,null,null,null,null,null,null,null,null,null,null,null,null,{"$f":"IF(882<=$B$10,IF(LEN('２学期'!CY6)=0,\"\",IF('２学期'!CY6=$B$8,IF(LEN('２学期'!DB6)=0,\"\",'２学期'!DB6),\"\")),\"\")","v":""},{"$f":"IF(LEN(O882)=0,\"\",IF(COUNTIF($O$2:$O$1921,O882+1)>0,\"\",IF(COUNTIF($O$2:O882,O882)>1,\"\",O882+1)))","v":""},{"$f":"IFERROR(SMALL($P$1:$P$1921,881),\"\")","v":""}]
[null,null,null,null,null,null,null,null,null,null,null,null,null,null,{"$f":"IF(883<=$B$10,IF(LEN('２学期'!CY7)=0,\"\",IF('２学期'!CY7=$B$8,IF(LEN('２学期'!DB7)=0,\"\",'２学期'!DB7),\"\")),\"\")","v":""},{"$f":"IF(LEN(O883)=0,\"\",IF(COUNTIF($O$2:$O$1921,O883+1)>0,\"\",IF(COUNTIF($O$2:O883,O883)>1,\"\",O883+1)))","v":""},{"$f":"IFERROR(SMALL($P$1:$P$1921,882),\"\")","v":""}]
[null,null,null,null,null,null,null,null,null,null,null,null,null,null,{"$f":"IF(884<=$B$10,IF(LEN('２学期'!CY10)=0,\"\",IF('２学期'!CY10=$B$8,IF(LEN('２学期'!DB10)=0,\"\",'２学期'!DB10),\"\")),\"\")","v":""},{"$f":"IF(LEN(O884)=0,\"\",IF(COUNTIF($O$2:$O$1921,O884+1)>0,\"\",IF(COUNTIF($O$2:O884,O884)>1,\"\",O884+1)))","v":""},{"$f":"IFERROR(SMALL($P$1:$P$1921,883),\"\")","v":""}]
[null,null,null,null,null,null,null,null,null,null,null,null,null,null,{"$f":"IF(885<=$B$10,IF(LEN('２学期'!CY13)=0,\"\",IF('２学期'!CY13=$B$8,IF(LEN('２学期'!DB13)=0,\"\",'２学期'!DB13),\"\")),\"\")","v":""},{"$f":"IF(LEN(O885)=0,\"\",IF(COUNTIF($O$2:$O$1921,O885+1)>0,\"\",IF(COUNTIF($O$2:O885,O885)>1,\"\",O885+1)))","v":""},{"$f":"IFERROR(SMALL($P$1:$P$1921,884),\"\")","v":""}]
[null,null,null,null,null,null,null,null,null,null,null,null,null,null,{"$f":"IF(886<=$B$10,IF(LEN('２学期'!CY16)=0,\"\",IF('２学期'!CY16=$B$8,IF(LEN('２学期'!DB16)=0,\"\",'２学期'!DB16),\"\")),\"\")","v":""},{"$f":"IF(LEN(O886)=0,\"\",IF(COUNTIF($O$2:$O$1921,O886+1)>0,\"\",IF(COUNTIF($O$2:O886,O886)>1,\"\",O886+1)))","v":""},{"$f":"IFERROR(SMALL($P$1:$P$1921,885),\"\")","v":""}]
[null,null,null,null,null,null,null,null,null,null,null,null,null,null,{"$f":"IF(887<=$B$10,IF(LEN('２学期'!CY19)=0,\"\",IF('２学期'!CY19=$B$8,IF(LEN('２学期'!DB19)=0,\"\",'２学期'!DB19),\"\")),\"\")","v":""},{"$f":"IF(LEN(O887)=0,\"\",IF(COUNTIF($O$2:$O$1921,O887+1)>0,\"\",IF(COUNTIF($O$2:O887,O887)>1,\"\",O887+1)))","v":""},{"$f":"IFERROR(SMALL($P$1:$P$1921,886),\"\")","v":""}]
[null,null,null,null,null,null,null,null,null,null,null,null,null,null,{"$f":"IF(888<=$B$10,IF(LEN('２学期'!CY22)=0,\"\",IF('２学期'!CY22=$B$8,IF(LEN('２学期'!DB22)=0,\"\",'２学期'!DB22),\"\")),\"\")","v":""},{"$f":"IF(LEN(O888)=0,\"\",IF(COUNTIF($O$2:$O$1921,O888+1)>0,\"\",IF(COUNTIF($O$2:O888,O888)>1,\"\",O888+1)))","v":""},{"$f":"IFERROR(SMALL($P$1:$P$1921,887),\"\")","v":""}]
[null,null,null,null,null,null,null,null,null,null,null,null,null,null,{"$f":"IF(889<=$B$10,IF(LEN('２学期'!CY25)=0,\"\",IF('２学期'!CY25=$B$8,IF(LEN('２学期'!DB25)=0,\"\",'２学期'!DB25),\"\")),\"\")","v":""},{"$f":"IF(LEN(O889)=0,\"\",IF(COUNTIF($O$2:$O$1921,O889+1)>0,\"\",IF(COUNTIF($O$2:O889,O889)>1,\"\",O889+1)))","v":""},{"$f":"IFERROR(SMALL($P$1:$P$1921,888),\"\")","v":""}]
[null,null,null,null,null,null,null,null,null,null,null,null,null,null,{"$f":"IF(890<=$B$10,IF(LEN('２学期'!DC6)=0,\"\",IF('２学期'!DC6=$B$8,IF(LEN('２学期'!DF6)=0,\"\",'２学期'!DF6),\"\")),\"\")","v":""},{"$f":"IF(LEN(O890)=0,\"\",IF(COUNTIF($O$2:$O$1921,O890+1)>0,\"\",IF(COUNTIF($O$2:O890,O890)>1,\"\",O890+1)))","v":""},{"$f":"IFERROR(SMALL($P$1:$P$1921,889),\"\")","v":""}]
[null,null,null,null,null,null,null,null,null,null,null,null,null,null,{"$f":"IF(891<=$B$10,IF(LEN('２学期'!DC7)=0,\"\",IF('２学期'!DC7=$B$8,IF(LEN('２学期'!DF7)=0,\"\",'２学期'!DF7),\"\")),\"\")","v":""},{"$f":"IF(LEN(O891)=0,\"\",IF(COUNTIF($O$2:$O$1921,O891+1)>0,\"\",IF(COUNTIF($O$2:O891,O891)>1,\"\",O891+1)))","v":""},{"$f":"IFERROR(SMALL($P$1:$P$1921,890),\"\")","v":""}]
[null,null,null,null,null,null,null,null,null,null,null,null,null,null,{"$f":"IF(892<=$B$10,IF(LEN('２学期'!DC10)=0,\"\",IF('２学期'!DC10=$B$8,IF(LEN('２学期'!DF10)=0,\"\",'２学期'!DF10),\"\")),\"\")","v":""},{"$f":"IF(LEN(O892)=0,\"\",IF(COUNTIF($O$2:$O$1921,O892+1)>0,\"\",IF(COUNTIF($O$2:O892,O892)>1,\"\",O892+1)))","v":""},{"$f":"IFERROR(SMALL($P$1:$P$1921,891),\"\")","v":""}]
[null,null,null,null,null,null,null,null,null,null,null,null,null,null,{"$f":"IF(893<=$B$10,IF(LEN('２学期'!DC13)=0,\"\",IF('２学期'!DC13=$B$8,IF(LEN('２学期'!DF13)=0,\"\",'２学期'!DF13),\"\")),\"\")","v":""},{"$f":"IF(LEN(O893)=0,\"\",IF(COUNTIF($O$2:$O$1921,O893+1)>0,\"\",IF(COUNTIF($O$2:O893,O893)>1,\"\",O893+1)))","v":""},{"$f":"IFERROR(SMALL($P$1:$P$1921,892),\"\")","v":""}]
[null,null,null,null,null,null,null,null,null,null,null,null,null,null,{"$f":"IF(894<=$B$10,IF(LEN('２学期'!DC16)=0,\"\",IF('２学期'!DC16=$B$8,IF(LEN('２学期'!DF16)=0,\"\",'２学期'!DF16),\"\")),\"\")","v":""},{"$f":"IF(LEN(O894)=0,\"\",IF(COUNTIF($O$2:$O$1921,O894+1)>0,\"\",IF(COUNTIF($O$2:O894,O894)>1,\"\",O894+1)))","v":""},{"$f":"IFERROR(SMALL($P$1:$P$1921,893),\"\")","v":""}]
[null,null,null,null,null,null,null,null,null,null,null,null,null,null,{"$f":"IF(895<=$B$10,IF(LEN('２学期'!DC19)=0,\"\",IF('２学期'!DC19=$B$8,IF(LEN('２学期'!DF19)=0,\"\",'２学期'!DF19),\"\")),\"\")","v":""},{"$f":"IF(LEN(O895)=0,\"\",IF(COUNTIF($O$2:$O$1921,O895+1)>0,\"\",IF(COUNTIF($O$2:O895,O895)>1,\"\",O895+1)))","v":""},{"$f":"IFERROR(SMALL($P$1:$P$1921,894),\"\")","v":""}]
[null,null,null,null,null,null,null,null,null,null,null,null,null,null,{"$f":"IF(896<=$B$10,IF(LEN('２学期'!DC22)=0,\"\",IF('２学期'!DC22=$B$8,IF(LEN('２学期'!DF22)=0,\"\",'２学期'!DF22),\"\")),\"\")","v":""},{"$f":"IF(LEN(O896)=0,\"\",IF(COUNTIF($O$2:$O$1921,O896+1)>0,\"\",IF(COUNTIF($O$2:O896,O896)>1,\"\",O896+1)))","v":""},{"$f":"IFERROR(SMALL($P$1:$P$1921,895),\"\")","v":""}]
[null,null,null,null,null,null,null,null,null,null,null,null,null,null,{"$f":"IF(897<=$B$10,IF(LEN('２学期'!DC25)=0,\"\",IF('２学期'!DC25=$B$8,IF(LEN('２学期'!DF25)=0,\"\",'２学期'!DF25),\"\")),\"\")","v":""},{"$f":"IF(LEN(O897)=0,\"\",IF(COUNTIF($O$2:$O$1921,O897+1)>0,\"\",IF(COUNTIF($O$2:O897,O897)>1,\"\",O897+1)))","v":""},{"$f":"IFERROR(SMALL($P$1:$P$1921,896),\"\")","v":""}]
[null,null,null,null,null,null,null,null,null,null,null,null,null,null,{"$f":"IF(898<=$B$10,IF(LEN('２学期'!DG6)=0,\"\",IF('２学期'!DG6=$B$8,IF(LEN('２学期'!DJ6)=0,\"\",'２学期'!DJ6),\"\")),\"\")","v":""},{"$f":"IF(LEN(O898)=0,\"\",IF(COUNTIF($O$2:$O$1921,O898+1)>0,\"\",IF(COUNTIF($O$2:O898,O898)>1,\"\",O898+1)))","v":""},{"$f":"IFERROR(SMALL($P$1:$P$1921,897),\"\")","v":""}]
[null,null,null,null,null,null,null,null,null,null,null,null,null,null,{"$f":"IF(899<=$B$10,IF(LEN('２学期'!DG7)=0,\"\",IF('２学期'!DG7=$B$8,IF(LEN('２学期'!DJ7)=0,\"\",'２学期'!DJ7),\"\")),\"\")","v":""},{"$f":"IF(LEN(O899)=0,\"\",IF(COUNTIF($O$2:$O$1921,O899+1)>0,\"\",IF(COUNTIF($O$2:O899,O899)>1,\"\",O899+1)))","v":""},{"$f":"IFERROR(SMALL($P$1:$P$1921,898),\"\")","v":""}]
[null,null,null,null,null,null,null,null,null,null,null,null,null,null,{"$f":"IF(900<=$B$10,IF(LEN('２学期'!DG10)=0,\"\",IF('２学期'!DG10=$B$8,IF(LEN('２学期'!DJ10)=0,\"\",'２学期'!DJ10),\"\")),\"\")","v":""},{"$f":"IF(LEN(O900)=0,\"\",IF(COUNTIF($O$2:$O$1921,O900+1)>0,\"\",IF(COUNTIF($O$2:O900,O900)>1,\"\",O900+1)))","v":""},{"$f":"IFERROR(SMALL($P$1:$P$1921,899),\"\")","v":""}]
[null,null,null,null,null,null,null,null,null,null,null,null,null,null,{"$f":"IF(901<=$B$10,IF(LEN('２学期'!DG13)=0,\"\",IF('２学期'!DG13=$B$8,IF(LEN('２学期'!DJ13)=0,\"\",'２学期'!DJ13),\"\")),\"\")","v":""},{"$f":"IF(LEN(O901)=0,\"\",IF(COUNTIF($O$2:$O$1921,O901+1)>0,\"\",IF(COUNTIF($O$2:O901,O901)>1,\"\",O901+1)))","v":""},{"$f":"IFERROR(SMALL($P$1:$P$1921,900),\"\")","v":""}]
[null,null,null,null,null,null,null,null,null,null,null,null,null,null,{"$f":"IF(902<=$B$10,IF(LEN('２学期'!DG16)=0,\"\",IF('２学期'!DG16=$B$8,IF(LEN('２学期'!DJ16)=0,\"\",'２学期'!DJ16),\"\")),\"\")","v":""},{"$f":"IF(LEN(O902)=0,\"\",IF(COUNTIF($O$2:$O$1921,O902+1)>0,\"\",IF(COUNTIF($O$2:O902,O902)>1,\"\",O902+1)))","v":""},{"$f":"IFERROR(SMALL($P$1:$P$1921,901),\"\")","v":""}]
[null,null,null,null,null,null,null,null,null,null,null,null,null,null,{"$f":"IF(903<=$B$10,IF(LEN('２学期'!DG19)=0,\"\",IF('２学期'!DG19=$B$8,IF(LEN('２学期'!DJ19)=0,\"\",'２学期'!DJ19),\"\")),\"\")","v":""},{"$f":"IF(LEN(O903)=0,\"\",IF(COUNTIF($O$2:$O$1921,O903+1)>0,\"\",IF(COUNTIF($O$2:O903,O903)>1,\"\",O903+1)))","v":""},{"$f":"IFERROR(SMALL($P$1:$P$1921,902),\"\")","v":""}]
[null,null,null,null,null,null,null,null,null,null,null,null,null,null,{"$f":"IF(904<=$B$10,IF(LEN('２学期'!DG22)=0,\"\",IF('２学期'!DG22=$B$8,IF(LEN('２学期'!DJ22)=0,\"\",'２学期'!DJ22),\"\")),\"\")","v":""},{"$f":"IF(LEN(O904)=0,\"\",IF(COUNTIF($O$2:$O$1921,O904+1)>0,\"\",IF(COUNTIF($O$2:O904,O904)>1,\"\",O904+1)))","v":""},{"$f":"IFERROR(SMALL($P$1:$P$1921,903),\"\")","v":""}]
[null,null,null,null,null,null,null,null,null,null,null,null,null,null,{"$f":"IF(905<=$B$10,IF(LEN('２学期'!DG25)=0,\"\",IF('２学期'!DG25=$B$8,IF(LEN('２学期'!DJ25)=0,\"\",'２学期'!DJ25),\"\")),\"\")","v":""},{"$f":"IF(LEN(O905)=0,\"\",IF(COUNTIF($O$2:$O$1921,O905+1)>0,\"\",IF(COUNTIF($O$2:O905,O905)>1,\"\",O905+1)))","v":""},{"$f":"IFERROR(SMALL($P$1:$P$1921,904),\"\")","v":""}]
[null,null,null,null,null,null,null,null,null,null,null,null,null,null,{"$f":"IF(906<=$B$10,IF(LEN('２学期'!DK6)=0,\"\",IF('２学期'!DK6=$B$8,IF(LEN('２学期'!DN6)=0,\"\",'２学期'!DN6),\"\")),\"\")","v":""},{"$f":"IF(LEN(O906)=0,\"\",IF(COUNTIF($O$2:$O$1921,O906+1)>0,\"\",IF(COUNTIF($O$2:O906,O906)>1,\"\",O906+1)))","v":""},{"$f":"IFERROR(SMALL($P$1:$P$1921,905),\"\")","v":""}]
[null,null,null,null,null,null,null,null,null,null,null,null,null,null,{"$f":"IF(907<=$B$10,IF(LEN('２学期'!DK7)=0,\"\",IF('２学期'!DK7=$B$8,IF(LEN('２学期'!DN7)=0,\"\",'２学期'!DN7),\"\")),\"\")","v":""},{"$f":"IF(LEN(O907)=0,\"\",IF(COUNTIF($O$2:$O$1921,O907+1)>0,\"\",IF(COUNTIF($O$2:O907,O907)>1,\"\",O907+1)))","v":""},{"$f":"IFERROR(SMALL($P$1:$P$1921,906),\"\")","v":""}]
[null,null,null,null,null,null,null,null,null,null,null,null,null,null,{"$f":"IF(908<=$B$10,IF(LEN('２学期'!DK10)=0,\"\",IF('２学期'!DK10=$B$8,IF(LEN('２学期'!DN10)=0,\"\",'２学期'!DN10),\"\")),\"\")","v":""},{"$f":"IF(LEN(O908)=0,\"\",IF(COUNTIF($O$2:$O$1921,O908+1)>0,\"\",IF(COUNTIF($O$2:O908,O908)>1,\"\",O908+1)))","v":""},{"$f":"IFERROR(SMALL($P$1:$P$1921,907),\"\")","v":""}]
[null,null,null,null,null,null,null,null,null,null,null,null,null,null,{"$f":"IF(909<=$B$10,IF(LEN('２学期'!DK13)=0,\"\",IF('２学期'!DK13=$B$8,IF(LEN('２学期'!DN13)=0,\"\",'２学期'!DN13),\"\")),\"\")","v":""},{"$f":"IF(LEN(O909)=0,\"\",IF(COUNTIF($O$2:$O$1921,O909+1)>0,\"\",IF(COUNTIF($O$2:O909,O909)>1,\"\",O909+1)))","v":""},{"$f":"IFERROR(SMALL($P$1:$P$1921,908),\"\")","v":""}]
[null,null,null,null,null,null,null,null,null,null,null,null,null,null,{"$f":"IF(910<=$B$10,IF(LEN('２学期'!DK16)=0,\"\",IF('２学期'!DK16=$B$8,IF(LEN('２学期'!DN16)=0,\"\",'２学期'!DN16),\"\")),\"\")","v":""},{"$f":"IF(LEN(O910)=0,\"\",IF(COUNTIF($O$2:$O$1921,O910+1)>0,\"\",IF(COUNTIF($O$2:O910,O910)>1,\"\",O910+1)))","v":""},{"$f":"IFERROR(SMALL($P$1:$P$1921,909),\"\")","v":""}]
[null,null,null,null,null,null,null,null,null,null,null,null,null,null,{"$f":"IF(911<=$B$10,IF(LEN('２学期'!DK19)=0,\"\",IF('２学期'!DK19=$B$8,IF(LEN('２学期'!DN19)=0,\"\",'２学期'!DN19),\"\")),\"\")","v":""},{"$f":"IF(LEN(O911)=0,\"\",IF(COUNTIF($O$2:$O$1921,O911+1)>0,\"\",IF(COUNTIF($O$2:O911,O911)>1,\"\",O911+1)))","v":""},{"$f":"IFERROR(SMALL($P$1:$P$1921,910),\"\")","v":""}]
[null,null,null,null,null,null,null,null,null,null,null,null,null,null,{"$f":"IF(912<=$B$10,IF(LEN('２学期'!DK22)=0,\"\",IF('２学期'!DK22=$B$8,IF(LEN('２学期'!DN22)=0,\"\",'２学期'!DN22),\"\")),\"\")","v":""},{"$f":"IF(LEN(O912)=0,\"\",IF(COUNTIF($O$2:$O$1921,O912+1)>0,\"\",IF(COUNTIF($O$2:O912,O912)>1,\"\",O912+1)))","v":""},{"$f":"IFERROR(SMALL($P$1:$P$1921,911),\"\")","v":""}]
[null,null,null,null,null,null,null,null,null,null,null,null,null,null,{"$f":"IF(913<=$B$10,IF(LEN('２学期'!DK25)=0,\"\",IF('２学期'!DK25=$B$8,IF(LEN('２学期'!DN25)=0,\"\",'２学期'!DN25),\"\")),\"\")","v":""},{"$f":"IF(LEN(O913)=0,\"\",IF(COUNTIF($O$2:$O$1921,O913+1)>0,\"\",IF(COUNTIF($O$2:O913,O913)>1,\"\",O913+1)))","v":""},{"$f":"IFERROR(SMALL($P$1:$P$1921,912),\"\")","v":""}]
[null,null,null,null,null,null,null,null,null,null,null,null,null,null,{"$f":"IF(914<=$B$10,IF(LEN('２学期'!DO6)=0,\"\",IF('２学期'!DO6=$B$8,IF(LEN('２学期'!DR6)=0,\"\",'２学期'!DR6),\"\")),\"\")","v":""},{"$f":"IF(LEN(O914)=0,\"\",IF(COUNTIF($O$2:$O$1921,O914+1)>0,\"\",IF(COUNTIF($O$2:O914,O914)>1,\"\",O914+1)))","v":""},{"$f":"IFERROR(SMALL($P$1:$P$1921,913),\"\")","v":""}]
[null,null,null,null,null,null,null,null,null,null,null,null,null,null,{"$f":"IF(915<=$B$10,IF(LEN('２学期'!DO7)=0,\"\",IF('２学期'!DO7=$B$8,IF(LEN('２学期'!DR7)=0,\"\",'２学期'!DR7),\"\")),\"\")","v":""},{"$f":"IF(LEN(O915)=0,\"\",IF(COUNTIF($O$2:$O$1921,O915+1)>0,\"\",IF(COUNTIF($O$2:O915,O915)>1,\"\",O915+1)))","v":""},{"$f":"IFERROR(SMALL($P$1:$P$1921,914),\"\")","v":""}]
[null,null,null,null,null,null,null,null,null,null,null,null,null,null,{"$f":"IF(916<=$B$10,IF(LEN('２学期'!DO10)=0,\"\",IF('２学期'!DO10=$B$8,IF(LEN('２学期'!DR10)=0,\"\",'２学期'!DR10),\"\")),\"\")","v":""},{"$f":"IF(LEN(O916)=0,\"\",IF(COUNTIF($O$2:$O$1921,O916+1)>0,\"\",IF(COUNTIF($O$2:O916,O916)>1,\"\",O916+1)))","v":""},{"$f":"IFERROR(SMALL($P$1:$P$1921,915),\"\")","v":""}]
[null,null,null,null,null,null,null,null,null,null,null,null,null,null,{"$f":"IF(917<=$B$10,IF(LEN('２学期'!DO13)=0,\"\",IF('２学期'!DO13=$B$8,IF(LEN('２学期'!DR13)=0,\"\",'２学期'!DR13),\"\")),\"\")","v":""},{"$f":"IF(LEN(O917)=0,\"\",IF(COUNTIF($O$2:$O$1921,O917+1)>0,\"\",IF(COUNTIF($O$2:O917,O917)>1,\"\",O917+1)))","v":""},{"$f":"IFERROR(SMALL($P$1:$P$1921,916),\"\")","v":""}]
[null,null,null,null,null,null,null,null,null,null,null,null,null,null,{"$f":"IF(918<=$B$10,IF(LEN('２学期'!DO16)=0,\"\",IF('２学期'!DO16=$B$8,IF(LEN('２学期'!DR16)=0,\"\",'２学期'!DR16),\"\")),\"\")","v":""},{"$f":"IF(LEN(O918)=0,\"\",IF(COUNTIF($O$2:$O$1921,O918+1)>0,\"\",IF(COUNTIF($O$2:O918,O918)>1,\"\",O918+1)))","v":""},{"$f":"IFERROR(SMALL($P$1:$P$1921,917),\"\")","v":""}]
[null,null,null,null,null,null,null,null,null,null,null,null,null,null,{"$f":"IF(919<=$B$10,IF(LEN('２学期'!DO19)=0,\"\",IF('２学期'!DO19=$B$8,IF(LEN('２学期'!DR19)=0,\"\",'２学期'!DR19),\"\")),\"\")","v":""},{"$f":"IF(LEN(O919)=0,\"\",IF(COUNTIF($O$2:$O$1921,O919+1)>0,\"\",IF(COUNTIF($O$2:O919,O919)>1,\"\",O919+1)))","v":""},{"$f":"IFERROR(SMALL($P$1:$P$1921,918),\"\")","v":""}]
[null,null,null,null,null,null,null,null,null,null,null,null,null,null,{"$f":"IF(920<=$B$10,IF(LEN('２学期'!DO22)=0,\"\",IF('２学期'!DO22=$B$8,IF(LEN('２学期'!DR22)=0,\"\",'２学期'!DR22),\"\")),\"\")","v":""},{"$f":"IF(LEN(O920)=0,\"\",IF(COUNTIF($O$2:$O$1921,O920+1)>0,\"\",IF(COUNTIF($O$2:O920,O920)>1,\"\",O920+1)))","v":""},{"$f":"IFERROR(SMALL($P$1:$P$1921,919),\"\")","v":""}]
[null,null,null,null,null,null,null,null,null,null,null,null,null,null,{"$f":"IF(921<=$B$10,IF(LEN('２学期'!DO25)=0,\"\",IF('２学期'!DO25=$B$8,IF(LEN('２学期'!DR25)=0,\"\",'２学期'!DR25),\"\")),\"\")","v":""},{"$f":"IF(LEN(O921)=0,\"\",IF(COUNTIF($O$2:$O$1921,O921+1)>0,\"\",IF(COUNTIF($O$2:O921,O921)>1,\"\",O921+1)))","v":""},{"$f":"IFERROR(SMALL($P$1:$P$1921,920),\"\")","v":""}]
[null,null,null,null,null,null,null,null,null,null,null,null,null,null,{"$f":"IF(922<=$B$10,IF(LEN('２学期'!DS6)=0,\"\",IF('２学期'!DS6=$B$8,IF(LEN('２学期'!DV6)=0,\"\",'２学期'!DV6),\"\")),\"\")","v":""},{"$f":"IF(LEN(O922)=0,\"\",IF(COUNTIF($O$2:$O$1921,O922+1)>0,\"\",IF(COUNTIF($O$2:O922,O922)>1,\"\",O922+1)))","v":""},{"$f":"IFERROR(SMALL($P$1:$P$1921,921),\"\")","v":""}]
[null,null,null,null,null,null,null,null,null,null,null,null,null,null,{"$f":"IF(923<=$B$10,IF(LEN('２学期'!DS7)=0,\"\",IF('２学期'!DS7=$B$8,IF(LEN('２学期'!DV7)=0,\"\",'２学期'!DV7),\"\")),\"\")","v":""},{"$f":"IF(LEN(O923)=0,\"\",IF(COUNTIF($O$2:$O$1921,O923+1)>0,\"\",IF(COUNTIF($O$2:O923,O923)>1,\"\",O923+1)))","v":""},{"$f":"IFERROR(SMALL($P$1:$P$1921,922),\"\")","v":""}]
[null,null,null,null,null,null,null,null,null,null,null,null,null,null,{"$f":"IF(924<=$B$10,IF(LEN('２学期'!DS10)=0,\"\",IF('２学期'!DS10=$B$8,IF(LEN('２学期'!DV10)=0,\"\",'２学期'!DV10),\"\")),\"\")","v":""},{"$f":"IF(LEN(O924)=0,\"\",IF(COUNTIF($O$2:$O$1921,O924+1)>0,\"\",IF(COUNTIF($O$2:O924,O924)>1,\"\",O924+1)))","v":""},{"$f":"IFERROR(SMALL($P$1:$P$1921,923),\"\")","v":""}]
[null,null,null,null,null,null,null,null,null,null,null,null,null,null,{"$f":"IF(925<=$B$10,IF(LEN('２学期'!DS13)=0,\"\",IF('２学期'!DS13=$B$8,IF(LEN('２学期'!DV13)=0,\"\",'２学期'!DV13),\"\")),\"\")","v":""},{"$f":"IF(LEN(O925)=0,\"\",IF(COUNTIF($O$2:$O$1921,O925+1)>0,\"\",IF(COUNTIF($O$2:O925,O925)>1,\"\",O925+1)))","v":""},{"$f":"IFERROR(SMALL($P$1:$P$1921,924),\"\")","v":""}]
[null,null,null,null,null,null,null,null,null,null,null,null,null,null,{"$f":"IF(926<=$B$10,IF(LEN('２学期'!DS16)=0,\"\",IF('２学期'!DS16=$B$8,IF(LEN('２学期'!DV16)=0,\"\",'２学期'!DV16),\"\")),\"\")","v":""},{"$f":"IF(LEN(O926)=0,\"\",IF(COUNTIF($O$2:$O$1921,O926+1)>0,\"\",IF(COUNTIF($O$2:O926,O926)>1,\"\",O926+1)))","v":""},{"$f":"IFERROR(SMALL($P$1:$P$1921,925),\"\")","v":""}]
[null,null,null,null,null,null,null,null,null,null,null,null,null,null,{"$f":"IF(927<=$B$10,IF(LEN('２学期'!DS19)=0,\"\",IF('２学期'!DS19=$B$8,IF(LEN('２学期'!DV19)=0,\"\",'２学期'!DV19),\"\")),\"\")","v":""},{"$f":"IF(LEN(O927)=0,\"\",IF(COUNTIF($O$2:$O$1921,O927+1)>0,\"\",IF(COUNTIF($O$2:O927,O927)>1,\"\",O927+1)))","v":""},{"$f":"IFERROR(SMALL($P$1:$P$1921,926),\"\")","v":""}]
[null,null,null,null,null,null,null,null,null,null,null,null,null,null,{"$f":"IF(928<=$B$10,IF(LEN('２学期'!DS22)=0,\"\",IF('２学期'!DS22=$B$8,IF(LEN('２学期'!DV22)=0,\"\",'２学期'!DV22),\"\")),\"\")","v":""},{"$f":"IF(LEN(O928)=0,\"\",IF(COUNTIF($O$2:$O$1921,O928+1)>0,\"\",IF(COUNTIF($O$2:O928,O928)>1,\"\",O928+1)))","v":""},{"$f":"IFERROR(SMALL($P$1:$P$1921,927),\"\")","v":""}]
[null,null,null,null,null,null,null,null,null,null,null,null,null,null,{"$f":"IF(929<=$B$10,IF(LEN('２学期'!DS25)=0,\"\",IF('２学期'!DS25=$B$8,IF(LEN('２学期'!DV25)=0,\"\",'２学期'!DV25),\"\")),\"\")","v":""},{"$f":"IF(LEN(O929)=0,\"\",IF(COUNTIF($O$2:$O$1921,O929+1)>0,\"\",IF(COUNTIF($O$2:O929,O929)>1,\"\",O929+1)))","v":""},{"$f":"IFERROR(SMALL($P$1:$P$1921,928),\"\")","v":""}]
[null,null,null,null,null,null,null,null,null,null,null,null,null,null,{"$f":"IF(930<=$B$10,IF(LEN('２学期'!DW6)=0,\"\",IF('２学期'!DW6=$B$8,IF(LEN('２学期'!DZ6)=0,\"\",'２学期'!DZ6),\"\")),\"\")","v":""},{"$f":"IF(LEN(O930)=0,\"\",IF(COUNTIF($O$2:$O$1921,O930+1)>0,\"\",IF(COUNTIF($O$2:O930,O930)>1,\"\",O930+1)))","v":""},{"$f":"IFERROR(SMALL($P$1:$P$1921,929),\"\")","v":""}]
[null,null,null,null,null,null,null,null,null,null,null,null,null,null,{"$f":"IF(931<=$B$10,IF(LEN('２学期'!DW7)=0,\"\",IF('２学期'!DW7=$B$8,IF(LEN('２学期'!DZ7)=0,\"\",'２学期'!DZ7),\"\")),\"\")","v":""},{"$f":"IF(LEN(O931)=0,\"\",IF(COUNTIF($O$2:$O$1921,O931+1)>0,\"\",IF(COUNTIF($O$2:O931,O931)>1,\"\",O931+1)))","v":""},{"$f":"IFERROR(SMALL($P$1:$P$1921,930),\"\")","v":""}]
[null,null,null,null,null,null,null,null,null,null,null,null,null,null,{"$f":"IF(932<=$B$10,IF(LEN('２学期'!DW10)=0,\"\",IF('２学期'!DW10=$B$8,IF(LEN('２学期'!DZ10)=0,\"\",'２学期'!DZ10),\"\")),\"\")","v":""},{"$f":"IF(LEN(O932)=0,\"\",IF(COUNTIF($O$2:$O$1921,O932+1)>0,\"\",IF(COUNTIF($O$2:O932,O932)>1,\"\",O932+1)))","v":""},{"$f":"IFERROR(SMALL($P$1:$P$1921,931),\"\")","v":""}]
[null,null,null,null,null,null,null,null,null,null,null,null,null,null,{"$f":"IF(933<=$B$10,IF(LEN('２学期'!DW13)=0,\"\",IF('２学期'!DW13=$B$8,IF(LEN('２学期'!DZ13)=0,\"\",'２学期'!DZ13),\"\")),\"\")","v":""},{"$f":"IF(LEN(O933)=0,\"\",IF(COUNTIF($O$2:$O$1921,O933+1)>0,\"\",IF(COUNTIF($O$2:O933,O933)>1,\"\",O933+1)))","v":""},{"$f":"IFERROR(SMALL($P$1:$P$1921,932),\"\")","v":""}]
[null,null,null,null,null,null,null,null,null,null,null,null,null,null,{"$f":"IF(934<=$B$10,IF(LEN('２学期'!DW16)=0,\"\",IF('２学期'!DW16=$B$8,IF(LEN('２学期'!DZ16)=0,\"\",'２学期'!DZ16),\"\")),\"\")","v":""},{"$f":"IF(LEN(O934)=0,\"\",IF(COUNTIF($O$2:$O$1921,O934+1)>0,\"\",IF(COUNTIF($O$2:O934,O934)>1,\"\",O934+1)))","v":""},{"$f":"IFERROR(SMALL($P$1:$P$1921,933),\"\")","v":""}]
[null,null,null,null,null,null,null,null,null,null,null,null,null,null,{"$f":"IF(935<=$B$10,IF(LEN('２学期'!DW19)=0,\"\",IF('２学期'!DW19=$B$8,IF(LEN('２学期'!DZ19)=0,\"\",'２学期'!DZ19),\"\")),\"\")","v":""},{"$f":"IF(LEN(O935)=0,\"\",IF(COUNTIF($O$2:$O$1921,O935+1)>0,\"\",IF(COUNTIF($O$2:O935,O935)>1,\"\",O935+1)))","v":""},{"$f":"IFERROR(SMALL($P$1:$P$1921,934),\"\")","v":""}]
[null,null,null,null,null,null,null,null,null,null,null,null,null,null,{"$f":"IF(936<=$B$10,IF(LEN('２学期'!DW22)=0,\"\",IF('２学期'!DW22=$B$8,IF(LEN('２学期'!DZ22)=0,\"\",'２学期'!DZ22),\"\")),\"\")","v":""},{"$f":"IF(LEN(O936)=0,\"\",IF(COUNTIF($O$2:$O$1921,O936+1)>0,\"\",IF(COUNTIF($O$2:O936,O936)>1,\"\",O936+1)))","v":""},{"$f":"IFERROR(SMALL($P$1:$P$1921,935),\"\")","v":""}]
[null,null,null,null,null,null,null,null,null,null,null,null,null,null,{"$f":"IF(937<=$B$10,IF(LEN('２学期'!DW25)=0,\"\",IF('２学期'!DW25=$B$8,IF(LEN('２学期'!DZ25)=0,\"\",'２学期'!DZ25),\"\")),\"\")","v":""},{"$f":"IF(LEN(O937)=0,\"\",IF(COUNTIF($O$2:$O$1921,O937+1)>0,\"\",IF(COUNTIF($O$2:O937,O937)>1,\"\",O937+1)))","v":""},{"$f":"IFERROR(SMALL($P$1:$P$1921,936),\"\")","v":""}]
[null,null,null,null,null,null,null,null,null,null,null,null,null,null,{"$f":"IF(938<=$B$10,IF(LEN('２学期'!EA6)=0,\"\",IF('２学期'!EA6=$B$8,IF(LEN('２学期'!ED6)=0,\"\",'２学期'!ED6),\"\")),\"\")","v":""},{"$f":"IF(LEN(O938)=0,\"\",IF(COUNTIF($O$2:$O$1921,O938+1)>0,\"\",IF(COUNTIF($O$2:O938,O938)>1,\"\",O938+1)))","v":""},{"$f":"IFERROR(SMALL($P$1:$P$1921,937),\"\")","v":""}]
[null,null,null,null,null,null,null,null,null,null,null,null,null,null,{"$f":"IF(939<=$B$10,IF(LEN('２学期'!EA7)=0,\"\",IF('２学期'!EA7=$B$8,IF(LEN('２学期'!ED7)=0,\"\",'２学期'!ED7),\"\")),\"\")","v":""},{"$f":"IF(LEN(O939)=0,\"\",IF(COUNTIF($O$2:$O$1921,O939+1)>0,\"\",IF(COUNTIF($O$2:O939,O939)>1,\"\",O939+1)))","v":""},{"$f":"IFERROR(SMALL($P$1:$P$1921,938),\"\")","v":""}]
[null,null,null,null,null,null,null,null,null,null,null,null,null,null,{"$f":"IF(940<=$B$10,IF(LEN('２学期'!EA10)=0,\"\",IF('２学期'!EA10=$B$8,IF(LEN('２学期'!ED10)=0,\"\",'２学期'!ED10),\"\")),\"\")","v":""},{"$f":"IF(LEN(O940)=0,\"\",IF(COUNTIF($O$2:$O$1921,O940+1)>0,\"\",IF(COUNTIF($O$2:O940,O940)>1,\"\",O940+1)))","v":""},{"$f":"IFERROR(SMALL($P$1:$P$1921,939),\"\")","v":""}]
[null,null,null,null,null,null,null,null,null,null,null,null,null,null,{"$f":"IF(941<=$B$10,IF(LEN('２学期'!EA13)=0,\"\",IF('２学期'!EA13=$B$8,IF(LEN('２学期'!ED13)=0,\"\",'２学期'!ED13),\"\")),\"\")","v":""},{"$f":"IF(LEN(O941)=0,\"\",IF(COUNTIF($O$2:$O$1921,O941+1)>0,\"\",IF(COUNTIF($O$2:O941,O941)>1,\"\",O941+1)))","v":""},{"$f":"IFERROR(SMALL($P$1:$P$1921,940),\"\")","v":""}]
[null,null,null,null,null,null,null,null,null,null,null,null,null,null,{"$f":"IF(942<=$B$10,IF(LEN('２学期'!EA16)=0,\"\",IF('２学期'!EA16=$B$8,IF(LEN('２学期'!ED16)=0,\"\",'２学期'!ED16),\"\")),\"\")","v":""},{"$f":"IF(LEN(O942)=0,\"\",IF(COUNTIF($O$2:$O$1921,O942+1)>0,\"\",IF(COUNTIF($O$2:O942,O942)>1,\"\",O942+1)))","v":""},{"$f":"IFERROR(SMALL($P$1:$P$1921,941),\"\")","v":""}]
[null,null,null,null,null,null,null,null,null,null,null,null,null,null,{"$f":"IF(943<=$B$10,IF(LEN('２学期'!EA19)=0,\"\",IF('２学期'!EA19=$B$8,IF(LEN('２学期'!ED19)=0,\"\",'２学期'!ED19),\"\")),\"\")","v":""},{"$f":"IF(LEN(O943)=0,\"\",IF(COUNTIF($O$2:$O$1921,O943+1)>0,\"\",IF(COUNTIF($O$2:O943,O943)>1,\"\",O943+1)))","v":""},{"$f":"IFERROR(SMALL($P$1:$P$1921,942),\"\")","v":""}]
[null,null,null,null,null,null,null,null,null,null,null,null,null,null,{"$f":"IF(944<=$B$10,IF(LEN('２学期'!EA22)=0,\"\",IF('２学期'!EA22=$B$8,IF(LEN('２学期'!ED22)=0,\"\",'２学期'!ED22),\"\")),\"\")","v":""},{"$f":"IF(LEN(O944)=0,\"\",IF(COUNTIF($O$2:$O$1921,O944+1)>0,\"\",IF(COUNTIF($O$2:O944,O944)>1,\"\",O944+1)))","v":""},{"$f":"IFERROR(SMALL($P$1:$P$1921,943),\"\")","v":""}]
[null,null,null,null,null,null,null,null,null,null,null,null,null,null,{"$f":"IF(945<=$B$10,IF(LEN('２学期'!EA25)=0,\"\",IF('２学期'!EA25=$B$8,IF(LEN('２学期'!ED25)=0,\"\",'２学期'!ED25),\"\")),\"\")","v":""},{"$f":"IF(LEN(O945)=0,\"\",IF(COUNTIF($O$2:$O$1921,O945+1)>0,\"\",IF(COUNTIF($O$2:O945,O945)>1,\"\",O945+1)))","v":""},{"$f":"IFERROR(SMALL($P$1:$P$1921,944),\"\")","v":""}]
[null,null,null,null,null,null,null,null,null,null,null,null,null,null,{"$f":"IF(946<=$B$10,IF(LEN('２学期'!EE6)=0,\"\",IF('２学期'!EE6=$B$8,IF(LEN('２学期'!EH6)=0,\"\",'２学期'!EH6),\"\")),\"\")","v":""},{"$f":"IF(LEN(O946)=0,\"\",IF(COUNTIF($O$2:$O$1921,O946+1)>0,\"\",IF(COUNTIF($O$2:O946,O946)>1,\"\",O946+1)))","v":""},{"$f":"IFERROR(SMALL($P$1:$P$1921,945),\"\")","v":""}]
[null,null,null,null,null,null,null,null,null,null,null,null,null,null,{"$f":"IF(947<=$B$10,IF(LEN('２学期'!EE7)=0,\"\",IF('２学期'!EE7=$B$8,IF(LEN('２学期'!EH7)=0,\"\",'２学期'!EH7),\"\")),\"\")","v":""},{"$f":"IF(LEN(O947)=0,\"\",IF(COUNTIF($O$2:$O$1921,O947+1)>0,\"\",IF(COUNTIF($O$2:O947,O947)>1,\"\",O947+1)))","v":""},{"$f":"IFERROR(SMALL($P$1:$P$1921,946),\"\")","v":""}]
[null,null,null,null,null,null,null,null,null,null,null,null,null,null,{"$f":"IF(948<=$B$10,IF(LEN('２学期'!EE10)=0,\"\",IF('２学期'!EE10=$B$8,IF(LEN('２学期'!EH10)=0,\"\",'２学期'!EH10),\"\")),\"\")","v":""},{"$f":"IF(LEN(O948)=0,\"\",IF(COUNTIF($O$2:$O$1921,O948+1)>0,\"\",IF(COUNTIF($O$2:O948,O948)>1,\"\",O948+1)))","v":""},{"$f":"IFERROR(SMALL($P$1:$P$1921,947),\"\")","v":""}]
[null,null,null,null,null,null,null,null,null,null,null,null,null,null,{"$f":"IF(949<=$B$10,IF(LEN('２学期'!EE13)=0,\"\",IF('２学期'!EE13=$B$8,IF(LEN('２学期'!EH13)=0,\"\",'２学期'!EH13),\"\")),\"\")","v":""},{"$f":"IF(LEN(O949)=0,\"\",IF(COUNTIF($O$2:$O$1921,O949+1)>0,\"\",IF(COUNTIF($O$2:O949,O949)>1,\"\",O949+1)))","v":""},{"$f":"IFERROR(SMALL($P$1:$P$1921,948),\"\")","v":""}]
[null,null,null,null,null,null,null,null,null,null,null,null,null,null,{"$f":"IF(950<=$B$10,IF(LEN('２学期'!EE16)=0,\"\",IF('２学期'!EE16=$B$8,IF(LEN('２学期'!EH16)=0,\"\",'２学期'!EH16),\"\")),\"\")","v":""},{"$f":"IF(LEN(O950)=0,\"\",IF(COUNTIF($O$2:$O$1921,O950+1)>0,\"\",IF(COUNTIF($O$2:O950,O950)>1,\"\",O950+1)))","v":""},{"$f":"IFERROR(SMALL($P$1:$P$1921,949),\"\")","v":""}]
[null,null,null,null,null,null,null,null,null,null,null,null,null,null,{"$f":"IF(951<=$B$10,IF(LEN('２学期'!EE19)=0,\"\",IF('２学期'!EE19=$B$8,IF(LEN('２学期'!EH19)=0,\"\",'２学期'!EH19),\"\")),\"\")","v":""},{"$f":"IF(LEN(O951)=0,\"\",IF(COUNTIF($O$2:$O$1921,O951+1)>0,\"\",IF(COUNTIF($O$2:O951,O951)>1,\"\",O951+1)))","v":""},{"$f":"IFERROR(SMALL($P$1:$P$1921,950),\"\")","v":""}]
[null,null,null,null,null,null,null,null,null,null,null,null,null,null,{"$f":"IF(952<=$B$10,IF(LEN('２学期'!EE22)=0,\"\",IF('２学期'!EE22=$B$8,IF(LEN('２学期'!EH22)=0,\"\",'２学期'!EH22),\"\")),\"\")","v":""},{"$f":"IF(LEN(O952)=0,\"\",IF(COUNTIF($O$2:$O$1921,O952+1)>0,\"\",IF(COUNTIF($O$2:O952,O952)>1,\"\",O952+1)))","v":""},{"$f":"IFERROR(SMALL($P$1:$P$1921,951),\"\")","v":""}]
[null,null,null,null,null,null,null,null,null,null,null,null,null,null,{"$f":"IF(953<=$B$10,IF(LEN('２学期'!EE25)=0,\"\",IF('２学期'!EE25=$B$8,IF(LEN('２学期'!EH25)=0,\"\",'２学期'!EH25),\"\")),\"\")","v":""},{"$f":"IF(LEN(O953)=0,\"\",IF(COUNTIF($O$2:$O$1921,O953+1)>0,\"\",IF(COUNTIF($O$2:O953,O953)>1,\"\",O953+1)))","v":""},{"$f":"IFERROR(SMALL($P$1:$P$1921,952),\"\")","v":""}]
[null,null,null,null,null,null,null,null,null,null,null,null,null,null,{"$f":"IF(954<=$B$10,IF(LEN('２学期'!EI6)=0,\"\",IF('２学期'!EI6=$B$8,IF(LEN('２学期'!EL6)=0,\"\",'２学期'!EL6),\"\")),\"\")","v":""},{"$f":"IF(LEN(O954)=0,\"\",IF(COUNTIF($O$2:$O$1921,O954+1)>0,\"\",IF(COUNTIF($O$2:O954,O954)>1,\"\",O954+1)))","v":""},{"$f":"IFERROR(SMALL($P$1:$P$1921,953),\"\")","v":""}]
[null,null,null,null,null,null,null,null,null,null,null,null,null,null,{"$f":"IF(955<=$B$10,IF(LEN('２学期'!EI7)=0,\"\",IF('２学期'!EI7=$B$8,IF(LEN('２学期'!EL7)=0,\"\",'２学期'!EL7),\"\")),\"\")","v":""},{"$f":"IF(LEN(O955)=0,\"\",IF(COUNTIF($O$2:$O$1921,O955+1)>0,\"\",IF(COUNTIF($O$2:O955,O955)>1,\"\",O955+1)))","v":""},{"$f":"IFERROR(SMALL($P$1:$P$1921,954),\"\")","v":""}]
[null,null,null,null,null,null,null,null,null,null,null,null,null,null,{"$f":"IF(956<=$B$10,IF(LEN('２学期'!EI10)=0,\"\",IF('２学期'!EI10=$B$8,IF(LEN('２学期'!EL10)=0,\"\",'２学期'!EL10),\"\")),\"\")","v":""},{"$f":"IF(LEN(O956)=0,\"\",IF(COUNTIF($O$2:$O$1921,O956+1)>0,\"\",IF(COUNTIF($O$2:O956,O956)>1,\"\",O956+1)))","v":""},{"$f":"IFERROR(SMALL($P$1:$P$1921,955),\"\")","v":""}]
[null,null,null,null,null,null,null,null,null,null,null,null,null,null,{"$f":"IF(957<=$B$10,IF(LEN('２学期'!EI13)=0,\"\",IF('２学期'!EI13=$B$8,IF(LEN('２学期'!EL13)=0,\"\",'２学期'!EL13),\"\")),\"\")","v":""},{"$f":"IF(LEN(O957)=0,\"\",IF(COUNTIF($O$2:$O$1921,O957+1)>0,\"\",IF(COUNTIF($O$2:O957,O957)>1,\"\",O957+1)))","v":""},{"$f":"IFERROR(SMALL($P$1:$P$1921,956),\"\")","v":""}]
[null,null,null,null,null,null,null,null,null,null,null,null,null,null,{"$f":"IF(958<=$B$10,IF(LEN('２学期'!EI16)=0,\"\",IF('２学期'!EI16=$B$8,IF(LEN('２学期'!EL16)=0,\"\",'２学期'!EL16),\"\")),\"\")","v":""},{"$f":"IF(LEN(O958)=0,\"\",IF(COUNTIF($O$2:$O$1921,O958+1)>0,\"\",IF(COUNTIF($O$2:O958,O958)>1,\"\",O958+1)))","v":""},{"$f":"IFERROR(SMALL($P$1:$P$1921,957),\"\")","v":""}]
[null,null,null,null,null,null,null,null,null,null,null,null,null,null,{"$f":"IF(959<=$B$10,IF(LEN('２学期'!EI19)=0,\"\",IF('２学期'!EI19=$B$8,IF(LEN('２学期'!EL19)=0,\"\",'２学期'!EL19),\"\")),\"\")","v":""},{"$f":"IF(LEN(O959)=0,\"\",IF(COUNTIF($O$2:$O$1921,O959+1)>0,\"\",IF(COUNTIF($O$2:O959,O959)>1,\"\",O959+1)))","v":""},{"$f":"IFERROR(SMALL($P$1:$P$1921,958),\"\")","v":""}]
[null,null,null,null,null,null,null,null,null,null,null,null,null,null,{"$f":"IF(960<=$B$10,IF(LEN('２学期'!EI22)=0,\"\",IF('２学期'!EI22=$B$8,IF(LEN('２学期'!EL22)=0,\"\",'２学期'!EL22),\"\")),\"\")","v":""},{"$f":"IF(LEN(O960)=0,\"\",IF(COUNTIF($O$2:$O$1921,O960+1)>0,\"\",IF(COUNTIF($O$2:O960,O960)>1,\"\",O960+1)))","v":""},{"$f":"IFERROR(SMALL($P$1:$P$1921,959),\"\")","v":""}]
[null,null,null,null,null,null,null,null,null,null,null,null,null,null,{"$f":"IF(961<=$B$10,IF(LEN('２学期'!EI25)=0,\"\",IF('２学期'!EI25=$B$8,IF(LEN('２学期'!EL25)=0,\"\",'２学期'!EL25),\"\")),\"\")","v":""},{"$f":"IF(LEN(O961)=0,\"\",IF(COUNTIF($O$2:$O$1921,O961+1)>0,\"\",IF(COUNTIF($O$2:O961,O961)>1,\"\",O961+1)))","v":""},{"$f":"IFERROR(SMALL($P$1:$P$1921,960),\"\")","v":""}]
[null,null,null,null,null,null,null,null,null,null,null,null,null,null,{"$f":"IF(962<=$B$10,IF(LEN('２学期'!EM6)=0,\"\",IF('２学期'!EM6=$B$8,IF(LEN('２学期'!EP6)=0,\"\",'２学期'!EP6),\"\")),\"\")","v":""},{"$f":"IF(LEN(O962)=0,\"\",IF(COUNTIF($O$2:$O$1921,O962+1)>0,\"\",IF(COUNTIF($O$2:O962,O962)>1,\"\",O962+1)))","v":""},{"$f":"IFERROR(SMALL($P$1:$P$1921,961),\"\")","v":""}]
[null,null,null,null,null,null,null,null,null,null,null,null,null,null,{"$f":"IF(963<=$B$10,IF(LEN('２学期'!EM7)=0,\"\",IF('２学期'!EM7=$B$8,IF(LEN('２学期'!EP7)=0,\"\",'２学期'!EP7),\"\")),\"\")","v":""},{"$f":"IF(LEN(O963)=0,\"\",IF(COUNTIF($O$2:$O$1921,O963+1)>0,\"\",IF(COUNTIF($O$2:O963,O963)>1,\"\",O963+1)))","v":""},{"$f":"IFERROR(SMALL($P$1:$P$1921,962),\"\")","v":""}]
[null,null,null,null,null,null,null,null,null,null,null,null,null,null,{"$f":"IF(964<=$B$10,IF(LEN('２学期'!EM10)=0,\"\",IF('２学期'!EM10=$B$8,IF(LEN('２学期'!EP10)=0,\"\",'２学期'!EP10),\"\")),\"\")","v":""},{"$f":"IF(LEN(O964)=0,\"\",IF(COUNTIF($O$2:$O$1921,O964+1)>0,\"\",IF(COUNTIF($O$2:O964,O964)>1,\"\",O964+1)))","v":""},{"$f":"IFERROR(SMALL($P$1:$P$1921,963),\"\")","v":""}]
[null,null,null,null,null,null,null,null,null,null,null,null,null,null,{"$f":"IF(965<=$B$10,IF(LEN('２学期'!EM13)=0,\"\",IF('２学期'!EM13=$B$8,IF(LEN('２学期'!EP13)=0,\"\",'２学期'!EP13),\"\")),\"\")","v":""},{"$f":"IF(LEN(O965)=0,\"\",IF(COUNTIF($O$2:$O$1921,O965+1)>0,\"\",IF(COUNTIF($O$2:O965,O965)>1,\"\",O965+1)))","v":""},{"$f":"IFERROR(SMALL($P$1:$P$1921,964),\"\")","v":""}]
[null,null,null,null,null,null,null,null,null,null,null,null,null,null,{"$f":"IF(966<=$B$10,IF(LEN('２学期'!EM16)=0,\"\",IF('２学期'!EM16=$B$8,IF(LEN('２学期'!EP16)=0,\"\",'２学期'!EP16),\"\")),\"\")","v":""},{"$f":"IF(LEN(O966)=0,\"\",IF(COUNTIF($O$2:$O$1921,O966+1)>0,\"\",IF(COUNTIF($O$2:O966,O966)>1,\"\",O966+1)))","v":""},{"$f":"IFERROR(SMALL($P$1:$P$1921,965),\"\")","v":""}]
[null,null,null,null,null,null,null,null,null,null,null,null,null,null,{"$f":"IF(967<=$B$10,IF(LEN('２学期'!EM19)=0,\"\",IF('２学期'!EM19=$B$8,IF(LEN('２学期'!EP19)=0,\"\",'２学期'!EP19),\"\")),\"\")","v":""},{"$f":"IF(LEN(O967)=0,\"\",IF(COUNTIF($O$2:$O$1921,O967+1)>0,\"\",IF(COUNTIF($O$2:O967,O967)>1,\"\",O967+1)))","v":""},{"$f":"IFERROR(SMALL($P$1:$P$1921,966),\"\")","v":""}]
[null,null,null,null,null,null,null,null,null,null,null,null,null,null,{"$f":"IF(968<=$B$10,IF(LEN('２学期'!EM22)=0,\"\",IF('２学期'!EM22=$B$8,IF(LEN('２学期'!EP22)=0,\"\",'２学期'!EP22),\"\")),\"\")","v":""},{"$f":"IF(LEN(O968)=0,\"\",IF(COUNTIF($O$2:$O$1921,O968+1)>0,\"\",IF(COUNTIF($O$2:O968,O968)>1,\"\",O968+1)))","v":""},{"$f":"IFERROR(SMALL($P$1:$P$1921,967),\"\")","v":""}]
[null,null,null,null,null,null,null,null,null,null,null,null,null,null,{"$f":"IF(969<=$B$10,IF(LEN('２学期'!EM25)=0,\"\",IF('２学期'!EM25=$B$8,IF(LEN('２学期'!EP25)=0,\"\",'２学期'!EP25),\"\")),\"\")","v":""},{"$f":"IF(LEN(O969)=0,\"\",IF(COUNTIF($O$2:$O$1921,O969+1)>0,\"\",IF(COUNTIF($O$2:O969,O969)>1,\"\",O969+1)))","v":""},{"$f":"IFERROR(SMALL($P$1:$P$1921,968),\"\")","v":""}]
[null,null,null,null,null,null,null,null,null,null,null,null,null,null,{"$f":"IF(970<=$B$10,IF(LEN('２学期'!EQ6)=0,\"\",IF('２学期'!EQ6=$B$8,IF(LEN('２学期'!ET6)=0,\"\",'２学期'!ET6),\"\")),\"\")","v":""},{"$f":"IF(LEN(O970)=0,\"\",IF(COUNTIF($O$2:$O$1921,O970+1)>0,\"\",IF(COUNTIF($O$2:O970,O970)>1,\"\",O970+1)))","v":""},{"$f":"IFERROR(SMALL($P$1:$P$1921,969),\"\")","v":""}]
[null,null,null,null,null,null,null,null,null,null,null,null,null,null,{"$f":"IF(971<=$B$10,IF(LEN('２学期'!EQ7)=0,\"\",IF('２学期'!EQ7=$B$8,IF(LEN('２学期'!ET7)=0,\"\",'２学期'!ET7),\"\")),\"\")","v":""},{"$f":"IF(LEN(O971)=0,\"\",IF(COUNTIF($O$2:$O$1921,O971+1)>0,\"\",IF(COUNTIF($O$2:O971,O971)>1,\"\",O971+1)))","v":""},{"$f":"IFERROR(SMALL($P$1:$P$1921,970),\"\")","v":""}]
[null,null,null,null,null,null,null,null,null,null,null,null,null,null,{"$f":"IF(972<=$B$10,IF(LEN('２学期'!EQ10)=0,\"\",IF('２学期'!EQ10=$B$8,IF(LEN('２学期'!ET10)=0,\"\",'２学期'!ET10),\"\")),\"\")","v":""},{"$f":"IF(LEN(O972)=0,\"\",IF(COUNTIF($O$2:$O$1921,O972+1)>0,\"\",IF(COUNTIF($O$2:O972,O972)>1,\"\",O972+1)))","v":""},{"$f":"IFERROR(SMALL($P$1:$P$1921,971),\"\")","v":""}]
[null,null,null,null,null,null,null,null,null,null,null,null,null,null,{"$f":"IF(973<=$B$10,IF(LEN('２学期'!EQ13)=0,\"\",IF('２学期'!EQ13=$B$8,IF(LEN('２学期'!ET13)=0,\"\",'２学期'!ET13),\"\")),\"\")","v":""},{"$f":"IF(LEN(O973)=0,\"\",IF(COUNTIF($O$2:$O$1921,O973+1)>0,\"\",IF(COUNTIF($O$2:O973,O973)>1,\"\",O973+1)))","v":""},{"$f":"IFERROR(SMALL($P$1:$P$1921,972),\"\")","v":""}]
[null,null,null,null,null,null,null,null,null,null,null,null,null,null,{"$f":"IF(974<=$B$10,IF(LEN('２学期'!EQ16)=0,\"\",IF('２学期'!EQ16=$B$8,IF(LEN('２学期'!ET16)=0,\"\",'２学期'!ET16),\"\")),\"\")","v":""},{"$f":"IF(LEN(O974)=0,\"\",IF(COUNTIF($O$2:$O$1921,O974+1)>0,\"\",IF(COUNTIF($O$2:O974,O974)>1,\"\",O974+1)))","v":""},{"$f":"IFERROR(SMALL($P$1:$P$1921,973),\"\")","v":""}]
[null,null,null,null,null,null,null,null,null,null,null,null,null,null,{"$f":"IF(975<=$B$10,IF(LEN('２学期'!EQ19)=0,\"\",IF('２学期'!EQ19=$B$8,IF(LEN('２学期'!ET19)=0,\"\",'２学期'!ET19),\"\")),\"\")","v":""},{"$f":"IF(LEN(O975)=0,\"\",IF(COUNTIF($O$2:$O$1921,O975+1)>0,\"\",IF(COUNTIF($O$2:O975,O975)>1,\"\",O975+1)))","v":""},{"$f":"IFERROR(SMALL($P$1:$P$1921,974),\"\")","v":""}]
[null,null,null,null,null,null,null,null,null,null,null,null,null,null,{"$f":"IF(976<=$B$10,IF(LEN('２学期'!EQ22)=0,\"\",IF('２学期'!EQ22=$B$8,IF(LEN('２学期'!ET22)=0,\"\",'２学期'!ET22),\"\")),\"\")","v":""},{"$f":"IF(LEN(O976)=0,\"\",IF(COUNTIF($O$2:$O$1921,O976+1)>0,\"\",IF(COUNTIF($O$2:O976,O976)>1,\"\",O976+1)))","v":""},{"$f":"IFERROR(SMALL($P$1:$P$1921,975),\"\")","v":""}]
[null,null,null,null,null,null,null,null,null,null,null,null,null,null,{"$f":"IF(977<=$B$10,IF(LEN('２学期'!EQ25)=0,\"\",IF('２学期'!EQ25=$B$8,IF(LEN('２学期'!ET25)=0,\"\",'２学期'!ET25),\"\")),\"\")","v":""},{"$f":"IF(LEN(O977)=0,\"\",IF(COUNTIF($O$2:$O$1921,O977+1)>0,\"\",IF(COUNTIF($O$2:O977,O977)>1,\"\",O977+1)))","v":""},{"$f":"IFERROR(SMALL($P$1:$P$1921,976),\"\")","v":""}]
[null,null,null,null,null,null,null,null,null,null,null,null,null,null,{"$f":"IF(978<=$B$10,IF(LEN('２学期'!EU6)=0,\"\",IF('２学期'!EU6=$B$8,IF(LEN('２学期'!EX6)=0,\"\",'２学期'!EX6),\"\")),\"\")","v":""},{"$f":"IF(LEN(O978)=0,\"\",IF(COUNTIF($O$2:$O$1921,O978+1)>0,\"\",IF(COUNTIF($O$2:O978,O978)>1,\"\",O978+1)))","v":""},{"$f":"IFERROR(SMALL($P$1:$P$1921,977),\"\")","v":""}]
[null,null,null,null,null,null,null,null,null,null,null,null,null,null,{"$f":"IF(979<=$B$10,IF(LEN('２学期'!EU7)=0,\"\",IF('２学期'!EU7=$B$8,IF(LEN('２学期'!EX7)=0,\"\",'２学期'!EX7),\"\")),\"\")","v":""},{"$f":"IF(LEN(O979)=0,\"\",IF(COUNTIF($O$2:$O$1921,O979+1)>0,\"\",IF(COUNTIF($O$2:O979,O979)>1,\"\",O979+1)))","v":""},{"$f":"IFERROR(SMALL($P$1:$P$1921,978),\"\")","v":""}]
[null,null,null,null,null,null,null,null,null,null,null,null,null,null,{"$f":"IF(980<=$B$10,IF(LEN('２学期'!EU10)=0,\"\",IF('２学期'!EU10=$B$8,IF(LEN('２学期'!EX10)=0,\"\",'２学期'!EX10),\"\")),\"\")","v":""},{"$f":"IF(LEN(O980)=0,\"\",IF(COUNTIF($O$2:$O$1921,O980+1)>0,\"\",IF(COUNTIF($O$2:O980,O980)>1,\"\",O980+1)))","v":""},{"$f":"IFERROR(SMALL($P$1:$P$1921,979),\"\")","v":""}]
[null,null,null,null,null,null,null,null,null,null,null,null,null,null,{"$f":"IF(981<=$B$10,IF(LEN('２学期'!EU13)=0,\"\",IF('２学期'!EU13=$B$8,IF(LEN('２学期'!EX13)=0,\"\",'２学期'!EX13),\"\")),\"\")","v":""},{"$f":"IF(LEN(O981)=0,\"\",IF(COUNTIF($O$2:$O$1921,O981+1)>0,\"\",IF(COUNTIF($O$2:O981,O981)>1,\"\",O981+1)))","v":""},{"$f":"IFERROR(SMALL($P$1:$P$1921,980),\"\")","v":""}]
[null,null,null,null,null,null,null,null,null,null,null,null,null,null,{"$f":"IF(982<=$B$10,IF(LEN('２学期'!EU16)=0,\"\",IF('２学期'!EU16=$B$8,IF(LEN('２学期'!EX16)=0,\"\",'２学期'!EX16),\"\")),\"\")","v":""},{"$f":"IF(LEN(O982)=0,\"\",IF(COUNTIF($O$2:$O$1921,O982+1)>0,\"\",IF(COUNTIF($O$2:O982,O982)>1,\"\",O982+1)))","v":""},{"$f":"IFERROR(SMALL($P$1:$P$1921,981),\"\")","v":""}]
[null,null,null,null,null,null,null,null,null,null,null,null,null,null,{"$f":"IF(983<=$B$10,IF(LEN('２学期'!EU19)=0,\"\",IF('２学期'!EU19=$B$8,IF(LEN('２学期'!EX19)=0,\"\",'２学期'!EX19),\"\")),\"\")","v":""},{"$f":"IF(LEN(O983)=0,\"\",IF(COUNTIF($O$2:$O$1921,O983+1)>0,\"\",IF(COUNTIF($O$2:O983,O983)>1,\"\",O983+1)))","v":""},{"$f":"IFERROR(SMALL($P$1:$P$1921,982),\"\")","v":""}]
[null,null,null,null,null,null,null,null,null,null,null,null,null,null,{"$f":"IF(984<=$B$10,IF(LEN('２学期'!EU22)=0,\"\",IF('２学期'!EU22=$B$8,IF(LEN('２学期'!EX22)=0,\"\",'２学期'!EX22),\"\")),\"\")","v":""},{"$f":"IF(LEN(O984)=0,\"\",IF(COUNTIF($O$2:$O$1921,O984+1)>0,\"\",IF(COUNTIF($O$2:O984,O984)>1,\"\",O984+1)))","v":""},{"$f":"IFERROR(SMALL($P$1:$P$1921,983),\"\")","v":""}]
[null,null,null,null,null,null,null,null,null,null,null,null,null,null,{"$f":"IF(985<=$B$10,IF(LEN('２学期'!EU25)=0,\"\",IF('２学期'!EU25=$B$8,IF(LEN('２学期'!EX25)=0,\"\",'２学期'!EX25),\"\")),\"\")","v":""},{"$f":"IF(LEN(O985)=0,\"\",IF(COUNTIF($O$2:$O$1921,O985+1)>0,\"\",IF(COUNTIF($O$2:O985,O985)>1,\"\",O985+1)))","v":""},{"$f":"IFERROR(SMALL($P$1:$P$1921,984),\"\")","v":""}]
[null,null,null,null,null,null,null,null,null,null,null,null,null,null,{"$f":"IF(986<=$B$10,IF(LEN('２学期'!EY6)=0,\"\",IF('２学期'!EY6=$B$8,IF(LEN('２学期'!FB6)=0,\"\",'２学期'!FB6),\"\")),\"\")","v":""},{"$f":"IF(LEN(O986)=0,\"\",IF(COUNTIF($O$2:$O$1921,O986+1)>0,\"\",IF(COUNTIF($O$2:O986,O986)>1,\"\",O986+1)))","v":""},{"$f":"IFERROR(SMALL($P$1:$P$1921,985),\"\")","v":""}]
[null,null,null,null,null,null,null,null,null,null,null,null,null,null,{"$f":"IF(987<=$B$10,IF(LEN('２学期'!EY7)=0,\"\",IF('２学期'!EY7=$B$8,IF(LEN('２学期'!FB7)=0,\"\",'２学期'!FB7),\"\")),\"\")","v":""},{"$f":"IF(LEN(O987)=0,\"\",IF(COUNTIF($O$2:$O$1921,O987+1)>0,\"\",IF(COUNTIF($O$2:O987,O987)>1,\"\",O987+1)))","v":""},{"$f":"IFERROR(SMALL($P$1:$P$1921,986),\"\")","v":""}]
[null,null,null,null,null,null,null,null,null,null,null,null,null,null,{"$f":"IF(988<=$B$10,IF(LEN('２学期'!EY10)=0,\"\",IF('２学期'!EY10=$B$8,IF(LEN('２学期'!FB10)=0,\"\",'２学期'!FB10),\"\")),\"\")","v":""},{"$f":"IF(LEN(O988)=0,\"\",IF(COUNTIF($O$2:$O$1921,O988+1)>0,\"\",IF(COUNTIF($O$2:O988,O988)>1,\"\",O988+1)))","v":""},{"$f":"IFERROR(SMALL($P$1:$P$1921,987),\"\")","v":""}]
[null,null,null,null,null,null,null,null,null,null,null,null,null,null,{"$f":"IF(989<=$B$10,IF(LEN('２学期'!EY13)=0,\"\",IF('２学期'!EY13=$B$8,IF(LEN('２学期'!FB13)=0,\"\",'２学期'!FB13),\"\")),\"\")","v":""},{"$f":"IF(LEN(O989)=0,\"\",IF(COUNTIF($O$2:$O$1921,O989+1)>0,\"\",IF(COUNTIF($O$2:O989,O989)>1,\"\",O989+1)))","v":""},{"$f":"IFERROR(SMALL($P$1:$P$1921,988),\"\")","v":""}]
[null,null,null,null,null,null,null,null,null,null,null,null,null,null,{"$f":"IF(990<=$B$10,IF(LEN('２学期'!EY16)=0,\"\",IF('２学期'!EY16=$B$8,IF(LEN('２学期'!FB16)=0,\"\",'２学期'!FB16),\"\")),\"\")","v":""},{"$f":"IF(LEN(O990)=0,\"\",IF(COUNTIF($O$2:$O$1921,O990+1)>0,\"\",IF(COUNTIF($O$2:O990,O990)>1,\"\",O990+1)))","v":""},{"$f":"IFERROR(SMALL($P$1:$P$1921,989),\"\")","v":""}]
[null,null,null,null,null,null,null,null,null,null,null,null,null,null,{"$f":"IF(991<=$B$10,IF(LEN('２学期'!EY19)=0,\"\",IF('２学期'!EY19=$B$8,IF(LEN('２学期'!FB19)=0,\"\",'２学期'!FB19),\"\")),\"\")","v":""},{"$f":"IF(LEN(O991)=0,\"\",IF(COUNTIF($O$2:$O$1921,O991+1)>0,\"\",IF(COUNTIF($O$2:O991,O991)>1,\"\",O991+1)))","v":""},{"$f":"IFERROR(SMALL($P$1:$P$1921,990),\"\")","v":""}]
[null,null,null,null,null,null,null,null,null,null,null,null,null,null,{"$f":"IF(992<=$B$10,IF(LEN('２学期'!EY22)=0,\"\",IF('２学期'!EY22=$B$8,IF(LEN('２学期'!FB22)=0,\"\",'２学期'!FB22),\"\")),\"\")","v":""},{"$f":"IF(LEN(O992)=0,\"\",IF(COUNTIF($O$2:$O$1921,O992+1)>0,\"\",IF(COUNTIF($O$2:O992,O992)>1,\"\",O992+1)))","v":""},{"$f":"IFERROR(SMALL($P$1:$P$1921,991),\"\")","v":""}]
[null,null,null,null,null,null,null,null,null,null,null,null,null,null,{"$f":"IF(993<=$B$10,IF(LEN('２学期'!EY25)=0,\"\",IF('２学期'!EY25=$B$8,IF(LEN('２学期'!FB25)=0,\"\",'２学期'!FB25),\"\")),\"\")","v":""},{"$f":"IF(LEN(O993)=0,\"\",IF(COUNTIF($O$2:$O$1921,O993+1)>0,\"\",IF(COUNTIF($O$2:O993,O993)>1,\"\",O993+1)))","v":""},{"$f":"IFERROR(SMALL($P$1:$P$1921,992),\"\")","v":""}]
[null,null,null,null,null,null,null,null,null,null,null,null,null,null,{"$f":"IF(994<=$B$10,IF(LEN('２学期'!FC6)=0,\"\",IF('２学期'!FC6=$B$8,IF(LEN('２学期'!FF6)=0,\"\",'２学期'!FF6),\"\")),\"\")","v":""},{"$f":"IF(LEN(O994)=0,\"\",IF(COUNTIF($O$2:$O$1921,O994+1)>0,\"\",IF(COUNTIF($O$2:O994,O994)>1,\"\",O994+1)))","v":""},{"$f":"IFERROR(SMALL($P$1:$P$1921,993),\"\")","v":""}]
[null,null,null,null,null,null,null,null,null,null,null,null,null,null,{"$f":"IF(995<=$B$10,IF(LEN('２学期'!FC7)=0,\"\",IF('２学期'!FC7=$B$8,IF(LEN('２学期'!FF7)=0,\"\",'２学期'!FF7),\"\")),\"\")","v":""},{"$f":"IF(LEN(O995)=0,\"\",IF(COUNTIF($O$2:$O$1921,O995+1)>0,\"\",IF(COUNTIF($O$2:O995,O995)>1,\"\",O995+1)))","v":""},{"$f":"IFERROR(SMALL($P$1:$P$1921,994),\"\")","v":""}]
[null,null,null,null,null,null,null,null,null,null,null,null,null,null,{"$f":"IF(996<=$B$10,IF(LEN('２学期'!FC10)=0,\"\",IF('２学期'!FC10=$B$8,IF(LEN('２学期'!FF10)=0,\"\",'２学期'!FF10),\"\")),\"\")","v":""},{"$f":"IF(LEN(O996)=0,\"\",IF(COUNTIF($O$2:$O$1921,O996+1)>0,\"\",IF(COUNTIF($O$2:O996,O996)>1,\"\",O996+1)))","v":""},{"$f":"IFERROR(SMALL($P$1:$P$1921,995),\"\")","v":""}]
[null,null,null,null,null,null,null,null,null,null,null,null,null,null,{"$f":"IF(997<=$B$10,IF(LEN('２学期'!FC13)=0,\"\",IF('２学期'!FC13=$B$8,IF(LEN('２学期'!FF13)=0,\"\",'２学期'!FF13),\"\")),\"\")","v":""},{"$f":"IF(LEN(O997)=0,\"\",IF(COUNTIF($O$2:$O$1921,O997+1)>0,\"\",IF(COUNTIF($O$2:O997,O997)>1,\"\",O997+1)))","v":""},{"$f":"IFERROR(SMALL($P$1:$P$1921,996),\"\")","v":""}]
[null,null,null,null,null,null,null,null,null,null,null,null,null,null,{"$f":"IF(998<=$B$10,IF(LEN('２学期'!FC16)=0,\"\",IF('２学期'!FC16=$B$8,IF(LEN('２学期'!FF16)=0,\"\",'２学期'!FF16),\"\")),\"\")","v":""},{"$f":"IF(LEN(O998)=0,\"\",IF(COUNTIF($O$2:$O$1921,O998+1)>0,\"\",IF(COUNTIF($O$2:O998,O998)>1,\"\",O998+1)))","v":""},{"$f":"IFERROR(SMALL($P$1:$P$1921,997),\"\")","v":""}]
[null,null,null,null,null,null,null,null,null,null,null,null,null,null,{"$f":"IF(999<=$B$10,IF(LEN('２学期'!FC19)=0,\"\",IF('２学期'!FC19=$B$8,IF(LEN('２学期'!FF19)=0,\"\",'２学期'!FF19),\"\")),\"\")","v":""},{"$f":"IF(LEN(O999)=0,\"\",IF(COUNTIF($O$2:$O$1921,O999+1)>0,\"\",IF(COUNTIF($O$2:O999,O999)>1,\"\",O999+1)))","v":""},{"$f":"IFERROR(SMALL($P$1:$P$1921,998),\"\")","v":""}]
[null,null,null,null,null,null,null,null,null,null,null,null,null,null,{"$f":"IF(1000<=$B$10,IF(LEN('２学期'!FC22)=0,\"\",IF('２学期'!FC22=$B$8,IF(LEN('２学期'!FF22)=0,\"\",'２学期'!FF22),\"\")),\"\")","v":""},{"$f":"IF(LEN(O1000)=0,\"\",IF(COUNTIF($O$2:$O$1921,O1000+1)>0,\"\",IF(COUNTIF($O$2:O1000,O1000)>1,\"\",O1000+1)))","v":""},{"$f":"IFERROR(SMALL($P$1:$P$1921,999),\"\")","v":""}]
[null,null,null,null,null,null,null,null,null,null,null,null,null,null,{"$f":"IF(1001<=$B$10,IF(LEN('２学期'!FC25)=0,\"\",IF('２学期'!FC25=$B$8,IF(LEN('２学期'!FF25)=0,\"\",'２学期'!FF25),\"\")),\"\")","v":""},{"$f":"IF(LEN(O1001)=0,\"\",IF(COUNTIF($O$2:$O$1921,O1001+1)>0,\"\",IF(COUNTIF($O$2:O1001,O1001)>1,\"\",O1001+1)))","v":""},{"$f":"IFERROR(SMALL($P$1:$P$1921,1000),\"\")","v":""}]
[null,null,null,null,null,null,null,null,null,null,null,null,null,null,{"$f":"IF(1002<=$B$10,IF(LEN('２学期'!FG6)=0,\"\",IF('２学期'!FG6=$B$8,IF(LEN('２学期'!FJ6)=0,\"\",'２学期'!FJ6),\"\")),\"\")","v":""},{"$f":"IF(LEN(O1002)=0,\"\",IF(COUNTIF($O$2:$O$1921,O1002+1)>0,\"\",IF(COUNTIF($O$2:O1002,O1002)>1,\"\",O1002+1)))","v":""},{"$f":"IFERROR(SMALL($P$1:$P$1921,1001),\"\")","v":""}]
[null,null,null,null,null,null,null,null,null,null,null,null,null,null,{"$f":"IF(1003<=$B$10,IF(LEN('２学期'!FG7)=0,\"\",IF('２学期'!FG7=$B$8,IF(LEN('２学期'!FJ7)=0,\"\",'２学期'!FJ7),\"\")),\"\")","v":""},{"$f":"IF(LEN(O1003)=0,\"\",IF(COUNTIF($O$2:$O$1921,O1003+1)>0,\"\",IF(COUNTIF($O$2:O1003,O1003)>1,\"\",O1003+1)))","v":""},{"$f":"IFERROR(SMALL($P$1:$P$1921,1002),\"\")","v":""}]
[null,null,null,null,null,null,null,null,null,null,null,null,null,null,{"$f":"IF(1004<=$B$10,IF(LEN('２学期'!FG10)=0,\"\",IF('２学期'!FG10=$B$8,IF(LEN('２学期'!FJ10)=0,\"\",'２学期'!FJ10),\"\")),\"\")","v":""},{"$f":"IF(LEN(O1004)=0,\"\",IF(COUNTIF($O$2:$O$1921,O1004+1)>0,\"\",IF(COUNTIF($O$2:O1004,O1004)>1,\"\",O1004+1)))","v":""},{"$f":"IFERROR(SMALL($P$1:$P$1921,1003),\"\")","v":""}]
[null,null,null,null,null,null,null,null,null,null,null,null,null,null,{"$f":"IF(1005<=$B$10,IF(LEN('２学期'!FG13)=0,\"\",IF('２学期'!FG13=$B$8,IF(LEN('２学期'!FJ13)=0,\"\",'２学期'!FJ13),\"\")),\"\")","v":""},{"$f":"IF(LEN(O1005)=0,\"\",IF(COUNTIF($O$2:$O$1921,O1005+1)>0,\"\",IF(COUNTIF($O$2:O1005,O1005)>1,\"\",O1005+1)))","v":""},{"$f":"IFERROR(SMALL($P$1:$P$1921,1004),\"\")","v":""}]
[null,null,null,null,null,null,null,null,null,null,null,null,null,null,{"$f":"IF(1006<=$B$10,IF(LEN('２学期'!FG16)=0,\"\",IF('２学期'!FG16=$B$8,IF(LEN('２学期'!FJ16)=0,\"\",'２学期'!FJ16),\"\")),\"\")","v":""},{"$f":"IF(LEN(O1006)=0,\"\",IF(COUNTIF($O$2:$O$1921,O1006+1)>0,\"\",IF(COUNTIF($O$2:O1006,O1006)>1,\"\",O1006+1)))","v":""},{"$f":"IFERROR(SMALL($P$1:$P$1921,1005),\"\")","v":""}]
[null,null,null,null,null,null,null,null,null,null,null,null,null,null,{"$f":"IF(1007<=$B$10,IF(LEN('２学期'!FG19)=0,\"\",IF('２学期'!FG19=$B$8,IF(LEN('２学期'!FJ19)=0,\"\",'２学期'!FJ19),\"\")),\"\")","v":""},{"$f":"IF(LEN(O1007)=0,\"\",IF(COUNTIF($O$2:$O$1921,O1007+1)>0,\"\",IF(COUNTIF($O$2:O1007,O1007)>1,\"\",O1007+1)))","v":""},{"$f":"IFERROR(SMALL($P$1:$P$1921,1006),\"\")","v":""}]
[null,null,null,null,null,null,null,null,null,null,null,null,null,null,{"$f":"IF(1008<=$B$10,IF(LEN('２学期'!FG22)=0,\"\",IF('２学期'!FG22=$B$8,IF(LEN('２学期'!FJ22)=0,\"\",'２学期'!FJ22),\"\")),\"\")","v":""},{"$f":"IF(LEN(O1008)=0,\"\",IF(COUNTIF($O$2:$O$1921,O1008+1)>0,\"\",IF(COUNTIF($O$2:O1008,O1008)>1,\"\",O1008+1)))","v":""},{"$f":"IFERROR(SMALL($P$1:$P$1921,1007),\"\")","v":""}]
[null,null,null,null,null,null,null,null,null,null,null,null,null,null,{"$f":"IF(1009<=$B$10,IF(LEN('２学期'!FG25)=0,\"\",IF('２学期'!FG25=$B$8,IF(LEN('２学期'!FJ25)=0,\"\",'２学期'!FJ25),\"\")),\"\")","v":""},{"$f":"IF(LEN(O1009)=0,\"\",IF(COUNTIF($O$2:$O$1921,O1009+1)>0,\"\",IF(COUNTIF($O$2:O1009,O1009)>1,\"\",O1009+1)))","v":""},{"$f":"IFERROR(SMALL($P$1:$P$1921,1008),\"\")","v":""}]
[null,null,null,null,null,null,null,null,null,null,null,null,null,null,{"$f":"IF(1010<=$B$10,IF(LEN('２学期'!FK6)=0,\"\",IF('２学期'!FK6=$B$8,IF(LEN('２学期'!FN6)=0,\"\",'２学期'!FN6),\"\")),\"\")","v":""},{"$f":"IF(LEN(O1010)=0,\"\",IF(COUNTIF($O$2:$O$1921,O1010+1)>0,\"\",IF(COUNTIF($O$2:O1010,O1010)>1,\"\",O1010+1)))","v":""},{"$f":"IFERROR(SMALL($P$1:$P$1921,1009),\"\")","v":""}]
[null,null,null,null,null,null,null,null,null,null,null,null,null,null,{"$f":"IF(1011<=$B$10,IF(LEN('２学期'!FK7)=0,\"\",IF('２学期'!FK7=$B$8,IF(LEN('２学期'!FN7)=0,\"\",'２学期'!FN7),\"\")),\"\")","v":""},{"$f":"IF(LEN(O1011)=0,\"\",IF(COUNTIF($O$2:$O$1921,O1011+1)>0,\"\",IF(COUNTIF($O$2:O1011,O1011)>1,\"\",O1011+1)))","v":""},{"$f":"IFERROR(SMALL($P$1:$P$1921,1010),\"\")","v":""}]
[null,null,null,null,null,null,null,null,null,null,null,null,null,null,{"$f":"IF(1012<=$B$10,IF(LEN('２学期'!FK10)=0,\"\",IF('２学期'!FK10=$B$8,IF(LEN('２学期'!FN10)=0,\"\",'２学期'!FN10),\"\")),\"\")","v":""},{"$f":"IF(LEN(O1012)=0,\"\",IF(COUNTIF($O$2:$O$1921,O1012+1)>0,\"\",IF(COUNTIF($O$2:O1012,O1012)>1,\"\",O1012+1)))","v":""},{"$f":"IFERROR(SMALL($P$1:$P$1921,1011),\"\")","v":""}]
[null,null,null,null,null,null,null,null,null,null,null,null,null,null,{"$f":"IF(1013<=$B$10,IF(LEN('２学期'!FK13)=0,\"\",IF('２学期'!FK13=$B$8,IF(LEN('２学期'!FN13)=0,\"\",'２学期'!FN13),\"\")),\"\")","v":""},{"$f":"IF(LEN(O1013)=0,\"\",IF(COUNTIF($O$2:$O$1921,O1013+1)>0,\"\",IF(COUNTIF($O$2:O1013,O1013)>1,\"\",O1013+1)))","v":""},{"$f":"IFERROR(SMALL($P$1:$P$1921,1012),\"\")","v":""}]
[null,null,null,null,null,null,null,null,null,null,null,null,null,null,{"$f":"IF(1014<=$B$10,IF(LEN('２学期'!FK16)=0,\"\",IF('２学期'!FK16=$B$8,IF(LEN('２学期'!FN16)=0,\"\",'２学期'!FN16),\"\")),\"\")","v":""},{"$f":"IF(LEN(O1014)=0,\"\",IF(COUNTIF($O$2:$O$1921,O1014+1)>0,\"\",IF(COUNTIF($O$2:O1014,O1014)>1,\"\",O1014+1)))","v":""},{"$f":"IFERROR(SMALL($P$1:$P$1921,1013),\"\")","v":""}]
[null,null,null,null,null,null,null,null,null,null,null,null,null,null,{"$f":"IF(1015<=$B$10,IF(LEN('２学期'!FK19)=0,\"\",IF('２学期'!FK19=$B$8,IF(LEN('２学期'!FN19)=0,\"\",'２学期'!FN19),\"\")),\"\")","v":""},{"$f":"IF(LEN(O1015)=0,\"\",IF(COUNTIF($O$2:$O$1921,O1015+1)>0,\"\",IF(COUNTIF($O$2:O1015,O1015)>1,\"\",O1015+1)))","v":""},{"$f":"IFERROR(SMALL($P$1:$P$1921,1014),\"\")","v":""}]
[null,null,null,null,null,null,null,null,null,null,null,null,null,null,{"$f":"IF(1016<=$B$10,IF(LEN('２学期'!FK22)=0,\"\",IF('２学期'!FK22=$B$8,IF(LEN('２学期'!FN22)=0,\"\",'２学期'!FN22),\"\")),\"\")","v":""},{"$f":"IF(LEN(O1016)=0,\"\",IF(COUNTIF($O$2:$O$1921,O1016+1)>0,\"\",IF(COUNTIF($O$2:O1016,O1016)>1,\"\",O1016+1)))","v":""},{"$f":"IFERROR(SMALL($P$1:$P$1921,1015),\"\")","v":""}]
[null,null,null,null,null,null,null,null,null,null,null,null,null,null,{"$f":"IF(1017<=$B$10,IF(LEN('２学期'!FK25)=0,\"\",IF('２学期'!FK25=$B$8,IF(LEN('２学期'!FN25)=0,\"\",'２学期'!FN25),\"\")),\"\")","v":""},{"$f":"IF(LEN(O1017)=0,\"\",IF(COUNTIF($O$2:$O$1921,O1017+1)>0,\"\",IF(COUNTIF($O$2:O1017,O1017)>1,\"\",O1017+1)))","v":""},{"$f":"IFERROR(SMALL($P$1:$P$1921,1016),\"\")","v":""}]
[null,null,null,null,null,null,null,null,null,null,null,null,null,null,{"$f":"IF(1018<=$B$10,IF(LEN('２学期'!FO6)=0,\"\",IF('２学期'!FO6=$B$8,IF(LEN('２学期'!FR6)=0,\"\",'２学期'!FR6),\"\")),\"\")","v":""},{"$f":"IF(LEN(O1018)=0,\"\",IF(COUNTIF($O$2:$O$1921,O1018+1)>0,\"\",IF(COUNTIF($O$2:O1018,O1018)>1,\"\",O1018+1)))","v":""},{"$f":"IFERROR(SMALL($P$1:$P$1921,1017),\"\")","v":""}]
[null,null,null,null,null,null,null,null,null,null,null,null,null,null,{"$f":"IF(1019<=$B$10,IF(LEN('２学期'!FO7)=0,\"\",IF('２学期'!FO7=$B$8,IF(LEN('２学期'!FR7)=0,\"\",'２学期'!FR7),\"\")),\"\")","v":""},{"$f":"IF(LEN(O1019)=0,\"\",IF(COUNTIF($O$2:$O$1921,O1019+1)>0,\"\",IF(COUNTIF($O$2:O1019,O1019)>1,\"\",O1019+1)))","v":""},{"$f":"IFERROR(SMALL($P$1:$P$1921,1018),\"\")","v":""}]
[null,null,null,null,null,null,null,null,null,null,null,null,null,null,{"$f":"IF(1020<=$B$10,IF(LEN('２学期'!FO10)=0,\"\",IF('２学期'!FO10=$B$8,IF(LEN('２学期'!FR10)=0,\"\",'２学期'!FR10),\"\")),\"\")","v":""},{"$f":"IF(LEN(O1020)=0,\"\",IF(COUNTIF($O$2:$O$1921,O1020+1)>0,\"\",IF(COUNTIF($O$2:O1020,O1020)>1,\"\",O1020+1)))","v":""},{"$f":"IFERROR(SMALL($P$1:$P$1921,1019),\"\")","v":""}]
[null,null,null,null,null,null,null,null,null,null,null,null,null,null,{"$f":"IF(1021<=$B$10,IF(LEN('２学期'!FO13)=0,\"\",IF('２学期'!FO13=$B$8,IF(LEN('２学期'!FR13)=0,\"\",'２学期'!FR13),\"\")),\"\")","v":""},{"$f":"IF(LEN(O1021)=0,\"\",IF(COUNTIF($O$2:$O$1921,O1021+1)>0,\"\",IF(COUNTIF($O$2:O1021,O1021)>1,\"\",O1021+1)))","v":""},{"$f":"IFERROR(SMALL($P$1:$P$1921,1020),\"\")","v":""}]
[null,null,null,null,null,null,null,null,null,null,null,null,null,null,{"$f":"IF(1022<=$B$10,IF(LEN('２学期'!FO16)=0,\"\",IF('２学期'!FO16=$B$8,IF(LEN('２学期'!FR16)=0,\"\",'２学期'!FR16),\"\")),\"\")","v":""},{"$f":"IF(LEN(O1022)=0,\"\",IF(COUNTIF($O$2:$O$1921,O1022+1)>0,\"\",IF(COUNTIF($O$2:O1022,O1022)>1,\"\",O1022+1)))","v":""},{"$f":"IFERROR(SMALL($P$1:$P$1921,1021),\"\")","v":""}]
[null,null,null,null,null,null,null,null,null,null,null,null,null,null,{"$f":"IF(1023<=$B$10,IF(LEN('２学期'!FO19)=0,\"\",IF('２学期'!FO19=$B$8,IF(LEN('２学期'!FR19)=0,\"\",'２学期'!FR19),\"\")),\"\")","v":""},{"$f":"IF(LEN(O1023)=0,\"\",IF(COUNTIF($O$2:$O$1921,O1023+1)>0,\"\",IF(COUNTIF($O$2:O1023,O1023)>1,\"\",O1023+1)))","v":""},{"$f":"IFERROR(SMALL($P$1:$P$1921,1022),\"\")","v":""}]
[null,null,null,null,null,null,null,null,null,null,null,null,null,null,{"$f":"IF(1024<=$B$10,IF(LEN('２学期'!FO22)=0,\"\",IF('２学期'!FO22=$B$8,IF(LEN('２学期'!FR22)=0,\"\",'２学期'!FR22),\"\")),\"\")","v":""},{"$f":"IF(LEN(O1024)=0,\"\",IF(COUNTIF($O$2:$O$1921,O1024+1)>0,\"\",IF(COUNTIF($O$2:O1024,O1024)>1,\"\",O1024+1)))","v":""},{"$f":"IFERROR(SMALL($P$1:$P$1921,1023),\"\")","v":""}]
[null,null,null,null,null,null,null,null,null,null,null,null,null,null,{"$f":"IF(1025<=$B$10,IF(LEN('２学期'!FO25)=0,\"\",IF('２学期'!FO25=$B$8,IF(LEN('２学期'!FR25)=0,\"\",'２学期'!FR25),\"\")),\"\")","v":""},{"$f":"IF(LEN(O1025)=0,\"\",IF(COUNTIF($O$2:$O$1921,O1025+1)>0,\"\",IF(COUNTIF($O$2:O1025,O1025)>1,\"\",O1025+1)))","v":""},{"$f":"IFERROR(SMALL($P$1:$P$1921,1024),\"\")","v":""}]
[null,null,null,null,null,null,null,null,null,null,null,null,null,null,{"$f":"IF(1026<=$B$10,IF(LEN('２学期'!FS6)=0,\"\",IF('２学期'!FS6=$B$8,IF(LEN('２学期'!FV6)=0,\"\",'２学期'!FV6),\"\")),\"\")","v":""},{"$f":"IF(LEN(O1026)=0,\"\",IF(COUNTIF($O$2:$O$1921,O1026+1)>0,\"\",IF(COUNTIF($O$2:O1026,O1026)>1,\"\",O1026+1)))","v":""},{"$f":"IFERROR(SMALL($P$1:$P$1921,1025),\"\")","v":""}]
[null,null,null,null,null,null,null,null,null,null,null,null,null,null,{"$f":"IF(1027<=$B$10,IF(LEN('２学期'!FS7)=0,\"\",IF('２学期'!FS7=$B$8,IF(LEN('２学期'!FV7)=0,\"\",'２学期'!FV7),\"\")),\"\")","v":""},{"$f":"IF(LEN(O1027)=0,\"\",IF(COUNTIF($O$2:$O$1921,O1027+1)>0,\"\",IF(COUNTIF($O$2:O1027,O1027)>1,\"\",O1027+1)))","v":""},{"$f":"IFERROR(SMALL($P$1:$P$1921,1026),\"\")","v":""}]
[null,null,null,null,null,null,null,null,null,null,null,null,null,null,{"$f":"IF(1028<=$B$10,IF(LEN('２学期'!FS10)=0,\"\",IF('２学期'!FS10=$B$8,IF(LEN('２学期'!FV10)=0,\"\",'２学期'!FV10),\"\")),\"\")","v":""},{"$f":"IF(LEN(O1028)=0,\"\",IF(COUNTIF($O$2:$O$1921,O1028+1)>0,\"\",IF(COUNTIF($O$2:O1028,O1028)>1,\"\",O1028+1)))","v":""},{"$f":"IFERROR(SMALL($P$1:$P$1921,1027),\"\")","v":""}]
[null,null,null,null,null,null,null,null,null,null,null,null,null,null,{"$f":"IF(1029<=$B$10,IF(LEN('２学期'!FS13)=0,\"\",IF('２学期'!FS13=$B$8,IF(LEN('２学期'!FV13)=0,\"\",'２学期'!FV13),\"\")),\"\")","v":""},{"$f":"IF(LEN(O1029)=0,\"\",IF(COUNTIF($O$2:$O$1921,O1029+1)>0,\"\",IF(COUNTIF($O$2:O1029,O1029)>1,\"\",O1029+1)))","v":""},{"$f":"IFERROR(SMALL($P$1:$P$1921,1028),\"\")","v":""}]
[null,null,null,null,null,null,null,null,null,null,null,null,null,null,{"$f":"IF(1030<=$B$10,IF(LEN('２学期'!FS16)=0,\"\",IF('２学期'!FS16=$B$8,IF(LEN('２学期'!FV16)=0,\"\",'２学期'!FV16),\"\")),\"\")","v":""},{"$f":"IF(LEN(O1030)=0,\"\",IF(COUNTIF($O$2:$O$1921,O1030+1)>0,\"\",IF(COUNTIF($O$2:O1030,O1030)>1,\"\",O1030+1)))","v":""},{"$f":"IFERROR(SMALL($P$1:$P$1921,1029),\"\")","v":""}]
[null,null,null,null,null,null,null,null,null,null,null,null,null,null,{"$f":"IF(1031<=$B$10,IF(LEN('２学期'!FS19)=0,\"\",IF('２学期'!FS19=$B$8,IF(LEN('２学期'!FV19)=0,\"\",'２学期'!FV19),\"\")),\"\")","v":""},{"$f":"IF(LEN(O1031)=0,\"\",IF(COUNTIF($O$2:$O$1921,O1031+1)>0,\"\",IF(COUNTIF($O$2:O1031,O1031)>1,\"\",O1031+1)))","v":""},{"$f":"IFERROR(SMALL($P$1:$P$1921,1030),\"\")","v":""}]
[null,null,null,null,null,null,null,null,null,null,null,null,null,null,{"$f":"IF(1032<=$B$10,IF(LEN('２学期'!FS22)=0,\"\",IF('２学期'!FS22=$B$8,IF(LEN('２学期'!FV22)=0,\"\",'２学期'!FV22),\"\")),\"\")","v":""},{"$f":"IF(LEN(O1032)=0,\"\",IF(COUNTIF($O$2:$O$1921,O1032+1)>0,\"\",IF(COUNTIF($O$2:O1032,O1032)>1,\"\",O1032+1)))","v":""},{"$f":"IFERROR(SMALL($P$1:$P$1921,1031),\"\")","v":""}]
[null,null,null,null,null,null,null,null,null,null,null,null,null,null,{"$f":"IF(1033<=$B$10,IF(LEN('２学期'!FS25)=0,\"\",IF('２学期'!FS25=$B$8,IF(LEN('２学期'!FV25)=0,\"\",'２学期'!FV25),\"\")),\"\")","v":""},{"$f":"IF(LEN(O1033)=0,\"\",IF(COUNTIF($O$2:$O$1921,O1033+1)>0,\"\",IF(COUNTIF($O$2:O1033,O1033)>1,\"\",O1033+1)))","v":""},{"$f":"IFERROR(SMALL($P$1:$P$1921,1032),\"\")","v":""}]
[null,null,null,null,null,null,null,null,null,null,null,null,null,null,{"$f":"IF(1034<=$B$10,IF(LEN('２学期'!FW6)=0,\"\",IF('２学期'!FW6=$B$8,IF(LEN('２学期'!FZ6)=0,\"\",'２学期'!FZ6),\"\")),\"\")","v":""},{"$f":"IF(LEN(O1034)=0,\"\",IF(COUNTIF($O$2:$O$1921,O1034+1)>0,\"\",IF(COUNTIF($O$2:O1034,O1034)>1,\"\",O1034+1)))","v":""},{"$f":"IFERROR(SMALL($P$1:$P$1921,1033),\"\")","v":""}]
[null,null,null,null,null,null,null,null,null,null,null,null,null,null,{"$f":"IF(1035<=$B$10,IF(LEN('２学期'!FW7)=0,\"\",IF('２学期'!FW7=$B$8,IF(LEN('２学期'!FZ7)=0,\"\",'２学期'!FZ7),\"\")),\"\")","v":""},{"$f":"IF(LEN(O1035)=0,\"\",IF(COUNTIF($O$2:$O$1921,O1035+1)>0,\"\",IF(COUNTIF($O$2:O1035,O1035)>1,\"\",O1035+1)))","v":""},{"$f":"IFERROR(SMALL($P$1:$P$1921,1034),\"\")","v":""}]
[null,null,null,null,null,null,null,null,null,null,null,null,null,null,{"$f":"IF(1036<=$B$10,IF(LEN('２学期'!FW10)=0,\"\",IF('２学期'!FW10=$B$8,IF(LEN('２学期'!FZ10)=0,\"\",'２学期'!FZ10),\"\")),\"\")","v":""},{"$f":"IF(LEN(O1036)=0,\"\",IF(COUNTIF($O$2:$O$1921,O1036+1)>0,\"\",IF(COUNTIF($O$2:O1036,O1036)>1,\"\",O1036+1)))","v":""},{"$f":"IFERROR(SMALL($P$1:$P$1921,1035),\"\")","v":""}]
[null,null,null,null,null,null,null,null,null,null,null,null,null,null,{"$f":"IF(1037<=$B$10,IF(LEN('２学期'!FW13)=0,\"\",IF('２学期'!FW13=$B$8,IF(LEN('２学期'!FZ13)=0,\"\",'２学期'!FZ13),\"\")),\"\")","v":""},{"$f":"IF(LEN(O1037)=0,\"\",IF(COUNTIF($O$2:$O$1921,O1037+1)>0,\"\",IF(COUNTIF($O$2:O1037,O1037)>1,\"\",O1037+1)))","v":""},{"$f":"IFERROR(SMALL($P$1:$P$1921,1036),\"\")","v":""}]
[null,null,null,null,null,null,null,null,null,null,null,null,null,null,{"$f":"IF(1038<=$B$10,IF(LEN('２学期'!FW16)=0,\"\",IF('２学期'!FW16=$B$8,IF(LEN('２学期'!FZ16)=0,\"\",'２学期'!FZ16),\"\")),\"\")","v":""},{"$f":"IF(LEN(O1038)=0,\"\",IF(COUNTIF($O$2:$O$1921,O1038+1)>0,\"\",IF(COUNTIF($O$2:O1038,O1038)>1,\"\",O1038+1)))","v":""},{"$f":"IFERROR(SMALL($P$1:$P$1921,1037),\"\")","v":""}]
[null,null,null,null,null,null,null,null,null,null,null,null,null,null,{"$f":"IF(1039<=$B$10,IF(LEN('２学期'!FW19)=0,\"\",IF('２学期'!FW19=$B$8,IF(LEN('２学期'!FZ19)=0,\"\",'２学期'!FZ19),\"\")),\"\")","v":""},{"$f":"IF(LEN(O1039)=0,\"\",IF(COUNTIF($O$2:$O$1921,O1039+1)>0,\"\",IF(COUNTIF($O$2:O1039,O1039)>1,\"\",O1039+1)))","v":""},{"$f":"IFERROR(SMALL($P$1:$P$1921,1038),\"\")","v":""}]
[null,null,null,null,null,null,null,null,null,null,null,null,null,null,{"$f":"IF(1040<=$B$10,IF(LEN('２学期'!FW22)=0,\"\",IF('２学期'!FW22=$B$8,IF(LEN('２学期'!FZ22)=0,\"\",'２学期'!FZ22),\"\")),\"\")","v":""},{"$f":"IF(LEN(O1040)=0,\"\",IF(COUNTIF($O$2:$O$1921,O1040+1)>0,\"\",IF(COUNTIF($O$2:O1040,O1040)>1,\"\",O1040+1)))","v":""},{"$f":"IFERROR(SMALL($P$1:$P$1921,1039),\"\")","v":""}]
[null,null,null,null,null,null,null,null,null,null,null,null,null,null,{"$f":"IF(1041<=$B$10,IF(LEN('２学期'!FW25)=0,\"\",IF('２学期'!FW25=$B$8,IF(LEN('２学期'!FZ25)=0,\"\",'２学期'!FZ25),\"\")),\"\")","v":""},{"$f":"IF(LEN(O1041)=0,\"\",IF(COUNTIF($O$2:$O$1921,O1041+1)>0,\"\",IF(COUNTIF($O$2:O1041,O1041)>1,\"\",O1041+1)))","v":""},{"$f":"IFERROR(SMALL($P$1:$P$1921,1040),\"\")","v":""}]
[null,null,null,null,null,null,null,null,null,null,null,null,null,null,{"$f":"IF(1042<=$B$10,IF(LEN('２学期'!GA6)=0,\"\",IF('２学期'!GA6=$B$8,IF(LEN('２学期'!GD6)=0,\"\",'２学期'!GD6),\"\")),\"\")","v":""},{"$f":"IF(LEN(O1042)=0,\"\",IF(COUNTIF($O$2:$O$1921,O1042+1)>0,\"\",IF(COUNTIF($O$2:O1042,O1042)>1,\"\",O1042+1)))","v":""},{"$f":"IFERROR(SMALL($P$1:$P$1921,1041),\"\")","v":""}]
[null,null,null,null,null,null,null,null,null,null,null,null,null,null,{"$f":"IF(1043<=$B$10,IF(LEN('２学期'!GA7)=0,\"\",IF('２学期'!GA7=$B$8,IF(LEN('２学期'!GD7)=0,\"\",'２学期'!GD7),\"\")),\"\")","v":""},{"$f":"IF(LEN(O1043)=0,\"\",IF(COUNTIF($O$2:$O$1921,O1043+1)>0,\"\",IF(COUNTIF($O$2:O1043,O1043)>1,\"\",O1043+1)))","v":""},{"$f":"IFERROR(SMALL($P$1:$P$1921,1042),\"\")","v":""}]
[null,null,null,null,null,null,null,null,null,null,null,null,null,null,{"$f":"IF(1044<=$B$10,IF(LEN('２学期'!GA10)=0,\"\",IF('２学期'!GA10=$B$8,IF(LEN('２学期'!GD10)=0,\"\",'２学期'!GD10),\"\")),\"\")","v":""},{"$f":"IF(LEN(O1044)=0,\"\",IF(COUNTIF($O$2:$O$1921,O1044+1)>0,\"\",IF(COUNTIF($O$2:O1044,O1044)>1,\"\",O1044+1)))","v":""},{"$f":"IFERROR(SMALL($P$1:$P$1921,1043),\"\")","v":""}]
[null,null,null,null,null,null,null,null,null,null,null,null,null,null,{"$f":"IF(1045<=$B$10,IF(LEN('２学期'!GA13)=0,\"\",IF('２学期'!GA13=$B$8,IF(LEN('２学期'!GD13)=0,\"\",'２学期'!GD13),\"\")),\"\")","v":""},{"$f":"IF(LEN(O1045)=0,\"\",IF(COUNTIF($O$2:$O$1921,O1045+1)>0,\"\",IF(COUNTIF($O$2:O1045,O1045)>1,\"\",O1045+1)))","v":""},{"$f":"IFERROR(SMALL($P$1:$P$1921,1044),\"\")","v":""}]
[null,null,null,null,null,null,null,null,null,null,null,null,null,null,{"$f":"IF(1046<=$B$10,IF(LEN('２学期'!GA16)=0,\"\",IF('２学期'!GA16=$B$8,IF(LEN('２学期'!GD16)=0,\"\",'２学期'!GD16),\"\")),\"\")","v":""},{"$f":"IF(LEN(O1046)=0,\"\",IF(COUNTIF($O$2:$O$1921,O1046+1)>0,\"\",IF(COUNTIF($O$2:O1046,O1046)>1,\"\",O1046+1)))","v":""},{"$f":"IFERROR(SMALL($P$1:$P$1921,1045),\"\")","v":""}]
[null,null,null,null,null,null,null,null,null,null,null,null,null,null,{"$f":"IF(1047<=$B$10,IF(LEN('２学期'!GA19)=0,\"\",IF('２学期'!GA19=$B$8,IF(LEN('２学期'!GD19)=0,\"\",'２学期'!GD19),\"\")),\"\")","v":""},{"$f":"IF(LEN(O1047)=0,\"\",IF(COUNTIF($O$2:$O$1921,O1047+1)>0,\"\",IF(COUNTIF($O$2:O1047,O1047)>1,\"\",O1047+1)))","v":""},{"$f":"IFERROR(SMALL($P$1:$P$1921,1046),\"\")","v":""}]
[null,null,null,null,null,null,null,null,null,null,null,null,null,null,{"$f":"IF(1048<=$B$10,IF(LEN('２学期'!GA22)=0,\"\",IF('２学期'!GA22=$B$8,IF(LEN('２学期'!GD22)=0,\"\",'２学期'!GD22),\"\")),\"\")","v":""},{"$f":"IF(LEN(O1048)=0,\"\",IF(COUNTIF($O$2:$O$1921,O1048+1)>0,\"\",IF(COUNTIF($O$2:O1048,O1048)>1,\"\",O1048+1)))","v":""},{"$f":"IFERROR(SMALL($P$1:$P$1921,1047),\"\")","v":""}]
[null,null,null,null,null,null,null,null,null,null,null,null,null,null,{"$f":"IF(1049<=$B$10,IF(LEN('２学期'!GA25)=0,\"\",IF('２学期'!GA25=$B$8,IF(LEN('２学期'!GD25)=0,\"\",'２学期'!GD25),\"\")),\"\")","v":""},{"$f":"IF(LEN(O1049)=0,\"\",IF(COUNTIF($O$2:$O$1921,O1049+1)>0,\"\",IF(COUNTIF($O$2:O1049,O1049)>1,\"\",O1049+1)))","v":""},{"$f":"IFERROR(SMALL($P$1:$P$1921,1048),\"\")","v":""}]
[null,null,null,null,null,null,null,null,null,null,null,null,null,null,{"$f":"IF(1050<=$B$10,IF(LEN('２学期'!GE6)=0,\"\",IF('２学期'!GE6=$B$8,IF(LEN('２学期'!GH6)=0,\"\",'２学期'!GH6),\"\")),\"\")","v":""},{"$f":"IF(LEN(O1050)=0,\"\",IF(COUNTIF($O$2:$O$1921,O1050+1)>0,\"\",IF(COUNTIF($O$2:O1050,O1050)>1,\"\",O1050+1)))","v":""},{"$f":"IFERROR(SMALL($P$1:$P$1921,1049),\"\")","v":""}]
[null,null,null,null,null,null,null,null,null,null,null,null,null,null,{"$f":"IF(1051<=$B$10,IF(LEN('２学期'!GE7)=0,\"\",IF('２学期'!GE7=$B$8,IF(LEN('２学期'!GH7)=0,\"\",'２学期'!GH7),\"\")),\"\")","v":""},{"$f":"IF(LEN(O1051)=0,\"\",IF(COUNTIF($O$2:$O$1921,O1051+1)>0,\"\",IF(COUNTIF($O$2:O1051,O1051)>1,\"\",O1051+1)))","v":""},{"$f":"IFERROR(SMALL($P$1:$P$1921,1050),\"\")","v":""}]
[null,null,null,null,null,null,null,null,null,null,null,null,null,null,{"$f":"IF(1052<=$B$10,IF(LEN('２学期'!GE10)=0,\"\",IF('２学期'!GE10=$B$8,IF(LEN('２学期'!GH10)=0,\"\",'２学期'!GH10),\"\")),\"\")","v":""},{"$f":"IF(LEN(O1052)=0,\"\",IF(COUNTIF($O$2:$O$1921,O1052+1)>0,\"\",IF(COUNTIF($O$2:O1052,O1052)>1,\"\",O1052+1)))","v":""},{"$f":"IFERROR(SMALL($P$1:$P$1921,1051),\"\")","v":""}]
[null,null,null,null,null,null,null,null,null,null,null,null,null,null,{"$f":"IF(1053<=$B$10,IF(LEN('２学期'!GE13)=0,\"\",IF('２学期'!GE13=$B$8,IF(LEN('２学期'!GH13)=0,\"\",'２学期'!GH13),\"\")),\"\")","v":""},{"$f":"IF(LEN(O1053)=0,\"\",IF(COUNTIF($O$2:$O$1921,O1053+1)>0,\"\",IF(COUNTIF($O$2:O1053,O1053)>1,\"\",O1053+1)))","v":""},{"$f":"IFERROR(SMALL($P$1:$P$1921,1052),\"\")","v":""}]
[null,null,null,null,null,null,null,null,null,null,null,null,null,null,{"$f":"IF(1054<=$B$10,IF(LEN('２学期'!GE16)=0,\"\",IF('２学期'!GE16=$B$8,IF(LEN('２学期'!GH16)=0,\"\",'２学期'!GH16),\"\")),\"\")","v":""},{"$f":"IF(LEN(O1054)=0,\"\",IF(COUNTIF($O$2:$O$1921,O1054+1)>0,\"\",IF(COUNTIF($O$2:O1054,O1054)>1,\"\",O1054+1)))","v":""},{"$f":"IFERROR(SMALL($P$1:$P$1921,1053),\"\")","v":""}]
[null,null,null,null,null,null,null,null,null,null,null,null,null,null,{"$f":"IF(1055<=$B$10,IF(LEN('２学期'!GE19)=0,\"\",IF('２学期'!GE19=$B$8,IF(LEN('２学期'!GH19)=0,\"\",'２学期'!GH19),\"\")),\"\")","v":""},{"$f":"IF(LEN(O1055)=0,\"\",IF(COUNTIF($O$2:$O$1921,O1055+1)>0,\"\",IF(COUNTIF($O$2:O1055,O1055)>1,\"\",O1055+1)))","v":""},{"$f":"IFERROR(SMALL($P$1:$P$1921,1054),\"\")","v":""}]
[null,null,null,null,null,null,null,null,null,null,null,null,null,null,{"$f":"IF(1056<=$B$10,IF(LEN('２学期'!GE22)=0,\"\",IF('２学期'!GE22=$B$8,IF(LEN('２学期'!GH22)=0,\"\",'２学期'!GH22),\"\")),\"\")","v":""},{"$f":"IF(LEN(O1056)=0,\"\",IF(COUNTIF($O$2:$O$1921,O1056+1)>0,\"\",IF(COUNTIF($O$2:O1056,O1056)>1,\"\",O1056+1)))","v":""},{"$f":"IFERROR(SMALL($P$1:$P$1921,1055),\"\")","v":""}]
[null,null,null,null,null,null,null,null,null,null,null,null,null,null,{"$f":"IF(1057<=$B$10,IF(LEN('２学期'!GE25)=0,\"\",IF('２学期'!GE25=$B$8,IF(LEN('２学期'!GH25)=0,\"\",'２学期'!GH25),\"\")),\"\")","v":""},{"$f":"IF(LEN(O1057)=0,\"\",IF(COUNTIF($O$2:$O$1921,O1057+1)>0,\"\",IF(COUNTIF($O$2:O1057,O1057)>1,\"\",O1057+1)))","v":""},{"$f":"IFERROR(SMALL($P$1:$P$1921,1056),\"\")","v":""}]
[null,null,null,null,null,null,null,null,null,null,null,null,null,null,{"$f":"IF(1058<=$B$10,IF(LEN('２学期'!GI6)=0,\"\",IF('２学期'!GI6=$B$8,IF(LEN('２学期'!GL6)=0,\"\",'２学期'!GL6),\"\")),\"\")","v":""},{"$f":"IF(LEN(O1058)=0,\"\",IF(COUNTIF($O$2:$O$1921,O1058+1)>0,\"\",IF(COUNTIF($O$2:O1058,O1058)>1,\"\",O1058+1)))","v":""},{"$f":"IFERROR(SMALL($P$1:$P$1921,1057),\"\")","v":""}]
[null,null,null,null,null,null,null,null,null,null,null,null,null,null,{"$f":"IF(1059<=$B$10,IF(LEN('２学期'!GI7)=0,\"\",IF('２学期'!GI7=$B$8,IF(LEN('２学期'!GL7)=0,\"\",'２学期'!GL7),\"\")),\"\")","v":""},{"$f":"IF(LEN(O1059)=0,\"\",IF(COUNTIF($O$2:$O$1921,O1059+1)>0,\"\",IF(COUNTIF($O$2:O1059,O1059)>1,\"\",O1059+1)))","v":""},{"$f":"IFERROR(SMALL($P$1:$P$1921,1058),\"\")","v":""}]
[null,null,null,null,null,null,null,null,null,null,null,null,null,null,{"$f":"IF(1060<=$B$10,IF(LEN('２学期'!GI10)=0,\"\",IF('２学期'!GI10=$B$8,IF(LEN('２学期'!GL10)=0,\"\",'２学期'!GL10),\"\")),\"\")","v":""},{"$f":"IF(LEN(O1060)=0,\"\",IF(COUNTIF($O$2:$O$1921,O1060+1)>0,\"\",IF(COUNTIF($O$2:O1060,O1060)>1,\"\",O1060+1)))","v":""},{"$f":"IFERROR(SMALL($P$1:$P$1921,1059),\"\")","v":""}]
[null,null,null,null,null,null,null,null,null,null,null,null,null,null,{"$f":"IF(1061<=$B$10,IF(LEN('２学期'!GI13)=0,\"\",IF('２学期'!GI13=$B$8,IF(LEN('２学期'!GL13)=0,\"\",'２学期'!GL13),\"\")),\"\")","v":""},{"$f":"IF(LEN(O1061)=0,\"\",IF(COUNTIF($O$2:$O$1921,O1061+1)>0,\"\",IF(COUNTIF($O$2:O1061,O1061)>1,\"\",O1061+1)))","v":""},{"$f":"IFERROR(SMALL($P$1:$P$1921,1060),\"\")","v":""}]
[null,null,null,null,null,null,null,null,null,null,null,null,null,null,{"$f":"IF(1062<=$B$10,IF(LEN('２学期'!GI16)=0,\"\",IF('２学期'!GI16=$B$8,IF(LEN('２学期'!GL16)=0,\"\",'２学期'!GL16),\"\")),\"\")","v":""},{"$f":"IF(LEN(O1062)=0,\"\",IF(COUNTIF($O$2:$O$1921,O1062+1)>0,\"\",IF(COUNTIF($O$2:O1062,O1062)>1,\"\",O1062+1)))","v":""},{"$f":"IFERROR(SMALL($P$1:$P$1921,1061),\"\")","v":""}]
[null,null,null,null,null,null,null,null,null,null,null,null,null,null,{"$f":"IF(1063<=$B$10,IF(LEN('２学期'!GI19)=0,\"\",IF('２学期'!GI19=$B$8,IF(LEN('２学期'!GL19)=0,\"\",'２学期'!GL19),\"\")),\"\")","v":""},{"$f":"IF(LEN(O1063)=0,\"\",IF(COUNTIF($O$2:$O$1921,O1063+1)>0,\"\",IF(COUNTIF($O$2:O1063,O1063)>1,\"\",O1063+1)))","v":""},{"$f":"IFERROR(SMALL($P$1:$P$1921,1062),\"\")","v":""}]
[null,null,null,null,null,null,null,null,null,null,null,null,null,null,{"$f":"IF(1064<=$B$10,IF(LEN('２学期'!GI22)=0,\"\",IF('２学期'!GI22=$B$8,IF(LEN('２学期'!GL22)=0,\"\",'２学期'!GL22),\"\")),\"\")","v":""},{"$f":"IF(LEN(O1064)=0,\"\",IF(COUNTIF($O$2:$O$1921,O1064+1)>0,\"\",IF(COUNTIF($O$2:O1064,O1064)>1,\"\",O1064+1)))","v":""},{"$f":"IFERROR(SMALL($P$1:$P$1921,1063),\"\")","v":""}]
[null,null,null,null,null,null,null,null,null,null,null,null,null,null,{"$f":"IF(1065<=$B$10,IF(LEN('２学期'!GI25)=0,\"\",IF('２学期'!GI25=$B$8,IF(LEN('２学期'!GL25)=0,\"\",'２学期'!GL25),\"\")),\"\")","v":""},{"$f":"IF(LEN(O1065)=0,\"\",IF(COUNTIF($O$2:$O$1921,O1065+1)>0,\"\",IF(COUNTIF($O$2:O1065,O1065)>1,\"\",O1065+1)))","v":""},{"$f":"IFERROR(SMALL($P$1:$P$1921,1064),\"\")","v":""}]
[null,null,null,null,null,null,null,null,null,null,null,null,null,null,{"$f":"IF(1066<=$B$10,IF(LEN('２学期'!GM6)=0,\"\",IF('２学期'!GM6=$B$8,IF(LEN('２学期'!GP6)=0,\"\",'２学期'!GP6),\"\")),\"\")","v":""},{"$f":"IF(LEN(O1066)=0,\"\",IF(COUNTIF($O$2:$O$1921,O1066+1)>0,\"\",IF(COUNTIF($O$2:O1066,O1066)>1,\"\",O1066+1)))","v":""},{"$f":"IFERROR(SMALL($P$1:$P$1921,1065),\"\")","v":""}]
[null,null,null,null,null,null,null,null,null,null,null,null,null,null,{"$f":"IF(1067<=$B$10,IF(LEN('２学期'!GM7)=0,\"\",IF('２学期'!GM7=$B$8,IF(LEN('２学期'!GP7)=0,\"\",'２学期'!GP7),\"\")),\"\")","v":""},{"$f":"IF(LEN(O1067)=0,\"\",IF(COUNTIF($O$2:$O$1921,O1067+1)>0,\"\",IF(COUNTIF($O$2:O1067,O1067)>1,\"\",O1067+1)))","v":""},{"$f":"IFERROR(SMALL($P$1:$P$1921,1066),\"\")","v":""}]
[null,null,null,null,null,null,null,null,null,null,null,null,null,null,{"$f":"IF(1068<=$B$10,IF(LEN('２学期'!GM10)=0,\"\",IF('２学期'!GM10=$B$8,IF(LEN('２学期'!GP10)=0,\"\",'２学期'!GP10),\"\")),\"\")","v":""},{"$f":"IF(LEN(O1068)=0,\"\",IF(COUNTIF($O$2:$O$1921,O1068+1)>0,\"\",IF(COUNTIF($O$2:O1068,O1068)>1,\"\",O1068+1)))","v":""},{"$f":"IFERROR(SMALL($P$1:$P$1921,1067),\"\")","v":""}]
[null,null,null,null,null,null,null,null,null,null,null,null,null,null,{"$f":"IF(1069<=$B$10,IF(LEN('２学期'!GM13)=0,\"\",IF('２学期'!GM13=$B$8,IF(LEN('２学期'!GP13)=0,\"\",'２学期'!GP13),\"\")),\"\")","v":""},{"$f":"IF(LEN(O1069)=0,\"\",IF(COUNTIF($O$2:$O$1921,O1069+1)>0,\"\",IF(COUNTIF($O$2:O1069,O1069)>1,\"\",O1069+1)))","v":""},{"$f":"IFERROR(SMALL($P$1:$P$1921,1068),\"\")","v":""}]
[null,null,null,null,null,null,null,null,null,null,null,null,null,null,{"$f":"IF(1070<=$B$10,IF(LEN('２学期'!GM16)=0,\"\",IF('２学期'!GM16=$B$8,IF(LEN('２学期'!GP16)=0,\"\",'２学期'!GP16),\"\")),\"\")","v":""},{"$f":"IF(LEN(O1070)=0,\"\",IF(COUNTIF($O$2:$O$1921,O1070+1)>0,\"\",IF(COUNTIF($O$2:O1070,O1070)>1,\"\",O1070+1)))","v":""},{"$f":"IFERROR(SMALL($P$1:$P$1921,1069),\"\")","v":""}]
[null,null,null,null,null,null,null,null,null,null,null,null,null,null,{"$f":"IF(1071<=$B$10,IF(LEN('２学期'!GM19)=0,\"\",IF('２学期'!GM19=$B$8,IF(LEN('２学期'!GP19)=0,\"\",'２学期'!GP19),\"\")),\"\")","v":""},{"$f":"IF(LEN(O1071)=0,\"\",IF(COUNTIF($O$2:$O$1921,O1071+1)>0,\"\",IF(COUNTIF($O$2:O1071,O1071)>1,\"\",O1071+1)))","v":""},{"$f":"IFERROR(SMALL($P$1:$P$1921,1070),\"\")","v":""}]
[null,null,null,null,null,null,null,null,null,null,null,null,null,null,{"$f":"IF(1072<=$B$10,IF(LEN('２学期'!GM22)=0,\"\",IF('２学期'!GM22=$B$8,IF(LEN('２学期'!GP22)=0,\"\",'２学期'!GP22),\"\")),\"\")","v":""},{"$f":"IF(LEN(O1072)=0,\"\",IF(COUNTIF($O$2:$O$1921,O1072+1)>0,\"\",IF(COUNTIF($O$2:O1072,O1072)>1,\"\",O1072+1)))","v":""},{"$f":"IFERROR(SMALL($P$1:$P$1921,1071),\"\")","v":""}]
[null,null,null,null,null,null,null,null,null,null,null,null,null,null,{"$f":"IF(1073<=$B$10,IF(LEN('２学期'!GM25)=0,\"\",IF('２学期'!GM25=$B$8,IF(LEN('２学期'!GP25)=0,\"\",'２学期'!GP25),\"\")),\"\")","v":""},{"$f":"IF(LEN(O1073)=0,\"\",IF(COUNTIF($O$2:$O$1921,O1073+1)>0,\"\",IF(COUNTIF($O$2:O1073,O1073)>1,\"\",O1073+1)))","v":""},{"$f":"IFERROR(SMALL($P$1:$P$1921,1072),\"\")","v":""}]
[null,null,null,null,null,null,null,null,null,null,null,null,null,null,{"$f":"IF(1074<=$B$10,IF(LEN('２学期'!GQ6)=0,\"\",IF('２学期'!GQ6=$B$8,IF(LEN('２学期'!GT6)=0,\"\",'２学期'!GT6),\"\")),\"\")","v":""},{"$f":"IF(LEN(O1074)=0,\"\",IF(COUNTIF($O$2:$O$1921,O1074+1)>0,\"\",IF(COUNTIF($O$2:O1074,O1074)>1,\"\",O1074+1)))","v":""},{"$f":"IFERROR(SMALL($P$1:$P$1921,1073),\"\")","v":""}]
[null,null,null,null,null,null,null,null,null,null,null,null,null,null,{"$f":"IF(1075<=$B$10,IF(LEN('２学期'!GQ7)=0,\"\",IF('２学期'!GQ7=$B$8,IF(LEN('２学期'!GT7)=0,\"\",'２学期'!GT7),\"\")),\"\")","v":""},{"$f":"IF(LEN(O1075)=0,\"\",IF(COUNTIF($O$2:$O$1921,O1075+1)>0,\"\",IF(COUNTIF($O$2:O1075,O1075)>1,\"\",O1075+1)))","v":""},{"$f":"IFERROR(SMALL($P$1:$P$1921,1074),\"\")","v":""}]
[null,null,null,null,null,null,null,null,null,null,null,null,null,null,{"$f":"IF(1076<=$B$10,IF(LEN('２学期'!GQ10)=0,\"\",IF('２学期'!GQ10=$B$8,IF(LEN('２学期'!GT10)=0,\"\",'２学期'!GT10),\"\")),\"\")","v":""},{"$f":"IF(LEN(O1076)=0,\"\",IF(COUNTIF($O$2:$O$1921,O1076+1)>0,\"\",IF(COUNTIF($O$2:O1076,O1076)>1,\"\",O1076+1)))","v":""},{"$f":"IFERROR(SMALL($P$1:$P$1921,1075),\"\")","v":""}]
[null,null,null,null,null,null,null,null,null,null,null,null,null,null,{"$f":"IF(1077<=$B$10,IF(LEN('２学期'!GQ13)=0,\"\",IF('２学期'!GQ13=$B$8,IF(LEN('２学期'!GT13)=0,\"\",'２学期'!GT13),\"\")),\"\")","v":""},{"$f":"IF(LEN(O1077)=0,\"\",IF(COUNTIF($O$2:$O$1921,O1077+1)>0,\"\",IF(COUNTIF($O$2:O1077,O1077)>1,\"\",O1077+1)))","v":""},{"$f":"IFERROR(SMALL($P$1:$P$1921,1076),\"\")","v":""}]
[null,null,null,null,null,null,null,null,null,null,null,null,null,null,{"$f":"IF(1078<=$B$10,IF(LEN('２学期'!GQ16)=0,\"\",IF('２学期'!GQ16=$B$8,IF(LEN('２学期'!GT16)=0,\"\",'２学期'!GT16),\"\")),\"\")","v":""},{"$f":"IF(LEN(O1078)=0,\"\",IF(COUNTIF($O$2:$O$1921,O1078+1)>0,\"\",IF(COUNTIF($O$2:O1078,O1078)>1,\"\",O1078+1)))","v":""},{"$f":"IFERROR(SMALL($P$1:$P$1921,1077),\"\")","v":""}]
[null,null,null,null,null,null,null,null,null,null,null,null,null,null,{"$f":"IF(1079<=$B$10,IF(LEN('２学期'!GQ19)=0,\"\",IF('２学期'!GQ19=$B$8,IF(LEN('２学期'!GT19)=0,\"\",'２学期'!GT19),\"\")),\"\")","v":""},{"$f":"IF(LEN(O1079)=0,\"\",IF(COUNTIF($O$2:$O$1921,O1079+1)>0,\"\",IF(COUNTIF($O$2:O1079,O1079)>1,\"\",O1079+1)))","v":""},{"$f":"IFERROR(SMALL($P$1:$P$1921,1078),\"\")","v":""}]
[null,null,null,null,null,null,null,null,null,null,null,null,null,null,{"$f":"IF(1080<=$B$10,IF(LEN('２学期'!GQ22)=0,\"\",IF('２学期'!GQ22=$B$8,IF(LEN('２学期'!GT22)=0,\"\",'２学期'!GT22),\"\")),\"\")","v":""},{"$f":"IF(LEN(O1080)=0,\"\",IF(COUNTIF($O$2:$O$1921,O1080+1)>0,\"\",IF(COUNTIF($O$2:O1080,O1080)>1,\"\",O1080+1)))","v":""},{"$f":"IFERROR(SMALL($P$1:$P$1921,1079),\"\")","v":""}]
[null,null,null,null,null,null,null,null,null,null,null,null,null,null,{"$f":"IF(1081<=$B$10,IF(LEN('２学期'!GQ25)=0,\"\",IF('２学期'!GQ25=$B$8,IF(LEN('２学期'!GT25)=0,\"\",'２学期'!GT25),\"\")),\"\")","v":""},{"$f":"IF(LEN(O1081)=0,\"\",IF(COUNTIF($O$2:$O$1921,O1081+1)>0,\"\",IF(COUNTIF($O$2:O1081,O1081)>1,\"\",O1081+1)))","v":""},{"$f":"IFERROR(SMALL($P$1:$P$1921,1080),\"\")","v":""}]
[null,null,null,null,null,null,null,null,null,null,null,null,null,null,{"$f":"IF(1082<=$B$10,IF(LEN('２学期'!GU6)=0,\"\",IF('２学期'!GU6=$B$8,IF(LEN('２学期'!GX6)=0,\"\",'２学期'!GX6),\"\")),\"\")","v":""},{"$f":"IF(LEN(O1082)=0,\"\",IF(COUNTIF($O$2:$O$1921,O1082+1)>0,\"\",IF(COUNTIF($O$2:O1082,O1082)>1,\"\",O1082+1)))","v":""},{"$f":"IFERROR(SMALL($P$1:$P$1921,1081),\"\")","v":""}]
[null,null,null,null,null,null,null,null,null,null,null,null,null,null,{"$f":"IF(1083<=$B$10,IF(LEN('２学期'!GU7)=0,\"\",IF('２学期'!GU7=$B$8,IF(LEN('２学期'!GX7)=0,\"\",'２学期'!GX7),\"\")),\"\")","v":""},{"$f":"IF(LEN(O1083)=0,\"\",IF(COUNTIF($O$2:$O$1921,O1083+1)>0,\"\",IF(COUNTIF($O$2:O1083,O1083)>1,\"\",O1083+1)))","v":""},{"$f":"IFERROR(SMALL($P$1:$P$1921,1082),\"\")","v":""}]
[null,null,null,null,null,null,null,null,null,null,null,null,null,null,{"$f":"IF(1084<=$B$10,IF(LEN('２学期'!GU10)=0,\"\",IF('２学期'!GU10=$B$8,IF(LEN('２学期'!GX10)=0,\"\",'２学期'!GX10),\"\")),\"\")","v":""},{"$f":"IF(LEN(O1084)=0,\"\",IF(COUNTIF($O$2:$O$1921,O1084+1)>0,\"\",IF(COUNTIF($O$2:O1084,O1084)>1,\"\",O1084+1)))","v":""},{"$f":"IFERROR(SMALL($P$1:$P$1921,1083),\"\")","v":""}]
[null,null,null,null,null,null,null,null,null,null,null,null,null,null,{"$f":"IF(1085<=$B$10,IF(LEN('２学期'!GU13)=0,\"\",IF('２学期'!GU13=$B$8,IF(LEN('２学期'!GX13)=0,\"\",'２学期'!GX13),\"\")),\"\")","v":""},{"$f":"IF(LEN(O1085)=0,\"\",IF(COUNTIF($O$2:$O$1921,O1085+1)>0,\"\",IF(COUNTIF($O$2:O1085,O1085)>1,\"\",O1085+1)))","v":""},{"$f":"IFERROR(SMALL($P$1:$P$1921,1084),\"\")","v":""}]
[null,null,null,null,null,null,null,null,null,null,null,null,null,null,{"$f":"IF(1086<=$B$10,IF(LEN('２学期'!GU16)=0,\"\",IF('２学期'!GU16=$B$8,IF(LEN('２学期'!GX16)=0,\"\",'２学期'!GX16),\"\")),\"\")","v":""},{"$f":"IF(LEN(O1086)=0,\"\",IF(COUNTIF($O$2:$O$1921,O1086+1)>0,\"\",IF(COUNTIF($O$2:O1086,O1086)>1,\"\",O1086+1)))","v":""},{"$f":"IFERROR(SMALL($P$1:$P$1921,1085),\"\")","v":""}]
[null,null,null,null,null,null,null,null,null,null,null,null,null,null,{"$f":"IF(1087<=$B$10,IF(LEN('２学期'!GU19)=0,\"\",IF('２学期'!GU19=$B$8,IF(LEN('２学期'!GX19)=0,\"\",'２学期'!GX19),\"\")),\"\")","v":""},{"$f":"IF(LEN(O1087)=0,\"\",IF(COUNTIF($O$2:$O$1921,O1087+1)>0,\"\",IF(COUNTIF($O$2:O1087,O1087)>1,\"\",O1087+1)))","v":""},{"$f":"IFERROR(SMALL($P$1:$P$1921,1086),\"\")","v":""}]
[null,null,null,null,null,null,null,null,null,null,null,null,null,null,{"$f":"IF(1088<=$B$10,IF(LEN('２学期'!GU22)=0,\"\",IF('２学期'!GU22=$B$8,IF(LEN('２学期'!GX22)=0,\"\",'２学期'!GX22),\"\")),\"\")","v":""},{"$f":"IF(LEN(O1088)=0,\"\",IF(COUNTIF($O$2:$O$1921,O1088+1)>0,\"\",IF(COUNTIF($O$2:O1088,O1088)>1,\"\",O1088+1)))","v":""},{"$f":"IFERROR(SMALL($P$1:$P$1921,1087),\"\")","v":""}]
[null,null,null,null,null,null,null,null,null,null,null,null,null,null,{"$f":"IF(1089<=$B$10,IF(LEN('２学期'!GU25)=0,\"\",IF('２学期'!GU25=$B$8,IF(LEN('２学期'!GX25)=0,\"\",'２学期'!GX25),\"\")),\"\")","v":""},{"$f":"IF(LEN(O1089)=0,\"\",IF(COUNTIF($O$2:$O$1921,O1089+1)>0,\"\",IF(COUNTIF($O$2:O1089,O1089)>1,\"\",O1089+1)))","v":""},{"$f":"IFERROR(SMALL($P$1:$P$1921,1088),\"\")","v":""}]
[null,null,null,null,null,null,null,null,null,null,null,null,null,null,{"$f":"IF(1090<=$B$10,IF(LEN('２学期'!GY6)=0,\"\",IF('２学期'!GY6=$B$8,IF(LEN('２学期'!HB6)=0,\"\",'２学期'!HB6),\"\")),\"\")","v":""},{"$f":"IF(LEN(O1090)=0,\"\",IF(COUNTIF($O$2:$O$1921,O1090+1)>0,\"\",IF(COUNTIF($O$2:O1090,O1090)>1,\"\",O1090+1)))","v":""},{"$f":"IFERROR(SMALL($P$1:$P$1921,1089),\"\")","v":""}]
[null,null,null,null,null,null,null,null,null,null,null,null,null,null,{"$f":"IF(1091<=$B$10,IF(LEN('２学期'!GY7)=0,\"\",IF('２学期'!GY7=$B$8,IF(LEN('２学期'!HB7)=0,\"\",'２学期'!HB7),\"\")),\"\")","v":""},{"$f":"IF(LEN(O1091)=0,\"\",IF(COUNTIF($O$2:$O$1921,O1091+1)>0,\"\",IF(COUNTIF($O$2:O1091,O1091)>1,\"\",O1091+1)))","v":""},{"$f":"IFERROR(SMALL($P$1:$P$1921,1090),\"\")","v":""}]
[null,null,null,null,null,null,null,null,null,null,null,null,null,null,{"$f":"IF(1092<=$B$10,IF(LEN('２学期'!GY10)=0,\"\",IF('２学期'!GY10=$B$8,IF(LEN('２学期'!HB10)=0,\"\",'２学期'!HB10),\"\")),\"\")","v":""},{"$f":"IF(LEN(O1092)=0,\"\",IF(COUNTIF($O$2:$O$1921,O1092+1)>0,\"\",IF(COUNTIF($O$2:O1092,O1092)>1,\"\",O1092+1)))","v":""},{"$f":"IFERROR(SMALL($P$1:$P$1921,1091),\"\")","v":""}]
[null,null,null,null,null,null,null,null,null,null,null,null,null,null,{"$f":"IF(1093<=$B$10,IF(LEN('２学期'!GY13)=0,\"\",IF('２学期'!GY13=$B$8,IF(LEN('２学期'!HB13)=0,\"\",'２学期'!HB13),\"\")),\"\")","v":""},{"$f":"IF(LEN(O1093)=0,\"\",IF(COUNTIF($O$2:$O$1921,O1093+1)>0,\"\",IF(COUNTIF($O$2:O1093,O1093)>1,\"\",O1093+1)))","v":""},{"$f":"IFERROR(SMALL($P$1:$P$1921,1092),\"\")","v":""}]
[null,null,null,null,null,null,null,null,null,null,null,null,null,null,{"$f":"IF(1094<=$B$10,IF(LEN('２学期'!GY16)=0,\"\",IF('２学期'!GY16=$B$8,IF(LEN('２学期'!HB16)=0,\"\",'２学期'!HB16),\"\")),\"\")","v":""},{"$f":"IF(LEN(O1094)=0,\"\",IF(COUNTIF($O$2:$O$1921,O1094+1)>0,\"\",IF(COUNTIF($O$2:O1094,O1094)>1,\"\",O1094+1)))","v":""},{"$f":"IFERROR(SMALL($P$1:$P$1921,1093),\"\")","v":""}]
[null,null,null,null,null,null,null,null,null,null,null,null,null,null,{"$f":"IF(1095<=$B$10,IF(LEN('２学期'!GY19)=0,\"\",IF('２学期'!GY19=$B$8,IF(LEN('２学期'!HB19)=0,\"\",'２学期'!HB19),\"\")),\"\")","v":""},{"$f":"IF(LEN(O1095)=0,\"\",IF(COUNTIF($O$2:$O$1921,O1095+1)>0,\"\",IF(COUNTIF($O$2:O1095,O1095)>1,\"\",O1095+1)))","v":""},{"$f":"IFERROR(SMALL($P$1:$P$1921,1094),\"\")","v":""}]
[null,null,null,null,null,null,null,null,null,null,null,null,null,null,{"$f":"IF(1096<=$B$10,IF(LEN('２学期'!GY22)=0,\"\",IF('２学期'!GY22=$B$8,IF(LEN('２学期'!HB22)=0,\"\",'２学期'!HB22),\"\")),\"\")","v":""},{"$f":"IF(LEN(O1096)=0,\"\",IF(COUNTIF($O$2:$O$1921,O1096+1)>0,\"\",IF(COUNTIF($O$2:O1096,O1096)>1,\"\",O1096+1)))","v":""},{"$f":"IFERROR(SMALL($P$1:$P$1921,1095),\"\")","v":""}]
[null,null,null,null,null,null,null,null,null,null,null,null,null,null,{"$f":"IF(1097<=$B$10,IF(LEN('２学期'!GY25)=0,\"\",IF('２学期'!GY25=$B$8,IF(LEN('２学期'!HB25)=0,\"\",'２学期'!HB25),\"\")),\"\")","v":""},{"$f":"IF(LEN(O1097)=0,\"\",IF(COUNTIF($O$2:$O$1921,O1097+1)>0,\"\",IF(COUNTIF($O$2:O1097,O1097)>1,\"\",O1097+1)))","v":""},{"$f":"IFERROR(SMALL($P$1:$P$1921,1096),\"\")","v":""}]
[null,null,null,null,null,null,null,null,null,null,null,null,null,null,{"$f":"IF(1098<=$B$10,IF(LEN('２学期'!HC6)=0,\"\",IF('２学期'!HC6=$B$8,IF(LEN('２学期'!HF6)=0,\"\",'２学期'!HF6),\"\")),\"\")","v":""},{"$f":"IF(LEN(O1098)=0,\"\",IF(COUNTIF($O$2:$O$1921,O1098+1)>0,\"\",IF(COUNTIF($O$2:O1098,O1098)>1,\"\",O1098+1)))","v":""},{"$f":"IFERROR(SMALL($P$1:$P$1921,1097),\"\")","v":""}]
[null,null,null,null,null,null,null,null,null,null,null,null,null,null,{"$f":"IF(1099<=$B$10,IF(LEN('２学期'!HC7)=0,\"\",IF('２学期'!HC7=$B$8,IF(LEN('２学期'!HF7)=0,\"\",'２学期'!HF7),\"\")),\"\")","v":""},{"$f":"IF(LEN(O1099)=0,\"\",IF(COUNTIF($O$2:$O$1921,O1099+1)>0,\"\",IF(COUNTIF($O$2:O1099,O1099)>1,\"\",O1099+1)))","v":""},{"$f":"IFERROR(SMALL($P$1:$P$1921,1098),\"\")","v":""}]
[null,null,null,null,null,null,null,null,null,null,null,null,null,null,{"$f":"IF(1100<=$B$10,IF(LEN('２学期'!HC10)=0,\"\",IF('２学期'!HC10=$B$8,IF(LEN('２学期'!HF10)=0,\"\",'２学期'!HF10),\"\")),\"\")","v":""},{"$f":"IF(LEN(O1100)=0,\"\",IF(COUNTIF($O$2:$O$1921,O1100+1)>0,\"\",IF(COUNTIF($O$2:O1100,O1100)>1,\"\",O1100+1)))","v":""},{"$f":"IFERROR(SMALL($P$1:$P$1921,1099),\"\")","v":""}]
[null,null,null,null,null,null,null,null,null,null,null,null,null,null,{"$f":"IF(1101<=$B$10,IF(LEN('２学期'!HC13)=0,\"\",IF('２学期'!HC13=$B$8,IF(LEN('２学期'!HF13)=0,\"\",'２学期'!HF13),\"\")),\"\")","v":""},{"$f":"IF(LEN(O1101)=0,\"\",IF(COUNTIF($O$2:$O$1921,O1101+1)>0,\"\",IF(COUNTIF($O$2:O1101,O1101)>1,\"\",O1101+1)))","v":""},{"$f":"IFERROR(SMALL($P$1:$P$1921,1100),\"\")","v":""}]
[null,null,null,null,null,null,null,null,null,null,null,null,null,null,{"$f":"IF(1102<=$B$10,IF(LEN('２学期'!HC16)=0,\"\",IF('２学期'!HC16=$B$8,IF(LEN('２学期'!HF16)=0,\"\",'２学期'!HF16),\"\")),\"\")","v":""},{"$f":"IF(LEN(O1102)=0,\"\",IF(COUNTIF($O$2:$O$1921,O1102+1)>0,\"\",IF(COUNTIF($O$2:O1102,O1102)>1,\"\",O1102+1)))","v":""},{"$f":"IFERROR(SMALL($P$1:$P$1921,1101),\"\")","v":""}]
[null,null,null,null,null,null,null,null,null,null,null,null,null,null,{"$f":"IF(1103<=$B$10,IF(LEN('２学期'!HC19)=0,\"\",IF('２学期'!HC19=$B$8,IF(LEN('２学期'!HF19)=0,\"\",'２学期'!HF19),\"\")),\"\")","v":""},{"$f":"IF(LEN(O1103)=0,\"\",IF(COUNTIF($O$2:$O$1921,O1103+1)>0,\"\",IF(COUNTIF($O$2:O1103,O1103)>1,\"\",O1103+1)))","v":""},{"$f":"IFERROR(SMALL($P$1:$P$1921,1102),\"\")","v":""}]
[null,null,null,null,null,null,null,null,null,null,null,null,null,null,{"$f":"IF(1104<=$B$10,IF(LEN('２学期'!HC22)=0,\"\",IF('２学期'!HC22=$B$8,IF(LEN('２学期'!HF22)=0,\"\",'２学期'!HF22),\"\")),\"\")","v":""},{"$f":"IF(LEN(O1104)=0,\"\",IF(COUNTIF($O$2:$O$1921,O1104+1)>0,\"\",IF(COUNTIF($O$2:O1104,O1104)>1,\"\",O1104+1)))","v":""},{"$f":"IFERROR(SMALL($P$1:$P$1921,1103),\"\")","v":""}]
[null,null,null,null,null,null,null,null,null,null,null,null,null,null,{"$f":"IF(1105<=$B$10,IF(LEN('２学期'!HC25)=0,\"\",IF('２学期'!HC25=$B$8,IF(LEN('２学期'!HF25)=0,\"\",'２学期'!HF25),\"\")),\"\")","v":""},{"$f":"IF(LEN(O1105)=0,\"\",IF(COUNTIF($O$2:$O$1921,O1105+1)>0,\"\",IF(COUNTIF($O$2:O1105,O1105)>1,\"\",O1105+1)))","v":""},{"$f":"IFERROR(SMALL($P$1:$P$1921,1104),\"\")","v":""}]
[null,null,null,null,null,null,null,null,null,null,null,null,null,null,{"$f":"IF(1106<=$B$10,IF(LEN('２学期'!HG6)=0,\"\",IF('２学期'!HG6=$B$8,IF(LEN('２学期'!HJ6)=0,\"\",'２学期'!HJ6),\"\")),\"\")","v":""},{"$f":"IF(LEN(O1106)=0,\"\",IF(COUNTIF($O$2:$O$1921,O1106+1)>0,\"\",IF(COUNTIF($O$2:O1106,O1106)>1,\"\",O1106+1)))","v":""},{"$f":"IFERROR(SMALL($P$1:$P$1921,1105),\"\")","v":""}]
[null,null,null,null,null,null,null,null,null,null,null,null,null,null,{"$f":"IF(1107<=$B$10,IF(LEN('２学期'!HG7)=0,\"\",IF('２学期'!HG7=$B$8,IF(LEN('２学期'!HJ7)=0,\"\",'２学期'!HJ7),\"\")),\"\")","v":""},{"$f":"IF(LEN(O1107)=0,\"\",IF(COUNTIF($O$2:$O$1921,O1107+1)>0,\"\",IF(COUNTIF($O$2:O1107,O1107)>1,\"\",O1107+1)))","v":""},{"$f":"IFERROR(SMALL($P$1:$P$1921,1106),\"\")","v":""}]
[null,null,null,null,null,null,null,null,null,null,null,null,null,null,{"$f":"IF(1108<=$B$10,IF(LEN('２学期'!HG10)=0,\"\",IF('２学期'!HG10=$B$8,IF(LEN('２学期'!HJ10)=0,\"\",'２学期'!HJ10),\"\")),\"\")","v":""},{"$f":"IF(LEN(O1108)=0,\"\",IF(COUNTIF($O$2:$O$1921,O1108+1)>0,\"\",IF(COUNTIF($O$2:O1108,O1108)>1,\"\",O1108+1)))","v":""},{"$f":"IFERROR(SMALL($P$1:$P$1921,1107),\"\")","v":""}]
[null,null,null,null,null,null,null,null,null,null,null,null,null,null,{"$f":"IF(1109<=$B$10,IF(LEN('２学期'!HG13)=0,\"\",IF('２学期'!HG13=$B$8,IF(LEN('２学期'!HJ13)=0,\"\",'２学期'!HJ13),\"\")),\"\")","v":""},{"$f":"IF(LEN(O1109)=0,\"\",IF(COUNTIF($O$2:$O$1921,O1109+1)>0,\"\",IF(COUNTIF($O$2:O1109,O1109)>1,\"\",O1109+1)))","v":""},{"$f":"IFERROR(SMALL($P$1:$P$1921,1108),\"\")","v":""}]
[null,null,null,null,null,null,null,null,null,null,null,null,null,null,{"$f":"IF(1110<=$B$10,IF(LEN('２学期'!HG16)=0,\"\",IF('２学期'!HG16=$B$8,IF(LEN('２学期'!HJ16)=0,\"\",'２学期'!HJ16),\"\")),\"\")","v":""},{"$f":"IF(LEN(O1110)=0,\"\",IF(COUNTIF($O$2:$O$1921,O1110+1)>0,\"\",IF(COUNTIF($O$2:O1110,O1110)>1,\"\",O1110+1)))","v":""},{"$f":"IFERROR(SMALL($P$1:$P$1921,1109),\"\")","v":""}]
[null,null,null,null,null,null,null,null,null,null,null,null,null,null,{"$f":"IF(1111<=$B$10,IF(LEN('２学期'!HG19)=0,\"\",IF('２学期'!HG19=$B$8,IF(LEN('２学期'!HJ19)=0,\"\",'２学期'!HJ19),\"\")),\"\")","v":""},{"$f":"IF(LEN(O1111)=0,\"\",IF(COUNTIF($O$2:$O$1921,O1111+1)>0,\"\",IF(COUNTIF($O$2:O1111,O1111)>1,\"\",O1111+1)))","v":""},{"$f":"IFERROR(SMALL($P$1:$P$1921,1110),\"\")","v":""}]
[null,null,null,null,null,null,null,null,null,null,null,null,null,null,{"$f":"IF(1112<=$B$10,IF(LEN('２学期'!HG22)=0,\"\",IF('２学期'!HG22=$B$8,IF(LEN('２学期'!HJ22)=0,\"\",'２学期'!HJ22),\"\")),\"\")","v":""},{"$f":"IF(LEN(O1112)=0,\"\",IF(COUNTIF($O$2:$O$1921,O1112+1)>0,\"\",IF(COUNTIF($O$2:O1112,O1112)>1,\"\",O1112+1)))","v":""},{"$f":"IFERROR(SMALL($P$1:$P$1921,1111),\"\")","v":""}]
[null,null,null,null,null,null,null,null,null,null,null,null,null,null,{"$f":"IF(1113<=$B$10,IF(LEN('２学期'!HG25)=0,\"\",IF('２学期'!HG25=$B$8,IF(LEN('２学期'!HJ25)=0,\"\",'２学期'!HJ25),\"\")),\"\")","v":""},{"$f":"IF(LEN(O1113)=0,\"\",IF(COUNTIF($O$2:$O$1921,O1113+1)>0,\"\",IF(COUNTIF($O$2:O1113,O1113)>1,\"\",O1113+1)))","v":""},{"$f":"IFERROR(SMALL($P$1:$P$1921,1112),\"\")","v":""}]
[null,null,null,null,null,null,null,null,null,null,null,null,null,null,{"$f":"IF(1114<=$B$10,IF(LEN('２学期'!HK6)=0,\"\",IF('２学期'!HK6=$B$8,IF(LEN('２学期'!HN6)=0,\"\",'２学期'!HN6),\"\")),\"\")","v":""},{"$f":"IF(LEN(O1114)=0,\"\",IF(COUNTIF($O$2:$O$1921,O1114+1)>0,\"\",IF(COUNTIF($O$2:O1114,O1114)>1,\"\",O1114+1)))","v":""},{"$f":"IFERROR(SMALL($P$1:$P$1921,1113),\"\")","v":""}]
[null,null,null,null,null,null,null,null,null,null,null,null,null,null,{"$f":"IF(1115<=$B$10,IF(LEN('２学期'!HK7)=0,\"\",IF('２学期'!HK7=$B$8,IF(LEN('２学期'!HN7)=0,\"\",'２学期'!HN7),\"\")),\"\")","v":""},{"$f":"IF(LEN(O1115)=0,\"\",IF(COUNTIF($O$2:$O$1921,O1115+1)>0,\"\",IF(COUNTIF($O$2:O1115,O1115)>1,\"\",O1115+1)))","v":""},{"$f":"IFERROR(SMALL($P$1:$P$1921,1114),\"\")","v":""}]
[null,null,null,null,null,null,null,null,null,null,null,null,null,null,{"$f":"IF(1116<=$B$10,IF(LEN('２学期'!HK10)=0,\"\",IF('２学期'!HK10=$B$8,IF(LEN('２学期'!HN10)=0,\"\",'２学期'!HN10),\"\")),\"\")","v":""},{"$f":"IF(LEN(O1116)=0,\"\",IF(COUNTIF($O$2:$O$1921,O1116+1)>0,\"\",IF(COUNTIF($O$2:O1116,O1116)>1,\"\",O1116+1)))","v":""},{"$f":"IFERROR(SMALL($P$1:$P$1921,1115),\"\")","v":""}]
[null,null,null,null,null,null,null,null,null,null,null,null,null,null,{"$f":"IF(1117<=$B$10,IF(LEN('２学期'!HK13)=0,\"\",IF('２学期'!HK13=$B$8,IF(LEN('２学期'!HN13)=0,\"\",'２学期'!HN13),\"\")),\"\")","v":""},{"$f":"IF(LEN(O1117)=0,\"\",IF(COUNTIF($O$2:$O$1921,O1117+1)>0,\"\",IF(COUNTIF($O$2:O1117,O1117)>1,\"\",O1117+1)))","v":""},{"$f":"IFERROR(SMALL($P$1:$P$1921,1116),\"\")","v":""}]
[null,null,null,null,null,null,null,null,null,null,null,null,null,null,{"$f":"IF(1118<=$B$10,IF(LEN('２学期'!HK16)=0,\"\",IF('２学期'!HK16=$B$8,IF(LEN('２学期'!HN16)=0,\"\",'２学期'!HN16),\"\")),\"\")","v":""},{"$f":"IF(LEN(O1118)=0,\"\",IF(COUNTIF($O$2:$O$1921,O1118+1)>0,\"\",IF(COUNTIF($O$2:O1118,O1118)>1,\"\",O1118+1)))","v":""},{"$f":"IFERROR(SMALL($P$1:$P$1921,1117),\"\")","v":""}]
[null,null,null,null,null,null,null,null,null,null,null,null,null,null,{"$f":"IF(1119<=$B$10,IF(LEN('２学期'!HK19)=0,\"\",IF('２学期'!HK19=$B$8,IF(LEN('２学期'!HN19)=0,\"\",'２学期'!HN19),\"\")),\"\")","v":""},{"$f":"IF(LEN(O1119)=0,\"\",IF(COUNTIF($O$2:$O$1921,O1119+1)>0,\"\",IF(COUNTIF($O$2:O1119,O1119)>1,\"\",O1119+1)))","v":""},{"$f":"IFERROR(SMALL($P$1:$P$1921,1118),\"\")","v":""}]
[null,null,null,null,null,null,null,null,null,null,null,null,null,null,{"$f":"IF(1120<=$B$10,IF(LEN('２学期'!HK22)=0,\"\",IF('２学期'!HK22=$B$8,IF(LEN('２学期'!HN22)=0,\"\",'２学期'!HN22),\"\")),\"\")","v":""},{"$f":"IF(LEN(O1120)=0,\"\",IF(COUNTIF($O$2:$O$1921,O1120+1)>0,\"\",IF(COUNTIF($O$2:O1120,O1120)>1,\"\",O1120+1)))","v":""},{"$f":"IFERROR(SMALL($P$1:$P$1921,1119),\"\")","v":""}]
[null,null,null,null,null,null,null,null,null,null,null,null,null,null,{"$f":"IF(1121<=$B$10,IF(LEN('２学期'!HK25)=0,\"\",IF('２学期'!HK25=$B$8,IF(LEN('２学期'!HN25)=0,\"\",'２学期'!HN25),\"\")),\"\")","v":""},{"$f":"IF(LEN(O1121)=0,\"\",IF(COUNTIF($O$2:$O$1921,O1121+1)>0,\"\",IF(COUNTIF($O$2:O1121,O1121)>1,\"\",O1121+1)))","v":""},{"$f":"IFERROR(SMALL($P$1:$P$1921,1120),\"\")","v":""}]
[null,null,null,null,null,null,null,null,null,null,null,null,null,null,{"$f":"IF(1122<=$B$10,IF(LEN('２学期'!HO6)=0,\"\",IF('２学期'!HO6=$B$8,IF(LEN('２学期'!HR6)=0,\"\",'２学期'!HR6),\"\")),\"\")","v":""},{"$f":"IF(LEN(O1122)=0,\"\",IF(COUNTIF($O$2:$O$1921,O1122+1)>0,\"\",IF(COUNTIF($O$2:O1122,O1122)>1,\"\",O1122+1)))","v":""},{"$f":"IFERROR(SMALL($P$1:$P$1921,1121),\"\")","v":""}]
[null,null,null,null,null,null,null,null,null,null,null,null,null,null,{"$f":"IF(1123<=$B$10,IF(LEN('２学期'!HO7)=0,\"\",IF('２学期'!HO7=$B$8,IF(LEN('２学期'!HR7)=0,\"\",'２学期'!HR7),\"\")),\"\")","v":""},{"$f":"IF(LEN(O1123)=0,\"\",IF(COUNTIF($O$2:$O$1921,O1123+1)>0,\"\",IF(COUNTIF($O$2:O1123,O1123)>1,\"\",O1123+1)))","v":""},{"$f":"IFERROR(SMALL($P$1:$P$1921,1122),\"\")","v":""}]
[null,null,null,null,null,null,null,null,null,null,null,null,null,null,{"$f":"IF(1124<=$B$10,IF(LEN('２学期'!HO10)=0,\"\",IF('２学期'!HO10=$B$8,IF(LEN('２学期'!HR10)=0,\"\",'２学期'!HR10),\"\")),\"\")","v":""},{"$f":"IF(LEN(O1124)=0,\"\",IF(COUNTIF($O$2:$O$1921,O1124+1)>0,\"\",IF(COUNTIF($O$2:O1124,O1124)>1,\"\",O1124+1)))","v":""},{"$f":"IFERROR(SMALL($P$1:$P$1921,1123),\"\")","v":""}]
[null,null,null,null,null,null,null,null,null,null,null,null,null,null,{"$f":"IF(1125<=$B$10,IF(LEN('２学期'!HO13)=0,\"\",IF('２学期'!HO13=$B$8,IF(LEN('２学期'!HR13)=0,\"\",'２学期'!HR13),\"\")),\"\")","v":""},{"$f":"IF(LEN(O1125)=0,\"\",IF(COUNTIF($O$2:$O$1921,O1125+1)>0,\"\",IF(COUNTIF($O$2:O1125,O1125)>1,\"\",O1125+1)))","v":""},{"$f":"IFERROR(SMALL($P$1:$P$1921,1124),\"\")","v":""}]
[null,null,null,null,null,null,null,null,null,null,null,null,null,null,{"$f":"IF(1126<=$B$10,IF(LEN('２学期'!HO16)=0,\"\",IF('２学期'!HO16=$B$8,IF(LEN('２学期'!HR16)=0,\"\",'２学期'!HR16),\"\")),\"\")","v":""},{"$f":"IF(LEN(O1126)=0,\"\",IF(COUNTIF($O$2:$O$1921,O1126+1)>0,\"\",IF(COUNTIF($O$2:O1126,O1126)>1,\"\",O1126+1)))","v":""},{"$f":"IFERROR(SMALL($P$1:$P$1921,1125),\"\")","v":""}]
[null,null,null,null,null,null,null,null,null,null,null,null,null,null,{"$f":"IF(1127<=$B$10,IF(LEN('２学期'!HO19)=0,\"\",IF('２学期'!HO19=$B$8,IF(LEN('２学期'!HR19)=0,\"\",'２学期'!HR19),\"\")),\"\")","v":""},{"$f":"IF(LEN(O1127)=0,\"\",IF(COUNTIF($O$2:$O$1921,O1127+1)>0,\"\",IF(COUNTIF($O$2:O1127,O1127)>1,\"\",O1127+1)))","v":""},{"$f":"IFERROR(SMALL($P$1:$P$1921,1126),\"\")","v":""}]
[null,null,null,null,null,null,null,null,null,null,null,null,null,null,{"$f":"IF(1128<=$B$10,IF(LEN('２学期'!HO22)=0,\"\",IF('２学期'!HO22=$B$8,IF(LEN('２学期'!HR22)=0,\"\",'２学期'!HR22),\"\")),\"\")","v":""},{"$f":"IF(LEN(O1128)=0,\"\",IF(COUNTIF($O$2:$O$1921,O1128+1)>0,\"\",IF(COUNTIF($O$2:O1128,O1128)>1,\"\",O1128+1)))","v":""},{"$f":"IFERROR(SMALL($P$1:$P$1921,1127),\"\")","v":""}]
[null,null,null,null,null,null,null,null,null,null,null,null,null,null,{"$f":"IF(1129<=$B$10,IF(LEN('２学期'!HO25)=0,\"\",IF('２学期'!HO25=$B$8,IF(LEN('２学期'!HR25)=0,\"\",'２学期'!HR25),\"\")),\"\")","v":""},{"$f":"IF(LEN(O1129)=0,\"\",IF(COUNTIF($O$2:$O$1921,O1129+1)>0,\"\",IF(COUNTIF($O$2:O1129,O1129)>1,\"\",O1129+1)))","v":""},{"$f":"IFERROR(SMALL($P$1:$P$1921,1128),\"\")","v":""}]
[null,null,null,null,null,null,null,null,null,null,null,null,null,null,{"$f":"IF(1130<=$B$10,IF(LEN('２学期'!HS6)=0,\"\",IF('２学期'!HS6=$B$8,IF(LEN('２学期'!HV6)=0,\"\",'２学期'!HV6),\"\")),\"\")","v":""},{"$f":"IF(LEN(O1130)=0,\"\",IF(COUNTIF($O$2:$O$1921,O1130+1)>0,\"\",IF(COUNTIF($O$2:O1130,O1130)>1,\"\",O1130+1)))","v":""},{"$f":"IFERROR(SMALL($P$1:$P$1921,1129),\"\")","v":""}]
[null,null,null,null,null,null,null,null,null,null,null,null,null,null,{"$f":"IF(1131<=$B$10,IF(LEN('２学期'!HS7)=0,\"\",IF('２学期'!HS7=$B$8,IF(LEN('２学期'!HV7)=0,\"\",'２学期'!HV7),\"\")),\"\")","v":""},{"$f":"IF(LEN(O1131)=0,\"\",IF(COUNTIF($O$2:$O$1921,O1131+1)>0,\"\",IF(COUNTIF($O$2:O1131,O1131)>1,\"\",O1131+1)))","v":""},{"$f":"IFERROR(SMALL($P$1:$P$1921,1130),\"\")","v":""}]
[null,null,null,null,null,null,null,null,null,null,null,null,null,null,{"$f":"IF(1132<=$B$10,IF(LEN('２学期'!HS10)=0,\"\",IF('２学期'!HS10=$B$8,IF(LEN('２学期'!HV10)=0,\"\",'２学期'!HV10),\"\")),\"\")","v":""},{"$f":"IF(LEN(O1132)=0,\"\",IF(COUNTIF($O$2:$O$1921,O1132+1)>0,\"\",IF(COUNTIF($O$2:O1132,O1132)>1,\"\",O1132+1)))","v":""},{"$f":"IFERROR(SMALL($P$1:$P$1921,1131),\"\")","v":""}]
[null,null,null,null,null,null,null,null,null,null,null,null,null,null,{"$f":"IF(1133<=$B$10,IF(LEN('２学期'!HS13)=0,\"\",IF('２学期'!HS13=$B$8,IF(LEN('２学期'!HV13)=0,\"\",'２学期'!HV13),\"\")),\"\")","v":""},{"$f":"IF(LEN(O1133)=0,\"\",IF(COUNTIF($O$2:$O$1921,O1133+1)>0,\"\",IF(COUNTIF($O$2:O1133,O1133)>1,\"\",O1133+1)))","v":""},{"$f":"IFERROR(SMALL($P$1:$P$1921,1132),\"\")","v":""}]
[null,null,null,null,null,null,null,null,null,null,null,null,null,null,{"$f":"IF(1134<=$B$10,IF(LEN('２学期'!HS16)=0,\"\",IF('２学期'!HS16=$B$8,IF(LEN('２学期'!HV16)=0,\"\",'２学期'!HV16),\"\")),\"\")","v":""},{"$f":"IF(LEN(O1134)=0,\"\",IF(COUNTIF($O$2:$O$1921,O1134+1)>0,\"\",IF(COUNTIF($O$2:O1134,O1134)>1,\"\",O1134+1)))","v":""},{"$f":"IFERROR(SMALL($P$1:$P$1921,1133),\"\")","v":""}]
[null,null,null,null,null,null,null,null,null,null,null,null,null,null,{"$f":"IF(1135<=$B$10,IF(LEN('２学期'!HS19)=0,\"\",IF('２学期'!HS19=$B$8,IF(LEN('２学期'!HV19)=0,\"\",'２学期'!HV19),\"\")),\"\")","v":""},{"$f":"IF(LEN(O1135)=0,\"\",IF(COUNTIF($O$2:$O$1921,O1135+1)>0,\"\",IF(COUNTIF($O$2:O1135,O1135)>1,\"\",O1135+1)))","v":""},{"$f":"IFERROR(SMALL($P$1:$P$1921,1134),\"\")","v":""}]
[null,null,null,null,null,null,null,null,null,null,null,null,null,null,{"$f":"IF(1136<=$B$10,IF(LEN('２学期'!HS22)=0,\"\",IF('２学期'!HS22=$B$8,IF(LEN('２学期'!HV22)=0,\"\",'２学期'!HV22),\"\")),\"\")","v":""},{"$f":"IF(LEN(O1136)=0,\"\",IF(COUNTIF($O$2:$O$1921,O1136+1)>0,\"\",IF(COUNTIF($O$2:O1136,O1136)>1,\"\",O1136+1)))","v":""},{"$f":"IFERROR(SMALL($P$1:$P$1921,1135),\"\")","v":""}]
[null,null,null,null,null,null,null,null,null,null,null,null,null,null,{"$f":"IF(1137<=$B$10,IF(LEN('２学期'!HS25)=0,\"\",IF('２学期'!HS25=$B$8,IF(LEN('２学期'!HV25)=0,\"\",'２学期'!HV25),\"\")),\"\")","v":""},{"$f":"IF(LEN(O1137)=0,\"\",IF(COUNTIF($O$2:$O$1921,O1137+1)>0,\"\",IF(COUNTIF($O$2:O1137,O1137)>1,\"\",O1137+1)))","v":""},{"$f":"IFERROR(SMALL($P$1:$P$1921,1136),\"\")","v":""}]
[null,null,null,null,null,null,null,null,null,null,null,null,null,null,{"$f":"IF(1138<=$B$10,IF(LEN('２学期'!HW6)=0,\"\",IF('２学期'!HW6=$B$8,IF(LEN('２学期'!HZ6)=0,\"\",'２学期'!HZ6),\"\")),\"\")","v":""},{"$f":"IF(LEN(O1138)=0,\"\",IF(COUNTIF($O$2:$O$1921,O1138+1)>0,\"\",IF(COUNTIF($O$2:O1138,O1138)>1,\"\",O1138+1)))","v":""},{"$f":"IFERROR(SMALL($P$1:$P$1921,1137),\"\")","v":""}]
[null,null,null,null,null,null,null,null,null,null,null,null,null,null,{"$f":"IF(1139<=$B$10,IF(LEN('２学期'!HW7)=0,\"\",IF('２学期'!HW7=$B$8,IF(LEN('２学期'!HZ7)=0,\"\",'２学期'!HZ7),\"\")),\"\")","v":""},{"$f":"IF(LEN(O1139)=0,\"\",IF(COUNTIF($O$2:$O$1921,O1139+1)>0,\"\",IF(COUNTIF($O$2:O1139,O1139)>1,\"\",O1139+1)))","v":""},{"$f":"IFERROR(SMALL($P$1:$P$1921,1138),\"\")","v":""}]
[null,null,null,null,null,null,null,null,null,null,null,null,null,null,{"$f":"IF(1140<=$B$10,IF(LEN('２学期'!HW10)=0,\"\",IF('２学期'!HW10=$B$8,IF(LEN('２学期'!HZ10)=0,\"\",'２学期'!HZ10),\"\")),\"\")","v":""},{"$f":"IF(LEN(O1140)=0,\"\",IF(COUNTIF($O$2:$O$1921,O1140+1)>0,\"\",IF(COUNTIF($O$2:O1140,O1140)>1,\"\",O1140+1)))","v":""},{"$f":"IFERROR(SMALL($P$1:$P$1921,1139),\"\")","v":""}]
[null,null,null,null,null,null,null,null,null,null,null,null,null,null,{"$f":"IF(1141<=$B$10,IF(LEN('２学期'!HW13)=0,\"\",IF('２学期'!HW13=$B$8,IF(LEN('２学期'!HZ13)=0,\"\",'２学期'!HZ13),\"\")),\"\")","v":""},{"$f":"IF(LEN(O1141)=0,\"\",IF(COUNTIF($O$2:$O$1921,O1141+1)>0,\"\",IF(COUNTIF($O$2:O1141,O1141)>1,\"\",O1141+1)))","v":""},{"$f":"IFERROR(SMALL($P$1:$P$1921,1140),\"\")","v":""}]
[null,null,null,null,null,null,null,null,null,null,null,null,null,null,{"$f":"IF(1142<=$B$10,IF(LEN('２学期'!HW16)=0,\"\",IF('２学期'!HW16=$B$8,IF(LEN('２学期'!HZ16)=0,\"\",'２学期'!HZ16),\"\")),\"\")","v":""},{"$f":"IF(LEN(O1142)=0,\"\",IF(COUNTIF($O$2:$O$1921,O1142+1)>0,\"\",IF(COUNTIF($O$2:O1142,O1142)>1,\"\",O1142+1)))","v":""},{"$f":"IFERROR(SMALL($P$1:$P$1921,1141),\"\")","v":""}]
[null,null,null,null,null,null,null,null,null,null,null,null,null,null,{"$f":"IF(1143<=$B$10,IF(LEN('２学期'!HW19)=0,\"\",IF('２学期'!HW19=$B$8,IF(LEN('２学期'!HZ19)=0,\"\",'２学期'!HZ19),\"\")),\"\")","v":""},{"$f":"IF(LEN(O1143)=0,\"\",IF(COUNTIF($O$2:$O$1921,O1143+1)>0,\"\",IF(COUNTIF($O$2:O1143,O1143)>1,\"\",O1143+1)))","v":""},{"$f":"IFERROR(SMALL($P$1:$P$1921,1142),\"\")","v":""}]
[null,null,null,null,null,null,null,null,null,null,null,null,null,null,{"$f":"IF(1144<=$B$10,IF(LEN('２学期'!HW22)=0,\"\",IF('２学期'!HW22=$B$8,IF(LEN('２学期'!HZ22)=0,\"\",'２学期'!HZ22),\"\")),\"\")","v":""},{"$f":"IF(LEN(O1144)=0,\"\",IF(COUNTIF($O$2:$O$1921,O1144+1)>0,\"\",IF(COUNTIF($O$2:O1144,O1144)>1,\"\",O1144+1)))","v":""},{"$f":"IFERROR(SMALL($P$1:$P$1921,1143),\"\")","v":""}]
[null,null,null,null,null,null,null,null,null,null,null,null,null,null,{"$f":"IF(1145<=$B$10,IF(LEN('２学期'!HW25)=0,\"\",IF('２学期'!HW25=$B$8,IF(LEN('２学期'!HZ25)=0,\"\",'２学期'!HZ25),\"\")),\"\")","v":""},{"$f":"IF(LEN(O1145)=0,\"\",IF(COUNTIF($O$2:$O$1921,O1145+1)>0,\"\",IF(COUNTIF($O$2:O1145,O1145)>1,\"\",O1145+1)))","v":""},{"$f":"IFERROR(SMALL($P$1:$P$1921,1144),\"\")","v":""}]
[null,null,null,null,null,null,null,null,null,null,null,null,null,null,{"$f":"IF(1146<=$B$10,IF(LEN('２学期'!IA6)=0,\"\",IF('２学期'!IA6=$B$8,IF(LEN('２学期'!ID6)=0,\"\",'２学期'!ID6),\"\")),\"\")","v":""},{"$f":"IF(LEN(O1146)=0,\"\",IF(COUNTIF($O$2:$O$1921,O1146+1)>0,\"\",IF(COUNTIF($O$2:O1146,O1146)>1,\"\",O1146+1)))","v":""},{"$f":"IFERROR(SMALL($P$1:$P$1921,1145),\"\")","v":""}]
[null,null,null,null,null,null,null,null,null,null,null,null,null,null,{"$f":"IF(1147<=$B$10,IF(LEN('２学期'!IA7)=0,\"\",IF('２学期'!IA7=$B$8,IF(LEN('２学期'!ID7)=0,\"\",'２学期'!ID7),\"\")),\"\")","v":""},{"$f":"IF(LEN(O1147)=0,\"\",IF(COUNTIF($O$2:$O$1921,O1147+1)>0,\"\",IF(COUNTIF($O$2:O1147,O1147)>1,\"\",O1147+1)))","v":""},{"$f":"IFERROR(SMALL($P$1:$P$1921,1146),\"\")","v":""}]
[null,null,null,null,null,null,null,null,null,null,null,null,null,null,{"$f":"IF(1148<=$B$10,IF(LEN('２学期'!IA10)=0,\"\",IF('２学期'!IA10=$B$8,IF(LEN('２学期'!ID10)=0,\"\",'２学期'!ID10),\"\")),\"\")","v":""},{"$f":"IF(LEN(O1148)=0,\"\",IF(COUNTIF($O$2:$O$1921,O1148+1)>0,\"\",IF(COUNTIF($O$2:O1148,O1148)>1,\"\",O1148+1)))","v":""},{"$f":"IFERROR(SMALL($P$1:$P$1921,1147),\"\")","v":""}]
[null,null,null,null,null,null,null,null,null,null,null,null,null,null,{"$f":"IF(1149<=$B$10,IF(LEN('２学期'!IA13)=0,\"\",IF('２学期'!IA13=$B$8,IF(LEN('２学期'!ID13)=0,\"\",'２学期'!ID13),\"\")),\"\")","v":""},{"$f":"IF(LEN(O1149)=0,\"\",IF(COUNTIF($O$2:$O$1921,O1149+1)>0,\"\",IF(COUNTIF($O$2:O1149,O1149)>1,\"\",O1149+1)))","v":""},{"$f":"IFERROR(SMALL($P$1:$P$1921,1148),\"\")","v":""}]
[null,null,null,null,null,null,null,null,null,null,null,null,null,null,{"$f":"IF(1150<=$B$10,IF(LEN('２学期'!IA16)=0,\"\",IF('２学期'!IA16=$B$8,IF(LEN('２学期'!ID16)=0,\"\",'２学期'!ID16),\"\")),\"\")","v":""},{"$f":"IF(LEN(O1150)=0,\"\",IF(COUNTIF($O$2:$O$1921,O1150+1)>0,\"\",IF(COUNTIF($O$2:O1150,O1150)>1,\"\",O1150+1)))","v":""},{"$f":"IFERROR(SMALL($P$1:$P$1921,1149),\"\")","v":""}]
[null,null,null,null,null,null,null,null,null,null,null,null,null,null,{"$f":"IF(1151<=$B$10,IF(LEN('２学期'!IA19)=0,\"\",IF('２学期'!IA19=$B$8,IF(LEN('２学期'!ID19)=0,\"\",'２学期'!ID19),\"\")),\"\")","v":""},{"$f":"IF(LEN(O1151)=0,\"\",IF(COUNTIF($O$2:$O$1921,O1151+1)>0,\"\",IF(COUNTIF($O$2:O1151,O1151)>1,\"\",O1151+1)))","v":""},{"$f":"IFERROR(SMALL($P$1:$P$1921,1150),\"\")","v":""}]
[null,null,null,null,null,null,null,null,null,null,null,null,null,null,{"$f":"IF(1152<=$B$10,IF(LEN('２学期'!IA22)=0,\"\",IF('２学期'!IA22=$B$8,IF(LEN('２学期'!ID22)=0,\"\",'２学期'!ID22),\"\")),\"\")","v":""},{"$f":"IF(LEN(O1152)=0,\"\",IF(COUNTIF($O$2:$O$1921,O1152+1)>0,\"\",IF(COUNTIF($O$2:O1152,O1152)>1,\"\",O1152+1)))","v":""},{"$f":"IFERROR(SMALL($P$1:$P$1921,1151),\"\")","v":""}]
[null,null,null,null,null,null,null,null,null,null,null,null,null,null,{"$f":"IF(1153<=$B$10,IF(LEN('２学期'!IA25)=0,\"\",IF('２学期'!IA25=$B$8,IF(LEN('２学期'!ID25)=0,\"\",'２学期'!ID25),\"\")),\"\")","v":""},{"$f":"IF(LEN(O1153)=0,\"\",IF(COUNTIF($O$2:$O$1921,O1153+1)>0,\"\",IF(COUNTIF($O$2:O1153,O1153)>1,\"\",O1153+1)))","v":""},{"$f":"IFERROR(SMALL($P$1:$P$1921,1152),\"\")","v":""}]
[null,null,null,null,null,null,null,null,null,null,null,null,null,null,{"$f":"IF(1154<=$B$10,IF(LEN('２学期'!IE6)=0,\"\",IF('２学期'!IE6=$B$8,IF(LEN('２学期'!IH6)=0,\"\",'２学期'!IH6),\"\")),\"\")","v":""},{"$f":"IF(LEN(O1154)=0,\"\",IF(COUNTIF($O$2:$O$1921,O1154+1)>0,\"\",IF(COUNTIF($O$2:O1154,O1154)>1,\"\",O1154+1)))","v":""},{"$f":"IFERROR(SMALL($P$1:$P$1921,1153),\"\")","v":""}]
[null,null,null,null,null,null,null,null,null,null,null,null,null,null,{"$f":"IF(1155<=$B$10,IF(LEN('２学期'!IE7)=0,\"\",IF('２学期'!IE7=$B$8,IF(LEN('２学期'!IH7)=0,\"\",'２学期'!IH7),\"\")),\"\")","v":""},{"$f":"IF(LEN(O1155)=0,\"\",IF(COUNTIF($O$2:$O$1921,O1155+1)>0,\"\",IF(COUNTIF($O$2:O1155,O1155)>1,\"\",O1155+1)))","v":""},{"$f":"IFERROR(SMALL($P$1:$P$1921,1154),\"\")","v":""}]
[null,null,null,null,null,null,null,null,null,null,null,null,null,null,{"$f":"IF(1156<=$B$10,IF(LEN('２学期'!IE10)=0,\"\",IF('２学期'!IE10=$B$8,IF(LEN('２学期'!IH10)=0,\"\",'２学期'!IH10),\"\")),\"\")","v":""},{"$f":"IF(LEN(O1156)=0,\"\",IF(COUNTIF($O$2:$O$1921,O1156+1)>0,\"\",IF(COUNTIF($O$2:O1156,O1156)>1,\"\",O1156+1)))","v":""},{"$f":"IFERROR(SMALL($P$1:$P$1921,1155),\"\")","v":""}]
[null,null,null,null,null,null,null,null,null,null,null,null,null,null,{"$f":"IF(1157<=$B$10,IF(LEN('２学期'!IE13)=0,\"\",IF('２学期'!IE13=$B$8,IF(LEN('２学期'!IH13)=0,\"\",'２学期'!IH13),\"\")),\"\")","v":""},{"$f":"IF(LEN(O1157)=0,\"\",IF(COUNTIF($O$2:$O$1921,O1157+1)>0,\"\",IF(COUNTIF($O$2:O1157,O1157)>1,\"\",O1157+1)))","v":""},{"$f":"IFERROR(SMALL($P$1:$P$1921,1156),\"\")","v":""}]
[null,null,null,null,null,null,null,null,null,null,null,null,null,null,{"$f":"IF(1158<=$B$10,IF(LEN('２学期'!IE16)=0,\"\",IF('２学期'!IE16=$B$8,IF(LEN('２学期'!IH16)=0,\"\",'２学期'!IH16),\"\")),\"\")","v":""},{"$f":"IF(LEN(O1158)=0,\"\",IF(COUNTIF($O$2:$O$1921,O1158+1)>0,\"\",IF(COUNTIF($O$2:O1158,O1158)>1,\"\",O1158+1)))","v":""},{"$f":"IFERROR(SMALL($P$1:$P$1921,1157),\"\")","v":""}]
[null,null,null,null,null,null,null,null,null,null,null,null,null,null,{"$f":"IF(1159<=$B$10,IF(LEN('２学期'!IE19)=0,\"\",IF('２学期'!IE19=$B$8,IF(LEN('２学期'!IH19)=0,\"\",'２学期'!IH19),\"\")),\"\")","v":""},{"$f":"IF(LEN(O1159)=0,\"\",IF(COUNTIF($O$2:$O$1921,O1159+1)>0,\"\",IF(COUNTIF($O$2:O1159,O1159)>1,\"\",O1159+1)))","v":""},{"$f":"IFERROR(SMALL($P$1:$P$1921,1158),\"\")","v":""}]
[null,null,null,null,null,null,null,null,null,null,null,null,null,null,{"$f":"IF(1160<=$B$10,IF(LEN('２学期'!IE22)=0,\"\",IF('２学期'!IE22=$B$8,IF(LEN('２学期'!IH22)=0,\"\",'２学期'!IH22),\"\")),\"\")","v":""},{"$f":"IF(LEN(O1160)=0,\"\",IF(COUNTIF($O$2:$O$1921,O1160+1)>0,\"\",IF(COUNTIF($O$2:O1160,O1160)>1,\"\",O1160+1)))","v":""},{"$f":"IFERROR(SMALL($P$1:$P$1921,1159),\"\")","v":""}]
[null,null,null,null,null,null,null,null,null,null,null,null,null,null,{"$f":"IF(1161<=$B$10,IF(LEN('２学期'!IE25)=0,\"\",IF('２学期'!IE25=$B$8,IF(LEN('２学期'!IH25)=0,\"\",'２学期'!IH25),\"\")),\"\")","v":""},{"$f":"IF(LEN(O1161)=0,\"\",IF(COUNTIF($O$2:$O$1921,O1161+1)>0,\"\",IF(COUNTIF($O$2:O1161,O1161)>1,\"\",O1161+1)))","v":""},{"$f":"IFERROR(SMALL($P$1:$P$1921,1160),\"\")","v":""}]
[null,null,null,null,null,null,null,null,null,null,null,null,null,null,{"$f":"IF(1162<=$B$10,IF(LEN('２学期'!II6)=0,\"\",IF('２学期'!II6=$B$8,IF(LEN('２学期'!IL6)=0,\"\",'２学期'!IL6),\"\")),\"\")","v":""},{"$f":"IF(LEN(O1162)=0,\"\",IF(COUNTIF($O$2:$O$1921,O1162+1)>0,\"\",IF(COUNTIF($O$2:O1162,O1162)>1,\"\",O1162+1)))","v":""},{"$f":"IFERROR(SMALL($P$1:$P$1921,1161),\"\")","v":""}]
[null,null,null,null,null,null,null,null,null,null,null,null,null,null,{"$f":"IF(1163<=$B$10,IF(LEN('２学期'!II7)=0,\"\",IF('２学期'!II7=$B$8,IF(LEN('２学期'!IL7)=0,\"\",'２学期'!IL7),\"\")),\"\")","v":""},{"$f":"IF(LEN(O1163)=0,\"\",IF(COUNTIF($O$2:$O$1921,O1163+1)>0,\"\",IF(COUNTIF($O$2:O1163,O1163)>1,\"\",O1163+1)))","v":""},{"$f":"IFERROR(SMALL($P$1:$P$1921,1162),\"\")","v":""}]
[null,null,null,null,null,null,null,null,null,null,null,null,null,null,{"$f":"IF(1164<=$B$10,IF(LEN('２学期'!II10)=0,\"\",IF('２学期'!II10=$B$8,IF(LEN('２学期'!IL10)=0,\"\",'２学期'!IL10),\"\")),\"\")","v":""},{"$f":"IF(LEN(O1164)=0,\"\",IF(COUNTIF($O$2:$O$1921,O1164+1)>0,\"\",IF(COUNTIF($O$2:O1164,O1164)>1,\"\",O1164+1)))","v":""},{"$f":"IFERROR(SMALL($P$1:$P$1921,1163),\"\")","v":""}]
[null,null,null,null,null,null,null,null,null,null,null,null,null,null,{"$f":"IF(1165<=$B$10,IF(LEN('２学期'!II13)=0,\"\",IF('２学期'!II13=$B$8,IF(LEN('２学期'!IL13)=0,\"\",'２学期'!IL13),\"\")),\"\")","v":""},{"$f":"IF(LEN(O1165)=0,\"\",IF(COUNTIF($O$2:$O$1921,O1165+1)>0,\"\",IF(COUNTIF($O$2:O1165,O1165)>1,\"\",O1165+1)))","v":""},{"$f":"IFERROR(SMALL($P$1:$P$1921,1164),\"\")","v":""}]
[null,null,null,null,null,null,null,null,null,null,null,null,null,null,{"$f":"IF(1166<=$B$10,IF(LEN('２学期'!II16)=0,\"\",IF('２学期'!II16=$B$8,IF(LEN('２学期'!IL16)=0,\"\",'２学期'!IL16),\"\")),\"\")","v":""},{"$f":"IF(LEN(O1166)=0,\"\",IF(COUNTIF($O$2:$O$1921,O1166+1)>0,\"\",IF(COUNTIF($O$2:O1166,O1166)>1,\"\",O1166+1)))","v":""},{"$f":"IFERROR(SMALL($P$1:$P$1921,1165),\"\")","v":""}]
[null,null,null,null,null,null,null,null,null,null,null,null,null,null,{"$f":"IF(1167<=$B$10,IF(LEN('２学期'!II19)=0,\"\",IF('２学期'!II19=$B$8,IF(LEN('２学期'!IL19)=0,\"\",'２学期'!IL19),\"\")),\"\")","v":""},{"$f":"IF(LEN(O1167)=0,\"\",IF(COUNTIF($O$2:$O$1921,O1167+1)>0,\"\",IF(COUNTIF($O$2:O1167,O1167)>1,\"\",O1167+1)))","v":""},{"$f":"IFERROR(SMALL($P$1:$P$1921,1166),\"\")","v":""}]
[null,null,null,null,null,null,null,null,null,null,null,null,null,null,{"$f":"IF(1168<=$B$10,IF(LEN('２学期'!II22)=0,\"\",IF('２学期'!II22=$B$8,IF(LEN('２学期'!IL22)=0,\"\",'２学期'!IL22),\"\")),\"\")","v":""},{"$f":"IF(LEN(O1168)=0,\"\",IF(COUNTIF($O$2:$O$1921,O1168+1)>0,\"\",IF(COUNTIF($O$2:O1168,O1168)>1,\"\",O1168+1)))","v":""},{"$f":"IFERROR(SMALL($P$1:$P$1921,1167),\"\")","v":""}]
[null,null,null,null,null,null,null,null,null,null,null,null,null,null,{"$f":"IF(1169<=$B$10,IF(LEN('２学期'!II25)=0,\"\",IF('２学期'!II25=$B$8,IF(LEN('２学期'!IL25)=0,\"\",'２学期'!IL25),\"\")),\"\")","v":""},{"$f":"IF(LEN(O1169)=0,\"\",IF(COUNTIF($O$2:$O$1921,O1169+1)>0,\"\",IF(COUNTIF($O$2:O1169,O1169)>1,\"\",O1169+1)))","v":""},{"$f":"IFERROR(SMALL($P$1:$P$1921,1168),\"\")","v":""}]
[null,null,null,null,null,null,null,null,null,null,null,null,null,null,{"$f":"IF(1170<=$B$10,IF(LEN('２学期'!IM6)=0,\"\",IF('２学期'!IM6=$B$8,IF(LEN('２学期'!IP6)=0,\"\",'２学期'!IP6),\"\")),\"\")","v":""},{"$f":"IF(LEN(O1170)=0,\"\",IF(COUNTIF($O$2:$O$1921,O1170+1)>0,\"\",IF(COUNTIF($O$2:O1170,O1170)>1,\"\",O1170+1)))","v":""},{"$f":"IFERROR(SMALL($P$1:$P$1921,1169),\"\")","v":""}]
[null,null,null,null,null,null,null,null,null,null,null,null,null,null,{"$f":"IF(1171<=$B$10,IF(LEN('２学期'!IM7)=0,\"\",IF('２学期'!IM7=$B$8,IF(LEN('２学期'!IP7)=0,\"\",'２学期'!IP7),\"\")),\"\")","v":""},{"$f":"IF(LEN(O1171)=0,\"\",IF(COUNTIF($O$2:$O$1921,O1171+1)>0,\"\",IF(COUNTIF($O$2:O1171,O1171)>1,\"\",O1171+1)))","v":""},{"$f":"IFERROR(SMALL($P$1:$P$1921,1170),\"\")","v":""}]
[null,null,null,null,null,null,null,null,null,null,null,null,null,null,{"$f":"IF(1172<=$B$10,IF(LEN('２学期'!IM10)=0,\"\",IF('２学期'!IM10=$B$8,IF(LEN('２学期'!IP10)=0,\"\",'２学期'!IP10),\"\")),\"\")","v":""},{"$f":"IF(LEN(O1172)=0,\"\",IF(COUNTIF($O$2:$O$1921,O1172+1)>0,\"\",IF(COUNTIF($O$2:O1172,O1172)>1,\"\",O1172+1)))","v":""},{"$f":"IFERROR(SMALL($P$1:$P$1921,1171),\"\")","v":""}]
[null,null,null,null,null,null,null,null,null,null,null,null,null,null,{"$f":"IF(1173<=$B$10,IF(LEN('２学期'!IM13)=0,\"\",IF('２学期'!IM13=$B$8,IF(LEN('２学期'!IP13)=0,\"\",'２学期'!IP13),\"\")),\"\")","v":""},{"$f":"IF(LEN(O1173)=0,\"\",IF(COUNTIF($O$2:$O$1921,O1173+1)>0,\"\",IF(COUNTIF($O$2:O1173,O1173)>1,\"\",O1173+1)))","v":""},{"$f":"IFERROR(SMALL($P$1:$P$1921,1172),\"\")","v":""}]
[null,null,null,null,null,null,null,null,null,null,null,null,null,null,{"$f":"IF(1174<=$B$10,IF(LEN('２学期'!IM16)=0,\"\",IF('２学期'!IM16=$B$8,IF(LEN('２学期'!IP16)=0,\"\",'２学期'!IP16),\"\")),\"\")","v":""},{"$f":"IF(LEN(O1174)=0,\"\",IF(COUNTIF($O$2:$O$1921,O1174+1)>0,\"\",IF(COUNTIF($O$2:O1174,O1174)>1,\"\",O1174+1)))","v":""},{"$f":"IFERROR(SMALL($P$1:$P$1921,1173),\"\")","v":""}]
[null,null,null,null,null,null,null,null,null,null,null,null,null,null,{"$f":"IF(1175<=$B$10,IF(LEN('２学期'!IM19)=0,\"\",IF('２学期'!IM19=$B$8,IF(LEN('２学期'!IP19)=0,\"\",'２学期'!IP19),\"\")),\"\")","v":""},{"$f":"IF(LEN(O1175)=0,\"\",IF(COUNTIF($O$2:$O$1921,O1175+1)>0,\"\",IF(COUNTIF($O$2:O1175,O1175)>1,\"\",O1175+1)))","v":""},{"$f":"IFERROR(SMALL($P$1:$P$1921,1174),\"\")","v":""}]
[null,null,null,null,null,null,null,null,null,null,null,null,null,null,{"$f":"IF(1176<=$B$10,IF(LEN('２学期'!IM22)=0,\"\",IF('２学期'!IM22=$B$8,IF(LEN('２学期'!IP22)=0,\"\",'２学期'!IP22),\"\")),\"\")","v":""},{"$f":"IF(LEN(O1176)=0,\"\",IF(COUNTIF($O$2:$O$1921,O1176+1)>0,\"\",IF(COUNTIF($O$2:O1176,O1176)>1,\"\",O1176+1)))","v":""},{"$f":"IFERROR(SMALL($P$1:$P$1921,1175),\"\")","v":""}]
[null,null,null,null,null,null,null,null,null,null,null,null,null,null,{"$f":"IF(1177<=$B$10,IF(LEN('２学期'!IM25)=0,\"\",IF('２学期'!IM25=$B$8,IF(LEN('２学期'!IP25)=0,\"\",'２学期'!IP25),\"\")),\"\")","v":""},{"$f":"IF(LEN(O1177)=0,\"\",IF(COUNTIF($O$2:$O$1921,O1177+1)>0,\"\",IF(COUNTIF($O$2:O1177,O1177)>1,\"\",O1177+1)))","v":""},{"$f":"IFERROR(SMALL($P$1:$P$1921,1176),\"\")","v":""}]
[null,null,null,null,null,null,null,null,null,null,null,null,null,null,{"$f":"IF(1178<=$B$10,IF(LEN('２学期'!IQ6)=0,\"\",IF('２学期'!IQ6=$B$8,IF(LEN('２学期'!IT6)=0,\"\",'２学期'!IT6),\"\")),\"\")","v":""},{"$f":"IF(LEN(O1178)=0,\"\",IF(COUNTIF($O$2:$O$1921,O1178+1)>0,\"\",IF(COUNTIF($O$2:O1178,O1178)>1,\"\",O1178+1)))","v":""},{"$f":"IFERROR(SMALL($P$1:$P$1921,1177),\"\")","v":""}]
[null,null,null,null,null,null,null,null,null,null,null,null,null,null,{"$f":"IF(1179<=$B$10,IF(LEN('２学期'!IQ7)=0,\"\",IF('２学期'!IQ7=$B$8,IF(LEN('２学期'!IT7)=0,\"\",'２学期'!IT7),\"\")),\"\")","v":""},{"$f":"IF(LEN(O1179)=0,\"\",IF(COUNTIF($O$2:$O$1921,O1179+1)>0,\"\",IF(COUNTIF($O$2:O1179,O1179)>1,\"\",O1179+1)))","v":""},{"$f":"IFERROR(SMALL($P$1:$P$1921,1178),\"\")","v":""}]
[null,null,null,null,null,null,null,null,null,null,null,null,null,null,{"$f":"IF(1180<=$B$10,IF(LEN('２学期'!IQ10)=0,\"\",IF('２学期'!IQ10=$B$8,IF(LEN('２学期'!IT10)=0,\"\",'２学期'!IT10),\"\")),\"\")","v":""},{"$f":"IF(LEN(O1180)=0,\"\",IF(COUNTIF($O$2:$O$1921,O1180+1)>0,\"\",IF(COUNTIF($O$2:O1180,O1180)>1,\"\",O1180+1)))","v":""},{"$f":"IFERROR(SMALL($P$1:$P$1921,1179),\"\")","v":""}]
[null,null,null,null,null,null,null,null,null,null,null,null,null,null,{"$f":"IF(1181<=$B$10,IF(LEN('２学期'!IQ13)=0,\"\",IF('２学期'!IQ13=$B$8,IF(LEN('２学期'!IT13)=0,\"\",'２学期'!IT13),\"\")),\"\")","v":""},{"$f":"IF(LEN(O1181)=0,\"\",IF(COUNTIF($O$2:$O$1921,O1181+1)>0,\"\",IF(COUNTIF($O$2:O1181,O1181)>1,\"\",O1181+1)))","v":""},{"$f":"IFERROR(SMALL($P$1:$P$1921,1180),\"\")","v":""}]
[null,null,null,null,null,null,null,null,null,null,null,null,null,null,{"$f":"IF(1182<=$B$10,IF(LEN('２学期'!IQ16)=0,\"\",IF('２学期'!IQ16=$B$8,IF(LEN('２学期'!IT16)=0,\"\",'２学期'!IT16),\"\")),\"\")","v":""},{"$f":"IF(LEN(O1182)=0,\"\",IF(COUNTIF($O$2:$O$1921,O1182+1)>0,\"\",IF(COUNTIF($O$2:O1182,O1182)>1,\"\",O1182+1)))","v":""},{"$f":"IFERROR(SMALL($P$1:$P$1921,1181),\"\")","v":""}]
[null,null,null,null,null,null,null,null,null,null,null,null,null,null,{"$f":"IF(1183<=$B$10,IF(LEN('２学期'!IQ19)=0,\"\",IF('２学期'!IQ19=$B$8,IF(LEN('２学期'!IT19)=0,\"\",'２学期'!IT19),\"\")),\"\")","v":""},{"$f":"IF(LEN(O1183)=0,\"\",IF(COUNTIF($O$2:$O$1921,O1183+1)>0,\"\",IF(COUNTIF($O$2:O1183,O1183)>1,\"\",O1183+1)))","v":""},{"$f":"IFERROR(SMALL($P$1:$P$1921,1182),\"\")","v":""}]
[null,null,null,null,null,null,null,null,null,null,null,null,null,null,{"$f":"IF(1184<=$B$10,IF(LEN('２学期'!IQ22)=0,\"\",IF('２学期'!IQ22=$B$8,IF(LEN('２学期'!IT22)=0,\"\",'２学期'!IT22),\"\")),\"\")","v":""},{"$f":"IF(LEN(O1184)=0,\"\",IF(COUNTIF($O$2:$O$1921,O1184+1)>0,\"\",IF(COUNTIF($O$2:O1184,O1184)>1,\"\",O1184+1)))","v":""},{"$f":"IFERROR(SMALL($P$1:$P$1921,1183),\"\")","v":""}]
[null,null,null,null,null,null,null,null,null,null,null,null,null,null,{"$f":"IF(1185<=$B$10,IF(LEN('２学期'!IQ25)=0,\"\",IF('２学期'!IQ25=$B$8,IF(LEN('２学期'!IT25)=0,\"\",'２学期'!IT25),\"\")),\"\")","v":""},{"$f":"IF(LEN(O1185)=0,\"\",IF(COUNTIF($O$2:$O$1921,O1185+1)>0,\"\",IF(COUNTIF($O$2:O1185,O1185)>1,\"\",O1185+1)))","v":""},{"$f":"IFERROR(SMALL($P$1:$P$1921,1184),\"\")","v":""}]
[null,null,null,null,null,null,null,null,null,null,null,null,null,null,{"$f":"IF(1186<=$B$10,IF(LEN('２学期'!IU6)=0,\"\",IF('２学期'!IU6=$B$8,IF(LEN('２学期'!IX6)=0,\"\",'２学期'!IX6),\"\")),\"\")","v":""},{"$f":"IF(LEN(O1186)=0,\"\",IF(COUNTIF($O$2:$O$1921,O1186+1)>0,\"\",IF(COUNTIF($O$2:O1186,O1186)>1,\"\",O1186+1)))","v":""},{"$f":"IFERROR(SMALL($P$1:$P$1921,1185),\"\")","v":""}]
[null,null,null,null,null,null,null,null,null,null,null,null,null,null,{"$f":"IF(1187<=$B$10,IF(LEN('２学期'!IU7)=0,\"\",IF('２学期'!IU7=$B$8,IF(LEN('２学期'!IX7)=0,\"\",'２学期'!IX7),\"\")),\"\")","v":""},{"$f":"IF(LEN(O1187)=0,\"\",IF(COUNTIF($O$2:$O$1921,O1187+1)>0,\"\",IF(COUNTIF($O$2:O1187,O1187)>1,\"\",O1187+1)))","v":""},{"$f":"IFERROR(SMALL($P$1:$P$1921,1186),\"\")","v":""}]
[null,null,null,null,null,null,null,null,null,null,null,null,null,null,{"$f":"IF(1188<=$B$10,IF(LEN('２学期'!IU10)=0,\"\",IF('２学期'!IU10=$B$8,IF(LEN('２学期'!IX10)=0,\"\",'２学期'!IX10),\"\")),\"\")","v":""},{"$f":"IF(LEN(O1188)=0,\"\",IF(COUNTIF($O$2:$O$1921,O1188+1)>0,\"\",IF(COUNTIF($O$2:O1188,O1188)>1,\"\",O1188+1)))","v":""},{"$f":"IFERROR(SMALL($P$1:$P$1921,1187),\"\")","v":""}]
[null,null,null,null,null,null,null,null,null,null,null,null,null,null,{"$f":"IF(1189<=$B$10,IF(LEN('２学期'!IU13)=0,\"\",IF('２学期'!IU13=$B$8,IF(LEN('２学期'!IX13)=0,\"\",'２学期'!IX13),\"\")),\"\")","v":""},{"$f":"IF(LEN(O1189)=0,\"\",IF(COUNTIF($O$2:$O$1921,O1189+1)>0,\"\",IF(COUNTIF($O$2:O1189,O1189)>1,\"\",O1189+1)))","v":""},{"$f":"IFERROR(SMALL($P$1:$P$1921,1188),\"\")","v":""}]
[null,null,null,null,null,null,null,null,null,null,null,null,null,null,{"$f":"IF(1190<=$B$10,IF(LEN('２学期'!IU16)=0,\"\",IF('２学期'!IU16=$B$8,IF(LEN('２学期'!IX16)=0,\"\",'２学期'!IX16),\"\")),\"\")","v":""},{"$f":"IF(LEN(O1190)=0,\"\",IF(COUNTIF($O$2:$O$1921,O1190+1)>0,\"\",IF(COUNTIF($O$2:O1190,O1190)>1,\"\",O1190+1)))","v":""},{"$f":"IFERROR(SMALL($P$1:$P$1921,1189),\"\")","v":""}]
[null,null,null,null,null,null,null,null,null,null,null,null,null,null,{"$f":"IF(1191<=$B$10,IF(LEN('２学期'!IU19)=0,\"\",IF('２学期'!IU19=$B$8,IF(LEN('２学期'!IX19)=0,\"\",'２学期'!IX19),\"\")),\"\")","v":""},{"$f":"IF(LEN(O1191)=0,\"\",IF(COUNTIF($O$2:$O$1921,O1191+1)>0,\"\",IF(COUNTIF($O$2:O1191,O1191)>1,\"\",O1191+1)))","v":""},{"$f":"IFERROR(SMALL($P$1:$P$1921,1190),\"\")","v":""}]
[null,null,null,null,null,null,null,null,null,null,null,null,null,null,{"$f":"IF(1192<=$B$10,IF(LEN('２学期'!IU22)=0,\"\",IF('２学期'!IU22=$B$8,IF(LEN('２学期'!IX22)=0,\"\",'２学期'!IX22),\"\")),\"\")","v":""},{"$f":"IF(LEN(O1192)=0,\"\",IF(COUNTIF($O$2:$O$1921,O1192+1)>0,\"\",IF(COUNTIF($O$2:O1192,O1192)>1,\"\",O1192+1)))","v":""},{"$f":"IFERROR(SMALL($P$1:$P$1921,1191),\"\")","v":""}]
[null,null,null,null,null,null,null,null,null,null,null,null,null,null,{"$f":"IF(1193<=$B$10,IF(LEN('２学期'!IU25)=0,\"\",IF('２学期'!IU25=$B$8,IF(LEN('２学期'!IX25)=0,\"\",'２学期'!IX25),\"\")),\"\")","v":""},{"$f":"IF(LEN(O1193)=0,\"\",IF(COUNTIF($O$2:$O$1921,O1193+1)>0,\"\",IF(COUNTIF($O$2:O1193,O1193)>1,\"\",O1193+1)))","v":""},{"$f":"IFERROR(SMALL($P$1:$P$1921,1192),\"\")","v":""}]
[null,null,null,null,null,null,null,null,null,null,null,null,null,null,{"$f":"IF(1194<=$B$10,IF(LEN('２学期'!IY6)=0,\"\",IF('２学期'!IY6=$B$8,IF(LEN('２学期'!JB6)=0,\"\",'２学期'!JB6),\"\")),\"\")","v":""},{"$f":"IF(LEN(O1194)=0,\"\",IF(COUNTIF($O$2:$O$1921,O1194+1)>0,\"\",IF(COUNTIF($O$2:O1194,O1194)>1,\"\",O1194+1)))","v":""},{"$f":"IFERROR(SMALL($P$1:$P$1921,1193),\"\")","v":""}]
[null,null,null,null,null,null,null,null,null,null,null,null,null,null,{"$f":"IF(1195<=$B$10,IF(LEN('２学期'!IY7)=0,\"\",IF('２学期'!IY7=$B$8,IF(LEN('２学期'!JB7)=0,\"\",'２学期'!JB7),\"\")),\"\")","v":""},{"$f":"IF(LEN(O1195)=0,\"\",IF(COUNTIF($O$2:$O$1921,O1195+1)>0,\"\",IF(COUNTIF($O$2:O1195,O1195)>1,\"\",O1195+1)))","v":""},{"$f":"IFERROR(SMALL($P$1:$P$1921,1194),\"\")","v":""}]
[null,null,null,null,null,null,null,null,null,null,null,null,null,null,{"$f":"IF(1196<=$B$10,IF(LEN('２学期'!IY10)=0,\"\",IF('２学期'!IY10=$B$8,IF(LEN('２学期'!JB10)=0,\"\",'２学期'!JB10),\"\")),\"\")","v":""},{"$f":"IF(LEN(O1196)=0,\"\",IF(COUNTIF($O$2:$O$1921,O1196+1)>0,\"\",IF(COUNTIF($O$2:O1196,O1196)>1,\"\",O1196+1)))","v":""},{"$f":"IFERROR(SMALL($P$1:$P$1921,1195),\"\")","v":""}]
[null,null,null,null,null,null,null,null,null,null,null,null,null,null,{"$f":"IF(1197<=$B$10,IF(LEN('２学期'!IY13)=0,\"\",IF('２学期'!IY13=$B$8,IF(LEN('２学期'!JB13)=0,\"\",'２学期'!JB13),\"\")),\"\")","v":""},{"$f":"IF(LEN(O1197)=0,\"\",IF(COUNTIF($O$2:$O$1921,O1197+1)>0,\"\",IF(COUNTIF($O$2:O1197,O1197)>1,\"\",O1197+1)))","v":""},{"$f":"IFERROR(SMALL($P$1:$P$1921,1196),\"\")","v":""}]
[null,null,null,null,null,null,null,null,null,null,null,null,null,null,{"$f":"IF(1198<=$B$10,IF(LEN('２学期'!IY16)=0,\"\",IF('２学期'!IY16=$B$8,IF(LEN('２学期'!JB16)=0,\"\",'２学期'!JB16),\"\")),\"\")","v":""},{"$f":"IF(LEN(O1198)=0,\"\",IF(COUNTIF($O$2:$O$1921,O1198+1)>0,\"\",IF(COUNTIF($O$2:O1198,O1198)>1,\"\",O1198+1)))","v":""},{"$f":"IFERROR(SMALL($P$1:$P$1921,1197),\"\")","v":""}]
[null,null,null,null,null,null,null,null,null,null,null,null,null,null,{"$f":"IF(1199<=$B$10,IF(LEN('２学期'!IY19)=0,\"\",IF('２学期'!IY19=$B$8,IF(LEN('２学期'!JB19)=0,\"\",'２学期'!JB19),\"\")),\"\")","v":""},{"$f":"IF(LEN(O1199)=0,\"\",IF(COUNTIF($O$2:$O$1921,O1199+1)>0,\"\",IF(COUNTIF($O$2:O1199,O1199)>1,\"\",O1199+1)))","v":""},{"$f":"IFERROR(SMALL($P$1:$P$1921,1198),\"\")","v":""}]
[null,null,null,null,null,null,null,null,null,null,null,null,null,null,{"$f":"IF(1200<=$B$10,IF(LEN('２学期'!IY22)=0,\"\",IF('２学期'!IY22=$B$8,IF(LEN('２学期'!JB22)=0,\"\",'２学期'!JB22),\"\")),\"\")","v":""},{"$f":"IF(LEN(O1200)=0,\"\",IF(COUNTIF($O$2:$O$1921,O1200+1)>0,\"\",IF(COUNTIF($O$2:O1200,O1200)>1,\"\",O1200+1)))","v":""},{"$f":"IFERROR(SMALL($P$1:$P$1921,1199),\"\")","v":""}]
[null,null,null,null,null,null,null,null,null,null,null,null,null,null,{"$f":"IF(1201<=$B$10,IF(LEN('２学期'!IY25)=0,\"\",IF('２学期'!IY25=$B$8,IF(LEN('２学期'!JB25)=0,\"\",'２学期'!JB25),\"\")),\"\")","v":""},{"$f":"IF(LEN(O1201)=0,\"\",IF(COUNTIF($O$2:$O$1921,O1201+1)>0,\"\",IF(COUNTIF($O$2:O1201,O1201)>1,\"\",O1201+1)))","v":""},{"$f":"IFERROR(SMALL($P$1:$P$1921,1200),\"\")","v":""}]
[null,null,null,null,null,null,null,null,null,null,null,null,null,null,{"$f":"IF(1202<=$B$10,IF(LEN('２学期'!JC6)=0,\"\",IF('２学期'!JC6=$B$8,IF(LEN('２学期'!JF6)=0,\"\",'２学期'!JF6),\"\")),\"\")","v":""},{"$f":"IF(LEN(O1202)=0,\"\",IF(COUNTIF($O$2:$O$1921,O1202+1)>0,\"\",IF(COUNTIF($O$2:O1202,O1202)>1,\"\",O1202+1)))","v":""},{"$f":"IFERROR(SMALL($P$1:$P$1921,1201),\"\")","v":""}]
[null,null,null,null,null,null,null,null,null,null,null,null,null,null,{"$f":"IF(1203<=$B$10,IF(LEN('２学期'!JC7)=0,\"\",IF('２学期'!JC7=$B$8,IF(LEN('２学期'!JF7)=0,\"\",'２学期'!JF7),\"\")),\"\")","v":""},{"$f":"IF(LEN(O1203)=0,\"\",IF(COUNTIF($O$2:$O$1921,O1203+1)>0,\"\",IF(COUNTIF($O$2:O1203,O1203)>1,\"\",O1203+1)))","v":""},{"$f":"IFERROR(SMALL($P$1:$P$1921,1202),\"\")","v":""}]
[null,null,null,null,null,null,null,null,null,null,null,null,null,null,{"$f":"IF(1204<=$B$10,IF(LEN('２学期'!JC10)=0,\"\",IF('２学期'!JC10=$B$8,IF(LEN('２学期'!JF10)=0,\"\",'２学期'!JF10),\"\")),\"\")","v":""},{"$f":"IF(LEN(O1204)=0,\"\",IF(COUNTIF($O$2:$O$1921,O1204+1)>0,\"\",IF(COUNTIF($O$2:O1204,O1204)>1,\"\",O1204+1)))","v":""},{"$f":"IFERROR(SMALL($P$1:$P$1921,1203),\"\")","v":""}]
[null,null,null,null,null,null,null,null,null,null,null,null,null,null,{"$f":"IF(1205<=$B$10,IF(LEN('２学期'!JC13)=0,\"\",IF('２学期'!JC13=$B$8,IF(LEN('２学期'!JF13)=0,\"\",'２学期'!JF13),\"\")),\"\")","v":""},{"$f":"IF(LEN(O1205)=0,\"\",IF(COUNTIF($O$2:$O$1921,O1205+1)>0,\"\",IF(COUNTIF($O$2:O1205,O1205)>1,\"\",O1205+1)))","v":""},{"$f":"IFERROR(SMALL($P$1:$P$1921,1204),\"\")","v":""}]
[null,null,null,null,null,null,null,null,null,null,null,null,null,null,{"$f":"IF(1206<=$B$10,IF(LEN('２学期'!JC16)=0,\"\",IF('２学期'!JC16=$B$8,IF(LEN('２学期'!JF16)=0,\"\",'２学期'!JF16),\"\")),\"\")","v":""},{"$f":"IF(LEN(O1206)=0,\"\",IF(COUNTIF($O$2:$O$1921,O1206+1)>0,\"\",IF(COUNTIF($O$2:O1206,O1206)>1,\"\",O1206+1)))","v":""},{"$f":"IFERROR(SMALL($P$1:$P$1921,1205),\"\")","v":""}]
[null,null,null,null,null,null,null,null,null,null,null,null,null,null,{"$f":"IF(1207<=$B$10,IF(LEN('２学期'!JC19)=0,\"\",IF('２学期'!JC19=$B$8,IF(LEN('２学期'!JF19)=0,\"\",'２学期'!JF19),\"\")),\"\")","v":""},{"$f":"IF(LEN(O1207)=0,\"\",IF(COUNTIF($O$2:$O$1921,O1207+1)>0,\"\",IF(COUNTIF($O$2:O1207,O1207)>1,\"\",O1207+1)))","v":""},{"$f":"IFERROR(SMALL($P$1:$P$1921,1206),\"\")","v":""}]
[null,null,null,null,null,null,null,null,null,null,null,null,null,null,{"$f":"IF(1208<=$B$10,IF(LEN('２学期'!JC22)=0,\"\",IF('２学期'!JC22=$B$8,IF(LEN('２学期'!JF22)=0,\"\",'２学期'!JF22),\"\")),\"\")","v":""},{"$f":"IF(LEN(O1208)=0,\"\",IF(COUNTIF($O$2:$O$1921,O1208+1)>0,\"\",IF(COUNTIF($O$2:O1208,O1208)>1,\"\",O1208+1)))","v":""},{"$f":"IFERROR(SMALL($P$1:$P$1921,1207),\"\")","v":""}]
[null,null,null,null,null,null,null,null,null,null,null,null,null,null,{"$f":"IF(1209<=$B$10,IF(LEN('２学期'!JC25)=0,\"\",IF('２学期'!JC25=$B$8,IF(LEN('２学期'!JF25)=0,\"\",'２学期'!JF25),\"\")),\"\")","v":""},{"$f":"IF(LEN(O1209)=0,\"\",IF(COUNTIF($O$2:$O$1921,O1209+1)>0,\"\",IF(COUNTIF($O$2:O1209,O1209)>1,\"\",O1209+1)))","v":""},{"$f":"IFERROR(SMALL($P$1:$P$1921,1208),\"\")","v":""}]
[null,null,null,null,null,null,null,null,null,null,null,null,null,null,{"$f":"IF(1210<=$B$10,IF(LEN('２学期'!JG6)=0,\"\",IF('２学期'!JG6=$B$8,IF(LEN('２学期'!JJ6)=0,\"\",'２学期'!JJ6),\"\")),\"\")","v":""},{"$f":"IF(LEN(O1210)=0,\"\",IF(COUNTIF($O$2:$O$1921,O1210+1)>0,\"\",IF(COUNTIF($O$2:O1210,O1210)>1,\"\",O1210+1)))","v":""},{"$f":"IFERROR(SMALL($P$1:$P$1921,1209),\"\")","v":""}]
[null,null,null,null,null,null,null,null,null,null,null,null,null,null,{"$f":"IF(1211<=$B$10,IF(LEN('２学期'!JG7)=0,\"\",IF('２学期'!JG7=$B$8,IF(LEN('２学期'!JJ7)=0,\"\",'２学期'!JJ7),\"\")),\"\")","v":""},{"$f":"IF(LEN(O1211)=0,\"\",IF(COUNTIF($O$2:$O$1921,O1211+1)>0,\"\",IF(COUNTIF($O$2:O1211,O1211)>1,\"\",O1211+1)))","v":""},{"$f":"IFERROR(SMALL($P$1:$P$1921,1210),\"\")","v":""}]
[null,null,null,null,null,null,null,null,null,null,null,null,null,null,{"$f":"IF(1212<=$B$10,IF(LEN('２学期'!JG10)=0,\"\",IF('２学期'!JG10=$B$8,IF(LEN('２学期'!JJ10)=0,\"\",'２学期'!JJ10),\"\")),\"\")","v":""},{"$f":"IF(LEN(O1212)=0,\"\",IF(COUNTIF($O$2:$O$1921,O1212+1)>0,\"\",IF(COUNTIF($O$2:O1212,O1212)>1,\"\",O1212+1)))","v":""},{"$f":"IFERROR(SMALL($P$1:$P$1921,1211),\"\")","v":""}]
[null,null,null,null,null,null,null,null,null,null,null,null,null,null,{"$f":"IF(1213<=$B$10,IF(LEN('２学期'!JG13)=0,\"\",IF('２学期'!JG13=$B$8,IF(LEN('２学期'!JJ13)=0,\"\",'２学期'!JJ13),\"\")),\"\")","v":""},{"$f":"IF(LEN(O1213)=0,\"\",IF(COUNTIF($O$2:$O$1921,O1213+1)>0,\"\",IF(COUNTIF($O$2:O1213,O1213)>1,\"\",O1213+1)))","v":""},{"$f":"IFERROR(SMALL($P$1:$P$1921,1212),\"\")","v":""}]
[null,null,null,null,null,null,null,null,null,null,null,null,null,null,{"$f":"IF(1214<=$B$10,IF(LEN('２学期'!JG16)=0,\"\",IF('２学期'!JG16=$B$8,IF(LEN('２学期'!JJ16)=0,\"\",'２学期'!JJ16),\"\")),\"\")","v":""},{"$f":"IF(LEN(O1214)=0,\"\",IF(COUNTIF($O$2:$O$1921,O1214+1)>0,\"\",IF(COUNTIF($O$2:O1214,O1214)>1,\"\",O1214+1)))","v":""},{"$f":"IFERROR(SMALL($P$1:$P$1921,1213),\"\")","v":""}]
[null,null,null,null,null,null,null,null,null,null,null,null,null,null,{"$f":"IF(1215<=$B$10,IF(LEN('２学期'!JG19)=0,\"\",IF('２学期'!JG19=$B$8,IF(LEN('２学期'!JJ19)=0,\"\",'２学期'!JJ19),\"\")),\"\")","v":""},{"$f":"IF(LEN(O1215)=0,\"\",IF(COUNTIF($O$2:$O$1921,O1215+1)>0,\"\",IF(COUNTIF($O$2:O1215,O1215)>1,\"\",O1215+1)))","v":""},{"$f":"IFERROR(SMALL($P$1:$P$1921,1214),\"\")","v":""}]
[null,null,null,null,null,null,null,null,null,null,null,null,null,null,{"$f":"IF(1216<=$B$10,IF(LEN('２学期'!JG22)=0,\"\",IF('２学期'!JG22=$B$8,IF(LEN('２学期'!JJ22)=0,\"\",'２学期'!JJ22),\"\")),\"\")","v":""},{"$f":"IF(LEN(O1216)=0,\"\",IF(COUNTIF($O$2:$O$1921,O1216+1)>0,\"\",IF(COUNTIF($O$2:O1216,O1216)>1,\"\",O1216+1)))","v":""},{"$f":"IFERROR(SMALL($P$1:$P$1921,1215),\"\")","v":""}]
[null,null,null,null,null,null,null,null,null,null,null,null,null,null,{"$f":"IF(1217<=$B$10,IF(LEN('２学期'!JG25)=0,\"\",IF('２学期'!JG25=$B$8,IF(LEN('２学期'!JJ25)=0,\"\",'２学期'!JJ25),\"\")),\"\")","v":""},{"$f":"IF(LEN(O1217)=0,\"\",IF(COUNTIF($O$2:$O$1921,O1217+1)>0,\"\",IF(COUNTIF($O$2:O1217,O1217)>1,\"\",O1217+1)))","v":""},{"$f":"IFERROR(SMALL($P$1:$P$1921,1216),\"\")","v":""}]
[null,null,null,null,null,null,null,null,null,null,null,null,null,null,{"$f":"IF(1218<=$B$10,IF(LEN('２学期'!JK6)=0,\"\",IF('２学期'!JK6=$B$8,IF(LEN('２学期'!JN6)=0,\"\",'２学期'!JN6),\"\")),\"\")","v":""},{"$f":"IF(LEN(O1218)=0,\"\",IF(COUNTIF($O$2:$O$1921,O1218+1)>0,\"\",IF(COUNTIF($O$2:O1218,O1218)>1,\"\",O1218+1)))","v":""},{"$f":"IFERROR(SMALL($P$1:$P$1921,1217),\"\")","v":""}]
[null,null,null,null,null,null,null,null,null,null,null,null,null,null,{"$f":"IF(1219<=$B$10,IF(LEN('２学期'!JK7)=0,\"\",IF('２学期'!JK7=$B$8,IF(LEN('２学期'!JN7)=0,\"\",'２学期'!JN7),\"\")),\"\")","v":""},{"$f":"IF(LEN(O1219)=0,\"\",IF(COUNTIF($O$2:$O$1921,O1219+1)>0,\"\",IF(COUNTIF($O$2:O1219,O1219)>1,\"\",O1219+1)))","v":""},{"$f":"IFERROR(SMALL($P$1:$P$1921,1218),\"\")","v":""}]
[null,null,null,null,null,null,null,null,null,null,null,null,null,null,{"$f":"IF(1220<=$B$10,IF(LEN('２学期'!JK10)=0,\"\",IF('２学期'!JK10=$B$8,IF(LEN('２学期'!JN10)=0,\"\",'２学期'!JN10),\"\")),\"\")","v":""},{"$f":"IF(LEN(O1220)=0,\"\",IF(COUNTIF($O$2:$O$1921,O1220+1)>0,\"\",IF(COUNTIF($O$2:O1220,O1220)>1,\"\",O1220+1)))","v":""},{"$f":"IFERROR(SMALL($P$1:$P$1921,1219),\"\")","v":""}]
[null,null,null,null,null,null,null,null,null,null,null,null,null,null,{"$f":"IF(1221<=$B$10,IF(LEN('２学期'!JK13)=0,\"\",IF('２学期'!JK13=$B$8,IF(LEN('２学期'!JN13)=0,\"\",'２学期'!JN13),\"\")),\"\")","v":""},{"$f":"IF(LEN(O1221)=0,\"\",IF(COUNTIF($O$2:$O$1921,O1221+1)>0,\"\",IF(COUNTIF($O$2:O1221,O1221)>1,\"\",O1221+1)))","v":""},{"$f":"IFERROR(SMALL($P$1:$P$1921,1220),\"\")","v":""}]
[null,null,null,null,null,null,null,null,null,null,null,null,null,null,{"$f":"IF(1222<=$B$10,IF(LEN('２学期'!JK16)=0,\"\",IF('２学期'!JK16=$B$8,IF(LEN('２学期'!JN16)=0,\"\",'２学期'!JN16),\"\")),\"\")","v":""},{"$f":"IF(LEN(O1222)=0,\"\",IF(COUNTIF($O$2:$O$1921,O1222+1)>0,\"\",IF(COUNTIF($O$2:O1222,O1222)>1,\"\",O1222+1)))","v":""},{"$f":"IFERROR(SMALL($P$1:$P$1921,1221),\"\")","v":""}]
[null,null,null,null,null,null,null,null,null,null,null,null,null,null,{"$f":"IF(1223<=$B$10,IF(LEN('２学期'!JK19)=0,\"\",IF('２学期'!JK19=$B$8,IF(LEN('２学期'!JN19)=0,\"\",'２学期'!JN19),\"\")),\"\")","v":""},{"$f":"IF(LEN(O1223)=0,\"\",IF(COUNTIF($O$2:$O$1921,O1223+1)>0,\"\",IF(COUNTIF($O$2:O1223,O1223)>1,\"\",O1223+1)))","v":""},{"$f":"IFERROR(SMALL($P$1:$P$1921,1222),\"\")","v":""}]
[null,null,null,null,null,null,null,null,null,null,null,null,null,null,{"$f":"IF(1224<=$B$10,IF(LEN('２学期'!JK22)=0,\"\",IF('２学期'!JK22=$B$8,IF(LEN('２学期'!JN22)=0,\"\",'２学期'!JN22),\"\")),\"\")","v":""},{"$f":"IF(LEN(O1224)=0,\"\",IF(COUNTIF($O$2:$O$1921,O1224+1)>0,\"\",IF(COUNTIF($O$2:O1224,O1224)>1,\"\",O1224+1)))","v":""},{"$f":"IFERROR(SMALL($P$1:$P$1921,1223),\"\")","v":""}]
[null,null,null,null,null,null,null,null,null,null,null,null,null,null,{"$f":"IF(1225<=$B$10,IF(LEN('２学期'!JK25)=0,\"\",IF('２学期'!JK25=$B$8,IF(LEN('２学期'!JN25)=0,\"\",'２学期'!JN25),\"\")),\"\")","v":""},{"$f":"IF(LEN(O1225)=0,\"\",IF(COUNTIF($O$2:$O$1921,O1225+1)>0,\"\",IF(COUNTIF($O$2:O1225,O1225)>1,\"\",O1225+1)))","v":""},{"$f":"IFERROR(SMALL($P$1:$P$1921,1224),\"\")","v":""}]
[null,null,null,null,null,null,null,null,null,null,null,null,null,null,{"$f":"IF(1226<=$B$10,IF(LEN('２学期'!JO6)=0,\"\",IF('２学期'!JO6=$B$8,IF(LEN('２学期'!JR6)=0,\"\",'２学期'!JR6),\"\")),\"\")","v":""},{"$f":"IF(LEN(O1226)=0,\"\",IF(COUNTIF($O$2:$O$1921,O1226+1)>0,\"\",IF(COUNTIF($O$2:O1226,O1226)>1,\"\",O1226+1)))","v":""},{"$f":"IFERROR(SMALL($P$1:$P$1921,1225),\"\")","v":""}]
[null,null,null,null,null,null,null,null,null,null,null,null,null,null,{"$f":"IF(1227<=$B$10,IF(LEN('２学期'!JO7)=0,\"\",IF('２学期'!JO7=$B$8,IF(LEN('２学期'!JR7)=0,\"\",'２学期'!JR7),\"\")),\"\")","v":""},{"$f":"IF(LEN(O1227)=0,\"\",IF(COUNTIF($O$2:$O$1921,O1227+1)>0,\"\",IF(COUNTIF($O$2:O1227,O1227)>1,\"\",O1227+1)))","v":""},{"$f":"IFERROR(SMALL($P$1:$P$1921,1226),\"\")","v":""}]
[null,null,null,null,null,null,null,null,null,null,null,null,null,null,{"$f":"IF(1228<=$B$10,IF(LEN('２学期'!JO10)=0,\"\",IF('２学期'!JO10=$B$8,IF(LEN('２学期'!JR10)=0,\"\",'２学期'!JR10),\"\")),\"\")","v":""},{"$f":"IF(LEN(O1228)=0,\"\",IF(COUNTIF($O$2:$O$1921,O1228+1)>0,\"\",IF(COUNTIF($O$2:O1228,O1228)>1,\"\",O1228+1)))","v":""},{"$f":"IFERROR(SMALL($P$1:$P$1921,1227),\"\")","v":""}]
[null,null,null,null,null,null,null,null,null,null,null,null,null,null,{"$f":"IF(1229<=$B$10,IF(LEN('２学期'!JO13)=0,\"\",IF('２学期'!JO13=$B$8,IF(LEN('２学期'!JR13)=0,\"\",'２学期'!JR13),\"\")),\"\")","v":""},{"$f":"IF(LEN(O1229)=0,\"\",IF(COUNTIF($O$2:$O$1921,O1229+1)>0,\"\",IF(COUNTIF($O$2:O1229,O1229)>1,\"\",O1229+1)))","v":""},{"$f":"IFERROR(SMALL($P$1:$P$1921,1228),\"\")","v":""}]
[null,null,null,null,null,null,null,null,null,null,null,null,null,null,{"$f":"IF(1230<=$B$10,IF(LEN('２学期'!JO16)=0,\"\",IF('２学期'!JO16=$B$8,IF(LEN('２学期'!JR16)=0,\"\",'２学期'!JR16),\"\")),\"\")","v":""},{"$f":"IF(LEN(O1230)=0,\"\",IF(COUNTIF($O$2:$O$1921,O1230+1)>0,\"\",IF(COUNTIF($O$2:O1230,O1230)>1,\"\",O1230+1)))","v":""},{"$f":"IFERROR(SMALL($P$1:$P$1921,1229),\"\")","v":""}]
[null,null,null,null,null,null,null,null,null,null,null,null,null,null,{"$f":"IF(1231<=$B$10,IF(LEN('２学期'!JO19)=0,\"\",IF('２学期'!JO19=$B$8,IF(LEN('２学期'!JR19)=0,\"\",'２学期'!JR19),\"\")),\"\")","v":""},{"$f":"IF(LEN(O1231)=0,\"\",IF(COUNTIF($O$2:$O$1921,O1231+1)>0,\"\",IF(COUNTIF($O$2:O1231,O1231)>1,\"\",O1231+1)))","v":""},{"$f":"IFERROR(SMALL($P$1:$P$1921,1230),\"\")","v":""}]
[null,null,null,null,null,null,null,null,null,null,null,null,null,null,{"$f":"IF(1232<=$B$10,IF(LEN('２学期'!JO22)=0,\"\",IF('２学期'!JO22=$B$8,IF(LEN('２学期'!JR22)=0,\"\",'２学期'!JR22),\"\")),\"\")","v":""},{"$f":"IF(LEN(O1232)=0,\"\",IF(COUNTIF($O$2:$O$1921,O1232+1)>0,\"\",IF(COUNTIF($O$2:O1232,O1232)>1,\"\",O1232+1)))","v":""},{"$f":"IFERROR(SMALL($P$1:$P$1921,1231),\"\")","v":""}]
[null,null,null,null,null,null,null,null,null,null,null,null,null,null,{"$f":"IF(1233<=$B$10,IF(LEN('２学期'!JO25)=0,\"\",IF('２学期'!JO25=$B$8,IF(LEN('２学期'!JR25)=0,\"\",'２学期'!JR25),\"\")),\"\")","v":""},{"$f":"IF(LEN(O1233)=0,\"\",IF(COUNTIF($O$2:$O$1921,O1233+1)>0,\"\",IF(COUNTIF($O$2:O1233,O1233)>1,\"\",O1233+1)))","v":""},{"$f":"IFERROR(SMALL($P$1:$P$1921,1232),\"\")","v":""}]
[null,null,null,null,null,null,null,null,null,null,null,null,null,null,{"$f":"IF(1234<=$B$10,IF(LEN('２学期'!JS6)=0,\"\",IF('２学期'!JS6=$B$8,IF(LEN('２学期'!JV6)=0,\"\",'２学期'!JV6),\"\")),\"\")","v":""},{"$f":"IF(LEN(O1234)=0,\"\",IF(COUNTIF($O$2:$O$1921,O1234+1)>0,\"\",IF(COUNTIF($O$2:O1234,O1234)>1,\"\",O1234+1)))","v":""},{"$f":"IFERROR(SMALL($P$1:$P$1921,1233),\"\")","v":""}]
[null,null,null,null,null,null,null,null,null,null,null,null,null,null,{"$f":"IF(1235<=$B$10,IF(LEN('２学期'!JS7)=0,\"\",IF('２学期'!JS7=$B$8,IF(LEN('２学期'!JV7)=0,\"\",'２学期'!JV7),\"\")),\"\")","v":""},{"$f":"IF(LEN(O1235)=0,\"\",IF(COUNTIF($O$2:$O$1921,O1235+1)>0,\"\",IF(COUNTIF($O$2:O1235,O1235)>1,\"\",O1235+1)))","v":""},{"$f":"IFERROR(SMALL($P$1:$P$1921,1234),\"\")","v":""}]
[null,null,null,null,null,null,null,null,null,null,null,null,null,null,{"$f":"IF(1236<=$B$10,IF(LEN('２学期'!JS10)=0,\"\",IF('２学期'!JS10=$B$8,IF(LEN('２学期'!JV10)=0,\"\",'２学期'!JV10),\"\")),\"\")","v":""},{"$f":"IF(LEN(O1236)=0,\"\",IF(COUNTIF($O$2:$O$1921,O1236+1)>0,\"\",IF(COUNTIF($O$2:O1236,O1236)>1,\"\",O1236+1)))","v":""},{"$f":"IFERROR(SMALL($P$1:$P$1921,1235),\"\")","v":""}]
[null,null,null,null,null,null,null,null,null,null,null,null,null,null,{"$f":"IF(1237<=$B$10,IF(LEN('２学期'!JS13)=0,\"\",IF('２学期'!JS13=$B$8,IF(LEN('２学期'!JV13)=0,\"\",'２学期'!JV13),\"\")),\"\")","v":""},{"$f":"IF(LEN(O1237)=0,\"\",IF(COUNTIF($O$2:$O$1921,O1237+1)>0,\"\",IF(COUNTIF($O$2:O1237,O1237)>1,\"\",O1237+1)))","v":""},{"$f":"IFERROR(SMALL($P$1:$P$1921,1236),\"\")","v":""}]
[null,null,null,null,null,null,null,null,null,null,null,null,null,null,{"$f":"IF(1238<=$B$10,IF(LEN('２学期'!JS16)=0,\"\",IF('２学期'!JS16=$B$8,IF(LEN('２学期'!JV16)=0,\"\",'２学期'!JV16),\"\")),\"\")","v":""},{"$f":"IF(LEN(O1238)=0,\"\",IF(COUNTIF($O$2:$O$1921,O1238+1)>0,\"\",IF(COUNTIF($O$2:O1238,O1238)>1,\"\",O1238+1)))","v":""},{"$f":"IFERROR(SMALL($P$1:$P$1921,1237),\"\")","v":""}]
[null,null,null,null,null,null,null,null,null,null,null,null,null,null,{"$f":"IF(1239<=$B$10,IF(LEN('２学期'!JS19)=0,\"\",IF('２学期'!JS19=$B$8,IF(LEN('２学期'!JV19)=0,\"\",'２学期'!JV19),\"\")),\"\")","v":""},{"$f":"IF(LEN(O1239)=0,\"\",IF(COUNTIF($O$2:$O$1921,O1239+1)>0,\"\",IF(COUNTIF($O$2:O1239,O1239)>1,\"\",O1239+1)))","v":""},{"$f":"IFERROR(SMALL($P$1:$P$1921,1238),\"\")","v":""}]
[null,null,null,null,null,null,null,null,null,null,null,null,null,null,{"$f":"IF(1240<=$B$10,IF(LEN('２学期'!JS22)=0,\"\",IF('２学期'!JS22=$B$8,IF(LEN('２学期'!JV22)=0,\"\",'２学期'!JV22),\"\")),\"\")","v":""},{"$f":"IF(LEN(O1240)=0,\"\",IF(COUNTIF($O$2:$O$1921,O1240+1)>0,\"\",IF(COUNTIF($O$2:O1240,O1240)>1,\"\",O1240+1)))","v":""},{"$f":"IFERROR(SMALL($P$1:$P$1921,1239),\"\")","v":""}]
[null,null,null,null,null,null,null,null,null,null,null,null,null,null,{"$f":"IF(1241<=$B$10,IF(LEN('２学期'!JS25)=0,\"\",IF('２学期'!JS25=$B$8,IF(LEN('２学期'!JV25)=0,\"\",'２学期'!JV25),\"\")),\"\")","v":""},{"$f":"IF(LEN(O1241)=0,\"\",IF(COUNTIF($O$2:$O$1921,O1241+1)>0,\"\",IF(COUNTIF($O$2:O1241,O1241)>1,\"\",O1241+1)))","v":""},{"$f":"IFERROR(SMALL($P$1:$P$1921,1240),\"\")","v":""}]
[null,null,null,null,null,null,null,null,null,null,null,null,null,null,{"$f":"IF(1242<=$B$10,IF(LEN('２学期'!JW6)=0,\"\",IF('２学期'!JW6=$B$8,IF(LEN('２学期'!JZ6)=0,\"\",'２学期'!JZ6),\"\")),\"\")","v":""},{"$f":"IF(LEN(O1242)=0,\"\",IF(COUNTIF($O$2:$O$1921,O1242+1)>0,\"\",IF(COUNTIF($O$2:O1242,O1242)>1,\"\",O1242+1)))","v":""},{"$f":"IFERROR(SMALL($P$1:$P$1921,1241),\"\")","v":""}]
[null,null,null,null,null,null,null,null,null,null,null,null,null,null,{"$f":"IF(1243<=$B$10,IF(LEN('２学期'!JW7)=0,\"\",IF('２学期'!JW7=$B$8,IF(LEN('２学期'!JZ7)=0,\"\",'２学期'!JZ7),\"\")),\"\")","v":""},{"$f":"IF(LEN(O1243)=0,\"\",IF(COUNTIF($O$2:$O$1921,O1243+1)>0,\"\",IF(COUNTIF($O$2:O1243,O1243)>1,\"\",O1243+1)))","v":""},{"$f":"IFERROR(SMALL($P$1:$P$1921,1242),\"\")","v":""}]
[null,null,null,null,null,null,null,null,null,null,null,null,null,null,{"$f":"IF(1244<=$B$10,IF(LEN('２学期'!JW10)=0,\"\",IF('２学期'!JW10=$B$8,IF(LEN('２学期'!JZ10)=0,\"\",'２学期'!JZ10),\"\")),\"\")","v":""},{"$f":"IF(LEN(O1244)=0,\"\",IF(COUNTIF($O$2:$O$1921,O1244+1)>0,\"\",IF(COUNTIF($O$2:O1244,O1244)>1,\"\",O1244+1)))","v":""},{"$f":"IFERROR(SMALL($P$1:$P$1921,1243),\"\")","v":""}]
[null,null,null,null,null,null,null,null,null,null,null,null,null,null,{"$f":"IF(1245<=$B$10,IF(LEN('２学期'!JW13)=0,\"\",IF('２学期'!JW13=$B$8,IF(LEN('２学期'!JZ13)=0,\"\",'２学期'!JZ13),\"\")),\"\")","v":""},{"$f":"IF(LEN(O1245)=0,\"\",IF(COUNTIF($O$2:$O$1921,O1245+1)>0,\"\",IF(COUNTIF($O$2:O1245,O1245)>1,\"\",O1245+1)))","v":""},{"$f":"IFERROR(SMALL($P$1:$P$1921,1244),\"\")","v":""}]
[null,null,null,null,null,null,null,null,null,null,null,null,null,null,{"$f":"IF(1246<=$B$10,IF(LEN('２学期'!JW16)=0,\"\",IF('２学期'!JW16=$B$8,IF(LEN('２学期'!JZ16)=0,\"\",'２学期'!JZ16),\"\")),\"\")","v":""},{"$f":"IF(LEN(O1246)=0,\"\",IF(COUNTIF($O$2:$O$1921,O1246+1)>0,\"\",IF(COUNTIF($O$2:O1246,O1246)>1,\"\",O1246+1)))","v":""},{"$f":"IFERROR(SMALL($P$1:$P$1921,1245),\"\")","v":""}]
[null,null,null,null,null,null,null,null,null,null,null,null,null,null,{"$f":"IF(1247<=$B$10,IF(LEN('２学期'!JW19)=0,\"\",IF('２学期'!JW19=$B$8,IF(LEN('２学期'!JZ19)=0,\"\",'２学期'!JZ19),\"\")),\"\")","v":""},{"$f":"IF(LEN(O1247)=0,\"\",IF(COUNTIF($O$2:$O$1921,O1247+1)>0,\"\",IF(COUNTIF($O$2:O1247,O1247)>1,\"\",O1247+1)))","v":""},{"$f":"IFERROR(SMALL($P$1:$P$1921,1246),\"\")","v":""}]
[null,null,null,null,null,null,null,null,null,null,null,null,null,null,{"$f":"IF(1248<=$B$10,IF(LEN('２学期'!JW22)=0,\"\",IF('２学期'!JW22=$B$8,IF(LEN('２学期'!JZ22)=0,\"\",'２学期'!JZ22),\"\")),\"\")","v":""},{"$f":"IF(LEN(O1248)=0,\"\",IF(COUNTIF($O$2:$O$1921,O1248+1)>0,\"\",IF(COUNTIF($O$2:O1248,O1248)>1,\"\",O1248+1)))","v":""},{"$f":"IFERROR(SMALL($P$1:$P$1921,1247),\"\")","v":""}]
[null,null,null,null,null,null,null,null,null,null,null,null,null,null,{"$f":"IF(1249<=$B$10,IF(LEN('２学期'!JW25)=0,\"\",IF('２学期'!JW25=$B$8,IF(LEN('２学期'!JZ25)=0,\"\",'２学期'!JZ25),\"\")),\"\")","v":""},{"$f":"IF(LEN(O1249)=0,\"\",IF(COUNTIF($O$2:$O$1921,O1249+1)>0,\"\",IF(COUNTIF($O$2:O1249,O1249)>1,\"\",O1249+1)))","v":""},{"$f":"IFERROR(SMALL($P$1:$P$1921,1248),\"\")","v":""}]
[null,null,null,null,null,null,null,null,null,null,null,null,null,null,{"$f":"IF(1250<=$B$10,IF(LEN('２学期'!KA6)=0,\"\",IF('２学期'!KA6=$B$8,IF(LEN('２学期'!KD6)=0,\"\",'２学期'!KD6),\"\")),\"\")","v":""},{"$f":"IF(LEN(O1250)=0,\"\",IF(COUNTIF($O$2:$O$1921,O1250+1)>0,\"\",IF(COUNTIF($O$2:O1250,O1250)>1,\"\",O1250+1)))","v":""},{"$f":"IFERROR(SMALL($P$1:$P$1921,1249),\"\")","v":""}]
[null,null,null,null,null,null,null,null,null,null,null,null,null,null,{"$f":"IF(1251<=$B$10,IF(LEN('２学期'!KA7)=0,\"\",IF('２学期'!KA7=$B$8,IF(LEN('２学期'!KD7)=0,\"\",'２学期'!KD7),\"\")),\"\")","v":""},{"$f":"IF(LEN(O1251)=0,\"\",IF(COUNTIF($O$2:$O$1921,O1251+1)>0,\"\",IF(COUNTIF($O$2:O1251,O1251)>1,\"\",O1251+1)))","v":""},{"$f":"IFERROR(SMALL($P$1:$P$1921,1250),\"\")","v":""}]
[null,null,null,null,null,null,null,null,null,null,null,null,null,null,{"$f":"IF(1252<=$B$10,IF(LEN('２学期'!KA10)=0,\"\",IF('２学期'!KA10=$B$8,IF(LEN('２学期'!KD10)=0,\"\",'２学期'!KD10),\"\")),\"\")","v":""},{"$f":"IF(LEN(O1252)=0,\"\",IF(COUNTIF($O$2:$O$1921,O1252+1)>0,\"\",IF(COUNTIF($O$2:O1252,O1252)>1,\"\",O1252+1)))","v":""},{"$f":"IFERROR(SMALL($P$1:$P$1921,1251),\"\")","v":""}]
[null,null,null,null,null,null,null,null,null,null,null,null,null,null,{"$f":"IF(1253<=$B$10,IF(LEN('２学期'!KA13)=0,\"\",IF('２学期'!KA13=$B$8,IF(LEN('２学期'!KD13)=0,\"\",'２学期'!KD13),\"\")),\"\")","v":""},{"$f":"IF(LEN(O1253)=0,\"\",IF(COUNTIF($O$2:$O$1921,O1253+1)>0,\"\",IF(COUNTIF($O$2:O1253,O1253)>1,\"\",O1253+1)))","v":""},{"$f":"IFERROR(SMALL($P$1:$P$1921,1252),\"\")","v":""}]
[null,null,null,null,null,null,null,null,null,null,null,null,null,null,{"$f":"IF(1254<=$B$10,IF(LEN('２学期'!KA16)=0,\"\",IF('２学期'!KA16=$B$8,IF(LEN('２学期'!KD16)=0,\"\",'２学期'!KD16),\"\")),\"\")","v":""},{"$f":"IF(LEN(O1254)=0,\"\",IF(COUNTIF($O$2:$O$1921,O1254+1)>0,\"\",IF(COUNTIF($O$2:O1254,O1254)>1,\"\",O1254+1)))","v":""},{"$f":"IFERROR(SMALL($P$1:$P$1921,1253),\"\")","v":""}]
[null,null,null,null,null,null,null,null,null,null,null,null,null,null,{"$f":"IF(1255<=$B$10,IF(LEN('２学期'!KA19)=0,\"\",IF('２学期'!KA19=$B$8,IF(LEN('２学期'!KD19)=0,\"\",'２学期'!KD19),\"\")),\"\")","v":""},{"$f":"IF(LEN(O1255)=0,\"\",IF(COUNTIF($O$2:$O$1921,O1255+1)>0,\"\",IF(COUNTIF($O$2:O1255,O1255)>1,\"\",O1255+1)))","v":""},{"$f":"IFERROR(SMALL($P$1:$P$1921,1254),\"\")","v":""}]
[null,null,null,null,null,null,null,null,null,null,null,null,null,null,{"$f":"IF(1256<=$B$10,IF(LEN('２学期'!KA22)=0,\"\",IF('２学期'!KA22=$B$8,IF(LEN('２学期'!KD22)=0,\"\",'２学期'!KD22),\"\")),\"\")","v":""},{"$f":"IF(LEN(O1256)=0,\"\",IF(COUNTIF($O$2:$O$1921,O1256+1)>0,\"\",IF(COUNTIF($O$2:O1256,O1256)>1,\"\",O1256+1)))","v":""},{"$f":"IFERROR(SMALL($P$1:$P$1921,1255),\"\")","v":""}]
[null,null,null,null,null,null,null,null,null,null,null,null,null,null,{"$f":"IF(1257<=$B$10,IF(LEN('２学期'!KA25)=0,\"\",IF('２学期'!KA25=$B$8,IF(LEN('２学期'!KD25)=0,\"\",'２学期'!KD25),\"\")),\"\")","v":""},{"$f":"IF(LEN(O1257)=0,\"\",IF(COUNTIF($O$2:$O$1921,O1257+1)>0,\"\",IF(COUNTIF($O$2:O1257,O1257)>1,\"\",O1257+1)))","v":""},{"$f":"IFERROR(SMALL($P$1:$P$1921,1256),\"\")","v":""}]
[null,null,null,null,null,null,null,null,null,null,null,null,null,null,{"$f":"IF(1258<=$B$10,IF(LEN('２学期'!KE6)=0,\"\",IF('２学期'!KE6=$B$8,IF(LEN('２学期'!KH6)=0,\"\",'２学期'!KH6),\"\")),\"\")","v":""},{"$f":"IF(LEN(O1258)=0,\"\",IF(COUNTIF($O$2:$O$1921,O1258+1)>0,\"\",IF(COUNTIF($O$2:O1258,O1258)>1,\"\",O1258+1)))","v":""},{"$f":"IFERROR(SMALL($P$1:$P$1921,1257),\"\")","v":""}]
[null,null,null,null,null,null,null,null,null,null,null,null,null,null,{"$f":"IF(1259<=$B$10,IF(LEN('２学期'!KE7)=0,\"\",IF('２学期'!KE7=$B$8,IF(LEN('２学期'!KH7)=0,\"\",'２学期'!KH7),\"\")),\"\")","v":""},{"$f":"IF(LEN(O1259)=0,\"\",IF(COUNTIF($O$2:$O$1921,O1259+1)>0,\"\",IF(COUNTIF($O$2:O1259,O1259)>1,\"\",O1259+1)))","v":""},{"$f":"IFERROR(SMALL($P$1:$P$1921,1258),\"\")","v":""}]
[null,null,null,null,null,null,null,null,null,null,null,null,null,null,{"$f":"IF(1260<=$B$10,IF(LEN('２学期'!KE10)=0,\"\",IF('２学期'!KE10=$B$8,IF(LEN('２学期'!KH10)=0,\"\",'２学期'!KH10),\"\")),\"\")","v":""},{"$f":"IF(LEN(O1260)=0,\"\",IF(COUNTIF($O$2:$O$1921,O1260+1)>0,\"\",IF(COUNTIF($O$2:O1260,O1260)>1,\"\",O1260+1)))","v":""},{"$f":"IFERROR(SMALL($P$1:$P$1921,1259),\"\")","v":""}]
[null,null,null,null,null,null,null,null,null,null,null,null,null,null,{"$f":"IF(1261<=$B$10,IF(LEN('２学期'!KE13)=0,\"\",IF('２学期'!KE13=$B$8,IF(LEN('２学期'!KH13)=0,\"\",'２学期'!KH13),\"\")),\"\")","v":""},{"$f":"IF(LEN(O1261)=0,\"\",IF(COUNTIF($O$2:$O$1921,O1261+1)>0,\"\",IF(COUNTIF($O$2:O1261,O1261)>1,\"\",O1261+1)))","v":""},{"$f":"IFERROR(SMALL($P$1:$P$1921,1260),\"\")","v":""}]
[null,null,null,null,null,null,null,null,null,null,null,null,null,null,{"$f":"IF(1262<=$B$10,IF(LEN('２学期'!KE16)=0,\"\",IF('２学期'!KE16=$B$8,IF(LEN('２学期'!KH16)=0,\"\",'２学期'!KH16),\"\")),\"\")","v":""},{"$f":"IF(LEN(O1262)=0,\"\",IF(COUNTIF($O$2:$O$1921,O1262+1)>0,\"\",IF(COUNTIF($O$2:O1262,O1262)>1,\"\",O1262+1)))","v":""},{"$f":"IFERROR(SMALL($P$1:$P$1921,1261),\"\")","v":""}]
[null,null,null,null,null,null,null,null,null,null,null,null,null,null,{"$f":"IF(1263<=$B$10,IF(LEN('２学期'!KE19)=0,\"\",IF('２学期'!KE19=$B$8,IF(LEN('２学期'!KH19)=0,\"\",'２学期'!KH19),\"\")),\"\")","v":""},{"$f":"IF(LEN(O1263)=0,\"\",IF(COUNTIF($O$2:$O$1921,O1263+1)>0,\"\",IF(COUNTIF($O$2:O1263,O1263)>1,\"\",O1263+1)))","v":""},{"$f":"IFERROR(SMALL($P$1:$P$1921,1262),\"\")","v":""}]
[null,null,null,null,null,null,null,null,null,null,null,null,null,null,{"$f":"IF(1264<=$B$10,IF(LEN('２学期'!KE22)=0,\"\",IF('２学期'!KE22=$B$8,IF(LEN('２学期'!KH22)=0,\"\",'２学期'!KH22),\"\")),\"\")","v":""},{"$f":"IF(LEN(O1264)=0,\"\",IF(COUNTIF($O$2:$O$1921,O1264+1)>0,\"\",IF(COUNTIF($O$2:O1264,O1264)>1,\"\",O1264+1)))","v":""},{"$f":"IFERROR(SMALL($P$1:$P$1921,1263),\"\")","v":""}]
[null,null,null,null,null,null,null,null,null,null,null,null,null,null,{"$f":"IF(1265<=$B$10,IF(LEN('２学期'!KE25)=0,\"\",IF('２学期'!KE25=$B$8,IF(LEN('２学期'!KH25)=0,\"\",'２学期'!KH25),\"\")),\"\")","v":""},{"$f":"IF(LEN(O1265)=0,\"\",IF(COUNTIF($O$2:$O$1921,O1265+1)>0,\"\",IF(COUNTIF($O$2:O1265,O1265)>1,\"\",O1265+1)))","v":""},{"$f":"IFERROR(SMALL($P$1:$P$1921,1264),\"\")","v":""}]
[null,null,null,null,null,null,null,null,null,null,null,null,null,null,{"$f":"IF(1266<=$B$10,IF(LEN('２学期'!KI6)=0,\"\",IF('２学期'!KI6=$B$8,IF(LEN('２学期'!KL6)=0,\"\",'２学期'!KL6),\"\")),\"\")","v":""},{"$f":"IF(LEN(O1266)=0,\"\",IF(COUNTIF($O$2:$O$1921,O1266+1)>0,\"\",IF(COUNTIF($O$2:O1266,O1266)>1,\"\",O1266+1)))","v":""},{"$f":"IFERROR(SMALL($P$1:$P$1921,1265),\"\")","v":""}]
[null,null,null,null,null,null,null,null,null,null,null,null,null,null,{"$f":"IF(1267<=$B$10,IF(LEN('２学期'!KI7)=0,\"\",IF('２学期'!KI7=$B$8,IF(LEN('２学期'!KL7)=0,\"\",'２学期'!KL7),\"\")),\"\")","v":""},{"$f":"IF(LEN(O1267)=0,\"\",IF(COUNTIF($O$2:$O$1921,O1267+1)>0,\"\",IF(COUNTIF($O$2:O1267,O1267)>1,\"\",O1267+1)))","v":""},{"$f":"IFERROR(SMALL($P$1:$P$1921,1266),\"\")","v":""}]
[null,null,null,null,null,null,null,null,null,null,null,null,null,null,{"$f":"IF(1268<=$B$10,IF(LEN('２学期'!KI10)=0,\"\",IF('２学期'!KI10=$B$8,IF(LEN('２学期'!KL10)=0,\"\",'２学期'!KL10),\"\")),\"\")","v":""},{"$f":"IF(LEN(O1268)=0,\"\",IF(COUNTIF($O$2:$O$1921,O1268+1)>0,\"\",IF(COUNTIF($O$2:O1268,O1268)>1,\"\",O1268+1)))","v":""},{"$f":"IFERROR(SMALL($P$1:$P$1921,1267),\"\")","v":""}]
[null,null,null,null,null,null,null,null,null,null,null,null,null,null,{"$f":"IF(1269<=$B$10,IF(LEN('２学期'!KI13)=0,\"\",IF('２学期'!KI13=$B$8,IF(LEN('２学期'!KL13)=0,\"\",'２学期'!KL13),\"\")),\"\")","v":""},{"$f":"IF(LEN(O1269)=0,\"\",IF(COUNTIF($O$2:$O$1921,O1269+1)>0,\"\",IF(COUNTIF($O$2:O1269,O1269)>1,\"\",O1269+1)))","v":""},{"$f":"IFERROR(SMALL($P$1:$P$1921,1268),\"\")","v":""}]
[null,null,null,null,null,null,null,null,null,null,null,null,null,null,{"$f":"IF(1270<=$B$10,IF(LEN('２学期'!KI16)=0,\"\",IF('２学期'!KI16=$B$8,IF(LEN('２学期'!KL16)=0,\"\",'２学期'!KL16),\"\")),\"\")","v":""},{"$f":"IF(LEN(O1270)=0,\"\",IF(COUNTIF($O$2:$O$1921,O1270+1)>0,\"\",IF(COUNTIF($O$2:O1270,O1270)>1,\"\",O1270+1)))","v":""},{"$f":"IFERROR(SMALL($P$1:$P$1921,1269),\"\")","v":""}]
[null,null,null,null,null,null,null,null,null,null,null,null,null,null,{"$f":"IF(1271<=$B$10,IF(LEN('２学期'!KI19)=0,\"\",IF('２学期'!KI19=$B$8,IF(LEN('２学期'!KL19)=0,\"\",'２学期'!KL19),\"\")),\"\")","v":""},{"$f":"IF(LEN(O1271)=0,\"\",IF(COUNTIF($O$2:$O$1921,O1271+1)>0,\"\",IF(COUNTIF($O$2:O1271,O1271)>1,\"\",O1271+1)))","v":""},{"$f":"IFERROR(SMALL($P$1:$P$1921,1270),\"\")","v":""}]
[null,null,null,null,null,null,null,null,null,null,null,null,null,null,{"$f":"IF(1272<=$B$10,IF(LEN('２学期'!KI22)=0,\"\",IF('２学期'!KI22=$B$8,IF(LEN('２学期'!KL22)=0,\"\",'２学期'!KL22),\"\")),\"\")","v":""},{"$f":"IF(LEN(O1272)=0,\"\",IF(COUNTIF($O$2:$O$1921,O1272+1)>0,\"\",IF(COUNTIF($O$2:O1272,O1272)>1,\"\",O1272+1)))","v":""},{"$f":"IFERROR(SMALL($P$1:$P$1921,1271),\"\")","v":""}]
[null,null,null,null,null,null,null,null,null,null,null,null,null,null,{"$f":"IF(1273<=$B$10,IF(LEN('２学期'!KI25)=0,\"\",IF('２学期'!KI25=$B$8,IF(LEN('２学期'!KL25)=0,\"\",'２学期'!KL25),\"\")),\"\")","v":""},{"$f":"IF(LEN(O1273)=0,\"\",IF(COUNTIF($O$2:$O$1921,O1273+1)>0,\"\",IF(COUNTIF($O$2:O1273,O1273)>1,\"\",O1273+1)))","v":""},{"$f":"IFERROR(SMALL($P$1:$P$1921,1272),\"\")","v":""}]
[null,null,null,null,null,null,null,null,null,null,null,null,null,null,{"$f":"IF(1274<=$B$10,IF(LEN('２学期'!KM6)=0,\"\",IF('２学期'!KM6=$B$8,IF(LEN('２学期'!KP6)=0,\"\",'２学期'!KP6),\"\")),\"\")","v":""},{"$f":"IF(LEN(O1274)=0,\"\",IF(COUNTIF($O$2:$O$1921,O1274+1)>0,\"\",IF(COUNTIF($O$2:O1274,O1274)>1,\"\",O1274+1)))","v":""},{"$f":"IFERROR(SMALL($P$1:$P$1921,1273),\"\")","v":""}]
[null,null,null,null,null,null,null,null,null,null,null,null,null,null,{"$f":"IF(1275<=$B$10,IF(LEN('２学期'!KM7)=0,\"\",IF('２学期'!KM7=$B$8,IF(LEN('２学期'!KP7)=0,\"\",'２学期'!KP7),\"\")),\"\")","v":""},{"$f":"IF(LEN(O1275)=0,\"\",IF(COUNTIF($O$2:$O$1921,O1275+1)>0,\"\",IF(COUNTIF($O$2:O1275,O1275)>1,\"\",O1275+1)))","v":""},{"$f":"IFERROR(SMALL($P$1:$P$1921,1274),\"\")","v":""}]
[null,null,null,null,null,null,null,null,null,null,null,null,null,null,{"$f":"IF(1276<=$B$10,IF(LEN('２学期'!KM10)=0,\"\",IF('２学期'!KM10=$B$8,IF(LEN('２学期'!KP10)=0,\"\",'２学期'!KP10),\"\")),\"\")","v":""},{"$f":"IF(LEN(O1276)=0,\"\",IF(COUNTIF($O$2:$O$1921,O1276+1)>0,\"\",IF(COUNTIF($O$2:O1276,O1276)>1,\"\",O1276+1)))","v":""},{"$f":"IFERROR(SMALL($P$1:$P$1921,1275),\"\")","v":""}]
[null,null,null,null,null,null,null,null,null,null,null,null,null,null,{"$f":"IF(1277<=$B$10,IF(LEN('２学期'!KM13)=0,\"\",IF('２学期'!KM13=$B$8,IF(LEN('２学期'!KP13)=0,\"\",'２学期'!KP13),\"\")),\"\")","v":""},{"$f":"IF(LEN(O1277)=0,\"\",IF(COUNTIF($O$2:$O$1921,O1277+1)>0,\"\",IF(COUNTIF($O$2:O1277,O1277)>1,\"\",O1277+1)))","v":""},{"$f":"IFERROR(SMALL($P$1:$P$1921,1276),\"\")","v":""}]
[null,null,null,null,null,null,null,null,null,null,null,null,null,null,{"$f":"IF(1278<=$B$10,IF(LEN('２学期'!KM16)=0,\"\",IF('２学期'!KM16=$B$8,IF(LEN('２学期'!KP16)=0,\"\",'２学期'!KP16),\"\")),\"\")","v":""},{"$f":"IF(LEN(O1278)=0,\"\",IF(COUNTIF($O$2:$O$1921,O1278+1)>0,\"\",IF(COUNTIF($O$2:O1278,O1278)>1,\"\",O1278+1)))","v":""},{"$f":"IFERROR(SMALL($P$1:$P$1921,1277),\"\")","v":""}]
[null,null,null,null,null,null,null,null,null,null,null,null,null,null,{"$f":"IF(1279<=$B$10,IF(LEN('２学期'!KM19)=0,\"\",IF('２学期'!KM19=$B$8,IF(LEN('２学期'!KP19)=0,\"\",'２学期'!KP19),\"\")),\"\")","v":""},{"$f":"IF(LEN(O1279)=0,\"\",IF(COUNTIF($O$2:$O$1921,O1279+1)>0,\"\",IF(COUNTIF($O$2:O1279,O1279)>1,\"\",O1279+1)))","v":""},{"$f":"IFERROR(SMALL($P$1:$P$1921,1278),\"\")","v":""}]
[null,null,null,null,null,null,null,null,null,null,null,null,null,null,{"$f":"IF(1280<=$B$10,IF(LEN('２学期'!KM22)=0,\"\",IF('２学期'!KM22=$B$8,IF(LEN('２学期'!KP22)=0,\"\",'２学期'!KP22),\"\")),\"\")","v":""},{"$f":"IF(LEN(O1280)=0,\"\",IF(COUNTIF($O$2:$O$1921,O1280+1)>0,\"\",IF(COUNTIF($O$2:O1280,O1280)>1,\"\",O1280+1)))","v":""},{"$f":"IFERROR(SMALL($P$1:$P$1921,1279),\"\")","v":""}]
[null,null,null,null,null,null,null,null,null,null,null,null,null,null,{"$f":"IF(1281<=$B$10,IF(LEN('２学期'!KM25)=0,\"\",IF('２学期'!KM25=$B$8,IF(LEN('２学期'!KP25)=0,\"\",'２学期'!KP25),\"\")),\"\")","v":""},{"$f":"IF(LEN(O1281)=0,\"\",IF(COUNTIF($O$2:$O$1921,O1281+1)>0,\"\",IF(COUNTIF($O$2:O1281,O1281)>1,\"\",O1281+1)))","v":""},{"$f":"IFERROR(SMALL($P$1:$P$1921,1280),\"\")","v":""}]
[null,null,null,null,null,null,null,null,null,null,null,null,null,null,{"$f":"IF(1282<=$B$10,IF(LEN('２学期'!KQ6)=0,\"\",IF('２学期'!KQ6=$B$8,IF(LEN('２学期'!KT6)=0,\"\",'２学期'!KT6),\"\")),\"\")","v":""},{"$f":"IF(LEN(O1282)=0,\"\",IF(COUNTIF($O$2:$O$1921,O1282+1)>0,\"\",IF(COUNTIF($O$2:O1282,O1282)>1,\"\",O1282+1)))","v":""},{"$f":"IFERROR(SMALL($P$1:$P$1921,1281),\"\")","v":""}]
[null,null,null,null,null,null,null,null,null,null,null,null,null,null,{"$f":"IF(1283<=$B$10,IF(LEN('２学期'!KQ7)=0,\"\",IF('２学期'!KQ7=$B$8,IF(LEN('２学期'!KT7)=0,\"\",'２学期'!KT7),\"\")),\"\")","v":""},{"$f":"IF(LEN(O1283)=0,\"\",IF(COUNTIF($O$2:$O$1921,O1283+1)>0,\"\",IF(COUNTIF($O$2:O1283,O1283)>1,\"\",O1283+1)))","v":""},{"$f":"IFERROR(SMALL($P$1:$P$1921,1282),\"\")","v":""}]
[null,null,null,null,null,null,null,null,null,null,null,null,null,null,{"$f":"IF(1284<=$B$10,IF(LEN('２学期'!KQ10)=0,\"\",IF('２学期'!KQ10=$B$8,IF(LEN('２学期'!KT10)=0,\"\",'２学期'!KT10),\"\")),\"\")","v":""},{"$f":"IF(LEN(O1284)=0,\"\",IF(COUNTIF($O$2:$O$1921,O1284+1)>0,\"\",IF(COUNTIF($O$2:O1284,O1284)>1,\"\",O1284+1)))","v":""},{"$f":"IFERROR(SMALL($P$1:$P$1921,1283),\"\")","v":""}]
[null,null,null,null,null,null,null,null,null,null,null,null,null,null,{"$f":"IF(1285<=$B$10,IF(LEN('２学期'!KQ13)=0,\"\",IF('２学期'!KQ13=$B$8,IF(LEN('２学期'!KT13)=0,\"\",'２学期'!KT13),\"\")),\"\")","v":""},{"$f":"IF(LEN(O1285)=0,\"\",IF(COUNTIF($O$2:$O$1921,O1285+1)>0,\"\",IF(COUNTIF($O$2:O1285,O1285)>1,\"\",O1285+1)))","v":""},{"$f":"IFERROR(SMALL($P$1:$P$1921,1284),\"\")","v":""}]
[null,null,null,null,null,null,null,null,null,null,null,null,null,null,{"$f":"IF(1286<=$B$10,IF(LEN('２学期'!KQ16)=0,\"\",IF('２学期'!KQ16=$B$8,IF(LEN('２学期'!KT16)=0,\"\",'２学期'!KT16),\"\")),\"\")","v":""},{"$f":"IF(LEN(O1286)=0,\"\",IF(COUNTIF($O$2:$O$1921,O1286+1)>0,\"\",IF(COUNTIF($O$2:O1286,O1286)>1,\"\",O1286+1)))","v":""},{"$f":"IFERROR(SMALL($P$1:$P$1921,1285),\"\")","v":""}]
[null,null,null,null,null,null,null,null,null,null,null,null,null,null,{"$f":"IF(1287<=$B$10,IF(LEN('２学期'!KQ19)=0,\"\",IF('２学期'!KQ19=$B$8,IF(LEN('２学期'!KT19)=0,\"\",'２学期'!KT19),\"\")),\"\")","v":""},{"$f":"IF(LEN(O1287)=0,\"\",IF(COUNTIF($O$2:$O$1921,O1287+1)>0,\"\",IF(COUNTIF($O$2:O1287,O1287)>1,\"\",O1287+1)))","v":""},{"$f":"IFERROR(SMALL($P$1:$P$1921,1286),\"\")","v":""}]
[null,null,null,null,null,null,null,null,null,null,null,null,null,null,{"$f":"IF(1288<=$B$10,IF(LEN('２学期'!KQ22)=0,\"\",IF('２学期'!KQ22=$B$8,IF(LEN('２学期'!KT22)=0,\"\",'２学期'!KT22),\"\")),\"\")","v":""},{"$f":"IF(LEN(O1288)=0,\"\",IF(COUNTIF($O$2:$O$1921,O1288+1)>0,\"\",IF(COUNTIF($O$2:O1288,O1288)>1,\"\",O1288+1)))","v":""},{"$f":"IFERROR(SMALL($P$1:$P$1921,1287),\"\")","v":""}]
[null,null,null,null,null,null,null,null,null,null,null,null,null,null,{"$f":"IF(1289<=$B$10,IF(LEN('２学期'!KQ25)=0,\"\",IF('２学期'!KQ25=$B$8,IF(LEN('２学期'!KT25)=0,\"\",'２学期'!KT25),\"\")),\"\")","v":""},{"$f":"IF(LEN(O1289)=0,\"\",IF(COUNTIF($O$2:$O$1921,O1289+1)>0,\"\",IF(COUNTIF($O$2:O1289,O1289)>1,\"\",O1289+1)))","v":""},{"$f":"IFERROR(SMALL($P$1:$P$1921,1288),\"\")","v":""}]
[null,null,null,null,null,null,null,null,null,null,null,null,null,null,{"$f":"IF(1290<=$B$10,IF(LEN('２学期'!KU6)=0,\"\",IF('２学期'!KU6=$B$8,IF(LEN('２学期'!KX6)=0,\"\",'２学期'!KX6),\"\")),\"\")","v":""},{"$f":"IF(LEN(O1290)=0,\"\",IF(COUNTIF($O$2:$O$1921,O1290+1)>0,\"\",IF(COUNTIF($O$2:O1290,O1290)>1,\"\",O1290+1)))","v":""},{"$f":"IFERROR(SMALL($P$1:$P$1921,1289),\"\")","v":""}]
[null,null,null,null,null,null,null,null,null,null,null,null,null,null,{"$f":"IF(1291<=$B$10,IF(LEN('２学期'!KU7)=0,\"\",IF('２学期'!KU7=$B$8,IF(LEN('２学期'!KX7)=0,\"\",'２学期'!KX7),\"\")),\"\")","v":""},{"$f":"IF(LEN(O1291)=0,\"\",IF(COUNTIF($O$2:$O$1921,O1291+1)>0,\"\",IF(COUNTIF($O$2:O1291,O1291)>1,\"\",O1291+1)))","v":""},{"$f":"IFERROR(SMALL($P$1:$P$1921,1290),\"\")","v":""}]
[null,null,null,null,null,null,null,null,null,null,null,null,null,null,{"$f":"IF(1292<=$B$10,IF(LEN('２学期'!KU10)=0,\"\",IF('２学期'!KU10=$B$8,IF(LEN('２学期'!KX10)=0,\"\",'２学期'!KX10),\"\")),\"\")","v":""},{"$f":"IF(LEN(O1292)=0,\"\",IF(COUNTIF($O$2:$O$1921,O1292+1)>0,\"\",IF(COUNTIF($O$2:O1292,O1292)>1,\"\",O1292+1)))","v":""},{"$f":"IFERROR(SMALL($P$1:$P$1921,1291),\"\")","v":""}]
[null,null,null,null,null,null,null,null,null,null,null,null,null,null,{"$f":"IF(1293<=$B$10,IF(LEN('２学期'!KU13)=0,\"\",IF('２学期'!KU13=$B$8,IF(LEN('２学期'!KX13)=0,\"\",'２学期'!KX13),\"\")),\"\")","v":""},{"$f":"IF(LEN(O1293)=0,\"\",IF(COUNTIF($O$2:$O$1921,O1293+1)>0,\"\",IF(COUNTIF($O$2:O1293,O1293)>1,\"\",O1293+1)))","v":""},{"$f":"IFERROR(SMALL($P$1:$P$1921,1292),\"\")","v":""}]
[null,null,null,null,null,null,null,null,null,null,null,null,null,null,{"$f":"IF(1294<=$B$10,IF(LEN('２学期'!KU16)=0,\"\",IF('２学期'!KU16=$B$8,IF(LEN('２学期'!KX16)=0,\"\",'２学期'!KX16),\"\")),\"\")","v":""},{"$f":"IF(LEN(O1294)=0,\"\",IF(COUNTIF($O$2:$O$1921,O1294+1)>0,\"\",IF(COUNTIF($O$2:O1294,O1294)>1,\"\",O1294+1)))","v":""},{"$f":"IFERROR(SMALL($P$1:$P$1921,1293),\"\")","v":""}]
[null,null,null,null,null,null,null,null,null,null,null,null,null,null,{"$f":"IF(1295<=$B$10,IF(LEN('２学期'!KU19)=0,\"\",IF('２学期'!KU19=$B$8,IF(LEN('２学期'!KX19)=0,\"\",'２学期'!KX19),\"\")),\"\")","v":""},{"$f":"IF(LEN(O1295)=0,\"\",IF(COUNTIF($O$2:$O$1921,O1295+1)>0,\"\",IF(COUNTIF($O$2:O1295,O1295)>1,\"\",O1295+1)))","v":""},{"$f":"IFERROR(SMALL($P$1:$P$1921,1294),\"\")","v":""}]
[null,null,null,null,null,null,null,null,null,null,null,null,null,null,{"$f":"IF(1296<=$B$10,IF(LEN('２学期'!KU22)=0,\"\",IF('２学期'!KU22=$B$8,IF(LEN('２学期'!KX22)=0,\"\",'２学期'!KX22),\"\")),\"\")","v":""},{"$f":"IF(LEN(O1296)=0,\"\",IF(COUNTIF($O$2:$O$1921,O1296+1)>0,\"\",IF(COUNTIF($O$2:O1296,O1296)>1,\"\",O1296+1)))","v":""},{"$f":"IFERROR(SMALL($P$1:$P$1921,1295),\"\")","v":""}]
[null,null,null,null,null,null,null,null,null,null,null,null,null,null,{"$f":"IF(1297<=$B$10,IF(LEN('２学期'!KU25)=0,\"\",IF('２学期'!KU25=$B$8,IF(LEN('２学期'!KX25)=0,\"\",'２学期'!KX25),\"\")),\"\")","v":""},{"$f":"IF(LEN(O1297)=0,\"\",IF(COUNTIF($O$2:$O$1921,O1297+1)>0,\"\",IF(COUNTIF($O$2:O1297,O1297)>1,\"\",O1297+1)))","v":""},{"$f":"IFERROR(SMALL($P$1:$P$1921,1296),\"\")","v":""}]
[null,null,null,null,null,null,null,null,null,null,null,null,null,null,{"$f":"IF(1298<=$B$10,IF(LEN('２学期'!KY6)=0,\"\",IF('２学期'!KY6=$B$8,IF(LEN('２学期'!LB6)=0,\"\",'２学期'!LB6),\"\")),\"\")","v":""},{"$f":"IF(LEN(O1298)=0,\"\",IF(COUNTIF($O$2:$O$1921,O1298+1)>0,\"\",IF(COUNTIF($O$2:O1298,O1298)>1,\"\",O1298+1)))","v":""},{"$f":"IFERROR(SMALL($P$1:$P$1921,1297),\"\")","v":""}]
[null,null,null,null,null,null,null,null,null,null,null,null,null,null,{"$f":"IF(1299<=$B$10,IF(LEN('２学期'!KY7)=0,\"\",IF('２学期'!KY7=$B$8,IF(LEN('２学期'!LB7)=0,\"\",'２学期'!LB7),\"\")),\"\")","v":""},{"$f":"IF(LEN(O1299)=0,\"\",IF(COUNTIF($O$2:$O$1921,O1299+1)>0,\"\",IF(COUNTIF($O$2:O1299,O1299)>1,\"\",O1299+1)))","v":""},{"$f":"IFERROR(SMALL($P$1:$P$1921,1298),\"\")","v":""}]
[null,null,null,null,null,null,null,null,null,null,null,null,null,null,{"$f":"IF(1300<=$B$10,IF(LEN('２学期'!KY10)=0,\"\",IF('２学期'!KY10=$B$8,IF(LEN('２学期'!LB10)=0,\"\",'２学期'!LB10),\"\")),\"\")","v":""},{"$f":"IF(LEN(O1300)=0,\"\",IF(COUNTIF($O$2:$O$1921,O1300+1)>0,\"\",IF(COUNTIF($O$2:O1300,O1300)>1,\"\",O1300+1)))","v":""},{"$f":"IFERROR(SMALL($P$1:$P$1921,1299),\"\")","v":""}]
[null,null,null,null,null,null,null,null,null,null,null,null,null,null,{"$f":"IF(1301<=$B$10,IF(LEN('２学期'!KY13)=0,\"\",IF('２学期'!KY13=$B$8,IF(LEN('２学期'!LB13)=0,\"\",'２学期'!LB13),\"\")),\"\")","v":""},{"$f":"IF(LEN(O1301)=0,\"\",IF(COUNTIF($O$2:$O$1921,O1301+1)>0,\"\",IF(COUNTIF($O$2:O1301,O1301)>1,\"\",O1301+1)))","v":""},{"$f":"IFERROR(SMALL($P$1:$P$1921,1300),\"\")","v":""}]
[null,null,null,null,null,null,null,null,null,null,null,null,null,null,{"$f":"IF(1302<=$B$10,IF(LEN('２学期'!KY16)=0,\"\",IF('２学期'!KY16=$B$8,IF(LEN('２学期'!LB16)=0,\"\",'２学期'!LB16),\"\")),\"\")","v":""},{"$f":"IF(LEN(O1302)=0,\"\",IF(COUNTIF($O$2:$O$1921,O1302+1)>0,\"\",IF(COUNTIF($O$2:O1302,O1302)>1,\"\",O1302+1)))","v":""},{"$f":"IFERROR(SMALL($P$1:$P$1921,1301),\"\")","v":""}]
[null,null,null,null,null,null,null,null,null,null,null,null,null,null,{"$f":"IF(1303<=$B$10,IF(LEN('２学期'!KY19)=0,\"\",IF('２学期'!KY19=$B$8,IF(LEN('２学期'!LB19)=0,\"\",'２学期'!LB19),\"\")),\"\")","v":""},{"$f":"IF(LEN(O1303)=0,\"\",IF(COUNTIF($O$2:$O$1921,O1303+1)>0,\"\",IF(COUNTIF($O$2:O1303,O1303)>1,\"\",O1303+1)))","v":""},{"$f":"IFERROR(SMALL($P$1:$P$1921,1302),\"\")","v":""}]
[null,null,null,null,null,null,null,null,null,null,null,null,null,null,{"$f":"IF(1304<=$B$10,IF(LEN('２学期'!KY22)=0,\"\",IF('２学期'!KY22=$B$8,IF(LEN('２学期'!LB22)=0,\"\",'２学期'!LB22),\"\")),\"\")","v":""},{"$f":"IF(LEN(O1304)=0,\"\",IF(COUNTIF($O$2:$O$1921,O1304+1)>0,\"\",IF(COUNTIF($O$2:O1304,O1304)>1,\"\",O1304+1)))","v":""},{"$f":"IFERROR(SMALL($P$1:$P$1921,1303),\"\")","v":""}]
[null,null,null,null,null,null,null,null,null,null,null,null,null,null,{"$f":"IF(1305<=$B$10,IF(LEN('２学期'!KY25)=0,\"\",IF('２学期'!KY25=$B$8,IF(LEN('２学期'!LB25)=0,\"\",'２学期'!LB25),\"\")),\"\")","v":""},{"$f":"IF(LEN(O1305)=0,\"\",IF(COUNTIF($O$2:$O$1921,O1305+1)>0,\"\",IF(COUNTIF($O$2:O1305,O1305)>1,\"\",O1305+1)))","v":""},{"$f":"IFERROR(SMALL($P$1:$P$1921,1304),\"\")","v":""}]
[null,null,null,null,null,null,null,null,null,null,null,null,null,null,{"$f":"IF(1306<=$B$10,IF(LEN('２学期'!LC6)=0,\"\",IF('２学期'!LC6=$B$8,IF(LEN('２学期'!LF6)=0,\"\",'２学期'!LF6),\"\")),\"\")","v":""},{"$f":"IF(LEN(O1306)=0,\"\",IF(COUNTIF($O$2:$O$1921,O1306+1)>0,\"\",IF(COUNTIF($O$2:O1306,O1306)>1,\"\",O1306+1)))","v":""},{"$f":"IFERROR(SMALL($P$1:$P$1921,1305),\"\")","v":""}]
[null,null,null,null,null,null,null,null,null,null,null,null,null,null,{"$f":"IF(1307<=$B$10,IF(LEN('２学期'!LC7)=0,\"\",IF('２学期'!LC7=$B$8,IF(LEN('２学期'!LF7)=0,\"\",'２学期'!LF7),\"\")),\"\")","v":""},{"$f":"IF(LEN(O1307)=0,\"\",IF(COUNTIF($O$2:$O$1921,O1307+1)>0,\"\",IF(COUNTIF($O$2:O1307,O1307)>1,\"\",O1307+1)))","v":""},{"$f":"IFERROR(SMALL($P$1:$P$1921,1306),\"\")","v":""}]
[null,null,null,null,null,null,null,null,null,null,null,null,null,null,{"$f":"IF(1308<=$B$10,IF(LEN('２学期'!LC10)=0,\"\",IF('２学期'!LC10=$B$8,IF(LEN('２学期'!LF10)=0,\"\",'２学期'!LF10),\"\")),\"\")","v":""},{"$f":"IF(LEN(O1308)=0,\"\",IF(COUNTIF($O$2:$O$1921,O1308+1)>0,\"\",IF(COUNTIF($O$2:O1308,O1308)>1,\"\",O1308+1)))","v":""},{"$f":"IFERROR(SMALL($P$1:$P$1921,1307),\"\")","v":""}]
[null,null,null,null,null,null,null,null,null,null,null,null,null,null,{"$f":"IF(1309<=$B$10,IF(LEN('２学期'!LC13)=0,\"\",IF('２学期'!LC13=$B$8,IF(LEN('２学期'!LF13)=0,\"\",'２学期'!LF13),\"\")),\"\")","v":""},{"$f":"IF(LEN(O1309)=0,\"\",IF(COUNTIF($O$2:$O$1921,O1309+1)>0,\"\",IF(COUNTIF($O$2:O1309,O1309)>1,\"\",O1309+1)))","v":""},{"$f":"IFERROR(SMALL($P$1:$P$1921,1308),\"\")","v":""}]
[null,null,null,null,null,null,null,null,null,null,null,null,null,null,{"$f":"IF(1310<=$B$10,IF(LEN('２学期'!LC16)=0,\"\",IF('２学期'!LC16=$B$8,IF(LEN('２学期'!LF16)=0,\"\",'２学期'!LF16),\"\")),\"\")","v":""},{"$f":"IF(LEN(O1310)=0,\"\",IF(COUNTIF($O$2:$O$1921,O1310+1)>0,\"\",IF(COUNTIF($O$2:O1310,O1310)>1,\"\",O1310+1)))","v":""},{"$f":"IFERROR(SMALL($P$1:$P$1921,1309),\"\")","v":""}]
[null,null,null,null,null,null,null,null,null,null,null,null,null,null,{"$f":"IF(1311<=$B$10,IF(LEN('２学期'!LC19)=0,\"\",IF('２学期'!LC19=$B$8,IF(LEN('２学期'!LF19)=0,\"\",'２学期'!LF19),\"\")),\"\")","v":""},{"$f":"IF(LEN(O1311)=0,\"\",IF(COUNTIF($O$2:$O$1921,O1311+1)>0,\"\",IF(COUNTIF($O$2:O1311,O1311)>1,\"\",O1311+1)))","v":""},{"$f":"IFERROR(SMALL($P$1:$P$1921,1310),\"\")","v":""}]
[null,null,null,null,null,null,null,null,null,null,null,null,null,null,{"$f":"IF(1312<=$B$10,IF(LEN('２学期'!LC22)=0,\"\",IF('２学期'!LC22=$B$8,IF(LEN('２学期'!LF22)=0,\"\",'２学期'!LF22),\"\")),\"\")","v":""},{"$f":"IF(LEN(O1312)=0,\"\",IF(COUNTIF($O$2:$O$1921,O1312+1)>0,\"\",IF(COUNTIF($O$2:O1312,O1312)>1,\"\",O1312+1)))","v":""},{"$f":"IFERROR(SMALL($P$1:$P$1921,1311),\"\")","v":""}]
[null,null,null,null,null,null,null,null,null,null,null,null,null,null,{"$f":"IF(1313<=$B$10,IF(LEN('２学期'!LC25)=0,\"\",IF('２学期'!LC25=$B$8,IF(LEN('２学期'!LF25)=0,\"\",'２学期'!LF25),\"\")),\"\")","v":""},{"$f":"IF(LEN(O1313)=0,\"\",IF(COUNTIF($O$2:$O$1921,O1313+1)>0,\"\",IF(COUNTIF($O$2:O1313,O1313)>1,\"\",O1313+1)))","v":""},{"$f":"IFERROR(SMALL($P$1:$P$1921,1312),\"\")","v":""}]
[null,null,null,null,null,null,null,null,null,null,null,null,null,null,{"$f":"IF(1314<=$B$10,IF(LEN('２学期'!LG6)=0,\"\",IF('２学期'!LG6=$B$8,IF(LEN('２学期'!LJ6)=0,\"\",'２学期'!LJ6),\"\")),\"\")","v":""},{"$f":"IF(LEN(O1314)=0,\"\",IF(COUNTIF($O$2:$O$1921,O1314+1)>0,\"\",IF(COUNTIF($O$2:O1314,O1314)>1,\"\",O1314+1)))","v":""},{"$f":"IFERROR(SMALL($P$1:$P$1921,1313),\"\")","v":""}]
[null,null,null,null,null,null,null,null,null,null,null,null,null,null,{"$f":"IF(1315<=$B$10,IF(LEN('２学期'!LG7)=0,\"\",IF('２学期'!LG7=$B$8,IF(LEN('２学期'!LJ7)=0,\"\",'２学期'!LJ7),\"\")),\"\")","v":""},{"$f":"IF(LEN(O1315)=0,\"\",IF(COUNTIF($O$2:$O$1921,O1315+1)>0,\"\",IF(COUNTIF($O$2:O1315,O1315)>1,\"\",O1315+1)))","v":""},{"$f":"IFERROR(SMALL($P$1:$P$1921,1314),\"\")","v":""}]
[null,null,null,null,null,null,null,null,null,null,null,null,null,null,{"$f":"IF(1316<=$B$10,IF(LEN('２学期'!LG10)=0,\"\",IF('２学期'!LG10=$B$8,IF(LEN('２学期'!LJ10)=0,\"\",'２学期'!LJ10),\"\")),\"\")","v":""},{"$f":"IF(LEN(O1316)=0,\"\",IF(COUNTIF($O$2:$O$1921,O1316+1)>0,\"\",IF(COUNTIF($O$2:O1316,O1316)>1,\"\",O1316+1)))","v":""},{"$f":"IFERROR(SMALL($P$1:$P$1921,1315),\"\")","v":""}]
[null,null,null,null,null,null,null,null,null,null,null,null,null,null,{"$f":"IF(1317<=$B$10,IF(LEN('２学期'!LG13)=0,\"\",IF('２学期'!LG13=$B$8,IF(LEN('２学期'!LJ13)=0,\"\",'２学期'!LJ13),\"\")),\"\")","v":""},{"$f":"IF(LEN(O1317)=0,\"\",IF(COUNTIF($O$2:$O$1921,O1317+1)>0,\"\",IF(COUNTIF($O$2:O1317,O1317)>1,\"\",O1317+1)))","v":""},{"$f":"IFERROR(SMALL($P$1:$P$1921,1316),\"\")","v":""}]
[null,null,null,null,null,null,null,null,null,null,null,null,null,null,{"$f":"IF(1318<=$B$10,IF(LEN('２学期'!LG16)=0,\"\",IF('２学期'!LG16=$B$8,IF(LEN('２学期'!LJ16)=0,\"\",'２学期'!LJ16),\"\")),\"\")","v":""},{"$f":"IF(LEN(O1318)=0,\"\",IF(COUNTIF($O$2:$O$1921,O1318+1)>0,\"\",IF(COUNTIF($O$2:O1318,O1318)>1,\"\",O1318+1)))","v":""},{"$f":"IFERROR(SMALL($P$1:$P$1921,1317),\"\")","v":""}]
[null,null,null,null,null,null,null,null,null,null,null,null,null,null,{"$f":"IF(1319<=$B$10,IF(LEN('２学期'!LG19)=0,\"\",IF('２学期'!LG19=$B$8,IF(LEN('２学期'!LJ19)=0,\"\",'２学期'!LJ19),\"\")),\"\")","v":""},{"$f":"IF(LEN(O1319)=0,\"\",IF(COUNTIF($O$2:$O$1921,O1319+1)>0,\"\",IF(COUNTIF($O$2:O1319,O1319)>1,\"\",O1319+1)))","v":""},{"$f":"IFERROR(SMALL($P$1:$P$1921,1318),\"\")","v":""}]
[null,null,null,null,null,null,null,null,null,null,null,null,null,null,{"$f":"IF(1320<=$B$10,IF(LEN('２学期'!LG22)=0,\"\",IF('２学期'!LG22=$B$8,IF(LEN('２学期'!LJ22)=0,\"\",'２学期'!LJ22),\"\")),\"\")","v":""},{"$f":"IF(LEN(O1320)=0,\"\",IF(COUNTIF($O$2:$O$1921,O1320+1)>0,\"\",IF(COUNTIF($O$2:O1320,O1320)>1,\"\",O1320+1)))","v":""},{"$f":"IFERROR(SMALL($P$1:$P$1921,1319),\"\")","v":""}]
[null,null,null,null,null,null,null,null,null,null,null,null,null,null,{"$f":"IF(1321<=$B$10,IF(LEN('２学期'!LG25)=0,\"\",IF('２学期'!LG25=$B$8,IF(LEN('２学期'!LJ25)=0,\"\",'２学期'!LJ25),\"\")),\"\")","v":""},{"$f":"IF(LEN(O1321)=0,\"\",IF(COUNTIF($O$2:$O$1921,O1321+1)>0,\"\",IF(COUNTIF($O$2:O1321,O1321)>1,\"\",O1321+1)))","v":""},{"$f":"IFERROR(SMALL($P$1:$P$1921,1320),\"\")","v":""}]
[null,null,null,null,null,null,null,null,null,null,null,null,null,null,{"$f":"IF(1322<=$B$10,IF(LEN('２学期'!LK6)=0,\"\",IF('２学期'!LK6=$B$8,IF(LEN('２学期'!LN6)=0,\"\",'２学期'!LN6),\"\")),\"\")","v":""},{"$f":"IF(LEN(O1322)=0,\"\",IF(COUNTIF($O$2:$O$1921,O1322+1)>0,\"\",IF(COUNTIF($O$2:O1322,O1322)>1,\"\",O1322+1)))","v":""},{"$f":"IFERROR(SMALL($P$1:$P$1921,1321),\"\")","v":""}]
[null,null,null,null,null,null,null,null,null,null,null,null,null,null,{"$f":"IF(1323<=$B$10,IF(LEN('２学期'!LK7)=0,\"\",IF('２学期'!LK7=$B$8,IF(LEN('２学期'!LN7)=0,\"\",'２学期'!LN7),\"\")),\"\")","v":""},{"$f":"IF(LEN(O1323)=0,\"\",IF(COUNTIF($O$2:$O$1921,O1323+1)>0,\"\",IF(COUNTIF($O$2:O1323,O1323)>1,\"\",O1323+1)))","v":""},{"$f":"IFERROR(SMALL($P$1:$P$1921,1322),\"\")","v":""}]
[null,null,null,null,null,null,null,null,null,null,null,null,null,null,{"$f":"IF(1324<=$B$10,IF(LEN('２学期'!LK10)=0,\"\",IF('２学期'!LK10=$B$8,IF(LEN('２学期'!LN10)=0,\"\",'２学期'!LN10),\"\")),\"\")","v":""},{"$f":"IF(LEN(O1324)=0,\"\",IF(COUNTIF($O$2:$O$1921,O1324+1)>0,\"\",IF(COUNTIF($O$2:O1324,O1324)>1,\"\",O1324+1)))","v":""},{"$f":"IFERROR(SMALL($P$1:$P$1921,1323),\"\")","v":""}]
[null,null,null,null,null,null,null,null,null,null,null,null,null,null,{"$f":"IF(1325<=$B$10,IF(LEN('２学期'!LK13)=0,\"\",IF('２学期'!LK13=$B$8,IF(LEN('２学期'!LN13)=0,\"\",'２学期'!LN13),\"\")),\"\")","v":""},{"$f":"IF(LEN(O1325)=0,\"\",IF(COUNTIF($O$2:$O$1921,O1325+1)>0,\"\",IF(COUNTIF($O$2:O1325,O1325)>1,\"\",O1325+1)))","v":""},{"$f":"IFERROR(SMALL($P$1:$P$1921,1324),\"\")","v":""}]
[null,null,null,null,null,null,null,null,null,null,null,null,null,null,{"$f":"IF(1326<=$B$10,IF(LEN('２学期'!LK16)=0,\"\",IF('２学期'!LK16=$B$8,IF(LEN('２学期'!LN16)=0,\"\",'２学期'!LN16),\"\")),\"\")","v":""},{"$f":"IF(LEN(O1326)=0,\"\",IF(COUNTIF($O$2:$O$1921,O1326+1)>0,\"\",IF(COUNTIF($O$2:O1326,O1326)>1,\"\",O1326+1)))","v":""},{"$f":"IFERROR(SMALL($P$1:$P$1921,1325),\"\")","v":""}]
[null,null,null,null,null,null,null,null,null,null,null,null,null,null,{"$f":"IF(1327<=$B$10,IF(LEN('２学期'!LK19)=0,\"\",IF('２学期'!LK19=$B$8,IF(LEN('２学期'!LN19)=0,\"\",'２学期'!LN19),\"\")),\"\")","v":""},{"$f":"IF(LEN(O1327)=0,\"\",IF(COUNTIF($O$2:$O$1921,O1327+1)>0,\"\",IF(COUNTIF($O$2:O1327,O1327)>1,\"\",O1327+1)))","v":""},{"$f":"IFERROR(SMALL($P$1:$P$1921,1326),\"\")","v":""}]
[null,null,null,null,null,null,null,null,null,null,null,null,null,null,{"$f":"IF(1328<=$B$10,IF(LEN('２学期'!LK22)=0,\"\",IF('２学期'!LK22=$B$8,IF(LEN('２学期'!LN22)=0,\"\",'２学期'!LN22),\"\")),\"\")","v":""},{"$f":"IF(LEN(O1328)=0,\"\",IF(COUNTIF($O$2:$O$1921,O1328+1)>0,\"\",IF(COUNTIF($O$2:O1328,O1328)>1,\"\",O1328+1)))","v":""},{"$f":"IFERROR(SMALL($P$1:$P$1921,1327),\"\")","v":""}]
[null,null,null,null,null,null,null,null,null,null,null,null,null,null,{"$f":"IF(1329<=$B$10,IF(LEN('２学期'!LK25)=0,\"\",IF('２学期'!LK25=$B$8,IF(LEN('２学期'!LN25)=0,\"\",'２学期'!LN25),\"\")),\"\")","v":""},{"$f":"IF(LEN(O1329)=0,\"\",IF(COUNTIF($O$2:$O$1921,O1329+1)>0,\"\",IF(COUNTIF($O$2:O1329,O1329)>1,\"\",O1329+1)))","v":""},{"$f":"IFERROR(SMALL($P$1:$P$1921,1328),\"\")","v":""}]
[null,null,null,null,null,null,null,null,null,null,null,null,null,null,{"$f":"IF(1330<=$B$10,IF(LEN('２学期'!LO6)=0,\"\",IF('２学期'!LO6=$B$8,IF(LEN('２学期'!LR6)=0,\"\",'２学期'!LR6),\"\")),\"\")","v":""},{"$f":"IF(LEN(O1330)=0,\"\",IF(COUNTIF($O$2:$O$1921,O1330+1)>0,\"\",IF(COUNTIF($O$2:O1330,O1330)>1,\"\",O1330+1)))","v":""},{"$f":"IFERROR(SMALL($P$1:$P$1921,1329),\"\")","v":""}]
[null,null,null,null,null,null,null,null,null,null,null,null,null,null,{"$f":"IF(1331<=$B$10,IF(LEN('２学期'!LO7)=0,\"\",IF('２学期'!LO7=$B$8,IF(LEN('２学期'!LR7)=0,\"\",'２学期'!LR7),\"\")),\"\")","v":""},{"$f":"IF(LEN(O1331)=0,\"\",IF(COUNTIF($O$2:$O$1921,O1331+1)>0,\"\",IF(COUNTIF($O$2:O1331,O1331)>1,\"\",O1331+1)))","v":""},{"$f":"IFERROR(SMALL($P$1:$P$1921,1330),\"\")","v":""}]
[null,null,null,null,null,null,null,null,null,null,null,null,null,null,{"$f":"IF(1332<=$B$10,IF(LEN('２学期'!LO10)=0,\"\",IF('２学期'!LO10=$B$8,IF(LEN('２学期'!LR10)=0,\"\",'２学期'!LR10),\"\")),\"\")","v":""},{"$f":"IF(LEN(O1332)=0,\"\",IF(COUNTIF($O$2:$O$1921,O1332+1)>0,\"\",IF(COUNTIF($O$2:O1332,O1332)>1,\"\",O1332+1)))","v":""},{"$f":"IFERROR(SMALL($P$1:$P$1921,1331),\"\")","v":""}]
[null,null,null,null,null,null,null,null,null,null,null,null,null,null,{"$f":"IF(1333<=$B$10,IF(LEN('２学期'!LO13)=0,\"\",IF('２学期'!LO13=$B$8,IF(LEN('２学期'!LR13)=0,\"\",'２学期'!LR13),\"\")),\"\")","v":""},{"$f":"IF(LEN(O1333)=0,\"\",IF(COUNTIF($O$2:$O$1921,O1333+1)>0,\"\",IF(COUNTIF($O$2:O1333,O1333)>1,\"\",O1333+1)))","v":""},{"$f":"IFERROR(SMALL($P$1:$P$1921,1332),\"\")","v":""}]
[null,null,null,null,null,null,null,null,null,null,null,null,null,null,{"$f":"IF(1334<=$B$10,IF(LEN('２学期'!LO16)=0,\"\",IF('２学期'!LO16=$B$8,IF(LEN('２学期'!LR16)=0,\"\",'２学期'!LR16),\"\")),\"\")","v":""},{"$f":"IF(LEN(O1334)=0,\"\",IF(COUNTIF($O$2:$O$1921,O1334+1)>0,\"\",IF(COUNTIF($O$2:O1334,O1334)>1,\"\",O1334+1)))","v":""},{"$f":"IFERROR(SMALL($P$1:$P$1921,1333),\"\")","v":""}]
[null,null,null,null,null,null,null,null,null,null,null,null,null,null,{"$f":"IF(1335<=$B$10,IF(LEN('２学期'!LO19)=0,\"\",IF('２学期'!LO19=$B$8,IF(LEN('２学期'!LR19)=0,\"\",'２学期'!LR19),\"\")),\"\")","v":""},{"$f":"IF(LEN(O1335)=0,\"\",IF(COUNTIF($O$2:$O$1921,O1335+1)>0,\"\",IF(COUNTIF($O$2:O1335,O1335)>1,\"\",O1335+1)))","v":""},{"$f":"IFERROR(SMALL($P$1:$P$1921,1334),\"\")","v":""}]
[null,null,null,null,null,null,null,null,null,null,null,null,null,null,{"$f":"IF(1336<=$B$10,IF(LEN('２学期'!LO22)=0,\"\",IF('２学期'!LO22=$B$8,IF(LEN('２学期'!LR22)=0,\"\",'２学期'!LR22),\"\")),\"\")","v":""},{"$f":"IF(LEN(O1336)=0,\"\",IF(COUNTIF($O$2:$O$1921,O1336+1)>0,\"\",IF(COUNTIF($O$2:O1336,O1336)>1,\"\",O1336+1)))","v":""},{"$f":"IFERROR(SMALL($P$1:$P$1921,1335),\"\")","v":""}]
[null,null,null,null,null,null,null,null,null,null,null,null,null,null,{"$f":"IF(1337<=$B$10,IF(LEN('２学期'!LO25)=0,\"\",IF('２学期'!LO25=$B$8,IF(LEN('２学期'!LR25)=0,\"\",'２学期'!LR25),\"\")),\"\")","v":""},{"$f":"IF(LEN(O1337)=0,\"\",IF(COUNTIF($O$2:$O$1921,O1337+1)>0,\"\",IF(COUNTIF($O$2:O1337,O1337)>1,\"\",O1337+1)))","v":""},{"$f":"IFERROR(SMALL($P$1:$P$1921,1336),\"\")","v":""}]
[null,null,null,null,null,null,null,null,null,null,null,null,null,null,{"$f":"IF(1338<=$B$10,IF(LEN('２学期'!LS6)=0,\"\",IF('２学期'!LS6=$B$8,IF(LEN('２学期'!LV6)=0,\"\",'２学期'!LV6),\"\")),\"\")","v":""},{"$f":"IF(LEN(O1338)=0,\"\",IF(COUNTIF($O$2:$O$1921,O1338+1)>0,\"\",IF(COUNTIF($O$2:O1338,O1338)>1,\"\",O1338+1)))","v":""},{"$f":"IFERROR(SMALL($P$1:$P$1921,1337),\"\")","v":""}]
[null,null,null,null,null,null,null,null,null,null,null,null,null,null,{"$f":"IF(1339<=$B$10,IF(LEN('２学期'!LS7)=0,\"\",IF('２学期'!LS7=$B$8,IF(LEN('２学期'!LV7)=0,\"\",'２学期'!LV7),\"\")),\"\")","v":""},{"$f":"IF(LEN(O1339)=0,\"\",IF(COUNTIF($O$2:$O$1921,O1339+1)>0,\"\",IF(COUNTIF($O$2:O1339,O1339)>1,\"\",O1339+1)))","v":""},{"$f":"IFERROR(SMALL($P$1:$P$1921,1338),\"\")","v":""}]
[null,null,null,null,null,null,null,null,null,null,null,null,null,null,{"$f":"IF(1340<=$B$10,IF(LEN('２学期'!LS10)=0,\"\",IF('２学期'!LS10=$B$8,IF(LEN('２学期'!LV10)=0,\"\",'２学期'!LV10),\"\")),\"\")","v":""},{"$f":"IF(LEN(O1340)=0,\"\",IF(COUNTIF($O$2:$O$1921,O1340+1)>0,\"\",IF(COUNTIF($O$2:O1340,O1340)>1,\"\",O1340+1)))","v":""},{"$f":"IFERROR(SMALL($P$1:$P$1921,1339),\"\")","v":""}]
[null,null,null,null,null,null,null,null,null,null,null,null,null,null,{"$f":"IF(1341<=$B$10,IF(LEN('２学期'!LS13)=0,\"\",IF('２学期'!LS13=$B$8,IF(LEN('２学期'!LV13)=0,\"\",'２学期'!LV13),\"\")),\"\")","v":""},{"$f":"IF(LEN(O1341)=0,\"\",IF(COUNTIF($O$2:$O$1921,O1341+1)>0,\"\",IF(COUNTIF($O$2:O1341,O1341)>1,\"\",O1341+1)))","v":""},{"$f":"IFERROR(SMALL($P$1:$P$1921,1340),\"\")","v":""}]
[null,null,null,null,null,null,null,null,null,null,null,null,null,null,{"$f":"IF(1342<=$B$10,IF(LEN('２学期'!LS16)=0,\"\",IF('２学期'!LS16=$B$8,IF(LEN('２学期'!LV16)=0,\"\",'２学期'!LV16),\"\")),\"\")","v":""},{"$f":"IF(LEN(O1342)=0,\"\",IF(COUNTIF($O$2:$O$1921,O1342+1)>0,\"\",IF(COUNTIF($O$2:O1342,O1342)>1,\"\",O1342+1)))","v":""},{"$f":"IFERROR(SMALL($P$1:$P$1921,1341),\"\")","v":""}]
[null,null,null,null,null,null,null,null,null,null,null,null,null,null,{"$f":"IF(1343<=$B$10,IF(LEN('２学期'!LS19)=0,\"\",IF('２学期'!LS19=$B$8,IF(LEN('２学期'!LV19)=0,\"\",'２学期'!LV19),\"\")),\"\")","v":""},{"$f":"IF(LEN(O1343)=0,\"\",IF(COUNTIF($O$2:$O$1921,O1343+1)>0,\"\",IF(COUNTIF($O$2:O1343,O1343)>1,\"\",O1343+1)))","v":""},{"$f":"IFERROR(SMALL($P$1:$P$1921,1342),\"\")","v":""}]
[null,null,null,null,null,null,null,null,null,null,null,null,null,null,{"$f":"IF(1344<=$B$10,IF(LEN('２学期'!LS22)=0,\"\",IF('２学期'!LS22=$B$8,IF(LEN('２学期'!LV22)=0,\"\",'２学期'!LV22),\"\")),\"\")","v":""},{"$f":"IF(LEN(O1344)=0,\"\",IF(COUNTIF($O$2:$O$1921,O1344+1)>0,\"\",IF(COUNTIF($O$2:O1344,O1344)>1,\"\",O1344+1)))","v":""},{"$f":"IFERROR(SMALL($P$1:$P$1921,1343),\"\")","v":""}]
[null,null,null,null,null,null,null,null,null,null,null,null,null,null,{"$f":"IF(1345<=$B$10,IF(LEN('２学期'!LS25)=0,\"\",IF('２学期'!LS25=$B$8,IF(LEN('２学期'!LV25)=0,\"\",'２学期'!LV25),\"\")),\"\")","v":""},{"$f":"IF(LEN(O1345)=0,\"\",IF(COUNTIF($O$2:$O$1921,O1345+1)>0,\"\",IF(COUNTIF($O$2:O1345,O1345)>1,\"\",O1345+1)))","v":""},{"$f":"IFERROR(SMALL($P$1:$P$1921,1344),\"\")","v":""}]
[null,null,null,null,null,null,null,null,null,null,null,null,null,null,{"$f":"IF(1346<=$B$10,IF(LEN('２学期'!LW6)=0,\"\",IF('２学期'!LW6=$B$8,IF(LEN('２学期'!LZ6)=0,\"\",'２学期'!LZ6),\"\")),\"\")","v":""},{"$f":"IF(LEN(O1346)=0,\"\",IF(COUNTIF($O$2:$O$1921,O1346+1)>0,\"\",IF(COUNTIF($O$2:O1346,O1346)>1,\"\",O1346+1)))","v":""},{"$f":"IFERROR(SMALL($P$1:$P$1921,1345),\"\")","v":""}]
[null,null,null,null,null,null,null,null,null,null,null,null,null,null,{"$f":"IF(1347<=$B$10,IF(LEN('２学期'!LW7)=0,\"\",IF('２学期'!LW7=$B$8,IF(LEN('２学期'!LZ7)=0,\"\",'２学期'!LZ7),\"\")),\"\")","v":""},{"$f":"IF(LEN(O1347)=0,\"\",IF(COUNTIF($O$2:$O$1921,O1347+1)>0,\"\",IF(COUNTIF($O$2:O1347,O1347)>1,\"\",O1347+1)))","v":""},{"$f":"IFERROR(SMALL($P$1:$P$1921,1346),\"\")","v":""}]
[null,null,null,null,null,null,null,null,null,null,null,null,null,null,{"$f":"IF(1348<=$B$10,IF(LEN('２学期'!LW10)=0,\"\",IF('２学期'!LW10=$B$8,IF(LEN('２学期'!LZ10)=0,\"\",'２学期'!LZ10),\"\")),\"\")","v":""},{"$f":"IF(LEN(O1348)=0,\"\",IF(COUNTIF($O$2:$O$1921,O1348+1)>0,\"\",IF(COUNTIF($O$2:O1348,O1348)>1,\"\",O1348+1)))","v":""},{"$f":"IFERROR(SMALL($P$1:$P$1921,1347),\"\")","v":""}]
[null,null,null,null,null,null,null,null,null,null,null,null,null,null,{"$f":"IF(1349<=$B$10,IF(LEN('２学期'!LW13)=0,\"\",IF('２学期'!LW13=$B$8,IF(LEN('２学期'!LZ13)=0,\"\",'２学期'!LZ13),\"\")),\"\")","v":""},{"$f":"IF(LEN(O1349)=0,\"\",IF(COUNTIF($O$2:$O$1921,O1349+1)>0,\"\",IF(COUNTIF($O$2:O1349,O1349)>1,\"\",O1349+1)))","v":""},{"$f":"IFERROR(SMALL($P$1:$P$1921,1348),\"\")","v":""}]
[null,null,null,null,null,null,null,null,null,null,null,null,null,null,{"$f":"IF(1350<=$B$10,IF(LEN('２学期'!LW16)=0,\"\",IF('２学期'!LW16=$B$8,IF(LEN('２学期'!LZ16)=0,\"\",'２学期'!LZ16),\"\")),\"\")","v":""},{"$f":"IF(LEN(O1350)=0,\"\",IF(COUNTIF($O$2:$O$1921,O1350+1)>0,\"\",IF(COUNTIF($O$2:O1350,O1350)>1,\"\",O1350+1)))","v":""},{"$f":"IFERROR(SMALL($P$1:$P$1921,1349),\"\")","v":""}]
[null,null,null,null,null,null,null,null,null,null,null,null,null,null,{"$f":"IF(1351<=$B$10,IF(LEN('２学期'!LW19)=0,\"\",IF('２学期'!LW19=$B$8,IF(LEN('２学期'!LZ19)=0,\"\",'２学期'!LZ19),\"\")),\"\")","v":""},{"$f":"IF(LEN(O1351)=0,\"\",IF(COUNTIF($O$2:$O$1921,O1351+1)>0,\"\",IF(COUNTIF($O$2:O1351,O1351)>1,\"\",O1351+1)))","v":""},{"$f":"IFERROR(SMALL($P$1:$P$1921,1350),\"\")","v":""}]
[null,null,null,null,null,null,null,null,null,null,null,null,null,null,{"$f":"IF(1352<=$B$10,IF(LEN('２学期'!LW22)=0,\"\",IF('２学期'!LW22=$B$8,IF(LEN('２学期'!LZ22)=0,\"\",'２学期'!LZ22),\"\")),\"\")","v":""},{"$f":"IF(LEN(O1352)=0,\"\",IF(COUNTIF($O$2:$O$1921,O1352+1)>0,\"\",IF(COUNTIF($O$2:O1352,O1352)>1,\"\",O1352+1)))","v":""},{"$f":"IFERROR(SMALL($P$1:$P$1921,1351),\"\")","v":""}]
[null,null,null,null,null,null,null,null,null,null,null,null,null,null,{"$f":"IF(1353<=$B$10,IF(LEN('２学期'!LW25)=0,\"\",IF('２学期'!LW25=$B$8,IF(LEN('２学期'!LZ25)=0,\"\",'２学期'!LZ25),\"\")),\"\")","v":""},{"$f":"IF(LEN(O1353)=0,\"\",IF(COUNTIF($O$2:$O$1921,O1353+1)>0,\"\",IF(COUNTIF($O$2:O1353,O1353)>1,\"\",O1353+1)))","v":""},{"$f":"IFERROR(SMALL($P$1:$P$1921,1352),\"\")","v":""}]
[null,null,null,null,null,null,null,null,null,null,null,null,null,null,{"$f":"IF(1354<=$B$10,IF(LEN('２学期'!MA6)=0,\"\",IF('２学期'!MA6=$B$8,IF(LEN('２学期'!MD6)=0,\"\",'２学期'!MD6),\"\")),\"\")","v":""},{"$f":"IF(LEN(O1354)=0,\"\",IF(COUNTIF($O$2:$O$1921,O1354+1)>0,\"\",IF(COUNTIF($O$2:O1354,O1354)>1,\"\",O1354+1)))","v":""},{"$f":"IFERROR(SMALL($P$1:$P$1921,1353),\"\")","v":""}]
[null,null,null,null,null,null,null,null,null,null,null,null,null,null,{"$f":"IF(1355<=$B$10,IF(LEN('２学期'!MA7)=0,\"\",IF('２学期'!MA7=$B$8,IF(LEN('２学期'!MD7)=0,\"\",'２学期'!MD7),\"\")),\"\")","v":""},{"$f":"IF(LEN(O1355)=0,\"\",IF(COUNTIF($O$2:$O$1921,O1355+1)>0,\"\",IF(COUNTIF($O$2:O1355,O1355)>1,\"\",O1355+1)))","v":""},{"$f":"IFERROR(SMALL($P$1:$P$1921,1354),\"\")","v":""}]
[null,null,null,null,null,null,null,null,null,null,null,null,null,null,{"$f":"IF(1356<=$B$10,IF(LEN('２学期'!MA10)=0,\"\",IF('２学期'!MA10=$B$8,IF(LEN('２学期'!MD10)=0,\"\",'２学期'!MD10),\"\")),\"\")","v":""},{"$f":"IF(LEN(O1356)=0,\"\",IF(COUNTIF($O$2:$O$1921,O1356+1)>0,\"\",IF(COUNTIF($O$2:O1356,O1356)>1,\"\",O1356+1)))","v":""},{"$f":"IFERROR(SMALL($P$1:$P$1921,1355),\"\")","v":""}]
[null,null,null,null,null,null,null,null,null,null,null,null,null,null,{"$f":"IF(1357<=$B$10,IF(LEN('２学期'!MA13)=0,\"\",IF('２学期'!MA13=$B$8,IF(LEN('２学期'!MD13)=0,\"\",'２学期'!MD13),\"\")),\"\")","v":""},{"$f":"IF(LEN(O1357)=0,\"\",IF(COUNTIF($O$2:$O$1921,O1357+1)>0,\"\",IF(COUNTIF($O$2:O1357,O1357)>1,\"\",O1357+1)))","v":""},{"$f":"IFERROR(SMALL($P$1:$P$1921,1356),\"\")","v":""}]
[null,null,null,null,null,null,null,null,null,null,null,null,null,null,{"$f":"IF(1358<=$B$10,IF(LEN('２学期'!MA16)=0,\"\",IF('２学期'!MA16=$B$8,IF(LEN('２学期'!MD16)=0,\"\",'２学期'!MD16),\"\")),\"\")","v":""},{"$f":"IF(LEN(O1358)=0,\"\",IF(COUNTIF($O$2:$O$1921,O1358+1)>0,\"\",IF(COUNTIF($O$2:O1358,O1358)>1,\"\",O1358+1)))","v":""},{"$f":"IFERROR(SMALL($P$1:$P$1921,1357),\"\")","v":""}]
[null,null,null,null,null,null,null,null,null,null,null,null,null,null,{"$f":"IF(1359<=$B$10,IF(LEN('２学期'!MA19)=0,\"\",IF('２学期'!MA19=$B$8,IF(LEN('２学期'!MD19)=0,\"\",'２学期'!MD19),\"\")),\"\")","v":""},{"$f":"IF(LEN(O1359)=0,\"\",IF(COUNTIF($O$2:$O$1921,O1359+1)>0,\"\",IF(COUNTIF($O$2:O1359,O1359)>1,\"\",O1359+1)))","v":""},{"$f":"IFERROR(SMALL($P$1:$P$1921,1358),\"\")","v":""}]
[null,null,null,null,null,null,null,null,null,null,null,null,null,null,{"$f":"IF(1360<=$B$10,IF(LEN('２学期'!MA22)=0,\"\",IF('２学期'!MA22=$B$8,IF(LEN('２学期'!MD22)=0,\"\",'２学期'!MD22),\"\")),\"\")","v":""},{"$f":"IF(LEN(O1360)=0,\"\",IF(COUNTIF($O$2:$O$1921,O1360+1)>0,\"\",IF(COUNTIF($O$2:O1360,O1360)>1,\"\",O1360+1)))","v":""},{"$f":"IFERROR(SMALL($P$1:$P$1921,1359),\"\")","v":""}]
[null,null,null,null,null,null,null,null,null,null,null,null,null,null,{"$f":"IF(1361<=$B$10,IF(LEN('２学期'!MA25)=0,\"\",IF('２学期'!MA25=$B$8,IF(LEN('２学期'!MD25)=0,\"\",'２学期'!MD25),\"\")),\"\")","v":""},{"$f":"IF(LEN(O1361)=0,\"\",IF(COUNTIF($O$2:$O$1921,O1361+1)>0,\"\",IF(COUNTIF($O$2:O1361,O1361)>1,\"\",O1361+1)))","v":""},{"$f":"IFERROR(SMALL($P$1:$P$1921,1360),\"\")","v":""}]
[null,null,null,null,null,null,null,null,null,null,null,null,null,null,{"$f":"IF(1362<=$B$10,IF(LEN('２学期'!ME6)=0,\"\",IF('２学期'!ME6=$B$8,IF(LEN('２学期'!MH6)=0,\"\",'２学期'!MH6),\"\")),\"\")","v":""},{"$f":"IF(LEN(O1362)=0,\"\",IF(COUNTIF($O$2:$O$1921,O1362+1)>0,\"\",IF(COUNTIF($O$2:O1362,O1362)>1,\"\",O1362+1)))","v":""},{"$f":"IFERROR(SMALL($P$1:$P$1921,1361),\"\")","v":""}]
[null,null,null,null,null,null,null,null,null,null,null,null,null,null,{"$f":"IF(1363<=$B$10,IF(LEN('２学期'!ME7)=0,\"\",IF('２学期'!ME7=$B$8,IF(LEN('２学期'!MH7)=0,\"\",'２学期'!MH7),\"\")),\"\")","v":""},{"$f":"IF(LEN(O1363)=0,\"\",IF(COUNTIF($O$2:$O$1921,O1363+1)>0,\"\",IF(COUNTIF($O$2:O1363,O1363)>1,\"\",O1363+1)))","v":""},{"$f":"IFERROR(SMALL($P$1:$P$1921,1362),\"\")","v":""}]
[null,null,null,null,null,null,null,null,null,null,null,null,null,null,{"$f":"IF(1364<=$B$10,IF(LEN('２学期'!ME10)=0,\"\",IF('２学期'!ME10=$B$8,IF(LEN('２学期'!MH10)=0,\"\",'２学期'!MH10),\"\")),\"\")","v":""},{"$f":"IF(LEN(O1364)=0,\"\",IF(COUNTIF($O$2:$O$1921,O1364+1)>0,\"\",IF(COUNTIF($O$2:O1364,O1364)>1,\"\",O1364+1)))","v":""},{"$f":"IFERROR(SMALL($P$1:$P$1921,1363),\"\")","v":""}]
[null,null,null,null,null,null,null,null,null,null,null,null,null,null,{"$f":"IF(1365<=$B$10,IF(LEN('２学期'!ME13)=0,\"\",IF('２学期'!ME13=$B$8,IF(LEN('２学期'!MH13)=0,\"\",'２学期'!MH13),\"\")),\"\")","v":""},{"$f":"IF(LEN(O1365)=0,\"\",IF(COUNTIF($O$2:$O$1921,O1365+1)>0,\"\",IF(COUNTIF($O$2:O1365,O1365)>1,\"\",O1365+1)))","v":""},{"$f":"IFERROR(SMALL($P$1:$P$1921,1364),\"\")","v":""}]
[null,null,null,null,null,null,null,null,null,null,null,null,null,null,{"$f":"IF(1366<=$B$10,IF(LEN('２学期'!ME16)=0,\"\",IF('２学期'!ME16=$B$8,IF(LEN('２学期'!MH16)=0,\"\",'２学期'!MH16),\"\")),\"\")","v":""},{"$f":"IF(LEN(O1366)=0,\"\",IF(COUNTIF($O$2:$O$1921,O1366+1)>0,\"\",IF(COUNTIF($O$2:O1366,O1366)>1,\"\",O1366+1)))","v":""},{"$f":"IFERROR(SMALL($P$1:$P$1921,1365),\"\")","v":""}]
[null,null,null,null,null,null,null,null,null,null,null,null,null,null,{"$f":"IF(1367<=$B$10,IF(LEN('２学期'!ME19)=0,\"\",IF('２学期'!ME19=$B$8,IF(LEN('２学期'!MH19)=0,\"\",'２学期'!MH19),\"\")),\"\")","v":""},{"$f":"IF(LEN(O1367)=0,\"\",IF(COUNTIF($O$2:$O$1921,O1367+1)>0,\"\",IF(COUNTIF($O$2:O1367,O1367)>1,\"\",O1367+1)))","v":""},{"$f":"IFERROR(SMALL($P$1:$P$1921,1366),\"\")","v":""}]
[null,null,null,null,null,null,null,null,null,null,null,null,null,null,{"$f":"IF(1368<=$B$10,IF(LEN('２学期'!ME22)=0,\"\",IF('２学期'!ME22=$B$8,IF(LEN('２学期'!MH22)=0,\"\",'２学期'!MH22),\"\")),\"\")","v":""},{"$f":"IF(LEN(O1368)=0,\"\",IF(COUNTIF($O$2:$O$1921,O1368+1)>0,\"\",IF(COUNTIF($O$2:O1368,O1368)>1,\"\",O1368+1)))","v":""},{"$f":"IFERROR(SMALL($P$1:$P$1921,1367),\"\")","v":""}]
[null,null,null,null,null,null,null,null,null,null,null,null,null,null,{"$f":"IF(1369<=$B$10,IF(LEN('２学期'!ME25)=0,\"\",IF('２学期'!ME25=$B$8,IF(LEN('２学期'!MH25)=0,\"\",'２学期'!MH25),\"\")),\"\")","v":""},{"$f":"IF(LEN(O1369)=0,\"\",IF(COUNTIF($O$2:$O$1921,O1369+1)>0,\"\",IF(COUNTIF($O$2:O1369,O1369)>1,\"\",O1369+1)))","v":""},{"$f":"IFERROR(SMALL($P$1:$P$1921,1368),\"\")","v":""}]
[null,null,null,null,null,null,null,null,null,null,null,null,null,null,{"$f":"IF(1370<=$B$10,IF(LEN('２学期'!MI6)=0,\"\",IF('２学期'!MI6=$B$8,IF(LEN('２学期'!ML6)=0,\"\",'２学期'!ML6),\"\")),\"\")","v":""},{"$f":"IF(LEN(O1370)=0,\"\",IF(COUNTIF($O$2:$O$1921,O1370+1)>0,\"\",IF(COUNTIF($O$2:O1370,O1370)>1,\"\",O1370+1)))","v":""},{"$f":"IFERROR(SMALL($P$1:$P$1921,1369),\"\")","v":""}]
[null,null,null,null,null,null,null,null,null,null,null,null,null,null,{"$f":"IF(1371<=$B$10,IF(LEN('２学期'!MI7)=0,\"\",IF('２学期'!MI7=$B$8,IF(LEN('２学期'!ML7)=0,\"\",'２学期'!ML7),\"\")),\"\")","v":""},{"$f":"IF(LEN(O1371)=0,\"\",IF(COUNTIF($O$2:$O$1921,O1371+1)>0,\"\",IF(COUNTIF($O$2:O1371,O1371)>1,\"\",O1371+1)))","v":""},{"$f":"IFERROR(SMALL($P$1:$P$1921,1370),\"\")","v":""}]
[null,null,null,null,null,null,null,null,null,null,null,null,null,null,{"$f":"IF(1372<=$B$10,IF(LEN('２学期'!MI10)=0,\"\",IF('２学期'!MI10=$B$8,IF(LEN('２学期'!ML10)=0,\"\",'２学期'!ML10),\"\")),\"\")","v":""},{"$f":"IF(LEN(O1372)=0,\"\",IF(COUNTIF($O$2:$O$1921,O1372+1)>0,\"\",IF(COUNTIF($O$2:O1372,O1372)>1,\"\",O1372+1)))","v":""},{"$f":"IFERROR(SMALL($P$1:$P$1921,1371),\"\")","v":""}]
[null,null,null,null,null,null,null,null,null,null,null,null,null,null,{"$f":"IF(1373<=$B$10,IF(LEN('２学期'!MI13)=0,\"\",IF('２学期'!MI13=$B$8,IF(LEN('２学期'!ML13)=0,\"\",'２学期'!ML13),\"\")),\"\")","v":""},{"$f":"IF(LEN(O1373)=0,\"\",IF(COUNTIF($O$2:$O$1921,O1373+1)>0,\"\",IF(COUNTIF($O$2:O1373,O1373)>1,\"\",O1373+1)))","v":""},{"$f":"IFERROR(SMALL($P$1:$P$1921,1372),\"\")","v":""}]
[null,null,null,null,null,null,null,null,null,null,null,null,null,null,{"$f":"IF(1374<=$B$10,IF(LEN('２学期'!MI16)=0,\"\",IF('２学期'!MI16=$B$8,IF(LEN('２学期'!ML16)=0,\"\",'２学期'!ML16),\"\")),\"\")","v":""},{"$f":"IF(LEN(O1374)=0,\"\",IF(COUNTIF($O$2:$O$1921,O1374+1)>0,\"\",IF(COUNTIF($O$2:O1374,O1374)>1,\"\",O1374+1)))","v":""},{"$f":"IFERROR(SMALL($P$1:$P$1921,1373),\"\")","v":""}]
[null,null,null,null,null,null,null,null,null,null,null,null,null,null,{"$f":"IF(1375<=$B$10,IF(LEN('２学期'!MI19)=0,\"\",IF('２学期'!MI19=$B$8,IF(LEN('２学期'!ML19)=0,\"\",'２学期'!ML19),\"\")),\"\")","v":""},{"$f":"IF(LEN(O1375)=0,\"\",IF(COUNTIF($O$2:$O$1921,O1375+1)>0,\"\",IF(COUNTIF($O$2:O1375,O1375)>1,\"\",O1375+1)))","v":""},{"$f":"IFERROR(SMALL($P$1:$P$1921,1374),\"\")","v":""}]
[null,null,null,null,null,null,null,null,null,null,null,null,null,null,{"$f":"IF(1376<=$B$10,IF(LEN('２学期'!MI22)=0,\"\",IF('２学期'!MI22=$B$8,IF(LEN('２学期'!ML22)=0,\"\",'２学期'!ML22),\"\")),\"\")","v":""},{"$f":"IF(LEN(O1376)=0,\"\",IF(COUNTIF($O$2:$O$1921,O1376+1)>0,\"\",IF(COUNTIF($O$2:O1376,O1376)>1,\"\",O1376+1)))","v":""},{"$f":"IFERROR(SMALL($P$1:$P$1921,1375),\"\")","v":""}]
[null,null,null,null,null,null,null,null,null,null,null,null,null,null,{"$f":"IF(1377<=$B$10,IF(LEN('２学期'!MI25)=0,\"\",IF('２学期'!MI25=$B$8,IF(LEN('２学期'!ML25)=0,\"\",'２学期'!ML25),\"\")),\"\")","v":""},{"$f":"IF(LEN(O1377)=0,\"\",IF(COUNTIF($O$2:$O$1921,O1377+1)>0,\"\",IF(COUNTIF($O$2:O1377,O1377)>1,\"\",O1377+1)))","v":""},{"$f":"IFERROR(SMALL($P$1:$P$1921,1376),\"\")","v":""}]
[null,null,null,null,null,null,null,null,null,null,null,null,null,null,{"$f":"IF(1378<=$B$10,IF(LEN('２学期'!MM6)=0,\"\",IF('２学期'!MM6=$B$8,IF(LEN('２学期'!MP6)=0,\"\",'２学期'!MP6),\"\")),\"\")","v":""},{"$f":"IF(LEN(O1378)=0,\"\",IF(COUNTIF($O$2:$O$1921,O1378+1)>0,\"\",IF(COUNTIF($O$2:O1378,O1378)>1,\"\",O1378+1)))","v":""},{"$f":"IFERROR(SMALL($P$1:$P$1921,1377),\"\")","v":""}]
[null,null,null,null,null,null,null,null,null,null,null,null,null,null,{"$f":"IF(1379<=$B$10,IF(LEN('２学期'!MM7)=0,\"\",IF('２学期'!MM7=$B$8,IF(LEN('２学期'!MP7)=0,\"\",'２学期'!MP7),\"\")),\"\")","v":""},{"$f":"IF(LEN(O1379)=0,\"\",IF(COUNTIF($O$2:$O$1921,O1379+1)>0,\"\",IF(COUNTIF($O$2:O1379,O1379)>1,\"\",O1379+1)))","v":""},{"$f":"IFERROR(SMALL($P$1:$P$1921,1378),\"\")","v":""}]
[null,null,null,null,null,null,null,null,null,null,null,null,null,null,{"$f":"IF(1380<=$B$10,IF(LEN('２学期'!MM10)=0,\"\",IF('２学期'!MM10=$B$8,IF(LEN('２学期'!MP10)=0,\"\",'２学期'!MP10),\"\")),\"\")","v":""},{"$f":"IF(LEN(O1380)=0,\"\",IF(COUNTIF($O$2:$O$1921,O1380+1)>0,\"\",IF(COUNTIF($O$2:O1380,O1380)>1,\"\",O1380+1)))","v":""},{"$f":"IFERROR(SMALL($P$1:$P$1921,1379),\"\")","v":""}]
[null,null,null,null,null,null,null,null,null,null,null,null,null,null,{"$f":"IF(1381<=$B$10,IF(LEN('２学期'!MM13)=0,\"\",IF('２学期'!MM13=$B$8,IF(LEN('２学期'!MP13)=0,\"\",'２学期'!MP13),\"\")),\"\")","v":""},{"$f":"IF(LEN(O1381)=0,\"\",IF(COUNTIF($O$2:$O$1921,O1381+1)>0,\"\",IF(COUNTIF($O$2:O1381,O1381)>1,\"\",O1381+1)))","v":""},{"$f":"IFERROR(SMALL($P$1:$P$1921,1380),\"\")","v":""}]
[null,null,null,null,null,null,null,null,null,null,null,null,null,null,{"$f":"IF(1382<=$B$10,IF(LEN('２学期'!MM16)=0,\"\",IF('２学期'!MM16=$B$8,IF(LEN('２学期'!MP16)=0,\"\",'２学期'!MP16),\"\")),\"\")","v":""},{"$f":"IF(LEN(O1382)=0,\"\",IF(COUNTIF($O$2:$O$1921,O1382+1)>0,\"\",IF(COUNTIF($O$2:O1382,O1382)>1,\"\",O1382+1)))","v":""},{"$f":"IFERROR(SMALL($P$1:$P$1921,1381),\"\")","v":""}]
[null,null,null,null,null,null,null,null,null,null,null,null,null,null,{"$f":"IF(1383<=$B$10,IF(LEN('２学期'!MM19)=0,\"\",IF('２学期'!MM19=$B$8,IF(LEN('２学期'!MP19)=0,\"\",'２学期'!MP19),\"\")),\"\")","v":""},{"$f":"IF(LEN(O1383)=0,\"\",IF(COUNTIF($O$2:$O$1921,O1383+1)>0,\"\",IF(COUNTIF($O$2:O1383,O1383)>1,\"\",O1383+1)))","v":""},{"$f":"IFERROR(SMALL($P$1:$P$1921,1382),\"\")","v":""}]
[null,null,null,null,null,null,null,null,null,null,null,null,null,null,{"$f":"IF(1384<=$B$10,IF(LEN('２学期'!MM22)=0,\"\",IF('２学期'!MM22=$B$8,IF(LEN('２学期'!MP22)=0,\"\",'２学期'!MP22),\"\")),\"\")","v":""},{"$f":"IF(LEN(O1384)=0,\"\",IF(COUNTIF($O$2:$O$1921,O1384+1)>0,\"\",IF(COUNTIF($O$2:O1384,O1384)>1,\"\",O1384+1)))","v":""},{"$f":"IFERROR(SMALL($P$1:$P$1921,1383),\"\")","v":""}]
[null,null,null,null,null,null,null,null,null,null,null,null,null,null,{"$f":"IF(1385<=$B$10,IF(LEN('２学期'!MM25)=0,\"\",IF('２学期'!MM25=$B$8,IF(LEN('２学期'!MP25)=0,\"\",'２学期'!MP25),\"\")),\"\")","v":""},{"$f":"IF(LEN(O1385)=0,\"\",IF(COUNTIF($O$2:$O$1921,O1385+1)>0,\"\",IF(COUNTIF($O$2:O1385,O1385)>1,\"\",O1385+1)))","v":""},{"$f":"IFERROR(SMALL($P$1:$P$1921,1384),\"\")","v":""}]
[null,null,null,null,null,null,null,null,null,null,null,null,null,null,{"$f":"IF(1386<=$B$10,IF(LEN('２学期'!MQ6)=0,\"\",IF('２学期'!MQ6=$B$8,IF(LEN('２学期'!MT6)=0,\"\",'２学期'!MT6),\"\")),\"\")","v":""},{"$f":"IF(LEN(O1386)=0,\"\",IF(COUNTIF($O$2:$O$1921,O1386+1)>0,\"\",IF(COUNTIF($O$2:O1386,O1386)>1,\"\",O1386+1)))","v":""},{"$f":"IFERROR(SMALL($P$1:$P$1921,1385),\"\")","v":""}]
[null,null,null,null,null,null,null,null,null,null,null,null,null,null,{"$f":"IF(1387<=$B$10,IF(LEN('２学期'!MQ7)=0,\"\",IF('２学期'!MQ7=$B$8,IF(LEN('２学期'!MT7)=0,\"\",'２学期'!MT7),\"\")),\"\")","v":""},{"$f":"IF(LEN(O1387)=0,\"\",IF(COUNTIF($O$2:$O$1921,O1387+1)>0,\"\",IF(COUNTIF($O$2:O1387,O1387)>1,\"\",O1387+1)))","v":""},{"$f":"IFERROR(SMALL($P$1:$P$1921,1386),\"\")","v":""}]
[null,null,null,null,null,null,null,null,null,null,null,null,null,null,{"$f":"IF(1388<=$B$10,IF(LEN('２学期'!MQ10)=0,\"\",IF('２学期'!MQ10=$B$8,IF(LEN('２学期'!MT10)=0,\"\",'２学期'!MT10),\"\")),\"\")","v":""},{"$f":"IF(LEN(O1388)=0,\"\",IF(COUNTIF($O$2:$O$1921,O1388+1)>0,\"\",IF(COUNTIF($O$2:O1388,O1388)>1,\"\",O1388+1)))","v":""},{"$f":"IFERROR(SMALL($P$1:$P$1921,1387),\"\")","v":""}]
[null,null,null,null,null,null,null,null,null,null,null,null,null,null,{"$f":"IF(1389<=$B$10,IF(LEN('２学期'!MQ13)=0,\"\",IF('２学期'!MQ13=$B$8,IF(LEN('２学期'!MT13)=0,\"\",'２学期'!MT13),\"\")),\"\")","v":""},{"$f":"IF(LEN(O1389)=0,\"\",IF(COUNTIF($O$2:$O$1921,O1389+1)>0,\"\",IF(COUNTIF($O$2:O1389,O1389)>1,\"\",O1389+1)))","v":""},{"$f":"IFERROR(SMALL($P$1:$P$1921,1388),\"\")","v":""}]
[null,null,null,null,null,null,null,null,null,null,null,null,null,null,{"$f":"IF(1390<=$B$10,IF(LEN('２学期'!MQ16)=0,\"\",IF('２学期'!MQ16=$B$8,IF(LEN('２学期'!MT16)=0,\"\",'２学期'!MT16),\"\")),\"\")","v":""},{"$f":"IF(LEN(O1390)=0,\"\",IF(COUNTIF($O$2:$O$1921,O1390+1)>0,\"\",IF(COUNTIF($O$2:O1390,O1390)>1,\"\",O1390+1)))","v":""},{"$f":"IFERROR(SMALL($P$1:$P$1921,1389),\"\")","v":""}]
[null,null,null,null,null,null,null,null,null,null,null,null,null,null,{"$f":"IF(1391<=$B$10,IF(LEN('２学期'!MQ19)=0,\"\",IF('２学期'!MQ19=$B$8,IF(LEN('２学期'!MT19)=0,\"\",'２学期'!MT19),\"\")),\"\")","v":""},{"$f":"IF(LEN(O1391)=0,\"\",IF(COUNTIF($O$2:$O$1921,O1391+1)>0,\"\",IF(COUNTIF($O$2:O1391,O1391)>1,\"\",O1391+1)))","v":""},{"$f":"IFERROR(SMALL($P$1:$P$1921,1390),\"\")","v":""}]
[null,null,null,null,null,null,null,null,null,null,null,null,null,null,{"$f":"IF(1392<=$B$10,IF(LEN('２学期'!MQ22)=0,\"\",IF('２学期'!MQ22=$B$8,IF(LEN('２学期'!MT22)=0,\"\",'２学期'!MT22),\"\")),\"\")","v":""},{"$f":"IF(LEN(O1392)=0,\"\",IF(COUNTIF($O$2:$O$1921,O1392+1)>0,\"\",IF(COUNTIF($O$2:O1392,O1392)>1,\"\",O1392+1)))","v":""},{"$f":"IFERROR(SMALL($P$1:$P$1921,1391),\"\")","v":""}]
[null,null,null,null,null,null,null,null,null,null,null,null,null,null,{"$f":"IF(1393<=$B$10,IF(LEN('２学期'!MQ25)=0,\"\",IF('２学期'!MQ25=$B$8,IF(LEN('２学期'!MT25)=0,\"\",'２学期'!MT25),\"\")),\"\")","v":""},{"$f":"IF(LEN(O1393)=0,\"\",IF(COUNTIF($O$2:$O$1921,O1393+1)>0,\"\",IF(COUNTIF($O$2:O1393,O1393)>1,\"\",O1393+1)))","v":""},{"$f":"IFERROR(SMALL($P$1:$P$1921,1392),\"\")","v":""}]
[null,null,null,null,null,null,null,null,null,null,null,null,null,null,{"$f":"IF(1394<=$B$10,IF(LEN('２学期'!MU6)=0,\"\",IF('２学期'!MU6=$B$8,IF(LEN('２学期'!MX6)=0,\"\",'２学期'!MX6),\"\")),\"\")","v":""},{"$f":"IF(LEN(O1394)=0,\"\",IF(COUNTIF($O$2:$O$1921,O1394+1)>0,\"\",IF(COUNTIF($O$2:O1394,O1394)>1,\"\",O1394+1)))","v":""},{"$f":"IFERROR(SMALL($P$1:$P$1921,1393),\"\")","v":""}]
[null,null,null,null,null,null,null,null,null,null,null,null,null,null,{"$f":"IF(1395<=$B$10,IF(LEN('２学期'!MU7)=0,\"\",IF('２学期'!MU7=$B$8,IF(LEN('２学期'!MX7)=0,\"\",'２学期'!MX7),\"\")),\"\")","v":""},{"$f":"IF(LEN(O1395)=0,\"\",IF(COUNTIF($O$2:$O$1921,O1395+1)>0,\"\",IF(COUNTIF($O$2:O1395,O1395)>1,\"\",O1395+1)))","v":""},{"$f":"IFERROR(SMALL($P$1:$P$1921,1394),\"\")","v":""}]
[null,null,null,null,null,null,null,null,null,null,null,null,null,null,{"$f":"IF(1396<=$B$10,IF(LEN('２学期'!MU10)=0,\"\",IF('２学期'!MU10=$B$8,IF(LEN('２学期'!MX10)=0,\"\",'２学期'!MX10),\"\")),\"\")","v":""},{"$f":"IF(LEN(O1396)=0,\"\",IF(COUNTIF($O$2:$O$1921,O1396+1)>0,\"\",IF(COUNTIF($O$2:O1396,O1396)>1,\"\",O1396+1)))","v":""},{"$f":"IFERROR(SMALL($P$1:$P$1921,1395),\"\")","v":""}]
[null,null,null,null,null,null,null,null,null,null,null,null,null,null,{"$f":"IF(1397<=$B$10,IF(LEN('２学期'!MU13)=0,\"\",IF('２学期'!MU13=$B$8,IF(LEN('２学期'!MX13)=0,\"\",'２学期'!MX13),\"\")),\"\")","v":""},{"$f":"IF(LEN(O1397)=0,\"\",IF(COUNTIF($O$2:$O$1921,O1397+1)>0,\"\",IF(COUNTIF($O$2:O1397,O1397)>1,\"\",O1397+1)))","v":""},{"$f":"IFERROR(SMALL($P$1:$P$1921,1396),\"\")","v":""}]
[null,null,null,null,null,null,null,null,null,null,null,null,null,null,{"$f":"IF(1398<=$B$10,IF(LEN('２学期'!MU16)=0,\"\",IF('２学期'!MU16=$B$8,IF(LEN('２学期'!MX16)=0,\"\",'２学期'!MX16),\"\")),\"\")","v":""},{"$f":"IF(LEN(O1398)=0,\"\",IF(COUNTIF($O$2:$O$1921,O1398+1)>0,\"\",IF(COUNTIF($O$2:O1398,O1398)>1,\"\",O1398+1)))","v":""},{"$f":"IFERROR(SMALL($P$1:$P$1921,1397),\"\")","v":""}]
[null,null,null,null,null,null,null,null,null,null,null,null,null,null,{"$f":"IF(1399<=$B$10,IF(LEN('２学期'!MU19)=0,\"\",IF('２学期'!MU19=$B$8,IF(LEN('２学期'!MX19)=0,\"\",'２学期'!MX19),\"\")),\"\")","v":""},{"$f":"IF(LEN(O1399)=0,\"\",IF(COUNTIF($O$2:$O$1921,O1399+1)>0,\"\",IF(COUNTIF($O$2:O1399,O1399)>1,\"\",O1399+1)))","v":""},{"$f":"IFERROR(SMALL($P$1:$P$1921,1398),\"\")","v":""}]
[null,null,null,null,null,null,null,null,null,null,null,null,null,null,{"$f":"IF(1400<=$B$10,IF(LEN('２学期'!MU22)=0,\"\",IF('２学期'!MU22=$B$8,IF(LEN('２学期'!MX22)=0,\"\",'２学期'!MX22),\"\")),\"\")","v":""},{"$f":"IF(LEN(O1400)=0,\"\",IF(COUNTIF($O$2:$O$1921,O1400+1)>0,\"\",IF(COUNTIF($O$2:O1400,O1400)>1,\"\",O1400+1)))","v":""},{"$f":"IFERROR(SMALL($P$1:$P$1921,1399),\"\")","v":""}]
[null,null,null,null,null,null,null,null,null,null,null,null,null,null,{"$f":"IF(1401<=$B$10,IF(LEN('２学期'!MU25)=0,\"\",IF('２学期'!MU25=$B$8,IF(LEN('２学期'!MX25)=0,\"\",'２学期'!MX25),\"\")),\"\")","v":""},{"$f":"IF(LEN(O1401)=0,\"\",IF(COUNTIF($O$2:$O$1921,O1401+1)>0,\"\",IF(COUNTIF($O$2:O1401,O1401)>1,\"\",O1401+1)))","v":""},{"$f":"IFERROR(SMALL($P$1:$P$1921,1400),\"\")","v":""}]
[null,null,null,null,null,null,null,null,null,null,null,null,null,null,{"$f":"IF(1402<=$B$10,IF(LEN('３学期'!C6)=0,\"\",IF('３学期'!C6=$B$8,IF(LEN('３学期'!F6)=0,\"\",'３学期'!F6),\"\")),\"\")","v":""},{"$f":"IF(LEN(O1402)=0,\"\",IF(COUNTIF($O$2:$O$1921,O1402+1)>0,\"\",IF(COUNTIF($O$2:O1402,O1402)>1,\"\",O1402+1)))","v":""}]
[null,null,null,null,null,null,null,null,null,null,null,null,null,null,{"$f":"IF(1403<=$B$10,IF(LEN('３学期'!C7)=0,\"\",IF('３学期'!C7=$B$8,IF(LEN('３学期'!F7)=0,\"\",'３学期'!F7),\"\")),\"\")","v":""},{"$f":"IF(LEN(O1403)=0,\"\",IF(COUNTIF($O$2:$O$1921,O1403+1)>0,\"\",IF(COUNTIF($O$2:O1403,O1403)>1,\"\",O1403+1)))","v":""}]
[null,null,null,null,null,null,null,null,null,null,null,null,null,null,{"$f":"IF(1404<=$B$10,IF(LEN('３学期'!C10)=0,\"\",IF('３学期'!C10=$B$8,IF(LEN('３学期'!F10)=0,\"\",'３学期'!F10),\"\")),\"\")","v":""},{"$f":"IF(LEN(O1404)=0,\"\",IF(COUNTIF($O$2:$O$1921,O1404+1)>0,\"\",IF(COUNTIF($O$2:O1404,O1404)>1,\"\",O1404+1)))","v":""}]
[null,null,null,null,null,null,null,null,null,null,null,null,null,null,{"$f":"IF(1405<=$B$10,IF(LEN('３学期'!C13)=0,\"\",IF('３学期'!C13=$B$8,IF(LEN('３学期'!F13)=0,\"\",'３学期'!F13),\"\")),\"\")","v":""},{"$f":"IF(LEN(O1405)=0,\"\",IF(COUNTIF($O$2:$O$1921,O1405+1)>0,\"\",IF(COUNTIF($O$2:O1405,O1405)>1,\"\",O1405+1)))","v":""}]
[null,null,null,null,null,null,null,null,null,null,null,null,null,null,{"$f":"IF(1406<=$B$10,IF(LEN('３学期'!C16)=0,\"\",IF('３学期'!C16=$B$8,IF(LEN('３学期'!F16)=0,\"\",'３学期'!F16),\"\")),\"\")","v":""},{"$f":"IF(LEN(O1406)=0,\"\",IF(COUNTIF($O$2:$O$1921,O1406+1)>0,\"\",IF(COUNTIF($O$2:O1406,O1406)>1,\"\",O1406+1)))","v":""}]
[null,null,null,null,null,null,null,null,null,null,null,null,null,null,{"$f":"IF(1407<=$B$10,IF(LEN('３学期'!C19)=0,\"\",IF('３学期'!C19=$B$8,IF(LEN('３学期'!F19)=0,\"\",'３学期'!F19),\"\")),\"\")","v":""},{"$f":"IF(LEN(O1407)=0,\"\",IF(COUNTIF($O$2:$O$1921,O1407+1)>0,\"\",IF(COUNTIF($O$2:O1407,O1407)>1,\"\",O1407+1)))","v":""}]
[null,null,null,null,null,null,null,null,null,null,null,null,null,null,{"$f":"IF(1408<=$B$10,IF(LEN('３学期'!C22)=0,\"\",IF('３学期'!C22=$B$8,IF(LEN('３学期'!F22)=0,\"\",'３学期'!F22),\"\")),\"\")","v":""},{"$f":"IF(LEN(O1408)=0,\"\",IF(COUNTIF($O$2:$O$1921,O1408+1)>0,\"\",IF(COUNTIF($O$2:O1408,O1408)>1,\"\",O1408+1)))","v":""}]
[null,null,null,null,null,null,null,null,null,null,null,null,null,null,{"$f":"IF(1409<=$B$10,IF(LEN('３学期'!C25)=0,\"\",IF('３学期'!C25=$B$8,IF(LEN('３学期'!F25)=0,\"\",'３学期'!F25),\"\")),\"\")","v":""},{"$f":"IF(LEN(O1409)=0,\"\",IF(COUNTIF($O$2:$O$1921,O1409+1)>0,\"\",IF(COUNTIF($O$2:O1409,O1409)>1,\"\",O1409+1)))","v":""}]
[null,null,null,null,null,null,null,null,null,null,null,null,null,null,{"$f":"IF(1410<=$B$10,IF(LEN('３学期'!G6)=0,\"\",IF('３学期'!G6=$B$8,IF(LEN('３学期'!J6)=0,\"\",'３学期'!J6),\"\")),\"\")","v":""},{"$f":"IF(LEN(O1410)=0,\"\",IF(COUNTIF($O$2:$O$1921,O1410+1)>0,\"\",IF(COUNTIF($O$2:O1410,O1410)>1,\"\",O1410+1)))","v":""}]
[null,null,null,null,null,null,null,null,null,null,null,null,null,null,{"$f":"IF(1411<=$B$10,IF(LEN('３学期'!G7)=0,\"\",IF('３学期'!G7=$B$8,IF(LEN('３学期'!J7)=0,\"\",'３学期'!J7),\"\")),\"\")","v":""},{"$f":"IF(LEN(O1411)=0,\"\",IF(COUNTIF($O$2:$O$1921,O1411+1)>0,\"\",IF(COUNTIF($O$2:O1411,O1411)>1,\"\",O1411+1)))","v":""}]
[null,null,null,null,null,null,null,null,null,null,null,null,null,null,{"$f":"IF(1412<=$B$10,IF(LEN('３学期'!G10)=0,\"\",IF('３学期'!G10=$B$8,IF(LEN('３学期'!J10)=0,\"\",'３学期'!J10),\"\")),\"\")","v":""},{"$f":"IF(LEN(O1412)=0,\"\",IF(COUNTIF($O$2:$O$1921,O1412+1)>0,\"\",IF(COUNTIF($O$2:O1412,O1412)>1,\"\",O1412+1)))","v":""}]
[null,null,null,null,null,null,null,null,null,null,null,null,null,null,{"$f":"IF(1413<=$B$10,IF(LEN('３学期'!G13)=0,\"\",IF('３学期'!G13=$B$8,IF(LEN('３学期'!J13)=0,\"\",'３学期'!J13),\"\")),\"\")","v":""},{"$f":"IF(LEN(O1413)=0,\"\",IF(COUNTIF($O$2:$O$1921,O1413+1)>0,\"\",IF(COUNTIF($O$2:O1413,O1413)>1,\"\",O1413+1)))","v":""}]
[null,null,null,null,null,null,null,null,null,null,null,null,null,null,{"$f":"IF(1414<=$B$10,IF(LEN('３学期'!G16)=0,\"\",IF('３学期'!G16=$B$8,IF(LEN('３学期'!J16)=0,\"\",'３学期'!J16),\"\")),\"\")","v":""},{"$f":"IF(LEN(O1414)=0,\"\",IF(COUNTIF($O$2:$O$1921,O1414+1)>0,\"\",IF(COUNTIF($O$2:O1414,O1414)>1,\"\",O1414+1)))","v":""}]
[null,null,null,null,null,null,null,null,null,null,null,null,null,null,{"$f":"IF(1415<=$B$10,IF(LEN('３学期'!G19)=0,\"\",IF('３学期'!G19=$B$8,IF(LEN('３学期'!J19)=0,\"\",'３学期'!J19),\"\")),\"\")","v":""},{"$f":"IF(LEN(O1415)=0,\"\",IF(COUNTIF($O$2:$O$1921,O1415+1)>0,\"\",IF(COUNTIF($O$2:O1415,O1415)>1,\"\",O1415+1)))","v":""}]
[null,null,null,null,null,null,null,null,null,null,null,null,null,null,{"$f":"IF(1416<=$B$10,IF(LEN('３学期'!G22)=0,\"\",IF('３学期'!G22=$B$8,IF(LEN('３学期'!J22)=0,\"\",'３学期'!J22),\"\")),\"\")","v":""},{"$f":"IF(LEN(O1416)=0,\"\",IF(COUNTIF($O$2:$O$1921,O1416+1)>0,\"\",IF(COUNTIF($O$2:O1416,O1416)>1,\"\",O1416+1)))","v":""}]
[null,null,null,null,null,null,null,null,null,null,null,null,null,null,{"$f":"IF(1417<=$B$10,IF(LEN('３学期'!G25)=0,\"\",IF('３学期'!G25=$B$8,IF(LEN('３学期'!J25)=0,\"\",'３学期'!J25),\"\")),\"\")","v":""},{"$f":"IF(LEN(O1417)=0,\"\",IF(COUNTIF($O$2:$O$1921,O1417+1)>0,\"\",IF(COUNTIF($O$2:O1417,O1417)>1,\"\",O1417+1)))","v":""}]
[null,null,null,null,null,null,null,null,null,null,null,null,null,null,{"$f":"IF(1418<=$B$10,IF(LEN('３学期'!K6)=0,\"\",IF('３学期'!K6=$B$8,IF(LEN('３学期'!N6)=0,\"\",'３学期'!N6),\"\")),\"\")","v":""},{"$f":"IF(LEN(O1418)=0,\"\",IF(COUNTIF($O$2:$O$1921,O1418+1)>0,\"\",IF(COUNTIF($O$2:O1418,O1418)>1,\"\",O1418+1)))","v":""}]
[null,null,null,null,null,null,null,null,null,null,null,null,null,null,{"$f":"IF(1419<=$B$10,IF(LEN('３学期'!K7)=0,\"\",IF('３学期'!K7=$B$8,IF(LEN('３学期'!N7)=0,\"\",'３学期'!N7),\"\")),\"\")","v":""},{"$f":"IF(LEN(O1419)=0,\"\",IF(COUNTIF($O$2:$O$1921,O1419+1)>0,\"\",IF(COUNTIF($O$2:O1419,O1419)>1,\"\",O1419+1)))","v":""}]
[null,null,null,null,null,null,null,null,null,null,null,null,null,null,{"$f":"IF(1420<=$B$10,IF(LEN('３学期'!K10)=0,\"\",IF('３学期'!K10=$B$8,IF(LEN('３学期'!N10)=0,\"\",'３学期'!N10),\"\")),\"\")","v":""},{"$f":"IF(LEN(O1420)=0,\"\",IF(COUNTIF($O$2:$O$1921,O1420+1)>0,\"\",IF(COUNTIF($O$2:O1420,O1420)>1,\"\",O1420+1)))","v":""}]
[null,null,null,null,null,null,null,null,null,null,null,null,null,null,{"$f":"IF(1421<=$B$10,IF(LEN('３学期'!K13)=0,\"\",IF('３学期'!K13=$B$8,IF(LEN('３学期'!N13)=0,\"\",'３学期'!N13),\"\")),\"\")","v":""},{"$f":"IF(LEN(O1421)=0,\"\",IF(COUNTIF($O$2:$O$1921,O1421+1)>0,\"\",IF(COUNTIF($O$2:O1421,O1421)>1,\"\",O1421+1)))","v":""}]
[null,null,null,null,null,null,null,null,null,null,null,null,null,null,{"$f":"IF(1422<=$B$10,IF(LEN('３学期'!K16)=0,\"\",IF('３学期'!K16=$B$8,IF(LEN('３学期'!N16)=0,\"\",'３学期'!N16),\"\")),\"\")","v":""},{"$f":"IF(LEN(O1422)=0,\"\",IF(COUNTIF($O$2:$O$1921,O1422+1)>0,\"\",IF(COUNTIF($O$2:O1422,O1422)>1,\"\",O1422+1)))","v":""}]
[null,null,null,null,null,null,null,null,null,null,null,null,null,null,{"$f":"IF(1423<=$B$10,IF(LEN('３学期'!K19)=0,\"\",IF('３学期'!K19=$B$8,IF(LEN('３学期'!N19)=0,\"\",'３学期'!N19),\"\")),\"\")","v":""},{"$f":"IF(LEN(O1423)=0,\"\",IF(COUNTIF($O$2:$O$1921,O1423+1)>0,\"\",IF(COUNTIF($O$2:O1423,O1423)>1,\"\",O1423+1)))","v":""}]
[null,null,null,null,null,null,null,null,null,null,null,null,null,null,{"$f":"IF(1424<=$B$10,IF(LEN('３学期'!K22)=0,\"\",IF('３学期'!K22=$B$8,IF(LEN('３学期'!N22)=0,\"\",'３学期'!N22),\"\")),\"\")","v":""},{"$f":"IF(LEN(O1424)=0,\"\",IF(COUNTIF($O$2:$O$1921,O1424+1)>0,\"\",IF(COUNTIF($O$2:O1424,O1424)>1,\"\",O1424+1)))","v":""}]
[null,null,null,null,null,null,null,null,null,null,null,null,null,null,{"$f":"IF(1425<=$B$10,IF(LEN('３学期'!K25)=0,\"\",IF('３学期'!K25=$B$8,IF(LEN('３学期'!N25)=0,\"\",'３学期'!N25),\"\")),\"\")","v":""},{"$f":"IF(LEN(O1425)=0,\"\",IF(COUNTIF($O$2:$O$1921,O1425+1)>0,\"\",IF(COUNTIF($O$2:O1425,O1425)>1,\"\",O1425+1)))","v":""}]
[null,null,null,null,null,null,null,null,null,null,null,null,null,null,{"$f":"IF(1426<=$B$10,IF(LEN('３学期'!O6)=0,\"\",IF('３学期'!O6=$B$8,IF(LEN('３学期'!R6)=0,\"\",'３学期'!R6),\"\")),\"\")","v":""},{"$f":"IF(LEN(O1426)=0,\"\",IF(COUNTIF($O$2:$O$1921,O1426+1)>0,\"\",IF(COUNTIF($O$2:O1426,O1426)>1,\"\",O1426+1)))","v":""}]
[null,null,null,null,null,null,null,null,null,null,null,null,null,null,{"$f":"IF(1427<=$B$10,IF(LEN('３学期'!O7)=0,\"\",IF('３学期'!O7=$B$8,IF(LEN('３学期'!R7)=0,\"\",'３学期'!R7),\"\")),\"\")","v":""},{"$f":"IF(LEN(O1427)=0,\"\",IF(COUNTIF($O$2:$O$1921,O1427+1)>0,\"\",IF(COUNTIF($O$2:O1427,O1427)>1,\"\",O1427+1)))","v":""}]
[null,null,null,null,null,null,null,null,null,null,null,null,null,null,{"$f":"IF(1428<=$B$10,IF(LEN('３学期'!O10)=0,\"\",IF('３学期'!O10=$B$8,IF(LEN('３学期'!R10)=0,\"\",'３学期'!R10),\"\")),\"\")","v":""},{"$f":"IF(LEN(O1428)=0,\"\",IF(COUNTIF($O$2:$O$1921,O1428+1)>0,\"\",IF(COUNTIF($O$2:O1428,O1428)>1,\"\",O1428+1)))","v":""}]
[null,null,null,null,null,null,null,null,null,null,null,null,null,null,{"$f":"IF(1429<=$B$10,IF(LEN('３学期'!O13)=0,\"\",IF('３学期'!O13=$B$8,IF(LEN('３学期'!R13)=0,\"\",'３学期'!R13),\"\")),\"\")","v":""},{"$f":"IF(LEN(O1429)=0,\"\",IF(COUNTIF($O$2:$O$1921,O1429+1)>0,\"\",IF(COUNTIF($O$2:O1429,O1429)>1,\"\",O1429+1)))","v":""}]
[null,null,null,null,null,null,null,null,null,null,null,null,null,null,{"$f":"IF(1430<=$B$10,IF(LEN('３学期'!O16)=0,\"\",IF('３学期'!O16=$B$8,IF(LEN('３学期'!R16)=0,\"\",'３学期'!R16),\"\")),\"\")","v":""},{"$f":"IF(LEN(O1430)=0,\"\",IF(COUNTIF($O$2:$O$1921,O1430+1)>0,\"\",IF(COUNTIF($O$2:O1430,O1430)>1,\"\",O1430+1)))","v":""}]
[null,null,null,null,null,null,null,null,null,null,null,null,null,null,{"$f":"IF(1431<=$B$10,IF(LEN('３学期'!O19)=0,\"\",IF('３学期'!O19=$B$8,IF(LEN('３学期'!R19)=0,\"\",'３学期'!R19),\"\")),\"\")","v":""},{"$f":"IF(LEN(O1431)=0,\"\",IF(COUNTIF($O$2:$O$1921,O1431+1)>0,\"\",IF(COUNTIF($O$2:O1431,O1431)>1,\"\",O1431+1)))","v":""}]
[null,null,null,null,null,null,null,null,null,null,null,null,null,null,{"$f":"IF(1432<=$B$10,IF(LEN('３学期'!O22)=0,\"\",IF('３学期'!O22=$B$8,IF(LEN('３学期'!R22)=0,\"\",'３学期'!R22),\"\")),\"\")","v":""},{"$f":"IF(LEN(O1432)=0,\"\",IF(COUNTIF($O$2:$O$1921,O1432+1)>0,\"\",IF(COUNTIF($O$2:O1432,O1432)>1,\"\",O1432+1)))","v":""}]
[null,null,null,null,null,null,null,null,null,null,null,null,null,null,{"$f":"IF(1433<=$B$10,IF(LEN('３学期'!O25)=0,\"\",IF('３学期'!O25=$B$8,IF(LEN('３学期'!R25)=0,\"\",'３学期'!R25),\"\")),\"\")","v":""},{"$f":"IF(LEN(O1433)=0,\"\",IF(COUNTIF($O$2:$O$1921,O1433+1)>0,\"\",IF(COUNTIF($O$2:O1433,O1433)>1,\"\",O1433+1)))","v":""}]
[null,null,null,null,null,null,null,null,null,null,null,null,null,null,{"$f":"IF(1434<=$B$10,IF(LEN('３学期'!S6)=0,\"\",IF('３学期'!S6=$B$8,IF(LEN('３学期'!V6)=0,\"\",'３学期'!V6),\"\")),\"\")","v":""},{"$f":"IF(LEN(O1434)=0,\"\",IF(COUNTIF($O$2:$O$1921,O1434+1)>0,\"\",IF(COUNTIF($O$2:O1434,O1434)>1,\"\",O1434+1)))","v":""}]
[null,null,null,null,null,null,null,null,null,null,null,null,null,null,{"$f":"IF(1435<=$B$10,IF(LEN('３学期'!S7)=0,\"\",IF('３学期'!S7=$B$8,IF(LEN('３学期'!V7)=0,\"\",'３学期'!V7),\"\")),\"\")","v":""},{"$f":"IF(LEN(O1435)=0,\"\",IF(COUNTIF($O$2:$O$1921,O1435+1)>0,\"\",IF(COUNTIF($O$2:O1435,O1435)>1,\"\",O1435+1)))","v":""}]
[null,null,null,null,null,null,null,null,null,null,null,null,null,null,{"$f":"IF(1436<=$B$10,IF(LEN('３学期'!S10)=0,\"\",IF('３学期'!S10=$B$8,IF(LEN('３学期'!V10)=0,\"\",'３学期'!V10),\"\")),\"\")","v":""},{"$f":"IF(LEN(O1436)=0,\"\",IF(COUNTIF($O$2:$O$1921,O1436+1)>0,\"\",IF(COUNTIF($O$2:O1436,O1436)>1,\"\",O1436+1)))","v":""}]
[null,null,null,null,null,null,null,null,null,null,null,null,null,null,{"$f":"IF(1437<=$B$10,IF(LEN('３学期'!S13)=0,\"\",IF('３学期'!S13=$B$8,IF(LEN('３学期'!V13)=0,\"\",'３学期'!V13),\"\")),\"\")","v":""},{"$f":"IF(LEN(O1437)=0,\"\",IF(COUNTIF($O$2:$O$1921,O1437+1)>0,\"\",IF(COUNTIF($O$2:O1437,O1437)>1,\"\",O1437+1)))","v":""}]
[null,null,null,null,null,null,null,null,null,null,null,null,null,null,{"$f":"IF(1438<=$B$10,IF(LEN('３学期'!S16)=0,\"\",IF('３学期'!S16=$B$8,IF(LEN('３学期'!V16)=0,\"\",'３学期'!V16),\"\")),\"\")","v":""},{"$f":"IF(LEN(O1438)=0,\"\",IF(COUNTIF($O$2:$O$1921,O1438+1)>0,\"\",IF(COUNTIF($O$2:O1438,O1438)>1,\"\",O1438+1)))","v":""}]
[null,null,null,null,null,null,null,null,null,null,null,null,null,null,{"$f":"IF(1439<=$B$10,IF(LEN('３学期'!S19)=0,\"\",IF('３学期'!S19=$B$8,IF(LEN('３学期'!V19)=0,\"\",'３学期'!V19),\"\")),\"\")","v":""},{"$f":"IF(LEN(O1439)=0,\"\",IF(COUNTIF($O$2:$O$1921,O1439+1)>0,\"\",IF(COUNTIF($O$2:O1439,O1439)>1,\"\",O1439+1)))","v":""}]
[null,null,null,null,null,null,null,null,null,null,null,null,null,null,{"$f":"IF(1440<=$B$10,IF(LEN('３学期'!S22)=0,\"\",IF('３学期'!S22=$B$8,IF(LEN('３学期'!V22)=0,\"\",'３学期'!V22),\"\")),\"\")","v":""},{"$f":"IF(LEN(O1440)=0,\"\",IF(COUNTIF($O$2:$O$1921,O1440+1)>0,\"\",IF(COUNTIF($O$2:O1440,O1440)>1,\"\",O1440+1)))","v":""}]
[null,null,null,null,null,null,null,null,null,null,null,null,null,null,{"$f":"IF(1441<=$B$10,IF(LEN('３学期'!S25)=0,\"\",IF('３学期'!S25=$B$8,IF(LEN('３学期'!V25)=0,\"\",'３学期'!V25),\"\")),\"\")","v":""},{"$f":"IF(LEN(O1441)=0,\"\",IF(COUNTIF($O$2:$O$1921,O1441+1)>0,\"\",IF(COUNTIF($O$2:O1441,O1441)>1,\"\",O1441+1)))","v":""}]
[null,null,null,null,null,null,null,null,null,null,null,null,null,null,{"$f":"IF(1442<=$B$10,IF(LEN('３学期'!W6)=0,\"\",IF('３学期'!W6=$B$8,IF(LEN('３学期'!Z6)=0,\"\",'３学期'!Z6),\"\")),\"\")","v":""},{"$f":"IF(LEN(O1442)=0,\"\",IF(COUNTIF($O$2:$O$1921,O1442+1)>0,\"\",IF(COUNTIF($O$2:O1442,O1442)>1,\"\",O1442+1)))","v":""}]
[null,null,null,null,null,null,null,null,null,null,null,null,null,null,{"$f":"IF(1443<=$B$10,IF(LEN('３学期'!W7)=0,\"\",IF('３学期'!W7=$B$8,IF(LEN('３学期'!Z7)=0,\"\",'３学期'!Z7),\"\")),\"\")","v":""},{"$f":"IF(LEN(O1443)=0,\"\",IF(COUNTIF($O$2:$O$1921,O1443+1)>0,\"\",IF(COUNTIF($O$2:O1443,O1443)>1,\"\",O1443+1)))","v":""}]
[null,null,null,null,null,null,null,null,null,null,null,null,null,null,{"$f":"IF(1444<=$B$10,IF(LEN('３学期'!W10)=0,\"\",IF('３学期'!W10=$B$8,IF(LEN('３学期'!Z10)=0,\"\",'３学期'!Z10),\"\")),\"\")","v":""},{"$f":"IF(LEN(O1444)=0,\"\",IF(COUNTIF($O$2:$O$1921,O1444+1)>0,\"\",IF(COUNTIF($O$2:O1444,O1444)>1,\"\",O1444+1)))","v":""}]
[null,null,null,null,null,null,null,null,null,null,null,null,null,null,{"$f":"IF(1445<=$B$10,IF(LEN('３学期'!W13)=0,\"\",IF('３学期'!W13=$B$8,IF(LEN('３学期'!Z13)=0,\"\",'３学期'!Z13),\"\")),\"\")","v":""},{"$f":"IF(LEN(O1445)=0,\"\",IF(COUNTIF($O$2:$O$1921,O1445+1)>0,\"\",IF(COUNTIF($O$2:O1445,O1445)>1,\"\",O1445+1)))","v":""}]
[null,null,null,null,null,null,null,null,null,null,null,null,null,null,{"$f":"IF(1446<=$B$10,IF(LEN('３学期'!W16)=0,\"\",IF('３学期'!W16=$B$8,IF(LEN('３学期'!Z16)=0,\"\",'３学期'!Z16),\"\")),\"\")","v":""},{"$f":"IF(LEN(O1446)=0,\"\",IF(COUNTIF($O$2:$O$1921,O1446+1)>0,\"\",IF(COUNTIF($O$2:O1446,O1446)>1,\"\",O1446+1)))","v":""}]
[null,null,null,null,null,null,null,null,null,null,null,null,null,null,{"$f":"IF(1447<=$B$10,IF(LEN('３学期'!W19)=0,\"\",IF('３学期'!W19=$B$8,IF(LEN('３学期'!Z19)=0,\"\",'３学期'!Z19),\"\")),\"\")","v":""},{"$f":"IF(LEN(O1447)=0,\"\",IF(COUNTIF($O$2:$O$1921,O1447+1)>0,\"\",IF(COUNTIF($O$2:O1447,O1447)>1,\"\",O1447+1)))","v":""}]
[null,null,null,null,null,null,null,null,null,null,null,null,null,null,{"$f":"IF(1448<=$B$10,IF(LEN('３学期'!W22)=0,\"\",IF('３学期'!W22=$B$8,IF(LEN('３学期'!Z22)=0,\"\",'３学期'!Z22),\"\")),\"\")","v":""},{"$f":"IF(LEN(O1448)=0,\"\",IF(COUNTIF($O$2:$O$1921,O1448+1)>0,\"\",IF(COUNTIF($O$2:O1448,O1448)>1,\"\",O1448+1)))","v":""}]
[null,null,null,null,null,null,null,null,null,null,null,null,null,null,{"$f":"IF(1449<=$B$10,IF(LEN('３学期'!W25)=0,\"\",IF('３学期'!W25=$B$8,IF(LEN('３学期'!Z25)=0,\"\",'３学期'!Z25),\"\")),\"\")","v":""},{"$f":"IF(LEN(O1449)=0,\"\",IF(COUNTIF($O$2:$O$1921,O1449+1)>0,\"\",IF(COUNTIF($O$2:O1449,O1449)>1,\"\",O1449+1)))","v":""}]
[null,null,null,null,null,null,null,null,null,null,null,null,null,null,{"$f":"IF(1450<=$B$10,IF(LEN('３学期'!AA6)=0,\"\",IF('３学期'!AA6=$B$8,IF(LEN('３学期'!AD6)=0,\"\",'３学期'!AD6),\"\")),\"\")","v":""},{"$f":"IF(LEN(O1450)=0,\"\",IF(COUNTIF($O$2:$O$1921,O1450+1)>0,\"\",IF(COUNTIF($O$2:O1450,O1450)>1,\"\",O1450+1)))","v":""}]
[null,null,null,null,null,null,null,null,null,null,null,null,null,null,{"$f":"IF(1451<=$B$10,IF(LEN('３学期'!AA7)=0,\"\",IF('３学期'!AA7=$B$8,IF(LEN('３学期'!AD7)=0,\"\",'３学期'!AD7),\"\")),\"\")","v":""},{"$f":"IF(LEN(O1451)=0,\"\",IF(COUNTIF($O$2:$O$1921,O1451+1)>0,\"\",IF(COUNTIF($O$2:O1451,O1451)>1,\"\",O1451+1)))","v":""}]
[null,null,null,null,null,null,null,null,null,null,null,null,null,null,{"$f":"IF(1452<=$B$10,IF(LEN('３学期'!AA10)=0,\"\",IF('３学期'!AA10=$B$8,IF(LEN('３学期'!AD10)=0,\"\",'３学期'!AD10),\"\")),\"\")","v":""},{"$f":"IF(LEN(O1452)=0,\"\",IF(COUNTIF($O$2:$O$1921,O1452+1)>0,\"\",IF(COUNTIF($O$2:O1452,O1452)>1,\"\",O1452+1)))","v":""}]
[null,null,null,null,null,null,null,null,null,null,null,null,null,null,{"$f":"IF(1453<=$B$10,IF(LEN('３学期'!AA13)=0,\"\",IF('３学期'!AA13=$B$8,IF(LEN('３学期'!AD13)=0,\"\",'３学期'!AD13),\"\")),\"\")","v":""},{"$f":"IF(LEN(O1453)=0,\"\",IF(COUNTIF($O$2:$O$1921,O1453+1)>0,\"\",IF(COUNTIF($O$2:O1453,O1453)>1,\"\",O1453+1)))","v":""}]
[null,null,null,null,null,null,null,null,null,null,null,null,null,null,{"$f":"IF(1454<=$B$10,IF(LEN('３学期'!AA16)=0,\"\",IF('３学期'!AA16=$B$8,IF(LEN('３学期'!AD16)=0,\"\",'３学期'!AD16),\"\")),\"\")","v":""},{"$f":"IF(LEN(O1454)=0,\"\",IF(COUNTIF($O$2:$O$1921,O1454+1)>0,\"\",IF(COUNTIF($O$2:O1454,O1454)>1,\"\",O1454+1)))","v":""}]
[null,null,null,null,null,null,null,null,null,null,null,null,null,null,{"$f":"IF(1455<=$B$10,IF(LEN('３学期'!AA19)=0,\"\",IF('３学期'!AA19=$B$8,IF(LEN('３学期'!AD19)=0,\"\",'３学期'!AD19),\"\")),\"\")","v":""},{"$f":"IF(LEN(O1455)=0,\"\",IF(COUNTIF($O$2:$O$1921,O1455+1)>0,\"\",IF(COUNTIF($O$2:O1455,O1455)>1,\"\",O1455+1)))","v":""}]
[null,null,null,null,null,null,null,null,null,null,null,null,null,null,{"$f":"IF(1456<=$B$10,IF(LEN('３学期'!AA22)=0,\"\",IF('３学期'!AA22=$B$8,IF(LEN('３学期'!AD22)=0,\"\",'３学期'!AD22),\"\")),\"\")","v":""},{"$f":"IF(LEN(O1456)=0,\"\",IF(COUNTIF($O$2:$O$1921,O1456+1)>0,\"\",IF(COUNTIF($O$2:O1456,O1456)>1,\"\",O1456+1)))","v":""}]
[null,null,null,null,null,null,null,null,null,null,null,null,null,null,{"$f":"IF(1457<=$B$10,IF(LEN('３学期'!AA25)=0,\"\",IF('３学期'!AA25=$B$8,IF(LEN('３学期'!AD25)=0,\"\",'３学期'!AD25),\"\")),\"\")","v":""},{"$f":"IF(LEN(O1457)=0,\"\",IF(COUNTIF($O$2:$O$1921,O1457+1)>0,\"\",IF(COUNTIF($O$2:O1457,O1457)>1,\"\",O1457+1)))","v":""}]
[null,null,null,null,null,null,null,null,null,null,null,null,null,null,{"$f":"IF(1458<=$B$10,IF(LEN('３学期'!AE6)=0,\"\",IF('３学期'!AE6=$B$8,IF(LEN('３学期'!AH6)=0,\"\",'３学期'!AH6),\"\")),\"\")","v":""},{"$f":"IF(LEN(O1458)=0,\"\",IF(COUNTIF($O$2:$O$1921,O1458+1)>0,\"\",IF(COUNTIF($O$2:O1458,O1458)>1,\"\",O1458+1)))","v":""}]
[null,null,null,null,null,null,null,null,null,null,null,null,null,null,{"$f":"IF(1459<=$B$10,IF(LEN('３学期'!AE7)=0,\"\",IF('３学期'!AE7=$B$8,IF(LEN('３学期'!AH7)=0,\"\",'３学期'!AH7),\"\")),\"\")","v":""},{"$f":"IF(LEN(O1459)=0,\"\",IF(COUNTIF($O$2:$O$1921,O1459+1)>0,\"\",IF(COUNTIF($O$2:O1459,O1459)>1,\"\",O1459+1)))","v":""}]
[null,null,null,null,null,null,null,null,null,null,null,null,null,null,{"$f":"IF(1460<=$B$10,IF(LEN('３学期'!AE10)=0,\"\",IF('３学期'!AE10=$B$8,IF(LEN('３学期'!AH10)=0,\"\",'３学期'!AH10),\"\")),\"\")","v":""},{"$f":"IF(LEN(O1460)=0,\"\",IF(COUNTIF($O$2:$O$1921,O1460+1)>0,\"\",IF(COUNTIF($O$2:O1460,O1460)>1,\"\",O1460+1)))","v":""}]
[null,null,null,null,null,null,null,null,null,null,null,null,null,null,{"$f":"IF(1461<=$B$10,IF(LEN('３学期'!AE13)=0,\"\",IF('３学期'!AE13=$B$8,IF(LEN('３学期'!AH13)=0,\"\",'３学期'!AH13),\"\")),\"\")","v":""},{"$f":"IF(LEN(O1461)=0,\"\",IF(COUNTIF($O$2:$O$1921,O1461+1)>0,\"\",IF(COUNTIF($O$2:O1461,O1461)>1,\"\",O1461+1)))","v":""}]
[null,null,null,null,null,null,null,null,null,null,null,null,null,null,{"$f":"IF(1462<=$B$10,IF(LEN('３学期'!AE16)=0,\"\",IF('３学期'!AE16=$B$8,IF(LEN('３学期'!AH16)=0,\"\",'３学期'!AH16),\"\")),\"\")","v":""},{"$f":"IF(LEN(O1462)=0,\"\",IF(COUNTIF($O$2:$O$1921,O1462+1)>0,\"\",IF(COUNTIF($O$2:O1462,O1462)>1,\"\",O1462+1)))","v":""}]
[null,null,null,null,null,null,null,null,null,null,null,null,null,null,{"$f":"IF(1463<=$B$10,IF(LEN('３学期'!AE19)=0,\"\",IF('３学期'!AE19=$B$8,IF(LEN('３学期'!AH19)=0,\"\",'３学期'!AH19),\"\")),\"\")","v":""},{"$f":"IF(LEN(O1463)=0,\"\",IF(COUNTIF($O$2:$O$1921,O1463+1)>0,\"\",IF(COUNTIF($O$2:O1463,O1463)>1,\"\",O1463+1)))","v":""}]
[null,null,null,null,null,null,null,null,null,null,null,null,null,null,{"$f":"IF(1464<=$B$10,IF(LEN('３学期'!AE22)=0,\"\",IF('３学期'!AE22=$B$8,IF(LEN('３学期'!AH22)=0,\"\",'３学期'!AH22),\"\")),\"\")","v":""},{"$f":"IF(LEN(O1464)=0,\"\",IF(COUNTIF($O$2:$O$1921,O1464+1)>0,\"\",IF(COUNTIF($O$2:O1464,O1464)>1,\"\",O1464+1)))","v":""}]
[null,null,null,null,null,null,null,null,null,null,null,null,null,null,{"$f":"IF(1465<=$B$10,IF(LEN('３学期'!AE25)=0,\"\",IF('３学期'!AE25=$B$8,IF(LEN('３学期'!AH25)=0,\"\",'３学期'!AH25),\"\")),\"\")","v":""},{"$f":"IF(LEN(O1465)=0,\"\",IF(COUNTIF($O$2:$O$1921,O1465+1)>0,\"\",IF(COUNTIF($O$2:O1465,O1465)>1,\"\",O1465+1)))","v":""}]
[null,null,null,null,null,null,null,null,null,null,null,null,null,null,{"$f":"IF(1466<=$B$10,IF(LEN('３学期'!AI6)=0,\"\",IF('３学期'!AI6=$B$8,IF(LEN('３学期'!AL6)=0,\"\",'３学期'!AL6),\"\")),\"\")","v":""},{"$f":"IF(LEN(O1466)=0,\"\",IF(COUNTIF($O$2:$O$1921,O1466+1)>0,\"\",IF(COUNTIF($O$2:O1466,O1466)>1,\"\",O1466+1)))","v":""}]
[null,null,null,null,null,null,null,null,null,null,null,null,null,null,{"$f":"IF(1467<=$B$10,IF(LEN('３学期'!AI7)=0,\"\",IF('３学期'!AI7=$B$8,IF(LEN('３学期'!AL7)=0,\"\",'３学期'!AL7),\"\")),\"\")","v":""},{"$f":"IF(LEN(O1467)=0,\"\",IF(COUNTIF($O$2:$O$1921,O1467+1)>0,\"\",IF(COUNTIF($O$2:O1467,O1467)>1,\"\",O1467+1)))","v":""}]
[null,null,null,null,null,null,null,null,null,null,null,null,null,null,{"$f":"IF(1468<=$B$10,IF(LEN('３学期'!AI10)=0,\"\",IF('３学期'!AI10=$B$8,IF(LEN('３学期'!AL10)=0,\"\",'３学期'!AL10),\"\")),\"\")","v":""},{"$f":"IF(LEN(O1468)=0,\"\",IF(COUNTIF($O$2:$O$1921,O1468+1)>0,\"\",IF(COUNTIF($O$2:O1468,O1468)>1,\"\",O1468+1)))","v":""}]
[null,null,null,null,null,null,null,null,null,null,null,null,null,null,{"$f":"IF(1469<=$B$10,IF(LEN('３学期'!AI13)=0,\"\",IF('３学期'!AI13=$B$8,IF(LEN('３学期'!AL13)=0,\"\",'３学期'!AL13),\"\")),\"\")","v":""},{"$f":"IF(LEN(O1469)=0,\"\",IF(COUNTIF($O$2:$O$1921,O1469+1)>0,\"\",IF(COUNTIF($O$2:O1469,O1469)>1,\"\",O1469+1)))","v":""}]
[null,null,null,null,null,null,null,null,null,null,null,null,null,null,{"$f":"IF(1470<=$B$10,IF(LEN('３学期'!AI16)=0,\"\",IF('３学期'!AI16=$B$8,IF(LEN('３学期'!AL16)=0,\"\",'３学期'!AL16),\"\")),\"\")","v":""},{"$f":"IF(LEN(O1470)=0,\"\",IF(COUNTIF($O$2:$O$1921,O1470+1)>0,\"\",IF(COUNTIF($O$2:O1470,O1470)>1,\"\",O1470+1)))","v":""}]
[null,null,null,null,null,null,null,null,null,null,null,null,null,null,{"$f":"IF(1471<=$B$10,IF(LEN('３学期'!AI19)=0,\"\",IF('３学期'!AI19=$B$8,IF(LEN('３学期'!AL19)=0,\"\",'３学期'!AL19),\"\")),\"\")","v":""},{"$f":"IF(LEN(O1471)=0,\"\",IF(COUNTIF($O$2:$O$1921,O1471+1)>0,\"\",IF(COUNTIF($O$2:O1471,O1471)>1,\"\",O1471+1)))","v":""}]
[null,null,null,null,null,null,null,null,null,null,null,null,null,null,{"$f":"IF(1472<=$B$10,IF(LEN('３学期'!AI22)=0,\"\",IF('３学期'!AI22=$B$8,IF(LEN('３学期'!AL22)=0,\"\",'３学期'!AL22),\"\")),\"\")","v":""},{"$f":"IF(LEN(O1472)=0,\"\",IF(COUNTIF($O$2:$O$1921,O1472+1)>0,\"\",IF(COUNTIF($O$2:O1472,O1472)>1,\"\",O1472+1)))","v":""}]
[null,null,null,null,null,null,null,null,null,null,null,null,null,null,{"$f":"IF(1473<=$B$10,IF(LEN('３学期'!AI25)=0,\"\",IF('３学期'!AI25=$B$8,IF(LEN('３学期'!AL25)=0,\"\",'３学期'!AL25),\"\")),\"\")","v":""},{"$f":"IF(LEN(O1473)=0,\"\",IF(COUNTIF($O$2:$O$1921,O1473+1)>0,\"\",IF(COUNTIF($O$2:O1473,O1473)>1,\"\",O1473+1)))","v":""}]
[null,null,null,null,null,null,null,null,null,null,null,null,null,null,{"$f":"IF(1474<=$B$10,IF(LEN('３学期'!AM6)=0,\"\",IF('３学期'!AM6=$B$8,IF(LEN('３学期'!AP6)=0,\"\",'３学期'!AP6),\"\")),\"\")","v":""},{"$f":"IF(LEN(O1474)=0,\"\",IF(COUNTIF($O$2:$O$1921,O1474+1)>0,\"\",IF(COUNTIF($O$2:O1474,O1474)>1,\"\",O1474+1)))","v":""}]
[null,null,null,null,null,null,null,null,null,null,null,null,null,null,{"$f":"IF(1475<=$B$10,IF(LEN('３学期'!AM7)=0,\"\",IF('３学期'!AM7=$B$8,IF(LEN('３学期'!AP7)=0,\"\",'３学期'!AP7),\"\")),\"\")","v":""},{"$f":"IF(LEN(O1475)=0,\"\",IF(COUNTIF($O$2:$O$1921,O1475+1)>0,\"\",IF(COUNTIF($O$2:O1475,O1475)>1,\"\",O1475+1)))","v":""}]
[null,null,null,null,null,null,null,null,null,null,null,null,null,null,{"$f":"IF(1476<=$B$10,IF(LEN('３学期'!AM10)=0,\"\",IF('３学期'!AM10=$B$8,IF(LEN('３学期'!AP10)=0,\"\",'３学期'!AP10),\"\")),\"\")","v":""},{"$f":"IF(LEN(O1476)=0,\"\",IF(COUNTIF($O$2:$O$1921,O1476+1)>0,\"\",IF(COUNTIF($O$2:O1476,O1476)>1,\"\",O1476+1)))","v":""}]
[null,null,null,null,null,null,null,null,null,null,null,null,null,null,{"$f":"IF(1477<=$B$10,IF(LEN('３学期'!AM13)=0,\"\",IF('３学期'!AM13=$B$8,IF(LEN('３学期'!AP13)=0,\"\",'３学期'!AP13),\"\")),\"\")","v":""},{"$f":"IF(LEN(O1477)=0,\"\",IF(COUNTIF($O$2:$O$1921,O1477+1)>0,\"\",IF(COUNTIF($O$2:O1477,O1477)>1,\"\",O1477+1)))","v":""}]
[null,null,null,null,null,null,null,null,null,null,null,null,null,null,{"$f":"IF(1478<=$B$10,IF(LEN('３学期'!AM16)=0,\"\",IF('３学期'!AM16=$B$8,IF(LEN('３学期'!AP16)=0,\"\",'３学期'!AP16),\"\")),\"\")","v":""},{"$f":"IF(LEN(O1478)=0,\"\",IF(COUNTIF($O$2:$O$1921,O1478+1)>0,\"\",IF(COUNTIF($O$2:O1478,O1478)>1,\"\",O1478+1)))","v":""}]
[null,null,null,null,null,null,null,null,null,null,null,null,null,null,{"$f":"IF(1479<=$B$10,IF(LEN('３学期'!AM19)=0,\"\",IF('３学期'!AM19=$B$8,IF(LEN('３学期'!AP19)=0,\"\",'３学期'!AP19),\"\")),\"\")","v":""},{"$f":"IF(LEN(O1479)=0,\"\",IF(COUNTIF($O$2:$O$1921,O1479+1)>0,\"\",IF(COUNTIF($O$2:O1479,O1479)>1,\"\",O1479+1)))","v":""}]
[null,null,null,null,null,null,null,null,null,null,null,null,null,null,{"$f":"IF(1480<=$B$10,IF(LEN('３学期'!AM22)=0,\"\",IF('３学期'!AM22=$B$8,IF(LEN('３学期'!AP22)=0,\"\",'３学期'!AP22),\"\")),\"\")","v":""},{"$f":"IF(LEN(O1480)=0,\"\",IF(COUNTIF($O$2:$O$1921,O1480+1)>0,\"\",IF(COUNTIF($O$2:O1480,O1480)>1,\"\",O1480+1)))","v":""}]
[null,null,null,null,null,null,null,null,null,null,null,null,null,null,{"$f":"IF(1481<=$B$10,IF(LEN('３学期'!AM25)=0,\"\",IF('３学期'!AM25=$B$8,IF(LEN('３学期'!AP25)=0,\"\",'３学期'!AP25),\"\")),\"\")","v":""},{"$f":"IF(LEN(O1481)=0,\"\",IF(COUNTIF($O$2:$O$1921,O1481+1)>0,\"\",IF(COUNTIF($O$2:O1481,O1481)>1,\"\",O1481+1)))","v":""}]
[null,null,null,null,null,null,null,null,null,null,null,null,null,null,{"$f":"IF(1482<=$B$10,IF(LEN('３学期'!AQ6)=0,\"\",IF('３学期'!AQ6=$B$8,IF(LEN('３学期'!AT6)=0,\"\",'３学期'!AT6),\"\")),\"\")","v":""},{"$f":"IF(LEN(O1482)=0,\"\",IF(COUNTIF($O$2:$O$1921,O1482+1)>0,\"\",IF(COUNTIF($O$2:O1482,O1482)>1,\"\",O1482+1)))","v":""}]
[null,null,null,null,null,null,null,null,null,null,null,null,null,null,{"$f":"IF(1483<=$B$10,IF(LEN('３学期'!AQ7)=0,\"\",IF('３学期'!AQ7=$B$8,IF(LEN('３学期'!AT7)=0,\"\",'３学期'!AT7),\"\")),\"\")","v":""},{"$f":"IF(LEN(O1483)=0,\"\",IF(COUNTIF($O$2:$O$1921,O1483+1)>0,\"\",IF(COUNTIF($O$2:O1483,O1483)>1,\"\",O1483+1)))","v":""}]
[null,null,null,null,null,null,null,null,null,null,null,null,null,null,{"$f":"IF(1484<=$B$10,IF(LEN('３学期'!AQ10)=0,\"\",IF('３学期'!AQ10=$B$8,IF(LEN('３学期'!AT10)=0,\"\",'３学期'!AT10),\"\")),\"\")","v":""},{"$f":"IF(LEN(O1484)=0,\"\",IF(COUNTIF($O$2:$O$1921,O1484+1)>0,\"\",IF(COUNTIF($O$2:O1484,O1484)>1,\"\",O1484+1)))","v":""}]
[null,null,null,null,null,null,null,null,null,null,null,null,null,null,{"$f":"IF(1485<=$B$10,IF(LEN('３学期'!AQ13)=0,\"\",IF('３学期'!AQ13=$B$8,IF(LEN('３学期'!AT13)=0,\"\",'３学期'!AT13),\"\")),\"\")","v":""},{"$f":"IF(LEN(O1485)=0,\"\",IF(COUNTIF($O$2:$O$1921,O1485+1)>0,\"\",IF(COUNTIF($O$2:O1485,O1485)>1,\"\",O1485+1)))","v":""}]
[null,null,null,null,null,null,null,null,null,null,null,null,null,null,{"$f":"IF(1486<=$B$10,IF(LEN('３学期'!AQ16)=0,\"\",IF('３学期'!AQ16=$B$8,IF(LEN('３学期'!AT16)=0,\"\",'３学期'!AT16),\"\")),\"\")","v":""},{"$f":"IF(LEN(O1486)=0,\"\",IF(COUNTIF($O$2:$O$1921,O1486+1)>0,\"\",IF(COUNTIF($O$2:O1486,O1486)>1,\"\",O1486+1)))","v":""}]
[null,null,null,null,null,null,null,null,null,null,null,null,null,null,{"$f":"IF(1487<=$B$10,IF(LEN('３学期'!AQ19)=0,\"\",IF('３学期'!AQ19=$B$8,IF(LEN('３学期'!AT19)=0,\"\",'３学期'!AT19),\"\")),\"\")","v":""},{"$f":"IF(LEN(O1487)=0,\"\",IF(COUNTIF($O$2:$O$1921,O1487+1)>0,\"\",IF(COUNTIF($O$2:O1487,O1487)>1,\"\",O1487+1)))","v":""}]
[null,null,null,null,null,null,null,null,null,null,null,null,null,null,{"$f":"IF(1488<=$B$10,IF(LEN('３学期'!AQ22)=0,\"\",IF('３学期'!AQ22=$B$8,IF(LEN('３学期'!AT22)=0,\"\",'３学期'!AT22),\"\")),\"\")","v":""},{"$f":"IF(LEN(O1488)=0,\"\",IF(COUNTIF($O$2:$O$1921,O1488+1)>0,\"\",IF(COUNTIF($O$2:O1488,O1488)>1,\"\",O1488+1)))","v":""}]
[null,null,null,null,null,null,null,null,null,null,null,null,null,null,{"$f":"IF(1489<=$B$10,IF(LEN('３学期'!AQ25)=0,\"\",IF('３学期'!AQ25=$B$8,IF(LEN('３学期'!AT25)=0,\"\",'３学期'!AT25),\"\")),\"\")","v":""},{"$f":"IF(LEN(O1489)=0,\"\",IF(COUNTIF($O$2:$O$1921,O1489+1)>0,\"\",IF(COUNTIF($O$2:O1489,O1489)>1,\"\",O1489+1)))","v":""}]
[null,null,null,null,null,null,null,null,null,null,null,null,null,null,{"$f":"IF(1490<=$B$10,IF(LEN('３学期'!AU6)=0,\"\",IF('３学期'!AU6=$B$8,IF(LEN('３学期'!AX6)=0,\"\",'３学期'!AX6),\"\")),\"\")","v":""},{"$f":"IF(LEN(O1490)=0,\"\",IF(COUNTIF($O$2:$O$1921,O1490+1)>0,\"\",IF(COUNTIF($O$2:O1490,O1490)>1,\"\",O1490+1)))","v":""}]
[null,null,null,null,null,null,null,null,null,null,null,null,null,null,{"$f":"IF(1491<=$B$10,IF(LEN('３学期'!AU7)=0,\"\",IF('３学期'!AU7=$B$8,IF(LEN('３学期'!AX7)=0,\"\",'３学期'!AX7),\"\")),\"\")","v":""},{"$f":"IF(LEN(O1491)=0,\"\",IF(COUNTIF($O$2:$O$1921,O1491+1)>0,\"\",IF(COUNTIF($O$2:O1491,O1491)>1,\"\",O1491+1)))","v":""}]
[null,null,null,null,null,null,null,null,null,null,null,null,null,null,{"$f":"IF(1492<=$B$10,IF(LEN('３学期'!AU10)=0,\"\",IF('３学期'!AU10=$B$8,IF(LEN('３学期'!AX10)=0,\"\",'３学期'!AX10),\"\")),\"\")","v":""},{"$f":"IF(LEN(O1492)=0,\"\",IF(COUNTIF($O$2:$O$1921,O1492+1)>0,\"\",IF(COUNTIF($O$2:O1492,O1492)>1,\"\",O1492+1)))","v":""}]
[null,null,null,null,null,null,null,null,null,null,null,null,null,null,{"$f":"IF(1493<=$B$10,IF(LEN('３学期'!AU13)=0,\"\",IF('３学期'!AU13=$B$8,IF(LEN('３学期'!AX13)=0,\"\",'３学期'!AX13),\"\")),\"\")","v":""},{"$f":"IF(LEN(O1493)=0,\"\",IF(COUNTIF($O$2:$O$1921,O1493+1)>0,\"\",IF(COUNTIF($O$2:O1493,O1493)>1,\"\",O1493+1)))","v":""}]
[null,null,null,null,null,null,null,null,null,null,null,null,null,null,{"$f":"IF(1494<=$B$10,IF(LEN('３学期'!AU16)=0,\"\",IF('３学期'!AU16=$B$8,IF(LEN('３学期'!AX16)=0,\"\",'３学期'!AX16),\"\")),\"\")","v":""},{"$f":"IF(LEN(O1494)=0,\"\",IF(COUNTIF($O$2:$O$1921,O1494+1)>0,\"\",IF(COUNTIF($O$2:O1494,O1494)>1,\"\",O1494+1)))","v":""}]
[null,null,null,null,null,null,null,null,null,null,null,null,null,null,{"$f":"IF(1495<=$B$10,IF(LEN('３学期'!AU19)=0,\"\",IF('３学期'!AU19=$B$8,IF(LEN('３学期'!AX19)=0,\"\",'３学期'!AX19),\"\")),\"\")","v":""},{"$f":"IF(LEN(O1495)=0,\"\",IF(COUNTIF($O$2:$O$1921,O1495+1)>0,\"\",IF(COUNTIF($O$2:O1495,O1495)>1,\"\",O1495+1)))","v":""}]
[null,null,null,null,null,null,null,null,null,null,null,null,null,null,{"$f":"IF(1496<=$B$10,IF(LEN('３学期'!AU22)=0,\"\",IF('３学期'!AU22=$B$8,IF(LEN('３学期'!AX22)=0,\"\",'３学期'!AX22),\"\")),\"\")","v":""},{"$f":"IF(LEN(O1496)=0,\"\",IF(COUNTIF($O$2:$O$1921,O1496+1)>0,\"\",IF(COUNTIF($O$2:O1496,O1496)>1,\"\",O1496+1)))","v":""}]
[null,null,null,null,null,null,null,null,null,null,null,null,null,null,{"$f":"IF(1497<=$B$10,IF(LEN('３学期'!AU25)=0,\"\",IF('３学期'!AU25=$B$8,IF(LEN('３学期'!AX25)=0,\"\",'３学期'!AX25),\"\")),\"\")","v":""},{"$f":"IF(LEN(O1497)=0,\"\",IF(COUNTIF($O$2:$O$1921,O1497+1)>0,\"\",IF(COUNTIF($O$2:O1497,O1497)>1,\"\",O1497+1)))","v":""}]
[null,null,null,null,null,null,null,null,null,null,null,null,null,null,{"$f":"IF(1498<=$B$10,IF(LEN('３学期'!AY6)=0,\"\",IF('３学期'!AY6=$B$8,IF(LEN('３学期'!BB6)=0,\"\",'３学期'!BB6),\"\")),\"\")","v":""},{"$f":"IF(LEN(O1498)=0,\"\",IF(COUNTIF($O$2:$O$1921,O1498+1)>0,\"\",IF(COUNTIF($O$2:O1498,O1498)>1,\"\",O1498+1)))","v":""}]
[null,null,null,null,null,null,null,null,null,null,null,null,null,null,{"$f":"IF(1499<=$B$10,IF(LEN('３学期'!AY7)=0,\"\",IF('３学期'!AY7=$B$8,IF(LEN('３学期'!BB7)=0,\"\",'３学期'!BB7),\"\")),\"\")","v":""},{"$f":"IF(LEN(O1499)=0,\"\",IF(COUNTIF($O$2:$O$1921,O1499+1)>0,\"\",IF(COUNTIF($O$2:O1499,O1499)>1,\"\",O1499+1)))","v":""}]
[null,null,null,null,null,null,null,null,null,null,null,null,null,null,{"$f":"IF(1500<=$B$10,IF(LEN('３学期'!AY10)=0,\"\",IF('３学期'!AY10=$B$8,IF(LEN('３学期'!BB10)=0,\"\",'３学期'!BB10),\"\")),\"\")","v":""},{"$f":"IF(LEN(O1500)=0,\"\",IF(COUNTIF($O$2:$O$1921,O1500+1)>0,\"\",IF(COUNTIF($O$2:O1500,O1500)>1,\"\",O1500+1)))","v":""}]
[null,null,null,null,null,null,null,null,null,null,null,null,null,null,{"$f":"IF(1501<=$B$10,IF(LEN('３学期'!AY13)=0,\"\",IF('３学期'!AY13=$B$8,IF(LEN('３学期'!BB13)=0,\"\",'３学期'!BB13),\"\")),\"\")","v":""},{"$f":"IF(LEN(O1501)=0,\"\",IF(COUNTIF($O$2:$O$1921,O1501+1)>0,\"\",IF(COUNTIF($O$2:O1501,O1501)>1,\"\",O1501+1)))","v":""}]
[null,null,null,null,null,null,null,null,null,null,null,null,null,null,{"$f":"IF(1502<=$B$10,IF(LEN('３学期'!AY16)=0,\"\",IF('３学期'!AY16=$B$8,IF(LEN('３学期'!BB16)=0,\"\",'３学期'!BB16),\"\")),\"\")","v":""},{"$f":"IF(LEN(O1502)=0,\"\",IF(COUNTIF($O$2:$O$1921,O1502+1)>0,\"\",IF(COUNTIF($O$2:O1502,O1502)>1,\"\",O1502+1)))","v":""}]
[null,null,null,null,null,null,null,null,null,null,null,null,null,null,{"$f":"IF(1503<=$B$10,IF(LEN('３学期'!AY19)=0,\"\",IF('３学期'!AY19=$B$8,IF(LEN('３学期'!BB19)=0,\"\",'３学期'!BB19),\"\")),\"\")","v":""},{"$f":"IF(LEN(O1503)=0,\"\",IF(COUNTIF($O$2:$O$1921,O1503+1)>0,\"\",IF(COUNTIF($O$2:O1503,O1503)>1,\"\",O1503+1)))","v":""}]
[null,null,null,null,null,null,null,null,null,null,null,null,null,null,{"$f":"IF(1504<=$B$10,IF(LEN('３学期'!AY22)=0,\"\",IF('３学期'!AY22=$B$8,IF(LEN('３学期'!BB22)=0,\"\",'３学期'!BB22),\"\")),\"\")","v":""},{"$f":"IF(LEN(O1504)=0,\"\",IF(COUNTIF($O$2:$O$1921,O1504+1)>0,\"\",IF(COUNTIF($O$2:O1504,O1504)>1,\"\",O1504+1)))","v":""}]
[null,null,null,null,null,null,null,null,null,null,null,null,null,null,{"$f":"IF(1505<=$B$10,IF(LEN('３学期'!AY25)=0,\"\",IF('３学期'!AY25=$B$8,IF(LEN('３学期'!BB25)=0,\"\",'３学期'!BB25),\"\")),\"\")","v":""},{"$f":"IF(LEN(O1505)=0,\"\",IF(COUNTIF($O$2:$O$1921,O1505+1)>0,\"\",IF(COUNTIF($O$2:O1505,O1505)>1,\"\",O1505+1)))","v":""}]
[null,null,null,null,null,null,null,null,null,null,null,null,null,null,{"$f":"IF(1506<=$B$10,IF(LEN('３学期'!BC6)=0,\"\",IF('３学期'!BC6=$B$8,IF(LEN('３学期'!BF6)=0,\"\",'３学期'!BF6),\"\")),\"\")","v":""},{"$f":"IF(LEN(O1506)=0,\"\",IF(COUNTIF($O$2:$O$1921,O1506+1)>0,\"\",IF(COUNTIF($O$2:O1506,O1506)>1,\"\",O1506+1)))","v":""}]
[null,null,null,null,null,null,null,null,null,null,null,null,null,null,{"$f":"IF(1507<=$B$10,IF(LEN('３学期'!BC7)=0,\"\",IF('３学期'!BC7=$B$8,IF(LEN('３学期'!BF7)=0,\"\",'３学期'!BF7),\"\")),\"\")","v":""},{"$f":"IF(LEN(O1507)=0,\"\",IF(COUNTIF($O$2:$O$1921,O1507+1)>0,\"\",IF(COUNTIF($O$2:O1507,O1507)>1,\"\",O1507+1)))","v":""}]
[null,null,null,null,null,null,null,null,null,null,null,null,null,null,{"$f":"IF(1508<=$B$10,IF(LEN('３学期'!BC10)=0,\"\",IF('３学期'!BC10=$B$8,IF(LEN('３学期'!BF10)=0,\"\",'３学期'!BF10),\"\")),\"\")","v":""},{"$f":"IF(LEN(O1508)=0,\"\",IF(COUNTIF($O$2:$O$1921,O1508+1)>0,\"\",IF(COUNTIF($O$2:O1508,O1508)>1,\"\",O1508+1)))","v":""}]
[null,null,null,null,null,null,null,null,null,null,null,null,null,null,{"$f":"IF(1509<=$B$10,IF(LEN('３学期'!BC13)=0,\"\",IF('３学期'!BC13=$B$8,IF(LEN('３学期'!BF13)=0,\"\",'３学期'!BF13),\"\")),\"\")","v":""},{"$f":"IF(LEN(O1509)=0,\"\",IF(COUNTIF($O$2:$O$1921,O1509+1)>0,\"\",IF(COUNTIF($O$2:O1509,O1509)>1,\"\",O1509+1)))","v":""}]
[null,null,null,null,null,null,null,null,null,null,null,null,null,null,{"$f":"IF(1510<=$B$10,IF(LEN('３学期'!BC16)=0,\"\",IF('３学期'!BC16=$B$8,IF(LEN('３学期'!BF16)=0,\"\",'３学期'!BF16),\"\")),\"\")","v":""},{"$f":"IF(LEN(O1510)=0,\"\",IF(COUNTIF($O$2:$O$1921,O1510+1)>0,\"\",IF(COUNTIF($O$2:O1510,O1510)>1,\"\",O1510+1)))","v":""}]
[null,null,null,null,null,null,null,null,null,null,null,null,null,null,{"$f":"IF(1511<=$B$10,IF(LEN('３学期'!BC19)=0,\"\",IF('３学期'!BC19=$B$8,IF(LEN('３学期'!BF19)=0,\"\",'３学期'!BF19),\"\")),\"\")","v":""},{"$f":"IF(LEN(O1511)=0,\"\",IF(COUNTIF($O$2:$O$1921,O1511+1)>0,\"\",IF(COUNTIF($O$2:O1511,O1511)>1,\"\",O1511+1)))","v":""}]
[null,null,null,null,null,null,null,null,null,null,null,null,null,null,{"$f":"IF(1512<=$B$10,IF(LEN('３学期'!BC22)=0,\"\",IF('３学期'!BC22=$B$8,IF(LEN('３学期'!BF22)=0,\"\",'３学期'!BF22),\"\")),\"\")","v":""},{"$f":"IF(LEN(O1512)=0,\"\",IF(COUNTIF($O$2:$O$1921,O1512+1)>0,\"\",IF(COUNTIF($O$2:O1512,O1512)>1,\"\",O1512+1)))","v":""}]
[null,null,null,null,null,null,null,null,null,null,null,null,null,null,{"$f":"IF(1513<=$B$10,IF(LEN('３学期'!BC25)=0,\"\",IF('３学期'!BC25=$B$8,IF(LEN('３学期'!BF25)=0,\"\",'３学期'!BF25),\"\")),\"\")","v":""},{"$f":"IF(LEN(O1513)=0,\"\",IF(COUNTIF($O$2:$O$1921,O1513+1)>0,\"\",IF(COUNTIF($O$2:O1513,O1513)>1,\"\",O1513+1)))","v":""}]
[null,null,null,null,null,null,null,null,null,null,null,null,null,null,{"$f":"IF(1514<=$B$10,IF(LEN('３学期'!BG6)=0,\"\",IF('３学期'!BG6=$B$8,IF(LEN('３学期'!BJ6)=0,\"\",'３学期'!BJ6),\"\")),\"\")","v":""},{"$f":"IF(LEN(O1514)=0,\"\",IF(COUNTIF($O$2:$O$1921,O1514+1)>0,\"\",IF(COUNTIF($O$2:O1514,O1514)>1,\"\",O1514+1)))","v":""}]
[null,null,null,null,null,null,null,null,null,null,null,null,null,null,{"$f":"IF(1515<=$B$10,IF(LEN('３学期'!BG7)=0,\"\",IF('３学期'!BG7=$B$8,IF(LEN('３学期'!BJ7)=0,\"\",'３学期'!BJ7),\"\")),\"\")","v":""},{"$f":"IF(LEN(O1515)=0,\"\",IF(COUNTIF($O$2:$O$1921,O1515+1)>0,\"\",IF(COUNTIF($O$2:O1515,O1515)>1,\"\",O1515+1)))","v":""}]
[null,null,null,null,null,null,null,null,null,null,null,null,null,null,{"$f":"IF(1516<=$B$10,IF(LEN('３学期'!BG10)=0,\"\",IF('３学期'!BG10=$B$8,IF(LEN('３学期'!BJ10)=0,\"\",'３学期'!BJ10),\"\")),\"\")","v":""},{"$f":"IF(LEN(O1516)=0,\"\",IF(COUNTIF($O$2:$O$1921,O1516+1)>0,\"\",IF(COUNTIF($O$2:O1516,O1516)>1,\"\",O1516+1)))","v":""}]
[null,null,null,null,null,null,null,null,null,null,null,null,null,null,{"$f":"IF(1517<=$B$10,IF(LEN('３学期'!BG13)=0,\"\",IF('３学期'!BG13=$B$8,IF(LEN('３学期'!BJ13)=0,\"\",'３学期'!BJ13),\"\")),\"\")","v":""},{"$f":"IF(LEN(O1517)=0,\"\",IF(COUNTIF($O$2:$O$1921,O1517+1)>0,\"\",IF(COUNTIF($O$2:O1517,O1517)>1,\"\",O1517+1)))","v":""}]
[null,null,null,null,null,null,null,null,null,null,null,null,null,null,{"$f":"IF(1518<=$B$10,IF(LEN('３学期'!BG16)=0,\"\",IF('３学期'!BG16=$B$8,IF(LEN('３学期'!BJ16)=0,\"\",'３学期'!BJ16),\"\")),\"\")","v":""},{"$f":"IF(LEN(O1518)=0,\"\",IF(COUNTIF($O$2:$O$1921,O1518+1)>0,\"\",IF(COUNTIF($O$2:O1518,O1518)>1,\"\",O1518+1)))","v":""}]
[null,null,null,null,null,null,null,null,null,null,null,null,null,null,{"$f":"IF(1519<=$B$10,IF(LEN('３学期'!BG19)=0,\"\",IF('３学期'!BG19=$B$8,IF(LEN('３学期'!BJ19)=0,\"\",'３学期'!BJ19),\"\")),\"\")","v":""},{"$f":"IF(LEN(O1519)=0,\"\",IF(COUNTIF($O$2:$O$1921,O1519+1)>0,\"\",IF(COUNTIF($O$2:O1519,O1519)>1,\"\",O1519+1)))","v":""}]
[null,null,null,null,null,null,null,null,null,null,null,null,null,null,{"$f":"IF(1520<=$B$10,IF(LEN('３学期'!BG22)=0,\"\",IF('３学期'!BG22=$B$8,IF(LEN('３学期'!BJ22)=0,\"\",'３学期'!BJ22),\"\")),\"\")","v":""},{"$f":"IF(LEN(O1520)=0,\"\",IF(COUNTIF($O$2:$O$1921,O1520+1)>0,\"\",IF(COUNTIF($O$2:O1520,O1520)>1,\"\",O1520+1)))","v":""}]
[null,null,null,null,null,null,null,null,null,null,null,null,null,null,{"$f":"IF(1521<=$B$10,IF(LEN('３学期'!BG25)=0,\"\",IF('３学期'!BG25=$B$8,IF(LEN('３学期'!BJ25)=0,\"\",'３学期'!BJ25),\"\")),\"\")","v":""},{"$f":"IF(LEN(O1521)=0,\"\",IF(COUNTIF($O$2:$O$1921,O1521+1)>0,\"\",IF(COUNTIF($O$2:O1521,O1521)>1,\"\",O1521+1)))","v":""}]
[null,null,null,null,null,null,null,null,null,null,null,null,null,null,{"$f":"IF(1522<=$B$10,IF(LEN('３学期'!BK6)=0,\"\",IF('３学期'!BK6=$B$8,IF(LEN('３学期'!BN6)=0,\"\",'３学期'!BN6),\"\")),\"\")","v":""},{"$f":"IF(LEN(O1522)=0,\"\",IF(COUNTIF($O$2:$O$1921,O1522+1)>0,\"\",IF(COUNTIF($O$2:O1522,O1522)>1,\"\",O1522+1)))","v":""}]
[null,null,null,null,null,null,null,null,null,null,null,null,null,null,{"$f":"IF(1523<=$B$10,IF(LEN('３学期'!BK7)=0,\"\",IF('３学期'!BK7=$B$8,IF(LEN('３学期'!BN7)=0,\"\",'３学期'!BN7),\"\")),\"\")","v":""},{"$f":"IF(LEN(O1523)=0,\"\",IF(COUNTIF($O$2:$O$1921,O1523+1)>0,\"\",IF(COUNTIF($O$2:O1523,O1523)>1,\"\",O1523+1)))","v":""}]
[null,null,null,null,null,null,null,null,null,null,null,null,null,null,{"$f":"IF(1524<=$B$10,IF(LEN('３学期'!BK10)=0,\"\",IF('３学期'!BK10=$B$8,IF(LEN('３学期'!BN10)=0,\"\",'３学期'!BN10),\"\")),\"\")","v":""},{"$f":"IF(LEN(O1524)=0,\"\",IF(COUNTIF($O$2:$O$1921,O1524+1)>0,\"\",IF(COUNTIF($O$2:O1524,O1524)>1,\"\",O1524+1)))","v":""}]
[null,null,null,null,null,null,null,null,null,null,null,null,null,null,{"$f":"IF(1525<=$B$10,IF(LEN('３学期'!BK13)=0,\"\",IF('３学期'!BK13=$B$8,IF(LEN('３学期'!BN13)=0,\"\",'３学期'!BN13),\"\")),\"\")","v":""},{"$f":"IF(LEN(O1525)=0,\"\",IF(COUNTIF($O$2:$O$1921,O1525+1)>0,\"\",IF(COUNTIF($O$2:O1525,O1525)>1,\"\",O1525+1)))","v":""}]
[null,null,null,null,null,null,null,null,null,null,null,null,null,null,{"$f":"IF(1526<=$B$10,IF(LEN('３学期'!BK16)=0,\"\",IF('３学期'!BK16=$B$8,IF(LEN('３学期'!BN16)=0,\"\",'３学期'!BN16),\"\")),\"\")","v":""},{"$f":"IF(LEN(O1526)=0,\"\",IF(COUNTIF($O$2:$O$1921,O1526+1)>0,\"\",IF(COUNTIF($O$2:O1526,O1526)>1,\"\",O1526+1)))","v":""}]
[null,null,null,null,null,null,null,null,null,null,null,null,null,null,{"$f":"IF(1527<=$B$10,IF(LEN('３学期'!BK19)=0,\"\",IF('３学期'!BK19=$B$8,IF(LEN('３学期'!BN19)=0,\"\",'３学期'!BN19),\"\")),\"\")","v":""},{"$f":"IF(LEN(O1527)=0,\"\",IF(COUNTIF($O$2:$O$1921,O1527+1)>0,\"\",IF(COUNTIF($O$2:O1527,O1527)>1,\"\",O1527+1)))","v":""}]
[null,null,null,null,null,null,null,null,null,null,null,null,null,null,{"$f":"IF(1528<=$B$10,IF(LEN('３学期'!BK22)=0,\"\",IF('３学期'!BK22=$B$8,IF(LEN('３学期'!BN22)=0,\"\",'３学期'!BN22),\"\")),\"\")","v":""},{"$f":"IF(LEN(O1528)=0,\"\",IF(COUNTIF($O$2:$O$1921,O1528+1)>0,\"\",IF(COUNTIF($O$2:O1528,O1528)>1,\"\",O1528+1)))","v":""}]
[null,null,null,null,null,null,null,null,null,null,null,null,null,null,{"$f":"IF(1529<=$B$10,IF(LEN('３学期'!BK25)=0,\"\",IF('３学期'!BK25=$B$8,IF(LEN('３学期'!BN25)=0,\"\",'３学期'!BN25),\"\")),\"\")","v":""},{"$f":"IF(LEN(O1529)=0,\"\",IF(COUNTIF($O$2:$O$1921,O1529+1)>0,\"\",IF(COUNTIF($O$2:O1529,O1529)>1,\"\",O1529+1)))","v":""}]
[null,null,null,null,null,null,null,null,null,null,null,null,null,null,{"$f":"IF(1530<=$B$10,IF(LEN('３学期'!BO6)=0,\"\",IF('３学期'!BO6=$B$8,IF(LEN('３学期'!BR6)=0,\"\",'３学期'!BR6),\"\")),\"\")","v":""},{"$f":"IF(LEN(O1530)=0,\"\",IF(COUNTIF($O$2:$O$1921,O1530+1)>0,\"\",IF(COUNTIF($O$2:O1530,O1530)>1,\"\",O1530+1)))","v":""}]
[null,null,null,null,null,null,null,null,null,null,null,null,null,null,{"$f":"IF(1531<=$B$10,IF(LEN('３学期'!BO7)=0,\"\",IF('３学期'!BO7=$B$8,IF(LEN('３学期'!BR7)=0,\"\",'３学期'!BR7),\"\")),\"\")","v":""},{"$f":"IF(LEN(O1531)=0,\"\",IF(COUNTIF($O$2:$O$1921,O1531+1)>0,\"\",IF(COUNTIF($O$2:O1531,O1531)>1,\"\",O1531+1)))","v":""}]
[null,null,null,null,null,null,null,null,null,null,null,null,null,null,{"$f":"IF(1532<=$B$10,IF(LEN('３学期'!BO10)=0,\"\",IF('３学期'!BO10=$B$8,IF(LEN('３学期'!BR10)=0,\"\",'３学期'!BR10),\"\")),\"\")","v":""},{"$f":"IF(LEN(O1532)=0,\"\",IF(COUNTIF($O$2:$O$1921,O1532+1)>0,\"\",IF(COUNTIF($O$2:O1532,O1532)>1,\"\",O1532+1)))","v":""}]
[null,null,null,null,null,null,null,null,null,null,null,null,null,null,{"$f":"IF(1533<=$B$10,IF(LEN('３学期'!BO13)=0,\"\",IF('３学期'!BO13=$B$8,IF(LEN('３学期'!BR13)=0,\"\",'３学期'!BR13),\"\")),\"\")","v":""},{"$f":"IF(LEN(O1533)=0,\"\",IF(COUNTIF($O$2:$O$1921,O1533+1)>0,\"\",IF(COUNTIF($O$2:O1533,O1533)>1,\"\",O1533+1)))","v":""}]
[null,null,null,null,null,null,null,null,null,null,null,null,null,null,{"$f":"IF(1534<=$B$10,IF(LEN('３学期'!BO16)=0,\"\",IF('３学期'!BO16=$B$8,IF(LEN('３学期'!BR16)=0,\"\",'３学期'!BR16),\"\")),\"\")","v":""},{"$f":"IF(LEN(O1534)=0,\"\",IF(COUNTIF($O$2:$O$1921,O1534+1)>0,\"\",IF(COUNTIF($O$2:O1534,O1534)>1,\"\",O1534+1)))","v":""}]
[null,null,null,null,null,null,null,null,null,null,null,null,null,null,{"$f":"IF(1535<=$B$10,IF(LEN('３学期'!BO19)=0,\"\",IF('３学期'!BO19=$B$8,IF(LEN('３学期'!BR19)=0,\"\",'３学期'!BR19),\"\")),\"\")","v":""},{"$f":"IF(LEN(O1535)=0,\"\",IF(COUNTIF($O$2:$O$1921,O1535+1)>0,\"\",IF(COUNTIF($O$2:O1535,O1535)>1,\"\",O1535+1)))","v":""}]
[null,null,null,null,null,null,null,null,null,null,null,null,null,null,{"$f":"IF(1536<=$B$10,IF(LEN('３学期'!BO22)=0,\"\",IF('３学期'!BO22=$B$8,IF(LEN('３学期'!BR22)=0,\"\",'３学期'!BR22),\"\")),\"\")","v":""},{"$f":"IF(LEN(O1536)=0,\"\",IF(COUNTIF($O$2:$O$1921,O1536+1)>0,\"\",IF(COUNTIF($O$2:O1536,O1536)>1,\"\",O1536+1)))","v":""}]
[null,null,null,null,null,null,null,null,null,null,null,null,null,null,{"$f":"IF(1537<=$B$10,IF(LEN('３学期'!BO25)=0,\"\",IF('３学期'!BO25=$B$8,IF(LEN('３学期'!BR25)=0,\"\",'３学期'!BR25),\"\")),\"\")","v":""},{"$f":"IF(LEN(O1537)=0,\"\",IF(COUNTIF($O$2:$O$1921,O1537+1)>0,\"\",IF(COUNTIF($O$2:O1537,O1537)>1,\"\",O1537+1)))","v":""}]
[null,null,null,null,null,null,null,null,null,null,null,null,null,null,{"$f":"IF(1538<=$B$10,IF(LEN('３学期'!BS6)=0,\"\",IF('３学期'!BS6=$B$8,IF(LEN('３学期'!BV6)=0,\"\",'３学期'!BV6),\"\")),\"\")","v":""},{"$f":"IF(LEN(O1538)=0,\"\",IF(COUNTIF($O$2:$O$1921,O1538+1)>0,\"\",IF(COUNTIF($O$2:O1538,O1538)>1,\"\",O1538+1)))","v":""}]
[null,null,null,null,null,null,null,null,null,null,null,null,null,null,{"$f":"IF(1539<=$B$10,IF(LEN('３学期'!BS7)=0,\"\",IF('３学期'!BS7=$B$8,IF(LEN('３学期'!BV7)=0,\"\",'３学期'!BV7),\"\")),\"\")","v":""},{"$f":"IF(LEN(O1539)=0,\"\",IF(COUNTIF($O$2:$O$1921,O1539+1)>0,\"\",IF(COUNTIF($O$2:O1539,O1539)>1,\"\",O1539+1)))","v":""}]
[null,null,null,null,null,null,null,null,null,null,null,null,null,null,{"$f":"IF(1540<=$B$10,IF(LEN('３学期'!BS10)=0,\"\",IF('３学期'!BS10=$B$8,IF(LEN('３学期'!BV10)=0,\"\",'３学期'!BV10),\"\")),\"\")","v":""},{"$f":"IF(LEN(O1540)=0,\"\",IF(COUNTIF($O$2:$O$1921,O1540+1)>0,\"\",IF(COUNTIF($O$2:O1540,O1540)>1,\"\",O1540+1)))","v":""}]
[null,null,null,null,null,null,null,null,null,null,null,null,null,null,{"$f":"IF(1541<=$B$10,IF(LEN('３学期'!BS13)=0,\"\",IF('３学期'!BS13=$B$8,IF(LEN('３学期'!BV13)=0,\"\",'３学期'!BV13),\"\")),\"\")","v":""},{"$f":"IF(LEN(O1541)=0,\"\",IF(COUNTIF($O$2:$O$1921,O1541+1)>0,\"\",IF(COUNTIF($O$2:O1541,O1541)>1,\"\",O1541+1)))","v":""}]
[null,null,null,null,null,null,null,null,null,null,null,null,null,null,{"$f":"IF(1542<=$B$10,IF(LEN('３学期'!BS16)=0,\"\",IF('３学期'!BS16=$B$8,IF(LEN('３学期'!BV16)=0,\"\",'３学期'!BV16),\"\")),\"\")","v":""},{"$f":"IF(LEN(O1542)=0,\"\",IF(COUNTIF($O$2:$O$1921,O1542+1)>0,\"\",IF(COUNTIF($O$2:O1542,O1542)>1,\"\",O1542+1)))","v":""}]
[null,null,null,null,null,null,null,null,null,null,null,null,null,null,{"$f":"IF(1543<=$B$10,IF(LEN('３学期'!BS19)=0,\"\",IF('３学期'!BS19=$B$8,IF(LEN('３学期'!BV19)=0,\"\",'３学期'!BV19),\"\")),\"\")","v":""},{"$f":"IF(LEN(O1543)=0,\"\",IF(COUNTIF($O$2:$O$1921,O1543+1)>0,\"\",IF(COUNTIF($O$2:O1543,O1543)>1,\"\",O1543+1)))","v":""}]
[null,null,null,null,null,null,null,null,null,null,null,null,null,null,{"$f":"IF(1544<=$B$10,IF(LEN('３学期'!BS22)=0,\"\",IF('３学期'!BS22=$B$8,IF(LEN('３学期'!BV22)=0,\"\",'３学期'!BV22),\"\")),\"\")","v":""},{"$f":"IF(LEN(O1544)=0,\"\",IF(COUNTIF($O$2:$O$1921,O1544+1)>0,\"\",IF(COUNTIF($O$2:O1544,O1544)>1,\"\",O1544+1)))","v":""}]
[null,null,null,null,null,null,null,null,null,null,null,null,null,null,{"$f":"IF(1545<=$B$10,IF(LEN('３学期'!BS25)=0,\"\",IF('３学期'!BS25=$B$8,IF(LEN('３学期'!BV25)=0,\"\",'３学期'!BV25),\"\")),\"\")","v":""},{"$f":"IF(LEN(O1545)=0,\"\",IF(COUNTIF($O$2:$O$1921,O1545+1)>0,\"\",IF(COUNTIF($O$2:O1545,O1545)>1,\"\",O1545+1)))","v":""}]
[null,null,null,null,null,null,null,null,null,null,null,null,null,null,{"$f":"IF(1546<=$B$10,IF(LEN('３学期'!BW6)=0,\"\",IF('３学期'!BW6=$B$8,IF(LEN('３学期'!BZ6)=0,\"\",'３学期'!BZ6),\"\")),\"\")","v":""},{"$f":"IF(LEN(O1546)=0,\"\",IF(COUNTIF($O$2:$O$1921,O1546+1)>0,\"\",IF(COUNTIF($O$2:O1546,O1546)>1,\"\",O1546+1)))","v":""}]
[null,null,null,null,null,null,null,null,null,null,null,null,null,null,{"$f":"IF(1547<=$B$10,IF(LEN('３学期'!BW7)=0,\"\",IF('３学期'!BW7=$B$8,IF(LEN('３学期'!BZ7)=0,\"\",'３学期'!BZ7),\"\")),\"\")","v":""},{"$f":"IF(LEN(O1547)=0,\"\",IF(COUNTIF($O$2:$O$1921,O1547+1)>0,\"\",IF(COUNTIF($O$2:O1547,O1547)>1,\"\",O1547+1)))","v":""}]
[null,null,null,null,null,null,null,null,null,null,null,null,null,null,{"$f":"IF(1548<=$B$10,IF(LEN('３学期'!BW10)=0,\"\",IF('３学期'!BW10=$B$8,IF(LEN('３学期'!BZ10)=0,\"\",'３学期'!BZ10),\"\")),\"\")","v":""},{"$f":"IF(LEN(O1548)=0,\"\",IF(COUNTIF($O$2:$O$1921,O1548+1)>0,\"\",IF(COUNTIF($O$2:O1548,O1548)>1,\"\",O1548+1)))","v":""}]
[null,null,null,null,null,null,null,null,null,null,null,null,null,null,{"$f":"IF(1549<=$B$10,IF(LEN('３学期'!BW13)=0,\"\",IF('３学期'!BW13=$B$8,IF(LEN('３学期'!BZ13)=0,\"\",'３学期'!BZ13),\"\")),\"\")","v":""},{"$f":"IF(LEN(O1549)=0,\"\",IF(COUNTIF($O$2:$O$1921,O1549+1)>0,\"\",IF(COUNTIF($O$2:O1549,O1549)>1,\"\",O1549+1)))","v":""}]
[null,null,null,null,null,null,null,null,null,null,null,null,null,null,{"$f":"IF(1550<=$B$10,IF(LEN('３学期'!BW16)=0,\"\",IF('３学期'!BW16=$B$8,IF(LEN('３学期'!BZ16)=0,\"\",'３学期'!BZ16),\"\")),\"\")","v":""},{"$f":"IF(LEN(O1550)=0,\"\",IF(COUNTIF($O$2:$O$1921,O1550+1)>0,\"\",IF(COUNTIF($O$2:O1550,O1550)>1,\"\",O1550+1)))","v":""}]
[null,null,null,null,null,null,null,null,null,null,null,null,null,null,{"$f":"IF(1551<=$B$10,IF(LEN('３学期'!BW19)=0,\"\",IF('３学期'!BW19=$B$8,IF(LEN('３学期'!BZ19)=0,\"\",'３学期'!BZ19),\"\")),\"\")","v":""},{"$f":"IF(LEN(O1551)=0,\"\",IF(COUNTIF($O$2:$O$1921,O1551+1)>0,\"\",IF(COUNTIF($O$2:O1551,O1551)>1,\"\",O1551+1)))","v":""}]
[null,null,null,null,null,null,null,null,null,null,null,null,null,null,{"$f":"IF(1552<=$B$10,IF(LEN('３学期'!BW22)=0,\"\",IF('３学期'!BW22=$B$8,IF(LEN('３学期'!BZ22)=0,\"\",'３学期'!BZ22),\"\")),\"\")","v":""},{"$f":"IF(LEN(O1552)=0,\"\",IF(COUNTIF($O$2:$O$1921,O1552+1)>0,\"\",IF(COUNTIF($O$2:O1552,O1552)>1,\"\",O1552+1)))","v":""}]
[null,null,null,null,null,null,null,null,null,null,null,null,null,null,{"$f":"IF(1553<=$B$10,IF(LEN('３学期'!BW25)=0,\"\",IF('３学期'!BW25=$B$8,IF(LEN('３学期'!BZ25)=0,\"\",'３学期'!BZ25),\"\")),\"\")","v":""},{"$f":"IF(LEN(O1553)=0,\"\",IF(COUNTIF($O$2:$O$1921,O1553+1)>0,\"\",IF(COUNTIF($O$2:O1553,O1553)>1,\"\",O1553+1)))","v":""}]
[null,null,null,null,null,null,null,null,null,null,null,null,null,null,{"$f":"IF(1554<=$B$10,IF(LEN('３学期'!CA6)=0,\"\",IF('３学期'!CA6=$B$8,IF(LEN('３学期'!CD6)=0,\"\",'３学期'!CD6),\"\")),\"\")","v":""},{"$f":"IF(LEN(O1554)=0,\"\",IF(COUNTIF($O$2:$O$1921,O1554+1)>0,\"\",IF(COUNTIF($O$2:O1554,O1554)>1,\"\",O1554+1)))","v":""}]
[null,null,null,null,null,null,null,null,null,null,null,null,null,null,{"$f":"IF(1555<=$B$10,IF(LEN('３学期'!CA7)=0,\"\",IF('３学期'!CA7=$B$8,IF(LEN('３学期'!CD7)=0,\"\",'３学期'!CD7),\"\")),\"\")","v":""},{"$f":"IF(LEN(O1555)=0,\"\",IF(COUNTIF($O$2:$O$1921,O1555+1)>0,\"\",IF(COUNTIF($O$2:O1555,O1555)>1,\"\",O1555+1)))","v":""}]
[null,null,null,null,null,null,null,null,null,null,null,null,null,null,{"$f":"IF(1556<=$B$10,IF(LEN('３学期'!CA10)=0,\"\",IF('３学期'!CA10=$B$8,IF(LEN('３学期'!CD10)=0,\"\",'３学期'!CD10),\"\")),\"\")","v":""},{"$f":"IF(LEN(O1556)=0,\"\",IF(COUNTIF($O$2:$O$1921,O1556+1)>0,\"\",IF(COUNTIF($O$2:O1556,O1556)>1,\"\",O1556+1)))","v":""}]
[null,null,null,null,null,null,null,null,null,null,null,null,null,null,{"$f":"IF(1557<=$B$10,IF(LEN('３学期'!CA13)=0,\"\",IF('３学期'!CA13=$B$8,IF(LEN('３学期'!CD13)=0,\"\",'３学期'!CD13),\"\")),\"\")","v":""},{"$f":"IF(LEN(O1557)=0,\"\",IF(COUNTIF($O$2:$O$1921,O1557+1)>0,\"\",IF(COUNTIF($O$2:O1557,O1557)>1,\"\",O1557+1)))","v":""}]
[null,null,null,null,null,null,null,null,null,null,null,null,null,null,{"$f":"IF(1558<=$B$10,IF(LEN('３学期'!CA16)=0,\"\",IF('３学期'!CA16=$B$8,IF(LEN('３学期'!CD16)=0,\"\",'３学期'!CD16),\"\")),\"\")","v":""},{"$f":"IF(LEN(O1558)=0,\"\",IF(COUNTIF($O$2:$O$1921,O1558+1)>0,\"\",IF(COUNTIF($O$2:O1558,O1558)>1,\"\",O1558+1)))","v":""}]
[null,null,null,null,null,null,null,null,null,null,null,null,null,null,{"$f":"IF(1559<=$B$10,IF(LEN('３学期'!CA19)=0,\"\",IF('３学期'!CA19=$B$8,IF(LEN('３学期'!CD19)=0,\"\",'３学期'!CD19),\"\")),\"\")","v":""},{"$f":"IF(LEN(O1559)=0,\"\",IF(COUNTIF($O$2:$O$1921,O1559+1)>0,\"\",IF(COUNTIF($O$2:O1559,O1559)>1,\"\",O1559+1)))","v":""}]
[null,null,null,null,null,null,null,null,null,null,null,null,null,null,{"$f":"IF(1560<=$B$10,IF(LEN('３学期'!CA22)=0,\"\",IF('３学期'!CA22=$B$8,IF(LEN('３学期'!CD22)=0,\"\",'３学期'!CD22),\"\")),\"\")","v":""},{"$f":"IF(LEN(O1560)=0,\"\",IF(COUNTIF($O$2:$O$1921,O1560+1)>0,\"\",IF(COUNTIF($O$2:O1560,O1560)>1,\"\",O1560+1)))","v":""}]
[null,null,null,null,null,null,null,null,null,null,null,null,null,null,{"$f":"IF(1561<=$B$10,IF(LEN('３学期'!CA25)=0,\"\",IF('３学期'!CA25=$B$8,IF(LEN('３学期'!CD25)=0,\"\",'３学期'!CD25),\"\")),\"\")","v":""},{"$f":"IF(LEN(O1561)=0,\"\",IF(COUNTIF($O$2:$O$1921,O1561+1)>0,\"\",IF(COUNTIF($O$2:O1561,O1561)>1,\"\",O1561+1)))","v":""}]
[null,null,null,null,null,null,null,null,null,null,null,null,null,null,{"$f":"IF(1562<=$B$10,IF(LEN('３学期'!CE6)=0,\"\",IF('３学期'!CE6=$B$8,IF(LEN('３学期'!CH6)=0,\"\",'３学期'!CH6),\"\")),\"\")","v":""},{"$f":"IF(LEN(O1562)=0,\"\",IF(COUNTIF($O$2:$O$1921,O1562+1)>0,\"\",IF(COUNTIF($O$2:O1562,O1562)>1,\"\",O1562+1)))","v":""}]
[null,null,null,null,null,null,null,null,null,null,null,null,null,null,{"$f":"IF(1563<=$B$10,IF(LEN('３学期'!CE7)=0,\"\",IF('３学期'!CE7=$B$8,IF(LEN('３学期'!CH7)=0,\"\",'３学期'!CH7),\"\")),\"\")","v":""},{"$f":"IF(LEN(O1563)=0,\"\",IF(COUNTIF($O$2:$O$1921,O1563+1)>0,\"\",IF(COUNTIF($O$2:O1563,O1563)>1,\"\",O1563+1)))","v":""}]
[null,null,null,null,null,null,null,null,null,null,null,null,null,null,{"$f":"IF(1564<=$B$10,IF(LEN('３学期'!CE10)=0,\"\",IF('３学期'!CE10=$B$8,IF(LEN('３学期'!CH10)=0,\"\",'３学期'!CH10),\"\")),\"\")","v":""},{"$f":"IF(LEN(O1564)=0,\"\",IF(COUNTIF($O$2:$O$1921,O1564+1)>0,\"\",IF(COUNTIF($O$2:O1564,O1564)>1,\"\",O1564+1)))","v":""}]
[null,null,null,null,null,null,null,null,null,null,null,null,null,null,{"$f":"IF(1565<=$B$10,IF(LEN('３学期'!CE13)=0,\"\",IF('３学期'!CE13=$B$8,IF(LEN('３学期'!CH13)=0,\"\",'３学期'!CH13),\"\")),\"\")","v":""},{"$f":"IF(LEN(O1565)=0,\"\",IF(COUNTIF($O$2:$O$1921,O1565+1)>0,\"\",IF(COUNTIF($O$2:O1565,O1565)>1,\"\",O1565+1)))","v":""}]
[null,null,null,null,null,null,null,null,null,null,null,null,null,null,{"$f":"IF(1566<=$B$10,IF(LEN('３学期'!CE16)=0,\"\",IF('３学期'!CE16=$B$8,IF(LEN('３学期'!CH16)=0,\"\",'３学期'!CH16),\"\")),\"\")","v":""},{"$f":"IF(LEN(O1566)=0,\"\",IF(COUNTIF($O$2:$O$1921,O1566+1)>0,\"\",IF(COUNTIF($O$2:O1566,O1566)>1,\"\",O1566+1)))","v":""}]
[null,null,null,null,null,null,null,null,null,null,null,null,null,null,{"$f":"IF(1567<=$B$10,IF(LEN('３学期'!CE19)=0,\"\",IF('３学期'!CE19=$B$8,IF(LEN('３学期'!CH19)=0,\"\",'３学期'!CH19),\"\")),\"\")","v":""},{"$f":"IF(LEN(O1567)=0,\"\",IF(COUNTIF($O$2:$O$1921,O1567+1)>0,\"\",IF(COUNTIF($O$2:O1567,O1567)>1,\"\",O1567+1)))","v":""}]
[null,null,null,null,null,null,null,null,null,null,null,null,null,null,{"$f":"IF(1568<=$B$10,IF(LEN('３学期'!CE22)=0,\"\",IF('３学期'!CE22=$B$8,IF(LEN('３学期'!CH22)=0,\"\",'３学期'!CH22),\"\")),\"\")","v":""},{"$f":"IF(LEN(O1568)=0,\"\",IF(COUNTIF($O$2:$O$1921,O1568+1)>0,\"\",IF(COUNTIF($O$2:O1568,O1568)>1,\"\",O1568+1)))","v":""}]
[null,null,null,null,null,null,null,null,null,null,null,null,null,null,{"$f":"IF(1569<=$B$10,IF(LEN('３学期'!CE25)=0,\"\",IF('３学期'!CE25=$B$8,IF(LEN('３学期'!CH25)=0,\"\",'３学期'!CH25),\"\")),\"\")","v":""},{"$f":"IF(LEN(O1569)=0,\"\",IF(COUNTIF($O$2:$O$1921,O1569+1)>0,\"\",IF(COUNTIF($O$2:O1569,O1569)>1,\"\",O1569+1)))","v":""}]
[null,null,null,null,null,null,null,null,null,null,null,null,null,null,{"$f":"IF(1570<=$B$10,IF(LEN('３学期'!CI6)=0,\"\",IF('３学期'!CI6=$B$8,IF(LEN('３学期'!CL6)=0,\"\",'３学期'!CL6),\"\")),\"\")","v":""},{"$f":"IF(LEN(O1570)=0,\"\",IF(COUNTIF($O$2:$O$1921,O1570+1)>0,\"\",IF(COUNTIF($O$2:O1570,O1570)>1,\"\",O1570+1)))","v":""}]
[null,null,null,null,null,null,null,null,null,null,null,null,null,null,{"$f":"IF(1571<=$B$10,IF(LEN('３学期'!CI7)=0,\"\",IF('３学期'!CI7=$B$8,IF(LEN('３学期'!CL7)=0,\"\",'３学期'!CL7),\"\")),\"\")","v":""},{"$f":"IF(LEN(O1571)=0,\"\",IF(COUNTIF($O$2:$O$1921,O1571+1)>0,\"\",IF(COUNTIF($O$2:O1571,O1571)>1,\"\",O1571+1)))","v":""}]
[null,null,null,null,null,null,null,null,null,null,null,null,null,null,{"$f":"IF(1572<=$B$10,IF(LEN('３学期'!CI10)=0,\"\",IF('３学期'!CI10=$B$8,IF(LEN('３学期'!CL10)=0,\"\",'３学期'!CL10),\"\")),\"\")","v":""},{"$f":"IF(LEN(O1572)=0,\"\",IF(COUNTIF($O$2:$O$1921,O1572+1)>0,\"\",IF(COUNTIF($O$2:O1572,O1572)>1,\"\",O1572+1)))","v":""}]
[null,null,null,null,null,null,null,null,null,null,null,null,null,null,{"$f":"IF(1573<=$B$10,IF(LEN('３学期'!CI13)=0,\"\",IF('３学期'!CI13=$B$8,IF(LEN('３学期'!CL13)=0,\"\",'３学期'!CL13),\"\")),\"\")","v":""},{"$f":"IF(LEN(O1573)=0,\"\",IF(COUNTIF($O$2:$O$1921,O1573+1)>0,\"\",IF(COUNTIF($O$2:O1573,O1573)>1,\"\",O1573+1)))","v":""}]
[null,null,null,null,null,null,null,null,null,null,null,null,null,null,{"$f":"IF(1574<=$B$10,IF(LEN('３学期'!CI16)=0,\"\",IF('３学期'!CI16=$B$8,IF(LEN('３学期'!CL16)=0,\"\",'３学期'!CL16),\"\")),\"\")","v":""},{"$f":"IF(LEN(O1574)=0,\"\",IF(COUNTIF($O$2:$O$1921,O1574+1)>0,\"\",IF(COUNTIF($O$2:O1574,O1574)>1,\"\",O1574+1)))","v":""}]
[null,null,null,null,null,null,null,null,null,null,null,null,null,null,{"$f":"IF(1575<=$B$10,IF(LEN('３学期'!CI19)=0,\"\",IF('３学期'!CI19=$B$8,IF(LEN('３学期'!CL19)=0,\"\",'３学期'!CL19),\"\")),\"\")","v":""},{"$f":"IF(LEN(O1575)=0,\"\",IF(COUNTIF($O$2:$O$1921,O1575+1)>0,\"\",IF(COUNTIF($O$2:O1575,O1575)>1,\"\",O1575+1)))","v":""}]
[null,null,null,null,null,null,null,null,null,null,null,null,null,null,{"$f":"IF(1576<=$B$10,IF(LEN('３学期'!CI22)=0,\"\",IF('３学期'!CI22=$B$8,IF(LEN('３学期'!CL22)=0,\"\",'３学期'!CL22),\"\")),\"\")","v":""},{"$f":"IF(LEN(O1576)=0,\"\",IF(COUNTIF($O$2:$O$1921,O1576+1)>0,\"\",IF(COUNTIF($O$2:O1576,O1576)>1,\"\",O1576+1)))","v":""}]
[null,null,null,null,null,null,null,null,null,null,null,null,null,null,{"$f":"IF(1577<=$B$10,IF(LEN('３学期'!CI25)=0,\"\",IF('３学期'!CI25=$B$8,IF(LEN('３学期'!CL25)=0,\"\",'３学期'!CL25),\"\")),\"\")","v":""},{"$f":"IF(LEN(O1577)=0,\"\",IF(COUNTIF($O$2:$O$1921,O1577+1)>0,\"\",IF(COUNTIF($O$2:O1577,O1577)>1,\"\",O1577+1)))","v":""}]
[null,null,null,null,null,null,null,null,null,null,null,null,null,null,{"$f":"IF(1578<=$B$10,IF(LEN('３学期'!CM6)=0,\"\",IF('３学期'!CM6=$B$8,IF(LEN('３学期'!CP6)=0,\"\",'３学期'!CP6),\"\")),\"\")","v":""},{"$f":"IF(LEN(O1578)=0,\"\",IF(COUNTIF($O$2:$O$1921,O1578+1)>0,\"\",IF(COUNTIF($O$2:O1578,O1578)>1,\"\",O1578+1)))","v":""}]
[null,null,null,null,null,null,null,null,null,null,null,null,null,null,{"$f":"IF(1579<=$B$10,IF(LEN('３学期'!CM7)=0,\"\",IF('３学期'!CM7=$B$8,IF(LEN('３学期'!CP7)=0,\"\",'３学期'!CP7),\"\")),\"\")","v":""},{"$f":"IF(LEN(O1579)=0,\"\",IF(COUNTIF($O$2:$O$1921,O1579+1)>0,\"\",IF(COUNTIF($O$2:O1579,O1579)>1,\"\",O1579+1)))","v":""}]
[null,null,null,null,null,null,null,null,null,null,null,null,null,null,{"$f":"IF(1580<=$B$10,IF(LEN('３学期'!CM10)=0,\"\",IF('３学期'!CM10=$B$8,IF(LEN('３学期'!CP10)=0,\"\",'３学期'!CP10),\"\")),\"\")","v":""},{"$f":"IF(LEN(O1580)=0,\"\",IF(COUNTIF($O$2:$O$1921,O1580+1)>0,\"\",IF(COUNTIF($O$2:O1580,O1580)>1,\"\",O1580+1)))","v":""}]
[null,null,null,null,null,null,null,null,null,null,null,null,null,null,{"$f":"IF(1581<=$B$10,IF(LEN('３学期'!CM13)=0,\"\",IF('３学期'!CM13=$B$8,IF(LEN('３学期'!CP13)=0,\"\",'３学期'!CP13),\"\")),\"\")","v":""},{"$f":"IF(LEN(O1581)=0,\"\",IF(COUNTIF($O$2:$O$1921,O1581+1)>0,\"\",IF(COUNTIF($O$2:O1581,O1581)>1,\"\",O1581+1)))","v":""}]
[null,null,null,null,null,null,null,null,null,null,null,null,null,null,{"$f":"IF(1582<=$B$10,IF(LEN('３学期'!CM16)=0,\"\",IF('３学期'!CM16=$B$8,IF(LEN('３学期'!CP16)=0,\"\",'３学期'!CP16),\"\")),\"\")","v":""},{"$f":"IF(LEN(O1582)=0,\"\",IF(COUNTIF($O$2:$O$1921,O1582+1)>0,\"\",IF(COUNTIF($O$2:O1582,O1582)>1,\"\",O1582+1)))","v":""}]
[null,null,null,null,null,null,null,null,null,null,null,null,null,null,{"$f":"IF(1583<=$B$10,IF(LEN('３学期'!CM19)=0,\"\",IF('３学期'!CM19=$B$8,IF(LEN('３学期'!CP19)=0,\"\",'３学期'!CP19),\"\")),\"\")","v":""},{"$f":"IF(LEN(O1583)=0,\"\",IF(COUNTIF($O$2:$O$1921,O1583+1)>0,\"\",IF(COUNTIF($O$2:O1583,O1583)>1,\"\",O1583+1)))","v":""}]
[null,null,null,null,null,null,null,null,null,null,null,null,null,null,{"$f":"IF(1584<=$B$10,IF(LEN('３学期'!CM22)=0,\"\",IF('３学期'!CM22=$B$8,IF(LEN('３学期'!CP22)=0,\"\",'３学期'!CP22),\"\")),\"\")","v":""},{"$f":"IF(LEN(O1584)=0,\"\",IF(COUNTIF($O$2:$O$1921,O1584+1)>0,\"\",IF(COUNTIF($O$2:O1584,O1584)>1,\"\",O1584+1)))","v":""}]
[null,null,null,null,null,null,null,null,null,null,null,null,null,null,{"$f":"IF(1585<=$B$10,IF(LEN('３学期'!CM25)=0,\"\",IF('３学期'!CM25=$B$8,IF(LEN('３学期'!CP25)=0,\"\",'３学期'!CP25),\"\")),\"\")","v":""},{"$f":"IF(LEN(O1585)=0,\"\",IF(COUNTIF($O$2:$O$1921,O1585+1)>0,\"\",IF(COUNTIF($O$2:O1585,O1585)>1,\"\",O1585+1)))","v":""}]
[null,null,null,null,null,null,null,null,null,null,null,null,null,null,{"$f":"IF(1586<=$B$10,IF(LEN('３学期'!CQ6)=0,\"\",IF('３学期'!CQ6=$B$8,IF(LEN('３学期'!CT6)=0,\"\",'３学期'!CT6),\"\")),\"\")","v":""},{"$f":"IF(LEN(O1586)=0,\"\",IF(COUNTIF($O$2:$O$1921,O1586+1)>0,\"\",IF(COUNTIF($O$2:O1586,O1586)>1,\"\",O1586+1)))","v":""}]
[null,null,null,null,null,null,null,null,null,null,null,null,null,null,{"$f":"IF(1587<=$B$10,IF(LEN('３学期'!CQ7)=0,\"\",IF('３学期'!CQ7=$B$8,IF(LEN('３学期'!CT7)=0,\"\",'３学期'!CT7),\"\")),\"\")","v":""},{"$f":"IF(LEN(O1587)=0,\"\",IF(COUNTIF($O$2:$O$1921,O1587+1)>0,\"\",IF(COUNTIF($O$2:O1587,O1587)>1,\"\",O1587+1)))","v":""}]
[null,null,null,null,null,null,null,null,null,null,null,null,null,null,{"$f":"IF(1588<=$B$10,IF(LEN('３学期'!CQ10)=0,\"\",IF('３学期'!CQ10=$B$8,IF(LEN('３学期'!CT10)=0,\"\",'３学期'!CT10),\"\")),\"\")","v":""},{"$f":"IF(LEN(O1588)=0,\"\",IF(COUNTIF($O$2:$O$1921,O1588+1)>0,\"\",IF(COUNTIF($O$2:O1588,O1588)>1,\"\",O1588+1)))","v":""}]
[null,null,null,null,null,null,null,null,null,null,null,null,null,null,{"$f":"IF(1589<=$B$10,IF(LEN('３学期'!CQ13)=0,\"\",IF('３学期'!CQ13=$B$8,IF(LEN('３学期'!CT13)=0,\"\",'３学期'!CT13),\"\")),\"\")","v":""},{"$f":"IF(LEN(O1589)=0,\"\",IF(COUNTIF($O$2:$O$1921,O1589+1)>0,\"\",IF(COUNTIF($O$2:O1589,O1589)>1,\"\",O1589+1)))","v":""}]
[null,null,null,null,null,null,null,null,null,null,null,null,null,null,{"$f":"IF(1590<=$B$10,IF(LEN('３学期'!CQ16)=0,\"\",IF('３学期'!CQ16=$B$8,IF(LEN('３学期'!CT16)=0,\"\",'３学期'!CT16),\"\")),\"\")","v":""},{"$f":"IF(LEN(O1590)=0,\"\",IF(COUNTIF($O$2:$O$1921,O1590+1)>0,\"\",IF(COUNTIF($O$2:O1590,O1590)>1,\"\",O1590+1)))","v":""}]
[null,null,null,null,null,null,null,null,null,null,null,null,null,null,{"$f":"IF(1591<=$B$10,IF(LEN('３学期'!CQ19)=0,\"\",IF('３学期'!CQ19=$B$8,IF(LEN('３学期'!CT19)=0,\"\",'３学期'!CT19),\"\")),\"\")","v":""},{"$f":"IF(LEN(O1591)=0,\"\",IF(COUNTIF($O$2:$O$1921,O1591+1)>0,\"\",IF(COUNTIF($O$2:O1591,O1591)>1,\"\",O1591+1)))","v":""}]
[null,null,null,null,null,null,null,null,null,null,null,null,null,null,{"$f":"IF(1592<=$B$10,IF(LEN('３学期'!CQ22)=0,\"\",IF('３学期'!CQ22=$B$8,IF(LEN('３学期'!CT22)=0,\"\",'３学期'!CT22),\"\")),\"\")","v":""},{"$f":"IF(LEN(O1592)=0,\"\",IF(COUNTIF($O$2:$O$1921,O1592+1)>0,\"\",IF(COUNTIF($O$2:O1592,O1592)>1,\"\",O1592+1)))","v":""}]
[null,null,null,null,null,null,null,null,null,null,null,null,null,null,{"$f":"IF(1593<=$B$10,IF(LEN('３学期'!CQ25)=0,\"\",IF('３学期'!CQ25=$B$8,IF(LEN('３学期'!CT25)=0,\"\",'３学期'!CT25),\"\")),\"\")","v":""},{"$f":"IF(LEN(O1593)=0,\"\",IF(COUNTIF($O$2:$O$1921,O1593+1)>0,\"\",IF(COUNTIF($O$2:O1593,O1593)>1,\"\",O1593+1)))","v":""}]
[null,null,null,null,null,null,null,null,null,null,null,null,null,null,{"$f":"IF(1594<=$B$10,IF(LEN('３学期'!CU6)=0,\"\",IF('３学期'!CU6=$B$8,IF(LEN('３学期'!CX6)=0,\"\",'３学期'!CX6),\"\")),\"\")","v":""},{"$f":"IF(LEN(O1594)=0,\"\",IF(COUNTIF($O$2:$O$1921,O1594+1)>0,\"\",IF(COUNTIF($O$2:O1594,O1594)>1,\"\",O1594+1)))","v":""}]
[null,null,null,null,null,null,null,null,null,null,null,null,null,null,{"$f":"IF(1595<=$B$10,IF(LEN('３学期'!CU7)=0,\"\",IF('３学期'!CU7=$B$8,IF(LEN('３学期'!CX7)=0,\"\",'３学期'!CX7),\"\")),\"\")","v":""},{"$f":"IF(LEN(O1595)=0,\"\",IF(COUNTIF($O$2:$O$1921,O1595+1)>0,\"\",IF(COUNTIF($O$2:O1595,O1595)>1,\"\",O1595+1)))","v":""}]
[null,null,null,null,null,null,null,null,null,null,null,null,null,null,{"$f":"IF(1596<=$B$10,IF(LEN('３学期'!CU10)=0,\"\",IF('３学期'!CU10=$B$8,IF(LEN('３学期'!CX10)=0,\"\",'３学期'!CX10),\"\")),\"\")","v":""},{"$f":"IF(LEN(O1596)=0,\"\",IF(COUNTIF($O$2:$O$1921,O1596+1)>0,\"\",IF(COUNTIF($O$2:O1596,O1596)>1,\"\",O1596+1)))","v":""}]
[null,null,null,null,null,null,null,null,null,null,null,null,null,null,{"$f":"IF(1597<=$B$10,IF(LEN('３学期'!CU13)=0,\"\",IF('３学期'!CU13=$B$8,IF(LEN('３学期'!CX13)=0,\"\",'３学期'!CX13),\"\")),\"\")","v":""},{"$f":"IF(LEN(O1597)=0,\"\",IF(COUNTIF($O$2:$O$1921,O1597+1)>0,\"\",IF(COUNTIF($O$2:O1597,O1597)>1,\"\",O1597+1)))","v":""}]
[null,null,null,null,null,null,null,null,null,null,null,null,null,null,{"$f":"IF(1598<=$B$10,IF(LEN('３学期'!CU16)=0,\"\",IF('３学期'!CU16=$B$8,IF(LEN('３学期'!CX16)=0,\"\",'３学期'!CX16),\"\")),\"\")","v":""},{"$f":"IF(LEN(O1598)=0,\"\",IF(COUNTIF($O$2:$O$1921,O1598+1)>0,\"\",IF(COUNTIF($O$2:O1598,O1598)>1,\"\",O1598+1)))","v":""}]
[null,null,null,null,null,null,null,null,null,null,null,null,null,null,{"$f":"IF(1599<=$B$10,IF(LEN('３学期'!CU19)=0,\"\",IF('３学期'!CU19=$B$8,IF(LEN('３学期'!CX19)=0,\"\",'３学期'!CX19),\"\")),\"\")","v":""},{"$f":"IF(LEN(O1599)=0,\"\",IF(COUNTIF($O$2:$O$1921,O1599+1)>0,\"\",IF(COUNTIF($O$2:O1599,O1599)>1,\"\",O1599+1)))","v":""}]
[null,null,null,null,null,null,null,null,null,null,null,null,null,null,{"$f":"IF(1600<=$B$10,IF(LEN('３学期'!CU22)=0,\"\",IF('３学期'!CU22=$B$8,IF(LEN('３学期'!CX22)=0,\"\",'３学期'!CX22),\"\")),\"\")","v":""},{"$f":"IF(LEN(O1600)=0,\"\",IF(COUNTIF($O$2:$O$1921,O1600+1)>0,\"\",IF(COUNTIF($O$2:O1600,O1600)>1,\"\",O1600+1)))","v":""}]
[null,null,null,null,null,null,null,null,null,null,null,null,null,null,{"$f":"IF(1601<=$B$10,IF(LEN('３学期'!CU25)=0,\"\",IF('３学期'!CU25=$B$8,IF(LEN('３学期'!CX25)=0,\"\",'３学期'!CX25),\"\")),\"\")","v":""},{"$f":"IF(LEN(O1601)=0,\"\",IF(COUNTIF($O$2:$O$1921,O1601+1)>0,\"\",IF(COUNTIF($O$2:O1601,O1601)>1,\"\",O1601+1)))","v":""}]
[null,null,null,null,null,null,null,null,null,null,null,null,null,null,{"$f":"IF(1602<=$B$10,IF(LEN('３学期'!CY6)=0,\"\",IF('３学期'!CY6=$B$8,IF(LEN('３学期'!DB6)=0,\"\",'３学期'!DB6),\"\")),\"\")","v":""},{"$f":"IF(LEN(O1602)=0,\"\",IF(COUNTIF($O$2:$O$1921,O1602+1)>0,\"\",IF(COUNTIF($O$2:O1602,O1602)>1,\"\",O1602+1)))","v":""}]
[null,null,null,null,null,null,null,null,null,null,null,null,null,null,{"$f":"IF(1603<=$B$10,IF(LEN('３学期'!CY7)=0,\"\",IF('３学期'!CY7=$B$8,IF(LEN('３学期'!DB7)=0,\"\",'３学期'!DB7),\"\")),\"\")","v":""},{"$f":"IF(LEN(O1603)=0,\"\",IF(COUNTIF($O$2:$O$1921,O1603+1)>0,\"\",IF(COUNTIF($O$2:O1603,O1603)>1,\"\",O1603+1)))","v":""}]
[null,null,null,null,null,null,null,null,null,null,null,null,null,null,{"$f":"IF(1604<=$B$10,IF(LEN('３学期'!CY10)=0,\"\",IF('３学期'!CY10=$B$8,IF(LEN('３学期'!DB10)=0,\"\",'３学期'!DB10),\"\")),\"\")","v":""},{"$f":"IF(LEN(O1604)=0,\"\",IF(COUNTIF($O$2:$O$1921,O1604+1)>0,\"\",IF(COUNTIF($O$2:O1604,O1604)>1,\"\",O1604+1)))","v":""}]
[null,null,null,null,null,null,null,null,null,null,null,null,null,null,{"$f":"IF(1605<=$B$10,IF(LEN('３学期'!CY13)=0,\"\",IF('３学期'!CY13=$B$8,IF(LEN('３学期'!DB13)=0,\"\",'３学期'!DB13),\"\")),\"\")","v":""},{"$f":"IF(LEN(O1605)=0,\"\",IF(COUNTIF($O$2:$O$1921,O1605+1)>0,\"\",IF(COUNTIF($O$2:O1605,O1605)>1,\"\",O1605+1)))","v":""}]
[null,null,null,null,null,null,null,null,null,null,null,null,null,null,{"$f":"IF(1606<=$B$10,IF(LEN('３学期'!CY16)=0,\"\",IF('３学期'!CY16=$B$8,IF(LEN('３学期'!DB16)=0,\"\",'３学期'!DB16),\"\")),\"\")","v":""},{"$f":"IF(LEN(O1606)=0,\"\",IF(COUNTIF($O$2:$O$1921,O1606+1)>0,\"\",IF(COUNTIF($O$2:O1606,O1606)>1,\"\",O1606+1)))","v":""}]
[null,null,null,null,null,null,null,null,null,null,null,null,null,null,{"$f":"IF(1607<=$B$10,IF(LEN('３学期'!CY19)=0,\"\",IF('３学期'!CY19=$B$8,IF(LEN('３学期'!DB19)=0,\"\",'３学期'!DB19),\"\")),\"\")","v":""},{"$f":"IF(LEN(O1607)=0,\"\",IF(COUNTIF($O$2:$O$1921,O1607+1)>0,\"\",IF(COUNTIF($O$2:O1607,O1607)>1,\"\",O1607+1)))","v":""}]
[null,null,null,null,null,null,null,null,null,null,null,null,null,null,{"$f":"IF(1608<=$B$10,IF(LEN('３学期'!CY22)=0,\"\",IF('３学期'!CY22=$B$8,IF(LEN('３学期'!DB22)=0,\"\",'３学期'!DB22),\"\")),\"\")","v":""},{"$f":"IF(LEN(O1608)=0,\"\",IF(COUNTIF($O$2:$O$1921,O1608+1)>0,\"\",IF(COUNTIF($O$2:O1608,O1608)>1,\"\",O1608+1)))","v":""}]
[null,null,null,null,null,null,null,null,null,null,null,null,null,null,{"$f":"IF(1609<=$B$10,IF(LEN('３学期'!CY25)=0,\"\",IF('３学期'!CY25=$B$8,IF(LEN('３学期'!DB25)=0,\"\",'３学期'!DB25),\"\")),\"\")","v":""},{"$f":"IF(LEN(O1609)=0,\"\",IF(COUNTIF($O$2:$O$1921,O1609+1)>0,\"\",IF(COUNTIF($O$2:O1609,O1609)>1,\"\",O1609+1)))","v":""}]
[null,null,null,null,null,null,null,null,null,null,null,null,null,null,{"$f":"IF(1610<=$B$10,IF(LEN('３学期'!DC6)=0,\"\",IF('３学期'!DC6=$B$8,IF(LEN('３学期'!DF6)=0,\"\",'３学期'!DF6),\"\")),\"\")","v":""},{"$f":"IF(LEN(O1610)=0,\"\",IF(COUNTIF($O$2:$O$1921,O1610+1)>0,\"\",IF(COUNTIF($O$2:O1610,O1610)>1,\"\",O1610+1)))","v":""}]
[null,null,null,null,null,null,null,null,null,null,null,null,null,null,{"$f":"IF(1611<=$B$10,IF(LEN('３学期'!DC7)=0,\"\",IF('３学期'!DC7=$B$8,IF(LEN('３学期'!DF7)=0,\"\",'３学期'!DF7),\"\")),\"\")","v":""},{"$f":"IF(LEN(O1611)=0,\"\",IF(COUNTIF($O$2:$O$1921,O1611+1)>0,\"\",IF(COUNTIF($O$2:O1611,O1611)>1,\"\",O1611+1)))","v":""}]
[null,null,null,null,null,null,null,null,null,null,null,null,null,null,{"$f":"IF(1612<=$B$10,IF(LEN('３学期'!DC10)=0,\"\",IF('３学期'!DC10=$B$8,IF(LEN('３学期'!DF10)=0,\"\",'３学期'!DF10),\"\")),\"\")","v":""},{"$f":"IF(LEN(O1612)=0,\"\",IF(COUNTIF($O$2:$O$1921,O1612+1)>0,\"\",IF(COUNTIF($O$2:O1612,O1612)>1,\"\",O1612+1)))","v":""}]
[null,null,null,null,null,null,null,null,null,null,null,null,null,null,{"$f":"IF(1613<=$B$10,IF(LEN('３学期'!DC13)=0,\"\",IF('３学期'!DC13=$B$8,IF(LEN('３学期'!DF13)=0,\"\",'３学期'!DF13),\"\")),\"\")","v":""},{"$f":"IF(LEN(O1613)=0,\"\",IF(COUNTIF($O$2:$O$1921,O1613+1)>0,\"\",IF(COUNTIF($O$2:O1613,O1613)>1,\"\",O1613+1)))","v":""}]
[null,null,null,null,null,null,null,null,null,null,null,null,null,null,{"$f":"IF(1614<=$B$10,IF(LEN('３学期'!DC16)=0,\"\",IF('３学期'!DC16=$B$8,IF(LEN('３学期'!DF16)=0,\"\",'３学期'!DF16),\"\")),\"\")","v":""},{"$f":"IF(LEN(O1614)=0,\"\",IF(COUNTIF($O$2:$O$1921,O1614+1)>0,\"\",IF(COUNTIF($O$2:O1614,O1614)>1,\"\",O1614+1)))","v":""}]
[null,null,null,null,null,null,null,null,null,null,null,null,null,null,{"$f":"IF(1615<=$B$10,IF(LEN('３学期'!DC19)=0,\"\",IF('３学期'!DC19=$B$8,IF(LEN('３学期'!DF19)=0,\"\",'３学期'!DF19),\"\")),\"\")","v":""},{"$f":"IF(LEN(O1615)=0,\"\",IF(COUNTIF($O$2:$O$1921,O1615+1)>0,\"\",IF(COUNTIF($O$2:O1615,O1615)>1,\"\",O1615+1)))","v":""}]
[null,null,null,null,null,null,null,null,null,null,null,null,null,null,{"$f":"IF(1616<=$B$10,IF(LEN('３学期'!DC22)=0,\"\",IF('３学期'!DC22=$B$8,IF(LEN('３学期'!DF22)=0,\"\",'３学期'!DF22),\"\")),\"\")","v":""},{"$f":"IF(LEN(O1616)=0,\"\",IF(COUNTIF($O$2:$O$1921,O1616+1)>0,\"\",IF(COUNTIF($O$2:O1616,O1616)>1,\"\",O1616+1)))","v":""}]
[null,null,null,null,null,null,null,null,null,null,null,null,null,null,{"$f":"IF(1617<=$B$10,IF(LEN('３学期'!DC25)=0,\"\",IF('３学期'!DC25=$B$8,IF(LEN('３学期'!DF25)=0,\"\",'３学期'!DF25),\"\")),\"\")","v":""},{"$f":"IF(LEN(O1617)=0,\"\",IF(COUNTIF($O$2:$O$1921,O1617+1)>0,\"\",IF(COUNTIF($O$2:O1617,O1617)>1,\"\",O1617+1)))","v":""}]
[null,null,null,null,null,null,null,null,null,null,null,null,null,null,{"$f":"IF(1618<=$B$10,IF(LEN('３学期'!DG6)=0,\"\",IF('３学期'!DG6=$B$8,IF(LEN('３学期'!DJ6)=0,\"\",'３学期'!DJ6),\"\")),\"\")","v":""},{"$f":"IF(LEN(O1618)=0,\"\",IF(COUNTIF($O$2:$O$1921,O1618+1)>0,\"\",IF(COUNTIF($O$2:O1618,O1618)>1,\"\",O1618+1)))","v":""}]
[null,null,null,null,null,null,null,null,null,null,null,null,null,null,{"$f":"IF(1619<=$B$10,IF(LEN('３学期'!DG7)=0,\"\",IF('３学期'!DG7=$B$8,IF(LEN('３学期'!DJ7)=0,\"\",'３学期'!DJ7),\"\")),\"\")","v":""},{"$f":"IF(LEN(O1619)=0,\"\",IF(COUNTIF($O$2:$O$1921,O1619+1)>0,\"\",IF(COUNTIF($O$2:O1619,O1619)>1,\"\",O1619+1)))","v":""}]
[null,null,null,null,null,null,null,null,null,null,null,null,null,null,{"$f":"IF(1620<=$B$10,IF(LEN('３学期'!DG10)=0,\"\",IF('３学期'!DG10=$B$8,IF(LEN('３学期'!DJ10)=0,\"\",'３学期'!DJ10),\"\")),\"\")","v":""},{"$f":"IF(LEN(O1620)=0,\"\",IF(COUNTIF($O$2:$O$1921,O1620+1)>0,\"\",IF(COUNTIF($O$2:O1620,O1620)>1,\"\",O1620+1)))","v":""}]
[null,null,null,null,null,null,null,null,null,null,null,null,null,null,{"$f":"IF(1621<=$B$10,IF(LEN('３学期'!DG13)=0,\"\",IF('３学期'!DG13=$B$8,IF(LEN('３学期'!DJ13)=0,\"\",'３学期'!DJ13),\"\")),\"\")","v":""},{"$f":"IF(LEN(O1621)=0,\"\",IF(COUNTIF($O$2:$O$1921,O1621+1)>0,\"\",IF(COUNTIF($O$2:O1621,O1621)>1,\"\",O1621+1)))","v":""}]
[null,null,null,null,null,null,null,null,null,null,null,null,null,null,{"$f":"IF(1622<=$B$10,IF(LEN('３学期'!DG16)=0,\"\",IF('３学期'!DG16=$B$8,IF(LEN('３学期'!DJ16)=0,\"\",'３学期'!DJ16),\"\")),\"\")","v":""},{"$f":"IF(LEN(O1622)=0,\"\",IF(COUNTIF($O$2:$O$1921,O1622+1)>0,\"\",IF(COUNTIF($O$2:O1622,O1622)>1,\"\",O1622+1)))","v":""}]
[null,null,null,null,null,null,null,null,null,null,null,null,null,null,{"$f":"IF(1623<=$B$10,IF(LEN('３学期'!DG19)=0,\"\",IF('３学期'!DG19=$B$8,IF(LEN('３学期'!DJ19)=0,\"\",'３学期'!DJ19),\"\")),\"\")","v":""},{"$f":"IF(LEN(O1623)=0,\"\",IF(COUNTIF($O$2:$O$1921,O1623+1)>0,\"\",IF(COUNTIF($O$2:O1623,O1623)>1,\"\",O1623+1)))","v":""}]
[null,null,null,null,null,null,null,null,null,null,null,null,null,null,{"$f":"IF(1624<=$B$10,IF(LEN('３学期'!DG22)=0,\"\",IF('３学期'!DG22=$B$8,IF(LEN('３学期'!DJ22)=0,\"\",'３学期'!DJ22),\"\")),\"\")","v":""},{"$f":"IF(LEN(O1624)=0,\"\",IF(COUNTIF($O$2:$O$1921,O1624+1)>0,\"\",IF(COUNTIF($O$2:O1624,O1624)>1,\"\",O1624+1)))","v":""}]
[null,null,null,null,null,null,null,null,null,null,null,null,null,null,{"$f":"IF(1625<=$B$10,IF(LEN('３学期'!DG25)=0,\"\",IF('３学期'!DG25=$B$8,IF(LEN('３学期'!DJ25)=0,\"\",'３学期'!DJ25),\"\")),\"\")","v":""},{"$f":"IF(LEN(O1625)=0,\"\",IF(COUNTIF($O$2:$O$1921,O1625+1)>0,\"\",IF(COUNTIF($O$2:O1625,O1625)>1,\"\",O1625+1)))","v":""}]
[null,null,null,null,null,null,null,null,null,null,null,null,null,null,{"$f":"IF(1626<=$B$10,IF(LEN('３学期'!DK6)=0,\"\",IF('３学期'!DK6=$B$8,IF(LEN('３学期'!DN6)=0,\"\",'３学期'!DN6),\"\")),\"\")","v":""},{"$f":"IF(LEN(O1626)=0,\"\",IF(COUNTIF($O$2:$O$1921,O1626+1)>0,\"\",IF(COUNTIF($O$2:O1626,O1626)>1,\"\",O1626+1)))","v":""}]
[null,null,null,null,null,null,null,null,null,null,null,null,null,null,{"$f":"IF(1627<=$B$10,IF(LEN('３学期'!DK7)=0,\"\",IF('３学期'!DK7=$B$8,IF(LEN('３学期'!DN7)=0,\"\",'３学期'!DN7),\"\")),\"\")","v":""},{"$f":"IF(LEN(O1627)=0,\"\",IF(COUNTIF($O$2:$O$1921,O1627+1)>0,\"\",IF(COUNTIF($O$2:O1627,O1627)>1,\"\",O1627+1)))","v":""}]
[null,null,null,null,null,null,null,null,null,null,null,null,null,null,{"$f":"IF(1628<=$B$10,IF(LEN('３学期'!DK10)=0,\"\",IF('３学期'!DK10=$B$8,IF(LEN('３学期'!DN10)=0,\"\",'３学期'!DN10),\"\")),\"\")","v":""},{"$f":"IF(LEN(O1628)=0,\"\",IF(COUNTIF($O$2:$O$1921,O1628+1)>0,\"\",IF(COUNTIF($O$2:O1628,O1628)>1,\"\",O1628+1)))","v":""}]
[null,null,null,null,null,null,null,null,null,null,null,null,null,null,{"$f":"IF(1629<=$B$10,IF(LEN('３学期'!DK13)=0,\"\",IF('３学期'!DK13=$B$8,IF(LEN('３学期'!DN13)=0,\"\",'３学期'!DN13),\"\")),\"\")","v":""},{"$f":"IF(LEN(O1629)=0,\"\",IF(COUNTIF($O$2:$O$1921,O1629+1)>0,\"\",IF(COUNTIF($O$2:O1629,O1629)>1,\"\",O1629+1)))","v":""}]
[null,null,null,null,null,null,null,null,null,null,null,null,null,null,{"$f":"IF(1630<=$B$10,IF(LEN('３学期'!DK16)=0,\"\",IF('３学期'!DK16=$B$8,IF(LEN('３学期'!DN16)=0,\"\",'３学期'!DN16),\"\")),\"\")","v":""},{"$f":"IF(LEN(O1630)=0,\"\",IF(COUNTIF($O$2:$O$1921,O1630+1)>0,\"\",IF(COUNTIF($O$2:O1630,O1630)>1,\"\",O1630+1)))","v":""}]
[null,null,null,null,null,null,null,null,null,null,null,null,null,null,{"$f":"IF(1631<=$B$10,IF(LEN('３学期'!DK19)=0,\"\",IF('３学期'!DK19=$B$8,IF(LEN('３学期'!DN19)=0,\"\",'３学期'!DN19),\"\")),\"\")","v":""},{"$f":"IF(LEN(O1631)=0,\"\",IF(COUNTIF($O$2:$O$1921,O1631+1)>0,\"\",IF(COUNTIF($O$2:O1631,O1631)>1,\"\",O1631+1)))","v":""}]
[null,null,null,null,null,null,null,null,null,null,null,null,null,null,{"$f":"IF(1632<=$B$10,IF(LEN('３学期'!DK22)=0,\"\",IF('３学期'!DK22=$B$8,IF(LEN('３学期'!DN22)=0,\"\",'３学期'!DN22),\"\")),\"\")","v":""},{"$f":"IF(LEN(O1632)=0,\"\",IF(COUNTIF($O$2:$O$1921,O1632+1)>0,\"\",IF(COUNTIF($O$2:O1632,O1632)>1,\"\",O1632+1)))","v":""}]
[null,null,null,null,null,null,null,null,null,null,null,null,null,null,{"$f":"IF(1633<=$B$10,IF(LEN('３学期'!DK25)=0,\"\",IF('３学期'!DK25=$B$8,IF(LEN('３学期'!DN25)=0,\"\",'３学期'!DN25),\"\")),\"\")","v":""},{"$f":"IF(LEN(O1633)=0,\"\",IF(COUNTIF($O$2:$O$1921,O1633+1)>0,\"\",IF(COUNTIF($O$2:O1633,O1633)>1,\"\",O1633+1)))","v":""}]
[null,null,null,null,null,null,null,null,null,null,null,null,null,null,{"$f":"IF(1634<=$B$10,IF(LEN('３学期'!DO6)=0,\"\",IF('３学期'!DO6=$B$8,IF(LEN('３学期'!DR6)=0,\"\",'３学期'!DR6),\"\")),\"\")","v":""},{"$f":"IF(LEN(O1634)=0,\"\",IF(COUNTIF($O$2:$O$1921,O1634+1)>0,\"\",IF(COUNTIF($O$2:O1634,O1634)>1,\"\",O1634+1)))","v":""}]
[null,null,null,null,null,null,null,null,null,null,null,null,null,null,{"$f":"IF(1635<=$B$10,IF(LEN('３学期'!DO7)=0,\"\",IF('３学期'!DO7=$B$8,IF(LEN('３学期'!DR7)=0,\"\",'３学期'!DR7),\"\")),\"\")","v":""},{"$f":"IF(LEN(O1635)=0,\"\",IF(COUNTIF($O$2:$O$1921,O1635+1)>0,\"\",IF(COUNTIF($O$2:O1635,O1635)>1,\"\",O1635+1)))","v":""}]
[null,null,null,null,null,null,null,null,null,null,null,null,null,null,{"$f":"IF(1636<=$B$10,IF(LEN('３学期'!DO10)=0,\"\",IF('３学期'!DO10=$B$8,IF(LEN('３学期'!DR10)=0,\"\",'３学期'!DR10),\"\")),\"\")","v":""},{"$f":"IF(LEN(O1636)=0,\"\",IF(COUNTIF($O$2:$O$1921,O1636+1)>0,\"\",IF(COUNTIF($O$2:O1636,O1636)>1,\"\",O1636+1)))","v":""}]
[null,null,null,null,null,null,null,null,null,null,null,null,null,null,{"$f":"IF(1637<=$B$10,IF(LEN('３学期'!DO13)=0,\"\",IF('３学期'!DO13=$B$8,IF(LEN('３学期'!DR13)=0,\"\",'３学期'!DR13),\"\")),\"\")","v":""},{"$f":"IF(LEN(O1637)=0,\"\",IF(COUNTIF($O$2:$O$1921,O1637+1)>0,\"\",IF(COUNTIF($O$2:O1637,O1637)>1,\"\",O1637+1)))","v":""}]
[null,null,null,null,null,null,null,null,null,null,null,null,null,null,{"$f":"IF(1638<=$B$10,IF(LEN('３学期'!DO16)=0,\"\",IF('３学期'!DO16=$B$8,IF(LEN('３学期'!DR16)=0,\"\",'３学期'!DR16),\"\")),\"\")","v":""},{"$f":"IF(LEN(O1638)=0,\"\",IF(COUNTIF($O$2:$O$1921,O1638+1)>0,\"\",IF(COUNTIF($O$2:O1638,O1638)>1,\"\",O1638+1)))","v":""}]
[null,null,null,null,null,null,null,null,null,null,null,null,null,null,{"$f":"IF(1639<=$B$10,IF(LEN('３学期'!DO19)=0,\"\",IF('３学期'!DO19=$B$8,IF(LEN('３学期'!DR19)=0,\"\",'３学期'!DR19),\"\")),\"\")","v":""},{"$f":"IF(LEN(O1639)=0,\"\",IF(COUNTIF($O$2:$O$1921,O1639+1)>0,\"\",IF(COUNTIF($O$2:O1639,O1639)>1,\"\",O1639+1)))","v":""}]
[null,null,null,null,null,null,null,null,null,null,null,null,null,null,{"$f":"IF(1640<=$B$10,IF(LEN('３学期'!DO22)=0,\"\",IF('３学期'!DO22=$B$8,IF(LEN('３学期'!DR22)=0,\"\",'３学期'!DR22),\"\")),\"\")","v":""},{"$f":"IF(LEN(O1640)=0,\"\",IF(COUNTIF($O$2:$O$1921,O1640+1)>0,\"\",IF(COUNTIF($O$2:O1640,O1640)>1,\"\",O1640+1)))","v":""}]
[null,null,null,null,null,null,null,null,null,null,null,null,null,null,{"$f":"IF(1641<=$B$10,IF(LEN('３学期'!DO25)=0,\"\",IF('３学期'!DO25=$B$8,IF(LEN('３学期'!DR25)=0,\"\",'３学期'!DR25),\"\")),\"\")","v":""},{"$f":"IF(LEN(O1641)=0,\"\",IF(COUNTIF($O$2:$O$1921,O1641+1)>0,\"\",IF(COUNTIF($O$2:O1641,O1641)>1,\"\",O1641+1)))","v":""}]
[null,null,null,null,null,null,null,null,null,null,null,null,null,null,{"$f":"IF(1642<=$B$10,IF(LEN('３学期'!DS6)=0,\"\",IF('３学期'!DS6=$B$8,IF(LEN('３学期'!DV6)=0,\"\",'３学期'!DV6),\"\")),\"\")","v":""},{"$f":"IF(LEN(O1642)=0,\"\",IF(COUNTIF($O$2:$O$1921,O1642+1)>0,\"\",IF(COUNTIF($O$2:O1642,O1642)>1,\"\",O1642+1)))","v":""}]
[null,null,null,null,null,null,null,null,null,null,null,null,null,null,{"$f":"IF(1643<=$B$10,IF(LEN('３学期'!DS7)=0,\"\",IF('３学期'!DS7=$B$8,IF(LEN('３学期'!DV7)=0,\"\",'３学期'!DV7),\"\")),\"\")","v":""},{"$f":"IF(LEN(O1643)=0,\"\",IF(COUNTIF($O$2:$O$1921,O1643+1)>0,\"\",IF(COUNTIF($O$2:O1643,O1643)>1,\"\",O1643+1)))","v":""}]
[null,null,null,null,null,null,null,null,null,null,null,null,null,null,{"$f":"IF(1644<=$B$10,IF(LEN('３学期'!DS10)=0,\"\",IF('３学期'!DS10=$B$8,IF(LEN('３学期'!DV10)=0,\"\",'３学期'!DV10),\"\")),\"\")","v":""},{"$f":"IF(LEN(O1644)=0,\"\",IF(COUNTIF($O$2:$O$1921,O1644+1)>0,\"\",IF(COUNTIF($O$2:O1644,O1644)>1,\"\",O1644+1)))","v":""}]
[null,null,null,null,null,null,null,null,null,null,null,null,null,null,{"$f":"IF(1645<=$B$10,IF(LEN('３学期'!DS13)=0,\"\",IF('３学期'!DS13=$B$8,IF(LEN('３学期'!DV13)=0,\"\",'３学期'!DV13),\"\")),\"\")","v":""},{"$f":"IF(LEN(O1645)=0,\"\",IF(COUNTIF($O$2:$O$1921,O1645+1)>0,\"\",IF(COUNTIF($O$2:O1645,O1645)>1,\"\",O1645+1)))","v":""}]
[null,null,null,null,null,null,null,null,null,null,null,null,null,null,{"$f":"IF(1646<=$B$10,IF(LEN('３学期'!DS16)=0,\"\",IF('３学期'!DS16=$B$8,IF(LEN('３学期'!DV16)=0,\"\",'３学期'!DV16),\"\")),\"\")","v":""},{"$f":"IF(LEN(O1646)=0,\"\",IF(COUNTIF($O$2:$O$1921,O1646+1)>0,\"\",IF(COUNTIF($O$2:O1646,O1646)>1,\"\",O1646+1)))","v":""}]
[null,null,null,null,null,null,null,null,null,null,null,null,null,null,{"$f":"IF(1647<=$B$10,IF(LEN('３学期'!DS19)=0,\"\",IF('３学期'!DS19=$B$8,IF(LEN('３学期'!DV19)=0,\"\",'３学期'!DV19),\"\")),\"\")","v":""},{"$f":"IF(LEN(O1647)=0,\"\",IF(COUNTIF($O$2:$O$1921,O1647+1)>0,\"\",IF(COUNTIF($O$2:O1647,O1647)>1,\"\",O1647+1)))","v":""}]
[null,null,null,null,null,null,null,null,null,null,null,null,null,null,{"$f":"IF(1648<=$B$10,IF(LEN('３学期'!DS22)=0,\"\",IF('３学期'!DS22=$B$8,IF(LEN('３学期'!DV22)=0,\"\",'３学期'!DV22),\"\")),\"\")","v":""},{"$f":"IF(LEN(O1648)=0,\"\",IF(COUNTIF($O$2:$O$1921,O1648+1)>0,\"\",IF(COUNTIF($O$2:O1648,O1648)>1,\"\",O1648+1)))","v":""}]
[null,null,null,null,null,null,null,null,null,null,null,null,null,null,{"$f":"IF(1649<=$B$10,IF(LEN('３学期'!DS25)=0,\"\",IF('３学期'!DS25=$B$8,IF(LEN('３学期'!DV25)=0,\"\",'３学期'!DV25),\"\")),\"\")","v":""},{"$f":"IF(LEN(O1649)=0,\"\",IF(COUNTIF($O$2:$O$1921,O1649+1)>0,\"\",IF(COUNTIF($O$2:O1649,O1649)>1,\"\",O1649+1)))","v":""}]
[null,null,null,null,null,null,null,null,null,null,null,null,null,null,{"$f":"IF(1650<=$B$10,IF(LEN('３学期'!DW6)=0,\"\",IF('３学期'!DW6=$B$8,IF(LEN('３学期'!DZ6)=0,\"\",'３学期'!DZ6),\"\")),\"\")","v":""},{"$f":"IF(LEN(O1650)=0,\"\",IF(COUNTIF($O$2:$O$1921,O1650+1)>0,\"\",IF(COUNTIF($O$2:O1650,O1650)>1,\"\",O1650+1)))","v":""}]
[null,null,null,null,null,null,null,null,null,null,null,null,null,null,{"$f":"IF(1651<=$B$10,IF(LEN('３学期'!DW7)=0,\"\",IF('３学期'!DW7=$B$8,IF(LEN('３学期'!DZ7)=0,\"\",'３学期'!DZ7),\"\")),\"\")","v":""},{"$f":"IF(LEN(O1651)=0,\"\",IF(COUNTIF($O$2:$O$1921,O1651+1)>0,\"\",IF(COUNTIF($O$2:O1651,O1651)>1,\"\",O1651+1)))","v":""}]
[null,null,null,null,null,null,null,null,null,null,null,null,null,null,{"$f":"IF(1652<=$B$10,IF(LEN('３学期'!DW10)=0,\"\",IF('３学期'!DW10=$B$8,IF(LEN('３学期'!DZ10)=0,\"\",'３学期'!DZ10),\"\")),\"\")","v":""},{"$f":"IF(LEN(O1652)=0,\"\",IF(COUNTIF($O$2:$O$1921,O1652+1)>0,\"\",IF(COUNTIF($O$2:O1652,O1652)>1,\"\",O1652+1)))","v":""}]
[null,null,null,null,null,null,null,null,null,null,null,null,null,null,{"$f":"IF(1653<=$B$10,IF(LEN('３学期'!DW13)=0,\"\",IF('３学期'!DW13=$B$8,IF(LEN('３学期'!DZ13)=0,\"\",'３学期'!DZ13),\"\")),\"\")","v":""},{"$f":"IF(LEN(O1653)=0,\"\",IF(COUNTIF($O$2:$O$1921,O1653+1)>0,\"\",IF(COUNTIF($O$2:O1653,O1653)>1,\"\",O1653+1)))","v":""}]
[null,null,null,null,null,null,null,null,null,null,null,null,null,null,{"$f":"IF(1654<=$B$10,IF(LEN('３学期'!DW16)=0,\"\",IF('３学期'!DW16=$B$8,IF(LEN('３学期'!DZ16)=0,\"\",'３学期'!DZ16),\"\")),\"\")","v":""},{"$f":"IF(LEN(O1654)=0,\"\",IF(COUNTIF($O$2:$O$1921,O1654+1)>0,\"\",IF(COUNTIF($O$2:O1654,O1654)>1,\"\",O1654+1)))","v":""}]
[null,null,null,null,null,null,null,null,null,null,null,null,null,null,{"$f":"IF(1655<=$B$10,IF(LEN('３学期'!DW19)=0,\"\",IF('３学期'!DW19=$B$8,IF(LEN('３学期'!DZ19)=0,\"\",'３学期'!DZ19),\"\")),\"\")","v":""},{"$f":"IF(LEN(O1655)=0,\"\",IF(COUNTIF($O$2:$O$1921,O1655+1)>0,\"\",IF(COUNTIF($O$2:O1655,O1655)>1,\"\",O1655+1)))","v":""}]
[null,null,null,null,null,null,null,null,null,null,null,null,null,null,{"$f":"IF(1656<=$B$10,IF(LEN('３学期'!DW22)=0,\"\",IF('３学期'!DW22=$B$8,IF(LEN('３学期'!DZ22)=0,\"\",'３学期'!DZ22),\"\")),\"\")","v":""},{"$f":"IF(LEN(O1656)=0,\"\",IF(COUNTIF($O$2:$O$1921,O1656+1)>0,\"\",IF(COUNTIF($O$2:O1656,O1656)>1,\"\",O1656+1)))","v":""}]
[null,null,null,null,null,null,null,null,null,null,null,null,null,null,{"$f":"IF(1657<=$B$10,IF(LEN('３学期'!DW25)=0,\"\",IF('３学期'!DW25=$B$8,IF(LEN('３学期'!DZ25)=0,\"\",'３学期'!DZ25),\"\")),\"\")","v":""},{"$f":"IF(LEN(O1657)=0,\"\",IF(COUNTIF($O$2:$O$1921,O1657+1)>0,\"\",IF(COUNTIF($O$2:O1657,O1657)>1,\"\",O1657+1)))","v":""}]
[null,null,null,null,null,null,null,null,null,null,null,null,null,null,{"$f":"IF(1658<=$B$10,IF(LEN('３学期'!EA6)=0,\"\",IF('３学期'!EA6=$B$8,IF(LEN('３学期'!ED6)=0,\"\",'３学期'!ED6),\"\")),\"\")","v":""},{"$f":"IF(LEN(O1658)=0,\"\",IF(COUNTIF($O$2:$O$1921,O1658+1)>0,\"\",IF(COUNTIF($O$2:O1658,O1658)>1,\"\",O1658+1)))","v":""}]
[null,null,null,null,null,null,null,null,null,null,null,null,null,null,{"$f":"IF(1659<=$B$10,IF(LEN('３学期'!EA7)=0,\"\",IF('３学期'!EA7=$B$8,IF(LEN('３学期'!ED7)=0,\"\",'３学期'!ED7),\"\")),\"\")","v":""},{"$f":"IF(LEN(O1659)=0,\"\",IF(COUNTIF($O$2:$O$1921,O1659+1)>0,\"\",IF(COUNTIF($O$2:O1659,O1659)>1,\"\",O1659+1)))","v":""}]
[null,null,null,null,null,null,null,null,null,null,null,null,null,null,{"$f":"IF(1660<=$B$10,IF(LEN('３学期'!EA10)=0,\"\",IF('３学期'!EA10=$B$8,IF(LEN('３学期'!ED10)=0,\"\",'３学期'!ED10),\"\")),\"\")","v":""},{"$f":"IF(LEN(O1660)=0,\"\",IF(COUNTIF($O$2:$O$1921,O1660+1)>0,\"\",IF(COUNTIF($O$2:O1660,O1660)>1,\"\",O1660+1)))","v":""}]
[null,null,null,null,null,null,null,null,null,null,null,null,null,null,{"$f":"IF(1661<=$B$10,IF(LEN('３学期'!EA13)=0,\"\",IF('３学期'!EA13=$B$8,IF(LEN('３学期'!ED13)=0,\"\",'３学期'!ED13),\"\")),\"\")","v":""},{"$f":"IF(LEN(O1661)=0,\"\",IF(COUNTIF($O$2:$O$1921,O1661+1)>0,\"\",IF(COUNTIF($O$2:O1661,O1661)>1,\"\",O1661+1)))","v":""}]
[null,null,null,null,null,null,null,null,null,null,null,null,null,null,{"$f":"IF(1662<=$B$10,IF(LEN('３学期'!EA16)=0,\"\",IF('３学期'!EA16=$B$8,IF(LEN('３学期'!ED16)=0,\"\",'３学期'!ED16),\"\")),\"\")","v":""},{"$f":"IF(LEN(O1662)=0,\"\",IF(COUNTIF($O$2:$O$1921,O1662+1)>0,\"\",IF(COUNTIF($O$2:O1662,O1662)>1,\"\",O1662+1)))","v":""}]
[null,null,null,null,null,null,null,null,null,null,null,null,null,null,{"$f":"IF(1663<=$B$10,IF(LEN('３学期'!EA19)=0,\"\",IF('３学期'!EA19=$B$8,IF(LEN('３学期'!ED19)=0,\"\",'３学期'!ED19),\"\")),\"\")","v":""},{"$f":"IF(LEN(O1663)=0,\"\",IF(COUNTIF($O$2:$O$1921,O1663+1)>0,\"\",IF(COUNTIF($O$2:O1663,O1663)>1,\"\",O1663+1)))","v":""}]
[null,null,null,null,null,null,null,null,null,null,null,null,null,null,{"$f":"IF(1664<=$B$10,IF(LEN('３学期'!EA22)=0,\"\",IF('３学期'!EA22=$B$8,IF(LEN('３学期'!ED22)=0,\"\",'３学期'!ED22),\"\")),\"\")","v":""},{"$f":"IF(LEN(O1664)=0,\"\",IF(COUNTIF($O$2:$O$1921,O1664+1)>0,\"\",IF(COUNTIF($O$2:O1664,O1664)>1,\"\",O1664+1)))","v":""}]
[null,null,null,null,null,null,null,null,null,null,null,null,null,null,{"$f":"IF(1665<=$B$10,IF(LEN('３学期'!EA25)=0,\"\",IF('３学期'!EA25=$B$8,IF(LEN('３学期'!ED25)=0,\"\",'３学期'!ED25),\"\")),\"\")","v":""},{"$f":"IF(LEN(O1665)=0,\"\",IF(COUNTIF($O$2:$O$1921,O1665+1)>0,\"\",IF(COUNTIF($O$2:O1665,O1665)>1,\"\",O1665+1)))","v":""}]
[null,null,null,null,null,null,null,null,null,null,null,null,null,null,{"$f":"IF(1666<=$B$10,IF(LEN('３学期'!EE6)=0,\"\",IF('３学期'!EE6=$B$8,IF(LEN('３学期'!EH6)=0,\"\",'３学期'!EH6),\"\")),\"\")","v":""},{"$f":"IF(LEN(O1666)=0,\"\",IF(COUNTIF($O$2:$O$1921,O1666+1)>0,\"\",IF(COUNTIF($O$2:O1666,O1666)>1,\"\",O1666+1)))","v":""}]
[null,null,null,null,null,null,null,null,null,null,null,null,null,null,{"$f":"IF(1667<=$B$10,IF(LEN('３学期'!EE7)=0,\"\",IF('３学期'!EE7=$B$8,IF(LEN('３学期'!EH7)=0,\"\",'３学期'!EH7),\"\")),\"\")","v":""},{"$f":"IF(LEN(O1667)=0,\"\",IF(COUNTIF($O$2:$O$1921,O1667+1)>0,\"\",IF(COUNTIF($O$2:O1667,O1667)>1,\"\",O1667+1)))","v":""}]
[null,null,null,null,null,null,null,null,null,null,null,null,null,null,{"$f":"IF(1668<=$B$10,IF(LEN('３学期'!EE10)=0,\"\",IF('３学期'!EE10=$B$8,IF(LEN('３学期'!EH10)=0,\"\",'３学期'!EH10),\"\")),\"\")","v":""},{"$f":"IF(LEN(O1668)=0,\"\",IF(COUNTIF($O$2:$O$1921,O1668+1)>0,\"\",IF(COUNTIF($O$2:O1668,O1668)>1,\"\",O1668+1)))","v":""}]
[null,null,null,null,null,null,null,null,null,null,null,null,null,null,{"$f":"IF(1669<=$B$10,IF(LEN('３学期'!EE13)=0,\"\",IF('３学期'!EE13=$B$8,IF(LEN('３学期'!EH13)=0,\"\",'３学期'!EH13),\"\")),\"\")","v":""},{"$f":"IF(LEN(O1669)=0,\"\",IF(COUNTIF($O$2:$O$1921,O1669+1)>0,\"\",IF(COUNTIF($O$2:O1669,O1669)>1,\"\",O1669+1)))","v":""}]
[null,null,null,null,null,null,null,null,null,null,null,null,null,null,{"$f":"IF(1670<=$B$10,IF(LEN('３学期'!EE16)=0,\"\",IF('３学期'!EE16=$B$8,IF(LEN('３学期'!EH16)=0,\"\",'３学期'!EH16),\"\")),\"\")","v":""},{"$f":"IF(LEN(O1670)=0,\"\",IF(COUNTIF($O$2:$O$1921,O1670+1)>0,\"\",IF(COUNTIF($O$2:O1670,O1670)>1,\"\",O1670+1)))","v":""}]
[null,null,null,null,null,null,null,null,null,null,null,null,null,null,{"$f":"IF(1671<=$B$10,IF(LEN('３学期'!EE19)=0,\"\",IF('３学期'!EE19=$B$8,IF(LEN('３学期'!EH19)=0,\"\",'３学期'!EH19),\"\")),\"\")","v":""},{"$f":"IF(LEN(O1671)=0,\"\",IF(COUNTIF($O$2:$O$1921,O1671+1)>0,\"\",IF(COUNTIF($O$2:O1671,O1671)>1,\"\",O1671+1)))","v":""}]
[null,null,null,null,null,null,null,null,null,null,null,null,null,null,{"$f":"IF(1672<=$B$10,IF(LEN('３学期'!EE22)=0,\"\",IF('３学期'!EE22=$B$8,IF(LEN('３学期'!EH22)=0,\"\",'３学期'!EH22),\"\")),\"\")","v":""},{"$f":"IF(LEN(O1672)=0,\"\",IF(COUNTIF($O$2:$O$1921,O1672+1)>0,\"\",IF(COUNTIF($O$2:O1672,O1672)>1,\"\",O1672+1)))","v":""}]
[null,null,null,null,null,null,null,null,null,null,null,null,null,null,{"$f":"IF(1673<=$B$10,IF(LEN('３学期'!EE25)=0,\"\",IF('３学期'!EE25=$B$8,IF(LEN('３学期'!EH25)=0,\"\",'３学期'!EH25),\"\")),\"\")","v":""},{"$f":"IF(LEN(O1673)=0,\"\",IF(COUNTIF($O$2:$O$1921,O1673+1)>0,\"\",IF(COUNTIF($O$2:O1673,O1673)>1,\"\",O1673+1)))","v":""}]
[null,null,null,null,null,null,null,null,null,null,null,null,null,null,{"$f":"IF(1674<=$B$10,IF(LEN('３学期'!EI6)=0,\"\",IF('３学期'!EI6=$B$8,IF(LEN('３学期'!EL6)=0,\"\",'３学期'!EL6),\"\")),\"\")","v":""},{"$f":"IF(LEN(O1674)=0,\"\",IF(COUNTIF($O$2:$O$1921,O1674+1)>0,\"\",IF(COUNTIF($O$2:O1674,O1674)>1,\"\",O1674+1)))","v":""}]
[null,null,null,null,null,null,null,null,null,null,null,null,null,null,{"$f":"IF(1675<=$B$10,IF(LEN('３学期'!EI7)=0,\"\",IF('３学期'!EI7=$B$8,IF(LEN('３学期'!EL7)=0,\"\",'３学期'!EL7),\"\")),\"\")","v":""},{"$f":"IF(LEN(O1675)=0,\"\",IF(COUNTIF($O$2:$O$1921,O1675+1)>0,\"\",IF(COUNTIF($O$2:O1675,O1675)>1,\"\",O1675+1)))","v":""}]
[null,null,null,null,null,null,null,null,null,null,null,null,null,null,{"$f":"IF(1676<=$B$10,IF(LEN('３学期'!EI10)=0,\"\",IF('３学期'!EI10=$B$8,IF(LEN('３学期'!EL10)=0,\"\",'３学期'!EL10),\"\")),\"\")","v":""},{"$f":"IF(LEN(O1676)=0,\"\",IF(COUNTIF($O$2:$O$1921,O1676+1)>0,\"\",IF(COUNTIF($O$2:O1676,O1676)>1,\"\",O1676+1)))","v":""}]
[null,null,null,null,null,null,null,null,null,null,null,null,null,null,{"$f":"IF(1677<=$B$10,IF(LEN('３学期'!EI13)=0,\"\",IF('３学期'!EI13=$B$8,IF(LEN('３学期'!EL13)=0,\"\",'３学期'!EL13),\"\")),\"\")","v":""},{"$f":"IF(LEN(O1677)=0,\"\",IF(COUNTIF($O$2:$O$1921,O1677+1)>0,\"\",IF(COUNTIF($O$2:O1677,O1677)>1,\"\",O1677+1)))","v":""}]
[null,null,null,null,null,null,null,null,null,null,null,null,null,null,{"$f":"IF(1678<=$B$10,IF(LEN('３学期'!EI16)=0,\"\",IF('３学期'!EI16=$B$8,IF(LEN('３学期'!EL16)=0,\"\",'３学期'!EL16),\"\")),\"\")","v":""},{"$f":"IF(LEN(O1678)=0,\"\",IF(COUNTIF($O$2:$O$1921,O1678+1)>0,\"\",IF(COUNTIF($O$2:O1678,O1678)>1,\"\",O1678+1)))","v":""}]
[null,null,null,null,null,null,null,null,null,null,null,null,null,null,{"$f":"IF(1679<=$B$10,IF(LEN('３学期'!EI19)=0,\"\",IF('３学期'!EI19=$B$8,IF(LEN('３学期'!EL19)=0,\"\",'３学期'!EL19),\"\")),\"\")","v":""},{"$f":"IF(LEN(O1679)=0,\"\",IF(COUNTIF($O$2:$O$1921,O1679+1)>0,\"\",IF(COUNTIF($O$2:O1679,O1679)>1,\"\",O1679+1)))","v":""}]
[null,null,null,null,null,null,null,null,null,null,null,null,null,null,{"$f":"IF(1680<=$B$10,IF(LEN('３学期'!EI22)=0,\"\",IF('３学期'!EI22=$B$8,IF(LEN('３学期'!EL22)=0,\"\",'３学期'!EL22),\"\")),\"\")","v":""},{"$f":"IF(LEN(O1680)=0,\"\",IF(COUNTIF($O$2:$O$1921,O1680+1)>0,\"\",IF(COUNTIF($O$2:O1680,O1680)>1,\"\",O1680+1)))","v":""}]
[null,null,null,null,null,null,null,null,null,null,null,null,null,null,{"$f":"IF(1681<=$B$10,IF(LEN('３学期'!EI25)=0,\"\",IF('３学期'!EI25=$B$8,IF(LEN('３学期'!EL25)=0,\"\",'３学期'!EL25),\"\")),\"\")","v":""},{"$f":"IF(LEN(O1681)=0,\"\",IF(COUNTIF($O$2:$O$1921,O1681+1)>0,\"\",IF(COUNTIF($O$2:O1681,O1681)>1,\"\",O1681+1)))","v":""}]
[null,null,null,null,null,null,null,null,null,null,null,null,null,null,{"$f":"IF(1682<=$B$10,IF(LEN('３学期'!EM6)=0,\"\",IF('３学期'!EM6=$B$8,IF(LEN('３学期'!EP6)=0,\"\",'３学期'!EP6),\"\")),\"\")","v":""},{"$f":"IF(LEN(O1682)=0,\"\",IF(COUNTIF($O$2:$O$1921,O1682+1)>0,\"\",IF(COUNTIF($O$2:O1682,O1682)>1,\"\",O1682+1)))","v":""}]
[null,null,null,null,null,null,null,null,null,null,null,null,null,null,{"$f":"IF(1683<=$B$10,IF(LEN('３学期'!EM7)=0,\"\",IF('３学期'!EM7=$B$8,IF(LEN('３学期'!EP7)=0,\"\",'３学期'!EP7),\"\")),\"\")","v":""},{"$f":"IF(LEN(O1683)=0,\"\",IF(COUNTIF($O$2:$O$1921,O1683+1)>0,\"\",IF(COUNTIF($O$2:O1683,O1683)>1,\"\",O1683+1)))","v":""}]
[null,null,null,null,null,null,null,null,null,null,null,null,null,null,{"$f":"IF(1684<=$B$10,IF(LEN('３学期'!EM10)=0,\"\",IF('３学期'!EM10=$B$8,IF(LEN('３学期'!EP10)=0,\"\",'３学期'!EP10),\"\")),\"\")","v":""},{"$f":"IF(LEN(O1684)=0,\"\",IF(COUNTIF($O$2:$O$1921,O1684+1)>0,\"\",IF(COUNTIF($O$2:O1684,O1684)>1,\"\",O1684+1)))","v":""}]
[null,null,null,null,null,null,null,null,null,null,null,null,null,null,{"$f":"IF(1685<=$B$10,IF(LEN('３学期'!EM13)=0,\"\",IF('３学期'!EM13=$B$8,IF(LEN('３学期'!EP13)=0,\"\",'３学期'!EP13),\"\")),\"\")","v":""},{"$f":"IF(LEN(O1685)=0,\"\",IF(COUNTIF($O$2:$O$1921,O1685+1)>0,\"\",IF(COUNTIF($O$2:O1685,O1685)>1,\"\",O1685+1)))","v":""}]
[null,null,null,null,null,null,null,null,null,null,null,null,null,null,{"$f":"IF(1686<=$B$10,IF(LEN('３学期'!EM16)=0,\"\",IF('３学期'!EM16=$B$8,IF(LEN('３学期'!EP16)=0,\"\",'３学期'!EP16),\"\")),\"\")","v":""},{"$f":"IF(LEN(O1686)=0,\"\",IF(COUNTIF($O$2:$O$1921,O1686+1)>0,\"\",IF(COUNTIF($O$2:O1686,O1686)>1,\"\",O1686+1)))","v":""}]
[null,null,null,null,null,null,null,null,null,null,null,null,null,null,{"$f":"IF(1687<=$B$10,IF(LEN('３学期'!EM19)=0,\"\",IF('３学期'!EM19=$B$8,IF(LEN('３学期'!EP19)=0,\"\",'３学期'!EP19),\"\")),\"\")","v":""},{"$f":"IF(LEN(O1687)=0,\"\",IF(COUNTIF($O$2:$O$1921,O1687+1)>0,\"\",IF(COUNTIF($O$2:O1687,O1687)>1,\"\",O1687+1)))","v":""}]
[null,null,null,null,null,null,null,null,null,null,null,null,null,null,{"$f":"IF(1688<=$B$10,IF(LEN('３学期'!EM22)=0,\"\",IF('３学期'!EM22=$B$8,IF(LEN('３学期'!EP22)=0,\"\",'３学期'!EP22),\"\")),\"\")","v":""},{"$f":"IF(LEN(O1688)=0,\"\",IF(COUNTIF($O$2:$O$1921,O1688+1)>0,\"\",IF(COUNTIF($O$2:O1688,O1688)>1,\"\",O1688+1)))","v":""}]
[null,null,null,null,null,null,null,null,null,null,null,null,null,null,{"$f":"IF(1689<=$B$10,IF(LEN('３学期'!EM25)=0,\"\",IF('３学期'!EM25=$B$8,IF(LEN('３学期'!EP25)=0,\"\",'３学期'!EP25),\"\")),\"\")","v":""},{"$f":"IF(LEN(O1689)=0,\"\",IF(COUNTIF($O$2:$O$1921,O1689+1)>0,\"\",IF(COUNTIF($O$2:O1689,O1689)>1,\"\",O1689+1)))","v":""}]
[null,null,null,null,null,null,null,null,null,null,null,null,null,null,{"$f":"IF(1690<=$B$10,IF(LEN('３学期'!EQ6)=0,\"\",IF('３学期'!EQ6=$B$8,IF(LEN('３学期'!ET6)=0,\"\",'３学期'!ET6),\"\")),\"\")","v":""},{"$f":"IF(LEN(O1690)=0,\"\",IF(COUNTIF($O$2:$O$1921,O1690+1)>0,\"\",IF(COUNTIF($O$2:O1690,O1690)>1,\"\",O1690+1)))","v":""}]
[null,null,null,null,null,null,null,null,null,null,null,null,null,null,{"$f":"IF(1691<=$B$10,IF(LEN('３学期'!EQ7)=0,\"\",IF('３学期'!EQ7=$B$8,IF(LEN('３学期'!ET7)=0,\"\",'３学期'!ET7),\"\")),\"\")","v":""},{"$f":"IF(LEN(O1691)=0,\"\",IF(COUNTIF($O$2:$O$1921,O1691+1)>0,\"\",IF(COUNTIF($O$2:O1691,O1691)>1,\"\",O1691+1)))","v":""}]
[null,null,null,null,null,null,null,null,null,null,null,null,null,null,{"$f":"IF(1692<=$B$10,IF(LEN('３学期'!EQ10)=0,\"\",IF('３学期'!EQ10=$B$8,IF(LEN('３学期'!ET10)=0,\"\",'３学期'!ET10),\"\")),\"\")","v":""},{"$f":"IF(LEN(O1692)=0,\"\",IF(COUNTIF($O$2:$O$1921,O1692+1)>0,\"\",IF(COUNTIF($O$2:O1692,O1692)>1,\"\",O1692+1)))","v":""}]
[null,null,null,null,null,null,null,null,null,null,null,null,null,null,{"$f":"IF(1693<=$B$10,IF(LEN('３学期'!EQ13)=0,\"\",IF('３学期'!EQ13=$B$8,IF(LEN('３学期'!ET13)=0,\"\",'３学期'!ET13),\"\")),\"\")","v":""},{"$f":"IF(LEN(O1693)=0,\"\",IF(COUNTIF($O$2:$O$1921,O1693+1)>0,\"\",IF(COUNTIF($O$2:O1693,O1693)>1,\"\",O1693+1)))","v":""}]
[null,null,null,null,null,null,null,null,null,null,null,null,null,null,{"$f":"IF(1694<=$B$10,IF(LEN('３学期'!EQ16)=0,\"\",IF('３学期'!EQ16=$B$8,IF(LEN('３学期'!ET16)=0,\"\",'３学期'!ET16),\"\")),\"\")","v":""},{"$f":"IF(LEN(O1694)=0,\"\",IF(COUNTIF($O$2:$O$1921,O1694+1)>0,\"\",IF(COUNTIF($O$2:O1694,O1694)>1,\"\",O1694+1)))","v":""}]
[null,null,null,null,null,null,null,null,null,null,null,null,null,null,{"$f":"IF(1695<=$B$10,IF(LEN('３学期'!EQ19)=0,\"\",IF('３学期'!EQ19=$B$8,IF(LEN('３学期'!ET19)=0,\"\",'３学期'!ET19),\"\")),\"\")","v":""},{"$f":"IF(LEN(O1695)=0,\"\",IF(COUNTIF($O$2:$O$1921,O1695+1)>0,\"\",IF(COUNTIF($O$2:O1695,O1695)>1,\"\",O1695+1)))","v":""}]
[null,null,null,null,null,null,null,null,null,null,null,null,null,null,{"$f":"IF(1696<=$B$10,IF(LEN('３学期'!EQ22)=0,\"\",IF('３学期'!EQ22=$B$8,IF(LEN('３学期'!ET22)=0,\"\",'３学期'!ET22),\"\")),\"\")","v":""},{"$f":"IF(LEN(O1696)=0,\"\",IF(COUNTIF($O$2:$O$1921,O1696+1)>0,\"\",IF(COUNTIF($O$2:O1696,O1696)>1,\"\",O1696+1)))","v":""}]
[null,null,null,null,null,null,null,null,null,null,null,null,null,null,{"$f":"IF(1697<=$B$10,IF(LEN('３学期'!EQ25)=0,\"\",IF('３学期'!EQ25=$B$8,IF(LEN('３学期'!ET25)=0,\"\",'３学期'!ET25),\"\")),\"\")","v":""},{"$f":"IF(LEN(O1697)=0,\"\",IF(COUNTIF($O$2:$O$1921,O1697+1)>0,\"\",IF(COUNTIF($O$2:O1697,O1697)>1,\"\",O1697+1)))","v":""}]
[null,null,null,null,null,null,null,null,null,null,null,null,null,null,{"$f":"IF(1698<=$B$10,IF(LEN('３学期'!EU6)=0,\"\",IF('３学期'!EU6=$B$8,IF(LEN('３学期'!EX6)=0,\"\",'３学期'!EX6),\"\")),\"\")","v":""},{"$f":"IF(LEN(O1698)=0,\"\",IF(COUNTIF($O$2:$O$1921,O1698+1)>0,\"\",IF(COUNTIF($O$2:O1698,O1698)>1,\"\",O1698+1)))","v":""}]
[null,null,null,null,null,null,null,null,null,null,null,null,null,null,{"$f":"IF(1699<=$B$10,IF(LEN('３学期'!EU7)=0,\"\",IF('３学期'!EU7=$B$8,IF(LEN('３学期'!EX7)=0,\"\",'３学期'!EX7),\"\")),\"\")","v":""},{"$f":"IF(LEN(O1699)=0,\"\",IF(COUNTIF($O$2:$O$1921,O1699+1)>0,\"\",IF(COUNTIF($O$2:O1699,O1699)>1,\"\",O1699+1)))","v":""}]
[null,null,null,null,null,null,null,null,null,null,null,null,null,null,{"$f":"IF(1700<=$B$10,IF(LEN('３学期'!EU10)=0,\"\",IF('３学期'!EU10=$B$8,IF(LEN('３学期'!EX10)=0,\"\",'３学期'!EX10),\"\")),\"\")","v":""},{"$f":"IF(LEN(O1700)=0,\"\",IF(COUNTIF($O$2:$O$1921,O1700+1)>0,\"\",IF(COUNTIF($O$2:O1700,O1700)>1,\"\",O1700+1)))","v":""}]
[null,null,null,null,null,null,null,null,null,null,null,null,null,null,{"$f":"IF(1701<=$B$10,IF(LEN('３学期'!EU13)=0,\"\",IF('３学期'!EU13=$B$8,IF(LEN('３学期'!EX13)=0,\"\",'３学期'!EX13),\"\")),\"\")","v":""},{"$f":"IF(LEN(O1701)=0,\"\",IF(COUNTIF($O$2:$O$1921,O1701+1)>0,\"\",IF(COUNTIF($O$2:O1701,O1701)>1,\"\",O1701+1)))","v":""}]
[null,null,null,null,null,null,null,null,null,null,null,null,null,null,{"$f":"IF(1702<=$B$10,IF(LEN('３学期'!EU16)=0,\"\",IF('３学期'!EU16=$B$8,IF(LEN('３学期'!EX16)=0,\"\",'３学期'!EX16),\"\")),\"\")","v":""},{"$f":"IF(LEN(O1702)=0,\"\",IF(COUNTIF($O$2:$O$1921,O1702+1)>0,\"\",IF(COUNTIF($O$2:O1702,O1702)>1,\"\",O1702+1)))","v":""}]
[null,null,null,null,null,null,null,null,null,null,null,null,null,null,{"$f":"IF(1703<=$B$10,IF(LEN('３学期'!EU19)=0,\"\",IF('３学期'!EU19=$B$8,IF(LEN('３学期'!EX19)=0,\"\",'３学期'!EX19),\"\")),\"\")","v":""},{"$f":"IF(LEN(O1703)=0,\"\",IF(COUNTIF($O$2:$O$1921,O1703+1)>0,\"\",IF(COUNTIF($O$2:O1703,O1703)>1,\"\",O1703+1)))","v":""}]
[null,null,null,null,null,null,null,null,null,null,null,null,null,null,{"$f":"IF(1704<=$B$10,IF(LEN('３学期'!EU22)=0,\"\",IF('３学期'!EU22=$B$8,IF(LEN('３学期'!EX22)=0,\"\",'３学期'!EX22),\"\")),\"\")","v":""},{"$f":"IF(LEN(O1704)=0,\"\",IF(COUNTIF($O$2:$O$1921,O1704+1)>0,\"\",IF(COUNTIF($O$2:O1704,O1704)>1,\"\",O1704+1)))","v":""}]
[null,null,null,null,null,null,null,null,null,null,null,null,null,null,{"$f":"IF(1705<=$B$10,IF(LEN('３学期'!EU25)=0,\"\",IF('３学期'!EU25=$B$8,IF(LEN('３学期'!EX25)=0,\"\",'３学期'!EX25),\"\")),\"\")","v":""},{"$f":"IF(LEN(O1705)=0,\"\",IF(COUNTIF($O$2:$O$1921,O1705+1)>0,\"\",IF(COUNTIF($O$2:O1705,O1705)>1,\"\",O1705+1)))","v":""}]
[null,null,null,null,null,null,null,null,null,null,null,null,null,null,{"$f":"IF(1706<=$B$10,IF(LEN('３学期'!EY6)=0,\"\",IF('３学期'!EY6=$B$8,IF(LEN('３学期'!FB6)=0,\"\",'３学期'!FB6),\"\")),\"\")","v":""},{"$f":"IF(LEN(O1706)=0,\"\",IF(COUNTIF($O$2:$O$1921,O1706+1)>0,\"\",IF(COUNTIF($O$2:O1706,O1706)>1,\"\",O1706+1)))","v":""}]
[null,null,null,null,null,null,null,null,null,null,null,null,null,null,{"$f":"IF(1707<=$B$10,IF(LEN('３学期'!EY7)=0,\"\",IF('３学期'!EY7=$B$8,IF(LEN('３学期'!FB7)=0,\"\",'３学期'!FB7),\"\")),\"\")","v":""},{"$f":"IF(LEN(O1707)=0,\"\",IF(COUNTIF($O$2:$O$1921,O1707+1)>0,\"\",IF(COUNTIF($O$2:O1707,O1707)>1,\"\",O1707+1)))","v":""}]
[null,null,null,null,null,null,null,null,null,null,null,null,null,null,{"$f":"IF(1708<=$B$10,IF(LEN('３学期'!EY10)=0,\"\",IF('３学期'!EY10=$B$8,IF(LEN('３学期'!FB10)=0,\"\",'３学期'!FB10),\"\")),\"\")","v":""},{"$f":"IF(LEN(O1708)=0,\"\",IF(COUNTIF($O$2:$O$1921,O1708+1)>0,\"\",IF(COUNTIF($O$2:O1708,O1708)>1,\"\",O1708+1)))","v":""}]
[null,null,null,null,null,null,null,null,null,null,null,null,null,null,{"$f":"IF(1709<=$B$10,IF(LEN('３学期'!EY13)=0,\"\",IF('３学期'!EY13=$B$8,IF(LEN('３学期'!FB13)=0,\"\",'３学期'!FB13),\"\")),\"\")","v":""},{"$f":"IF(LEN(O1709)=0,\"\",IF(COUNTIF($O$2:$O$1921,O1709+1)>0,\"\",IF(COUNTIF($O$2:O1709,O1709)>1,\"\",O1709+1)))","v":""}]
[null,null,null,null,null,null,null,null,null,null,null,null,null,null,{"$f":"IF(1710<=$B$10,IF(LEN('３学期'!EY16)=0,\"\",IF('３学期'!EY16=$B$8,IF(LEN('３学期'!FB16)=0,\"\",'３学期'!FB16),\"\")),\"\")","v":""},{"$f":"IF(LEN(O1710)=0,\"\",IF(COUNTIF($O$2:$O$1921,O1710+1)>0,\"\",IF(COUNTIF($O$2:O1710,O1710)>1,\"\",O1710+1)))","v":""}]
[null,null,null,null,null,null,null,null,null,null,null,null,null,null,{"$f":"IF(1711<=$B$10,IF(LEN('３学期'!EY19)=0,\"\",IF('３学期'!EY19=$B$8,IF(LEN('３学期'!FB19)=0,\"\",'３学期'!FB19),\"\")),\"\")","v":""},{"$f":"IF(LEN(O1711)=0,\"\",IF(COUNTIF($O$2:$O$1921,O1711+1)>0,\"\",IF(COUNTIF($O$2:O1711,O1711)>1,\"\",O1711+1)))","v":""}]
[null,null,null,null,null,null,null,null,null,null,null,null,null,null,{"$f":"IF(1712<=$B$10,IF(LEN('３学期'!EY22)=0,\"\",IF('３学期'!EY22=$B$8,IF(LEN('３学期'!FB22)=0,\"\",'３学期'!FB22),\"\")),\"\")","v":""},{"$f":"IF(LEN(O1712)=0,\"\",IF(COUNTIF($O$2:$O$1921,O1712+1)>0,\"\",IF(COUNTIF($O$2:O1712,O1712)>1,\"\",O1712+1)))","v":""}]
[null,null,null,null,null,null,null,null,null,null,null,null,null,null,{"$f":"IF(1713<=$B$10,IF(LEN('３学期'!EY25)=0,\"\",IF('３学期'!EY25=$B$8,IF(LEN('３学期'!FB25)=0,\"\",'３学期'!FB25),\"\")),\"\")","v":""},{"$f":"IF(LEN(O1713)=0,\"\",IF(COUNTIF($O$2:$O$1921,O1713+1)>0,\"\",IF(COUNTIF($O$2:O1713,O1713)>1,\"\",O1713+1)))","v":""}]
[null,null,null,null,null,null,null,null,null,null,null,null,null,null,{"$f":"IF(1714<=$B$10,IF(LEN('３学期'!FC6)=0,\"\",IF('３学期'!FC6=$B$8,IF(LEN('３学期'!FF6)=0,\"\",'３学期'!FF6),\"\")),\"\")","v":""},{"$f":"IF(LEN(O1714)=0,\"\",IF(COUNTIF($O$2:$O$1921,O1714+1)>0,\"\",IF(COUNTIF($O$2:O1714,O1714)>1,\"\",O1714+1)))","v":""}]
[null,null,null,null,null,null,null,null,null,null,null,null,null,null,{"$f":"IF(1715<=$B$10,IF(LEN('３学期'!FC7)=0,\"\",IF('３学期'!FC7=$B$8,IF(LEN('３学期'!FF7)=0,\"\",'３学期'!FF7),\"\")),\"\")","v":""},{"$f":"IF(LEN(O1715)=0,\"\",IF(COUNTIF($O$2:$O$1921,O1715+1)>0,\"\",IF(COUNTIF($O$2:O1715,O1715)>1,\"\",O1715+1)))","v":""}]
[null,null,null,null,null,null,null,null,null,null,null,null,null,null,{"$f":"IF(1716<=$B$10,IF(LEN('３学期'!FC10)=0,\"\",IF('３学期'!FC10=$B$8,IF(LEN('３学期'!FF10)=0,\"\",'３学期'!FF10),\"\")),\"\")","v":""},{"$f":"IF(LEN(O1716)=0,\"\",IF(COUNTIF($O$2:$O$1921,O1716+1)>0,\"\",IF(COUNTIF($O$2:O1716,O1716)>1,\"\",O1716+1)))","v":""}]
[null,null,null,null,null,null,null,null,null,null,null,null,null,null,{"$f":"IF(1717<=$B$10,IF(LEN('３学期'!FC13)=0,\"\",IF('３学期'!FC13=$B$8,IF(LEN('３学期'!FF13)=0,\"\",'３学期'!FF13),\"\")),\"\")","v":""},{"$f":"IF(LEN(O1717)=0,\"\",IF(COUNTIF($O$2:$O$1921,O1717+1)>0,\"\",IF(COUNTIF($O$2:O1717,O1717)>1,\"\",O1717+1)))","v":""}]
[null,null,null,null,null,null,null,null,null,null,null,null,null,null,{"$f":"IF(1718<=$B$10,IF(LEN('３学期'!FC16)=0,\"\",IF('３学期'!FC16=$B$8,IF(LEN('３学期'!FF16)=0,\"\",'３学期'!FF16),\"\")),\"\")","v":""},{"$f":"IF(LEN(O1718)=0,\"\",IF(COUNTIF($O$2:$O$1921,O1718+1)>0,\"\",IF(COUNTIF($O$2:O1718,O1718)>1,\"\",O1718+1)))","v":""}]
[null,null,null,null,null,null,null,null,null,null,null,null,null,null,{"$f":"IF(1719<=$B$10,IF(LEN('３学期'!FC19)=0,\"\",IF('３学期'!FC19=$B$8,IF(LEN('３学期'!FF19)=0,\"\",'３学期'!FF19),\"\")),\"\")","v":""},{"$f":"IF(LEN(O1719)=0,\"\",IF(COUNTIF($O$2:$O$1921,O1719+1)>0,\"\",IF(COUNTIF($O$2:O1719,O1719)>1,\"\",O1719+1)))","v":""}]
[null,null,null,null,null,null,null,null,null,null,null,null,null,null,{"$f":"IF(1720<=$B$10,IF(LEN('３学期'!FC22)=0,\"\",IF('３学期'!FC22=$B$8,IF(LEN('３学期'!FF22)=0,\"\",'３学期'!FF22),\"\")),\"\")","v":""},{"$f":"IF(LEN(O1720)=0,\"\",IF(COUNTIF($O$2:$O$1921,O1720+1)>0,\"\",IF(COUNTIF($O$2:O1720,O1720)>1,\"\",O1720+1)))","v":""}]
[null,null,null,null,null,null,null,null,null,null,null,null,null,null,{"$f":"IF(1721<=$B$10,IF(LEN('３学期'!FC25)=0,\"\",IF('３学期'!FC25=$B$8,IF(LEN('３学期'!FF25)=0,\"\",'３学期'!FF25),\"\")),\"\")","v":""},{"$f":"IF(LEN(O1721)=0,\"\",IF(COUNTIF($O$2:$O$1921,O1721+1)>0,\"\",IF(COUNTIF($O$2:O1721,O1721)>1,\"\",O1721+1)))","v":""}]
[null,null,null,null,null,null,null,null,null,null,null,null,null,null,{"$f":"IF(1722<=$B$10,IF(LEN('３学期'!FG6)=0,\"\",IF('３学期'!FG6=$B$8,IF(LEN('３学期'!FJ6)=0,\"\",'３学期'!FJ6),\"\")),\"\")","v":""},{"$f":"IF(LEN(O1722)=0,\"\",IF(COUNTIF($O$2:$O$1921,O1722+1)>0,\"\",IF(COUNTIF($O$2:O1722,O1722)>1,\"\",O1722+1)))","v":""}]
[null,null,null,null,null,null,null,null,null,null,null,null,null,null,{"$f":"IF(1723<=$B$10,IF(LEN('３学期'!FG7)=0,\"\",IF('３学期'!FG7=$B$8,IF(LEN('３学期'!FJ7)=0,\"\",'３学期'!FJ7),\"\")),\"\")","v":""},{"$f":"IF(LEN(O1723)=0,\"\",IF(COUNTIF($O$2:$O$1921,O1723+1)>0,\"\",IF(COUNTIF($O$2:O1723,O1723)>1,\"\",O1723+1)))","v":""}]
[null,null,null,null,null,null,null,null,null,null,null,null,null,null,{"$f":"IF(1724<=$B$10,IF(LEN('３学期'!FG10)=0,\"\",IF('３学期'!FG10=$B$8,IF(LEN('３学期'!FJ10)=0,\"\",'３学期'!FJ10),\"\")),\"\")","v":""},{"$f":"IF(LEN(O1724)=0,\"\",IF(COUNTIF($O$2:$O$1921,O1724+1)>0,\"\",IF(COUNTIF($O$2:O1724,O1724)>1,\"\",O1724+1)))","v":""}]
[null,null,null,null,null,null,null,null,null,null,null,null,null,null,{"$f":"IF(1725<=$B$10,IF(LEN('３学期'!FG13)=0,\"\",IF('３学期'!FG13=$B$8,IF(LEN('３学期'!FJ13)=0,\"\",'３学期'!FJ13),\"\")),\"\")","v":""},{"$f":"IF(LEN(O1725)=0,\"\",IF(COUNTIF($O$2:$O$1921,O1725+1)>0,\"\",IF(COUNTIF($O$2:O1725,O1725)>1,\"\",O1725+1)))","v":""}]
[null,null,null,null,null,null,null,null,null,null,null,null,null,null,{"$f":"IF(1726<=$B$10,IF(LEN('３学期'!FG16)=0,\"\",IF('３学期'!FG16=$B$8,IF(LEN('３学期'!FJ16)=0,\"\",'３学期'!FJ16),\"\")),\"\")","v":""},{"$f":"IF(LEN(O1726)=0,\"\",IF(COUNTIF($O$2:$O$1921,O1726+1)>0,\"\",IF(COUNTIF($O$2:O1726,O1726)>1,\"\",O1726+1)))","v":""}]
[null,null,null,null,null,null,null,null,null,null,null,null,null,null,{"$f":"IF(1727<=$B$10,IF(LEN('３学期'!FG19)=0,\"\",IF('３学期'!FG19=$B$8,IF(LEN('３学期'!FJ19)=0,\"\",'３学期'!FJ19),\"\")),\"\")","v":""},{"$f":"IF(LEN(O1727)=0,\"\",IF(COUNTIF($O$2:$O$1921,O1727+1)>0,\"\",IF(COUNTIF($O$2:O1727,O1727)>1,\"\",O1727+1)))","v":""}]
[null,null,null,null,null,null,null,null,null,null,null,null,null,null,{"$f":"IF(1728<=$B$10,IF(LEN('３学期'!FG22)=0,\"\",IF('３学期'!FG22=$B$8,IF(LEN('３学期'!FJ22)=0,\"\",'３学期'!FJ22),\"\")),\"\")","v":""},{"$f":"IF(LEN(O1728)=0,\"\",IF(COUNTIF($O$2:$O$1921,O1728+1)>0,\"\",IF(COUNTIF($O$2:O1728,O1728)>1,\"\",O1728+1)))","v":""}]
[null,null,null,null,null,null,null,null,null,null,null,null,null,null,{"$f":"IF(1729<=$B$10,IF(LEN('３学期'!FG25)=0,\"\",IF('３学期'!FG25=$B$8,IF(LEN('３学期'!FJ25)=0,\"\",'３学期'!FJ25),\"\")),\"\")","v":""},{"$f":"IF(LEN(O1729)=0,\"\",IF(COUNTIF($O$2:$O$1921,O1729+1)>0,\"\",IF(COUNTIF($O$2:O1729,O1729)>1,\"\",O1729+1)))","v":""}]
[null,null,null,null,null,null,null,null,null,null,null,null,null,null,{"$f":"IF(1730<=$B$10,IF(LEN('３学期'!FK6)=0,\"\",IF('３学期'!FK6=$B$8,IF(LEN('３学期'!FN6)=0,\"\",'３学期'!FN6),\"\")),\"\")","v":""},{"$f":"IF(LEN(O1730)=0,\"\",IF(COUNTIF($O$2:$O$1921,O1730+1)>0,\"\",IF(COUNTIF($O$2:O1730,O1730)>1,\"\",O1730+1)))","v":""}]
[null,null,null,null,null,null,null,null,null,null,null,null,null,null,{"$f":"IF(1731<=$B$10,IF(LEN('３学期'!FK7)=0,\"\",IF('３学期'!FK7=$B$8,IF(LEN('３学期'!FN7)=0,\"\",'３学期'!FN7),\"\")),\"\")","v":""},{"$f":"IF(LEN(O1731)=0,\"\",IF(COUNTIF($O$2:$O$1921,O1731+1)>0,\"\",IF(COUNTIF($O$2:O1731,O1731)>1,\"\",O1731+1)))","v":""}]
[null,null,null,null,null,null,null,null,null,null,null,null,null,null,{"$f":"IF(1732<=$B$10,IF(LEN('３学期'!FK10)=0,\"\",IF('３学期'!FK10=$B$8,IF(LEN('３学期'!FN10)=0,\"\",'３学期'!FN10),\"\")),\"\")","v":""},{"$f":"IF(LEN(O1732)=0,\"\",IF(COUNTIF($O$2:$O$1921,O1732+1)>0,\"\",IF(COUNTIF($O$2:O1732,O1732)>1,\"\",O1732+1)))","v":""}]
[null,null,null,null,null,null,null,null,null,null,null,null,null,null,{"$f":"IF(1733<=$B$10,IF(LEN('３学期'!FK13)=0,\"\",IF('３学期'!FK13=$B$8,IF(LEN('３学期'!FN13)=0,\"\",'３学期'!FN13),\"\")),\"\")","v":""},{"$f":"IF(LEN(O1733)=0,\"\",IF(COUNTIF($O$2:$O$1921,O1733+1)>0,\"\",IF(COUNTIF($O$2:O1733,O1733)>1,\"\",O1733+1)))","v":""}]
[null,null,null,null,null,null,null,null,null,null,null,null,null,null,{"$f":"IF(1734<=$B$10,IF(LEN('３学期'!FK16)=0,\"\",IF('３学期'!FK16=$B$8,IF(LEN('３学期'!FN16)=0,\"\",'３学期'!FN16),\"\")),\"\")","v":""},{"$f":"IF(LEN(O1734)=0,\"\",IF(COUNTIF($O$2:$O$1921,O1734+1)>0,\"\",IF(COUNTIF($O$2:O1734,O1734)>1,\"\",O1734+1)))","v":""}]
[null,null,null,null,null,null,null,null,null,null,null,null,null,null,{"$f":"IF(1735<=$B$10,IF(LEN('３学期'!FK19)=0,\"\",IF('３学期'!FK19=$B$8,IF(LEN('３学期'!FN19)=0,\"\",'３学期'!FN19),\"\")),\"\")","v":""},{"$f":"IF(LEN(O1735)=0,\"\",IF(COUNTIF($O$2:$O$1921,O1735+1)>0,\"\",IF(COUNTIF($O$2:O1735,O1735)>1,\"\",O1735+1)))","v":""}]
[null,null,null,null,null,null,null,null,null,null,null,null,null,null,{"$f":"IF(1736<=$B$10,IF(LEN('３学期'!FK22)=0,\"\",IF('３学期'!FK22=$B$8,IF(LEN('３学期'!FN22)=0,\"\",'３学期'!FN22),\"\")),\"\")","v":""},{"$f":"IF(LEN(O1736)=0,\"\",IF(COUNTIF($O$2:$O$1921,O1736+1)>0,\"\",IF(COUNTIF($O$2:O1736,O1736)>1,\"\",O1736+1)))","v":""}]
[null,null,null,null,null,null,null,null,null,null,null,null,null,null,{"$f":"IF(1737<=$B$10,IF(LEN('３学期'!FK25)=0,\"\",IF('３学期'!FK25=$B$8,IF(LEN('３学期'!FN25)=0,\"\",'３学期'!FN25),\"\")),\"\")","v":""},{"$f":"IF(LEN(O1737)=0,\"\",IF(COUNTIF($O$2:$O$1921,O1737+1)>0,\"\",IF(COUNTIF($O$2:O1737,O1737)>1,\"\",O1737+1)))","v":""}]
[null,null,null,null,null,null,null,null,null,null,null,null,null,null,{"$f":"IF(1738<=$B$10,IF(LEN('３学期'!FO6)=0,\"\",IF('３学期'!FO6=$B$8,IF(LEN('３学期'!FR6)=0,\"\",'３学期'!FR6),\"\")),\"\")","v":""},{"$f":"IF(LEN(O1738)=0,\"\",IF(COUNTIF($O$2:$O$1921,O1738+1)>0,\"\",IF(COUNTIF($O$2:O1738,O1738)>1,\"\",O1738+1)))","v":""}]
[null,null,null,null,null,null,null,null,null,null,null,null,null,null,{"$f":"IF(1739<=$B$10,IF(LEN('３学期'!FO7)=0,\"\",IF('３学期'!FO7=$B$8,IF(LEN('３学期'!FR7)=0,\"\",'３学期'!FR7),\"\")),\"\")","v":""},{"$f":"IF(LEN(O1739)=0,\"\",IF(COUNTIF($O$2:$O$1921,O1739+1)>0,\"\",IF(COUNTIF($O$2:O1739,O1739)>1,\"\",O1739+1)))","v":""}]
[null,null,null,null,null,null,null,null,null,null,null,null,null,null,{"$f":"IF(1740<=$B$10,IF(LEN('３学期'!FO10)=0,\"\",IF('３学期'!FO10=$B$8,IF(LEN('３学期'!FR10)=0,\"\",'３学期'!FR10),\"\")),\"\")","v":""},{"$f":"IF(LEN(O1740)=0,\"\",IF(COUNTIF($O$2:$O$1921,O1740+1)>0,\"\",IF(COUNTIF($O$2:O1740,O1740)>1,\"\",O1740+1)))","v":""}]
[null,null,null,null,null,null,null,null,null,null,null,null,null,null,{"$f":"IF(1741<=$B$10,IF(LEN('３学期'!FO13)=0,\"\",IF('３学期'!FO13=$B$8,IF(LEN('３学期'!FR13)=0,\"\",'３学期'!FR13),\"\")),\"\")","v":""},{"$f":"IF(LEN(O1741)=0,\"\",IF(COUNTIF($O$2:$O$1921,O1741+1)>0,\"\",IF(COUNTIF($O$2:O1741,O1741)>1,\"\",O1741+1)))","v":""}]
[null,null,null,null,null,null,null,null,null,null,null,null,null,null,{"$f":"IF(1742<=$B$10,IF(LEN('３学期'!FO16)=0,\"\",IF('３学期'!FO16=$B$8,IF(LEN('３学期'!FR16)=0,\"\",'３学期'!FR16),\"\")),\"\")","v":""},{"$f":"IF(LEN(O1742)=0,\"\",IF(COUNTIF($O$2:$O$1921,O1742+1)>0,\"\",IF(COUNTIF($O$2:O1742,O1742)>1,\"\",O1742+1)))","v":""}]
[null,null,null,null,null,null,null,null,null,null,null,null,null,null,{"$f":"IF(1743<=$B$10,IF(LEN('３学期'!FO19)=0,\"\",IF('３学期'!FO19=$B$8,IF(LEN('３学期'!FR19)=0,\"\",'３学期'!FR19),\"\")),\"\")","v":""},{"$f":"IF(LEN(O1743)=0,\"\",IF(COUNTIF($O$2:$O$1921,O1743+1)>0,\"\",IF(COUNTIF($O$2:O1743,O1743)>1,\"\",O1743+1)))","v":""}]
[null,null,null,null,null,null,null,null,null,null,null,null,null,null,{"$f":"IF(1744<=$B$10,IF(LEN('３学期'!FO22)=0,\"\",IF('３学期'!FO22=$B$8,IF(LEN('３学期'!FR22)=0,\"\",'３学期'!FR22),\"\")),\"\")","v":""},{"$f":"IF(LEN(O1744)=0,\"\",IF(COUNTIF($O$2:$O$1921,O1744+1)>0,\"\",IF(COUNTIF($O$2:O1744,O1744)>1,\"\",O1744+1)))","v":""}]
[null,null,null,null,null,null,null,null,null,null,null,null,null,null,{"$f":"IF(1745<=$B$10,IF(LEN('３学期'!FO25)=0,\"\",IF('３学期'!FO25=$B$8,IF(LEN('３学期'!FR25)=0,\"\",'３学期'!FR25),\"\")),\"\")","v":""},{"$f":"IF(LEN(O1745)=0,\"\",IF(COUNTIF($O$2:$O$1921,O1745+1)>0,\"\",IF(COUNTIF($O$2:O1745,O1745)>1,\"\",O1745+1)))","v":""}]
[null,null,null,null,null,null,null,null,null,null,null,null,null,null,{"$f":"IF(1746<=$B$10,IF(LEN('３学期'!FS6)=0,\"\",IF('３学期'!FS6=$B$8,IF(LEN('３学期'!FV6)=0,\"\",'３学期'!FV6),\"\")),\"\")","v":""},{"$f":"IF(LEN(O1746)=0,\"\",IF(COUNTIF($O$2:$O$1921,O1746+1)>0,\"\",IF(COUNTIF($O$2:O1746,O1746)>1,\"\",O1746+1)))","v":""}]
[null,null,null,null,null,null,null,null,null,null,null,null,null,null,{"$f":"IF(1747<=$B$10,IF(LEN('３学期'!FS7)=0,\"\",IF('３学期'!FS7=$B$8,IF(LEN('３学期'!FV7)=0,\"\",'３学期'!FV7),\"\")),\"\")","v":""},{"$f":"IF(LEN(O1747)=0,\"\",IF(COUNTIF($O$2:$O$1921,O1747+1)>0,\"\",IF(COUNTIF($O$2:O1747,O1747)>1,\"\",O1747+1)))","v":""}]
[null,null,null,null,null,null,null,null,null,null,null,null,null,null,{"$f":"IF(1748<=$B$10,IF(LEN('３学期'!FS10)=0,\"\",IF('３学期'!FS10=$B$8,IF(LEN('３学期'!FV10)=0,\"\",'３学期'!FV10),\"\")),\"\")","v":""},{"$f":"IF(LEN(O1748)=0,\"\",IF(COUNTIF($O$2:$O$1921,O1748+1)>0,\"\",IF(COUNTIF($O$2:O1748,O1748)>1,\"\",O1748+1)))","v":""}]
[null,null,null,null,null,null,null,null,null,null,null,null,null,null,{"$f":"IF(1749<=$B$10,IF(LEN('３学期'!FS13)=0,\"\",IF('３学期'!FS13=$B$8,IF(LEN('３学期'!FV13)=0,\"\",'３学期'!FV13),\"\")),\"\")","v":""},{"$f":"IF(LEN(O1749)=0,\"\",IF(COUNTIF($O$2:$O$1921,O1749+1)>0,\"\",IF(COUNTIF($O$2:O1749,O1749)>1,\"\",O1749+1)))","v":""}]
[null,null,null,null,null,null,null,null,null,null,null,null,null,null,{"$f":"IF(1750<=$B$10,IF(LEN('３学期'!FS16)=0,\"\",IF('３学期'!FS16=$B$8,IF(LEN('３学期'!FV16)=0,\"\",'３学期'!FV16),\"\")),\"\")","v":""},{"$f":"IF(LEN(O1750)=0,\"\",IF(COUNTIF($O$2:$O$1921,O1750+1)>0,\"\",IF(COUNTIF($O$2:O1750,O1750)>1,\"\",O1750+1)))","v":""}]
[null,null,null,null,null,null,null,null,null,null,null,null,null,null,{"$f":"IF(1751<=$B$10,IF(LEN('３学期'!FS19)=0,\"\",IF('３学期'!FS19=$B$8,IF(LEN('３学期'!FV19)=0,\"\",'３学期'!FV19),\"\")),\"\")","v":""},{"$f":"IF(LEN(O1751)=0,\"\",IF(COUNTIF($O$2:$O$1921,O1751+1)>0,\"\",IF(COUNTIF($O$2:O1751,O1751)>1,\"\",O1751+1)))","v":""}]
[null,null,null,null,null,null,null,null,null,null,null,null,null,null,{"$f":"IF(1752<=$B$10,IF(LEN('３学期'!FS22)=0,\"\",IF('３学期'!FS22=$B$8,IF(LEN('３学期'!FV22)=0,\"\",'３学期'!FV22),\"\")),\"\")","v":""},{"$f":"IF(LEN(O1752)=0,\"\",IF(COUNTIF($O$2:$O$1921,O1752+1)>0,\"\",IF(COUNTIF($O$2:O1752,O1752)>1,\"\",O1752+1)))","v":""}]
[null,null,null,null,null,null,null,null,null,null,null,null,null,null,{"$f":"IF(1753<=$B$10,IF(LEN('３学期'!FS25)=0,\"\",IF('３学期'!FS25=$B$8,IF(LEN('３学期'!FV25)=0,\"\",'３学期'!FV25),\"\")),\"\")","v":""},{"$f":"IF(LEN(O1753)=0,\"\",IF(COUNTIF($O$2:$O$1921,O1753+1)>0,\"\",IF(COUNTIF($O$2:O1753,O1753)>1,\"\",O1753+1)))","v":""}]
[null,null,null,null,null,null,null,null,null,null,null,null,null,null,{"$f":"IF(1754<=$B$10,IF(LEN('３学期'!FW6)=0,\"\",IF('３学期'!FW6=$B$8,IF(LEN('３学期'!FZ6)=0,\"\",'３学期'!FZ6),\"\")),\"\")","v":""},{"$f":"IF(LEN(O1754)=0,\"\",IF(COUNTIF($O$2:$O$1921,O1754+1)>0,\"\",IF(COUNTIF($O$2:O1754,O1754)>1,\"\",O1754+1)))","v":""}]
[null,null,null,null,null,null,null,null,null,null,null,null,null,null,{"$f":"IF(1755<=$B$10,IF(LEN('３学期'!FW7)=0,\"\",IF('３学期'!FW7=$B$8,IF(LEN('３学期'!FZ7)=0,\"\",'３学期'!FZ7),\"\")),\"\")","v":""},{"$f":"IF(LEN(O1755)=0,\"\",IF(COUNTIF($O$2:$O$1921,O1755+1)>0,\"\",IF(COUNTIF($O$2:O1755,O1755)>1,\"\",O1755+1)))","v":""}]
[null,null,null,null,null,null,null,null,null,null,null,null,null,null,{"$f":"IF(1756<=$B$10,IF(LEN('３学期'!FW10)=0,\"\",IF('３学期'!FW10=$B$8,IF(LEN('３学期'!FZ10)=0,\"\",'３学期'!FZ10),\"\")),\"\")","v":""},{"$f":"IF(LEN(O1756)=0,\"\",IF(COUNTIF($O$2:$O$1921,O1756+1)>0,\"\",IF(COUNTIF($O$2:O1756,O1756)>1,\"\",O1756+1)))","v":""}]
[null,null,null,null,null,null,null,null,null,null,null,null,null,null,{"$f":"IF(1757<=$B$10,IF(LEN('３学期'!FW13)=0,\"\",IF('３学期'!FW13=$B$8,IF(LEN('３学期'!FZ13)=0,\"\",'３学期'!FZ13),\"\")),\"\")","v":""},{"$f":"IF(LEN(O1757)=0,\"\",IF(COUNTIF($O$2:$O$1921,O1757+1)>0,\"\",IF(COUNTIF($O$2:O1757,O1757)>1,\"\",O1757+1)))","v":""}]
[null,null,null,null,null,null,null,null,null,null,null,null,null,null,{"$f":"IF(1758<=$B$10,IF(LEN('３学期'!FW16)=0,\"\",IF('３学期'!FW16=$B$8,IF(LEN('３学期'!FZ16)=0,\"\",'３学期'!FZ16),\"\")),\"\")","v":""},{"$f":"IF(LEN(O1758)=0,\"\",IF(COUNTIF($O$2:$O$1921,O1758+1)>0,\"\",IF(COUNTIF($O$2:O1758,O1758)>1,\"\",O1758+1)))","v":""}]
[null,null,null,null,null,null,null,null,null,null,null,null,null,null,{"$f":"IF(1759<=$B$10,IF(LEN('３学期'!FW19)=0,\"\",IF('３学期'!FW19=$B$8,IF(LEN('３学期'!FZ19)=0,\"\",'３学期'!FZ19),\"\")),\"\")","v":""},{"$f":"IF(LEN(O1759)=0,\"\",IF(COUNTIF($O$2:$O$1921,O1759+1)>0,\"\",IF(COUNTIF($O$2:O1759,O1759)>1,\"\",O1759+1)))","v":""}]
[null,null,null,null,null,null,null,null,null,null,null,null,null,null,{"$f":"IF(1760<=$B$10,IF(LEN('３学期'!FW22)=0,\"\",IF('３学期'!FW22=$B$8,IF(LEN('３学期'!FZ22)=0,\"\",'３学期'!FZ22),\"\")),\"\")","v":""},{"$f":"IF(LEN(O1760)=0,\"\",IF(COUNTIF($O$2:$O$1921,O1760+1)>0,\"\",IF(COUNTIF($O$2:O1760,O1760)>1,\"\",O1760+1)))","v":""}]
[null,null,null,null,null,null,null,null,null,null,null,null,null,null,{"$f":"IF(1761<=$B$10,IF(LEN('３学期'!FW25)=0,\"\",IF('３学期'!FW25=$B$8,IF(LEN('３学期'!FZ25)=0,\"\",'３学期'!FZ25),\"\")),\"\")","v":""},{"$f":"IF(LEN(O1761)=0,\"\",IF(COUNTIF($O$2:$O$1921,O1761+1)>0,\"\",IF(COUNTIF($O$2:O1761,O1761)>1,\"\",O1761+1)))","v":""}]
[null,null,null,null,null,null,null,null,null,null,null,null,null,null,{"$f":"IF(1762<=$B$10,IF(LEN('３学期'!GA6)=0,\"\",IF('３学期'!GA6=$B$8,IF(LEN('３学期'!GD6)=0,\"\",'３学期'!GD6),\"\")),\"\")","v":""},{"$f":"IF(LEN(O1762)=0,\"\",IF(COUNTIF($O$2:$O$1921,O1762+1)>0,\"\",IF(COUNTIF($O$2:O1762,O1762)>1,\"\",O1762+1)))","v":""}]
[null,null,null,null,null,null,null,null,null,null,null,null,null,null,{"$f":"IF(1763<=$B$10,IF(LEN('３学期'!GA7)=0,\"\",IF('３学期'!GA7=$B$8,IF(LEN('３学期'!GD7)=0,\"\",'３学期'!GD7),\"\")),\"\")","v":""},{"$f":"IF(LEN(O1763)=0,\"\",IF(COUNTIF($O$2:$O$1921,O1763+1)>0,\"\",IF(COUNTIF($O$2:O1763,O1763)>1,\"\",O1763+1)))","v":""}]
[null,null,null,null,null,null,null,null,null,null,null,null,null,null,{"$f":"IF(1764<=$B$10,IF(LEN('３学期'!GA10)=0,\"\",IF('３学期'!GA10=$B$8,IF(LEN('３学期'!GD10)=0,\"\",'３学期'!GD10),\"\")),\"\")","v":""},{"$f":"IF(LEN(O1764)=0,\"\",IF(COUNTIF($O$2:$O$1921,O1764+1)>0,\"\",IF(COUNTIF($O$2:O1764,O1764)>1,\"\",O1764+1)))","v":""}]
[null,null,null,null,null,null,null,null,null,null,null,null,null,null,{"$f":"IF(1765<=$B$10,IF(LEN('３学期'!GA13)=0,\"\",IF('３学期'!GA13=$B$8,IF(LEN('３学期'!GD13)=0,\"\",'３学期'!GD13),\"\")),\"\")","v":""},{"$f":"IF(LEN(O1765)=0,\"\",IF(COUNTIF($O$2:$O$1921,O1765+1)>0,\"\",IF(COUNTIF($O$2:O1765,O1765)>1,\"\",O1765+1)))","v":""}]
[null,null,null,null,null,null,null,null,null,null,null,null,null,null,{"$f":"IF(1766<=$B$10,IF(LEN('３学期'!GA16)=0,\"\",IF('３学期'!GA16=$B$8,IF(LEN('３学期'!GD16)=0,\"\",'３学期'!GD16),\"\")),\"\")","v":""},{"$f":"IF(LEN(O1766)=0,\"\",IF(COUNTIF($O$2:$O$1921,O1766+1)>0,\"\",IF(COUNTIF($O$2:O1766,O1766)>1,\"\",O1766+1)))","v":""}]
[null,null,null,null,null,null,null,null,null,null,null,null,null,null,{"$f":"IF(1767<=$B$10,IF(LEN('３学期'!GA19)=0,\"\",IF('３学期'!GA19=$B$8,IF(LEN('３学期'!GD19)=0,\"\",'３学期'!GD19),\"\")),\"\")","v":""},{"$f":"IF(LEN(O1767)=0,\"\",IF(COUNTIF($O$2:$O$1921,O1767+1)>0,\"\",IF(COUNTIF($O$2:O1767,O1767)>1,\"\",O1767+1)))","v":""}]
[null,null,null,null,null,null,null,null,null,null,null,null,null,null,{"$f":"IF(1768<=$B$10,IF(LEN('３学期'!GA22)=0,\"\",IF('３学期'!GA22=$B$8,IF(LEN('３学期'!GD22)=0,\"\",'３学期'!GD22),\"\")),\"\")","v":""},{"$f":"IF(LEN(O1768)=0,\"\",IF(COUNTIF($O$2:$O$1921,O1768+1)>0,\"\",IF(COUNTIF($O$2:O1768,O1768)>1,\"\",O1768+1)))","v":""}]
[null,null,null,null,null,null,null,null,null,null,null,null,null,null,{"$f":"IF(1769<=$B$10,IF(LEN('３学期'!GA25)=0,\"\",IF('３学期'!GA25=$B$8,IF(LEN('３学期'!GD25)=0,\"\",'３学期'!GD25),\"\")),\"\")","v":""},{"$f":"IF(LEN(O1769)=0,\"\",IF(COUNTIF($O$2:$O$1921,O1769+1)>0,\"\",IF(COUNTIF($O$2:O1769,O1769)>1,\"\",O1769+1)))","v":""}]
[null,null,null,null,null,null,null,null,null,null,null,null,null,null,{"$f":"IF(1770<=$B$10,IF(LEN('３学期'!GE6)=0,\"\",IF('３学期'!GE6=$B$8,IF(LEN('３学期'!GH6)=0,\"\",'３学期'!GH6),\"\")),\"\")","v":""},{"$f":"IF(LEN(O1770)=0,\"\",IF(COUNTIF($O$2:$O$1921,O1770+1)>0,\"\",IF(COUNTIF($O$2:O1770,O1770)>1,\"\",O1770+1)))","v":""}]
[null,null,null,null,null,null,null,null,null,null,null,null,null,null,{"$f":"IF(1771<=$B$10,IF(LEN('３学期'!GE7)=0,\"\",IF('３学期'!GE7=$B$8,IF(LEN('３学期'!GH7)=0,\"\",'３学期'!GH7),\"\")),\"\")","v":""},{"$f":"IF(LEN(O1771)=0,\"\",IF(COUNTIF($O$2:$O$1921,O1771+1)>0,\"\",IF(COUNTIF($O$2:O1771,O1771)>1,\"\",O1771+1)))","v":""}]
[null,null,null,null,null,null,null,null,null,null,null,null,null,null,{"$f":"IF(1772<=$B$10,IF(LEN('３学期'!GE10)=0,\"\",IF('３学期'!GE10=$B$8,IF(LEN('３学期'!GH10)=0,\"\",'３学期'!GH10),\"\")),\"\")","v":""},{"$f":"IF(LEN(O1772)=0,\"\",IF(COUNTIF($O$2:$O$1921,O1772+1)>0,\"\",IF(COUNTIF($O$2:O1772,O1772)>1,\"\",O1772+1)))","v":""}]
[null,null,null,null,null,null,null,null,null,null,null,null,null,null,{"$f":"IF(1773<=$B$10,IF(LEN('３学期'!GE13)=0,\"\",IF('３学期'!GE13=$B$8,IF(LEN('３学期'!GH13)=0,\"\",'３学期'!GH13),\"\")),\"\")","v":""},{"$f":"IF(LEN(O1773)=0,\"\",IF(COUNTIF($O$2:$O$1921,O1773+1)>0,\"\",IF(COUNTIF($O$2:O1773,O1773)>1,\"\",O1773+1)))","v":""}]
[null,null,null,null,null,null,null,null,null,null,null,null,null,null,{"$f":"IF(1774<=$B$10,IF(LEN('３学期'!GE16)=0,\"\",IF('３学期'!GE16=$B$8,IF(LEN('３学期'!GH16)=0,\"\",'３学期'!GH16),\"\")),\"\")","v":""},{"$f":"IF(LEN(O1774)=0,\"\",IF(COUNTIF($O$2:$O$1921,O1774+1)>0,\"\",IF(COUNTIF($O$2:O1774,O1774)>1,\"\",O1774+1)))","v":""}]
[null,null,null,null,null,null,null,null,null,null,null,null,null,null,{"$f":"IF(1775<=$B$10,IF(LEN('３学期'!GE19)=0,\"\",IF('３学期'!GE19=$B$8,IF(LEN('３学期'!GH19)=0,\"\",'３学期'!GH19),\"\")),\"\")","v":""},{"$f":"IF(LEN(O1775)=0,\"\",IF(COUNTIF($O$2:$O$1921,O1775+1)>0,\"\",IF(COUNTIF($O$2:O1775,O1775)>1,\"\",O1775+1)))","v":""}]
[null,null,null,null,null,null,null,null,null,null,null,null,null,null,{"$f":"IF(1776<=$B$10,IF(LEN('３学期'!GE22)=0,\"\",IF('３学期'!GE22=$B$8,IF(LEN('３学期'!GH22)=0,\"\",'３学期'!GH22),\"\")),\"\")","v":""},{"$f":"IF(LEN(O1776)=0,\"\",IF(COUNTIF($O$2:$O$1921,O1776+1)>0,\"\",IF(COUNTIF($O$2:O1776,O1776)>1,\"\",O1776+1)))","v":""}]
[null,null,null,null,null,null,null,null,null,null,null,null,null,null,{"$f":"IF(1777<=$B$10,IF(LEN('３学期'!GE25)=0,\"\",IF('３学期'!GE25=$B$8,IF(LEN('３学期'!GH25)=0,\"\",'３学期'!GH25),\"\")),\"\")","v":""},{"$f":"IF(LEN(O1777)=0,\"\",IF(COUNTIF($O$2:$O$1921,O1777+1)>0,\"\",IF(COUNTIF($O$2:O1777,O1777)>1,\"\",O1777+1)))","v":""}]
[null,null,null,null,null,null,null,null,null,null,null,null,null,null,{"$f":"IF(1778<=$B$10,IF(LEN('３学期'!GI6)=0,\"\",IF('３学期'!GI6=$B$8,IF(LEN('３学期'!GL6)=0,\"\",'３学期'!GL6),\"\")),\"\")","v":""},{"$f":"IF(LEN(O1778)=0,\"\",IF(COUNTIF($O$2:$O$1921,O1778+1)>0,\"\",IF(COUNTIF($O$2:O1778,O1778)>1,\"\",O1778+1)))","v":""}]
[null,null,null,null,null,null,null,null,null,null,null,null,null,null,{"$f":"IF(1779<=$B$10,IF(LEN('３学期'!GI7)=0,\"\",IF('３学期'!GI7=$B$8,IF(LEN('３学期'!GL7)=0,\"\",'３学期'!GL7),\"\")),\"\")","v":""},{"$f":"IF(LEN(O1779)=0,\"\",IF(COUNTIF($O$2:$O$1921,O1779+1)>0,\"\",IF(COUNTIF($O$2:O1779,O1779)>1,\"\",O1779+1)))","v":""}]
[null,null,null,null,null,null,null,null,null,null,null,null,null,null,{"$f":"IF(1780<=$B$10,IF(LEN('３学期'!GI10)=0,\"\",IF('３学期'!GI10=$B$8,IF(LEN('３学期'!GL10)=0,\"\",'３学期'!GL10),\"\")),\"\")","v":""},{"$f":"IF(LEN(O1780)=0,\"\",IF(COUNTIF($O$2:$O$1921,O1780+1)>0,\"\",IF(COUNTIF($O$2:O1780,O1780)>1,\"\",O1780+1)))","v":""}]
[null,null,null,null,null,null,null,null,null,null,null,null,null,null,{"$f":"IF(1781<=$B$10,IF(LEN('３学期'!GI13)=0,\"\",IF('３学期'!GI13=$B$8,IF(LEN('３学期'!GL13)=0,\"\",'３学期'!GL13),\"\")),\"\")","v":""},{"$f":"IF(LEN(O1781)=0,\"\",IF(COUNTIF($O$2:$O$1921,O1781+1)>0,\"\",IF(COUNTIF($O$2:O1781,O1781)>1,\"\",O1781+1)))","v":""}]
[null,null,null,null,null,null,null,null,null,null,null,null,null,null,{"$f":"IF(1782<=$B$10,IF(LEN('３学期'!GI16)=0,\"\",IF('３学期'!GI16=$B$8,IF(LEN('３学期'!GL16)=0,\"\",'３学期'!GL16),\"\")),\"\")","v":""},{"$f":"IF(LEN(O1782)=0,\"\",IF(COUNTIF($O$2:$O$1921,O1782+1)>0,\"\",IF(COUNTIF($O$2:O1782,O1782)>1,\"\",O1782+1)))","v":""}]
[null,null,null,null,null,null,null,null,null,null,null,null,null,null,{"$f":"IF(1783<=$B$10,IF(LEN('３学期'!GI19)=0,\"\",IF('３学期'!GI19=$B$8,IF(LEN('３学期'!GL19)=0,\"\",'３学期'!GL19),\"\")),\"\")","v":""},{"$f":"IF(LEN(O1783)=0,\"\",IF(COUNTIF($O$2:$O$1921,O1783+1)>0,\"\",IF(COUNTIF($O$2:O1783,O1783)>1,\"\",O1783+1)))","v":""}]
[null,null,null,null,null,null,null,null,null,null,null,null,null,null,{"$f":"IF(1784<=$B$10,IF(LEN('３学期'!GI22)=0,\"\",IF('３学期'!GI22=$B$8,IF(LEN('３学期'!GL22)=0,\"\",'３学期'!GL22),\"\")),\"\")","v":""},{"$f":"IF(LEN(O1784)=0,\"\",IF(COUNTIF($O$2:$O$1921,O1784+1)>0,\"\",IF(COUNTIF($O$2:O1784,O1784)>1,\"\",O1784+1)))","v":""}]
[null,null,null,null,null,null,null,null,null,null,null,null,null,null,{"$f":"IF(1785<=$B$10,IF(LEN('３学期'!GI25)=0,\"\",IF('３学期'!GI25=$B$8,IF(LEN('３学期'!GL25)=0,\"\",'３学期'!GL25),\"\")),\"\")","v":""},{"$f":"IF(LEN(O1785)=0,\"\",IF(COUNTIF($O$2:$O$1921,O1785+1)>0,\"\",IF(COUNTIF($O$2:O1785,O1785)>1,\"\",O1785+1)))","v":""}]
[null,null,null,null,null,null,null,null,null,null,null,null,null,null,{"$f":"IF(1786<=$B$10,IF(LEN('３学期'!GM6)=0,\"\",IF('３学期'!GM6=$B$8,IF(LEN('３学期'!GP6)=0,\"\",'３学期'!GP6),\"\")),\"\")","v":""},{"$f":"IF(LEN(O1786)=0,\"\",IF(COUNTIF($O$2:$O$1921,O1786+1)>0,\"\",IF(COUNTIF($O$2:O1786,O1786)>1,\"\",O1786+1)))","v":""}]
[null,null,null,null,null,null,null,null,null,null,null,null,null,null,{"$f":"IF(1787<=$B$10,IF(LEN('３学期'!GM7)=0,\"\",IF('３学期'!GM7=$B$8,IF(LEN('３学期'!GP7)=0,\"\",'３学期'!GP7),\"\")),\"\")","v":""},{"$f":"IF(LEN(O1787)=0,\"\",IF(COUNTIF($O$2:$O$1921,O1787+1)>0,\"\",IF(COUNTIF($O$2:O1787,O1787)>1,\"\",O1787+1)))","v":""}]
[null,null,null,null,null,null,null,null,null,null,null,null,null,null,{"$f":"IF(1788<=$B$10,IF(LEN('３学期'!GM10)=0,\"\",IF('３学期'!GM10=$B$8,IF(LEN('３学期'!GP10)=0,\"\",'３学期'!GP10),\"\")),\"\")","v":""},{"$f":"IF(LEN(O1788)=0,\"\",IF(COUNTIF($O$2:$O$1921,O1788+1)>0,\"\",IF(COUNTIF($O$2:O1788,O1788)>1,\"\",O1788+1)))","v":""}]
[null,null,null,null,null,null,null,null,null,null,null,null,null,null,{"$f":"IF(1789<=$B$10,IF(LEN('３学期'!GM13)=0,\"\",IF('３学期'!GM13=$B$8,IF(LEN('３学期'!GP13)=0,\"\",'３学期'!GP13),\"\")),\"\")","v":""},{"$f":"IF(LEN(O1789)=0,\"\",IF(COUNTIF($O$2:$O$1921,O1789+1)>0,\"\",IF(COUNTIF($O$2:O1789,O1789)>1,\"\",O1789+1)))","v":""}]
[null,null,null,null,null,null,null,null,null,null,null,null,null,null,{"$f":"IF(1790<=$B$10,IF(LEN('３学期'!GM16)=0,\"\",IF('３学期'!GM16=$B$8,IF(LEN('３学期'!GP16)=0,\"\",'３学期'!GP16),\"\")),\"\")","v":""},{"$f":"IF(LEN(O1790)=0,\"\",IF(COUNTIF($O$2:$O$1921,O1790+1)>0,\"\",IF(COUNTIF($O$2:O1790,O1790)>1,\"\",O1790+1)))","v":""}]
[null,null,null,null,null,null,null,null,null,null,null,null,null,null,{"$f":"IF(1791<=$B$10,IF(LEN('３学期'!GM19)=0,\"\",IF('３学期'!GM19=$B$8,IF(LEN('３学期'!GP19)=0,\"\",'３学期'!GP19),\"\")),\"\")","v":""},{"$f":"IF(LEN(O1791)=0,\"\",IF(COUNTIF($O$2:$O$1921,O1791+1)>0,\"\",IF(COUNTIF($O$2:O1791,O1791)>1,\"\",O1791+1)))","v":""}]
[null,null,null,null,null,null,null,null,null,null,null,null,null,null,{"$f":"IF(1792<=$B$10,IF(LEN('３学期'!GM22)=0,\"\",IF('３学期'!GM22=$B$8,IF(LEN('３学期'!GP22)=0,\"\",'３学期'!GP22),\"\")),\"\")","v":""},{"$f":"IF(LEN(O1792)=0,\"\",IF(COUNTIF($O$2:$O$1921,O1792+1)>0,\"\",IF(COUNTIF($O$2:O1792,O1792)>1,\"\",O1792+1)))","v":""}]
[null,null,null,null,null,null,null,null,null,null,null,null,null,null,{"$f":"IF(1793<=$B$10,IF(LEN('３学期'!GM25)=0,\"\",IF('３学期'!GM25=$B$8,IF(LEN('３学期'!GP25)=0,\"\",'３学期'!GP25),\"\")),\"\")","v":""},{"$f":"IF(LEN(O1793)=0,\"\",IF(COUNTIF($O$2:$O$1921,O1793+1)>0,\"\",IF(COUNTIF($O$2:O1793,O1793)>1,\"\",O1793+1)))","v":""}]
[null,null,null,null,null,null,null,null,null,null,null,null,null,null,{"$f":"IF(1794<=$B$10,IF(LEN('３学期'!GQ6)=0,\"\",IF('３学期'!GQ6=$B$8,IF(LEN('３学期'!GT6)=0,\"\",'３学期'!GT6),\"\")),\"\")","v":""},{"$f":"IF(LEN(O1794)=0,\"\",IF(COUNTIF($O$2:$O$1921,O1794+1)>0,\"\",IF(COUNTIF($O$2:O1794,O1794)>1,\"\",O1794+1)))","v":""}]
[null,null,null,null,null,null,null,null,null,null,null,null,null,null,{"$f":"IF(1795<=$B$10,IF(LEN('３学期'!GQ7)=0,\"\",IF('３学期'!GQ7=$B$8,IF(LEN('３学期'!GT7)=0,\"\",'３学期'!GT7),\"\")),\"\")","v":""},{"$f":"IF(LEN(O1795)=0,\"\",IF(COUNTIF($O$2:$O$1921,O1795+1)>0,\"\",IF(COUNTIF($O$2:O1795,O1795)>1,\"\",O1795+1)))","v":""}]
[null,null,null,null,null,null,null,null,null,null,null,null,null,null,{"$f":"IF(1796<=$B$10,IF(LEN('３学期'!GQ10)=0,\"\",IF('３学期'!GQ10=$B$8,IF(LEN('３学期'!GT10)=0,\"\",'３学期'!GT10),\"\")),\"\")","v":""},{"$f":"IF(LEN(O1796)=0,\"\",IF(COUNTIF($O$2:$O$1921,O1796+1)>0,\"\",IF(COUNTIF($O$2:O1796,O1796)>1,\"\",O1796+1)))","v":""}]
[null,null,null,null,null,null,null,null,null,null,null,null,null,null,{"$f":"IF(1797<=$B$10,IF(LEN('３学期'!GQ13)=0,\"\",IF('３学期'!GQ13=$B$8,IF(LEN('３学期'!GT13)=0,\"\",'３学期'!GT13),\"\")),\"\")","v":""},{"$f":"IF(LEN(O1797)=0,\"\",IF(COUNTIF($O$2:$O$1921,O1797+1)>0,\"\",IF(COUNTIF($O$2:O1797,O1797)>1,\"\",O1797+1)))","v":""}]
[null,null,null,null,null,null,null,null,null,null,null,null,null,null,{"$f":"IF(1798<=$B$10,IF(LEN('３学期'!GQ16)=0,\"\",IF('３学期'!GQ16=$B$8,IF(LEN('３学期'!GT16)=0,\"\",'３学期'!GT16),\"\")),\"\")","v":""},{"$f":"IF(LEN(O1798)=0,\"\",IF(COUNTIF($O$2:$O$1921,O1798+1)>0,\"\",IF(COUNTIF($O$2:O1798,O1798)>1,\"\",O1798+1)))","v":""}]
[null,null,null,null,null,null,null,null,null,null,null,null,null,null,{"$f":"IF(1799<=$B$10,IF(LEN('３学期'!GQ19)=0,\"\",IF('３学期'!GQ19=$B$8,IF(LEN('３学期'!GT19)=0,\"\",'３学期'!GT19),\"\")),\"\")","v":""},{"$f":"IF(LEN(O1799)=0,\"\",IF(COUNTIF($O$2:$O$1921,O1799+1)>0,\"\",IF(COUNTIF($O$2:O1799,O1799)>1,\"\",O1799+1)))","v":""}]
[null,null,null,null,null,null,null,null,null,null,null,null,null,null,{"$f":"IF(1800<=$B$10,IF(LEN('３学期'!GQ22)=0,\"\",IF('３学期'!GQ22=$B$8,IF(LEN('３学期'!GT22)=0,\"\",'３学期'!GT22),\"\")),\"\")","v":""},{"$f":"IF(LEN(O1800)=0,\"\",IF(COUNTIF($O$2:$O$1921,O1800+1)>0,\"\",IF(COUNTIF($O$2:O1800,O1800)>1,\"\",O1800+1)))","v":""}]
[null,null,null,null,null,null,null,null,null,null,null,null,null,null,{"$f":"IF(1801<=$B$10,IF(LEN('３学期'!GQ25)=0,\"\",IF('３学期'!GQ25=$B$8,IF(LEN('３学期'!GT25)=0,\"\",'３学期'!GT25),\"\")),\"\")","v":""},{"$f":"IF(LEN(O1801)=0,\"\",IF(COUNTIF($O$2:$O$1921,O1801+1)>0,\"\",IF(COUNTIF($O$2:O1801,O1801)>1,\"\",O1801+1)))","v":""}]
[null,null,null,null,null,null,null,null,null,null,null,null,null,null,{"$f":"IF(1802<=$B$10,IF(LEN('３学期'!GU6)=0,\"\",IF('３学期'!GU6=$B$8,IF(LEN('３学期'!GX6)=0,\"\",'３学期'!GX6),\"\")),\"\")","v":""},{"$f":"IF(LEN(O1802)=0,\"\",IF(COUNTIF($O$2:$O$1921,O1802+1)>0,\"\",IF(COUNTIF($O$2:O1802,O1802)>1,\"\",O1802+1)))","v":""}]
[null,null,null,null,null,null,null,null,null,null,null,null,null,null,{"$f":"IF(1803<=$B$10,IF(LEN('３学期'!GU7)=0,\"\",IF('３学期'!GU7=$B$8,IF(LEN('３学期'!GX7)=0,\"\",'３学期'!GX7),\"\")),\"\")","v":""},{"$f":"IF(LEN(O1803)=0,\"\",IF(COUNTIF($O$2:$O$1921,O1803+1)>0,\"\",IF(COUNTIF($O$2:O1803,O1803)>1,\"\",O1803+1)))","v":""}]
[null,null,null,null,null,null,null,null,null,null,null,null,null,null,{"$f":"IF(1804<=$B$10,IF(LEN('３学期'!GU10)=0,\"\",IF('３学期'!GU10=$B$8,IF(LEN('３学期'!GX10)=0,\"\",'３学期'!GX10),\"\")),\"\")","v":""},{"$f":"IF(LEN(O1804)=0,\"\",IF(COUNTIF($O$2:$O$1921,O1804+1)>0,\"\",IF(COUNTIF($O$2:O1804,O1804)>1,\"\",O1804+1)))","v":""}]
[null,null,null,null,null,null,null,null,null,null,null,null,null,null,{"$f":"IF(1805<=$B$10,IF(LEN('３学期'!GU13)=0,\"\",IF('３学期'!GU13=$B$8,IF(LEN('３学期'!GX13)=0,\"\",'３学期'!GX13),\"\")),\"\")","v":""},{"$f":"IF(LEN(O1805)=0,\"\",IF(COUNTIF($O$2:$O$1921,O1805+1)>0,\"\",IF(COUNTIF($O$2:O1805,O1805)>1,\"\",O1805+1)))","v":""}]
[null,null,null,null,null,null,null,null,null,null,null,null,null,null,{"$f":"IF(1806<=$B$10,IF(LEN('３学期'!GU16)=0,\"\",IF('３学期'!GU16=$B$8,IF(LEN('３学期'!GX16)=0,\"\",'３学期'!GX16),\"\")),\"\")","v":""},{"$f":"IF(LEN(O1806)=0,\"\",IF(COUNTIF($O$2:$O$1921,O1806+1)>0,\"\",IF(COUNTIF($O$2:O1806,O1806)>1,\"\",O1806+1)))","v":""}]
[null,null,null,null,null,null,null,null,null,null,null,null,null,null,{"$f":"IF(1807<=$B$10,IF(LEN('３学期'!GU19)=0,\"\",IF('３学期'!GU19=$B$8,IF(LEN('３学期'!GX19)=0,\"\",'３学期'!GX19),\"\")),\"\")","v":""},{"$f":"IF(LEN(O1807)=0,\"\",IF(COUNTIF($O$2:$O$1921,O1807+1)>0,\"\",IF(COUNTIF($O$2:O1807,O1807)>1,\"\",O1807+1)))","v":""}]
[null,null,null,null,null,null,null,null,null,null,null,null,null,null,{"$f":"IF(1808<=$B$10,IF(LEN('３学期'!GU22)=0,\"\",IF('３学期'!GU22=$B$8,IF(LEN('３学期'!GX22)=0,\"\",'３学期'!GX22),\"\")),\"\")","v":""},{"$f":"IF(LEN(O1808)=0,\"\",IF(COUNTIF($O$2:$O$1921,O1808+1)>0,\"\",IF(COUNTIF($O$2:O1808,O1808)>1,\"\",O1808+1)))","v":""}]
[null,null,null,null,null,null,null,null,null,null,null,null,null,null,{"$f":"IF(1809<=$B$10,IF(LEN('３学期'!GU25)=0,\"\",IF('３学期'!GU25=$B$8,IF(LEN('３学期'!GX25)=0,\"\",'３学期'!GX25),\"\")),\"\")","v":""},{"$f":"IF(LEN(O1809)=0,\"\",IF(COUNTIF($O$2:$O$1921,O1809+1)>0,\"\",IF(COUNTIF($O$2:O1809,O1809)>1,\"\",O1809+1)))","v":""}]
[null,null,null,null,null,null,null,null,null,null,null,null,null,null,{"$f":"IF(1810<=$B$10,IF(LEN('３学期'!GY6)=0,\"\",IF('３学期'!GY6=$B$8,IF(LEN('３学期'!HB6)=0,\"\",'３学期'!HB6),\"\")),\"\")","v":""},{"$f":"IF(LEN(O1810)=0,\"\",IF(COUNTIF($O$2:$O$1921,O1810+1)>0,\"\",IF(COUNTIF($O$2:O1810,O1810)>1,\"\",O1810+1)))","v":""}]
[null,null,null,null,null,null,null,null,null,null,null,null,null,null,{"$f":"IF(1811<=$B$10,IF(LEN('３学期'!GY7)=0,\"\",IF('３学期'!GY7=$B$8,IF(LEN('３学期'!HB7)=0,\"\",'３学期'!HB7),\"\")),\"\")","v":""},{"$f":"IF(LEN(O1811)=0,\"\",IF(COUNTIF($O$2:$O$1921,O1811+1)>0,\"\",IF(COUNTIF($O$2:O1811,O1811)>1,\"\",O1811+1)))","v":""}]
[null,null,null,null,null,null,null,null,null,null,null,null,null,null,{"$f":"IF(1812<=$B$10,IF(LEN('３学期'!GY10)=0,\"\",IF('３学期'!GY10=$B$8,IF(LEN('３学期'!HB10)=0,\"\",'３学期'!HB10),\"\")),\"\")","v":""},{"$f":"IF(LEN(O1812)=0,\"\",IF(COUNTIF($O$2:$O$1921,O1812+1)>0,\"\",IF(COUNTIF($O$2:O1812,O1812)>1,\"\",O1812+1)))","v":""}]
[null,null,null,null,null,null,null,null,null,null,null,null,null,null,{"$f":"IF(1813<=$B$10,IF(LEN('３学期'!GY13)=0,\"\",IF('３学期'!GY13=$B$8,IF(LEN('３学期'!HB13)=0,\"\",'３学期'!HB13),\"\")),\"\")","v":""},{"$f":"IF(LEN(O1813)=0,\"\",IF(COUNTIF($O$2:$O$1921,O1813+1)>0,\"\",IF(COUNTIF($O$2:O1813,O1813)>1,\"\",O1813+1)))","v":""}]
[null,null,null,null,null,null,null,null,null,null,null,null,null,null,{"$f":"IF(1814<=$B$10,IF(LEN('３学期'!GY16)=0,\"\",IF('３学期'!GY16=$B$8,IF(LEN('３学期'!HB16)=0,\"\",'３学期'!HB16),\"\")),\"\")","v":""},{"$f":"IF(LEN(O1814)=0,\"\",IF(COUNTIF($O$2:$O$1921,O1814+1)>0,\"\",IF(COUNTIF($O$2:O1814,O1814)>1,\"\",O1814+1)))","v":""}]
[null,null,null,null,null,null,null,null,null,null,null,null,null,null,{"$f":"IF(1815<=$B$10,IF(LEN('３学期'!GY19)=0,\"\",IF('３学期'!GY19=$B$8,IF(LEN('３学期'!HB19)=0,\"\",'３学期'!HB19),\"\")),\"\")","v":""},{"$f":"IF(LEN(O1815)=0,\"\",IF(COUNTIF($O$2:$O$1921,O1815+1)>0,\"\",IF(COUNTIF($O$2:O1815,O1815)>1,\"\",O1815+1)))","v":""}]
[null,null,null,null,null,null,null,null,null,null,null,null,null,null,{"$f":"IF(1816<=$B$10,IF(LEN('３学期'!GY22)=0,\"\",IF('３学期'!GY22=$B$8,IF(LEN('３学期'!HB22)=0,\"\",'３学期'!HB22),\"\")),\"\")","v":""},{"$f":"IF(LEN(O1816)=0,\"\",IF(COUNTIF($O$2:$O$1921,O1816+1)>0,\"\",IF(COUNTIF($O$2:O1816,O1816)>1,\"\",O1816+1)))","v":""}]
[null,null,null,null,null,null,null,null,null,null,null,null,null,null,{"$f":"IF(1817<=$B$10,IF(LEN('３学期'!GY25)=0,\"\",IF('３学期'!GY25=$B$8,IF(LEN('３学期'!HB25)=0,\"\",'３学期'!HB25),\"\")),\"\")","v":""},{"$f":"IF(LEN(O1817)=0,\"\",IF(COUNTIF($O$2:$O$1921,O1817+1)>0,\"\",IF(COUNTIF($O$2:O1817,O1817)>1,\"\",O1817+1)))","v":""}]
[null,null,null,null,null,null,null,null,null,null,null,null,null,null,{"$f":"IF(1818<=$B$10,IF(LEN('３学期'!HC6)=0,\"\",IF('３学期'!HC6=$B$8,IF(LEN('３学期'!HF6)=0,\"\",'３学期'!HF6),\"\")),\"\")","v":""},{"$f":"IF(LEN(O1818)=0,\"\",IF(COUNTIF($O$2:$O$1921,O1818+1)>0,\"\",IF(COUNTIF($O$2:O1818,O1818)>1,\"\",O1818+1)))","v":""}]
[null,null,null,null,null,null,null,null,null,null,null,null,null,null,{"$f":"IF(1819<=$B$10,IF(LEN('３学期'!HC7)=0,\"\",IF('３学期'!HC7=$B$8,IF(LEN('３学期'!HF7)=0,\"\",'３学期'!HF7),\"\")),\"\")","v":""},{"$f":"IF(LEN(O1819)=0,\"\",IF(COUNTIF($O$2:$O$1921,O1819+1)>0,\"\",IF(COUNTIF($O$2:O1819,O1819)>1,\"\",O1819+1)))","v":""}]
[null,null,null,null,null,null,null,null,null,null,null,null,null,null,{"$f":"IF(1820<=$B$10,IF(LEN('３学期'!HC10)=0,\"\",IF('３学期'!HC10=$B$8,IF(LEN('３学期'!HF10)=0,\"\",'３学期'!HF10),\"\")),\"\")","v":""},{"$f":"IF(LEN(O1820)=0,\"\",IF(COUNTIF($O$2:$O$1921,O1820+1)>0,\"\",IF(COUNTIF($O$2:O1820,O1820)>1,\"\",O1820+1)))","v":""}]
[null,null,null,null,null,null,null,null,null,null,null,null,null,null,{"$f":"IF(1821<=$B$10,IF(LEN('３学期'!HC13)=0,\"\",IF('３学期'!HC13=$B$8,IF(LEN('３学期'!HF13)=0,\"\",'３学期'!HF13),\"\")),\"\")","v":""},{"$f":"IF(LEN(O1821)=0,\"\",IF(COUNTIF($O$2:$O$1921,O1821+1)>0,\"\",IF(COUNTIF($O$2:O1821,O1821)>1,\"\",O1821+1)))","v":""}]
[null,null,null,null,null,null,null,null,null,null,null,null,null,null,{"$f":"IF(1822<=$B$10,IF(LEN('３学期'!HC16)=0,\"\",IF('３学期'!HC16=$B$8,IF(LEN('３学期'!HF16)=0,\"\",'３学期'!HF16),\"\")),\"\")","v":""},{"$f":"IF(LEN(O1822)=0,\"\",IF(COUNTIF($O$2:$O$1921,O1822+1)>0,\"\",IF(COUNTIF($O$2:O1822,O1822)>1,\"\",O1822+1)))","v":""}]
[null,null,null,null,null,null,null,null,null,null,null,null,null,null,{"$f":"IF(1823<=$B$10,IF(LEN('３学期'!HC19)=0,\"\",IF('３学期'!HC19=$B$8,IF(LEN('３学期'!HF19)=0,\"\",'３学期'!HF19),\"\")),\"\")","v":""},{"$f":"IF(LEN(O1823)=0,\"\",IF(COUNTIF($O$2:$O$1921,O1823+1)>0,\"\",IF(COUNTIF($O$2:O1823,O1823)>1,\"\",O1823+1)))","v":""}]
[null,null,null,null,null,null,null,null,null,null,null,null,null,null,{"$f":"IF(1824<=$B$10,IF(LEN('３学期'!HC22)=0,\"\",IF('３学期'!HC22=$B$8,IF(LEN('３学期'!HF22)=0,\"\",'３学期'!HF22),\"\")),\"\")","v":""},{"$f":"IF(LEN(O1824)=0,\"\",IF(COUNTIF($O$2:$O$1921,O1824+1)>0,\"\",IF(COUNTIF($O$2:O1824,O1824)>1,\"\",O1824+1)))","v":""}]
[null,null,null,null,null,null,null,null,null,null,null,null,null,null,{"$f":"IF(1825<=$B$10,IF(LEN('３学期'!HC25)=0,\"\",IF('３学期'!HC25=$B$8,IF(LEN('３学期'!HF25)=0,\"\",'３学期'!HF25),\"\")),\"\")","v":""},{"$f":"IF(LEN(O1825)=0,\"\",IF(COUNTIF($O$2:$O$1921,O1825+1)>0,\"\",IF(COUNTIF($O$2:O1825,O1825)>1,\"\",O1825+1)))","v":""}]
[null,null,null,null,null,null,null,null,null,null,null,null,null,null,{"$f":"IF(1826<=$B$10,IF(LEN('３学期'!HG6)=0,\"\",IF('３学期'!HG6=$B$8,IF(LEN('３学期'!HJ6)=0,\"\",'３学期'!HJ6),\"\")),\"\")","v":""},{"$f":"IF(LEN(O1826)=0,\"\",IF(COUNTIF($O$2:$O$1921,O1826+1)>0,\"\",IF(COUNTIF($O$2:O1826,O1826)>1,\"\",O1826+1)))","v":""}]
[null,null,null,null,null,null,null,null,null,null,null,null,null,null,{"$f":"IF(1827<=$B$10,IF(LEN('３学期'!HG7)=0,\"\",IF('３学期'!HG7=$B$8,IF(LEN('３学期'!HJ7)=0,\"\",'３学期'!HJ7),\"\")),\"\")","v":""},{"$f":"IF(LEN(O1827)=0,\"\",IF(COUNTIF($O$2:$O$1921,O1827+1)>0,\"\",IF(COUNTIF($O$2:O1827,O1827)>1,\"\",O1827+1)))","v":""}]
[null,null,null,null,null,null,null,null,null,null,null,null,null,null,{"$f":"IF(1828<=$B$10,IF(LEN('３学期'!HG10)=0,\"\",IF('３学期'!HG10=$B$8,IF(LEN('３学期'!HJ10)=0,\"\",'３学期'!HJ10),\"\")),\"\")","v":""},{"$f":"IF(LEN(O1828)=0,\"\",IF(COUNTIF($O$2:$O$1921,O1828+1)>0,\"\",IF(COUNTIF($O$2:O1828,O1828)>1,\"\",O1828+1)))","v":""}]
[null,null,null,null,null,null,null,null,null,null,null,null,null,null,{"$f":"IF(1829<=$B$10,IF(LEN('３学期'!HG13)=0,\"\",IF('３学期'!HG13=$B$8,IF(LEN('３学期'!HJ13)=0,\"\",'３学期'!HJ13),\"\")),\"\")","v":""},{"$f":"IF(LEN(O1829)=0,\"\",IF(COUNTIF($O$2:$O$1921,O1829+1)>0,\"\",IF(COUNTIF($O$2:O1829,O1829)>1,\"\",O1829+1)))","v":""}]
[null,null,null,null,null,null,null,null,null,null,null,null,null,null,{"$f":"IF(1830<=$B$10,IF(LEN('３学期'!HG16)=0,\"\",IF('３学期'!HG16=$B$8,IF(LEN('３学期'!HJ16)=0,\"\",'３学期'!HJ16),\"\")),\"\")","v":""},{"$f":"IF(LEN(O1830)=0,\"\",IF(COUNTIF($O$2:$O$1921,O1830+1)>0,\"\",IF(COUNTIF($O$2:O1830,O1830)>1,\"\",O1830+1)))","v":""}]
[null,null,null,null,null,null,null,null,null,null,null,null,null,null,{"$f":"IF(1831<=$B$10,IF(LEN('３学期'!HG19)=0,\"\",IF('３学期'!HG19=$B$8,IF(LEN('３学期'!HJ19)=0,\"\",'３学期'!HJ19),\"\")),\"\")","v":""},{"$f":"IF(LEN(O1831)=0,\"\",IF(COUNTIF($O$2:$O$1921,O1831+1)>0,\"\",IF(COUNTIF($O$2:O1831,O1831)>1,\"\",O1831+1)))","v":""}]
[null,null,null,null,null,null,null,null,null,null,null,null,null,null,{"$f":"IF(1832<=$B$10,IF(LEN('３学期'!HG22)=0,\"\",IF('３学期'!HG22=$B$8,IF(LEN('３学期'!HJ22)=0,\"\",'３学期'!HJ22),\"\")),\"\")","v":""},{"$f":"IF(LEN(O1832)=0,\"\",IF(COUNTIF($O$2:$O$1921,O1832+1)>0,\"\",IF(COUNTIF($O$2:O1832,O1832)>1,\"\",O1832+1)))","v":""}]
[null,null,null,null,null,null,null,null,null,null,null,null,null,null,{"$f":"IF(1833<=$B$10,IF(LEN('３学期'!HG25)=0,\"\",IF('３学期'!HG25=$B$8,IF(LEN('３学期'!HJ25)=0,\"\",'３学期'!HJ25),\"\")),\"\")","v":""},{"$f":"IF(LEN(O1833)=0,\"\",IF(COUNTIF($O$2:$O$1921,O1833+1)>0,\"\",IF(COUNTIF($O$2:O1833,O1833)>1,\"\",O1833+1)))","v":""}]
[null,null,null,null,null,null,null,null,null,null,null,null,null,null,{"$f":"IF(1834<=$B$10,IF(LEN('３学期'!HK6)=0,\"\",IF('３学期'!HK6=$B$8,IF(LEN('３学期'!HN6)=0,\"\",'３学期'!HN6),\"\")),\"\")","v":""},{"$f":"IF(LEN(O1834)=0,\"\",IF(COUNTIF($O$2:$O$1921,O1834+1)>0,\"\",IF(COUNTIF($O$2:O1834,O1834)>1,\"\",O1834+1)))","v":""}]
[null,null,null,null,null,null,null,null,null,null,null,null,null,null,{"$f":"IF(1835<=$B$10,IF(LEN('３学期'!HK7)=0,\"\",IF('３学期'!HK7=$B$8,IF(LEN('３学期'!HN7)=0,\"\",'３学期'!HN7),\"\")),\"\")","v":""},{"$f":"IF(LEN(O1835)=0,\"\",IF(COUNTIF($O$2:$O$1921,O1835+1)>0,\"\",IF(COUNTIF($O$2:O1835,O1835)>1,\"\",O1835+1)))","v":""}]
[null,null,null,null,null,null,null,null,null,null,null,null,null,null,{"$f":"IF(1836<=$B$10,IF(LEN('３学期'!HK10)=0,\"\",IF('３学期'!HK10=$B$8,IF(LEN('３学期'!HN10)=0,\"\",'３学期'!HN10),\"\")),\"\")","v":""},{"$f":"IF(LEN(O1836)=0,\"\",IF(COUNTIF($O$2:$O$1921,O1836+1)>0,\"\",IF(COUNTIF($O$2:O1836,O1836)>1,\"\",O1836+1)))","v":""}]
[null,null,null,null,null,null,null,null,null,null,null,null,null,null,{"$f":"IF(1837<=$B$10,IF(LEN('３学期'!HK13)=0,\"\",IF('３学期'!HK13=$B$8,IF(LEN('３学期'!HN13)=0,\"\",'３学期'!HN13),\"\")),\"\")","v":""},{"$f":"IF(LEN(O1837)=0,\"\",IF(COUNTIF($O$2:$O$1921,O1837+1)>0,\"\",IF(COUNTIF($O$2:O1837,O1837)>1,\"\",O1837+1)))","v":""}]
[null,null,null,null,null,null,null,null,null,null,null,null,null,null,{"$f":"IF(1838<=$B$10,IF(LEN('３学期'!HK16)=0,\"\",IF('３学期'!HK16=$B$8,IF(LEN('３学期'!HN16)=0,\"\",'３学期'!HN16),\"\")),\"\")","v":""},{"$f":"IF(LEN(O1838)=0,\"\",IF(COUNTIF($O$2:$O$1921,O1838+1)>0,\"\",IF(COUNTIF($O$2:O1838,O1838)>1,\"\",O1838+1)))","v":""}]
[null,null,null,null,null,null,null,null,null,null,null,null,null,null,{"$f":"IF(1839<=$B$10,IF(LEN('３学期'!HK19)=0,\"\",IF('３学期'!HK19=$B$8,IF(LEN('３学期'!HN19)=0,\"\",'３学期'!HN19),\"\")),\"\")","v":""},{"$f":"IF(LEN(O1839)=0,\"\",IF(COUNTIF($O$2:$O$1921,O1839+1)>0,\"\",IF(COUNTIF($O$2:O1839,O1839)>1,\"\",O1839+1)))","v":""}]
[null,null,null,null,null,null,null,null,null,null,null,null,null,null,{"$f":"IF(1840<=$B$10,IF(LEN('３学期'!HK22)=0,\"\",IF('３学期'!HK22=$B$8,IF(LEN('３学期'!HN22)=0,\"\",'３学期'!HN22),\"\")),\"\")","v":""},{"$f":"IF(LEN(O1840)=0,\"\",IF(COUNTIF($O$2:$O$1921,O1840+1)>0,\"\",IF(COUNTIF($O$2:O1840,O1840)>1,\"\",O1840+1)))","v":""}]
[null,null,null,null,null,null,null,null,null,null,null,null,null,null,{"$f":"IF(1841<=$B$10,IF(LEN('３学期'!HK25)=0,\"\",IF('３学期'!HK25=$B$8,IF(LEN('３学期'!HN25)=0,\"\",'３学期'!HN25),\"\")),\"\")","v":""},{"$f":"IF(LEN(O1841)=0,\"\",IF(COUNTIF($O$2:$O$1921,O1841+1)>0,\"\",IF(COUNTIF($O$2:O1841,O1841)>1,\"\",O1841+1)))","v":""}]
[null,null,null,null,null,null,null,null,null,null,null,null,null,null,{"$f":"IF(1842<=$B$10,IF(LEN('３学期'!HO6)=0,\"\",IF('３学期'!HO6=$B$8,IF(LEN('３学期'!HR6)=0,\"\",'３学期'!HR6),\"\")),\"\")","v":""},{"$f":"IF(LEN(O1842)=0,\"\",IF(COUNTIF($O$2:$O$1921,O1842+1)>0,\"\",IF(COUNTIF($O$2:O1842,O1842)>1,\"\",O1842+1)))","v":""}]
[null,null,null,null,null,null,null,null,null,null,null,null,null,null,{"$f":"IF(1843<=$B$10,IF(LEN('３学期'!HO7)=0,\"\",IF('３学期'!HO7=$B$8,IF(LEN('３学期'!HR7)=0,\"\",'３学期'!HR7),\"\")),\"\")","v":""},{"$f":"IF(LEN(O1843)=0,\"\",IF(COUNTIF($O$2:$O$1921,O1843+1)>0,\"\",IF(COUNTIF($O$2:O1843,O1843)>1,\"\",O1843+1)))","v":""}]
[null,null,null,null,null,null,null,null,null,null,null,null,null,null,{"$f":"IF(1844<=$B$10,IF(LEN('３学期'!HO10)=0,\"\",IF('３学期'!HO10=$B$8,IF(LEN('３学期'!HR10)=0,\"\",'３学期'!HR10),\"\")),\"\")","v":""},{"$f":"IF(LEN(O1844)=0,\"\",IF(COUNTIF($O$2:$O$1921,O1844+1)>0,\"\",IF(COUNTIF($O$2:O1844,O1844)>1,\"\",O1844+1)))","v":""}]
[null,null,null,null,null,null,null,null,null,null,null,null,null,null,{"$f":"IF(1845<=$B$10,IF(LEN('３学期'!HO13)=0,\"\",IF('３学期'!HO13=$B$8,IF(LEN('３学期'!HR13)=0,\"\",'３学期'!HR13),\"\")),\"\")","v":""},{"$f":"IF(LEN(O1845)=0,\"\",IF(COUNTIF($O$2:$O$1921,O1845+1)>0,\"\",IF(COUNTIF($O$2:O1845,O1845)>1,\"\",O1845+1)))","v":""}]
[null,null,null,null,null,null,null,null,null,null,null,null,null,null,{"$f":"IF(1846<=$B$10,IF(LEN('３学期'!HO16)=0,\"\",IF('３学期'!HO16=$B$8,IF(LEN('３学期'!HR16)=0,\"\",'３学期'!HR16),\"\")),\"\")","v":""},{"$f":"IF(LEN(O1846)=0,\"\",IF(COUNTIF($O$2:$O$1921,O1846+1)>0,\"\",IF(COUNTIF($O$2:O1846,O1846)>1,\"\",O1846+1)))","v":""}]
[null,null,null,null,null,null,null,null,null,null,null,null,null,null,{"$f":"IF(1847<=$B$10,IF(LEN('３学期'!HO19)=0,\"\",IF('３学期'!HO19=$B$8,IF(LEN('３学期'!HR19)=0,\"\",'３学期'!HR19),\"\")),\"\")","v":""},{"$f":"IF(LEN(O1847)=0,\"\",IF(COUNTIF($O$2:$O$1921,O1847+1)>0,\"\",IF(COUNTIF($O$2:O1847,O1847)>1,\"\",O1847+1)))","v":""}]
[null,null,null,null,null,null,null,null,null,null,null,null,null,null,{"$f":"IF(1848<=$B$10,IF(LEN('３学期'!HO22)=0,\"\",IF('３学期'!HO22=$B$8,IF(LEN('３学期'!HR22)=0,\"\",'３学期'!HR22),\"\")),\"\")","v":""},{"$f":"IF(LEN(O1848)=0,\"\",IF(COUNTIF($O$2:$O$1921,O1848+1)>0,\"\",IF(COUNTIF($O$2:O1848,O1848)>1,\"\",O1848+1)))","v":""}]
[null,null,null,null,null,null,null,null,null,null,null,null,null,null,{"$f":"IF(1849<=$B$10,IF(LEN('３学期'!HO25)=0,\"\",IF('３学期'!HO25=$B$8,IF(LEN('３学期'!HR25)=0,\"\",'３学期'!HR25),\"\")),\"\")","v":""},{"$f":"IF(LEN(O1849)=0,\"\",IF(COUNTIF($O$2:$O$1921,O1849+1)>0,\"\",IF(COUNTIF($O$2:O1849,O1849)>1,\"\",O1849+1)))","v":""}]
[null,null,null,null,null,null,null,null,null,null,null,null,null,null,{"$f":"IF(1850<=$B$10,IF(LEN('３学期'!HS6)=0,\"\",IF('３学期'!HS6=$B$8,IF(LEN('３学期'!HV6)=0,\"\",'３学期'!HV6),\"\")),\"\")","v":""},{"$f":"IF(LEN(O1850)=0,\"\",IF(COUNTIF($O$2:$O$1921,O1850+1)>0,\"\",IF(COUNTIF($O$2:O1850,O1850)>1,\"\",O1850+1)))","v":""}]
[null,null,null,null,null,null,null,null,null,null,null,null,null,null,{"$f":"IF(1851<=$B$10,IF(LEN('３学期'!HS7)=0,\"\",IF('３学期'!HS7=$B$8,IF(LEN('３学期'!HV7)=0,\"\",'３学期'!HV7),\"\")),\"\")","v":""},{"$f":"IF(LEN(O1851)=0,\"\",IF(COUNTIF($O$2:$O$1921,O1851+1)>0,\"\",IF(COUNTIF($O$2:O1851,O1851)>1,\"\",O1851+1)))","v":""}]
[null,null,null,null,null,null,null,null,null,null,null,null,null,null,{"$f":"IF(1852<=$B$10,IF(LEN('３学期'!HS10)=0,\"\",IF('３学期'!HS10=$B$8,IF(LEN('３学期'!HV10)=0,\"\",'３学期'!HV10),\"\")),\"\")","v":""},{"$f":"IF(LEN(O1852)=0,\"\",IF(COUNTIF($O$2:$O$1921,O1852+1)>0,\"\",IF(COUNTIF($O$2:O1852,O1852)>1,\"\",O1852+1)))","v":""}]
[null,null,null,null,null,null,null,null,null,null,null,null,null,null,{"$f":"IF(1853<=$B$10,IF(LEN('３学期'!HS13)=0,\"\",IF('３学期'!HS13=$B$8,IF(LEN('３学期'!HV13)=0,\"\",'３学期'!HV13),\"\")),\"\")","v":""},{"$f":"IF(LEN(O1853)=0,\"\",IF(COUNTIF($O$2:$O$1921,O1853+1)>0,\"\",IF(COUNTIF($O$2:O1853,O1853)>1,\"\",O1853+1)))","v":""}]
[null,null,null,null,null,null,null,null,null,null,null,null,null,null,{"$f":"IF(1854<=$B$10,IF(LEN('３学期'!HS16)=0,\"\",IF('３学期'!HS16=$B$8,IF(LEN('３学期'!HV16)=0,\"\",'３学期'!HV16),\"\")),\"\")","v":""},{"$f":"IF(LEN(O1854)=0,\"\",IF(COUNTIF($O$2:$O$1921,O1854+1)>0,\"\",IF(COUNTIF($O$2:O1854,O1854)>1,\"\",O1854+1)))","v":""}]
[null,null,null,null,null,null,null,null,null,null,null,null,null,null,{"$f":"IF(1855<=$B$10,IF(LEN('３学期'!HS19)=0,\"\",IF('３学期'!HS19=$B$8,IF(LEN('３学期'!HV19)=0,\"\",'３学期'!HV19),\"\")),\"\")","v":""},{"$f":"IF(LEN(O1855)=0,\"\",IF(COUNTIF($O$2:$O$1921,O1855+1)>0,\"\",IF(COUNTIF($O$2:O1855,O1855)>1,\"\",O1855+1)))","v":""}]
[null,null,null,null,null,null,null,null,null,null,null,null,null,null,{"$f":"IF(1856<=$B$10,IF(LEN('３学期'!HS22)=0,\"\",IF('３学期'!HS22=$B$8,IF(LEN('３学期'!HV22)=0,\"\",'３学期'!HV22),\"\")),\"\")","v":""},{"$f":"IF(LEN(O1856)=0,\"\",IF(COUNTIF($O$2:$O$1921,O1856+1)>0,\"\",IF(COUNTIF($O$2:O1856,O1856)>1,\"\",O1856+1)))","v":""}]
[null,null,null,null,null,null,null,null,null,null,null,null,null,null,{"$f":"IF(1857<=$B$10,IF(LEN('３学期'!HS25)=0,\"\",IF('３学期'!HS25=$B$8,IF(LEN('３学期'!HV25)=0,\"\",'３学期'!HV25),\"\")),\"\")","v":""},{"$f":"IF(LEN(O1857)=0,\"\",IF(COUNTIF($O$2:$O$1921,O1857+1)>0,\"\",IF(COUNTIF($O$2:O1857,O1857)>1,\"\",O1857+1)))","v":""}]
[null,null,null,null,null,null,null,null,null,null,null,null,null,null,{"$f":"IF(1858<=$B$10,IF(LEN('３学期'!HW6)=0,\"\",IF('３学期'!HW6=$B$8,IF(LEN('３学期'!HZ6)=0,\"\",'３学期'!HZ6),\"\")),\"\")","v":""},{"$f":"IF(LEN(O1858)=0,\"\",IF(COUNTIF($O$2:$O$1921,O1858+1)>0,\"\",IF(COUNTIF($O$2:O1858,O1858)>1,\"\",O1858+1)))","v":""}]
[null,null,null,null,null,null,null,null,null,null,null,null,null,null,{"$f":"IF(1859<=$B$10,IF(LEN('３学期'!HW7)=0,\"\",IF('３学期'!HW7=$B$8,IF(LEN('３学期'!HZ7)=0,\"\",'３学期'!HZ7),\"\")),\"\")","v":""},{"$f":"IF(LEN(O1859)=0,\"\",IF(COUNTIF($O$2:$O$1921,O1859+1)>0,\"\",IF(COUNTIF($O$2:O1859,O1859)>1,\"\",O1859+1)))","v":""}]
[null,null,null,null,null,null,null,null,null,null,null,null,null,null,{"$f":"IF(1860<=$B$10,IF(LEN('３学期'!HW10)=0,\"\",IF('３学期'!HW10=$B$8,IF(LEN('３学期'!HZ10)=0,\"\",'３学期'!HZ10),\"\")),\"\")","v":""},{"$f":"IF(LEN(O1860)=0,\"\",IF(COUNTIF($O$2:$O$1921,O1860+1)>0,\"\",IF(COUNTIF($O$2:O1860,O1860)>1,\"\",O1860+1)))","v":""}]
[null,null,null,null,null,null,null,null,null,null,null,null,null,null,{"$f":"IF(1861<=$B$10,IF(LEN('３学期'!HW13)=0,\"\",IF('３学期'!HW13=$B$8,IF(LEN('３学期'!HZ13)=0,\"\",'３学期'!HZ13),\"\")),\"\")","v":""},{"$f":"IF(LEN(O1861)=0,\"\",IF(COUNTIF($O$2:$O$1921,O1861+1)>0,\"\",IF(COUNTIF($O$2:O1861,O1861)>1,\"\",O1861+1)))","v":""}]
[null,null,null,null,null,null,null,null,null,null,null,null,null,null,{"$f":"IF(1862<=$B$10,IF(LEN('３学期'!HW16)=0,\"\",IF('３学期'!HW16=$B$8,IF(LEN('３学期'!HZ16)=0,\"\",'３学期'!HZ16),\"\")),\"\")","v":""},{"$f":"IF(LEN(O1862)=0,\"\",IF(COUNTIF($O$2:$O$1921,O1862+1)>0,\"\",IF(COUNTIF($O$2:O1862,O1862)>1,\"\",O1862+1)))","v":""}]
[null,null,null,null,null,null,null,null,null,null,null,null,null,null,{"$f":"IF(1863<=$B$10,IF(LEN('３学期'!HW19)=0,\"\",IF('３学期'!HW19=$B$8,IF(LEN('３学期'!HZ19)=0,\"\",'３学期'!HZ19),\"\")),\"\")","v":""},{"$f":"IF(LEN(O1863)=0,\"\",IF(COUNTIF($O$2:$O$1921,O1863+1)>0,\"\",IF(COUNTIF($O$2:O1863,O1863)>1,\"\",O1863+1)))","v":""}]
[null,null,null,null,null,null,null,null,null,null,null,null,null,null,{"$f":"IF(1864<=$B$10,IF(LEN('３学期'!HW22)=0,\"\",IF('３学期'!HW22=$B$8,IF(LEN('３学期'!HZ22)=0,\"\",'３学期'!HZ22),\"\")),\"\")","v":""},{"$f":"IF(LEN(O1864)=0,\"\",IF(COUNTIF($O$2:$O$1921,O1864+1)>0,\"\",IF(COUNTIF($O$2:O1864,O1864)>1,\"\",O1864+1)))","v":""}]
[null,null,null,null,null,null,null,null,null,null,null,null,null,null,{"$f":"IF(1865<=$B$10,IF(LEN('３学期'!HW25)=0,\"\",IF('３学期'!HW25=$B$8,IF(LEN('３学期'!HZ25)=0,\"\",'３学期'!HZ25),\"\")),\"\")","v":""},{"$f":"IF(LEN(O1865)=0,\"\",IF(COUNTIF($O$2:$O$1921,O1865+1)>0,\"\",IF(COUNTIF($O$2:O1865,O1865)>1,\"\",O1865+1)))","v":""}]
[null,null,null,null,null,null,null,null,null,null,null,null,null,null,{"$f":"IF(1866<=$B$10,IF(LEN('３学期'!IA6)=0,\"\",IF('３学期'!IA6=$B$8,IF(LEN('３学期'!ID6)=0,\"\",'３学期'!ID6),\"\")),\"\")","v":""},{"$f":"IF(LEN(O1866)=0,\"\",IF(COUNTIF($O$2:$O$1921,O1866+1)>0,\"\",IF(COUNTIF($O$2:O1866,O1866)>1,\"\",O1866+1)))","v":""}]
[null,null,null,null,null,null,null,null,null,null,null,null,null,null,{"$f":"IF(1867<=$B$10,IF(LEN('３学期'!IA7)=0,\"\",IF('３学期'!IA7=$B$8,IF(LEN('３学期'!ID7)=0,\"\",'３学期'!ID7),\"\")),\"\")","v":""},{"$f":"IF(LEN(O1867)=0,\"\",IF(COUNTIF($O$2:$O$1921,O1867+1)>0,\"\",IF(COUNTIF($O$2:O1867,O1867)>1,\"\",O1867+1)))","v":""}]
[null,null,null,null,null,null,null,null,null,null,null,null,null,null,{"$f":"IF(1868<=$B$10,IF(LEN('３学期'!IA10)=0,\"\",IF('３学期'!IA10=$B$8,IF(LEN('３学期'!ID10)=0,\"\",'３学期'!ID10),\"\")),\"\")","v":""},{"$f":"IF(LEN(O1868)=0,\"\",IF(COUNTIF($O$2:$O$1921,O1868+1)>0,\"\",IF(COUNTIF($O$2:O1868,O1868)>1,\"\",O1868+1)))","v":""}]
[null,null,null,null,null,null,null,null,null,null,null,null,null,null,{"$f":"IF(1869<=$B$10,IF(LEN('３学期'!IA13)=0,\"\",IF('３学期'!IA13=$B$8,IF(LEN('３学期'!ID13)=0,\"\",'３学期'!ID13),\"\")),\"\")","v":""},{"$f":"IF(LEN(O1869)=0,\"\",IF(COUNTIF($O$2:$O$1921,O1869+1)>0,\"\",IF(COUNTIF($O$2:O1869,O1869)>1,\"\",O1869+1)))","v":""}]
[null,null,null,null,null,null,null,null,null,null,null,null,null,null,{"$f":"IF(1870<=$B$10,IF(LEN('３学期'!IA16)=0,\"\",IF('３学期'!IA16=$B$8,IF(LEN('３学期'!ID16)=0,\"\",'３学期'!ID16),\"\")),\"\")","v":""},{"$f":"IF(LEN(O1870)=0,\"\",IF(COUNTIF($O$2:$O$1921,O1870+1)>0,\"\",IF(COUNTIF($O$2:O1870,O1870)>1,\"\",O1870+1)))","v":""}]
[null,null,null,null,null,null,null,null,null,null,null,null,null,null,{"$f":"IF(1871<=$B$10,IF(LEN('３学期'!IA19)=0,\"\",IF('３学期'!IA19=$B$8,IF(LEN('３学期'!ID19)=0,\"\",'３学期'!ID19),\"\")),\"\")","v":""},{"$f":"IF(LEN(O1871)=0,\"\",IF(COUNTIF($O$2:$O$1921,O1871+1)>0,\"\",IF(COUNTIF($O$2:O1871,O1871)>1,\"\",O1871+1)))","v":""}]
[null,null,null,null,null,null,null,null,null,null,null,null,null,null,{"$f":"IF(1872<=$B$10,IF(LEN('３学期'!IA22)=0,\"\",IF('３学期'!IA22=$B$8,IF(LEN('３学期'!ID22)=0,\"\",'３学期'!ID22),\"\")),\"\")","v":""},{"$f":"IF(LEN(O1872)=0,\"\",IF(COUNTIF($O$2:$O$1921,O1872+1)>0,\"\",IF(COUNTIF($O$2:O1872,O1872)>1,\"\",O1872+1)))","v":""}]
[null,null,null,null,null,null,null,null,null,null,null,null,null,null,{"$f":"IF(1873<=$B$10,IF(LEN('３学期'!IA25)=0,\"\",IF('３学期'!IA25=$B$8,IF(LEN('３学期'!ID25)=0,\"\",'３学期'!ID25),\"\")),\"\")","v":""},{"$f":"IF(LEN(O1873)=0,\"\",IF(COUNTIF($O$2:$O$1921,O1873+1)>0,\"\",IF(COUNTIF($O$2:O1873,O1873)>1,\"\",O1873+1)))","v":""}]
[null,null,null,null,null,null,null,null,null,null,null,null,null,null,{"$f":"IF(1874<=$B$10,IF(LEN('３学期'!IE6)=0,\"\",IF('３学期'!IE6=$B$8,IF(LEN('３学期'!IH6)=0,\"\",'３学期'!IH6),\"\")),\"\")","v":""},{"$f":"IF(LEN(O1874)=0,\"\",IF(COUNTIF($O$2:$O$1921,O1874+1)>0,\"\",IF(COUNTIF($O$2:O1874,O1874)>1,\"\",O1874+1)))","v":""}]
[null,null,null,null,null,null,null,null,null,null,null,null,null,null,{"$f":"IF(1875<=$B$10,IF(LEN('３学期'!IE7)=0,\"\",IF('３学期'!IE7=$B$8,IF(LEN('３学期'!IH7)=0,\"\",'３学期'!IH7),\"\")),\"\")","v":""},{"$f":"IF(LEN(O1875)=0,\"\",IF(COUNTIF($O$2:$O$1921,O1875+1)>0,\"\",IF(COUNTIF($O$2:O1875,O1875)>1,\"\",O1875+1)))","v":""}]
[null,null,null,null,null,null,null,null,null,null,null,null,null,null,{"$f":"IF(1876<=$B$10,IF(LEN('３学期'!IE10)=0,\"\",IF('３学期'!IE10=$B$8,IF(LEN('３学期'!IH10)=0,\"\",'３学期'!IH10),\"\")),\"\")","v":""},{"$f":"IF(LEN(O1876)=0,\"\",IF(COUNTIF($O$2:$O$1921,O1876+1)>0,\"\",IF(COUNTIF($O$2:O1876,O1876)>1,\"\",O1876+1)))","v":""}]
[null,null,null,null,null,null,null,null,null,null,null,null,null,null,{"$f":"IF(1877<=$B$10,IF(LEN('３学期'!IE13)=0,\"\",IF('３学期'!IE13=$B$8,IF(LEN('３学期'!IH13)=0,\"\",'３学期'!IH13),\"\")),\"\")","v":""},{"$f":"IF(LEN(O1877)=0,\"\",IF(COUNTIF($O$2:$O$1921,O1877+1)>0,\"\",IF(COUNTIF($O$2:O1877,O1877)>1,\"\",O1877+1)))","v":""}]
[null,null,null,null,null,null,null,null,null,null,null,null,null,null,{"$f":"IF(1878<=$B$10,IF(LEN('３学期'!IE16)=0,\"\",IF('３学期'!IE16=$B$8,IF(LEN('３学期'!IH16)=0,\"\",'３学期'!IH16),\"\")),\"\")","v":""},{"$f":"IF(LEN(O1878)=0,\"\",IF(COUNTIF($O$2:$O$1921,O1878+1)>0,\"\",IF(COUNTIF($O$2:O1878,O1878)>1,\"\",O1878+1)))","v":""}]
[null,null,null,null,null,null,null,null,null,null,null,null,null,null,{"$f":"IF(1879<=$B$10,IF(LEN('３学期'!IE19)=0,\"\",IF('３学期'!IE19=$B$8,IF(LEN('３学期'!IH19)=0,\"\",'３学期'!IH19),\"\")),\"\")","v":""},{"$f":"IF(LEN(O1879)=0,\"\",IF(COUNTIF($O$2:$O$1921,O1879+1)>0,\"\",IF(COUNTIF($O$2:O1879,O1879)>1,\"\",O1879+1)))","v":""}]
[null,null,null,null,null,null,null,null,null,null,null,null,null,null,{"$f":"IF(1880<=$B$10,IF(LEN('３学期'!IE22)=0,\"\",IF('３学期'!IE22=$B$8,IF(LEN('３学期'!IH22)=0,\"\",'３学期'!IH22),\"\")),\"\")","v":""},{"$f":"IF(LEN(O1880)=0,\"\",IF(COUNTIF($O$2:$O$1921,O1880+1)>0,\"\",IF(COUNTIF($O$2:O1880,O1880)>1,\"\",O1880+1)))","v":""}]
[null,null,null,null,null,null,null,null,null,null,null,null,null,null,{"$f":"IF(1881<=$B$10,IF(LEN('３学期'!IE25)=0,\"\",IF('３学期'!IE25=$B$8,IF(LEN('３学期'!IH25)=0,\"\",'３学期'!IH25),\"\")),\"\")","v":""},{"$f":"IF(LEN(O1881)=0,\"\",IF(COUNTIF($O$2:$O$1921,O1881+1)>0,\"\",IF(COUNTIF($O$2:O1881,O1881)>1,\"\",O1881+1)))","v":""}]
[null,null,null,null,null,null,null,null,null,null,null,null,null,null,{"$f":"IF(1882<=$B$10,IF(LEN('３学期'!II6)=0,\"\",IF('３学期'!II6=$B$8,IF(LEN('３学期'!IL6)=0,\"\",'３学期'!IL6),\"\")),\"\")","v":""},{"$f":"IF(LEN(O1882)=0,\"\",IF(COUNTIF($O$2:$O$1921,O1882+1)>0,\"\",IF(COUNTIF($O$2:O1882,O1882)>1,\"\",O1882+1)))","v":""}]
[null,null,null,null,null,null,null,null,null,null,null,null,null,null,{"$f":"IF(1883<=$B$10,IF(LEN('３学期'!II7)=0,\"\",IF('３学期'!II7=$B$8,IF(LEN('３学期'!IL7)=0,\"\",'３学期'!IL7),\"\")),\"\")","v":""},{"$f":"IF(LEN(O1883)=0,\"\",IF(COUNTIF($O$2:$O$1921,O1883+1)>0,\"\",IF(COUNTIF($O$2:O1883,O1883)>1,\"\",O1883+1)))","v":""}]
[null,null,null,null,null,null,null,null,null,null,null,null,null,null,{"$f":"IF(1884<=$B$10,IF(LEN('３学期'!II10)=0,\"\",IF('３学期'!II10=$B$8,IF(LEN('３学期'!IL10)=0,\"\",'３学期'!IL10),\"\")),\"\")","v":""},{"$f":"IF(LEN(O1884)=0,\"\",IF(COUNTIF($O$2:$O$1921,O1884+1)>0,\"\",IF(COUNTIF($O$2:O1884,O1884)>1,\"\",O1884+1)))","v":""}]
[null,null,null,null,null,null,null,null,null,null,null,null,null,null,{"$f":"IF(1885<=$B$10,IF(LEN('３学期'!II13)=0,\"\",IF('３学期'!II13=$B$8,IF(LEN('３学期'!IL13)=0,\"\",'３学期'!IL13),\"\")),\"\")","v":""},{"$f":"IF(LEN(O1885)=0,\"\",IF(COUNTIF($O$2:$O$1921,O1885+1)>0,\"\",IF(COUNTIF($O$2:O1885,O1885)>1,\"\",O1885+1)))","v":""}]
[null,null,null,null,null,null,null,null,null,null,null,null,null,null,{"$f":"IF(1886<=$B$10,IF(LEN('３学期'!II16)=0,\"\",IF('３学期'!II16=$B$8,IF(LEN('３学期'!IL16)=0,\"\",'３学期'!IL16),\"\")),\"\")","v":""},{"$f":"IF(LEN(O1886)=0,\"\",IF(COUNTIF($O$2:$O$1921,O1886+1)>0,\"\",IF(COUNTIF($O$2:O1886,O1886)>1,\"\",O1886+1)))","v":""}]
[null,null,null,null,null,null,null,null,null,null,null,null,null,null,{"$f":"IF(1887<=$B$10,IF(LEN('３学期'!II19)=0,\"\",IF('３学期'!II19=$B$8,IF(LEN('３学期'!IL19)=0,\"\",'３学期'!IL19),\"\")),\"\")","v":""},{"$f":"IF(LEN(O1887)=0,\"\",IF(COUNTIF($O$2:$O$1921,O1887+1)>0,\"\",IF(COUNTIF($O$2:O1887,O1887)>1,\"\",O1887+1)))","v":""}]
[null,null,null,null,null,null,null,null,null,null,null,null,null,null,{"$f":"IF(1888<=$B$10,IF(LEN('３学期'!II22)=0,\"\",IF('３学期'!II22=$B$8,IF(LEN('３学期'!IL22)=0,\"\",'３学期'!IL22),\"\")),\"\")","v":""},{"$f":"IF(LEN(O1888)=0,\"\",IF(COUNTIF($O$2:$O$1921,O1888+1)>0,\"\",IF(COUNTIF($O$2:O1888,O1888)>1,\"\",O1888+1)))","v":""}]
[null,null,null,null,null,null,null,null,null,null,null,null,null,null,{"$f":"IF(1889<=$B$10,IF(LEN('３学期'!II25)=0,\"\",IF('３学期'!II25=$B$8,IF(LEN('３学期'!IL25)=0,\"\",'３学期'!IL25),\"\")),\"\")","v":""},{"$f":"IF(LEN(O1889)=0,\"\",IF(COUNTIF($O$2:$O$1921,O1889+1)>0,\"\",IF(COUNTIF($O$2:O1889,O1889)>1,\"\",O1889+1)))","v":""}]
[null,null,null,null,null,null,null,null,null,null,null,null,null,null,{"$f":"IF(1890<=$B$10,IF(LEN('３学期'!IM6)=0,\"\",IF('３学期'!IM6=$B$8,IF(LEN('３学期'!IP6)=0,\"\",'３学期'!IP6),\"\")),\"\")","v":""},{"$f":"IF(LEN(O1890)=0,\"\",IF(COUNTIF($O$2:$O$1921,O1890+1)>0,\"\",IF(COUNTIF($O$2:O1890,O1890)>1,\"\",O1890+1)))","v":""}]
[null,null,null,null,null,null,null,null,null,null,null,null,null,null,{"$f":"IF(1891<=$B$10,IF(LEN('３学期'!IM7)=0,\"\",IF('３学期'!IM7=$B$8,IF(LEN('３学期'!IP7)=0,\"\",'３学期'!IP7),\"\")),\"\")","v":""},{"$f":"IF(LEN(O1891)=0,\"\",IF(COUNTIF($O$2:$O$1921,O1891+1)>0,\"\",IF(COUNTIF($O$2:O1891,O1891)>1,\"\",O1891+1)))","v":""}]
[null,null,null,null,null,null,null,null,null,null,null,null,null,null,{"$f":"IF(1892<=$B$10,IF(LEN('３学期'!IM10)=0,\"\",IF('３学期'!IM10=$B$8,IF(LEN('３学期'!IP10)=0,\"\",'３学期'!IP10),\"\")),\"\")","v":""},{"$f":"IF(LEN(O1892)=0,\"\",IF(COUNTIF($O$2:$O$1921,O1892+1)>0,\"\",IF(COUNTIF($O$2:O1892,O1892)>1,\"\",O1892+1)))","v":""}]
[null,null,null,null,null,null,null,null,null,null,null,null,null,null,{"$f":"IF(1893<=$B$10,IF(LEN('３学期'!IM13)=0,\"\",IF('３学期'!IM13=$B$8,IF(LEN('３学期'!IP13)=0,\"\",'３学期'!IP13),\"\")),\"\")","v":""},{"$f":"IF(LEN(O1893)=0,\"\",IF(COUNTIF($O$2:$O$1921,O1893+1)>0,\"\",IF(COUNTIF($O$2:O1893,O1893)>1,\"\",O1893+1)))","v":""}]
[null,null,null,null,null,null,null,null,null,null,null,null,null,null,{"$f":"IF(1894<=$B$10,IF(LEN('３学期'!IM16)=0,\"\",IF('３学期'!IM16=$B$8,IF(LEN('３学期'!IP16)=0,\"\",'３学期'!IP16),\"\")),\"\")","v":""},{"$f":"IF(LEN(O1894)=0,\"\",IF(COUNTIF($O$2:$O$1921,O1894+1)>0,\"\",IF(COUNTIF($O$2:O1894,O1894)>1,\"\",O1894+1)))","v":""}]
[null,null,null,null,null,null,null,null,null,null,null,null,null,null,{"$f":"IF(1895<=$B$10,IF(LEN('３学期'!IM19)=0,\"\",IF('３学期'!IM19=$B$8,IF(LEN('３学期'!IP19)=0,\"\",'３学期'!IP19),\"\")),\"\")","v":""},{"$f":"IF(LEN(O1895)=0,\"\",IF(COUNTIF($O$2:$O$1921,O1895+1)>0,\"\",IF(COUNTIF($O$2:O1895,O1895)>1,\"\",O1895+1)))","v":""}]
[null,null,null,null,null,null,null,null,null,null,null,null,null,null,{"$f":"IF(1896<=$B$10,IF(LEN('３学期'!IM22)=0,\"\",IF('３学期'!IM22=$B$8,IF(LEN('３学期'!IP22)=0,\"\",'３学期'!IP22),\"\")),\"\")","v":""},{"$f":"IF(LEN(O1896)=0,\"\",IF(COUNTIF($O$2:$O$1921,O1896+1)>0,\"\",IF(COUNTIF($O$2:O1896,O1896)>1,\"\",O1896+1)))","v":""}]
[null,null,null,null,null,null,null,null,null,null,null,null,null,null,{"$f":"IF(1897<=$B$10,IF(LEN('３学期'!IM25)=0,\"\",IF('３学期'!IM25=$B$8,IF(LEN('３学期'!IP25)=0,\"\",'３学期'!IP25),\"\")),\"\")","v":""},{"$f":"IF(LEN(O1897)=0,\"\",IF(COUNTIF($O$2:$O$1921,O1897+1)>0,\"\",IF(COUNTIF($O$2:O1897,O1897)>1,\"\",O1897+1)))","v":""}]
[null,null,null,null,null,null,null,null,null,null,null,null,null,null,{"$f":"IF(1898<=$B$10,IF(LEN('３学期'!IQ6)=0,\"\",IF('３学期'!IQ6=$B$8,IF(LEN('３学期'!IT6)=0,\"\",'３学期'!IT6),\"\")),\"\")","v":""},{"$f":"IF(LEN(O1898)=0,\"\",IF(COUNTIF($O$2:$O$1921,O1898+1)>0,\"\",IF(COUNTIF($O$2:O1898,O1898)>1,\"\",O1898+1)))","v":""}]
[null,null,null,null,null,null,null,null,null,null,null,null,null,null,{"$f":"IF(1899<=$B$10,IF(LEN('３学期'!IQ7)=0,\"\",IF('３学期'!IQ7=$B$8,IF(LEN('３学期'!IT7)=0,\"\",'３学期'!IT7),\"\")),\"\")","v":""},{"$f":"IF(LEN(O1899)=0,\"\",IF(COUNTIF($O$2:$O$1921,O1899+1)>0,\"\",IF(COUNTIF($O$2:O1899,O1899)>1,\"\",O1899+1)))","v":""}]
[null,null,null,null,null,null,null,null,null,null,null,null,null,null,{"$f":"IF(1900<=$B$10,IF(LEN('３学期'!IQ10)=0,\"\",IF('３学期'!IQ10=$B$8,IF(LEN('３学期'!IT10)=0,\"\",'３学期'!IT10),\"\")),\"\")","v":""},{"$f":"IF(LEN(O1900)=0,\"\",IF(COUNTIF($O$2:$O$1921,O1900+1)>0,\"\",IF(COUNTIF($O$2:O1900,O1900)>1,\"\",O1900+1)))","v":""}]
[null,null,null,null,null,null,null,null,null,null,null,null,null,null,{"$f":"IF(1901<=$B$10,IF(LEN('３学期'!IQ13)=0,\"\",IF('３学期'!IQ13=$B$8,IF(LEN('３学期'!IT13)=0,\"\",'３学期'!IT13),\"\")),\"\")","v":""},{"$f":"IF(LEN(O1901)=0,\"\",IF(COUNTIF($O$2:$O$1921,O1901+1)>0,\"\",IF(COUNTIF($O$2:O1901,O1901)>1,\"\",O1901+1)))","v":""}]
[null,null,null,null,null,null,null,null,null,null,null,null,null,null,{"$f":"IF(1902<=$B$10,IF(LEN('３学期'!IQ16)=0,\"\",IF('３学期'!IQ16=$B$8,IF(LEN('３学期'!IT16)=0,\"\",'３学期'!IT16),\"\")),\"\")","v":""},{"$f":"IF(LEN(O1902)=0,\"\",IF(COUNTIF($O$2:$O$1921,O1902+1)>0,\"\",IF(COUNTIF($O$2:O1902,O1902)>1,\"\",O1902+1)))","v":""}]
[null,null,null,null,null,null,null,null,null,null,null,null,null,null,{"$f":"IF(1903<=$B$10,IF(LEN('３学期'!IQ19)=0,\"\",IF('３学期'!IQ19=$B$8,IF(LEN('３学期'!IT19)=0,\"\",'３学期'!IT19),\"\")),\"\")","v":""},{"$f":"IF(LEN(O1903)=0,\"\",IF(COUNTIF($O$2:$O$1921,O1903+1)>0,\"\",IF(COUNTIF($O$2:O1903,O1903)>1,\"\",O1903+1)))","v":""}]
[null,null,null,null,null,null,null,null,null,null,null,null,null,null,{"$f":"IF(1904<=$B$10,IF(LEN('３学期'!IQ22)=0,\"\",IF('３学期'!IQ22=$B$8,IF(LEN('３学期'!IT22)=0,\"\",'３学期'!IT22),\"\")),\"\")","v":""},{"$f":"IF(LEN(O1904)=0,\"\",IF(COUNTIF($O$2:$O$1921,O1904+1)>0,\"\",IF(COUNTIF($O$2:O1904,O1904)>1,\"\",O1904+1)))","v":""}]
[null,null,null,null,null,null,null,null,null,null,null,null,null,null,{"$f":"IF(1905<=$B$10,IF(LEN('３学期'!IQ25)=0,\"\",IF('３学期'!IQ25=$B$8,IF(LEN('３学期'!IT25)=0,\"\",'３学期'!IT25),\"\")),\"\")","v":""},{"$f":"IF(LEN(O1905)=0,\"\",IF(COUNTIF($O$2:$O$1921,O1905+1)>0,\"\",IF(COUNTIF($O$2:O1905,O1905)>1,\"\",O1905+1)))","v":""}]
[null,null,null,null,null,null,null,null,null,null,null,null,null,null,{"$f":"IF(1906<=$B$10,IF(LEN('３学期'!IU6)=0,\"\",IF('３学期'!IU6=$B$8,IF(LEN('３学期'!IX6)=0,\"\",'３学期'!IX6),\"\")),\"\")","v":""},{"$f":"IF(LEN(O1906)=0,\"\",IF(COUNTIF($O$2:$O$1921,O1906+1)>0,\"\",IF(COUNTIF($O$2:O1906,O1906)>1,\"\",O1906+1)))","v":""}]
[null,null,null,null,null,null,null,null,null,null,null,null,null,null,{"$f":"IF(1907<=$B$10,IF(LEN('３学期'!IU7)=0,\"\",IF('３学期'!IU7=$B$8,IF(LEN('３学期'!IX7)=0,\"\",'３学期'!IX7),\"\")),\"\")","v":""},{"$f":"IF(LEN(O1907)=0,\"\",IF(COUNTIF($O$2:$O$1921,O1907+1)>0,\"\",IF(COUNTIF($O$2:O1907,O1907)>1,\"\",O1907+1)))","v":""}]
[null,null,null,null,null,null,null,null,null,null,null,null,null,null,{"$f":"IF(1908<=$B$10,IF(LEN('３学期'!IU10)=0,\"\",IF('３学期'!IU10=$B$8,IF(LEN('３学期'!IX10)=0,\"\",'３学期'!IX10),\"\")),\"\")","v":""},{"$f":"IF(LEN(O1908)=0,\"\",IF(COUNTIF($O$2:$O$1921,O1908+1)>0,\"\",IF(COUNTIF($O$2:O1908,O1908)>1,\"\",O1908+1)))","v":""}]
[null,null,null,null,null,null,null,null,null,null,null,null,null,null,{"$f":"IF(1909<=$B$10,IF(LEN('３学期'!IU13)=0,\"\",IF('３学期'!IU13=$B$8,IF(LEN('３学期'!IX13)=0,\"\",'３学期'!IX13),\"\")),\"\")","v":""},{"$f":"IF(LEN(O1909)=0,\"\",IF(COUNTIF($O$2:$O$1921,O1909+1)>0,\"\",IF(COUNTIF($O$2:O1909,O1909)>1,\"\",O1909+1)))","v":""}]
[null,null,null,null,null,null,null,null,null,null,null,null,null,null,{"$f":"IF(1910<=$B$10,IF(LEN('３学期'!IU16)=0,\"\",IF('３学期'!IU16=$B$8,IF(LEN('３学期'!IX16)=0,\"\",'３学期'!IX16),\"\")),\"\")","v":""},{"$f":"IF(LEN(O1910)=0,\"\",IF(COUNTIF($O$2:$O$1921,O1910+1)>0,\"\",IF(COUNTIF($O$2:O1910,O1910)>1,\"\",O1910+1)))","v":""}]
[null,null,null,null,null,null,null,null,null,null,null,null,null,null,{"$f":"IF(1911<=$B$10,IF(LEN('３学期'!IU19)=0,\"\",IF('３学期'!IU19=$B$8,IF(LEN('３学期'!IX19)=0,\"\",'３学期'!IX19),\"\")),\"\")","v":""},{"$f":"IF(LEN(O1911)=0,\"\",IF(COUNTIF($O$2:$O$1921,O1911+1)>0,\"\",IF(COUNTIF($O$2:O1911,O1911)>1,\"\",O1911+1)))","v":""}]
[null,null,null,null,null,null,null,null,null,null,null,null,null,null,{"$f":"IF(1912<=$B$10,IF(LEN('３学期'!IU22)=0,\"\",IF('３学期'!IU22=$B$8,IF(LEN('３学期'!IX22)=0,\"\",'３学期'!IX22),\"\")),\"\")","v":""},{"$f":"IF(LEN(O1912)=0,\"\",IF(COUNTIF($O$2:$O$1921,O1912+1)>0,\"\",IF(COUNTIF($O$2:O1912,O1912)>1,\"\",O1912+1)))","v":""}]
[null,null,null,null,null,null,null,null,null,null,null,null,null,null,{"$f":"IF(1913<=$B$10,IF(LEN('３学期'!IU25)=0,\"\",IF('３学期'!IU25=$B$8,IF(LEN('３学期'!IX25)=0,\"\",'３学期'!IX25),\"\")),\"\")","v":""},{"$f":"IF(LEN(O1913)=0,\"\",IF(COUNTIF($O$2:$O$1921,O1913+1)>0,\"\",IF(COUNTIF($O$2:O1913,O1913)>1,\"\",O1913+1)))","v":""}]
[null,null,null,null,null,null,null,null,null,null,null,null,null,null,{"$f":"IF(1914<=$B$10,IF(LEN('３学期'!IY6)=0,\"\",IF('３学期'!IY6=$B$8,IF(LEN('３学期'!JB6)=0,\"\",'３学期'!JB6),\"\")),\"\")","v":""},{"$f":"IF(LEN(O1914)=0,\"\",IF(COUNTIF($O$2:$O$1921,O1914+1)>0,\"\",IF(COUNTIF($O$2:O1914,O1914)>1,\"\",O1914+1)))","v":""}]
[null,null,null,null,null,null,null,null,null,null,null,null,null,null,{"$f":"IF(1915<=$B$10,IF(LEN('３学期'!IY7)=0,\"\",IF('３学期'!IY7=$B$8,IF(LEN('３学期'!JB7)=0,\"\",'３学期'!JB7),\"\")),\"\")","v":""},{"$f":"IF(LEN(O1915)=0,\"\",IF(COUNTIF($O$2:$O$1921,O1915+1)>0,\"\",IF(COUNTIF($O$2:O1915,O1915)>1,\"\",O1915+1)))","v":""}]
[null,null,null,null,null,null,null,null,null,null,null,null,null,null,{"$f":"IF(1916<=$B$10,IF(LEN('３学期'!IY10)=0,\"\",IF('３学期'!IY10=$B$8,IF(LEN('３学期'!JB10)=0,\"\",'３学期'!JB10),\"\")),\"\")","v":""},{"$f":"IF(LEN(O1916)=0,\"\",IF(COUNTIF($O$2:$O$1921,O1916+1)>0,\"\",IF(COUNTIF($O$2:O1916,O1916)>1,\"\",O1916+1)))","v":""}]
[null,null,null,null,null,null,null,null,null,null,null,null,null,null,{"$f":"IF(1917<=$B$10,IF(LEN('３学期'!IY13)=0,\"\",IF('３学期'!IY13=$B$8,IF(LEN('３学期'!JB13)=0,\"\",'３学期'!JB13),\"\")),\"\")","v":""},{"$f":"IF(LEN(O1917)=0,\"\",IF(COUNTIF($O$2:$O$1921,O1917+1)>0,\"\",IF(COUNTIF($O$2:O1917,O1917)>1,\"\",O1917+1)))","v":""}]
[null,null,null,null,null,null,null,null,null,null,null,null,null,null,{"$f":"IF(1918<=$B$10,IF(LEN('３学期'!IY16)=0,\"\",IF('３学期'!IY16=$B$8,IF(LEN('３学期'!JB16)=0,\"\",'３学期'!JB16),\"\")),\"\")","v":""},{"$f":"IF(LEN(O1918)=0,\"\",IF(COUNTIF($O$2:$O$1921,O1918+1)>0,\"\",IF(COUNTIF($O$2:O1918,O1918)>1,\"\",O1918+1)))","v":""}]
[null,null,null,null,null,null,null,null,null,null,null,null,null,null,{"$f":"IF(1919<=$B$10,IF(LEN('３学期'!IY19)=0,\"\",IF('３学期'!IY19=$B$8,IF(LEN('３学期'!JB19)=0,\"\",'３学期'!JB19),\"\")),\"\")","v":""},{"$f":"IF(LEN(O1919)=0,\"\",IF(COUNTIF($O$2:$O$1921,O1919+1)>0,\"\",IF(COUNTIF($O$2:O1919,O1919)>1,\"\",O1919+1)))","v":""}]
[null,null,null,null,null,null,null,null,null,null,null,null,null,null,{"$f":"IF(1920<=$B$10,IF(LEN('３学期'!IY22)=0,\"\",IF('３学期'!IY22=$B$8,IF(LEN('３学期'!JB22)=0,\"\",'３学期'!JB22),\"\")),\"\")","v":""},{"$f":"IF(LEN(O1920)=0,\"\",IF(COUNTIF($O$2:$O$1921,O1920+1)>0,\"\",IF(COUNTIF($O$2:O1920,O1920)>1,\"\",O1920+1)))","v":""}]
[null,null,null,null,null,null,null,null,null,null,null,null,null,null,{"$f":"IF(1921<=$B$10,IF(LEN('３学期'!IY25)=0,\"\",IF('３学期'!IY25=$B$8,IF(LEN('３学期'!JB25)=0,\"\",'３学期'!JB25),\"\")),\"\")","v":""},{"$f":"IF(LEN(O1921)=0,\"\",IF(COUNTIF($O$2:$O$1921,O1921+1)>0,\"\",IF(COUNTIF($O$2:O1921,O1921)>1,\"\",O1921+1)))","v":""}]