{"text_format":"1","workbook":"xlsx","n_sheets":10,"sheets":["設定","単元・内容","１学期","２学期","３学期","集計表","更新履歴","有効化","取説","処理"],"not_rendered":{"charts":0,"images":0,"macros":1,"external_links":1,"defined_names":11,"comments":0,"pivot_tables":0},"unopened":[],"bounds":{"document_bytes":16777216,"sheet_cells":100000,"rows_first":2000,"rows_last":500,"rows_between":2000,"halvings":0,"cell_chars":16384,"cell_head_chars":4096},"cells_cut":0,"cells_raw":0,"read":"whole","date_system":"1900"}

{"sheet":"設定","index":0,"n_rows":68,"n_cols":15,"rows_kept":68,"cut":false,"hidden":true,"merged":[[0,0,0,7],[16,7,17,7],[16,5,17,5],[16,6,17,6],[1,0,1,9]]}
[{"$f":"MID(CELL(\"filename\"),FIND(\"[\",CELL(\"filename\"))+1,FIND(\"]\",CELL(\"filename\"))-FIND(\"[\",CELL(\"filename\"))-6)","v":"日案作成ソフト【小学校版】Ver1.1.0"},null,null,null,null,null,null,null,null,null,null,"Ver1.1.0"]
["＜初期設定＞　下の１～７の質問にお答えください。"]
["　１．今年度の入学式の日にちを入力してください。"]
["西暦",null,"年４月",null,"日"]
[null,"※１学期は入学式を含む週、２・３学期は始業式を含む週を「第１週」として日案を作り始めます。"]
[]
["　２．貴校に主幹教諭がいるか、いないかを選択してください。"]
[null,"いない"]
[]
["　３．追加したい授業名、その他名等を入れてください。"]
[null,"※国語、書写、社会、算数、理科、生活、音楽、図工、家庭、体育、外国語はすでに設定されているので入力の必要はありません。"]
[]
[]
["　４．右の表に、担当する授業、クラス、何回で１時間分の授業になるのかを入力してください。"]
[null,null,null,null,null,"授業","クラス","回数"]
[null,"例１）","２年１組 国語の授業",null,null,"国語","２－１",1]
[null,"例２）","特別支援学級 総合",null,null,"総合","○○○\n(学級名)",3]
[null,null,"３回で１時間分になる帯タイム"]
[]
[null,"授業","クラス","回数","授業","クラス","回数","授業","クラス","回数","授業","クラス","回数","その他","クラス"]
[]
[]
[]
[]
[]
[]
[null,"※上記の表と日案の時間数集計が同じ配置になります。"]
[null,"※通常授業と同名教科の帯授業を行う場合は、それぞれ入力してください。"]
[null,"※行事や委員会など、授業時間数に合算したくないものについては「その他」に入力してください。"]
[]
["　５．帯授業の授業時間を、通常授業の同教科の授業時間と合算するかしないかを入力してください。"]
[null,"合　算 ","しない"]
[]
["　６．時間割を入力してください。"]
[null,null,"月","火","水","木","金"]
[null,"前"]
[null,"１時間目"]
[null,"２時間目"]
[null,"３時間目"]
[null,"４時間目"]
[null,"５時間目"]
[null,"６時間目"]
[null,"後"]
[null,"※隔週で授業が入れ替わる場合は、どちらかを入れておき、入力していない方の授業を日案上の授業枠に手入力してください。"]
[null,"※年度の途中で時間割を変えても、それまでに入力された日案の授業は変更されません。"]
[null,"※授業時間ではないところに「×」と入力すると、日案の該当時間の枠内が灰色になります。"]
[null,"　また、「なし」と入力すると、日案の該当時間の枠内は灰色にならず、授業枠に「なし」と表示されます。"]
[null,"　どちらも必要ない場合は、何も入力しないでください。"]
[]
["　７．取り込みたい知多カリデータを選んでください。選択後【知多ｶﾘ取込】ボタンを押してください。"]
[null,null,"１年","２年","３年","４年","５年","６年"]
[null,"全て選択"]
[]
[null,"国語"]
[null,"書写"]
[null,"社会"]
[null,"算数"]
[null,"理科"]
[null,"生活"]
[null,"音楽"]
[null,"図工"]
[null,"家庭"]
[null,"体育"]
[null,"外国語"]
[null,"※知多カリデータを取り込む場合は、事前に知多教育事務所ＨＰより最新の知多カリデータをダウンロードしておいてください。"]
[]
[null,"※全ての知多カリデータを取り込むこともできますが、その分ファイルサイズが大きくなるので注意してください。"]
[null,"※旧教科書を使用する場合は、その教科書が使われていた年度の知多カリデータも取り込んでください。"]

{"sheet":"単元・内容","index":1,"n_rows":1402,"n_cols":70,"rows_kept":1402,"cut":false,"hidden":true,"merged":[]}
[null,"国語",null,null,"書写",null,null,"社会",null,null,"算数",null,null,"理科",null,null,"生活",null,null,"音楽",null,null,"図工",null,null,"家庭",null,null,"体育",null,null,"外国語",null,null,{"$f":"設定!B12&\"\"","v":""},null,null,{"$f":"設定!C12&\"\"","v":""},null,null,{"$f":"設定!D12&\"\"","v":""},null,null,{"$f":"設定!E12&\"\"","v":""},null,null,{"$f":"設定!F12&\"\"","v":""},null,null,{"$f":"設定!G12&\"\"","v":""},null,null,{"$f":"設定!H12&\"\"","v":""},null,null,{"$f":"設定!I12&\"\"","v":""},null,null,{"$f":"設定!J12&\"\"","v":""},null,null,{"$f":"設定!K12&\"\"","v":""},null,null,{"$f":"設定!L12&\"\"","v":""},null,null,{"$f":"設定!M12&\"\"","v":""}]
["No","学年","単元名","内容","学年","単元名","内容","学年","単元名","内容","学年","単元名","内容","学年","単元名","内容","学年","単元名","内容","学年","単元名","内容","学年","単元名","内容","学年","単元名","内容","学年","単元名","内容","学年","単元名","内容","学年","単元名","内容","学年","単元名","内容","学年","単元名","内容","学年","単元名","内容","学年","単元名","内容","学年","単元名","内容","学年","単元名","内容","学年","単元名","内容","学年","単元名","内容","学年","単元名","内容","学年","単元名","内容","学年","単元名","内容"]
[1]
[2]
[3]
[4]
[5]
[6]
[7]
[8]
[9]
[10]
[11]
[12]
[13]
[14]
[15]
[16]
[17]
[18]
[19]
[20]
[21]
[22]
[23]
[24]
[25]
[26]
[27]
[28]
[29]
[30]
[31]
[32]
[33]
[34]
[35]
[36]
[37]
[38]
[39]
[40]
[41]
[42]
[43]
[44]
[45]
[46]
[47]
[48]
[49]
[50]
[51]
[52]
[53]
[54]
[55]
[56]
[57]
[58]
[59]
[60]
[61]
[62]
[63]
[64]
[65]
[66]
[67]
[68]
[69]
[70]
[71]
[72]
[73]
[74]
[75]
[76]
[77]
[78]
[79]
[80]
[81]
[82]
[83]
[84]
[85]
[86]
[87]
[88]
[89]
[90]
[91]
[92]
[93]
[94]
[95]
[96]
[97]
[98]
[99]
[100]
[101]
[102]
[103]
[104]
[105]
[106]
[107]
[108]
[109]
[110]
[111]
[112]
[113]
[114]
[115]
[116]
[117]
[118]
[119]
[120]
[121]
[122]
[123]
[124]
[125]
[126]
[127]
[128]
[129]
[130]
[131]
[132]
[133]
[134]
[135]
[136]
[137]
[138]
[139]
[140]
[141]
[142]
[143]
[144]
[145]
[146]
[147]
[148]
[149]
[150]
[151]
[152]
[153]
[154]
[155]
[156]
[157]
[158]
[159]
[160]
[161]
[162]
[163]
[164]
[165]
[166]
[167]
[168]
[169]
[170]
[171]
[172]
[173]
[174]
[175]
[176]
[177]
[178]
[179]
[180]
[181]
[182]
[183]
[184]
[185]
[186]
[187]
[188]
[189]
[190]
[191]
[192]
[193]
[194]
[195]
[196]
[197]
[198]
[199]
[200]
[201]
[202]
[203]
[204]
[205]
[206]
[207]
[208]
[209]
[210]
[211]
[212]
[213]
[214]
[215]
[216]
[217]
[218]
[219]
[220]
[221]
[222]
[223]
[224]
[225]
[226]
[227]
[228]
[229]
[230]
[231]
[232]
[233]
[234]
[235]
[236]
[237]
[238]
[239]
[240]
[241]
[242]
[243]
[244]
[245]
[246]
[247]
[248]
[249]
[250]
[251]
[252]
[253]
[254]
[255]
[256]
[257]
[258]
[259]
[260]
[261]
[262]
[263]
[264]
[265]
[266]
[267]
[268]
[269]
[270]
[271]
[272]
[273]
[274]
[275]
[276]
[277]
[278]
[279]
[280]
[281]
[282]
[283]
[284]
[285]
[286]
[287]
[288]
[289]
[290]
[291]
[292]
[293]
[294]
[295]
[296]
[297]
[298]
[299]
[300]
[301]
[302]
[303]
[304]
[305]
[306]
[307]
[308]
[309]
[310]
[311]
[312]
[313]
[314]
[315]
[316]
[317]
[318]
[319]
[320]
[321]
[322]
[323]
[324]
[325]
[326]
[327]
[328]
[329]
[330]
[331]
[332]
[333]
[334]
[335]
[336]
[337]
[338]
[339]
[340]
[341]
[342]
[343]
[344]
[345]
[346]
[347]
[348]
[349]
[350]
[351]
[352]
[353]
[354]
[355]
[356]
[357]
[358]
[359]
[360]
[361]
[362]
[363]
[364]
[365]
[366]
[367]
[368]
[369]
[370]
[371]
[372]
[373]
[374]
[375]
[376]
[377]
[378]
[379]
[380]
[381]
[382]
[383]
[384]
[385]
[386]
[387]
[388]
[389]
[390]
[391]
[392]
[393]
[394]
[395]
[396]
[397]
[398]
[399]
[400]
[401]
[402]
[403]
[404]
[405]
[406]
[407]
[408]
[409]
[410]
[411]
[412]
[413]
[414]
[415]
[416]
[417]
[418]
[419]
[420]
[421]
[422]
[423]
[424]
[425]
[426]
[427]
[428]
[429]
[430]
[431]
[432]
[433]
[434]
[435]
[436]
[437]
[438]
[439]
[440]
[441]
[442]
[443]
[444]
[445]
[446]
[447]
[448]
[449]
[450]
[451]
[452]
[453]
[454]
[455]
[456]
[457]
[458]
[459]
[460]
[461]
[462]
[463]
[464]
[465]
[466]
[467]
[468]
[469]
[470]
[471]
[472]
[473]
[474]
[475]
[476]
[477]
[478]
[479]
[480]
[481]
[482]
[483]
[484]
[485]
[486]
[487]
[488]
[489]
[490]
[491]
[492]
[493]
[494]
[495]
[496]
[497]
[498]
[499]
[500]
[501]
[502]
[503]
[504]
[505]
[506]
[507]
[508]
[509]
[510]
[511]
[512]
[513]
[514]
[515]
[516]
[517]
[518]
[519]
[520]
[521]
[522]
[523]
[524]
[525]
[526]
[527]
[528]
[529]
[530]
[531]
[532]
[533]
[534]
[535]
[536]
[537]
[538]
[539]
[540]
[541]
[542]
[543]
[544]
[545]
[546]
[547]
[548]
[549]
[550]
[551]
[552]
[553]
[554]
[555]
[556]
[557]
[558]
[559]
[560]
[561]
[562]
[563]
[564]
[565]
[566]
[567]
[568]
[569]
[570]
[571]
[572]
[573]
[574]
[575]
[576]
[577]
[578]
[579]
[580]
[581]
[582]
[583]
[584]
[585]
[586]
[587]
[588]
[589]
[590]
[591]
[592]
[593]
[594]
[595]
[596]
[597]
[598]
[599]
[600]
[601]
[602]
[603]
[604]
[605]
[606]
[607]
[608]
[609]
[610]
[611]
[612]
[613]
[614]
[615]
[616]
[617]
[618]
[619]
[620]
[621]
[622]
[623]
[624]
[625]
[626]
[627]
[628]
[629]
[630]
[631]
[632]
[633]
[634]
[635]
[636]
[637]
[638]
[639]
[640]
[641]
[642]
[643]
[644]
[645]
[646]
[647]
[648]
[649]
[650]
[651]
[652]
[653]
[654]
[655]
[656]
[657]
[658]
[659]
[660]
[661]
[662]
[663]
[664]
[665]
[666]
[667]
[668]
[669]
[670]
[671]
[672]
[673]
[674]
[675]
[676]
[677]
[678]
[679]
[680]
[681]
[682]
[683]
[684]
[685]
[686]
[687]
[688]
[689]
[690]
[691]
[692]
[693]
[694]
[695]
[696]
[697]
[698]
[699]
[700]
[701]
[702]
[703]
[704]
[705]
[706]
[707]
[708]
[709]
[710]
[711]
[712]
[713]
[714]
[715]
[716]
[717]
[718]
[719]
[720]
[721]
[722]
[723]
[724]
[725]
[726]
[727]
[728]
[729]
[730]
[731]
[732]
[733]
[734]
[735]
[736]
[737]
[738]
[739]
[740]
[741]
[742]
[743]
[744]
[745]
[746]
[747]
[748]
[749]
[750]
[751]
[752]
[753]
[754]
[755]
[756]
[757]
[758]
[759]
[760]
[761]
[762]
[763]
[764]
[765]
[766]
[767]
[768]
[769]
[770]
[771]
[772]
[773]
[774]
[775]
[776]
[777]
[778]
[779]
[780]
[781]
[782]
[783]
[784]
[785]
[786]
[787]
[788]
[789]
[790]
[791]
[792]
[793]
[794]
[795]
[796]
[797]
[798]
[799]
[800]
[801]
[802]
[803]
[804]
[805]
[806]
[807]
[808]
[809]
[810]
[811]
[812]
[813]
[814]
[815]
[816]
[817]
[818]
[819]
[820]
[821]
[822]
[823]
[824]
[825]
[826]
[827]
[828]
[829]
[830]
[831]
[832]
[833]
[834]
[835]
[836]
[837]
[838]
[839]
[840]
[841]
[842]
[843]
[844]
[845]
[846]
[847]
[848]
[849]
[850]
[851]
[852]
[853]
[854]
[855]
[856]
[857]
[858]
[859]
[860]
[861]
[862]
[863]
[864]
[865]
[866]
[867]
[868]
[869]
[870]
[871]
[872]
[873]
[874]
[875]
[876]
[877]
[878]
[879]
[880]
[881]
[882]
[883]
[884]
[885]
[886]
[887]
[888]
[889]
[890]
[891]
[892]
[893]
[894]
[895]
[896]
[897]
[898]
[899]
[900]
[901]
[902]
[903]
[904]
[905]
[906]
[907]
[908]
[909]
[910]
[911]
[912]
[913]
[914]
[915]
[916]
[917]
[918]
[919]
[920]
[921]
[922]
[923]
[924]
[925]
[926]
[927]
[928]
[929]
[930]
[931]
[932]
[933]
[934]
[935]
[936]
[937]
[938]
[939]
[940]
[941]
[942]
[943]
[944]
[945]
[946]
[947]
[948]
[949]
[950]
[951]
[952]
[953]
[954]
[955]
[956]
[957]
[958]
[959]
[960]
[961]
[962]
[963]
[964]
[965]
[966]
[967]
[968]
[969]
[970]
[971]
[972]
[973]
[974]
[975]
[976]
[977]
[978]
[979]
[980]
[981]
[982]
[983]
[984]
[985]
[986]
[987]
[988]
[989]
[990]
[991]
[992]
[993]
[994]
[995]
[996]
[997]
[998]
[999]
[1000]
[1001]
[1002]
[1003]
[1004]
[1005]
[1006]
[1007]
[1008]
[1009]
[1010]
[1011]
[1012]
[1013]
[1014]
[1015]
[1016]
[1017]
[1018]
[1019]
[1020]
[1021]
[1022]
[1023]
[1024]
[1025]
[1026]
[1027]
[1028]
[1029]
[1030]
[1031]
[1032]
[1033]
[1034]
[1035]
[1036]
[1037]
[1038]
[1039]
[1040]
[1041]
[1042]
[1043]
[1044]
[1045]
[1046]
[1047]
[1048]
[1049]
[1050]
[1051]
[1052]
[1053]
[1054]
[1055]
[1056]
[1057]
[1058]
[1059]
[1060]
[1061]
[1062]
[1063]
[1064]
[1065]
[1066]
[1067]
[1068]
[1069]
[1070]
[1071]
[1072]
[1073]
[1074]
[1075]
[1076]
[1077]
[1078]
[1079]
[1080]
[1081]
[1082]
[1083]
[1084]
[1085]
[1086]
[1087]
[1088]
[1089]
[1090]
[1091]
[1092]
[1093]
[1094]
[1095]
[1096]
[1097]
[1098]
[1099]
[1100]
[1101]
[1102]
[1103]
[1104]
[1105]
[1106]
[1107]
[1108]
[1109]
[1110]
[1111]
[1112]
[1113]
[1114]
[1115]
[1116]
[1117]
[1118]
[1119]
[1120]
[1121]
[1122]
[1123]
[1124]
[1125]
[1126]
[1127]
[1128]
[1129]
[1130]
[1131]
[1132]
[1133]
[1134]
[1135]
[1136]
[1137]
[1138]
[1139]
[1140]
[1141]
[1142]
[1143]
[1144]
[1145]
[1146]
[1147]
[1148]
[1149]
[1150]
[1151]
[1152]
[1153]
[1154]
[1155]
[1156]
[1157]
[1158]
[1159]
[1160]
[1161]
[1162]
[1163]
[1164]
[1165]
[1166]
[1167]
[1168]
[1169]
[1170]
[1171]
[1172]
[1173]
[1174]
[1175]
[1176]
[1177]
[1178]
[1179]
[1180]
[1181]
[1182]
[1183]
[1184]
[1185]
[1186]
[1187]
[1188]
[1189]
[1190]
[1191]
[1192]
[1193]
[1194]
[1195]
[1196]
[1197]
[1198]
[1199]
[1200]
[1201]
[1202]
[1203]
[1204]
[1205]
[1206]
[1207]
[1208]
[1209]
[1210]
[1211]
[1212]
[1213]
[1214]
[1215]
[1216]
[1217]
[1218]
[1219]
[1220]
[1221]
[1222]
[1223]
[1224]
[1225]
[1226]
[1227]
[1228]
[1229]
[1230]
[1231]
[1232]
[1233]
[1234]
[1235]
[1236]
[1237]
[1238]
[1239]
[1240]
[1241]
[1242]
[1243]
[1244]
[1245]
[1246]
[1247]
[1248]
[1249]
[1250]
[1251]
[1252]
[1253]
[1254]
[1255]
[1256]
[1257]
[1258]
[1259]
[1260]
[1261]
[1262]
[1263]
[1264]
[1265]
[1266]
[1267]
[1268]
[1269]
[1270]
[1271]
[1272]
[1273]
[1274]
[1275]
[1276]
[1277]
[1278]
[1279]
[1280]
[1281]
[1282]
[1283]
[1284]
[1285]
[1286]
[1287]
[1288]
[1289]
[1290]
[1291]
[1292]
[1293]
[1294]
[1295]
[1296]
[1297]
[1298]
[1299]
[1300]
[1301]
[1302]
[1303]
[1304]
[1305]
[1306]
[1307]
[1308]
[1309]
[1310]
[1311]
[1312]
[1313]
[1314]
[1315]
[1316]
[1317]
[1318]
[1319]
[1320]
[1321]
[1322]
[1323]
[1324]
[1325]
[1326]
[1327]
[1328]
[1329]
[1330]
[1331]
[1332]
[1333]
[1334]
[1335]
[1336]
[1337]
[1338]
[1339]
[1340]
[1341]
[1342]
[1343]
[1344]
[1345]
[1346]
[1347]
[1348]
[1349]
[1350]
[1351]
[1352]
[1353]
[1354]
[1355]
[1356]
[1357]
[1358]
[1359]
[1360]
[1361]
[1362]
[1363]
[1364]
[1365]
[1366]
[1367]
[1368]
[1369]
[1370]
[1371]
[1372]
[1373]
[1374]
[1375]
[1376]
[1377]
[1378]
[1379]
[1380]
[1381]
[1382]
[1383]
[1384]
[1385]
[1386]
[1387]
[1388]
[1389]
[1390]
[1391]
[1392]
[1393]
[1394]
[1395]
[1396]
[1397]
[1398]
[1399]
[1400]

{"sheet":"１学期","index":2,"n_rows":35,"n_cols":342,"rows_kept":35,"cut":false,"hidden":true,"merged":[[33,122,33,123],[33,126,33,127],[33,130,33,131],[33,134,33,135],[33,138,33,139],[34,122,34,123],[34,126,34,127],[34,130,34,131],[34,134,34,135],[34,138,34,139],[31,122,31,123],[31,126,31,127],[31,130,31,131],[31,134,31,135],[31,138,31,139],[32,122,32,123],[32,126,32,127],[32,130,32,131],[32,134,32,135],[32,138,32,139],[29,122,29,123],[29,126,29,127],[29,130,29,131],[29,134,29,135],[29,138,29,139],[30,122,30,123],[30,126,30,127],[30,130,30,131],[30,134,30,135],[30,138,30,139],[27,122,27,125],[27,126,27,129],[27,130,27,133],[27,134,27,137],[27,138,27,141],[28,122,28,123],[28,126,28,127],[28,130,28,131],[28,134,28,135],[28,138,28,139],[25,122,25,125],[25,126,25,129],[25,130,25,133],[25,134,25,137],[25,138,25,141],[26,122,26,125],[26,126,26,129],[26,130,26,133],[26,134,26,137],[26,138,26,141],[23,122,23,125],[23,126,23,129],[23,130,23,133],[23,134,23,137],[23,138,23,141],[24,122,24,124],[24,126,24,128],[24,130,24,132],[24,134,24,136],[24,138,24,140],[21,122,21,124],[21,126,21,128],[21,130,21,132],[21,134,21,136],[21,138,21,140],[22,122,22,125],[22,126,22,129],[22,130,22,133],[22,134,22,137],[22,138,22,141],[19,122,19,125],[19,126,19,129],[19,130,19,133],[19,134,19,137],[19,138,19,141],[20,122,20,125],[20,126,20,129],[20,130,20,133],[20,134,20,137],[20,138,20,141],[17,122,17,125],[17,126,17,129],[17,130,17,133],[17,134,17,137],[17,138,17,141],[18,122,18,124],[18,126,18,128],[18,130,18,132],[18,134,18,136],[18,138,18,140],[15,122,15,124],[15,126,15,128],[15,130,15,132],[15,134,15,136],[15,138,15,140],[16,122,16,125],[16,126,16,129],[16,130,16,133],[16,134,16,137],[16,138,16,141],[13,122,13,125],[13,126,13,129],[13,130,13,133],[13,134,13,137],[13,138,13,141],[14,122,14,125],[14,126,14,129],[14,130,14,133],[14,134,14,137],[14,138,14,141],[11,122,11,125],[11,126,11,129],[11,130,11,133],[11,134,11,137],[11,138,11,141],[12,122,12,124],[12,126,12,128],[12,130,12,132],[12,134,12,136],[12,138,12,140],[9,122,9,124],[9,126,9,128],[9,130,9,132],[9,134,9,136],[9,138,9,140],[10,122,10,125],[10,126,10,129],[10,130,10,133],[10,134,10,137],[10,138,10,141],[7,122,7,125],[7,126,7,129],[7,130,7,133],[7,134,7,137],[7,138,7,141],[8,122,8,125],[8,126,8,129],[8,130,8,133],[8,134,8,137],[8,138,8,141],[5,122,5,124],[5,126,5,128],[5,130,5,132],[5,134,5,136],[5,138,5,140],[6,122,6,124],[6,126,6,128],[6,130,6,132],[6,134,6,136],[6,138,6,140],[2,128,2,139],[3,122,3,125],[3,126,3,129],[3,130,3,133],[3,134,3,137],[3,138,3,141],[4,122,4,125],[4,126,4,129],[4,130,4,133],[4,134,4,137],[4,138,4,141],[33,102,33,103],[33,106,33,107],[33,110,33,111],[33,114,33,115],[33,118,33,119],[34,102,34,103],[34,106,34,107],[34,110,34,111],[34,114,34,115],[34,118,34,119],[31,102,31,103],[31,106,31,107],[31,110,31,111],[31,114,31,115],[31,118,31,119],[32,102,32,103],[32,106,32,107],[32,110,32,111],[32,114,32,115],[32,118,32,119],[29,102,29,103],[29,106,29,107],[29,110,29,111],[29,114,29,115],[29,118,29,119],[30,102,30,103],[30,106,30,107],[30,110,30,111],[30,114,30,115],[30,118,30,119],[27,102,27,105],[27,106,27,109],[27,110,27,113],[27,114,27,117],[27,118,27,121],[28,102,28,103],[28,106,28,107],[28,110,28,111],[28,114,28,115],[28,118,28,119],[25,102,25,105],[25,106,25,109],[25,110,25,113],[25,114,25,117],[25,118,25,121],[26,102,26,105],[26,106,26,109],[26,110,26,113],[26,114,26,117],[26,118,26,121],[23,102,23,105],[23,106,23,109],[23,110,23,113],[23,114,23,117],[23,118,23,121],[24,102,24,104],[24,106,24,108],[24,110,24,112],[24,114,24,116],[24,118,24,120],[21,102,21,104],[21,106,21,108],[21,110,21,112],[21,114,21,116],[21,118,21,120],[22,102,22,105],[22,106,22,109],[22,110,22,113],[22,114,22,117],[22,118,22,121],[19,102,19,105],[19,106,19,109],[19,110,19,113],[19,114,19,117],[19,118,19,121],[20,102,20,105],[20,106,20,109],[20,110,20,113],[20,114,20,117],[20,118,20,121],[17,102,17,105],[17,106,17,109],[17,110,17,113],[17,114,17,117],[17,118,17,121],[18,102,18,104],[18,106,18,108],[18,110,18,112],[18,114,18,116],[18,118,18,120],[15,102,15,104],[15,106,15,108],[15,110,15,112],[15,114,15,116],[15,118,15,120],[16,102,16,105],[16,106,16,109],[16,110,16,113],[16,114,16,117],[16,118,16,121],[13,102,13,105],[13,106,13,109],[13,110,13,113],[13,114,13,117],[13,118,13,121],[14,102,14,105],[14,106,14,109],[14,110,14,113],[14,114,14,117],[14,118,14,121],[11,102,11,105],[11,106,11,109],[11,110,11,113],[11,114,11,117],[11,118,11,121],[12,102,12,104],[12,106,12,108],[12,110,12,112],[12,114,12,116],[12,118,12,120],[9,102,9,104],[9,106,9,108],[9,110,9,112],[9,114,9,116],[9,118,9,120],[10,102,10,105],[10,106,10,109],[10,110,10,113],[10,114,10,117],[10,118,10,121],[7,102,7,105],[7,106,7,109],[7,110,7,113],[7,114,7,117],[7,118,7,121],[8,102,8,105],[8,106,8,109],[8,110,8,113],[8,114,8,117],[8,118,8,121],[5,102,5,104],[5,106,5,108],[5,110,5,112],[5,114,5,116],[5,118,5,120],[6,102,6,104],[6,106,6,108],[6,110,6,112],[6,114,6,116],[6,118,6,120],[2,108,2,119],[3,102,3,105],[3,106,3,109],[3,110,3,113],[3,114,3,117],[3,118,3,121],[4,102,4,105],[4,106,4,109],[4,110,4,113],[4,114,4,117],[4,118,4,121],[33,82,33,83],[33,86,33,87],[33,90,33,91],[33,94,33,95],[33,98,33,99],[34,82,34,83],[34,86,34,87],[34,90,34,91],[34,94,34,95],[34,98,34,99],[31,82,31,83],[31,86,31,87],[31,90,31,91],[31,94,31,95],[31,98,31,99],[32,82,32,83],[32,86,32,87],[32,90,32,91],[32,94,32,95],[32,98,32,99],[29,82,29,83],[29,86,29,87],[29,90,29,91],[29,94,29,95],[29,98,29,99],[30,82,30,83],[30,86,30,87],[30,90,30,91],[30,94,30,95],[30,98,30,99],[27,82,27,85],[27,86,27,89],[27,90,27,93],[27,94,27,97],[27,98,27,101],[28,82,28,83],[28,86,28,87],[28,90,28,91],[28,94,28,95],[28,98,28,99],[25,82,25,85],[25,86,25,89],[25,90,25,93],[25,94,25,97],[25,98,25,101],[26,82,26,85],[26,86,26,89],[26,90,26,93],[26,94,26,97],[26,98,26,101],[23,82,23,85],[23,86,23,89],[23,90,23,93],[23,94,23,97],[23,98,23,101],[24,82,24,84],[24,86,24,88],[24,90,24,92],[24,94,24,96],[24,98,24,100],[21,82,21,84],[21,86,21,88],[21,90,21,92],[21,94,21,96],[21,98,21,100],[22,82,22,85],[22,86,22,89],[22,90,22,93],[22,94,22,97],[22,98,22,101],[19,82,19,85],[19,86,19,89],[19,90,19,93],[19,94,19,97],[19,98,19,101],[20,82,20,85],[20,86,20,89],[20,90,20,93],[20,94,20,97],[20,98,20,101],[17,82,17,85],[17,86,17,89],[17,90,17,93],[17,94,17,97],[17,98,17,101],[18,82,18,84],[18,86,18,88],[18,90,18,92],[18,94,18,96],[18,98,18,100],[15,82,15,84],[15,86,15,88],[15,90,15,92],[15,94,15,96],[15,98,15,100],[16,82,16,85],[16,86,16,89],[16,90,16,93],[16,94,16,97],[16,98,16,101],[13,82,13,85],[13,86,13,89],[13,90,13,93],[13,94,13,97],[13,98,13,101],[14,82,14,85],[14,86,14,89],[14,90,14,93],[14,94,14,97],[14,98,14,101],[11,82,11,85],[11,86,11,89],[11,90,11,93],[11,94,11,97],[11,98,11,101],[12,82,12,84],[12,86,12,88],[12,90,12,92],[12,94,12,96],[12,98,12,100],[9,82,9,84],[9,86,9,88],[9,90,9,92],[9,94,9,96],[9,98,9,100],[10,82,10,85],[10,86,10,89],[10,90,10,93],[10,94,10,97],[10,98,10,101],[7,82,7,85],[7,86,7,89],[7,90,7,93],[7,94,7,97],[7,98,7,101],[8,82,8,85],[8,86,8,89],[8,90,8,93],[8,94,8,97],[8,98,8,101],[5,82,5,84],[5,86,5,88],[5,90,5,92],[5,94,5,96],[5,98,5,100],[6,82,6,84],[6,86,6,88],[6,90,6,92],[6,94,6,96],[6,98,6,100],[2,88,2,99],[3,82,3,85],[3,86,3,89],[3,90,3,93],[3,94,3,97],[3,98,3,101],[4,82,4,85],[4,86,4,89],[4,90,4,93],[4,94,4,97],[4,98,4,101],[33,62,33,63],[33,66,33,67],[33,70,33,71],[33,74,33,75],[33,78,33,79],[34,62,34,63],[34,66,34,67],[34,70,34,71],[34,74,34,75],[34,78,34,79],[31,62,31,63],[31,66,31,67],[31,70,31,71],[31,74,31,75],[31,78,31,79],[32,62,32,63],[32,66,32,67],[32,70,32,71],[32,74,32,75],[32,78,32,79],[29,62,29,63],[29,66,29,67],[29,70,29,71],[29,74,29,75],[29,78,29,79],[30,62,30,63],[30,66,30,67],[30,70,30,71],[30,74,30,75],[30,78,30,79],[27,62,27,65],[27,66,27,69],[27,70,27,73],[27,74,27,77],[27,78,27,81],[28,62,28,63],[28,66,28,67],[28,70,28,71],[28,74,28,75],[28,78,28,79],[25,62,25,65],[25,66,25,69],[25,70,25,73],[25,74,25,77],[25,78,25,81],[26,62,26,65],[26,66,26,69],[26,70,26,73],[26,74,26,77],[26,78,26,81],[23,62,23,65],[23,66,23,69],[23,70,23,73],[23,74,23,77],[23,78,23,81],[24,62,24,64],[24,66,24,68],[24,70,24,72],[24,74,24,76],[24,78,24,80],[21,62,21,64],[21,66,21,68],[21,70,21,72],[21,74,21,76],[21,78,21,80],[22,62,22,65],[22,66,22,69],[22,70,22,73],[22,74,22,77],[22,78,22,81],[19,62,19,65],[19,66,19,69],[19,70,19,73],[19,74,19,77],[19,78,19,81],[20,62,20,65],[20,66,20,69],[20,70,20,73],[20,74,20,77],[20,78,20,81],[17,62,17,65],[17,66,17,69],[17,70,17,73],[17,74,17,77],[17,78,17,81],[18,62,18,64],[18,66,18,68],[18,70,18,72],[18,74,18,76],[18,78,18,80],[15,62,15,64],[15,66,15,68],[15,70,15,72],[15,74,15,76],[15,78,15,80],[16,62,16,65],[16,66,16,69],[16,70,16,73],[16,74,16,77],[16,78,16,81],[13,62,13,65],[13,66,13,69],[13,70,13,73],[13,74,13,77],[13,78,13,81],[14,62,14,65],[14,66,14,69],[14,70,14,73],[14,74,14,77],[14,78,14,81],[11,62,11,65],[11,66,11,69],[11,70,11,73],[11,74,11,77],[11,78,11,81],[12,62,12,64],[12,66,12,68],[12,70,12,72],[12,74,12,76],[12,78,12,80],[9,62,9,64],[9,66,9,68],[9,70,9,72],[9,74,9,76],[9,78,9,80],[10,62,10,65],[10,66,10,69],[10,70,10,73],[10,74,10,77],[10,78,10,81],[7,62,7,65],[7,66,7,69],[7,70,7,73],[7,74,7,77],[7,78,7,81],[8,62,8,65],[8,66,8,69],[8,70,8,73],[8,74,8,77],[8,78,8,81],[5,62,5,64],[5,66,5,68],[5,70,5,72],[5,74,5,76],[5,78,5,80],[6,62,6,64],[6,66,6,68],[6,70,6,72],[6,74,6,76],[6,78,6,80],[2,68,2,79],[3,62,3,65],[3,66,3,69],[3,70,3,73],[3,74,3,77],[3,78,3,81],[4,62,4,65],[4,66,4,69],[4,70,4,73],[4,74,4,77],[4,78,4,81],[33,42,33,43],[33,46,33,47],[33,50,33,51],[33,54,33,55],[33,58,33,59],[34,42,34,43],[34,46,34,47],[34,50,34,51],[34,54,34,55],[34,58,34,59],[31,42,31,43],[31,46,31,47],[31,50,31,51],[31,54,31,55],[31,58,31,59],[32,42,32,43],[32,46,32,47],[32,50,32,51],[32,54,32,55],[32,58,32,59],[29,42,29,43],[29,46,29,47],[29,50,29,51],[29,54,29,55],[29,58,29,59],[30,42,30,43],[30,46,30,47],[30,50,30,51],[30,54,30,55],[30,58,30,59],[27,42,27,45],[27,46,27,49],[27,50,27,53],[27,54,27,57],[27,58,27,61],[28,42,28,43],[28,46,28,47],[28,50,28,51],[28,54,28,55],[28,58,28,59],[25,42,25,45],[25,46,25,49],[25,50,25,53],[25,54,25,57],[25,58,25,61],[26,42,26,45],[26,46,26,49],[26,50,26,53],[26,54,26,57],[26,58,26,61],[23,42,23,45],[23,46,23,49],[23,50,23,53],[23,54,23,57],[23,58,23,61],[24,42,24,44],[24,46,24,48],[24,50,24,52],[24,54,24,56],[24,58,24,60],[21,42,21,44],[21,46,21,48],[21,50,21,52],[21,54,21,56],[21,58,21,60],[22,42,22,45],[22,46,22,49],[22,50,22,53],[22,54,22,57],[22,58,22,61],[19,42,19,45],[19,46,19,49],[19,50,19,53],[19,54,19,57],[19,58,19,61],[20,42,20,45],[20,46,20,49],[20,50,20,53],[20,54,20,57],[20,58,20,61],[17,42,17,45],[17,46,17,49],[17,50,17,53],[17,54,17,57],[17,58,17,61],[18,42,18,44],[18,46,18,48],[18,50,18,52],[18,54,18,56],[18,58,18,60],[15,42,15,44],[15,46,15,48],[15,50,15,52],[15,54,15,56],[15,58,15,60],[16,42,16,45],[16,46,16,49],[16,50,16,53],[16,54,16,57],[16,58,16,61],[10,58,10,61],[7,42,7,45],[7,46,7,49],[7,50,7,53],[7,54,7,57],[7,58,7,61],[8,42,8,45],[8,46,8,49],[8,50,8,53],[8,54,8,57],[8,58,8,61],[13,42,13,45],[13,46,13,49],[13,50,13,53],[13,54,13,57],[13,58,13,61],[14,42,14,45],[14,46,14,49],[14,50,14,53],[14,54,14,57],[14,58,14,61],[11,42,11,45],[11,46,11,49],[11,50,11,53],[11,54,11,57],[11,58,11,61],[12,42,12,44],[12,46,12,48],[12,50,12,52],[12,54,12,56],[12,58,12,60],[22,18,22,21],[23,2,23,5],[5,42,5,44],[5,46,5,48],[5,50,5,52],[5,54,5,56],[5,58,5,60],[6,42,6,44],[6,46,6,48],[6,50,6,52],[6,54,6,56],[6,58,6,60],[2,48,2,59],[3,42,3,45],[3,46,3,49],[3,50,3,53],[3,54,3,57],[3,58,3,61],[4,42,4,45],[4,46,4,49],[4,50,4,53],[4,54,4,57],[4,58,4,61],[9,42,9,44],[9,46,9,48],[9,50,9,52],[9,54,9,56],[9,58,9,60],[10,42,10,45],[10,46,10,49],[10,50,10,53],[10,54,10,57],[2,7,2,19],[2,28,2,39],[24,18,24,20],[24,14,24,16],[24,10,24,12],[24,6,24,8],[24,2,24,4],[18,2,18,4],[18,6,18,8],[18,10,18,12],[18,14,18,16],[18,18,18,20],[21,2,21,4],[21,6,21,8],[21,10,21,12],[21,14,21,16],[21,18,21,20],[12,2,12,4],[5,2,5,4],[23,14,23,17],[23,18,23,21],[3,22,3,25],[3,26,3,29],[3,30,3,33],[3,34,3,37],[3,38,3,41],[4,22,4,25],[4,26,4,29],[9,2,9,4],[15,2,15,4],[15,6,15,8],[15,10,15,12],[28,18,28,19],[29,18,29,19],[30,18,30,19],[31,18,31,19],[26,18,26,21],[27,2,27,5],[27,6,27,9],[27,10,27,13],[27,14,27,17],[27,18,27,21],[25,18,25,21],[26,2,26,5],[33,18,33,19],[34,18,34,19],[29,6,29,7],[30,6,30,7],[31,6,31,7],[33,6,33,7],[34,6,34,7],[28,10,28,11],[29,10,29,11],[30,10,30,11],[31,10,31,11],[33,10,33,11],[34,10,34,11],[32,6,32,7],[32,10,32,11],[32,14,32,15],[32,18,32,19],[31,14,31,15],[33,2,33,3],[28,14,28,15],[3,1,4,1],[3,2,3,5],[3,6,3,9],[3,10,3,13],[3,14,3,17],[3,18,3,21],[4,2,4,5],[4,6,4,9],[4,10,4,13],[4,14,4,17],[4,18,4,21],[6,1,8,1],[7,2,7,5],[7,6,7,9],[7,10,7,13],[7,14,7,17],[7,18,7,21],[8,2,8,5],[8,6,8,9],[8,10,8,13],[8,14,8,17],[8,18,8,21],[6,14,6,16],[6,10,6,12],[6,6,6,8],[6,2,6,4],[5,6,5,8],[5,10,5,12],[5,14,5,16],[5,18,5,20],[6,18,6,20],[9,1,11,1],[10,2,10,5],[10,6,10,9],[10,10,10,13],[10,14,10,17],[13,18,13,21],[14,2,14,5],[14,6,14,9],[14,10,14,13],[14,14,14,17],[14,18,14,21],[12,1,14,1],[13,2,13,5],[13,6,13,9],[13,10,13,13],[13,14,13,17],[10,18,10,21],[11,2,11,5],[11,6,11,9],[11,10,11,13],[11,14,11,17],[11,18,11,21],[9,18,9,20],[9,14,9,16],[12,6,12,8],[12,10,12,12],[12,14,12,16],[12,18,12,20],[9,10,9,12],[9,6,9,8],[15,1,17,1],[16,2,16,5],[16,6,16,9],[16,10,16,13],[16,14,16,17],[19,18,19,21],[20,2,20,5],[20,6,20,9],[20,10,20,13],[20,14,20,17],[20,18,20,21],[18,1,20,1],[19,2,19,5],[19,6,19,9],[19,10,19,13],[19,14,19,17],[17,10,17,13],[17,14,17,17],[17,18,17,21],[15,14,15,16],[15,18,15,20],[17,6,17,9],[16,18,16,21],[17,2,17,5],[34,2,34,3],[28,6,28,7],[21,1,23,1],[22,2,22,5],[22,6,22,9],[22,10,22,13],[22,14,22,17],[28,1,34,1],[28,2,28,3],[29,2,29,3],[33,14,33,15],[34,14,34,15],[32,2,32,3],[25,1,27,1],[25,2,25,5],[25,6,25,9],[25,10,25,13],[25,14,25,17],[26,6,26,9],[26,10,26,13],[26,14,26,17],[23,6,23,9],[23,10,23,13],[31,2,31,3],[29,14,29,15],[30,14,30,15],[30,2,30,3],[4,30,4,33],[4,34,4,37],[4,38,4,41],[5,22,5,24],[5,26,5,28],[5,30,5,32],[5,34,5,36],[5,38,5,40],[6,22,6,24],[6,26,6,28],[6,30,6,32],[6,34,6,36],[6,38,6,40],[7,22,7,25],[7,26,7,29],[7,30,7,33],[7,34,7,37]],"merged_total":2746,"flags":["merged_cut"]}
[]
[null,null,"１学期",null,null,null,null,null,null,null,null,null,null,null,null,null,null,null,null,null,null,null,"１学期",null,null,null,null,null,null,null,null,null,null,null,null,null,null,null,null,null,null,null,"１学期",null,null,null,null,null,null,null,null,null,null,null,null,null,null,null,null,null,null,null,"１学期",null,null,null,null,null,null,null,null,null,null,null,null,null,null,null,null,null,null,null,"１学期",null,null,null,null,null,null,null,null,null,null,null,null,null,null,null,null,null,null,null,"１学期",null,null,null,null,null,null,null,null,null,null,null,null,null,null,null,null,null,null,null,"１学期",null,null,null,null,null,null,null,null,null,null,null,null,null,null,null,null,null,null,null,"１学期",null,null,null,null,null,null,null,null,null,null,null,null,null,null,null,null,null,null,null,"１学期",null,null,null,null,null,null,null,null,null,null,null,null,null,null,null,null,null,null,null,"１学期",null,null,null,null,null,null,null,null,null,null,null,null,null,null,null,null,null,null,null,"１学期",null,null,null,null,null,null,null,null,null,null,null,null,null,null,null,null,null,null,null,"１学期",null,null,null,null,null,null,null,null,null,null,null,null,null,null,null,null,null,null,null,"１学期",null,null,null,null,null,null,null,null,null,null,null,null,null,null,null,null,null,null,null,"１学期",null,null,null,null,null,null,null,null,null,null,null,null,null,null,null,null,null,null,null,"１学期",null,null,null,null,null,null,null,null,null,null,null,null,null,null,null,null,null,null,null,"１学期",null,null,null,null,null,null,null,null,null,null,null,null,null,null,null,null,null,null,null,"１学期"]
[null,null,null,"第１週",null,null,null,{"$f":"IF(設定!$B$8=\"いる\",\"校長　　　　　教頭　　　　　主幹教諭　　　　　教務主任　　　　　担任\",\"校長　　　　　教頭　　　　　教務主任　　　　　担任\")","v":"校長　　　　　教頭　　　　　教務主任　　　　　担任"},null,null,null,null,null,null,null,null,null,null,null,null,null,null,null,"第２週",null,null,null,null,{"$f":"$H$3","v":"校長　　　　　教頭　　　　　教務主任　　　　　担任"},null,null,null,null,null,null,null,null,null,null,null,null,null,null,"第３週",null,null,null,null,{"$f":"$H$3","v":"校長　　　　　教頭　　　　　教務主任　　　　　担任"},null,null,null,null,null,null,null,null,null,null,null,null,null,null,"第４週",null,null,null,null,{"$f":"$H$3","v":"校長　　　　　教頭　　　　　教務主任　　　　　担任"},null,null,null,null,null,null,null,null,null,null,null,null,null,null,"第５週",null,null,null,null,{"$f":"$H$3","v":"校長　　　　　教頭　　　　　教務主任　　　　　担任"},null,null,null,null,null,null,null,null,null,null,null,null,null,null,"第６週",null,null,null,null,{"$f":"$H$3","v":"校長　　　　　教頭　　　　　教務主任　　　　　担任"},null,null,null,null,null,null,null,null,null,null,null,null,null,null,"第７週",null,null,null,null,{"$f":"$H$3","v":"校長　　　　　教頭　　　　　教務主任　　　　　担任"},null,null,null,null,null,null,null,null,null,null,null,null,null,null,"第８週",null,null,null,null,{"$f":"$H$3","v":"校長　　　　　教頭　　　　　教務主任　　　　　担任"},null,null,null,null,null,null,null,null,null,null,null,null,null,null,"第９週",null,null,null,null,{"$f":"$H$3","v":"校長　　　　　教頭　　　　　教務主任　　　　　担任"},null,null,null,null,null,null,null,null,null,null,null,null,null,null,"第10週",null,null,null,null,{"$f":"$H$3","v":"校長　　　　　教頭　　　　　教務主任　　　　　担任"},null,null,null,null,null,null,null,null,null,null,null,null,null,null,"第11週",null,null,null,null,{"$f":"$H$3","v":"校長　　　　　教頭　　　　　教務主任　　　　　担任"},null,null,null,null,null,null,null,null,null,null,null,null,null,null,"第12週",null,null,null,null,{"$f":"$H$3","v":"校長　　　　　教頭　　　　　教務主任　　　　　担任"},null,null,null,null,null,null,null,null,null,null,null,null,null,null,"第13週",null,null,null,null,{"$f":"$H$3","v":"校長　　　　　教頭　　　　　教務主任　　　　　担任"},null,null,null,null,null,null,null,null,null,null,null,null,null,null,"第14週",null,null,null,null,{"$f":"$H$3","v":"校長　　　　　教頭　　　　　教務主任　　　　　担任"},null,null,null,null,null,null,null,null,null,null,null,null,null,null,"第15週",null,null,null,null,{"$f":"$H$3","v":"校長　　　　　教頭　　　　　教務主任　　　　　担任"},null,null,null,null,null,null,null,null,null,null,null,null,null,null,"第16週",null,null,null,null,{"$f":"$H$3","v":"校長　　　　　教頭　　　　　教務主任　　　　　担任"},null,null,null,null,null,null,null,null,null,null,null,null,null,null,"第17週",null,null,null,null,{"$f":"$H$3","v":"校長　　　　　教頭　　　　　教務主任　　　　　担任"}]
[null,null,"1900-03-26",null,null,null,"1900-03-27",null,null,null,"1900-03-28",null,null,null,"1900-03-29",null,null,null,"1900-03-30",null,null,null,"1900-04-02",null,null,null,"1900-04-03",null,null,null,"1900-04-04",null,null,null,"1900-04-05",null,null,null,"1900-04-06",null,null,null,"1900-04-09",null,null,null,"1900-04-10",null,null,null,"1900-04-11",null,null,null,"1900-04-12",null,null,null,"1900-04-13",null,null,null,"1900-04-16",null,null,null,"1900-04-17",null,null,null,"1900-04-18",null,null,null,"1900-04-19",null,null,null,"1900-04-20",null,null,null,"1900-04-23",null,null,null,"1900-04-24",null,null,null,"1900-04-25",null,null,null,"1900-04-26",null,null,null,"1900-04-27",null,null,null,"1900-04-30",null,null,null,"1900-05-01",null,null,null,"1900-05-02",null,null,null,"1900-05-03",null,null,null,"1900-05-04",null,null,null,"1900-05-07",null,null,null,"1900-05-08",null,null,null,"1900-05-09",null,null,null,"1900-05-10",null,null,null,"1900-05-11",null,null,null,"1900-05-14",null,null,null,"1900-05-15",null,null,null,"1900-05-16",null,null,null,"1900-05-17",null,null,null,"1900-05-18",null,null,null,"1900-05-21",null,null,null,"1900-05-22",null,null,null,"1900-05-23",null,null,null,"1900-05-24",null,null,null,"1900-05-25",null,null,null,"1900-05-28",null,null,null,"1900-05-29",null,null,null,"1900-05-30",null,null,null,"1900-05-31",null,null,null,"1900-06-01",null,null,null,"1900-06-04",null,null,null,"1900-06-05",null,null,null,"1900-06-06",null,null,null,"1900-06-07",null,null,null,"1900-06-08",null,null,null,"1900-06-11",null,null,null,"1900-06-12",null,null,null,"1900-06-13",null,null,null,"1900-06-14",null,null,null,"1900-06-15",null,null,null,"1900-06-18",null,null,null,"1900-06-19",null,null,null,"1900-06-20",null,null,null,"1900-06-21",null,null,null,"1900-06-22",null,null,null,"1900-06-25",null,null,null,"1900-06-26",null,null,null,"1900-06-27",null,null,null,"1900-06-28",null,null,null,"1900-06-29",null,null,null,"1900-07-02",null,null,null,"1900-07-03",null,null,null,"1900-07-04",null,null,null,"1900-07-05",null,null,null,"1900-07-06",null,null,null,"1900-07-09",null,null,null,"1900-07-10",null,null,null,"1900-07-11",null,null,null,"1900-07-12",null,null,null,"1900-07-13",null,null,null,"1900-07-16",null,null,null,"1900-07-17",null,null,null,"1900-07-18",null,null,null,"1900-07-19",null,null,null,"1900-07-20"]
[null,null,"月",null,null,null,"火",null,null,null,"水",null,null,null,"木",null,null,null,"金",null,null,null,"月",null,null,null,"火",null,null,null,"水",null,null,null,"木",null,null,null,"金",null,null,null,"月",null,null,null,"火",null,null,null,"水",null,null,null,"木",null,null,null,"金",null,null,null,"月",null,null,null,"火",null,null,null,"水",null,null,null,"木",null,null,null,"金",null,null,null,"月",null,null,null,"火",null,null,null,"水",null,null,null,"木",null,null,null,"金",null,null,null,"月",null,null,null,"火",null,null,null,"水",null,null,null,"木",null,null,null,"金",null,null,null,"月",null,null,null,"火",null,null,null,"水",null,null,null,"木",null,null,null,"金",null,null,null,"月",null,null,null,"火",null,null,null,"水",null,null,null,"木",null,null,null,"金",null,null,null,"月",null,null,null,"火",null,null,null,"水",null,null,null,"木",null,null,null,"金",null,null,null,"月",null,null,null,"火",null,null,null,"水",null,null,null,"木",null,null,null,"金",null,null,null,"月",null,null,null,"火",null,null,null,"水",null,null,null,"木",null,null,null,"金",null,null,null,"月",null,null,null,"火",null,null,null,"水",null,null,null,"木",null,null,null,"金",null,null,null,"月",null,null,null,"火",null,null,null,"水",null,null,null,"木",null,null,null,"金",null,null,null,"月",null,null,null,"火",null,null,null,"水",null,null,null,"木",null,null,null,"金",null,null,null,"月",null,null,null,"火",null,null,null,"水",null,null,null,"木",null,null,null,"金",null,null,null,"月",null,null,null,"火",null,null,null,"水",null,null,null,"木",null,null,null,"金",null,null,null,"月",null,null,null,"火",null,null,null,"水",null,null,null,"木",null,null,null,"金"]
[null,"前"]
[null,1]
[]
[]
[null,2]
[]
[]
[null,3]
[]
[]
[null,4]
[]
[]
[null,5]
[]
[]
[null,6]
[]
[]
[null,"後"]
[null,"備考"]
[]
[]
[null,"時間数集計","授業",null,"実施","累計","授業",null,"実施","累計","授業",null,"実施","累計","授業",null,"実施","累計",null,null,"実施","累計","授業",null,"実施","累計","授業",null,"実施","累計","授業",null,"実施","累計","授業",null,"実施","累計",null,null,"実施","累計","授業",null,"実施","累計","授業",null,"実施","累計","授業",null,"実施","累計","授業",null,"実施","累計",null,null,"実施","累計","授業",null,"実施","累計","授業",null,"実施","累計","授業",null,"実施","累計","授業",null,"実施","累計",null,null,"実施","累計","授業",null,"実施","累計","授業",null,"実施","累計","授業",null,"実施","累計","授業",null,"実施","累計",null,null,"実施","累計","授業",null,"実施","累計","授業",null,"実施","累計","授業",null,"実施","累計","授業",null,"実施","累計",null,null,"実施","累計","授業",null,"実施","累計","授業",null,"実施","累計","授業",null,"実施","累計","授業",null,"実施","累計",null,null,"実施","累計","授業",null,"実施","累計","授業",null,"実施","累計","授業",null,"実施","累計","授業",null,"実施","累計",null,null,"実施","累計","授業",null,"実施","累計","授業",null,"実施","累計","授業",null,"実施","累計","授業",null,"実施","累計",null,null,"実施","累計","授業",null,"実施","累計","授業",null,"実施","累計","授業",null,"実施","累計","授業",null,"実施","累計",null,null,"実施","累計","授業",null,"実施","累計","授業",null,"実施","累計","授業",null,"実施","累計","授業",null,"実施","累計",null,null,"実施","累計","授業",null,"実施","累計","授業",null,"実施","累計","授業",null,"実施","累計","授業",null,"実施","累計",null,null,"実施","累計","授業",null,"実施","累計","授業",null,"実施","累計","授業",null,"実施","累計","授業",null,"実施","累計",null,null,"実施","累計","授業",null,"実施","累計","授業",null,"実施","累計","授業",null,"実施","累計","授業",null,"実施","累計",null,null,"実施","累計","授業",null,"実施","累計","授業",null,"実施","累計","授業",null,"実施","累計","授業",null,"実施","累計",null,null,"実施","累計","授業",null,"実施","累計","授業",null,"実施","累計","授業",null,"実施","累計","授業",null,"実施","累計",null,null,"実施","累計","授業",null,"実施","累計","授業",null,"実施","累計","授業",null,"実施","累計","授業",null,"実施","累計",null,null,"実施","累計"]
[null,null,{"$f":"IF(COUNTIF(処理!$J$2:$J$25,0)>0,処理!H2,\"\")","v":""},null,{"$f":"IF(LEN(C30)=0,\"\",(COUNTIF(C$6:V$7,C30)+COUNTIF(C$10:V$10,C30)+COUNTIF(C$13:V$13,C30)+COUNTIF(C$16:V$16,C30)+COUNTIF(C$19:V$19,C30)+COUNTIF(C$22:V$22,C30)+COUNTIF(C$25:V$25,C30))/設定!$D21+IFERROR((COUNTIF(C$6:V$7,処理!$L2)+COUNTIF(C$10:V$10,処理!$L2)+COUNTIF(C$13:V$13,処理!$L2)+COUNTIF(C$16:V$16,処理!$L2)+COUNTIF(C$19:V$19,処理!$L2)+COUNTIF(C$22:V$22,処理!$L2)+COUNTIF(C$25:V$25,処理!$L2))/処理!$M2,0))","v":""},{"$f":"E30","v":""},{"$f":"IF(COUNTIF(処理!$J$2:$J$25,6)>0,処理!H8,\"\")","v":""},null,{"$f":"IF(LEN(G30)=0,\"\",(COUNTIF(C$6:V$7,G30)+COUNTIF(C$10:V$10,G30)+COUNTIF(C$13:V$13,G30)+COUNTIF(C$16:V$16,G30)+COUNTIF(C$19:V$19,G30)+COUNTIF(C$22:V$22,G30)+COUNTIF(C$25:V$25,G30))/設定!$G21+IFERROR((COUNTIF(C$6:V$7,処理!$L8)+COUNTIF(C$10:V$10,処理!$L8)+COUNTIF(C$13:V$13,処理!$L8)+COUNTIF(C$16:V$16,処理!$L8)+COUNTIF(C$19:V$19,処理!$L8)+COUNTIF(C$22:V$22,処理!$L8)+COUNTIF(C$25:V$25,処理!$L8))/処理!$M8,0))","v":""},{"$f":"I30","v":""},{"$f":"IF(COUNTIF(処理!$J$2:$J$25,12)>0,処理!H14,\"\")","v":""},null,{"$f":"IF(LEN(K30)=0,\"\",(COUNTIF(C$6:V$7,K30)+COUNTIF(C$10:V$10,K30)+COUNTIF(C$13:V$13,K30)+COUNTIF(C$16:V$16,K30)+COUNTIF(C$19:V$19,K30)+COUNTIF(C$22:V$22,K30)+COUNTIF(C$25:V$25,K30))/設定!$J21+IFERROR((COUNTIF(C$6:V$7,処理!$L14)+COUNTIF(C$10:V$10,処理!$L14)+COUNTIF(C$13:V$13,処理!$L14)+COUNTIF(C$16:V$16,処理!$L14)+COUNTIF(C$19:V$19,処理!$L14)+COUNTIF(C$22:V$22,処理!$L14)+COUNTIF(C$25:V$25,処理!$L14))/処理!$M14,0))","v":""},{"$f":"M30","v":""},{"$f":"IF(COUNTIF(処理!$J$2:$J$25,18)>0,処理!H20,\"\")","v":""},null,{"$f":"IF(LEN(O30)=0,\"\",(COUNTIF(C$6:V$7,O30)+COUNTIF(C$10:V$10,O30)+COUNTIF(C$13:V$13,O30)+COUNTIF(C$16:V$16,O30)+COUNTIF(C$19:V$19,O30)+COUNTIF(C$22:V$22,O30)+COUNTIF(C$25:V$25,O30))/設定!$M21+IFERROR((COUNTIF(C$6:V$7,処理!$L20)+COUNTIF(C$10:V$10,処理!$L20)+COUNTIF(C$13:V$13,処理!$L20)+COUNTIF(C$16:V$16,処理!$L20)+COUNTIF(C$19:V$19,処理!$L20)+COUNTIF(C$22:V$22,処理!$L20)+COUNTIF(C$25:V$25,処理!$L20))/処理!$M20,0))","v":""},{"$f":"Q30","v":""},"授業合計",null,{"$f":"SUM(E30:E35,I30:I35,M30:M35,Q30:Q35)","v":0},{"$f":"U30","v":0},{"$f":"$C$30","v":""},null,{"$f":"IF(LEN(W30)=0,\"\",(COUNTIF(W$6:AP$7,W30)+COUNTIF(W$10:AP$10,W30)+COUNTIF(W$13:AP$13,W30)+COUNTIF(W$16:AP$16,W30)+COUNTIF(W$19:AP$19,W30)+COUNTIF(W$22:AP$22,W30)+COUNTIF(W$25:AP$25,W30))/設定!$D21+IFERROR((COUNTIF(W$6:AP$7,処理!$L2)+COUNTIF(W$10:AP$10,処理!$L2)+COUNTIF(W$13:AP$13,処理!$L2)+COUNTIF(W$16:AP$16,処理!$L2)+COUNTIF(W$19:AP$19,処理!$L2)+COUNTIF(W$22:AP$22,処理!$L2)+COUNTIF(W$25:AP$25,処理!$L2))/処理!$M2,0))","v":""},{"$f":"IF(LEN(W30)=0,\"\",SUM(F30,Y30))","v":""},{"$f":"$G$30","v":""},null,{"$f":"IF(LEN(AA30)=0,\"\",(COUNTIF(W$6:AP$7,AA30)+COUNTIF(W$10:AP$10,AA30)+COUNTIF(W$13:AP$13,AA30)+COUNTIF(W$16:AP$16,AA30)+COUNTIF(W$19:AP$19,AA30)+COUNTIF(W$22:AP$22,AA30)+COUNTIF(W$25:AP$25,AA30))/設定!$G21+IFERROR((COUNTIF(W$6:AP$7,処理!$L8)+COUNTIF(W$10:AP$10,処理!$L8)+COUNTIF(W$13:AP$13,処理!$L8)+COUNTIF(W$16:AP$16,処理!$L8)+COUNTIF(W$19:AP$19,処理!$L8)+COUNTIF(W$22:AP$22,処理!$L8)+COUNTIF(W$25:AP$25,処理!$L8))/処理!$M8,0))","v":""},{"$f":"IF(LEN(AA30)=0,\"\",SUM(J30,AC30))","v":""},{"$f":"$K$30","v":""},null,{"$f":"IF(LEN(AE30)=0,\"\",(COUNTIF(W$6:AP$7,AE30)+COUNTIF(W$10:AP$10,AE30)+COUNTIF(W$13:AP$13,AE30)+COUNTIF(W$16:AP$16,AE30)+COUNTIF(W$19:AP$19,AE30)+COUNTIF(W$22:AP$22,AE30)+COUNTIF(W$25:AP$25,AE30))/設定!$J21+IFERROR((COUNTIF(W$6:AP$7,処理!$L14)+COUNTIF(W$10:AP$10,処理!$L14)+COUNTIF(W$13:AP$13,処理!$L14)+COUNTIF(W$16:AP$16,処理!$L14)+COUNTIF(W$19:AP$19,処理!$L14)+COUNTIF(W$22:AP$22,処理!$L14)+COUNTIF(W$25:AP$25,処理!$L14))/処理!$M14,0))","v":""},{"$f":"IF(LEN(AE30)=0,\"\",SUM(N30,AG30))","v":""},{"$f":"$O$30","v":""},null,{"$f":"IF(LEN(AI30)=0,\"\",(COUNTIF(W$6:AP$7,AI30)+COUNTIF(W$10:AP$10,AI30)+COUNTIF(W$13:AP$13,AI30)+COUNTIF(W$16:AP$16,AI30)+COUNTIF(W$19:AP$19,AI30)+COUNTIF(W$22:AP$22,AI30)+COUNTIF(W$25:AP$25,AI30))/設定!$M21+IFERROR((COUNTIF(W$6:AP$7,処理!$L20)+COUNTIF(W$10:AP$10,処理!$L20)+COUNTIF(W$13:AP$13,処理!$L20)+COUNTIF(W$16:AP$16,処理!$L20)+COUNTIF(W$19:AP$19,処理!$L20)+COUNTIF(W$22:AP$22,処理!$L20)+COUNTIF(W$25:AP$25,処理!$L20))/処理!$M20,0))","v":""},{"$f":"IF(LEN(AI30)=0,\"\",SUM(R30,AK30))","v":""},"授業合計",null,{"$f":"SUM(Y30:Y35,AC30:AC35,AG30:AG35,AK30:AK35)","v":0},{"$f":"IF(LEN(AM30)=0,\"\",SUM(V30,AO30))","v":0},{"$f":"$C$30","v":""},null,{"$f":"IF(LEN(AQ30)=0,\"\",(COUNTIF(AQ$6:BJ$7,AQ30)+COUNTIF(AQ$10:BJ$10,AQ30)+COUNTIF(AQ$13:BJ$13,AQ30)+COUNTIF(AQ$16:BJ$16,AQ30)+COUNTIF(AQ$19:BJ$19,AQ30)+COUNTIF(AQ$22:BJ$22,AQ30)+COUNTIF(AQ$25:BJ$25,AQ30))/設定!$D21+IFERROR((COUNTIF(AQ$6:BJ$7,処理!$L2)+COUNTIF(AQ$10:BJ$10,処理!$L2)+COUNTIF(AQ$13:BJ$13,処理!$L2)+COUNTIF(AQ$16:BJ$16,処理!$L2)+COUNTIF(AQ$19:BJ$19,処理!$L2)+COUNTIF(AQ$22:BJ$22,処理!$L2)+COUNTIF(AQ$25:BJ$25,処理!$L2))/処理!$M2,0))","v":""},{"$f":"IF(LEN(AQ30)=0,\"\",SUM(Z30,AS30))","v":""},{"$f":"$G$30","v":""},null,{"$f":"IF(LEN(AU30)=0,\"\",(COUNTIF(AQ$6:BJ$7,AU30)+COUNTIF(AQ$10:BJ$10,AU30)+COUNTIF(AQ$13:BJ$13,AU30)+COUNTIF(AQ$16:BJ$16,AU30)+COUNTIF(AQ$19:BJ$19,AU30)+COUNTIF(AQ$22:BJ$22,AU30)+COUNTIF(AQ$25:BJ$25,AU30))/設定!$G21+IFERROR((COUNTIF(AQ$6:BJ$7,処理!$L8)+COUNTIF(AQ$10:BJ$10,処理!$L8)+COUNTIF(AQ$13:BJ$13,処理!$L8)+COUNTIF(AQ$16:BJ$16,処理!$L8)+COUNTIF(AQ$19:BJ$19,処理!$L8)+COUNTIF(AQ$22:BJ$22,処理!$L8)+COUNTIF(AQ$25:BJ$25,処理!$L8))/処理!$M8,0))","v":""},{"$f":"IF(LEN(AU30)=0,\"\",SUM(AD30,AW30))","v":""},{"$f":"$K$30","v":""},null,{"$f":"IF(LEN(AY30)=0,\"\",(COUNTIF(AQ$6:BJ$7,AY30)+COUNTIF(AQ$10:BJ$10,AY30)+COUNTIF(AQ$13:BJ$13,AY30)+COUNTIF(AQ$16:BJ$16,AY30)+COUNTIF(AQ$19:BJ$19,AY30)+COUNTIF(AQ$22:BJ$22,AY30)+COUNTIF(AQ$25:BJ$25,AY30))/設定!$J21+IFERROR((COUNTIF(AQ$6:BJ$7,処理!$L14)+COUNTIF(AQ$10:BJ$10,処理!$L14)+COUNTIF(AQ$13:BJ$13,処理!$L14)+COUNTIF(AQ$16:BJ$16,処理!$L14)+COUNTIF(AQ$19:BJ$19,処理!$L14)+COUNTIF(AQ$22:BJ$22,処理!$L14)+COUNTIF(AQ$25:BJ$25,処理!$L14))/処理!$M14,0))","v":""},{"$f":"IF(LEN(AY30)=0,\"\",SUM(AH30,BA30))","v":""},{"$f":"$O$30","v":""},null,{"$f":"IF(LEN(BC30)=0,\"\",(COUNTIF(AQ$6:BJ$7,BC30)+COUNTIF(AQ$10:BJ$10,BC30)+COUNTIF(AQ$13:BJ$13,BC30)+COUNTIF(AQ$16:BJ$16,BC30)+COUNTIF(AQ$19:BJ$19,BC30)+COUNTIF(AQ$22:BJ$22,BC30)+COUNTIF(AQ$25:BJ$25,BC30))/設定!$M21+IFERROR((COUNTIF(AQ$6:BJ$7,処理!$L20)+COUNTIF(AQ$10:BJ$10,処理!$L20)+COUNTIF(AQ$13:BJ$13,処理!$L20)+COUNTIF(AQ$16:BJ$16,処理!$L20)+COUNTIF(AQ$19:BJ$19,処理!$L20)+COUNTIF(AQ$22:BJ$22,処理!$L20)+COUNTIF(AQ$25:BJ$25,処理!$L20))/処理!$M20,0))","v":""},{"$f":"IF(LEN(BC30)=0,\"\",SUM(AL30,BE30))","v":""},"授業合計",null,{"$f":"SUM(AS30:AS35,AW30:AW35,BA30:BA35,BE30:BE35)","v":0},{"$f":"IF(LEN(BG30)=0,\"\",SUM(AP30,BI30))","v":0},{"$f":"$C$30","v":""},null,{"$f":"IF(LEN(BK30)=0,\"\",(COUNTIF(BK$6:CD$7,BK30)+COUNTIF(BK$10:CD$10,BK30)+COUNTIF(BK$13:CD$13,BK30)+COUNTIF(BK$16:CD$16,BK30)+COUNTIF(BK$19:CD$19,BK30)+COUNTIF(BK$22:CD$22,BK30)+COUNTIF(BK$25:CD$25,BK30))/設定!$D21+IFERROR((COUNTIF(BK$6:CD$7,処理!$L2)+COUNTIF(BK$10:CD$10,処理!$L2)+COUNTIF(BK$13:CD$13,処理!$L2)+COUNTIF(BK$16:CD$16,処理!$L2)+COUNTIF(BK$19:CD$19,処理!$L2)+COUNTIF(BK$22:CD$22,処理!$L2)+COUNTIF(BK$25:CD$25,処理!$L2))/処理!$M2,0))","v":""},{"$f":"IF(LEN(BK30)=0,\"\",SUM(AT30,BM30))","v":""},{"$f":"$G$30","v":""},null,{"$f":"IF(LEN(BO30)=0,\"\",(COUNTIF(BK$6:CD$7,BO30)+COUNTIF(BK$10:CD$10,BO30)+COUNTIF(BK$13:CD$13,BO30)+COUNTIF(BK$16:CD$16,BO30)+COUNTIF(BK$19:CD$19,BO30)+COUNTIF(BK$22:CD$22,BO30)+COUNTIF(BK$25:CD$25,BO30))/設定!$G21+IFERROR((COUNTIF(BK$6:CD$7,処理!$L8)+COUNTIF(BK$10:CD$10,処理!$L8)+COUNTIF(BK$13:CD$13,処理!$L8)+COUNTIF(BK$16:CD$16,処理!$L8)+COUNTIF(BK$19:CD$19,処理!$L8)+COUNTIF(BK$22:CD$22,処理!$L8)+COUNTIF(BK$25:CD$25,処理!$L8))/処理!$M8,0))","v":""},{"$f":"IF(LEN(BO30)=0,\"\",SUM(AX30,BQ30))","v":""},{"$f":"$K$30","v":""},null,{"$f":"IF(LEN(BS30)=0,\"\",(COUNTIF(BK$6:CD$7,BS30)+COUNTIF(BK$10:CD$10,BS30)+COUNTIF(BK$13:CD$13,BS30)+COUNTIF(BK$16:CD$16,BS30)+COUNTIF(BK$19:CD$19,BS30)+COUNTIF(BK$22:CD$22,BS30)+COUNTIF(BK$25:CD$25,BS30))/設定!$J21+IFERROR((COUNTIF(BK$6:CD$7,処理!$L14)+COUNTIF(BK$10:CD$10,処理!$L14)+COUNTIF(BK$13:CD$13,処理!$L14)+COUNTIF(BK$16:CD$16,処理!$L14)+COUNTIF(BK$19:CD$19,処理!$L14)+COUNTIF(BK$22:CD$22,処理!$L14)+COUNTIF(BK$25:CD$25,処理!$L14))/処理!$M14,0))","v":""},{"$f":"IF(LEN(BS30)=0,\"\",SUM(BB30,BU30))","v":""},{"$f":"$O$30","v":""},null,{"$f":"IF(LEN(BW30)=0,\"\",(COUNTIF(BK$6:CD$7,BW30)+COUNTIF(BK$10:CD$10,BW30)+COUNTIF(BK$13:CD$13,BW30)+COUNTIF(BK$16:CD$16,BW30)+COUNTIF(BK$19:CD$19,BW30)+COUNTIF(BK$22:CD$22,BW30)+COUNTIF(BK$25:CD$25,BW30))/設定!$M21+IFERROR((COUNTIF(BK$6:CD$7,処理!$L20)+COUNTIF(BK$10:CD$10,処理!$L20)+COUNTIF(BK$13:CD$13,処理!$L20)+COUNTIF(BK$16:CD$16,処理!$L20)+COUNTIF(BK$19:CD$19,処理!$L20)+COUNTIF(BK$22:CD$22,処理!$L20)+COUNTIF(BK$25:CD$25,処理!$L20))/処理!$M20,0))","v":""},{"$f":"IF(LEN(BW30)=0,\"\",SUM(BF30,BY30))","v":""},"授業合計",null,{"$f":"SUM(BM30:BM35,BQ30:BQ35,BU30:BU35,BY30:BY35)","v":0},{"$f":"IF(LEN(CA30)=0,\"\",SUM(BJ30,CC30))","v":0},{"$f":"$C$30","v":""},null,{"$f":"IF(LEN(CE30)=0,\"\",(COUNTIF(CE$6:CX$7,CE30)+COUNTIF(CE$10:CX$10,CE30)+COUNTIF(CE$13:CX$13,CE30)+COUNTIF(CE$16:CX$16,CE30)+COUNTIF(CE$19:CX$19,CE30)+COUNTIF(CE$22:CX$22,CE30)+COUNTIF(CE$25:CX$25,CE30))/設定!$D21+IFERROR((COUNTIF(CE$6:CX$7,処理!$L2)+COUNTIF(CE$10:CX$10,処理!$L2)+COUNTIF(CE$13:CX$13,処理!$L2)+COUNTIF(CE$16:CX$16,処理!$L2)+COUNTIF(CE$19:CX$19,処理!$L2)+COUNTIF(CE$22:CX$22,処理!$L2)+COUNTIF(CE$25:CX$25,処理!$L2))/処理!$M2,0))","v":""},{"$f":"IF(LEN(CE30)=0,\"\",SUM(BN30,CG30))","v":""},{"$f":"$G$30","v":""},null,{"$f":"IF(LEN(CI30)=0,\"\",(COUNTIF(CE$6:CX$7,CI30)+COUNTIF(CE$10:CX$10,CI30)+COUNTIF(CE$13:CX$13,CI30)+COUNTIF(CE$16:CX$16,CI30)+COUNTIF(CE$19:CX$19,CI30)+COUNTIF(CE$22:CX$22,CI30)+COUNTIF(CE$25:CX$25,CI30))/設定!$G21+IFERROR((COUNTIF(CE$6:CX$7,処理!$L8)+COUNTIF(CE$10:CX$10,処理!$L8)+COUNTIF(CE$13:CX$13,処理!$L8)+COUNTIF(CE$16:CX$16,処理!$L8)+COUNTIF(CE$19:CX$19,処理!$L8)+COUNTIF(CE$22:CX$22,処理!$L8)+COUNTIF(CE$25:CX$25,処理!$L8))/処理!$M8,0))","v":""},{"$f":"IF(LEN(CI30)=0,\"\",SUM(BR30,CK30))","v":""},{"$f":"$K$30","v":""},null,{"$f":"IF(LEN(CM30)=0,\"\",(COUNTIF(CE$6:CX$7,CM30)+COUNTIF(CE$10:CX$10,CM30)+COUNTIF(CE$13:CX$13,CM30)+COUNTIF(CE$16:CX$16,CM30)+COUNTIF(CE$19:CX$19,CM30)+COUNTIF(CE$22:CX$22,CM30)+COUNTIF(CE$25:CX$25,CM30))/設定!$J21+IFERROR((COUNTIF(CE$6:CX$7,処理!$L14)+COUNTIF(CE$10:CX$10,処理!$L14)+COUNTIF(CE$13:CX$13,処理!$L14)+COUNTIF(CE$16:CX$16,処理!$L14)+COUNTIF(CE$19:CX$19,処理!$L14)+COUNTIF(CE$22:CX$22,処理!$L14)+COUNTIF(CE$25:CX$25,処理!$L14))/処理!$M14,0))","v":""},{"$f":"IF(LEN(CM30)=0,\"\",SUM(BV30,CO30))","v":""},{"$f":"$O$30","v":""},null,{"$f":"IF(LEN(CQ30)=0,\"\",(COUNTIF(CE$6:CX$7,CQ30)+COUNTIF(CE$10:CX$10,CQ30)+COUNTIF(CE$13:CX$13,CQ30)+COUNTIF(CE$16:CX$16,CQ30)+COUNTIF(CE$19:CX$19,CQ30)+COUNTIF(CE$22:CX$22,CQ30)+COUNTIF(CE$25:CX$25,CQ30))/設定!$M21+IFERROR((COUNTIF(CE$6:CX$7,処理!$L20)+COUNTIF(CE$10:CX$10,処理!$L20)+COUNTIF(CE$13:CX$13,処理!$L20)+COUNTIF(CE$16:CX$16,処理!$L20)+COUNTIF(CE$19:CX$19,処理!$L20)+COUNTIF(CE$22:CX$22,処理!$L20)+COUNTIF(CE$25:CX$25,処理!$L20))/処理!$M20,0))","v":""},{"$f":"IF(LEN(CQ30)=0,\"\",SUM(BZ30,CS30))","v":""},"授業合計",null,{"$f":"SUM(CG30:CG35,CK30:CK35,CO30:CO35,CS30:CS35)","v":0},{"$f":"IF(LEN(CU30)=0,\"\",SUM(CD30,CW30))","v":0},{"$f":"$C$30","v":""},null,{"$f":"IF(LEN(CY30)=0,\"\",(COUNTIF(CY$6:DR$7,CY30)+COUNTIF(CY$10:DR$10,CY30)+COUNTIF(CY$13:DR$13,CY30)+COUNTIF(CY$16:DR$16,CY30)+COUNTIF(CY$19:DR$19,CY30)+COUNTIF(CY$22:DR$22,CY30)+COUNTIF(CY$25:DR$25,CY30))/設定!$D21+IFERROR((COUNTIF(CY$6:DR$7,処理!$L2)+COUNTIF(CY$10:DR$10,処理!$L2)+COUNTIF(CY$13:DR$13,処理!$L2)+COUNTIF(CY$16:DR$16,処理!$L2)+COUNTIF(CY$19:DR$19,処理!$L2)+COUNTIF(CY$22:DR$22,処理!$L2)+COUNTIF(CY$25:DR$25,処理!$L2))/処理!$M2,0))","v":""},{"$f":"IF(LEN(CY30)=0,\"\",SUM(CH30,DA30))","v":""},{"$f":"$G$30","v":""},null,{"$f":"IF(LEN(DC30)=0,\"\",(COUNTIF(CY$6:DR$7,DC30)+COUNTIF(CY$10:DR$10,DC30)+COUNTIF(CY$13:DR$13,DC30)+COUNTIF(CY$16:DR$16,DC30)+COUNTIF(CY$19:DR$19,DC30)+COUNTIF(CY$22:DR$22,DC30)+COUNTIF(CY$25:DR$25,DC30))/設定!$G21+IFERROR((COUNTIF(CY$6:DR$7,処理!$L8)+COUNTIF(CY$10:DR$10,処理!$L8)+COUNTIF(CY$13:DR$13,処理!$L8)+COUNTIF(CY$16:DR$16,処理!$L8)+COUNTIF(CY$19:DR$19,処理!$L8)+COUNTIF(CY$22:DR$22,処理!$L8)+COUNTIF(CY$25:DR$25,処理!$L8))/処理!$M8,0))","v":""},{"$f":"IF(LEN(DC30)=0,\"\",SUM(CL30,DE30))","v":""},{"$f":"$K$30","v":""},null,{"$f":"IF(LEN(DG30)=0,\"\",(COUNTIF(CY$6:DR$7,DG30)+COUNTIF(CY$10:DR$10,DG30)+COUNTIF(CY$13:DR$13,DG30)+COUNTIF(CY$16:DR$16,DG30)+COUNTIF(CY$19:DR$19,DG30)+COUNTIF(CY$22:DR$22,DG30)+COUNTIF(CY$25:DR$25,DG30))/設定!$J21+IFERROR((COUNTIF(CY$6:DR$7,処理!$L14)+COUNTIF(CY$10:DR$10,処理!$L14)+COUNTIF(CY$13:DR$13,処理!$L14)+COUNTIF(CY$16:DR$16,処理!$L14)+COUNTIF(CY$19:DR$19,処理!$L14)+COUNTIF(CY$22:DR$22,処理!$L14)+COUNTIF(CY$25:DR$25,処理!$L14))/処理!$M14,0))","v":""},{"$f":"IF(LEN(DG30)=0,\"\",SUM(CP30,DI30))","v":""},{"$f":"$O$30","v":""},null,{"$f":"IF(LEN(DK30)=0,\"\",(COUNTIF(CY$6:DR$7,DK30)+COUNTIF(CY$10:DR$10,DK30)+COUNTIF(CY$13:DR$13,DK30)+COUNTIF(CY$16:DR$16,DK30)+COUNTIF(CY$19:DR$19,DK30)+COUNTIF(CY$22:DR$22,DK30)+COUNTIF(CY$25:DR$25,DK30))/設定!$M21+IFERROR((COUNTIF(CY$6:DR$7,処理!$L20)+COUNTIF(CY$10:DR$10,処理!$L20)+COUNTIF(CY$13:DR$13,処理!$L20)+COUNTIF(CY$16:DR$16,処理!$L20)+COUNTIF(CY$19:DR$19,処理!$L20)+COUNTIF(CY$22:DR$22,処理!$L20)+COUNTIF(CY$25:DR$25,処理!$L20))/処理!$M20,0))","v":""},{"$f":"IF(LEN(DK30)=0,\"\",SUM(CT30,DM30))","v":""},"授業合計",null,{"$f":"SUM(DA30:DA35,DE30:DE35,DI30:DI35,DM30:DM35)","v":0},{"$f":"IF(LEN(DO30)=0,\"\",SUM(CX30,DQ30))","v":0},{"$f":"$C$30","v":""},null,{"$f":"IF(LEN(DS30)=0,\"\",(COUNTIF(DS$6:EL$7,DS30)+COUNTIF(DS$10:EL$10,DS30)+COUNTIF(DS$13:EL$13,DS30)+COUNTIF(DS$16:EL$16,DS30)+COUNTIF(DS$19:EL$19,DS30)+COUNTIF(DS$22:EL$22,DS30)+COUNTIF(DS$25:EL$25,DS30))/設定!$D21+IFERROR((COUNTIF(DS$6:EL$7,処理!$L2)+COUNTIF(DS$10:EL$10,処理!$L2)+COUNTIF(DS$13:EL$13,処理!$L2)+COUNTIF(DS$16:EL$16,処理!$L2)+COUNTIF(DS$19:EL$19,処理!$L2)+COUNTIF(DS$22:EL$22,処理!$L2)+COUNTIF(DS$25:EL$25,処理!$L2))/処理!$M2,0))","v":""},{"$f":"IF(LEN(DS30)=0,\"\",SUM(DB30,DU30))","v":""},{"$f":"$G$30","v":""},null,{"$f":"IF(LEN(DW30)=0,\"\",(COUNTIF(DS$6:EL$7,DW30)+COUNTIF(DS$10:EL$10,DW30)+COUNTIF(DS$13:EL$13,DW30)+COUNTIF(DS$16:EL$16,DW30)+COUNTIF(DS$19:EL$19,DW30)+COUNTIF(DS$22:EL$22,DW30)+COUNTIF(DS$25:EL$25,DW30))/設定!$G21+IFERROR((COUNTIF(DS$6:EL$7,処理!$L8)+COUNTIF(DS$10:EL$10,処理!$L8)+COUNTIF(DS$13:EL$13,処理!$L8)+COUNTIF(DS$16:EL$16,処理!$L8)+COUNTIF(DS$19:EL$19,処理!$L8)+COUNTIF(DS$22:EL$22,処理!$L8)+COUNTIF(DS$25:EL$25,処理!$L8))/処理!$M8,0))","v":""},{"$f":"IF(LEN(DW30)=0,\"\",SUM(DF30,DY30))","v":""},{"$f":"$K$30","v":""},null,{"$f":"IF(LEN(EA30)=0,\"\",(COUNTIF(DS$6:EL$7,EA30)+COUNTIF(DS$10:EL$10,EA30)+COUNTIF(DS$13:EL$13,EA30)+COUNTIF(DS$16:EL$16,EA30)+COUNTIF(DS$19:EL$19,EA30)+COUNTIF(DS$22:EL$22,EA30)+COUNTIF(DS$25:EL$25,EA30))/設定!$J21+IFERROR((COUNTIF(DS$6:EL$7,処理!$L14)+COUNTIF(DS$10:EL$10,処理!$L14)+COUNTIF(DS$13:EL$13,処理!$L14)+COUNTIF(DS$16:EL$16,処理!$L14)+COUNTIF(DS$19:EL$19,処理!$L14)+COUNTIF(DS$22:EL$22,処理!$L14)+COUNTIF(DS$25:EL$25,処理!$L14))/処理!$M14,0))","v":""},{"$f":"IF(LEN(EA30)=0,\"\",SUM(DJ30,EC30))","v":""},{"$f":"$O$30","v":""},null,{"$f":"IF(LEN(EE30)=0,\"\",(COUNTIF(DS$6:EL$7,EE30)+COUNTIF(DS$10:EL$10,EE30)+COUNTIF(DS$13:EL$13,EE30)+COUNTIF(DS$16:EL$16,EE30)+COUNTIF(DS$19:EL$19,EE30)+COUNTIF(DS$22:EL$22,EE30)+COUNTIF(DS$25:EL$25,EE30))/設定!$M21+IFERROR((COUNTIF(DS$6:EL$7,処理!$L20)+COUNTIF(DS$10:EL$10,処理!$L20)+COUNTIF(DS$13:EL$13,処理!$L20)+COUNTIF(DS$16:EL$16,処理!$L20)+COUNTIF(DS$19:EL$19,処理!$L20)+COUNTIF(DS$22:EL$22,処理!$L20)+COUNTIF(DS$25:EL$25,処理!$L20))/処理!$M20,0))","v":""},{"$f":"IF(LEN(EE30)=0,\"\",SUM(DN30,EG30))","v":""},"授業合計",null,{"$f":"SUM(DU30:DU35,DY30:DY35,EC30:EC35,EG30:EG35)","v":0},{"$f":"IF(LEN(EI30)=0,\"\",SUM(DR30,EK30))","v":0},{"$f":"$C$30","v":""},null,{"$f":"IF(LEN(EM30)=0,\"\",(COUNTIF(EM$6:FF$7,EM30)+COUNTIF(EM$10:FF$10,EM30)+COUNTIF(EM$13:FF$13,EM30)+COUNTIF(EM$16:FF$16,EM30)+COUNTIF(EM$19:FF$19,EM30)+COUNTIF(EM$22:FF$22,EM30)+COUNTIF(EM$25:FF$25,EM30))/設定!$D21+IFERROR((COUNTIF(EM$6:FF$7,処理!$L2)+COUNTIF(EM$10:FF$10,処理!$L2)+COUNTIF(EM$13:FF$13,処理!$L2)+COUNTIF(EM$16:FF$16,処理!$L2)+COUNTIF(EM$19:FF$19,処理!$L2)+COUNTIF(EM$22:FF$22,処理!$L2)+COUNTIF(EM$25:FF$25,処理!$L2))/処理!$M2,0))","v":""},{"$f":"IF(LEN(EM30)=0,\"\",SUM(DV30,EO30))","v":""},{"$f":"$G$30","v":""},null,{"$f":"IF(LEN(EQ30)=0,\"\",(COUNTIF(EM$6:FF$7,EQ30)+COUNTIF(EM$10:FF$10,EQ30)+COUNTIF(EM$13:FF$13,EQ30)+COUNTIF(EM$16:FF$16,EQ30)+COUNTIF(EM$19:FF$19,EQ30)+COUNTIF(EM$22:FF$22,EQ30)+COUNTIF(EM$25:FF$25,EQ30))/設定!$G21+IFERROR((COUNTIF(EM$6:FF$7,処理!$L8)+COUNTIF(EM$10:FF$10,処理!$L8)+COUNTIF(EM$13:FF$13,処理!$L8)+COUNTIF(EM$16:FF$16,処理!$L8)+COUNTIF(EM$19:FF$19,処理!$L8)+COUNTIF(EM$22:FF$22,処理!$L8)+COUNTIF(EM$25:FF$25,処理!$L8))/処理!$M8,0))","v":""},{"$f":"IF(LEN(EQ30)=0,\"\",SUM(DZ30,ES30))","v":""},{"$f":"$K$30","v":""},null,{"$f":"IF(LEN(EU30)=0,\"\",(COUNTIF(EM$6:FF$7,EU30)+COUNTIF(EM$10:FF$10,EU30)+COUNTIF(EM$13:FF$13,EU30)+COUNTIF(EM$16:FF$16,EU30)+COUNTIF(EM$19:FF$19,EU30)+COUNTIF(EM$22:FF$22,EU30)+COUNTIF(EM$25:FF$25,EU30))/設定!$J21+IFERROR((COUNTIF(EM$6:FF$7,処理!$L14)+COUNTIF(EM$10:FF$10,処理!$L14)+COUNTIF(EM$13:FF$13,処理!$L14)+COUNTIF(EM$16:FF$16,処理!$L14)+COUNTIF(EM$19:FF$19,処理!$L14)+COUNTIF(EM$22:FF$22,処理!$L14)+COUNTIF(EM$25:FF$25,処理!$L14))/処理!$M14,0))","v":""},{"$f":"IF(LEN(EU30)=0,\"\",SUM(ED30,EW30))","v":""},{"$f":"$O$30","v":""},null,{"$f":"IF(LEN(EY30)=0,\"\",(COUNTIF(EM$6:FF$7,EY30)+COUNTIF(EM$10:FF$10,EY30)+COUNTIF(EM$13:FF$13,EY30)+COUNTIF(EM$16:FF$16,EY30)+COUNTIF(EM$19:FF$19,EY30)+COUNTIF(EM$22:FF$22,EY30)+COUNTIF(EM$25:FF$25,EY30))/設定!$M21+IFERROR((COUNTIF(EM$6:FF$7,処理!$L20)+COUNTIF(EM$10:FF$10,処理!$L20)+COUNTIF(EM$13:FF$13,処理!$L20)+COUNTIF(EM$16:FF$16,処理!$L20)+COUNTIF(EM$19:FF$19,処理!$L20)+COUNTIF(EM$22:FF$22,処理!$L20)+COUNTIF(EM$25:FF$25,処理!$L20))/処理!$M20,0))","v":""},{"$f":"IF(LEN(EY30)=0,\"\",SUM(EH30,FA30))","v":""},"授業合計",null,{"$f":"SUM(EO30:EO35,ES30:ES35,EW30:EW35,FA30:FA35)","v":0},{"$f":"IF(LEN(FC30)=0,\"\",SUM(EL30,FE30))","v":0},{"$f":"$C$30","v":""},null,{"$f":"IF(LEN(FG30)=0,\"\",(COUNTIF(FG$6:FZ$7,FG30)+COUNTIF(FG$10:FZ$10,FG30)+COUNTIF(FG$13:FZ$13,FG30)+COUNTIF(FG$16:FZ$16,FG30)+COUNTIF(FG$19:FZ$19,FG30)+COUNTIF(FG$22:FZ$22,FG30)+COUNTIF(FG$25:FZ$25,FG30))/設定!$D21+IFERROR((COUNTIF(FG$6:FZ$7,処理!$L2)+COUNTIF(FG$10:FZ$10,処理!$L2)+COUNTIF(FG$13:FZ$13,処理!$L2)+COUNTIF(FG$16:FZ$16,処理!$L2)+COUNTIF(FG$19:FZ$19,処理!$L2)+COUNTIF(FG$22:FZ$22,処理!$L2)+COUNTIF(FG$25:FZ$25,処理!$L2))/処理!$M2,0))","v":""},{"$f":"IF(LEN(FG30)=0,\"\",SUM(EP30,FI30))","v":""},{"$f":"$G$30","v":""},null,{"$f":"IF(LEN(FK30)=0,\"\",(COUNTIF(FG$6:FZ$7,FK30)+COUNTIF(FG$10:FZ$10,FK30)+COUNTIF(FG$13:FZ$13,FK30)+COUNTIF(FG$16:FZ$16,FK30)+COUNTIF(FG$19:FZ$19,FK30)+COUNTIF(FG$22:FZ$22,FK30)+COUNTIF(FG$25:FZ$25,FK30))/設定!$G21+IFERROR((COUNTIF(FG$6:FZ$7,処理!$L8)+COUNTIF(FG$10:FZ$10,処理!$L8)+COUNTIF(FG$13:FZ$13,処理!$L8)+COUNTIF(FG$16:FZ$16,処理!$L8)+COUNTIF(FG$19:FZ$19,処理!$L8)+COUNTIF(FG$22:FZ$22,処理!$L8)+COUNTIF(FG$25:FZ$25,処理!$L8))/処理!$M8,0))","v":""},{"$f":"IF(LEN(FK30)=0,\"\",SUM(ET30,FM30))","v":""},{"$f":"$K$30","v":""},null,{"$f":"IF(LEN(FO30)=0,\"\",(COUNTIF(FG$6:FZ$7,FO30)+COUNTIF(FG$10:FZ$10,FO30)+COUNTIF(FG$13:FZ$13,FO30)+COUNTIF(FG$16:FZ$16,FO30)+COUNTIF(FG$19:FZ$19,FO30)+COUNTIF(FG$22:FZ$22,FO30)+COUNTIF(FG$25:FZ$25,FO30))/設定!$J21+IFERROR((COUNTIF(FG$6:FZ$7,処理!$L14)+COUNTIF(FG$10:FZ$10,処理!$L14)+COUNTIF(FG$13:FZ$13,処理!$L14)+COUNTIF(FG$16:FZ$16,処理!$L14)+COUNTIF(FG$19:FZ$19,処理!$L14)+COUNTIF(FG$22:FZ$22,処理!$L14)+COUNTIF(FG$25:FZ$25,処理!$L14))/処理!$M14,0))","v":""},{"$f":"IF(LEN(FO30)=0,\"\",SUM(EX30,FQ30))","v":""},{"$f":"$O$30","v":""},null,{"$f":"IF(LEN(FS30)=0,\"\",(COUNTIF(FG$6:FZ$7,FS30)+COUNTIF(FG$10:FZ$10,FS30)+COUNTIF(FG$13:FZ$13,FS30)+COUNTIF(FG$16:FZ$16,FS30)+COUNTIF(FG$19:FZ$19,FS30)+COUNTIF(FG$22:FZ$22,FS30)+COUNTIF(FG$25:FZ$25,FS30))/設定!$M21+IFERROR((COUNTIF(FG$6:FZ$7,処理!$L20)+COUNTIF(FG$10:FZ$10,処理!$L20)+COUNTIF(FG$13:FZ$13,処理!$L20)+COUNTIF(FG$16:FZ$16,処理!$L20)+COUNTIF(FG$19:FZ$19,処理!$L20)+COUNTIF(FG$22:FZ$22,処理!$L20)+COUNTIF(FG$25:FZ$25,処理!$L20))/処理!$M20,0))","v":""},{"$f":"IF(LEN(FS30)=0,\"\",SUM(FB30,FU30))","v":""},"授業合計",null,{"$f":"SUM(FI30:FI35,FM30:FM35,FQ30:FQ35,FU30:FU35)","v":0},{"$f":"IF(LEN(FW30)=0,\"\",SUM(FF30,FY30))","v":0},{"$f":"$C$30","v":""},null,{"$f":"IF(LEN(GA30)=0,\"\",(COUNTIF(GA$6:GT$7,GA30)+COUNTIF(GA$10:GT$10,GA30)+COUNTIF(GA$13:GT$13,GA30)+COUNTIF(GA$16:GT$16,GA30)+COUNTIF(GA$19:GT$19,GA30)+COUNTIF(GA$22:GT$22,GA30)+COUNTIF(GA$25:GT$25,GA30))/設定!$D21+IFERROR((COUNTIF(GA$6:GT$7,処理!$L2)+COUNTIF(GA$10:GT$10,処理!$L2)+COUNTIF(GA$13:GT$13,処理!$L2)+COUNTIF(GA$16:GT$16,処理!$L2)+COUNTIF(GA$19:GT$19,処理!$L2)+COUNTIF(GA$22:GT$22,処理!$L2)+COUNTIF(GA$25:GT$25,処理!$L2))/処理!$M2,0))","v":""},{"$f":"IF(LEN(GA30)=0,\"\",SUM(FJ30,GC30))","v":""},{"$f":"$G$30","v":""},null,{"$f":"IF(LEN(GE30)=0,\"\",(COUNTIF(GA$6:GT$7,GE30)+COUNTIF(GA$10:GT$10,GE30)+COUNTIF(GA$13:GT$13,GE30)+COUNTIF(GA$16:GT$16,GE30)+COUNTIF(GA$19:GT$19,GE30)+COUNTIF(GA$22:GT$22,GE30)+COUNTIF(GA$25:GT$25,GE30))/設定!$G21+IFERROR((COUNTIF(GA$6:GT$7,処理!$L8)+COUNTIF(GA$10:GT$10,処理!$L8)+COUNTIF(GA$13:GT$13,処理!$L8)+COUNTIF(GA$16:GT$16,処理!$L8)+COUNTIF(GA$19:GT$19,処理!$L8)+COUNTIF(GA$22:GT$22,処理!$L8)+COUNTIF(GA$25:GT$25,処理!$L8))/処理!$M8,0))","v":""},{"$f":"IF(LEN(GE30)=0,\"\",SUM(FN30,GG30))","v":""},{"$f":"$K$30","v":""},null,{"$f":"IF(LEN(GI30)=0,\"\",(COUNTIF(GA$6:GT$7,GI30)+COUNTIF(GA$10:GT$10,GI30)+COUNTIF(GA$13:GT$13,GI30)+COUNTIF(GA$16:GT$16,GI30)+COUNTIF(GA$19:GT$19,GI30)+COUNTIF(GA$22:GT$22,GI30)+COUNTIF(GA$25:GT$25,GI30))/設定!$J21+IFERROR((COUNTIF(GA$6:GT$7,処理!$L14)+COUNTIF(GA$10:GT$10,処理!$L14)+COUNTIF(GA$13:GT$13,処理!$L14)+COUNTIF(GA$16:GT$16,処理!$L14)+COUNTIF(GA$19:GT$19,処理!$L14)+COUNTIF(GA$22:GT$22,処理!$L14)+COUNTIF(GA$25:GT$25,処理!$L14))/処理!$M14,0))","v":""},{"$f":"IF(LEN(GI30)=0,\"\",SUM(FR30,GK30))","v":""},{"$f":"$O$30","v":""},null,{"$f":"IF(LEN(GM30)=0,\"\",(COUNTIF(GA$6:GT$7,GM30)+COUNTIF(GA$10:GT$10,GM30)+COUNTIF(GA$13:GT$13,GM30)+COUNTIF(GA$16:GT$16,GM30)+COUNTIF(GA$19:GT$19,GM30)+COUNTIF(GA$22:GT$22,GM30)+COUNTIF(GA$25:GT$25,GM30))/設定!$M21+IFERROR((COUNTIF(GA$6:GT$7,処理!$L20)+COUNTIF(GA$10:GT$10,処理!$L20)+COUNTIF(GA$13:GT$13,処理!$L20)+COUNTIF(GA$16:GT$16,処理!$L20)+COUNTIF(GA$19:GT$19,処理!$L20)+COUNTIF(GA$22:GT$22,処理!$L20)+COUNTIF(GA$25:GT$25,処理!$L20))/処理!$M20,0))","v":""},{"$f":"IF(LEN(GM30)=0,\"\",SUM(FV30,GO30))","v":""},"授業合計",null,{"$f":"SUM(GC30:GC35,GG30:GG35,GK30:GK35,GO30:GO35)","v":0},{"$f":"IF(LEN(GQ30)=0,\"\",SUM(FZ30,GS30))","v":0},{"$f":"$C$30","v":""},null,{"$f":"IF(LEN(GU30)=0,\"\",(COUNTIF(GU$6:HN$7,GU30)+COUNTIF(GU$10:HN$10,GU30)+COUNTIF(GU$13:HN$13,GU30)+COUNTIF(GU$16:HN$16,GU30)+COUNTIF(GU$19:HN$19,GU30)+COUNTIF(GU$22:HN$22,GU30)+COUNTIF(GU$25:HN$25,GU30))/設定!$D21+IFERROR((COUNTIF(GU$6:HN$7,処理!$L2)+COUNTIF(GU$10:HN$10,処理!$L2)+COUNTIF(GU$13:HN$13,処理!$L2)+COUNTIF(GU$16:HN$16,処理!$L2)+COUNTIF(GU$19:HN$19,処理!$L2)+COUNTIF(GU$22:HN$22,処理!$L2)+COUNTIF(GU$25:HN$25,処理!$L2))/処理!$M2,0))","v":""},{"$f":"IF(LEN(GU30)=0,\"\",SUM(GD30,GW30))","v":""},{"$f":"$G$30","v":""},null,{"$f":"IF(LEN(GY30)=0,\"\",(COUNTIF(GU$6:HN$7,GY30)+COUNTIF(GU$10:HN$10,GY30)+COUNTIF(GU$13:HN$13,GY30)+COUNTIF(GU$16:HN$16,GY30)+COUNTIF(GU$19:HN$19,GY30)+COUNTIF(GU$22:HN$22,GY30)+COUNTIF(GU$25:HN$25,GY30))/設定!$G21+IFERROR((COUNTIF(GU$6:HN$7,処理!$L8)+COUNTIF(GU$10:HN$10,処理!$L8)+COUNTIF(GU$13:HN$13,処理!$L8)+COUNTIF(GU$16:HN$16,処理!$L8)+COUNTIF(GU$19:HN$19,処理!$L8)+COUNTIF(GU$22:HN$22,処理!$L8)+COUNTIF(GU$25:HN$25,処理!$L8))/処理!$M8,0))","v":""},{"$f":"IF(LEN(GY30)=0,\"\",SUM(GH30,HA30))","v":""},{"$f":"$K$30","v":""},null,{"$f":"IF(LEN(HC30)=0,\"\",(COUNTIF(GU$6:HN$7,HC30)+COUNTIF(GU$10:HN$10,HC30)+COUNTIF(GU$13:HN$13,HC30)+COUNTIF(GU$16:HN$16,HC30)+COUNTIF(GU$19:HN$19,HC30)+COUNTIF(GU$22:HN$22,HC30)+COUNTIF(GU$25:HN$25,HC30))/設定!$J21+IFERROR((COUNTIF(GU$6:HN$7,処理!$L14)+COUNTIF(GU$10:HN$10,処理!$L14)+COUNTIF(GU$13:HN$13,処理!$L14)+COUNTIF(GU$16:HN$16,処理!$L14)+COUNTIF(GU$19:HN$19,処理!$L14)+COUNTIF(GU$22:HN$22,処理!$L14)+COUNTIF(GU$25:HN$25,処理!$L14))/処理!$M14,0))","v":""},{"$f":"IF(LEN(HC30)=0,\"\",SUM(GL30,HE30))","v":""},{"$f":"$O$30","v":""},null,{"$f":"IF(LEN(HG30)=0,\"\",(COUNTIF(GU$6:HN$7,HG30)+COUNTIF(GU$10:HN$10,HG30)+COUNTIF(GU$13:HN$13,HG30)+COUNTIF(GU$16:HN$16,HG30)+COUNTIF(GU$19:HN$19,HG30)+COUNTIF(GU$22:HN$22,HG30)+COUNTIF(GU$25:HN$25,HG30))/設定!$M21+IFERROR((COUNTIF(GU$6:HN$7,処理!$L20)+COUNTIF(GU$10:HN$10,処理!$L20)+COUNTIF(GU$13:HN$13,処理!$L20)+COUNTIF(GU$16:HN$16,処理!$L20)+COUNTIF(GU$19:HN$19,処理!$L20)+COUNTIF(GU$22:HN$22,処理!$L20)+COUNTIF(GU$25:HN$25,処理!$L20))/処理!$M20,0))","v":""},{"$f":"IF(LEN(HG30)=0,\"\",SUM(GP30,HI30))","v":""},"授業合計",null,{"$f":"SUM(GW30:GW35,HA30:HA35,HE30:HE35,HI30:HI35)","v":0},{"$f":"IF(LEN(HK30)=0,\"\",SUM(GT30,HM30))","v":0},{"$f":"$C$30","v":""},null,{"$f":"IF(LEN(HO30)=0,\"\",(COUNTIF(HO$6:IH$7,HO30)+COUNTIF(HO$10:IH$10,HO30)+COUNTIF(HO$13:IH$13,HO30)+COUNTIF(HO$16:IH$16,HO30)+COUNTIF(HO$19:IH$19,HO30)+COUNTIF(HO$22:IH$22,HO30)+COUNTIF(HO$25:IH$25,HO30))/設定!$D21+IFERROR((COUNTIF(HO$6:IH$7,処理!$L2)+COUNTIF(HO$10:IH$10,処理!$L2)+COUNTIF(HO$13:IH$13,処理!$L2)+COUNTIF(HO$16:IH$16,処理!$L2)+COUNTIF(HO$19:IH$19,処理!$L2)+COUNTIF(HO$22:IH$22,処理!$L2)+COUNTIF(HO$25:IH$25,処理!$L2))/処理!$M2,0))","v":""},{"$f":"IF(LEN(HO30)=0,\"\",SUM(GX30,HQ30))","v":""},{"$f":"$G$30","v":""},null,{"$f":"IF(LEN(HS30)=0,\"\",(COUNTIF(HO$6:IH$7,HS30)+COUNTIF(HO$10:IH$10,HS30)+COUNTIF(HO$13:IH$13,HS30)+COUNTIF(HO$16:IH$16,HS30)+COUNTIF(HO$19:IH$19,HS30)+COUNTIF(HO$22:IH$22,HS30)+COUNTIF(HO$25:IH$25,HS30))/設定!$G21+IFERROR((COUNTIF(HO$6:IH$7,処理!$L8)+COUNTIF(HO$10:IH$10,処理!$L8)+COUNTIF(HO$13:IH$13,処理!$L8)+COUNTIF(HO$16:IH$16,処理!$L8)+COUNTIF(HO$19:IH$19,処理!$L8)+COUNTIF(HO$22:IH$22,処理!$L8)+COUNTIF(HO$25:IH$25,処理!$L8))/処理!$M8,0))","v":""},{"$f":"IF(LEN(HS30)=0,\"\",SUM(HB30,HU30))","v":""},{"$f":"$K$30","v":""},null,{"$f":"IF(LEN(HW30)=0,\"\",(COUNTIF(HO$6:IH$7,HW30)+COUNTIF(HO$10:IH$10,HW30)+COUNTIF(HO$13:IH$13,HW30)+COUNTIF(HO$16:IH$16,HW30)+COUNTIF(HO$19:IH$19,HW30)+COUNTIF(HO$22:IH$22,HW30)+COUNTIF(HO$25:IH$25,HW30))/設定!$J21+IFERROR((COUNTIF(HO$6:IH$7,処理!$L14)+COUNTIF(HO$10:IH$10,処理!$L14)+COUNTIF(HO$13:IH$13,処理!$L14)+COUNTIF(HO$16:IH$16,処理!$L14)+COUNTIF(HO$19:IH$19,処理!$L14)+COUNTIF(HO$22:IH$22,処理!$L14)+COUNTIF(HO$25:IH$25,処理!$L14))/処理!$M14,0))","v":""},{"$f":"IF(LEN(HW30)=0,\"\",SUM(HF30,HY30))","v":""},{"$f":"$O$30","v":""},null,{"$f":"IF(LEN(IA30)=0,\"\",(COUNTIF(HO$6:IH$7,IA30)+COUNTIF(HO$10:IH$10,IA30)+COUNTIF(HO$13:IH$13,IA30)+COUNTIF(HO$16:IH$16,IA30)+COUNTIF(HO$19:IH$19,IA30)+COUNTIF(HO$22:IH$22,IA30)+COUNTIF(HO$25:IH$25,IA30))/設定!$M21+IFERROR((COUNTIF(HO$6:IH$7,処理!$L20)+COUNTIF(HO$10:IH$10,処理!$L20)+COUNTIF(HO$13:IH$13,処理!$L20)+COUNTIF(HO$16:IH$16,処理!$L20)+COUNTIF(HO$19:IH$19,処理!$L20)+COUNTIF(HO$22:IH$22,処理!$L20)+COUNTIF(HO$25:IH$25,処理!$L20))/処理!$M20,0))","v":""},{"$f":"IF(LEN(IA30)=0,\"\",SUM(HJ30,IC30))","v":""},"授業合計",null,{"$f":"SUM(HQ30:HQ35,HU30:HU35,HY30:HY35,IC30:IC35)","v":0},{"$f":"IF(LEN(IE30)=0,\"\",SUM(HN30,IG30))","v":0},{"$f":"$C$30","v":""},null,{"$f":"IF(LEN(II30)=0,\"\",(COUNTIF(II$6:JB$7,II30)+COUNTIF(II$10:JB$10,II30)+COUNTIF(II$13:JB$13,II30)+COUNTIF(II$16:JB$16,II30)+COUNTIF(II$19:JB$19,II30)+COUNTIF(II$22:JB$22,II30)+COUNTIF(II$25:JB$25,II30))/設定!$D21+IFERROR((COUNTIF(II$6:JB$7,処理!$L2)+COUNTIF(II$10:JB$10,処理!$L2)+COUNTIF(II$13:JB$13,処理!$L2)+COUNTIF(II$16:JB$16,処理!$L2)+COUNTIF(II$19:JB$19,処理!$L2)+COUNTIF(II$22:JB$22,処理!$L2)+COUNTIF(II$25:JB$25,処理!$L2))/処理!$M2,0))","v":""},{"$f":"IF(LEN(II30)=0,\"\",SUM(HR30,IK30))","v":""},{"$f":"$G$30","v":""},null,{"$f":"IF(LEN(IM30)=0,\"\",(COUNTIF(II$6:JB$7,IM30)+COUNTIF(II$10:JB$10,IM30)+COUNTIF(II$13:JB$13,IM30)+COUNTIF(II$16:JB$16,IM30)+COUNTIF(II$19:JB$19,IM30)+COUNTIF(II$22:JB$22,IM30)+COUNTIF(II$25:JB$25,IM30))/設定!$G21+IFERROR((COUNTIF(II$6:JB$7,処理!$L8)+COUNTIF(II$10:JB$10,処理!$L8)+COUNTIF(II$13:JB$13,処理!$L8)+COUNTIF(II$16:JB$16,処理!$L8)+COUNTIF(II$19:JB$19,処理!$L8)+COUNTIF(II$22:JB$22,処理!$L8)+COUNTIF(II$25:JB$25,処理!$L8))/処理!$M8,0))","v":""},{"$f":"IF(LEN(IM30)=0,\"\",SUM(HV30,IO30))","v":""},{"$f":"$K$30","v":""},null,{"$f":"IF(LEN(IQ30)=0,\"\",(COUNTIF(II$6:JB$7,IQ30)+COUNTIF(II$10:JB$10,IQ30)+COUNTIF(II$13:JB$13,IQ30)+COUNTIF(II$16:JB$16,IQ30)+COUNTIF(II$19:JB$19,IQ30)+COUNTIF(II$22:JB$22,IQ30)+COUNTIF(II$25:JB$25,IQ30))/設定!$J21+IFERROR((COUNTIF(II$6:JB$7,処理!$L14)+COUNTIF(II$10:JB$10,処理!$L14)+COUNTIF(II$13:JB$13,処理!$L14)+COUNTIF(II$16:JB$16,処理!$L14)+COUNTIF(II$19:JB$19,処理!$L14)+COUNTIF(II$22:JB$22,処理!$L14)+COUNTIF(II$25:JB$25,処理!$L14))/処理!$M14,0))","v":""},{"$f":"IF(LEN(IQ30)=0,\"\",SUM(HZ30,IS30))","v":""},{"$f":"$O$30","v":""},null,{"$f":"IF(LEN(IU30)=0,\"\",(COUNTIF(II$6:JB$7,IU30)+COUNTIF(II$10:JB$10,IU30)+COUNTIF(II$13:JB$13,IU30)+COUNTIF(II$16:JB$16,IU30)+COUNTIF(II$19:JB$19,IU30)+COUNTIF(II$22:JB$22,IU30)+COUNTIF(II$25:JB$25,IU30))/設定!$M21+IFERROR((COUNTIF(II$6:JB$7,処理!$L20)+COUNTIF(II$10:JB$10,処理!$L20)+COUNTIF(II$13:JB$13,処理!$L20)+COUNTIF(II$16:JB$16,処理!$L20)+COUNTIF(II$19:JB$19,処理!$L20)+COUNTIF(II$22:JB$22,処理!$L20)+COUNTIF(II$25:JB$25,処理!$L20))/処理!$M20,0))","v":""},{"$f":"IF(LEN(IU30)=0,\"\",SUM(ID30,IW30))","v":""},"授業合計",null,{"$f":"SUM(IK30:IK35,IO30:IO35,IS30:IS35,IW30:IW35)","v":0},{"$f":"IF(LEN(IY30)=0,\"\",SUM(IH30,JA30))","v":0},{"$f":"$C$30","v":""},null,{"$f":"IF(LEN(JC30)=0,\"\",(COUNTIF(JC$6:JV$7,JC30)+COUNTIF(JC$10:JV$10,JC30)+COUNTIF(JC$13:JV$13,JC30)+COUNTIF(JC$16:JV$16,JC30)+COUNTIF(JC$19:JV$19,JC30)+COUNTIF(JC$22:JV$22,JC30)+COUNTIF(JC$25:JV$25,JC30))/設定!$D21+IFERROR((COUNTIF(JC$6:JV$7,処理!$L2)+COUNTIF(JC$10:JV$10,処理!$L2)+COUNTIF(JC$13:JV$13,処理!$L2)+COUNTIF(JC$16:JV$16,処理!$L2)+COUNTIF(JC$19:JV$19,処理!$L2)+COUNTIF(JC$22:JV$22,処理!$L2)+COUNTIF(JC$25:JV$25,処理!$L2))/処理!$M2,0))","v":""},{"$f":"IF(LEN(JC30)=0,\"\",SUM(IL30,JE30))","v":""},{"$f":"$G$30","v":""},null,{"$f":"IF(LEN(JG30)=0,\"\",(COUNTIF(JC$6:JV$7,JG30)+COUNTIF(JC$10:JV$10,JG30)+COUNTIF(JC$13:JV$13,JG30)+COUNTIF(JC$16:JV$16,JG30)+COUNTIF(JC$19:JV$19,JG30)+COUNTIF(JC$22:JV$22,JG30)+COUNTIF(JC$25:JV$25,JG30))/設定!$G21+IFERROR((COUNTIF(JC$6:JV$7,処理!$L8)+COUNTIF(JC$10:JV$10,処理!$L8)+COUNTIF(JC$13:JV$13,処理!$L8)+COUNTIF(JC$16:JV$16,処理!$L8)+COUNTIF(JC$19:JV$19,処理!$L8)+COUNTIF(JC$22:JV$22,処理!$L8)+COUNTIF(JC$25:JV$25,処理!$L8))/処理!$M8,0))","v":""},{"$f":"IF(LEN(JG30)=0,\"\",SUM(IP30,JI30))","v":""},{"$f":"$K$30","v":""},null,{"$f":"IF(LEN(JK30)=0,\"\",(COUNTIF(JC$6:JV$7,JK30)+COUNTIF(JC$10:JV$10,JK30)+COUNTIF(JC$13:JV$13,JK30)+COUNTIF(JC$16:JV$16,JK30)+COUNTIF(JC$19:JV$19,JK30)+COUNTIF(JC$22:JV$22,JK30)+COUNTIF(JC$25:JV$25,JK30))/設定!$J21+IFERROR((COUNTIF(JC$6:JV$7,処理!$L14)+COUNTIF(JC$10:JV$10,処理!$L14)+COUNTIF(JC$13:JV$13,処理!$L14)+COUNTIF(JC$16:JV$16,処理!$L14)+COUNTIF(JC$19:JV$19,処理!$L14)+COUNTIF(JC$22:JV$22,処理!$L14)+COUNTIF(JC$25:JV$25,処理!$L14))/処理!$M14,0))","v":""},{"$f":"IF(LEN(JK30)=0,\"\",SUM(IT30,JM30))","v":""},{"$f":"$O$30","v":""},null,{"$f":"IF(LEN(JO30)=0,\"\",(COUNTIF(JC$6:JV$7,JO30)+COUNTIF(JC$10:JV$10,JO30)+COUNTIF(JC$13:JV$13,JO30)+COUNTIF(JC$16:JV$16,JO30)+COUNTIF(JC$19:JV$19,JO30)+COUNTIF(JC$22:JV$22,JO30)+COUNTIF(JC$25:JV$25,JO30))/設定!$M21+IFERROR((COUNTIF(JC$6:JV$7,処理!$L20)+COUNTIF(JC$10:JV$10,処理!$L20)+COUNTIF(JC$13:JV$13,処理!$L20)+COUNTIF(JC$16:JV$16,処理!$L20)+COUNTIF(JC$19:JV$19,処理!$L20)+COUNTIF(JC$22:JV$22,処理!$L20)+COUNTIF(JC$25:JV$25,処理!$L20))/処理!$M20,0))","v":""},{"$f":"IF(LEN(JO30)=0,\"\",SUM(IX30,JQ30))","v":""},"授業合計",null,{"$f":"SUM(JE30:JE35,JI30:JI35,JM30:JM35,JQ30:JQ35)","v":0},{"$f":"IF(LEN(JS30)=0,\"\",SUM(JB30,JU30))","v":0},{"$f":"$C$30","v":""},null,{"$f":"IF(LEN(JW30)=0,\"\",(COUNTIF(JW$6:KP$7,JW30)+COUNTIF(JW$10:KP$10,JW30)+COUNTIF(JW$13:KP$13,JW30)+COUNTIF(JW$16:KP$16,JW30)+COUNTIF(JW$19:KP$19,JW30)+COUNTIF(JW$22:KP$22,JW30)+COUNTIF(JW$25:KP$25,JW30))/設定!$D21+IFERROR((COUNTIF(JW$6:KP$7,処理!$L2)+COUNTIF(JW$10:KP$10,処理!$L2)+COUNTIF(JW$13:KP$13,処理!$L2)+COUNTIF(JW$16:KP$16,処理!$L2)+COUNTIF(JW$19:KP$19,処理!$L2)+COUNTIF(JW$22:KP$22,処理!$L2)+COUNTIF(JW$25:KP$25,処理!$L2))/処理!$M2,0))","v":""},{"$f":"IF(LEN(JW30)=0,\"\",SUM(JF30,JY30))","v":""},{"$f":"$G$30","v":""},null,{"$f":"IF(LEN(KA30)=0,\"\",(COUNTIF(JW$6:KP$7,KA30)+COUNTIF(JW$10:KP$10,KA30)+COUNTIF(JW$13:KP$13,KA30)+COUNTIF(JW$16:KP$16,KA30)+COUNTIF(JW$19:KP$19,KA30)+COUNTIF(JW$22:KP$22,KA30)+COUNTIF(JW$25:KP$25,KA30))/設定!$G21+IFERROR((COUNTIF(JW$6:KP$7,処理!$L8)+COUNTIF(JW$10:KP$10,処理!$L8)+COUNTIF(JW$13:KP$13,処理!$L8)+COUNTIF(JW$16:KP$16,処理!$L8)+COUNTIF(JW$19:KP$19,処理!$L8)+COUNTIF(JW$22:KP$22,処理!$L8)+COUNTIF(JW$25:KP$25,処理!$L8))/処理!$M8,0))","v":""},{"$f":"IF(LEN(KA30)=0,\"\",SUM(JJ30,KC30))","v":""},{"$f":"$K$30","v":""},null,{"$f":"IF(LEN(KE30)=0,\"\",(COUNTIF(JW$6:KP$7,KE30)+COUNTIF(JW$10:KP$10,KE30)+COUNTIF(JW$13:KP$13,KE30)+COUNTIF(JW$16:KP$16,KE30)+COUNTIF(JW$19:KP$19,KE30)+COUNTIF(JW$22:KP$22,KE30)+COUNTIF(JW$25:KP$25,KE30))/設定!$J21+IFERROR((COUNTIF(JW$6:KP$7,処理!$L14)+COUNTIF(JW$10:KP$10,処理!$L14)+COUNTIF(JW$13:KP$13,処理!$L14)+COUNTIF(JW$16:KP$16,処理!$L14)+COUNTIF(JW$19:KP$19,処理!$L14)+COUNTIF(JW$22:KP$22,処理!$L14)+COUNTIF(JW$25:KP$25,処理!$L14))/処理!$M14,0))","v":""},{"$f":"IF(LEN(KE30)=0,\"\",SUM(JN30,KG30))","v":""},{"$f":"$O$30","v":""},null,{"$f":"IF(LEN(KI30)=0,\"\",(COUNTIF(JW$6:KP$7,KI30)+COUNTIF(JW$10:KP$10,KI30)+COUNTIF(JW$13:KP$13,KI30)+COUNTIF(JW$16:KP$16,KI30)+COUNTIF(JW$19:KP$19,KI30)+COUNTIF(JW$22:KP$22,KI30)+COUNTIF(JW$25:KP$25,KI30))/設定!$M21+IFERROR((COUNTIF(JW$6:KP$7,処理!$L20)+COUNTIF(JW$10:KP$10,処理!$L20)+COUNTIF(JW$13:KP$13,処理!$L20)+COUNTIF(JW$16:KP$16,処理!$L20)+COUNTIF(JW$19:KP$19,処理!$L20)+COUNTIF(JW$22:KP$22,処理!$L20)+COUNTIF(JW$25:KP$25,処理!$L20))/処理!$M20,0))","v":""},{"$f":"IF(LEN(KI30)=0,\"\",SUM(JR30,KK30))","v":""},"授業合計",null,{"$f":"SUM(JY30:JY35,KC30:KC35,KG30:KG35,KK30:KK35)","v":0},{"$f":"IF(LEN(KM30)=0,\"\",SUM(JV30,KO30))","v":0},{"$f":"$C$30","v":""},null,{"$f":"IF(LEN(KQ30)=0,\"\",COUNTIF(KQ$6:LJ$25,KQ30)/設定!$D21+IFERROR(COUNTIF(KQ$6:LJ$25,処理!$L2)/処理!$M2,0))","v":""},{"$f":"IF(LEN(KQ30)=0,\"\",SUM(JZ30,KS30))","v":""},{"$f":"$G$30","v":""},null,{"$f":"IF(LEN(KU30)=0,\"\",COUNTIF(KQ$6:LJ$25,KU30)/設定!$G21+IFERROR(COUNTIF(KQ$6:LJ$25,処理!$L8)/処理!$M8,0))","v":""},{"$f":"IF(LEN(KU30)=0,\"\",SUM(KD30,KW30))","v":""},{"$f":"$K$30","v":""},null,{"$f":"IF(LEN(KY30)=0,\"\",COUNTIF(KQ$6:LJ$25,KY30)/設定!$J21+IFERROR(COUNTIF(KQ$6:LJ$25,処理!$L14)/処理!$M14,0))","v":""},{"$f":"IF(LEN(KY30)=0,\"\",SUM(KH30,LA30))","v":""},{"$f":"$O$30","v":""},null,{"$f":"IF(LEN(LC30)=0,\"\",COUNTIF(KQ$6:LJ$25,LC30)/設定!$M21+IFERROR(COUNTIF(KQ$6:LJ$25,処理!$L20)/処理!$M20,0))","v":""},{"$f":"IF(LEN(LC30)=0,\"\",SUM(KL30,LE30))","v":""},"授業合計",null,{"$f":"SUM(KS30:KS35,KW30:KW35,LA30:LA35,LE30:LE35)","v":0},{"$f":"IF(LEN(LG30)=0,\"\",SUM(KP30,LI30))","v":0},{"$f":"$C$30","v":""},null,{"$f":"IF(LEN(LK30)=0,\"\",(COUNTIF(LK$6:MD$7,LK30)+COUNTIF(LK$10:MD$10,LK30)+COUNTIF(LK$13:MD$13,LK30)+COUNTIF(LK$16:MD$16,LK30)+COUNTIF(LK$19:MD$19,LK30)+COUNTIF(LK$22:MD$22,LK30)+COUNTIF(LK$25:MD$25,LK30))/設定!$D21+IFERROR((COUNTIF(LK$6:MD$7,処理!$L2)+COUNTIF(LK$10:MD$10,処理!$L2)+COUNTIF(LK$13:MD$13,処理!$L2)+COUNTIF(LK$16:MD$16,処理!$L2)+COUNTIF(LK$19:MD$19,処理!$L2)+COUNTIF(LK$22:MD$22,処理!$L2)+COUNTIF(LK$25:MD$25,処理!$L2))/処理!$M2,0))","v":""},{"$f":"IF(LEN(LK30)=0,\"\",SUM(KT30,LM30))","v":""},{"$f":"$G$30","v":""},null,{"$f":"IF(LEN(LO30)=0,\"\",(COUNTIF(LK$6:MD$7,LO30)+COUNTIF(LK$10:MD$10,LO30)+COUNTIF(LK$13:MD$13,LO30)+COUNTIF(LK$16:MD$16,LO30)+COUNTIF(LK$19:MD$19,LO30)+COUNTIF(LK$22:MD$22,LO30)+COUNTIF(LK$25:MD$25,LO30))/設定!$G21+IFERROR((COUNTIF(LK$6:MD$7,処理!$L8)+COUNTIF(LK$10:MD$10,処理!$L8)+COUNTIF(LK$13:MD$13,処理!$L8)+COUNTIF(LK$16:MD$16,処理!$L8)+COUNTIF(LK$19:MD$19,処理!$L8)+COUNTIF(LK$22:MD$22,処理!$L8)+COUNTIF(LK$25:MD$25,処理!$L8))/処理!$M8,0))","v":""},{"$f":"IF(LEN(LO30)=0,\"\",SUM(KX30,LQ30))","v":""},{"$f":"$K$30","v":""},null,{"$f":"IF(LEN(LS30)=0,\"\",(COUNTIF(LK$6:MD$7,LS30)+COUNTIF(LK$10:MD$10,LS30)+COUNTIF(LK$13:MD$13,LS30)+COUNTIF(LK$16:MD$16,LS30)+COUNTIF(LK$19:MD$19,LS30)+COUNTIF(LK$22:MD$22,LS30)+COUNTIF(LK$25:MD$25,LS30))/設定!$J21+IFERROR((COUNTIF(LK$6:MD$7,処理!$L14)+COUNTIF(LK$10:MD$10,処理!$L14)+COUNTIF(LK$13:MD$13,処理!$L14)+COUNTIF(LK$16:MD$16,処理!$L14)+COUNTIF(LK$19:MD$19,処理!$L14)+COUNTIF(LK$22:MD$22,処理!$L14)+COUNTIF(LK$25:MD$25,処理!$L14))/処理!$M14,0))","v":""},{"$f":"IF(LEN(LS30)=0,\"\",SUM(LB30,LU30))","v":""},{"$f":"$O$30","v":""},null,{"$f":"IF(LEN(LW30)=0,\"\",(COUNTIF(LK$6:MD$7,LW30)+COUNTIF(LK$10:MD$10,LW30)+COUNTIF(LK$13:MD$13,LW30)+COUNTIF(LK$16:MD$16,LW30)+COUNTIF(LK$19:MD$19,LW30)+COUNTIF(LK$22:MD$22,LW30)+COUNTIF(LK$25:MD$25,LW30))/設定!$M21+IFERROR((COUNTIF(LK$6:MD$7,処理!$L20)+COUNTIF(LK$10:MD$10,処理!$L20)+COUNTIF(LK$13:MD$13,処理!$L20)+COUNTIF(LK$16:MD$16,処理!$L20)+COUNTIF(LK$19:MD$19,処理!$L20)+COUNTIF(LK$22:MD$22,処理!$L20)+COUNTIF(LK$25:MD$25,処理!$L20))/処理!$M20,0))","v":""},{"$f":"IF(LEN(LW30)=0,\"\",SUM(LF30,LY30))","v":""},"授業合計",null,{"$f":"SUM(LM30:LM35,LQ30:LQ35,LU30:LU35,LY30:LY35)","v":0},{"$f":"IF(LEN(MA30)=0,\"\",SUM(LJ30,MC30))","v":0}]
[null,null,{"$f":"IF(COUNTIF(処理!$J$2:$J$25,1)>0,処理!H3,\"\")","v":""},null,{"$f":"IF(LEN(C31)=0,\"\",(COUNTIF(C$6:V$7,C31)+COUNTIF(C$10:V$10,C31)+COUNTIF(C$13:V$13,C31)+COUNTIF(C$16:V$16,C31)+COUNTIF(C$19:V$19,C31)+COUNTIF(C$22:V$22,C31)+COUNTIF(C$25:V$25,C31))/設定!$D22+IFERROR((COUNTIF(C$6:V$7,処理!$L3)+COUNTIF(C$10:V$10,処理!$L3)+COUNTIF(C$13:V$13,処理!$L3)+COUNTIF(C$16:V$16,処理!$L3)+COUNTIF(C$19:V$19,処理!$L3)+COUNTIF(C$22:V$22,処理!$L3)+COUNTIF(C$25:V$25,処理!$L3))/処理!$M3,0))","v":""},{"$f":"E31","v":""},{"$f":"IF(COUNTIF(処理!$J$2:$J$25,7)>0,処理!H9,\"\")","v":""},null,{"$f":"IF(LEN(G31)=0,\"\",(COUNTIF(C$6:V$7,G31)+COUNTIF(C$10:V$10,G31)+COUNTIF(C$13:V$13,G31)+COUNTIF(C$16:V$16,G31)+COUNTIF(C$19:V$19,G31)+COUNTIF(C$22:V$22,G31)+COUNTIF(C$25:V$25,G31))/設定!$G22+IFERROR((COUNTIF(C$6:V$7,処理!$L9)+COUNTIF(C$10:V$10,処理!$L9)+COUNTIF(C$13:V$13,処理!$L9)+COUNTIF(C$16:V$16,処理!$L9)+COUNTIF(C$19:V$19,処理!$L9)+COUNTIF(C$22:V$22,処理!$L9)+COUNTIF(C$25:V$25,処理!$L9))/処理!$M9,0))","v":""},{"$f":"I31","v":""},{"$f":"IF(COUNTIF(処理!$J$2:$J$25,13)>0,処理!H15,\"\")","v":""},null,{"$f":"IF(LEN(K31)=0,\"\",(COUNTIF(C$6:V$7,K31)+COUNTIF(C$10:V$10,K31)+COUNTIF(C$13:V$13,K31)+COUNTIF(C$16:V$16,K31)+COUNTIF(C$19:V$19,K31)+COUNTIF(C$22:V$22,K31)+COUNTIF(C$25:V$25,K31))/設定!$J22+IFERROR((COUNTIF(C$6:V$7,処理!$L15)+COUNTIF(C$10:V$10,処理!$L15)+COUNTIF(C$13:V$13,処理!$L15)+COUNTIF(C$16:V$16,処理!$L15)+COUNTIF(C$19:V$19,処理!$L15)+COUNTIF(C$22:V$22,処理!$L15)+COUNTIF(C$25:V$25,処理!$L15))/処理!$M15,0))","v":""},{"$f":"M31","v":""},{"$f":"IF(COUNTIF(処理!$J$2:$J$25,19)>0,処理!H21,\"\")","v":""},null,{"$f":"IF(LEN(O31)=0,\"\",(COUNTIF(C$6:V$7,O31)+COUNTIF(C$10:V$10,O31)+COUNTIF(C$13:V$13,O31)+COUNTIF(C$16:V$16,O31)+COUNTIF(C$19:V$19,O31)+COUNTIF(C$22:V$22,O31)+COUNTIF(C$25:V$25,O31))/設定!$M22+IFERROR((COUNTIF(C$6:V$7,処理!$L21)+COUNTIF(C$10:V$10,処理!$L21)+COUNTIF(C$13:V$13,処理!$L21)+COUNTIF(C$16:V$16,処理!$L21)+COUNTIF(C$19:V$19,処理!$L21)+COUNTIF(C$22:V$22,処理!$L21)+COUNTIF(C$25:V$25,処理!$L21))/処理!$M21,0))","v":""},{"$f":"Q31","v":""},{"$f":"処理!H27&\"\"","v":""},null,{"$f":"IF(LEN(S31)=0,\"\",COUNTIF(C$6:V$7,S31)+COUNTIF(C$10:V$10,S31)+COUNTIF(C$13:V$13,S31)+COUNTIF(C$16:V$16,S31)+COUNTIF(C$19:V$19,S31)+COUNTIF(C$22:V$22,S31)+COUNTIF(C$25:V$25,S31))","v":""},{"$f":"U31","v":""},{"$f":"$C$31","v":""},null,{"$f":"IF(LEN(W31)=0,\"\",(COUNTIF(W$6:AP$7,W31)+COUNTIF(W$10:AP$10,W31)+COUNTIF(W$13:AP$13,W31)+COUNTIF(W$16:AP$16,W31)+COUNTIF(W$19:AP$19,W31)+COUNTIF(W$22:AP$22,W31)+COUNTIF(W$25:AP$25,W31))/設定!$D22+IFERROR((COUNTIF(W$6:AP$7,処理!$L3)+COUNTIF(W$10:AP$10,処理!$L3)+COUNTIF(W$13:AP$13,処理!$L3)+COUNTIF(W$16:AP$16,処理!$L3)+COUNTIF(W$19:AP$19,処理!$L3)+COUNTIF(W$22:AP$22,処理!$L3)+COUNTIF(W$25:AP$25,処理!$L3))/処理!$M3,0))","v":""},{"$f":"IF(LEN(W31)=0,\"\",SUM(F31,Y31))","v":""},{"$f":"$G$31","v":""},null,{"$f":"IF(LEN(AA31)=0,\"\",(COUNTIF(W$6:AP$7,AA31)+COUNTIF(W$10:AP$10,AA31)+COUNTIF(W$13:AP$13,AA31)+COUNTIF(W$16:AP$16,AA31)+COUNTIF(W$19:AP$19,AA31)+COUNTIF(W$22:AP$22,AA31)+COUNTIF(W$25:AP$25,AA31))/設定!$G22+IFERROR((COUNTIF(W$6:AP$7,処理!$L9)+COUNTIF(W$10:AP$10,処理!$L9)+COUNTIF(W$13:AP$13,処理!$L9)+COUNTIF(W$16:AP$16,処理!$L9)+COUNTIF(W$19:AP$19,処理!$L9)+COUNTIF(W$22:AP$22,処理!$L9)+COUNTIF(W$25:AP$25,処理!$L9))/処理!$M9,0))","v":""},"",{"$f":"$K$31","v":""},null,{"$f":"IF(LEN(AE31)=0,\"\",(COUNTIF(W$6:AP$7,AE31)+COUNTIF(W$10:AP$10,AE31)+COUNTIF(W$13:AP$13,AE31)+COUNTIF(W$16:AP$16,AE31)+COUNTIF(W$19:AP$19,AE31)+COUNTIF(W$22:AP$22,AE31)+COUNTIF(W$25:AP$25,AE31))/設定!$J22+IFERROR((COUNTIF(W$6:AP$7,処理!$L15)+COUNTIF(W$10:AP$10,処理!$L15)+COUNTIF(W$13:AP$13,処理!$L15)+COUNTIF(W$16:AP$16,処理!$L15)+COUNTIF(W$19:AP$19,処理!$L15)+COUNTIF(W$22:AP$22,処理!$L15)+COUNTIF(W$25:AP$25,処理!$L15))/処理!$M15,0))","v":""},"",{"$f":"$O$31","v":""},null,{"$f":"IF(LEN(AI31)=0,\"\",(COUNTIF(W$6:AP$7,AI31)+COUNTIF(W$10:AP$10,AI31)+COUNTIF(W$13:AP$13,AI31)+COUNTIF(W$16:AP$16,AI31)+COUNTIF(W$19:AP$19,AI31)+COUNTIF(W$22:AP$22,AI31)+COUNTIF(W$25:AP$25,AI31))/設定!$M22+IFERROR((COUNTIF(W$6:AP$7,処理!$L21)+COUNTIF(W$10:AP$10,処理!$L21)+COUNTIF(W$13:AP$13,処理!$L21)+COUNTIF(W$16:AP$16,処理!$L21)+COUNTIF(W$19:AP$19,処理!$L21)+COUNTIF(W$22:AP$22,処理!$L21)+COUNTIF(W$25:AP$25,処理!$L21))/処理!$M21,0))","v":""},"",{"$f":"$S$31","v":""},null,{"$f":"IF(LEN(AM31)=0,\"\",COUNTIF(W$6:AP$7,AM31)+COUNTIF(W$10:AP$10,AM31)+COUNTIF(W$13:AP$13,AM31)+COUNTIF(W$16:AP$16,AM31)+COUNTIF(W$19:AP$19,AM31)+COUNTIF(W$22:AP$22,AM31)+COUNTIF(W$25:AP$25,AM31))","v":""},"",{"$f":"$C$31","v":""},null,{"$f":"IF(LEN(AQ31)=0,\"\",(COUNTIF(AQ$6:BJ$7,AQ31)+COUNTIF(AQ$10:BJ$10,AQ31)+COUNTIF(AQ$13:BJ$13,AQ31)+COUNTIF(AQ$16:BJ$16,AQ31)+COUNTIF(AQ$19:BJ$19,AQ31)+COUNTIF(AQ$22:BJ$22,AQ31)+COUNTIF(AQ$25:BJ$25,AQ31))/設定!$D22+IFERROR((COUNTIF(AQ$6:BJ$7,処理!$L3)+COUNTIF(AQ$10:BJ$10,処理!$L3)+COUNTIF(AQ$13:BJ$13,処理!$L3)+COUNTIF(AQ$16:BJ$16,処理!$L3)+COUNTIF(AQ$19:BJ$19,処理!$L3)+COUNTIF(AQ$22:BJ$22,処理!$L3)+COUNTIF(AQ$25:BJ$25,処理!$L3))/処理!$M3,0))","v":""},{"$f":"IF(LEN(AQ31)=0,\"\",SUM(Z31,AS31))","v":""},{"$f":"$G$31","v":""},null,{"$f":"IF(LEN(AU31)=0,\"\",(COUNTIF(AQ$6:BJ$7,AU31)+COUNTIF(AQ$10:BJ$10,AU31)+COUNTIF(AQ$13:BJ$13,AU31)+COUNTIF(AQ$16:BJ$16,AU31)+COUNTIF(AQ$19:BJ$19,AU31)+COUNTIF(AQ$22:BJ$22,AU31)+COUNTIF(AQ$25:BJ$25,AU31))/設定!$G22+IFERROR((COUNTIF(AQ$6:BJ$7,処理!$L9)+COUNTIF(AQ$10:BJ$10,処理!$L9)+COUNTIF(AQ$13:BJ$13,処理!$L9)+COUNTIF(AQ$16:BJ$16,処理!$L9)+COUNTIF(AQ$19:BJ$19,処理!$L9)+COUNTIF(AQ$22:BJ$22,処理!$L9)+COUNTIF(AQ$25:BJ$25,処理!$L9))/処理!$M9,0))","v":""},"",{"$f":"$K$31","v":""},null,{"$f":"IF(LEN(AY31)=0,\"\",(COUNTIF(AQ$6:BJ$7,AY31)+COUNTIF(AQ$10:BJ$10,AY31)+COUNTIF(AQ$13:BJ$13,AY31)+COUNTIF(AQ$16:BJ$16,AY31)+COUNTIF(AQ$19:BJ$19,AY31)+COUNTIF(AQ$22:BJ$22,AY31)+COUNTIF(AQ$25:BJ$25,AY31))/設定!$J22+IFERROR((COUNTIF(AQ$6:BJ$7,処理!$L15)+COUNTIF(AQ$10:BJ$10,処理!$L15)+COUNTIF(AQ$13:BJ$13,処理!$L15)+COUNTIF(AQ$16:BJ$16,処理!$L15)+COUNTIF(AQ$19:BJ$19,処理!$L15)+COUNTIF(AQ$22:BJ$22,処理!$L15)+COUNTIF(AQ$25:BJ$25,処理!$L15))/処理!$M15,0))","v":""},"",{"$f":"$O$31","v":""},null,{"$f":"IF(LEN(BC31)=0,\"\",(COUNTIF(AQ$6:BJ$7,BC31)+COUNTIF(AQ$10:BJ$10,BC31)+COUNTIF(AQ$13:BJ$13,BC31)+COUNTIF(AQ$16:BJ$16,BC31)+COUNTIF(AQ$19:BJ$19,BC31)+COUNTIF(AQ$22:BJ$22,BC31)+COUNTIF(AQ$25:BJ$25,BC31))/設定!$M22+IFERROR((COUNTIF(AQ$6:BJ$7,処理!$L21)+COUNTIF(AQ$10:BJ$10,処理!$L21)+COUNTIF(AQ$13:BJ$13,処理!$L21)+COUNTIF(AQ$16:BJ$16,処理!$L21)+COUNTIF(AQ$19:BJ$19,処理!$L21)+COUNTIF(AQ$22:BJ$22,処理!$L21)+COUNTIF(AQ$25:BJ$25,処理!$L21))/処理!$M21,0))","v":""},"",{"$f":"$S$31","v":""},null,{"$f":"IF(LEN(BG31)=0,\"\",COUNTIF(AQ$6:BJ$7,BG31)+COUNTIF(AQ$10:BJ$10,BG31)+COUNTIF(AQ$13:BJ$13,BG31)+COUNTIF(AQ$16:BJ$16,BG31)+COUNTIF(AQ$19:BJ$19,BG31)+COUNTIF(AQ$22:BJ$22,BG31)+COUNTIF(AQ$25:BJ$25,BG31))","v":""},"",{"$f":"$C$31","v":""},null,{"$f":"IF(LEN(BK31)=0,\"\",(COUNTIF(BK$6:CD$7,BK31)+COUNTIF(BK$10:CD$10,BK31)+COUNTIF(BK$13:CD$13,BK31)+COUNTIF(BK$16:CD$16,BK31)+COUNTIF(BK$19:CD$19,BK31)+COUNTIF(BK$22:CD$22,BK31)+COUNTIF(BK$25:CD$25,BK31))/設定!$D22+IFERROR((COUNTIF(BK$6:CD$7,処理!$L3)+COUNTIF(BK$10:CD$10,処理!$L3)+COUNTIF(BK$13:CD$13,処理!$L3)+COUNTIF(BK$16:CD$16,処理!$L3)+COUNTIF(BK$19:CD$19,処理!$L3)+COUNTIF(BK$22:CD$22,処理!$L3)+COUNTIF(BK$25:CD$25,処理!$L3))/処理!$M3,0))","v":""},{"$f":"IF(LEN(BK31)=0,\"\",SUM(AT31,BM31))","v":""},{"$f":"$G$31","v":""},null,{"$f":"IF(LEN(BO31)=0,\"\",(COUNTIF(BK$6:CD$7,BO31)+COUNTIF(BK$10:CD$10,BO31)+COUNTIF(BK$13:CD$13,BO31)+COUNTIF(BK$16:CD$16,BO31)+COUNTIF(BK$19:CD$19,BO31)+COUNTIF(BK$22:CD$22,BO31)+COUNTIF(BK$25:CD$25,BO31))/設定!$G22+IFERROR((COUNTIF(BK$6:CD$7,処理!$L9)+COUNTIF(BK$10:CD$10,処理!$L9)+COUNTIF(BK$13:CD$13,処理!$L9)+COUNTIF(BK$16:CD$16,処理!$L9)+COUNTIF(BK$19:CD$19,処理!$L9)+COUNTIF(BK$22:CD$22,処理!$L9)+COUNTIF(BK$25:CD$25,処理!$L9))/処理!$M9,0))","v":""},"",{"$f":"$K$31","v":""},null,{"$f":"IF(LEN(BS31)=0,\"\",(COUNTIF(BK$6:CD$7,BS31)+COUNTIF(BK$10:CD$10,BS31)+COUNTIF(BK$13:CD$13,BS31)+COUNTIF(BK$16:CD$16,BS31)+COUNTIF(BK$19:CD$19,BS31)+COUNTIF(BK$22:CD$22,BS31)+COUNTIF(BK$25:CD$25,BS31))/設定!$J22+IFERROR((COUNTIF(BK$6:CD$7,処理!$L15)+COUNTIF(BK$10:CD$10,処理!$L15)+COUNTIF(BK$13:CD$13,処理!$L15)+COUNTIF(BK$16:CD$16,処理!$L15)+COUNTIF(BK$19:CD$19,処理!$L15)+COUNTIF(BK$22:CD$22,処理!$L15)+COUNTIF(BK$25:CD$25,処理!$L15))/処理!$M15,0))","v":""},"",{"$f":"$O$31","v":""},null,{"$f":"IF(LEN(BW31)=0,\"\",(COUNTIF(BK$6:CD$7,BW31)+COUNTIF(BK$10:CD$10,BW31)+COUNTIF(BK$13:CD$13,BW31)+COUNTIF(BK$16:CD$16,BW31)+COUNTIF(BK$19:CD$19,BW31)+COUNTIF(BK$22:CD$22,BW31)+COUNTIF(BK$25:CD$25,BW31))/設定!$M22+IFERROR((COUNTIF(BK$6:CD$7,処理!$L21)+COUNTIF(BK$10:CD$10,処理!$L21)+COUNTIF(BK$13:CD$13,処理!$L21)+COUNTIF(BK$16:CD$16,処理!$L21)+COUNTIF(BK$19:CD$19,処理!$L21)+COUNTIF(BK$22:CD$22,処理!$L21)+COUNTIF(BK$25:CD$25,処理!$L21))/処理!$M21,0))","v":""},"",{"$f":"$S$31","v":""},null,{"$f":"IF(LEN(CA31)=0,\"\",COUNTIF(BK$6:CD$7,CA31)+COUNTIF(BK$10:CD$10,CA31)+COUNTIF(BK$13:CD$13,CA31)+COUNTIF(BK$16:CD$16,CA31)+COUNTIF(BK$19:CD$19,CA31)+COUNTIF(BK$22:CD$22,CA31)+COUNTIF(BK$25:CD$25,CA31))","v":""},"",{"$f":"$C$31","v":""},null,{"$f":"IF(LEN(CE31)=0,\"\",(COUNTIF(CE$6:CX$7,CE31)+COUNTIF(CE$10:CX$10,CE31)+COUNTIF(CE$13:CX$13,CE31)+COUNTIF(CE$16:CX$16,CE31)+COUNTIF(CE$19:CX$19,CE31)+COUNTIF(CE$22:CX$22,CE31)+COUNTIF(CE$25:CX$25,CE31))/設定!$D22+IFERROR((COUNTIF(CE$6:CX$7,処理!$L3)+COUNTIF(CE$10:CX$10,処理!$L3)+COUNTIF(CE$13:CX$13,処理!$L3)+COUNTIF(CE$16:CX$16,処理!$L3)+COUNTIF(CE$19:CX$19,処理!$L3)+COUNTIF(CE$22:CX$22,処理!$L3)+COUNTIF(CE$25:CX$25,処理!$L3))/処理!$M3,0))","v":""},{"$f":"IF(LEN(CE31)=0,\"\",SUM(BN31,CG31))","v":""},{"$f":"$G$31","v":""},null,{"$f":"IF(LEN(CI31)=0,\"\",(COUNTIF(CE$6:CX$7,CI31)+COUNTIF(CE$10:CX$10,CI31)+COUNTIF(CE$13:CX$13,CI31)+COUNTIF(CE$16:CX$16,CI31)+COUNTIF(CE$19:CX$19,CI31)+COUNTIF(CE$22:CX$22,CI31)+COUNTIF(CE$25:CX$25,CI31))/設定!$G22+IFERROR((COUNTIF(CE$6:CX$7,処理!$L9)+COUNTIF(CE$10:CX$10,処理!$L9)+COUNTIF(CE$13:CX$13,処理!$L9)+COUNTIF(CE$16:CX$16,処理!$L9)+COUNTIF(CE$19:CX$19,処理!$L9)+COUNTIF(CE$22:CX$22,処理!$L9)+COUNTIF(CE$25:CX$25,処理!$L9))/処理!$M9,0))","v":""},"",{"$f":"$K$31","v":""},null,{"$f":"IF(LEN(CM31)=0,\"\",(COUNTIF(CE$6:CX$7,CM31)+COUNTIF(CE$10:CX$10,CM31)+COUNTIF(CE$13:CX$13,CM31)+COUNTIF(CE$16:CX$16,CM31)+COUNTIF(CE$19:CX$19,CM31)+COUNTIF(CE$22:CX$22,CM31)+COUNTIF(CE$25:CX$25,CM31))/設定!$J22+IFERROR((COUNTIF(CE$6:CX$7,処理!$L15)+COUNTIF(CE$10:CX$10,処理!$L15)+COUNTIF(CE$13:CX$13,処理!$L15)+COUNTIF(CE$16:CX$16,処理!$L15)+COUNTIF(CE$19:CX$19,処理!$L15)+COUNTIF(CE$22:CX$22,処理!$L15)+COUNTIF(CE$25:CX$25,処理!$L15))/処理!$M15,0))","v":""},"",{"$f":"$O$31","v":""},null,{"$f":"IF(LEN(CQ31)=0,\"\",(COUNTIF(CE$6:CX$7,CQ31)+COUNTIF(CE$10:CX$10,CQ31)+COUNTIF(CE$13:CX$13,CQ31)+COUNTIF(CE$16:CX$16,CQ31)+COUNTIF(CE$19:CX$19,CQ31)+COUNTIF(CE$22:CX$22,CQ31)+COUNTIF(CE$25:CX$25,CQ31))/設定!$M22+IFERROR((COUNTIF(CE$6:CX$7,処理!$L21)+COUNTIF(CE$10:CX$10,処理!$L21)+COUNTIF(CE$13:CX$13,処理!$L21)+COUNTIF(CE$16:CX$16,処理!$L21)+COUNTIF(CE$19:CX$19,処理!$L21)+COUNTIF(CE$22:CX$22,処理!$L21)+COUNTIF(CE$25:CX$25,処理!$L21))/処理!$M21,0))","v":""},"",{"$f":"$S$31","v":""},null,{"$f":"IF(LEN(CU31)=0,\"\",COUNTIF(CE$6:CX$7,CU31)+COUNTIF(CE$10:CX$10,CU31)+COUNTIF(CE$13:CX$13,CU31)+COUNTIF(CE$16:CX$16,CU31)+COUNTIF(CE$19:CX$19,CU31)+COUNTIF(CE$22:CX$22,CU31)+COUNTIF(CE$25:CX$25,CU31))","v":""},"",{"$f":"$C$31","v":""},null,{"$f":"IF(LEN(CY31)=0,\"\",(COUNTIF(CY$6:DR$7,CY31)+COUNTIF(CY$10:DR$10,CY31)+COUNTIF(CY$13:DR$13,CY31)+COUNTIF(CY$16:DR$16,CY31)+COUNTIF(CY$19:DR$19,CY31)+COUNTIF(CY$22:DR$22,CY31)+COUNTIF(CY$25:DR$25,CY31))/設定!$D22+IFERROR((COUNTIF(CY$6:DR$7,処理!$L3)+COUNTIF(CY$10:DR$10,処理!$L3)+COUNTIF(CY$13:DR$13,処理!$L3)+COUNTIF(CY$16:DR$16,処理!$L3)+COUNTIF(CY$19:DR$19,処理!$L3)+COUNTIF(CY$22:DR$22,処理!$L3)+COUNTIF(CY$25:DR$25,処理!$L3))/処理!$M3,0))","v":""},{"$f":"IF(LEN(CY31)=0,\"\",SUM(CH31,DA31))","v":""},{"$f":"$G$31","v":""},null,{"$f":"IF(LEN(DC31)=0,\"\",(COUNTIF(CY$6:DR$7,DC31)+COUNTIF(CY$10:DR$10,DC31)+COUNTIF(CY$13:DR$13,DC31)+COUNTIF(CY$16:DR$16,DC31)+COUNTIF(CY$19:DR$19,DC31)+COUNTIF(CY$22:DR$22,DC31)+COUNTIF(CY$25:DR$25,DC31))/設定!$G22+IFERROR((COUNTIF(CY$6:DR$7,処理!$L9)+COUNTIF(CY$10:DR$10,処理!$L9)+COUNTIF(CY$13:DR$13,処理!$L9)+COUNTIF(CY$16:DR$16,処理!$L9)+COUNTIF(CY$19:DR$19,処理!$L9)+COUNTIF(CY$22:DR$22,処理!$L9)+COUNTIF(CY$25:DR$25,処理!$L9))/処理!$M9,0))","v":""},"",{"$f":"$K$31","v":""},null,{"$f":"IF(LEN(DG31)=0,\"\",(COUNTIF(CY$6:DR$7,DG31)+COUNTIF(CY$10:DR$10,DG31)+COUNTIF(CY$13:DR$13,DG31)+COUNTIF(CY$16:DR$16,DG31)+COUNTIF(CY$19:DR$19,DG31)+COUNTIF(CY$22:DR$22,DG31)+COUNTIF(CY$25:DR$25,DG31))/設定!$J22+IFERROR((COUNTIF(CY$6:DR$7,処理!$L15)+COUNTIF(CY$10:DR$10,処理!$L15)+COUNTIF(CY$13:DR$13,処理!$L15)+COUNTIF(CY$16:DR$16,処理!$L15)+COUNTIF(CY$19:DR$19,処理!$L15)+COUNTIF(CY$22:DR$22,処理!$L15)+COUNTIF(CY$25:DR$25,処理!$L15))/処理!$M15,0))","v":""},"",{"$f":"$O$31","v":""},null,{"$f":"IF(LEN(DK31)=0,\"\",(COUNTIF(CY$6:DR$7,DK31)+COUNTIF(CY$10:DR$10,DK31)+COUNTIF(CY$13:DR$13,DK31)+COUNTIF(CY$16:DR$16,DK31)+COUNTIF(CY$19:DR$19,DK31)+COUNTIF(CY$22:DR$22,DK31)+COUNTIF(CY$25:DR$25,DK31))/設定!$M22+IFERROR((COUNTIF(CY$6:DR$7,処理!$L21)+COUNTIF(CY$10:DR$10,処理!$L21)+COUNTIF(CY$13:DR$13,処理!$L21)+COUNTIF(CY$16:DR$16,処理!$L21)+COUNTIF(CY$19:DR$19,処理!$L21)+COUNTIF(CY$22:DR$22,処理!$L21)+COUNTIF(CY$25:DR$25,処理!$L21))/処理!$M21,0))","v":""},"",{"$f":"$S$31","v":""},null,{"$f":"IF(LEN(DO31)=0,\"\",COUNTIF(CY$6:DR$7,DO31)+COUNTIF(CY$10:DR$10,DO31)+COUNTIF(CY$13:DR$13,DO31)+COUNTIF(CY$16:DR$16,DO31)+COUNTIF(CY$19:DR$19,DO31)+COUNTIF(CY$22:DR$22,DO31)+COUNTIF(CY$25:DR$25,DO31))","v":""},"",{"$f":"$C$31","v":""},null,{"$f":"IF(LEN(DS31)=0,\"\",(COUNTIF(DS$6:EL$7,DS31)+COUNTIF(DS$10:EL$10,DS31)+COUNTIF(DS$13:EL$13,DS31)+COUNTIF(DS$16:EL$16,DS31)+COUNTIF(DS$19:EL$19,DS31)+COUNTIF(DS$22:EL$22,DS31)+COUNTIF(DS$25:EL$25,DS31))/設定!$D22+IFERROR((COUNTIF(DS$6:EL$7,処理!$L3)+COUNTIF(DS$10:EL$10,処理!$L3)+COUNTIF(DS$13:EL$13,処理!$L3)+COUNTIF(DS$16:EL$16,処理!$L3)+COUNTIF(DS$19:EL$19,処理!$L3)+COUNTIF(DS$22:EL$22,処理!$L3)+COUNTIF(DS$25:EL$25,処理!$L3))/処理!$M3,0))","v":""},{"$f":"IF(LEN(DS31)=0,\"\",SUM(DB31,DU31))","v":""},{"$f":"$G$31","v":""},null,{"$f":"IF(LEN(DW31)=0,\"\",(COUNTIF(DS$6:EL$7,DW31)+COUNTIF(DS$10:EL$10,DW31)+COUNTIF(DS$13:EL$13,DW31)+COUNTIF(DS$16:EL$16,DW31)+COUNTIF(DS$19:EL$19,DW31)+COUNTIF(DS$22:EL$22,DW31)+COUNTIF(DS$25:EL$25,DW31))/設定!$G22+IFERROR((COUNTIF(DS$6:EL$7,処理!$L9)+COUNTIF(DS$10:EL$10,処理!$L9)+COUNTIF(DS$13:EL$13,処理!$L9)+COUNTIF(DS$16:EL$16,処理!$L9)+COUNTIF(DS$19:EL$19,処理!$L9)+COUNTIF(DS$22:EL$22,処理!$L9)+COUNTIF(DS$25:EL$25,処理!$L9))/処理!$M9,0))","v":""},"",{"$f":"$K$31","v":""},null,{"$f":"IF(LEN(EA31)=0,\"\",(COUNTIF(DS$6:EL$7,EA31)+COUNTIF(DS$10:EL$10,EA31)+COUNTIF(DS$13:EL$13,EA31)+COUNTIF(DS$16:EL$16,EA31)+COUNTIF(DS$19:EL$19,EA31)+COUNTIF(DS$22:EL$22,EA31)+COUNTIF(DS$25:EL$25,EA31))/設定!$J22+IFERROR((COUNTIF(DS$6:EL$7,処理!$L15)+COUNTIF(DS$10:EL$10,処理!$L15)+COUNTIF(DS$13:EL$13,処理!$L15)+COUNTIF(DS$16:EL$16,処理!$L15)+COUNTIF(DS$19:EL$19,処理!$L15)+COUNTIF(DS$22:EL$22,処理!$L15)+COUNTIF(DS$25:EL$25,処理!$L15))/処理!$M15,0))","v":""},"",{"$f":"$O$31","v":""},null,{"$f":"IF(LEN(EE31)=0,\"\",(COUNTIF(DS$6:EL$7,EE31)+COUNTIF(DS$10:EL$10,EE31)+COUNTIF(DS$13:EL$13,EE31)+COUNTIF(DS$16:EL$16,EE31)+COUNTIF(DS$19:EL$19,EE31)+COUNTIF(DS$22:EL$22,EE31)+COUNTIF(DS$25:EL$25,EE31))/設定!$M22+IFERROR((COUNTIF(DS$6:EL$7,処理!$L21)+COUNTIF(DS$10:EL$10,処理!$L21)+COUNTIF(DS$13:EL$13,処理!$L21)+COUNTIF(DS$16:EL$16,処理!$L21)+COUNTIF(DS$19:EL$19,処理!$L21)+COUNTIF(DS$22:EL$22,処理!$L21)+COUNTIF(DS$25:EL$25,処理!$L21))/処理!$M21,0))","v":""},"",{"$f":"$S$31","v":""},null,{"$f":"IF(LEN(EI31)=0,\"\",COUNTIF(DS$6:EL$7,EI31)+COUNTIF(DS$10:EL$10,EI31)+COUNTIF(DS$13:EL$13,EI31)+COUNTIF(DS$16:EL$16,EI31)+COUNTIF(DS$19:EL$19,EI31)+COUNTIF(DS$22:EL$22,EI31)+COUNTIF(DS$25:EL$25,EI31))","v":""},"",{"$f":"$C$31","v":""},null,{"$f":"IF(LEN(EM31)=0,\"\",(COUNTIF(EM$6:FF$7,EM31)+COUNTIF(EM$10:FF$10,EM31)+COUNTIF(EM$13:FF$13,EM31)+COUNTIF(EM$16:FF$16,EM31)+COUNTIF(EM$19:FF$19,EM31)+COUNTIF(EM$22:FF$22,EM31)+COUNTIF(EM$25:FF$25,EM31))/設定!$D22+IFERROR((COUNTIF(EM$6:FF$7,処理!$L3)+COUNTIF(EM$10:FF$10,処理!$L3)+COUNTIF(EM$13:FF$13,処理!$L3)+COUNTIF(EM$16:FF$16,処理!$L3)+COUNTIF(EM$19:FF$19,処理!$L3)+COUNTIF(EM$22:FF$22,処理!$L3)+COUNTIF(EM$25:FF$25,処理!$L3))/処理!$M3,0))","v":""},{"$f":"IF(LEN(EM31)=0,\"\",SUM(DV31,EO31))","v":""},{"$f":"$G$31","v":""},null,{"$f":"IF(LEN(EQ31)=0,\"\",(COUNTIF(EM$6:FF$7,EQ31)+COUNTIF(EM$10:FF$10,EQ31)+COUNTIF(EM$13:FF$13,EQ31)+COUNTIF(EM$16:FF$16,EQ31)+COUNTIF(EM$19:FF$19,EQ31)+COUNTIF(EM$22:FF$22,EQ31)+COUNTIF(EM$25:FF$25,EQ31))/設定!$G22+IFERROR((COUNTIF(EM$6:FF$7,処理!$L9)+COUNTIF(EM$10:FF$10,処理!$L9)+COUNTIF(EM$13:FF$13,処理!$L9)+COUNTIF(EM$16:FF$16,処理!$L9)+COUNTIF(EM$19:FF$19,処理!$L9)+COUNTIF(EM$22:FF$22,処理!$L9)+COUNTIF(EM$25:FF$25,処理!$L9))/処理!$M9,0))","v":""},"",{"$f":"$K$31","v":""},null,{"$f":"IF(LEN(EU31)=0,\"\",(COUNTIF(EM$6:FF$7,EU31)+COUNTIF(EM$10:FF$10,EU31)+COUNTIF(EM$13:FF$13,EU31)+COUNTIF(EM$16:FF$16,EU31)+COUNTIF(EM$19:FF$19,EU31)+COUNTIF(EM$22:FF$22,EU31)+COUNTIF(EM$25:FF$25,EU31))/設定!$J22+IFERROR((COUNTIF(EM$6:FF$7,処理!$L15)+COUNTIF(EM$10:FF$10,処理!$L15)+COUNTIF(EM$13:FF$13,処理!$L15)+COUNTIF(EM$16:FF$16,処理!$L15)+COUNTIF(EM$19:FF$19,処理!$L15)+COUNTIF(EM$22:FF$22,処理!$L15)+COUNTIF(EM$25:FF$25,処理!$L15))/処理!$M15,0))","v":""},"",{"$f":"$O$31","v":""},null,{"$f":"IF(LEN(EY31)=0,\"\",(COUNTIF(EM$6:FF$7,EY31)+COUNTIF(EM$10:FF$10,EY31)+COUNTIF(EM$13:FF$13,EY31)+COUNTIF(EM$16:FF$16,EY31)+COUNTIF(EM$19:FF$19,EY31)+COUNTIF(EM$22:FF$22,EY31)+COUNTIF(EM$25:FF$25,EY31))/設定!$M22+IFERROR((COUNTIF(EM$6:FF$7,処理!$L21)+COUNTIF(EM$10:FF$10,処理!$L21)+COUNTIF(EM$13:FF$13,処理!$L21)+COUNTIF(EM$16:FF$16,処理!$L21)+COUNTIF(EM$19:FF$19,処理!$L21)+COUNTIF(EM$22:FF$22,処理!$L21)+COUNTIF(EM$25:FF$25,処理!$L21))/処理!$M21,0))","v":""},"",{"$f":"$S$31","v":""},null,{"$f":"IF(LEN(FC31)=0,\"\",COUNTIF(EM$6:FF$7,FC31)+COUNTIF(EM$10:FF$10,FC31)+COUNTIF(EM$13:FF$13,FC31)+COUNTIF(EM$16:FF$16,FC31)+COUNTIF(EM$19:FF$19,FC31)+COUNTIF(EM$22:FF$22,FC31)+COUNTIF(EM$25:FF$25,FC31))","v":""},"",{"$f":"$C$31","v":""},null,{"$f":"IF(LEN(FG31)=0,\"\",(COUNTIF(FG$6:FZ$7,FG31)+COUNTIF(FG$10:FZ$10,FG31)+COUNTIF(FG$13:FZ$13,FG31)+COUNTIF(FG$16:FZ$16,FG31)+COUNTIF(FG$19:FZ$19,FG31)+COUNTIF(FG$22:FZ$22,FG31)+COUNTIF(FG$25:FZ$25,FG31))/設定!$D22+IFERROR((COUNTIF(FG$6:FZ$7,処理!$L3)+COUNTIF(FG$10:FZ$10,処理!$L3)+COUNTIF(FG$13:FZ$13,処理!$L3)+COUNTIF(FG$16:FZ$16,処理!$L3)+COUNTIF(FG$19:FZ$19,処理!$L3)+COUNTIF(FG$22:FZ$22,処理!$L3)+COUNTIF(FG$25:FZ$25,処理!$L3))/処理!$M3,0))","v":""},{"$f":"IF(LEN(FG31)=0,\"\",SUM(EP31,FI31))","v":""},{"$f":"$G$31","v":""},null,{"$f":"IF(LEN(FK31)=0,\"\",(COUNTIF(FG$6:FZ$7,FK31)+COUNTIF(FG$10:FZ$10,FK31)+COUNTIF(FG$13:FZ$13,FK31)+COUNTIF(FG$16:FZ$16,FK31)+COUNTIF(FG$19:FZ$19,FK31)+COUNTIF(FG$22:FZ$22,FK31)+COUNTIF(FG$25:FZ$25,FK31))/設定!$G22+IFERROR((COUNTIF(FG$6:FZ$7,処理!$L9)+COUNTIF(FG$10:FZ$10,処理!$L9)+COUNTIF(FG$13:FZ$13,処理!$L9)+COUNTIF(FG$16:FZ$16,処理!$L9)+COUNTIF(FG$19:FZ$19,処理!$L9)+COUNTIF(FG$22:FZ$22,処理!$L9)+COUNTIF(FG$25:FZ$25,処理!$L9))/処理!$M9,0))","v":""},"",{"$f":"$K$31","v":""},null,{"$f":"IF(LEN(FO31)=0,\"\",(COUNTIF(FG$6:FZ$7,FO31)+COUNTIF(FG$10:FZ$10,FO31)+COUNTIF(FG$13:FZ$13,FO31)+COUNTIF(FG$16:FZ$16,FO31)+COUNTIF(FG$19:FZ$19,FO31)+COUNTIF(FG$22:FZ$22,FO31)+COUNTIF(FG$25:FZ$25,FO31))/設定!$J22+IFERROR((COUNTIF(FG$6:FZ$7,処理!$L15)+COUNTIF(FG$10:FZ$10,処理!$L15)+COUNTIF(FG$13:FZ$13,処理!$L15)+COUNTIF(FG$16:FZ$16,処理!$L15)+COUNTIF(FG$19:FZ$19,処理!$L15)+COUNTIF(FG$22:FZ$22,処理!$L15)+COUNTIF(FG$25:FZ$25,処理!$L15))/処理!$M15,0))","v":""},"",{"$f":"$O$31","v":""},null,{"$f":"IF(LEN(FS31)=0,\"\",(COUNTIF(FG$6:FZ$7,FS31)+COUNTIF(FG$10:FZ$10,FS31)+COUNTIF(FG$13:FZ$13,FS31)+COUNTIF(FG$16:FZ$16,FS31)+COUNTIF(FG$19:FZ$19,FS31)+COUNTIF(FG$22:FZ$22,FS31)+COUNTIF(FG$25:FZ$25,FS31))/設定!$M22+IFERROR((COUNTIF(FG$6:FZ$7,処理!$L21)+COUNTIF(FG$10:FZ$10,処理!$L21)+COUNTIF(FG$13:FZ$13,処理!$L21)+COUNTIF(FG$16:FZ$16,処理!$L21)+COUNTIF(FG$19:FZ$19,処理!$L21)+COUNTIF(FG$22:FZ$22,処理!$L21)+COUNTIF(FG$25:FZ$25,処理!$L21))/処理!$M21,0))","v":""},"",{"$f":"$S$31","v":""},null,{"$f":"IF(LEN(FW31)=0,\"\",COUNTIF(FG$6:FZ$7,FW31)+COUNTIF(FG$10:FZ$10,FW31)+COUNTIF(FG$13:FZ$13,FW31)+COUNTIF(FG$16:FZ$16,FW31)+COUNTIF(FG$19:FZ$19,FW31)+COUNTIF(FG$22:FZ$22,FW31)+COUNTIF(FG$25:FZ$25,FW31))","v":""},"",{"$f":"$C$31","v":""},null,{"$f":"IF(LEN(GA31)=0,\"\",(COUNTIF(GA$6:GT$7,GA31)+COUNTIF(GA$10:GT$10,GA31)+COUNTIF(GA$13:GT$13,GA31)+COUNTIF(GA$16:GT$16,GA31)+COUNTIF(GA$19:GT$19,GA31)+COUNTIF(GA$22:GT$22,GA31)+COUNTIF(GA$25:GT$25,GA31))/設定!$D22+IFERROR((COUNTIF(GA$6:GT$7,処理!$L3)+COUNTIF(GA$10:GT$10,処理!$L3)+COUNTIF(GA$13:GT$13,処理!$L3)+COUNTIF(GA$16:GT$16,処理!$L3)+COUNTIF(GA$19:GT$19,処理!$L3)+COUNTIF(GA$22:GT$22,処理!$L3)+COUNTIF(GA$25:GT$25,処理!$L3))/処理!$M3,0))","v":""},{"$f":"IF(LEN(GA31)=0,\"\",SUM(FJ31,GC31))","v":""},{"$f":"$G$31","v":""},null,{"$f":"IF(LEN(GE31)=0,\"\",(COUNTIF(GA$6:GT$7,GE31)+COUNTIF(GA$10:GT$10,GE31)+COUNTIF(GA$13:GT$13,GE31)+COUNTIF(GA$16:GT$16,GE31)+COUNTIF(GA$19:GT$19,GE31)+COUNTIF(GA$22:GT$22,GE31)+COUNTIF(GA$25:GT$25,GE31))/設定!$G22+IFERROR((COUNTIF(GA$6:GT$7,処理!$L9)+COUNTIF(GA$10:GT$10,処理!$L9)+COUNTIF(GA$13:GT$13,処理!$L9)+COUNTIF(GA$16:GT$16,処理!$L9)+COUNTIF(GA$19:GT$19,処理!$L9)+COUNTIF(GA$22:GT$22,処理!$L9)+COUNTIF(GA$25:GT$25,処理!$L9))/処理!$M9,0))","v":""},"",{"$f":"$K$31","v":""},null,{"$f":"IF(LEN(GI31)=0,\"\",(COUNTIF(GA$6:GT$7,GI31)+COUNTIF(GA$10:GT$10,GI31)+COUNTIF(GA$13:GT$13,GI31)+COUNTIF(GA$16:GT$16,GI31)+COUNTIF(GA$19:GT$19,GI31)+COUNTIF(GA$22:GT$22,GI31)+COUNTIF(GA$25:GT$25,GI31))/設定!$J22+IFERROR((COUNTIF(GA$6:GT$7,処理!$L15)+COUNTIF(GA$10:GT$10,処理!$L15)+COUNTIF(GA$13:GT$13,処理!$L15)+COUNTIF(GA$16:GT$16,処理!$L15)+COUNTIF(GA$19:GT$19,処理!$L15)+COUNTIF(GA$22:GT$22,処理!$L15)+COUNTIF(GA$25:GT$25,処理!$L15))/処理!$M15,0))","v":""},"",{"$f":"$O$31","v":""},null,{"$f":"IF(LEN(GM31)=0,\"\",(COUNTIF(GA$6:GT$7,GM31)+COUNTIF(GA$10:GT$10,GM31)+COUNTIF(GA$13:GT$13,GM31)+COUNTIF(GA$16:GT$16,GM31)+COUNTIF(GA$19:GT$19,GM31)+COUNTIF(GA$22:GT$22,GM31)+COUNTIF(GA$25:GT$25,GM31))/設定!$M22+IFERROR((COUNTIF(GA$6:GT$7,処理!$L21)+COUNTIF(GA$10:GT$10,処理!$L21)+COUNTIF(GA$13:GT$13,処理!$L21)+COUNTIF(GA$16:GT$16,処理!$L21)+COUNTIF(GA$19:GT$19,処理!$L21)+COUNTIF(GA$22:GT$22,処理!$L21)+COUNTIF(GA$25:GT$25,処理!$L21))/処理!$M21,0))","v":""},"",{"$f":"$S$31","v":""},null,{"$f":"IF(LEN(GQ31)=0,\"\",COUNTIF(GA$6:GT$7,GQ31)+COUNTIF(GA$10:GT$10,GQ31)+COUNTIF(GA$13:GT$13,GQ31)+COUNTIF(GA$16:GT$16,GQ31)+COUNTIF(GA$19:GT$19,GQ31)+COUNTIF(GA$22:GT$22,GQ31)+COUNTIF(GA$25:GT$25,GQ31))","v":""},"",{"$f":"$C$31","v":""},null,{"$f":"IF(LEN(GU31)=0,\"\",(COUNTIF(GU$6:HN$7,GU31)+COUNTIF(GU$10:HN$10,GU31)+COUNTIF(GU$13:HN$13,GU31)+COUNTIF(GU$16:HN$16,GU31)+COUNTIF(GU$19:HN$19,GU31)+COUNTIF(GU$22:HN$22,GU31)+COUNTIF(GU$25:HN$25,GU31))/設定!$D22+IFERROR((COUNTIF(GU$6:HN$7,処理!$L3)+COUNTIF(GU$10:HN$10,処理!$L3)+COUNTIF(GU$13:HN$13,処理!$L3)+COUNTIF(GU$16:HN$16,処理!$L3)+COUNTIF(GU$19:HN$19,処理!$L3)+COUNTIF(GU$22:HN$22,処理!$L3)+COUNTIF(GU$25:HN$25,処理!$L3))/処理!$M3,0))","v":""},{"$f":"IF(LEN(GU31)=0,\"\",SUM(GD31,GW31))","v":""},{"$f":"$G$31","v":""},null,{"$f":"IF(LEN(GY31)=0,\"\",(COUNTIF(GU$6:HN$7,GY31)+COUNTIF(GU$10:HN$10,GY31)+COUNTIF(GU$13:HN$13,GY31)+COUNTIF(GU$16:HN$16,GY31)+COUNTIF(GU$19:HN$19,GY31)+COUNTIF(GU$22:HN$22,GY31)+COUNTIF(GU$25:HN$25,GY31))/設定!$G22+IFERROR((COUNTIF(GU$6:HN$7,処理!$L9)+COUNTIF(GU$10:HN$10,処理!$L9)+COUNTIF(GU$13:HN$13,処理!$L9)+COUNTIF(GU$16:HN$16,処理!$L9)+COUNTIF(GU$19:HN$19,処理!$L9)+COUNTIF(GU$22:HN$22,処理!$L9)+COUNTIF(GU$25:HN$25,処理!$L9))/処理!$M9,0))","v":""},"",{"$f":"$K$31","v":""},null,{"$f":"IF(LEN(HC31)=0,\"\",(COUNTIF(GU$6:HN$7,HC31)+COUNTIF(GU$10:HN$10,HC31)+COUNTIF(GU$13:HN$13,HC31)+COUNTIF(GU$16:HN$16,HC31)+COUNTIF(GU$19:HN$19,HC31)+COUNTIF(GU$22:HN$22,HC31)+COUNTIF(GU$25:HN$25,HC31))/設定!$J22+IFERROR((COUNTIF(GU$6:HN$7,処理!$L15)+COUNTIF(GU$10:HN$10,処理!$L15)+COUNTIF(GU$13:HN$13,処理!$L15)+COUNTIF(GU$16:HN$16,処理!$L15)+COUNTIF(GU$19:HN$19,処理!$L15)+COUNTIF(GU$22:HN$22,処理!$L15)+COUNTIF(GU$25:HN$25,処理!$L15))/処理!$M15,0))","v":""},"",{"$f":"$O$31","v":""},null,{"$f":"IF(LEN(HG31)=0,\"\",(COUNTIF(GU$6:HN$7,HG31)+COUNTIF(GU$10:HN$10,HG31)+COUNTIF(GU$13:HN$13,HG31)+COUNTIF(GU$16:HN$16,HG31)+COUNTIF(GU$19:HN$19,HG31)+COUNTIF(GU$22:HN$22,HG31)+COUNTIF(GU$25:HN$25,HG31))/設定!$M22+IFERROR((COUNTIF(GU$6:HN$7,処理!$L21)+COUNTIF(GU$10:HN$10,処理!$L21)+COUNTIF(GU$13:HN$13,処理!$L21)+COUNTIF(GU$16:HN$16,処理!$L21)+COUNTIF(GU$19:HN$19,処理!$L21)+COUNTIF(GU$22:HN$22,処理!$L21)+COUNTIF(GU$25:HN$25,処理!$L21))/処理!$M21,0))","v":""},"",{"$f":"$S$31","v":""},null,{"$f":"IF(LEN(HK31)=0,\"\",COUNTIF(GU$6:HN$7,HK31)+COUNTIF(GU$10:HN$10,HK31)+COUNTIF(GU$13:HN$13,HK31)+COUNTIF(GU$16:HN$16,HK31)+COUNTIF(GU$19:HN$19,HK31)+COUNTIF(GU$22:HN$22,HK31)+COUNTIF(GU$25:HN$25,HK31))","v":""},"",{"$f":"$C$31","v":""},null,{"$f":"IF(LEN(HO31)=0,\"\",(COUNTIF(HO$6:IH$7,HO31)+COUNTIF(HO$10:IH$10,HO31)+COUNTIF(HO$13:IH$13,HO31)+COUNTIF(HO$16:IH$16,HO31)+COUNTIF(HO$19:IH$19,HO31)+COUNTIF(HO$22:IH$22,HO31)+COUNTIF(HO$25:IH$25,HO31))/設定!$D22+IFERROR((COUNTIF(HO$6:IH$7,処理!$L3)+COUNTIF(HO$10:IH$10,処理!$L3)+COUNTIF(HO$13:IH$13,処理!$L3)+COUNTIF(HO$16:IH$16,処理!$L3)+COUNTIF(HO$19:IH$19,処理!$L3)+COUNTIF(HO$22:IH$22,処理!$L3)+COUNTIF(HO$25:IH$25,処理!$L3))/処理!$M3,0))","v":""},{"$f":"IF(LEN(HO31)=0,\"\",SUM(GX31,HQ31))","v":""},{"$f":"$G$31","v":""},null,{"$f":"IF(LEN(HS31)=0,\"\",(COUNTIF(HO$6:IH$7,HS31)+COUNTIF(HO$10:IH$10,HS31)+COUNTIF(HO$13:IH$13,HS31)+COUNTIF(HO$16:IH$16,HS31)+COUNTIF(HO$19:IH$19,HS31)+COUNTIF(HO$22:IH$22,HS31)+COUNTIF(HO$25:IH$25,HS31))/設定!$G22+IFERROR((COUNTIF(HO$6:IH$7,処理!$L9)+COUNTIF(HO$10:IH$10,処理!$L9)+COUNTIF(HO$13:IH$13,処理!$L9)+COUNTIF(HO$16:IH$16,処理!$L9)+COUNTIF(HO$19:IH$19,処理!$L9)+COUNTIF(HO$22:IH$22,処理!$L9)+COUNTIF(HO$25:IH$25,処理!$L9))/処理!$M9,0))","v":""},"",{"$f":"$K$31","v":""},null,{"$f":"IF(LEN(HW31)=0,\"\",(COUNTIF(HO$6:IH$7,HW31)+COUNTIF(HO$10:IH$10,HW31)+COUNTIF(HO$13:IH$13,HW31)+COUNTIF(HO$16:IH$16,HW31)+COUNTIF(HO$19:IH$19,HW31)+COUNTIF(HO$22:IH$22,HW31)+COUNTIF(HO$25:IH$25,HW31))/設定!$J22+IFERROR((COUNTIF(HO$6:IH$7,処理!$L15)+COUNTIF(HO$10:IH$10,処理!$L15)+COUNTIF(HO$13:IH$13,処理!$L15)+COUNTIF(HO$16:IH$16,処理!$L15)+COUNTIF(HO$19:IH$19,処理!$L15)+COUNTIF(HO$22:IH$22,処理!$L15)+COUNTIF(HO$25:IH$25,処理!$L15))/処理!$M15,0))","v":""},"",{"$f":"$O$31","v":""},null,{"$f":"IF(LEN(IA31)=0,\"\",(COUNTIF(HO$6:IH$7,IA31)+COUNTIF(HO$10:IH$10,IA31)+COUNTIF(HO$13:IH$13,IA31)+COUNTIF(HO$16:IH$16,IA31)+COUNTIF(HO$19:IH$19,IA31)+COUNTIF(HO$22:IH$22,IA31)+COUNTIF(HO$25:IH$25,IA31))/設定!$M22+IFERROR((COUNTIF(HO$6:IH$7,処理!$L21)+COUNTIF(HO$10:IH$10,処理!$L21)+COUNTIF(HO$13:IH$13,処理!$L21)+COUNTIF(HO$16:IH$16,処理!$L21)+COUNTIF(HO$19:IH$19,処理!$L21)+COUNTIF(HO$22:IH$22,処理!$L21)+COUNTIF(HO$25:IH$25,処理!$L21))/処理!$M21,0))","v":""},"",{"$f":"$S$31","v":""},null,{"$f":"IF(LEN(IE31)=0,\"\",COUNTIF(HO$6:IH$7,IE31)+COUNTIF(HO$10:IH$10,IE31)+COUNTIF(HO$13:IH$13,IE31)+COUNTIF(HO$16:IH$16,IE31)+COUNTIF(HO$19:IH$19,IE31)+COUNTIF(HO$22:IH$22,IE31)+COUNTIF(HO$25:IH$25,IE31))","v":""},"",{"$f":"$C$31","v":""},null,{"$f":"IF(LEN(II31)=0,\"\",(COUNTIF(II$6:JB$7,II31)+COUNTIF(II$10:JB$10,II31)+COUNTIF(II$13:JB$13,II31)+COUNTIF(II$16:JB$16,II31)+COUNTIF(II$19:JB$19,II31)+COUNTIF(II$22:JB$22,II31)+COUNTIF(II$25:JB$25,II31))/設定!$D22+IFERROR((COUNTIF(II$6:JB$7,処理!$L3)+COUNTIF(II$10:JB$10,処理!$L3)+COUNTIF(II$13:JB$13,処理!$L3)+COUNTIF(II$16:JB$16,処理!$L3)+COUNTIF(II$19:JB$19,処理!$L3)+COUNTIF(II$22:JB$22,処理!$L3)+COUNTIF(II$25:JB$25,処理!$L3))/処理!$M3,0))","v":""},{"$f":"IF(LEN(II31)=0,\"\",SUM(HR31,IK31))","v":""},{"$f":"$G$31","v":""},null,{"$f":"IF(LEN(IM31)=0,\"\",(COUNTIF(II$6:JB$7,IM31)+COUNTIF(II$10:JB$10,IM31)+COUNTIF(II$13:JB$13,IM31)+COUNTIF(II$16:JB$16,IM31)+COUNTIF(II$19:JB$19,IM31)+COUNTIF(II$22:JB$22,IM31)+COUNTIF(II$25:JB$25,IM31))/設定!$G22+IFERROR((COUNTIF(II$6:JB$7,処理!$L9)+COUNTIF(II$10:JB$10,処理!$L9)+COUNTIF(II$13:JB$13,処理!$L9)+COUNTIF(II$16:JB$16,処理!$L9)+COUNTIF(II$19:JB$19,処理!$L9)+COUNTIF(II$22:JB$22,処理!$L9)+COUNTIF(II$25:JB$25,処理!$L9))/処理!$M9,0))","v":""},"",{"$f":"$K$31","v":""},null,{"$f":"IF(LEN(IQ31)=0,\"\",(COUNTIF(II$6:JB$7,IQ31)+COUNTIF(II$10:JB$10,IQ31)+COUNTIF(II$13:JB$13,IQ31)+COUNTIF(II$16:JB$16,IQ31)+COUNTIF(II$19:JB$19,IQ31)+COUNTIF(II$22:JB$22,IQ31)+COUNTIF(II$25:JB$25,IQ31))/設定!$J22+IFERROR((COUNTIF(II$6:JB$7,処理!$L15)+COUNTIF(II$10:JB$10,処理!$L15)+COUNTIF(II$13:JB$13,処理!$L15)+COUNTIF(II$16:JB$16,処理!$L15)+COUNTIF(II$19:JB$19,処理!$L15)+COUNTIF(II$22:JB$22,処理!$L15)+COUNTIF(II$25:JB$25,処理!$L15))/処理!$M15,0))","v":""},"",{"$f":"$O$31","v":""},null,{"$f":"IF(LEN(IU31)=0,\"\",(COUNTIF(II$6:JB$7,IU31)+COUNTIF(II$10:JB$10,IU31)+COUNTIF(II$13:JB$13,IU31)+COUNTIF(II$16:JB$16,IU31)+COUNTIF(II$19:JB$19,IU31)+COUNTIF(II$22:JB$22,IU31)+COUNTIF(II$25:JB$25,IU31))/設定!$M22+IFERROR((COUNTIF(II$6:JB$7,処理!$L21)+COUNTIF(II$10:JB$10,処理!$L21)+COUNTIF(II$13:JB$13,処理!$L21)+COUNTIF(II$16:JB$16,処理!$L21)+COUNTIF(II$19:JB$19,処理!$L21)+COUNTIF(II$22:JB$22,処理!$L21)+COUNTIF(II$25:JB$25,処理!$L21))/処理!$M21,0))","v":""},"",{"$f":"$S$31","v":""},null,{"$f":"IF(LEN(IY31)=0,\"\",COUNTIF(II$6:JB$7,IY31)+COUNTIF(II$10:JB$10,IY31)+COUNTIF(II$13:JB$13,IY31)+COUNTIF(II$16:JB$16,IY31)+COUNTIF(II$19:JB$19,IY31)+COUNTIF(II$22:JB$22,IY31)+COUNTIF(II$25:JB$25,IY31))","v":""},"",{"$f":"$C$31","v":""},null,{"$f":"IF(LEN(JC31)=0,\"\",(COUNTIF(JC$6:JV$7,JC31)+COUNTIF(JC$10:JV$10,JC31)+COUNTIF(JC$13:JV$13,JC31)+COUNTIF(JC$16:JV$16,JC31)+COUNTIF(JC$19:JV$19,JC31)+COUNTIF(JC$22:JV$22,JC31)+COUNTIF(JC$25:JV$25,JC31))/設定!$D22+IFERROR((COUNTIF(JC$6:JV$7,処理!$L3)+COUNTIF(JC$10:JV$10,処理!$L3)+COUNTIF(JC$13:JV$13,処理!$L3)+COUNTIF(JC$16:JV$16,処理!$L3)+COUNTIF(JC$19:JV$19,処理!$L3)+COUNTIF(JC$22:JV$22,処理!$L3)+COUNTIF(JC$25:JV$25,処理!$L3))/処理!$M3,0))","v":""},{"$f":"IF(LEN(JC31)=0,\"\",SUM(IL31,JE31))","v":""},{"$f":"$G$31","v":""},null,{"$f":"IF(LEN(JG31)=0,\"\",(COUNTIF(JC$6:JV$7,JG31)+COUNTIF(JC$10:JV$10,JG31)+COUNTIF(JC$13:JV$13,JG31)+COUNTIF(JC$16:JV$16,JG31)+COUNTIF(JC$19:JV$19,JG31)+COUNTIF(JC$22:JV$22,JG31)+COUNTIF(JC$25:JV$25,JG31))/設定!$G22+IFERROR((COUNTIF(JC$6:JV$7,処理!$L9)+COUNTIF(JC$10:JV$10,処理!$L9)+COUNTIF(JC$13:JV$13,処理!$L9)+COUNTIF(JC$16:JV$16,処理!$L9)+COUNTIF(JC$19:JV$19,処理!$L9)+COUNTIF(JC$22:JV$22,処理!$L9)+COUNTIF(JC$25:JV$25,処理!$L9))/処理!$M9,0))","v":""},"",{"$f":"$K$31","v":""},null,{"$f":"IF(LEN(JK31)=0,\"\",(COUNTIF(JC$6:JV$7,JK31)+COUNTIF(JC$10:JV$10,JK31)+COUNTIF(JC$13:JV$13,JK31)+COUNTIF(JC$16:JV$16,JK31)+COUNTIF(JC$19:JV$19,JK31)+COUNTIF(JC$22:JV$22,JK31)+COUNTIF(JC$25:JV$25,JK31))/設定!$J22+IFERROR((COUNTIF(JC$6:JV$7,処理!$L15)+COUNTIF(JC$10:JV$10,処理!$L15)+COUNTIF(JC$13:JV$13,処理!$L15)+COUNTIF(JC$16:JV$16,処理!$L15)+COUNTIF(JC$19:JV$19,処理!$L15)+COUNTIF(JC$22:JV$22,処理!$L15)+COUNTIF(JC$25:JV$25,処理!$L15))/処理!$M15,0))","v":""},"",{"$f":"$O$31","v":""},null,{"$f":"IF(LEN(JO31)=0,\"\",(COUNTIF(JC$6:JV$7,JO31)+COUNTIF(JC$10:JV$10,JO31)+COUNTIF(JC$13:JV$13,JO31)+COUNTIF(JC$16:JV$16,JO31)+COUNTIF(JC$19:JV$19,JO31)+COUNTIF(JC$22:JV$22,JO31)+COUNTIF(JC$25:JV$25,JO31))/設定!$M22+IFERROR((COUNTIF(JC$6:JV$7,処理!$L21)+COUNTIF(JC$10:JV$10,処理!$L21)+COUNTIF(JC$13:JV$13,処理!$L21)+COUNTIF(JC$16:JV$16,処理!$L21)+COUNTIF(JC$19:JV$19,処理!$L21)+COUNTIF(JC$22:JV$22,処理!$L21)+COUNTIF(JC$25:JV$25,処理!$L21))/処理!$M21,0))","v":""},"",{"$f":"$S$31","v":""},null,{"$f":"IF(LEN(JS31)=0,\"\",COUNTIF(JC$6:JV$7,JS31)+COUNTIF(JC$10:JV$10,JS31)+COUNTIF(JC$13:JV$13,JS31)+COUNTIF(JC$16:JV$16,JS31)+COUNTIF(JC$19:JV$19,JS31)+COUNTIF(JC$22:JV$22,JS31)+COUNTIF(JC$25:JV$25,JS31))","v":""},"",{"$f":"$C$31","v":""},null,{"$f":"IF(LEN(JW31)=0,\"\",(COUNTIF(JW$6:KP$7,JW31)+COUNTIF(JW$10:KP$10,JW31)+COUNTIF(JW$13:KP$13,JW31)+COUNTIF(JW$16:KP$16,JW31)+COUNTIF(JW$19:KP$19,JW31)+COUNTIF(JW$22:KP$22,JW31)+COUNTIF(JW$25:KP$25,JW31))/設定!$D22+IFERROR((COUNTIF(JW$6:KP$7,処理!$L3)+COUNTIF(JW$10:KP$10,処理!$L3)+COUNTIF(JW$13:KP$13,処理!$L3)+COUNTIF(JW$16:KP$16,処理!$L3)+COUNTIF(JW$19:KP$19,処理!$L3)+COUNTIF(JW$22:KP$22,処理!$L3)+COUNTIF(JW$25:KP$25,処理!$L3))/処理!$M3,0))","v":""},{"$f":"IF(LEN(JW31)=0,\"\",SUM(JF31,JY31))","v":""},{"$f":"$G$31","v":""},null,{"$f":"IF(LEN(KA31)=0,\"\",(COUNTIF(JW$6:KP$7,KA31)+COUNTIF(JW$10:KP$10,KA31)+COUNTIF(JW$13:KP$13,KA31)+COUNTIF(JW$16:KP$16,KA31)+COUNTIF(JW$19:KP$19,KA31)+COUNTIF(JW$22:KP$22,KA31)+COUNTIF(JW$25:KP$25,KA31))/設定!$G22+IFERROR((COUNTIF(JW$6:KP$7,処理!$L9)+COUNTIF(JW$10:KP$10,処理!$L9)+COUNTIF(JW$13:KP$13,処理!$L9)+COUNTIF(JW$16:KP$16,処理!$L9)+COUNTIF(JW$19:KP$19,処理!$L9)+COUNTIF(JW$22:KP$22,処理!$L9)+COUNTIF(JW$25:KP$25,処理!$L9))/処理!$M9,0))","v":""},"",{"$f":"$K$31","v":""},null,{"$f":"IF(LEN(KE31)=0,\"\",(COUNTIF(JW$6:KP$7,KE31)+COUNTIF(JW$10:KP$10,KE31)+COUNTIF(JW$13:KP$13,KE31)+COUNTIF(JW$16:KP$16,KE31)+COUNTIF(JW$19:KP$19,KE31)+COUNTIF(JW$22:KP$22,KE31)+COUNTIF(JW$25:KP$25,KE31))/設定!$J22+IFERROR((COUNTIF(JW$6:KP$7,処理!$L15)+COUNTIF(JW$10:KP$10,処理!$L15)+COUNTIF(JW$13:KP$13,処理!$L15)+COUNTIF(JW$16:KP$16,処理!$L15)+COUNTIF(JW$19:KP$19,処理!$L15)+COUNTIF(JW$22:KP$22,処理!$L15)+COUNTIF(JW$25:KP$25,処理!$L15))/処理!$M15,0))","v":""},"",{"$f":"$O$31","v":""},null,{"$f":"IF(LEN(KI31)=0,\"\",(COUNTIF(JW$6:KP$7,KI31)+COUNTIF(JW$10:KP$10,KI31)+COUNTIF(JW$13:KP$13,KI31)+COUNTIF(JW$16:KP$16,KI31)+COUNTIF(JW$19:KP$19,KI31)+COUNTIF(JW$22:KP$22,KI31)+COUNTIF(JW$25:KP$25,KI31))/設定!$M22+IFERROR((COUNTIF(JW$6:KP$7,処理!$L21)+COUNTIF(JW$10:KP$10,処理!$L21)+COUNTIF(JW$13:KP$13,処理!$L21)+COUNTIF(JW$16:KP$16,処理!$L21)+COUNTIF(JW$19:KP$19,処理!$L21)+COUNTIF(JW$22:KP$22,処理!$L21)+COUNTIF(JW$25:KP$25,処理!$L21))/処理!$M21,0))","v":""},"",{"$f":"$S$31","v":""},null,{"$f":"IF(LEN(KM31)=0,\"\",COUNTIF(JW$6:KP$7,KM31)+COUNTIF(JW$10:KP$10,KM31)+COUNTIF(JW$13:KP$13,KM31)+COUNTIF(JW$16:KP$16,KM31)+COUNTIF(JW$19:KP$19,KM31)+COUNTIF(JW$22:KP$22,KM31)+COUNTIF(JW$25:KP$25,KM31))","v":""},"",{"$f":"$C$31","v":""},null,{"$f":"IF(LEN(KQ31)=0,\"\",COUNTIF(KQ$6:LJ$25,KQ31)/設定!$D22+IFERROR(COUNTIF(KQ$6:LJ$25,処理!$L3)/処理!$M3,0))","v":""},{"$f":"IF(LEN(KQ31)=0,\"\",SUM(JZ31,KS31))","v":""},{"$f":"$G$31","v":""},null,{"$f":"IF(LEN(KU31)=0,\"\",COUNTIF(KQ$6:LJ$25,KU31)/設定!$G22+IFERROR(COUNTIF(KQ$6:LJ$25,処理!$L9)/処理!$M9,0))","v":""},"",{"$f":"$K$31","v":""},null,{"$f":"IF(LEN(KY31)=0,\"\",COUNTIF(KQ$6:LJ$25,KY31)/設定!$J22+IFERROR(COUNTIF(KQ$6:LJ$25,処理!$L15)/処理!$M15,0))","v":""},"",{"$f":"$O$31","v":""},null,{"$f":"IF(LEN(LC31)=0,\"\",COUNTIF(KQ$6:LJ$25,LC31)/設定!$M22+IFERROR(COUNTIF(KQ$6:LJ$25,処理!$L21)/処理!$M21,0))","v":""},"",{"$f":"$S$31","v":""},null,{"$f":"IF(LEN(LG31)=0,\"\",COUNTIF(KQ$6:LJ$25,LG31))","v":""},"",{"$f":"$C$31","v":""},null,{"$f":"IF(LEN(LK31)=0,\"\",(COUNTIF(LK$6:MD$7,LK31)+COUNTIF(LK$10:MD$10,LK31)+COUNTIF(LK$13:MD$13,LK31)+COUNTIF(LK$16:MD$16,LK31)+COUNTIF(LK$19:MD$19,LK31)+COUNTIF(LK$22:MD$22,LK31)+COUNTIF(LK$25:MD$25,LK31))/設定!$D22+IFERROR((COUNTIF(LK$6:MD$7,処理!$L3)+COUNTIF(LK$10:MD$10,処理!$L3)+COUNTIF(LK$13:MD$13,処理!$L3)+COUNTIF(LK$16:MD$16,処理!$L3)+COUNTIF(LK$19:MD$19,処理!$L3)+COUNTIF(LK$22:MD$22,処理!$L3)+COUNTIF(LK$25:MD$25,処理!$L3))/処理!$M3,0))","v":""},{"$f":"IF(LEN(LK31)=0,\"\",SUM(KT31,LM31))","v":""},{"$f":"$G$31","v":""},null,{"$f":"IF(LEN(LO31)=0,\"\",(COUNTIF(LK$6:MD$7,LO31)+COUNTIF(LK$10:MD$10,LO31)+COUNTIF(LK$13:MD$13,LO31)+COUNTIF(LK$16:MD$16,LO31)+COUNTIF(LK$19:MD$19,LO31)+COUNTIF(LK$22:MD$22,LO31)+COUNTIF(LK$25:MD$25,LO31))/設定!$G22+IFERROR((COUNTIF(LK$6:MD$7,処理!$L9)+COUNTIF(LK$10:MD$10,処理!$L9)+COUNTIF(LK$13:MD$13,処理!$L9)+COUNTIF(LK$16:MD$16,処理!$L9)+COUNTIF(LK$19:MD$19,処理!$L9)+COUNTIF(LK$22:MD$22,処理!$L9)+COUNTIF(LK$25:MD$25,処理!$L9))/処理!$M9,0))","v":""},"",{"$f":"$K$31","v":""},null,{"$f":"IF(LEN(LS31)=0,\"\",(COUNTIF(LK$6:MD$7,LS31)+COUNTIF(LK$10:MD$10,LS31)+COUNTIF(LK$13:MD$13,LS31)+COUNTIF(LK$16:MD$16,LS31)+COUNTIF(LK$19:MD$19,LS31)+COUNTIF(LK$22:MD$22,LS31)+COUNTIF(LK$25:MD$25,LS31))/設定!$J22+IFERROR((COUNTIF(LK$6:MD$7,処理!$L15)+COUNTIF(LK$10:MD$10,処理!$L15)+COUNTIF(LK$13:MD$13,処理!$L15)+COUNTIF(LK$16:MD$16,処理!$L15)+COUNTIF(LK$19:MD$19,処理!$L15)+COUNTIF(LK$22:MD$22,処理!$L15)+COUNTIF(LK$25:MD$25,処理!$L15))/処理!$M15,0))","v":""},"",{"$f":"$O$31","v":""},null,{"$f":"IF(LEN(LW31)=0,\"\",(COUNTIF(LK$6:MD$7,LW31)+COUNTIF(LK$10:MD$10,LW31)+COUNTIF(LK$13:MD$13,LW31)+COUNTIF(LK$16:MD$16,LW31)+COUNTIF(LK$19:MD$19,LW31)+COUNTIF(LK$22:MD$22,LW31)+COUNTIF(LK$25:MD$25,LW31))/設定!$M22+IFERROR((COUNTIF(LK$6:MD$7,処理!$L21)+COUNTIF(LK$10:MD$10,処理!$L21)+COUNTIF(LK$13:MD$13,処理!$L21)+COUNTIF(LK$16:MD$16,処理!$L21)+COUNTIF(LK$19:MD$19,処理!$L21)+COUNTIF(LK$22:MD$22,処理!$L21)+COUNTIF(LK$25:MD$25,処理!$L21))/処理!$M21,0))","v":""},"",{"$f":"$S$31","v":""},null,{"$f":"IF(LEN(MA31)=0,\"\",COUNTIF(LK$6:MD$7,MA31)+COUNTIF(LK$10:MD$10,MA31)+COUNTIF(LK$13:MD$13,MA31)+COUNTIF(LK$16:MD$16,MA31)+COUNTIF(LK$19:MD$19,MA31)+COUNTIF(LK$22:MD$22,MA31)+COUNTIF(LK$25:MD$25,MA31))","v":""},""]
[null,null,{"$f":"IF(COUNTIF(処理!$J$2:$J$25,2)>0,処理!H4,\"\")","v":""},null,{"$f":"IF(LEN(C32)=0,\"\",(COUNTIF(C$6:V$7,C32)+COUNTIF(C$10:V$10,C32)+COUNTIF(C$13:V$13,C32)+COUNTIF(C$16:V$16,C32)+COUNTIF(C$19:V$19,C32)+COUNTIF(C$22:V$22,C32)+COUNTIF(C$25:V$25,C32))/設定!$D23+IFERROR((COUNTIF(C$6:V$7,処理!$L4)+COUNTIF(C$10:V$10,処理!$L4)+COUNTIF(C$13:V$13,処理!$L4)+COUNTIF(C$16:V$16,処理!$L4)+COUNTIF(C$19:V$19,処理!$L4)+COUNTIF(C$22:V$22,処理!$L4)+COUNTIF(C$25:V$25,処理!$L4))/処理!$M4,0))","v":""},"",{"$f":"IF(COUNTIF(処理!$J$2:$J$25,8)>0,処理!H10,\"\")","v":""},null,{"$f":"IF(LEN(G32)=0,\"\",(COUNTIF(C$6:V$7,G32)+COUNTIF(C$10:V$10,G32)+COUNTIF(C$13:V$13,G32)+COUNTIF(C$16:V$16,G32)+COUNTIF(C$19:V$19,G32)+COUNTIF(C$22:V$22,G32)+COUNTIF(C$25:V$25,G32))/設定!$G23+IFERROR((COUNTIF(C$6:V$7,処理!$L10)+COUNTIF(C$10:V$10,処理!$L10)+COUNTIF(C$13:V$13,処理!$L10)+COUNTIF(C$16:V$16,処理!$L10)+COUNTIF(C$19:V$19,処理!$L10)+COUNTIF(C$22:V$22,処理!$L10)+COUNTIF(C$25:V$25,処理!$L10))/処理!$M10,0))","v":""},"",{"$f":"IF(COUNTIF(処理!$J$2:$J$25,14)>0,処理!H16,\"\")","v":""},null,{"$f":"IF(LEN(K32)=0,\"\",(COUNTIF(C$6:V$7,K32)+COUNTIF(C$10:V$10,K32)+COUNTIF(C$13:V$13,K32)+COUNTIF(C$16:V$16,K32)+COUNTIF(C$19:V$19,K32)+COUNTIF(C$22:V$22,K32)+COUNTIF(C$25:V$25,K32))/設定!$J23+IFERROR((COUNTIF(C$6:V$7,処理!$L16)+COUNTIF(C$10:V$10,処理!$L16)+COUNTIF(C$13:V$13,処理!$L16)+COUNTIF(C$16:V$16,処理!$L16)+COUNTIF(C$19:V$19,処理!$L16)+COUNTIF(C$22:V$22,処理!$L16)+COUNTIF(C$25:V$25,処理!$L16))/処理!$M16,0))","v":""},"",{"$f":"IF(COUNTIF(処理!$J$2:$J$25,20)>0,処理!H22,\"\")","v":""},null,{"$f":"IF(LEN(O32)=0,\"\",(COUNTIF(C$6:V$7,O32)+COUNTIF(C$10:V$10,O32)+COUNTIF(C$13:V$13,O32)+COUNTIF(C$16:V$16,O32)+COUNTIF(C$19:V$19,O32)+COUNTIF(C$22:V$22,O32)+COUNTIF(C$25:V$25,O32))/設定!$M23+IFERROR((COUNTIF(C$6:V$7,処理!$L22)+COUNTIF(C$10:V$10,処理!$L22)+COUNTIF(C$13:V$13,処理!$L22)+COUNTIF(C$16:V$16,処理!$L22)+COUNTIF(C$19:V$19,処理!$L22)+COUNTIF(C$22:V$22,処理!$L22)+COUNTIF(C$25:V$25,処理!$L22))/処理!$M22,0))","v":""},"",{"$f":"処理!H28&\"\"","v":""},null,{"$f":"IF(LEN(S32)=0,\"\",COUNTIF(C$6:V$7,S32)+COUNTIF(C$10:V$10,S32)+COUNTIF(C$13:V$13,S32)+COUNTIF(C$16:V$16,S32)+COUNTIF(C$19:V$19,S32)+COUNTIF(C$22:V$22,S32)+COUNTIF(C$25:V$25,S32))","v":""},"",{"$f":"$C$32","v":""},null,{"$f":"IF(LEN(W32)=0,\"\",(COUNTIF(W$6:AP$7,W32)+COUNTIF(W$10:AP$10,W32)+COUNTIF(W$13:AP$13,W32)+COUNTIF(W$16:AP$16,W32)+COUNTIF(W$19:AP$19,W32)+COUNTIF(W$22:AP$22,W32)+COUNTIF(W$25:AP$25,W32))/設定!$D23+IFERROR((COUNTIF(W$6:AP$7,処理!$L4)+COUNTIF(W$10:AP$10,処理!$L4)+COUNTIF(W$13:AP$13,処理!$L4)+COUNTIF(W$16:AP$16,処理!$L4)+COUNTIF(W$19:AP$19,処理!$L4)+COUNTIF(W$22:AP$22,処理!$L4)+COUNTIF(W$25:AP$25,処理!$L4))/処理!$M4,0))","v":""},"",{"$f":"$G$32","v":""},null,{"$f":"IF(LEN(AA32)=0,\"\",(COUNTIF(W$6:AP$7,AA32)+COUNTIF(W$10:AP$10,AA32)+COUNTIF(W$13:AP$13,AA32)+COUNTIF(W$16:AP$16,AA32)+COUNTIF(W$19:AP$19,AA32)+COUNTIF(W$22:AP$22,AA32)+COUNTIF(W$25:AP$25,AA32))/設定!$G23+IFERROR((COUNTIF(W$6:AP$7,処理!$L10)+COUNTIF(W$10:AP$10,処理!$L10)+COUNTIF(W$13:AP$13,処理!$L10)+COUNTIF(W$16:AP$16,処理!$L10)+COUNTIF(W$19:AP$19,処理!$L10)+COUNTIF(W$22:AP$22,処理!$L10)+COUNTIF(W$25:AP$25,処理!$L10))/処理!$M10,0))","v":""},"",{"$f":"$K$32","v":""},null,{"$f":"IF(LEN(AE32)=0,\"\",(COUNTIF(W$6:AP$7,AE32)+COUNTIF(W$10:AP$10,AE32)+COUNTIF(W$13:AP$13,AE32)+COUNTIF(W$16:AP$16,AE32)+COUNTIF(W$19:AP$19,AE32)+COUNTIF(W$22:AP$22,AE32)+COUNTIF(W$25:AP$25,AE32))/設定!$J23+IFERROR((COUNTIF(W$6:AP$7,処理!$L16)+COUNTIF(W$10:AP$10,処理!$L16)+COUNTIF(W$13:AP$13,処理!$L16)+COUNTIF(W$16:AP$16,処理!$L16)+COUNTIF(W$19:AP$19,処理!$L16)+COUNTIF(W$22:AP$22,処理!$L16)+COUNTIF(W$25:AP$25,処理!$L16))/処理!$M16,0))","v":""},"",{"$f":"$O$32","v":""},null,{"$f":"IF(LEN(AI32)=0,\"\",(COUNTIF(W$6:AP$7,AI32)+COUNTIF(W$10:AP$10,AI32)+COUNTIF(W$13:AP$13,AI32)+COUNTIF(W$16:AP$16,AI32)+COUNTIF(W$19:AP$19,AI32)+COUNTIF(W$22:AP$22,AI32)+COUNTIF(W$25:AP$25,AI32))/設定!$M23+IFERROR((COUNTIF(W$6:AP$7,処理!$L22)+COUNTIF(W$10:AP$10,処理!$L22)+COUNTIF(W$13:AP$13,処理!$L22)+COUNTIF(W$16:AP$16,処理!$L22)+COUNTIF(W$19:AP$19,処理!$L22)+COUNTIF(W$22:AP$22,処理!$L22)+COUNTIF(W$25:AP$25,処理!$L22))/処理!$M22,0))","v":""},"",{"$f":"$S$32","v":""},null,{"$f":"IF(LEN(AM32)=0,\"\",COUNTIF(W$6:AP$7,AM32)+COUNTIF(W$10:AP$10,AM32)+COUNTIF(W$13:AP$13,AM32)+COUNTIF(W$16:AP$16,AM32)+COUNTIF(W$19:AP$19,AM32)+COUNTIF(W$22:AP$22,AM32)+COUNTIF(W$25:AP$25,AM32))","v":""},"",{"$f":"$C$32","v":""},null,{"$f":"IF(LEN(AQ32)=0,\"\",(COUNTIF(AQ$6:BJ$7,AQ32)+COUNTIF(AQ$10:BJ$10,AQ32)+COUNTIF(AQ$13:BJ$13,AQ32)+COUNTIF(AQ$16:BJ$16,AQ32)+COUNTIF(AQ$19:BJ$19,AQ32)+COUNTIF(AQ$22:BJ$22,AQ32)+COUNTIF(AQ$25:BJ$25,AQ32))/設定!$D23+IFERROR((COUNTIF(AQ$6:BJ$7,処理!$L4)+COUNTIF(AQ$10:BJ$10,処理!$L4)+COUNTIF(AQ$13:BJ$13,処理!$L4)+COUNTIF(AQ$16:BJ$16,処理!$L4)+COUNTIF(AQ$19:BJ$19,処理!$L4)+COUNTIF(AQ$22:BJ$22,処理!$L4)+COUNTIF(AQ$25:BJ$25,処理!$L4))/処理!$M4,0))","v":""},"",{"$f":"$G$32","v":""},null,{"$f":"IF(LEN(AU32)=0,\"\",(COUNTIF(AQ$6:BJ$7,AU32)+COUNTIF(AQ$10:BJ$10,AU32)+COUNTIF(AQ$13:BJ$13,AU32)+COUNTIF(AQ$16:BJ$16,AU32)+COUNTIF(AQ$19:BJ$19,AU32)+COUNTIF(AQ$22:BJ$22,AU32)+COUNTIF(AQ$25:BJ$25,AU32))/設定!$G23+IFERROR((COUNTIF(AQ$6:BJ$7,処理!$L10)+COUNTIF(AQ$10:BJ$10,処理!$L10)+COUNTIF(AQ$13:BJ$13,処理!$L10)+COUNTIF(AQ$16:BJ$16,処理!$L10)+COUNTIF(AQ$19:BJ$19,処理!$L10)+COUNTIF(AQ$22:BJ$22,処理!$L10)+COUNTIF(AQ$25:BJ$25,処理!$L10))/処理!$M10,0))","v":""},"",{"$f":"$K$32","v":""},null,{"$f":"IF(LEN(AY32)=0,\"\",(COUNTIF(AQ$6:BJ$7,AY32)+COUNTIF(AQ$10:BJ$10,AY32)+COUNTIF(AQ$13:BJ$13,AY32)+COUNTIF(AQ$16:BJ$16,AY32)+COUNTIF(AQ$19:BJ$19,AY32)+COUNTIF(AQ$22:BJ$22,AY32)+COUNTIF(AQ$25:BJ$25,AY32))/設定!$J23+IFERROR((COUNTIF(AQ$6:BJ$7,処理!$L16)+COUNTIF(AQ$10:BJ$10,処理!$L16)+COUNTIF(AQ$13:BJ$13,処理!$L16)+COUNTIF(AQ$16:BJ$16,処理!$L16)+COUNTIF(AQ$19:BJ$19,処理!$L16)+COUNTIF(AQ$22:BJ$22,処理!$L16)+COUNTIF(AQ$25:BJ$25,処理!$L16))/処理!$M16,0))","v":""},"",{"$f":"$O$32","v":""},null,{"$f":"IF(LEN(BC32)=0,\"\",(COUNTIF(AQ$6:BJ$7,BC32)+COUNTIF(AQ$10:BJ$10,BC32)+COUNTIF(AQ$13:BJ$13,BC32)+COUNTIF(AQ$16:BJ$16,BC32)+COUNTIF(AQ$19:BJ$19,BC32)+COUNTIF(AQ$22:BJ$22,BC32)+COUNTIF(AQ$25:BJ$25,BC32))/設定!$M23+IFERROR((COUNTIF(AQ$6:BJ$7,処理!$L22)+COUNTIF(AQ$10:BJ$10,処理!$L22)+COUNTIF(AQ$13:BJ$13,処理!$L22)+COUNTIF(AQ$16:BJ$16,処理!$L22)+COUNTIF(AQ$19:BJ$19,処理!$L22)+COUNTIF(AQ$22:BJ$22,処理!$L22)+COUNTIF(AQ$25:BJ$25,処理!$L22))/処理!$M22,0))","v":""},"",{"$f":"$S$32","v":""},null,{"$f":"IF(LEN(BG32)=0,\"\",COUNTIF(AQ$6:BJ$7,BG32)+COUNTIF(AQ$10:BJ$10,BG32)+COUNTIF(AQ$13:BJ$13,BG32)+COUNTIF(AQ$16:BJ$16,BG32)+COUNTIF(AQ$19:BJ$19,BG32)+COUNTIF(AQ$22:BJ$22,BG32)+COUNTIF(AQ$25:BJ$25,BG32))","v":""},"",{"$f":"$C$32","v":""},null,{"$f":"IF(LEN(BK32)=0,\"\",(COUNTIF(BK$6:CD$7,BK32)+COUNTIF(BK$10:CD$10,BK32)+COUNTIF(BK$13:CD$13,BK32)+COUNTIF(BK$16:CD$16,BK32)+COUNTIF(BK$19:CD$19,BK32)+COUNTIF(BK$22:CD$22,BK32)+COUNTIF(BK$25:CD$25,BK32))/設定!$D23+IFERROR((COUNTIF(BK$6:CD$7,処理!$L4)+COUNTIF(BK$10:CD$10,処理!$L4)+COUNTIF(BK$13:CD$13,処理!$L4)+COUNTIF(BK$16:CD$16,処理!$L4)+COUNTIF(BK$19:CD$19,処理!$L4)+COUNTIF(BK$22:CD$22,処理!$L4)+COUNTIF(BK$25:CD$25,処理!$L4))/処理!$M4,0))","v":""},"",{"$f":"$G$32","v":""},null,{"$f":"IF(LEN(BO32)=0,\"\",(COUNTIF(BK$6:CD$7,BO32)+COUNTIF(BK$10:CD$10,BO32)+COUNTIF(BK$13:CD$13,BO32)+COUNTIF(BK$16:CD$16,BO32)+COUNTIF(BK$19:CD$19,BO32)+COUNTIF(BK$22:CD$22,BO32)+COUNTIF(BK$25:CD$25,BO32))/設定!$G23+IFERROR((COUNTIF(BK$6:CD$7,処理!$L10)+COUNTIF(BK$10:CD$10,処理!$L10)+COUNTIF(BK$13:CD$13,処理!$L10)+COUNTIF(BK$16:CD$16,処理!$L10)+COUNTIF(BK$19:CD$19,処理!$L10)+COUNTIF(BK$22:CD$22,処理!$L10)+COUNTIF(BK$25:CD$25,処理!$L10))/処理!$M10,0))","v":""},"",{"$f":"$K$32","v":""},null,{"$f":"IF(LEN(BS32)=0,\"\",(COUNTIF(BK$6:CD$7,BS32)+COUNTIF(BK$10:CD$10,BS32)+COUNTIF(BK$13:CD$13,BS32)+COUNTIF(BK$16:CD$16,BS32)+COUNTIF(BK$19:CD$19,BS32)+COUNTIF(BK$22:CD$22,BS32)+COUNTIF(BK$25:CD$25,BS32))/設定!$J23+IFERROR((COUNTIF(BK$6:CD$7,処理!$L16)+COUNTIF(BK$10:CD$10,処理!$L16)+COUNTIF(BK$13:CD$13,処理!$L16)+COUNTIF(BK$16:CD$16,処理!$L16)+COUNTIF(BK$19:CD$19,処理!$L16)+COUNTIF(BK$22:CD$22,処理!$L16)+COUNTIF(BK$25:CD$25,処理!$L16))/処理!$M16,0))","v":""},"",{"$f":"$O$32","v":""},null,{"$f":"IF(LEN(BW32)=0,\"\",(COUNTIF(BK$6:CD$7,BW32)+COUNTIF(BK$10:CD$10,BW32)+COUNTIF(BK$13:CD$13,BW32)+COUNTIF(BK$16:CD$16,BW32)+COUNTIF(BK$19:CD$19,BW32)+COUNTIF(BK$22:CD$22,BW32)+COUNTIF(BK$25:CD$25,BW32))/設定!$M23+IFERROR((COUNTIF(BK$6:CD$7,処理!$L22)+COUNTIF(BK$10:CD$10,処理!$L22)+COUNTIF(BK$13:CD$13,処理!$L22)+COUNTIF(BK$16:CD$16,処理!$L22)+COUNTIF(BK$19:CD$19,処理!$L22)+COUNTIF(BK$22:CD$22,処理!$L22)+COUNTIF(BK$25:CD$25,処理!$L22))/処理!$M22,0))","v":""},"",{"$f":"$S$32","v":""},null,{"$f":"IF(LEN(CA32)=0,\"\",COUNTIF(BK$6:CD$7,CA32)+COUNTIF(BK$10:CD$10,CA32)+COUNTIF(BK$13:CD$13,CA32)+COUNTIF(BK$16:CD$16,CA32)+COUNTIF(BK$19:CD$19,CA32)+COUNTIF(BK$22:CD$22,CA32)+COUNTIF(BK$25:CD$25,CA32))","v":""},"",{"$f":"$C$32","v":""},null,{"$f":"IF(LEN(CE32)=0,\"\",(COUNTIF(CE$6:CX$7,CE32)+COUNTIF(CE$10:CX$10,CE32)+COUNTIF(CE$13:CX$13,CE32)+COUNTIF(CE$16:CX$16,CE32)+COUNTIF(CE$19:CX$19,CE32)+COUNTIF(CE$22:CX$22,CE32)+COUNTIF(CE$25:CX$25,CE32))/設定!$D23+IFERROR((COUNTIF(CE$6:CX$7,処理!$L4)+COUNTIF(CE$10:CX$10,処理!$L4)+COUNTIF(CE$13:CX$13,処理!$L4)+COUNTIF(CE$16:CX$16,処理!$L4)+COUNTIF(CE$19:CX$19,処理!$L4)+COUNTIF(CE$22:CX$22,処理!$L4)+COUNTIF(CE$25:CX$25,処理!$L4))/処理!$M4,0))","v":""},"",{"$f":"$G$32","v":""},null,{"$f":"IF(LEN(CI32)=0,\"\",(COUNTIF(CE$6:CX$7,CI32)+COUNTIF(CE$10:CX$10,CI32)+COUNTIF(CE$13:CX$13,CI32)+COUNTIF(CE$16:CX$16,CI32)+COUNTIF(CE$19:CX$19,CI32)+COUNTIF(CE$22:CX$22,CI32)+COUNTIF(CE$25:CX$25,CI32))/設定!$G23+IFERROR((COUNTIF(CE$6:CX$7,処理!$L10)+COUNTIF(CE$10:CX$10,処理!$L10)+COUNTIF(CE$13:CX$13,処理!$L10)+COUNTIF(CE$16:CX$16,処理!$L10)+COUNTIF(CE$19:CX$19,処理!$L10)+COUNTIF(CE$22:CX$22,処理!$L10)+COUNTIF(CE$25:CX$25,処理!$L10))/処理!$M10,0))","v":""},"",{"$f":"$K$32","v":""},null,{"$f":"IF(LEN(CM32)=0,\"\",(COUNTIF(CE$6:CX$7,CM32)+COUNTIF(CE$10:CX$10,CM32)+COUNTIF(CE$13:CX$13,CM32)+COUNTIF(CE$16:CX$16,CM32)+COUNTIF(CE$19:CX$19,CM32)+COUNTIF(CE$22:CX$22,CM32)+COUNTIF(CE$25:CX$25,CM32))/設定!$J23+IFERROR((COUNTIF(CE$6:CX$7,処理!$L16)+COUNTIF(CE$10:CX$10,処理!$L16)+COUNTIF(CE$13:CX$13,処理!$L16)+COUNTIF(CE$16:CX$16,処理!$L16)+COUNTIF(CE$19:CX$19,処理!$L16)+COUNTIF(CE$22:CX$22,処理!$L16)+COUNTIF(CE$25:CX$25,処理!$L16))/処理!$M16,0))","v":""},"",{"$f":"$O$32","v":""},null,{"$f":"IF(LEN(CQ32)=0,\"\",(COUNTIF(CE$6:CX$7,CQ32)+COUNTIF(CE$10:CX$10,CQ32)+COUNTIF(CE$13:CX$13,CQ32)+COUNTIF(CE$16:CX$16,CQ32)+COUNTIF(CE$19:CX$19,CQ32)+COUNTIF(CE$22:CX$22,CQ32)+COUNTIF(CE$25:CX$25,CQ32))/設定!$M23+IFERROR((COUNTIF(CE$6:CX$7,処理!$L22)+COUNTIF(CE$10:CX$10,処理!$L22)+COUNTIF(CE$13:CX$13,処理!$L22)+COUNTIF(CE$16:CX$16,処理!$L22)+COUNTIF(CE$19:CX$19,処理!$L22)+COUNTIF(CE$22:CX$22,処理!$L22)+COUNTIF(CE$25:CX$25,処理!$L22))/処理!$M22,0))","v":""},"",{"$f":"$S$32","v":""},null,{"$f":"IF(LEN(CU32)=0,\"\",COUNTIF(CE$6:CX$7,CU32)+COUNTIF(CE$10:CX$10,CU32)+COUNTIF(CE$13:CX$13,CU32)+COUNTIF(CE$16:CX$16,CU32)+COUNTIF(CE$19:CX$19,CU32)+COUNTIF(CE$22:CX$22,CU32)+COUNTIF(CE$25:CX$25,CU32))","v":""},"",{"$f":"$C$32","v":""},null,{"$f":"IF(LEN(CY32)=0,\"\",(COUNTIF(CY$6:DR$7,CY32)+COUNTIF(CY$10:DR$10,CY32)+COUNTIF(CY$13:DR$13,CY32)+COUNTIF(CY$16:DR$16,CY32)+COUNTIF(CY$19:DR$19,CY32)+COUNTIF(CY$22:DR$22,CY32)+COUNTIF(CY$25:DR$25,CY32))/設定!$D23+IFERROR((COUNTIF(CY$6:DR$7,処理!$L4)+COUNTIF(CY$10:DR$10,処理!$L4)+COUNTIF(CY$13:DR$13,処理!$L4)+COUNTIF(CY$16:DR$16,処理!$L4)+COUNTIF(CY$19:DR$19,処理!$L4)+COUNTIF(CY$22:DR$22,処理!$L4)+COUNTIF(CY$25:DR$25,処理!$L4))/処理!$M4,0))","v":""},"",{"$f":"$G$32","v":""},null,{"$f":"IF(LEN(DC32)=0,\"\",(COUNTIF(CY$6:DR$7,DC32)+COUNTIF(CY$10:DR$10,DC32)+COUNTIF(CY$13:DR$13,DC32)+COUNTIF(CY$16:DR$16,DC32)+COUNTIF(CY$19:DR$19,DC32)+COUNTIF(CY$22:DR$22,DC32)+COUNTIF(CY$25:DR$25,DC32))/設定!$G23+IFERROR((COUNTIF(CY$6:DR$7,処理!$L10)+COUNTIF(CY$10:DR$10,処理!$L10)+COUNTIF(CY$13:DR$13,処理!$L10)+COUNTIF(CY$16:DR$16,処理!$L10)+COUNTIF(CY$19:DR$19,処理!$L10)+COUNTIF(CY$22:DR$22,処理!$L10)+COUNTIF(CY$25:DR$25,処理!$L10))/処理!$M10,0))","v":""},"",{"$f":"$K$32","v":""},null,{"$f":"IF(LEN(DG32)=0,\"\",(COUNTIF(CY$6:DR$7,DG32)+COUNTIF(CY$10:DR$10,DG32)+COUNTIF(CY$13:DR$13,DG32)+COUNTIF(CY$16:DR$16,DG32)+COUNTIF(CY$19:DR$19,DG32)+COUNTIF(CY$22:DR$22,DG32)+COUNTIF(CY$25:DR$25,DG32))/設定!$J23+IFERROR((COUNTIF(CY$6:DR$7,処理!$L16)+COUNTIF(CY$10:DR$10,処理!$L16)+COUNTIF(CY$13:DR$13,処理!$L16)+COUNTIF(CY$16:DR$16,処理!$L16)+COUNTIF(CY$19:DR$19,処理!$L16)+COUNTIF(CY$22:DR$22,処理!$L16)+COUNTIF(CY$25:DR$25,処理!$L16))/処理!$M16,0))","v":""},"",{"$f":"$O$32","v":""},null,{"$f":"IF(LEN(DK32)=0,\"\",(COUNTIF(CY$6:DR$7,DK32)+COUNTIF(CY$10:DR$10,DK32)+COUNTIF(CY$13:DR$13,DK32)+COUNTIF(CY$16:DR$16,DK32)+COUNTIF(CY$19:DR$19,DK32)+COUNTIF(CY$22:DR$22,DK32)+COUNTIF(CY$25:DR$25,DK32))/設定!$M23+IFERROR((COUNTIF(CY$6:DR$7,処理!$L22)+COUNTIF(CY$10:DR$10,処理!$L22)+COUNTIF(CY$13:DR$13,処理!$L22)+COUNTIF(CY$16:DR$16,処理!$L22)+COUNTIF(CY$19:DR$19,処理!$L22)+COUNTIF(CY$22:DR$22,処理!$L22)+COUNTIF(CY$25:DR$25,処理!$L22))/処理!$M22,0))","v":""},"",{"$f":"$S$32","v":""},null,{"$f":"IF(LEN(DO32)=0,\"\",COUNTIF(CY$6:DR$7,DO32)+COUNTIF(CY$10:DR$10,DO32)+COUNTIF(CY$13:DR$13,DO32)+COUNTIF(CY$16:DR$16,DO32)+COUNTIF(CY$19:DR$19,DO32)+COUNTIF(CY$22:DR$22,DO32)+COUNTIF(CY$25:DR$25,DO32))","v":""},"",{"$f":"$C$32","v":""},null,{"$f":"IF(LEN(DS32)=0,\"\",(COUNTIF(DS$6:EL$7,DS32)+COUNTIF(DS$10:EL$10,DS32)+COUNTIF(DS$13:EL$13,DS32)+COUNTIF(DS$16:EL$16,DS32)+COUNTIF(DS$19:EL$19,DS32)+COUNTIF(DS$22:EL$22,DS32)+COUNTIF(DS$25:EL$25,DS32))/設定!$D23+IFERROR((COUNTIF(DS$6:EL$7,処理!$L4)+COUNTIF(DS$10:EL$10,処理!$L4)+COUNTIF(DS$13:EL$13,処理!$L4)+COUNTIF(DS$16:EL$16,処理!$L4)+COUNTIF(DS$19:EL$19,処理!$L4)+COUNTIF(DS$22:EL$22,処理!$L4)+COUNTIF(DS$25:EL$25,処理!$L4))/処理!$M4,0))","v":""},"",{"$f":"$G$32","v":""},null,{"$f":"IF(LEN(DW32)=0,\"\",(COUNTIF(DS$6:EL$7,DW32)+COUNTIF(DS$10:EL$10,DW32)+COUNTIF(DS$13:EL$13,DW32)+COUNTIF(DS$16:EL$16,DW32)+COUNTIF(DS$19:EL$19,DW32)+COUNTIF(DS$22:EL$22,DW32)+COUNTIF(DS$25:EL$25,DW32))/設定!$G23+IFERROR((COUNTIF(DS$6:EL$7,処理!$L10)+COUNTIF(DS$10:EL$10,処理!$L10)+COUNTIF(DS$13:EL$13,処理!$L10)+COUNTIF(DS$16:EL$16,処理!$L10)+COUNTIF(DS$19:EL$19,処理!$L10)+COUNTIF(DS$22:EL$22,処理!$L10)+COUNTIF(DS$25:EL$25,処理!$L10))/処理!$M10,0))","v":""},"",{"$f":"$K$32","v":""},null,{"$f":"IF(LEN(EA32)=0,\"\",(COUNTIF(DS$6:EL$7,EA32)+COUNTIF(DS$10:EL$10,EA32)+COUNTIF(DS$13:EL$13,EA32)+COUNTIF(DS$16:EL$16,EA32)+COUNTIF(DS$19:EL$19,EA32)+COUNTIF(DS$22:EL$22,EA32)+COUNTIF(DS$25:EL$25,EA32))/設定!$J23+IFERROR((COUNTIF(DS$6:EL$7,処理!$L16)+COUNTIF(DS$10:EL$10,処理!$L16)+COUNTIF(DS$13:EL$13,処理!$L16)+COUNTIF(DS$16:EL$16,処理!$L16)+COUNTIF(DS$19:EL$19,処理!$L16)+COUNTIF(DS$22:EL$22,処理!$L16)+COUNTIF(DS$25:EL$25,処理!$L16))/処理!$M16,0))","v":""},"",{"$f":"$O$32","v":""},null,{"$f":"IF(LEN(EE32)=0,\"\",(COUNTIF(DS$6:EL$7,EE32)+COUNTIF(DS$10:EL$10,EE32)+COUNTIF(DS$13:EL$13,EE32)+COUNTIF(DS$16:EL$16,EE32)+COUNTIF(DS$19:EL$19,EE32)+COUNTIF(DS$22:EL$22,EE32)+COUNTIF(DS$25:EL$25,EE32))/設定!$M23+IFERROR((COUNTIF(DS$6:EL$7,処理!$L22)+COUNTIF(DS$10:EL$10,処理!$L22)+COUNTIF(DS$13:EL$13,処理!$L22)+COUNTIF(DS$16:EL$16,処理!$L22)+COUNTIF(DS$19:EL$19,処理!$L22)+COUNTIF(DS$22:EL$22,処理!$L22)+COUNTIF(DS$25:EL$25,処理!$L22))/処理!$M22,0))","v":""},"",{"$f":"$S$32","v":""},null,{"$f":"IF(LEN(EI32)=0,\"\",COUNTIF(DS$6:EL$7,EI32)+COUNTIF(DS$10:EL$10,EI32)+COUNTIF(DS$13:EL$13,EI32)+COUNTIF(DS$16:EL$16,EI32)+COUNTIF(DS$19:EL$19,EI32)+COUNTIF(DS$22:EL$22,EI32)+COUNTIF(DS$25:EL$25,EI32))","v":""},"",{"$f":"$C$32","v":""},null,{"$f":"IF(LEN(EM32)=0,\"\",(COUNTIF(EM$6:FF$7,EM32)+COUNTIF(EM$10:FF$10,EM32)+COUNTIF(EM$13:FF$13,EM32)+COUNTIF(EM$16:FF$16,EM32)+COUNTIF(EM$19:FF$19,EM32)+COUNTIF(EM$22:FF$22,EM32)+COUNTIF(EM$25:FF$25,EM32))/設定!$D23+IFERROR((COUNTIF(EM$6:FF$7,処理!$L4)+COUNTIF(EM$10:FF$10,処理!$L4)+COUNTIF(EM$13:FF$13,処理!$L4)+COUNTIF(EM$16:FF$16,処理!$L4)+COUNTIF(EM$19:FF$19,処理!$L4)+COUNTIF(EM$22:FF$22,処理!$L4)+COUNTIF(EM$25:FF$25,処理!$L4))/処理!$M4,0))","v":""},"",{"$f":"$G$32","v":""},null,{"$f":"IF(LEN(EQ32)=0,\"\",(COUNTIF(EM$6:FF$7,EQ32)+COUNTIF(EM$10:FF$10,EQ32)+COUNTIF(EM$13:FF$13,EQ32)+COUNTIF(EM$16:FF$16,EQ32)+COUNTIF(EM$19:FF$19,EQ32)+COUNTIF(EM$22:FF$22,EQ32)+COUNTIF(EM$25:FF$25,EQ32))/設定!$G23+IFERROR((COUNTIF(EM$6:FF$7,処理!$L10)+COUNTIF(EM$10:FF$10,処理!$L10)+COUNTIF(EM$13:FF$13,処理!$L10)+COUNTIF(EM$16:FF$16,処理!$L10)+COUNTIF(EM$19:FF$19,処理!$L10)+COUNTIF(EM$22:FF$22,処理!$L10)+COUNTIF(EM$25:FF$25,処理!$L10))/処理!$M10,0))","v":""},"",{"$f":"$K$32","v":""},null,{"$f":"IF(LEN(EU32)=0,\"\",(COUNTIF(EM$6:FF$7,EU32)+COUNTIF(EM$10:FF$10,EU32)+COUNTIF(EM$13:FF$13,EU32)+COUNTIF(EM$16:FF$16,EU32)+COUNTIF(EM$19:FF$19,EU32)+COUNTIF(EM$22:FF$22,EU32)+COUNTIF(EM$25:FF$25,EU32))/設定!$J23+IFERROR((COUNTIF(EM$6:FF$7,処理!$L16)+COUNTIF(EM$10:FF$10,処理!$L16)+COUNTIF(EM$13:FF$13,処理!$L16)+COUNTIF(EM$16:FF$16,処理!$L16)+COUNTIF(EM$19:FF$19,処理!$L16)+COUNTIF(EM$22:FF$22,処理!$L16)+COUNTIF(EM$25:FF$25,処理!$L16))/処理!$M16,0))","v":""},"",{"$f":"$O$32","v":""},null,{"$f":"IF(LEN(EY32)=0,\"\",(COUNTIF(EM$6:FF$7,EY32)+COUNTIF(EM$10:FF$10,EY32)+COUNTIF(EM$13:FF$13,EY32)+COUNTIF(EM$16:FF$16,EY32)+COUNTIF(EM$19:FF$19,EY32)+COUNTIF(EM$22:FF$22,EY32)+COUNTIF(EM$25:FF$25,EY32))/設定!$M23+IFERROR((COUNTIF(EM$6:FF$7,処理!$L22)+COUNTIF(EM$10:FF$10,処理!$L22)+COUNTIF(EM$13:FF$13,処理!$L22)+COUNTIF(EM$16:FF$16,処理!$L22)+COUNTIF(EM$19:FF$19,処理!$L22)+COUNTIF(EM$22:FF$22,処理!$L22)+COUNTIF(EM$25:FF$25,処理!$L22))/処理!$M22,0))","v":""},"",{"$f":"$S$32","v":""},null,{"$f":"IF(LEN(FC32)=0,\"\",COUNTIF(EM$6:FF$7,FC32)+COUNTIF(EM$10:FF$10,FC32)+COUNTIF(EM$13:FF$13,FC32)+COUNTIF(EM$16:FF$16,FC32)+COUNTIF(EM$19:FF$19,FC32)+COUNTIF(EM$22:FF$22,FC32)+COUNTIF(EM$25:FF$25,FC32))","v":""},"",{"$f":"$C$32","v":""},null,{"$f":"IF(LEN(FG32)=0,\"\",(COUNTIF(FG$6:FZ$7,FG32)+COUNTIF(FG$10:FZ$10,FG32)+COUNTIF(FG$13:FZ$13,FG32)+COUNTIF(FG$16:FZ$16,FG32)+COUNTIF(FG$19:FZ$19,FG32)+COUNTIF(FG$22:FZ$22,FG32)+COUNTIF(FG$25:FZ$25,FG32))/設定!$D23+IFERROR((COUNTIF(FG$6:FZ$7,処理!$L4)+COUNTIF(FG$10:FZ$10,処理!$L4)+COUNTIF(FG$13:FZ$13,処理!$L4)+COUNTIF(FG$16:FZ$16,処理!$L4)+COUNTIF(FG$19:FZ$19,処理!$L4)+COUNTIF(FG$22:FZ$22,処理!$L4)+COUNTIF(FG$25:FZ$25,処理!$L4))/処理!$M4,0))","v":""},"",{"$f":"$G$32","v":""},null,{"$f":"IF(LEN(FK32)=0,\"\",(COUNTIF(FG$6:FZ$7,FK32)+COUNTIF(FG$10:FZ$10,FK32)+COUNTIF(FG$13:FZ$13,FK32)+COUNTIF(FG$16:FZ$16,FK32)+COUNTIF(FG$19:FZ$19,FK32)+COUNTIF(FG$22:FZ$22,FK32)+COUNTIF(FG$25:FZ$25,FK32))/設定!$G23+IFERROR((COUNTIF(FG$6:FZ$7,処理!$L10)+COUNTIF(FG$10:FZ$10,処理!$L10)+COUNTIF(FG$13:FZ$13,処理!$L10)+COUNTIF(FG$16:FZ$16,処理!$L10)+COUNTIF(FG$19:FZ$19,処理!$L10)+COUNTIF(FG$22:FZ$22,処理!$L10)+COUNTIF(FG$25:FZ$25,処理!$L10))/処理!$M10,0))","v":""},"",{"$f":"$K$32","v":""},null,{"$f":"IF(LEN(FO32)=0,\"\",(COUNTIF(FG$6:FZ$7,FO32)+COUNTIF(FG$10:FZ$10,FO32)+COUNTIF(FG$13:FZ$13,FO32)+COUNTIF(FG$16:FZ$16,FO32)+COUNTIF(FG$19:FZ$19,FO32)+COUNTIF(FG$22:FZ$22,FO32)+COUNTIF(FG$25:FZ$25,FO32))/設定!$J23+IFERROR((COUNTIF(FG$6:FZ$7,処理!$L16)+COUNTIF(FG$10:FZ$10,処理!$L16)+COUNTIF(FG$13:FZ$13,処理!$L16)+COUNTIF(FG$16:FZ$16,処理!$L16)+COUNTIF(FG$19:FZ$19,処理!$L16)+COUNTIF(FG$22:FZ$22,処理!$L16)+COUNTIF(FG$25:FZ$25,処理!$L16))/処理!$M16,0))","v":""},"",{"$f":"$O$32","v":""},null,{"$f":"IF(LEN(FS32)=0,\"\",(COUNTIF(FG$6:FZ$7,FS32)+COUNTIF(FG$10:FZ$10,FS32)+COUNTIF(FG$13:FZ$13,FS32)+COUNTIF(FG$16:FZ$16,FS32)+COUNTIF(FG$19:FZ$19,FS32)+COUNTIF(FG$22:FZ$22,FS32)+COUNTIF(FG$25:FZ$25,FS32))/設定!$M23+IFERROR((COUNTIF(FG$6:FZ$7,処理!$L22)+COUNTIF(FG$10:FZ$10,処理!$L22)+COUNTIF(FG$13:FZ$13,処理!$L22)+COUNTIF(FG$16:FZ$16,処理!$L22)+COUNTIF(FG$19:FZ$19,処理!$L22)+COUNTIF(FG$22:FZ$22,処理!$L22)+COUNTIF(FG$25:FZ$25,処理!$L22))/処理!$M22,0))","v":""},"",{"$f":"$S$32","v":""},null,{"$f":"IF(LEN(FW32)=0,\"\",COUNTIF(FG$6:FZ$7,FW32)+COUNTIF(FG$10:FZ$10,FW32)+COUNTIF(FG$13:FZ$13,FW32)+COUNTIF(FG$16:FZ$16,FW32)+COUNTIF(FG$19:FZ$19,FW32)+COUNTIF(FG$22:FZ$22,FW32)+COUNTIF(FG$25:FZ$25,FW32))","v":""},"",{"$f":"$C$32","v":""},null,{"$f":"IF(LEN(GA32)=0,\"\",(COUNTIF(GA$6:GT$7,GA32)+COUNTIF(GA$10:GT$10,GA32)+COUNTIF(GA$13:GT$13,GA32)+COUNTIF(GA$16:GT$16,GA32)+COUNTIF(GA$19:GT$19,GA32)+COUNTIF(GA$22:GT$22,GA32)+COUNTIF(GA$25:GT$25,GA32))/設定!$D23+IFERROR((COUNTIF(GA$6:GT$7,処理!$L4)+COUNTIF(GA$10:GT$10,処理!$L4)+COUNTIF(GA$13:GT$13,処理!$L4)+COUNTIF(GA$16:GT$16,処理!$L4)+COUNTIF(GA$19:GT$19,処理!$L4)+COUNTIF(GA$22:GT$22,処理!$L4)+COUNTIF(GA$25:GT$25,処理!$L4))/処理!$M4,0))","v":""},"",{"$f":"$G$32","v":""},null,{"$f":"IF(LEN(GE32)=0,\"\",(COUNTIF(GA$6:GT$7,GE32)+COUNTIF(GA$10:GT$10,GE32)+COUNTIF(GA$13:GT$13,GE32)+COUNTIF(GA$16:GT$16,GE32)+COUNTIF(GA$19:GT$19,GE32)+COUNTIF(GA$22:GT$22,GE32)+COUNTIF(GA$25:GT$25,GE32))/設定!$G23+IFERROR((COUNTIF(GA$6:GT$7,処理!$L10)+COUNTIF(GA$10:GT$10,処理!$L10)+COUNTIF(GA$13:GT$13,処理!$L10)+COUNTIF(GA$16:GT$16,処理!$L10)+COUNTIF(GA$19:GT$19,処理!$L10)+COUNTIF(GA$22:GT$22,処理!$L10)+COUNTIF(GA$25:GT$25,処理!$L10))/処理!$M10,0))","v":""},"",{"$f":"$K$32","v":""},null,{"$f":"IF(LEN(GI32)=0,\"\",(COUNTIF(GA$6:GT$7,GI32)+COUNTIF(GA$10:GT$10,GI32)+COUNTIF(GA$13:GT$13,GI32)+COUNTIF(GA$16:GT$16,GI32)+COUNTIF(GA$19:GT$19,GI32)+COUNTIF(GA$22:GT$22,GI32)+COUNTIF(GA$25:GT$25,GI32))/設定!$J23+IFERROR((COUNTIF(GA$6:GT$7,処理!$L16)+COUNTIF(GA$10:GT$10,処理!$L16)+COUNTIF(GA$13:GT$13,処理!$L16)+COUNTIF(GA$16:GT$16,処理!$L16)+COUNTIF(GA$19:GT$19,処理!$L16)+COUNTIF(GA$22:GT$22,処理!$L16)+COUNTIF(GA$25:GT$25,処理!$L16))/処理!$M16,0))","v":""},"",{"$f":"$O$32","v":""},null,{"$f":"IF(LEN(GM32)=0,\"\",(COUNTIF(GA$6:GT$7,GM32)+COUNTIF(GA$10:GT$10,GM32)+COUNTIF(GA$13:GT$13,GM32)+COUNTIF(GA$16:GT$16,GM32)+COUNTIF(GA$19:GT$19,GM32)+COUNTIF(GA$22:GT$22,GM32)+COUNTIF(GA$25:GT$25,GM32))/設定!$M23+IFERROR((COUNTIF(GA$6:GT$7,処理!$L22)+COUNTIF(GA$10:GT$10,処理!$L22)+COUNTIF(GA$13:GT$13,処理!$L22)+COUNTIF(GA$16:GT$16,処理!$L22)+COUNTIF(GA$19:GT$19,処理!$L22)+COUNTIF(GA$22:GT$22,処理!$L22)+COUNTIF(GA$25:GT$25,処理!$L22))/処理!$M22,0))","v":""},"",{"$f":"$S$32","v":""},null,{"$f":"IF(LEN(GQ32)=0,\"\",COUNTIF(GA$6:GT$7,GQ32)+COUNTIF(GA$10:GT$10,GQ32)+COUNTIF(GA$13:GT$13,GQ32)+COUNTIF(GA$16:GT$16,GQ32)+COUNTIF(GA$19:GT$19,GQ32)+COUNTIF(GA$22:GT$22,GQ32)+COUNTIF(GA$25:GT$25,GQ32))","v":""},"",{"$f":"$C$32","v":""},null,{"$f":"IF(LEN(GU32)=0,\"\",(COUNTIF(GU$6:HN$7,GU32)+COUNTIF(GU$10:HN$10,GU32)+COUNTIF(GU$13:HN$13,GU32)+COUNTIF(GU$16:HN$16,GU32)+COUNTIF(GU$19:HN$19,GU32)+COUNTIF(GU$22:HN$22,GU32)+COUNTIF(GU$25:HN$25,GU32))/設定!$D23+IFERROR((COUNTIF(GU$6:HN$7,処理!$L4)+COUNTIF(GU$10:HN$10,処理!$L4)+COUNTIF(GU$13:HN$13,処理!$L4)+COUNTIF(GU$16:HN$16,処理!$L4)+COUNTIF(GU$19:HN$19,処理!$L4)+COUNTIF(GU$22:HN$22,処理!$L4)+COUNTIF(GU$25:HN$25,処理!$L4))/処理!$M4,0))","v":""},"",{"$f":"$G$32","v":""},null,{"$f":"IF(LEN(GY32)=0,\"\",(COUNTIF(GU$6:HN$7,GY32)+COUNTIF(GU$10:HN$10,GY32)+COUNTIF(GU$13:HN$13,GY32)+COUNTIF(GU$16:HN$16,GY32)+COUNTIF(GU$19:HN$19,GY32)+COUNTIF(GU$22:HN$22,GY32)+COUNTIF(GU$25:HN$25,GY32))/設定!$G23+IFERROR((COUNTIF(GU$6:HN$7,処理!$L10)+COUNTIF(GU$10:HN$10,処理!$L10)+COUNTIF(GU$13:HN$13,処理!$L10)+COUNTIF(GU$16:HN$16,処理!$L10)+COUNTIF(GU$19:HN$19,処理!$L10)+COUNTIF(GU$22:HN$22,処理!$L10)+COUNTIF(GU$25:HN$25,処理!$L10))/処理!$M10,0))","v":""},"",{"$f":"$K$32","v":""},null,{"$f":"IF(LEN(HC32)=0,\"\",(COUNTIF(GU$6:HN$7,HC32)+COUNTIF(GU$10:HN$10,HC32)+COUNTIF(GU$13:HN$13,HC32)+COUNTIF(GU$16:HN$16,HC32)+COUNTIF(GU$19:HN$19,HC32)+COUNTIF(GU$22:HN$22,HC32)+COUNTIF(GU$25:HN$25,HC32))/設定!$J23+IFERROR((COUNTIF(GU$6:HN$7,処理!$L16)+COUNTIF(GU$10:HN$10,処理!$L16)+COUNTIF(GU$13:HN$13,処理!$L16)+COUNTIF(GU$16:HN$16,処理!$L16)+COUNTIF(GU$19:HN$19,処理!$L16)+COUNTIF(GU$22:HN$22,処理!$L16)+COUNTIF(GU$25:HN$25,処理!$L16))/処理!$M16,0))","v":""},"",{"$f":"$O$32","v":""},null,{"$f":"IF(LEN(HG32)=0,\"\",(COUNTIF(GU$6:HN$7,HG32)+COUNTIF(GU$10:HN$10,HG32)+COUNTIF(GU$13:HN$13,HG32)+COUNTIF(GU$16:HN$16,HG32)+COUNTIF(GU$19:HN$19,HG32)+COUNTIF(GU$22:HN$22,HG32)+COUNTIF(GU$25:HN$25,HG32))/設定!$M23+IFERROR((COUNTIF(GU$6:HN$7,処理!$L22)+COUNTIF(GU$10:HN$10,処理!$L22)+COUNTIF(GU$13:HN$13,処理!$L22)+COUNTIF(GU$16:HN$16,処理!$L22)+COUNTIF(GU$19:HN$19,処理!$L22)+COUNTIF(GU$22:HN$22,処理!$L22)+COUNTIF(GU$25:HN$25,処理!$L22))/処理!$M22,0))","v":""},"",{"$f":"$S$32","v":""},null,{"$f":"IF(LEN(HK32)=0,\"\",COUNTIF(GU$6:HN$7,HK32)+COUNTIF(GU$10:HN$10,HK32)+COUNTIF(GU$13:HN$13,HK32)+COUNTIF(GU$16:HN$16,HK32)+COUNTIF(GU$19:HN$19,HK32)+COUNTIF(GU$22:HN$22,HK32)+COUNTIF(GU$25:HN$25,HK32))","v":""},"",{"$f":"$C$32","v":""},null,{"$f":"IF(LEN(HO32)=0,\"\",(COUNTIF(HO$6:IH$7,HO32)+COUNTIF(HO$10:IH$10,HO32)+COUNTIF(HO$13:IH$13,HO32)+COUNTIF(HO$16:IH$16,HO32)+COUNTIF(HO$19:IH$19,HO32)+COUNTIF(HO$22:IH$22,HO32)+COUNTIF(HO$25:IH$25,HO32))/設定!$D23+IFERROR((COUNTIF(HO$6:IH$7,処理!$L4)+COUNTIF(HO$10:IH$10,処理!$L4)+COUNTIF(HO$13:IH$13,処理!$L4)+COUNTIF(HO$16:IH$16,処理!$L4)+COUNTIF(HO$19:IH$19,処理!$L4)+COUNTIF(HO$22:IH$22,処理!$L4)+COUNTIF(HO$25:IH$25,処理!$L4))/処理!$M4,0))","v":""},"",{"$f":"$G$32","v":""},null,{"$f":"IF(LEN(HS32)=0,\"\",(COUNTIF(HO$6:IH$7,HS32)+COUNTIF(HO$10:IH$10,HS32)+COUNTIF(HO$13:IH$13,HS32)+COUNTIF(HO$16:IH$16,HS32)+COUNTIF(HO$19:IH$19,HS32)+COUNTIF(HO$22:IH$22,HS32)+COUNTIF(HO$25:IH$25,HS32))/設定!$G23+IFERROR((COUNTIF(HO$6:IH$7,処理!$L10)+COUNTIF(HO$10:IH$10,処理!$L10)+COUNTIF(HO$13:IH$13,処理!$L10)+COUNTIF(HO$16:IH$16,処理!$L10)+COUNTIF(HO$19:IH$19,処理!$L10)+COUNTIF(HO$22:IH$22,処理!$L10)+COUNTIF(HO$25:IH$25,処理!$L10))/処理!$M10,0))","v":""},"",{"$f":"$K$32","v":""},null,{"$f":"IF(LEN(HW32)=0,\"\",(COUNTIF(HO$6:IH$7,HW32)+COUNTIF(HO$10:IH$10,HW32)+COUNTIF(HO$13:IH$13,HW32)+COUNTIF(HO$16:IH$16,HW32)+COUNTIF(HO$19:IH$19,HW32)+COUNTIF(HO$22:IH$22,HW32)+COUNTIF(HO$25:IH$25,HW32))/設定!$J23+IFERROR((COUNTIF(HO$6:IH$7,処理!$L16)+COUNTIF(HO$10:IH$10,処理!$L16)+COUNTIF(HO$13:IH$13,処理!$L16)+COUNTIF(HO$16:IH$16,処理!$L16)+COUNTIF(HO$19:IH$19,処理!$L16)+COUNTIF(HO$22:IH$22,処理!$L16)+COUNTIF(HO$25:IH$25,処理!$L16))/処理!$M16,0))","v":""},"",{"$f":"$O$32","v":""},null,{"$f":"IF(LEN(IA32)=0,\"\",(COUNTIF(HO$6:IH$7,IA32)+COUNTIF(HO$10:IH$10,IA32)+COUNTIF(HO$13:IH$13,IA32)+COUNTIF(HO$16:IH$16,IA32)+COUNTIF(HO$19:IH$19,IA32)+COUNTIF(HO$22:IH$22,IA32)+COUNTIF(HO$25:IH$25,IA32))/設定!$M23+IFERROR((COUNTIF(HO$6:IH$7,処理!$L22)+COUNTIF(HO$10:IH$10,処理!$L22)+COUNTIF(HO$13:IH$13,処理!$L22)+COUNTIF(HO$16:IH$16,処理!$L22)+COUNTIF(HO$19:IH$19,処理!$L22)+COUNTIF(HO$22:IH$22,処理!$L22)+COUNTIF(HO$25:IH$25,処理!$L22))/処理!$M22,0))","v":""},"",{"$f":"$S$32","v":""},null,{"$f":"IF(LEN(IE32)=0,\"\",COUNTIF(HO$6:IH$7,IE32)+COUNTIF(HO$10:IH$10,IE32)+COUNTIF(HO$13:IH$13,IE32)+COUNTIF(HO$16:IH$16,IE32)+COUNTIF(HO$19:IH$19,IE32)+COUNTIF(HO$22:IH$22,IE32)+COUNTIF(HO$25:IH$25,IE32))","v":""},"",{"$f":"$C$32","v":""},null,{"$f":"IF(LEN(II32)=0,\"\",(COUNTIF(II$6:JB$7,II32)+COUNTIF(II$10:JB$10,II32)+COUNTIF(II$13:JB$13,II32)+COUNTIF(II$16:JB$16,II32)+COUNTIF(II$19:JB$19,II32)+COUNTIF(II$22:JB$22,II32)+COUNTIF(II$25:JB$25,II32))/設定!$D23+IFERROR((COUNTIF(II$6:JB$7,処理!$L4)+COUNTIF(II$10:JB$10,処理!$L4)+COUNTIF(II$13:JB$13,処理!$L4)+COUNTIF(II$16:JB$16,処理!$L4)+COUNTIF(II$19:JB$19,処理!$L4)+COUNTIF(II$22:JB$22,処理!$L4)+COUNTIF(II$25:JB$25,処理!$L4))/処理!$M4,0))","v":""},"",{"$f":"$G$32","v":""},null,{"$f":"IF(LEN(IM32)=0,\"\",(COUNTIF(II$6:JB$7,IM32)+COUNTIF(II$10:JB$10,IM32)+COUNTIF(II$13:JB$13,IM32)+COUNTIF(II$16:JB$16,IM32)+COUNTIF(II$19:JB$19,IM32)+COUNTIF(II$22:JB$22,IM32)+COUNTIF(II$25:JB$25,IM32))/設定!$G23+IFERROR((COUNTIF(II$6:JB$7,処理!$L10)+COUNTIF(II$10:JB$10,処理!$L10)+COUNTIF(II$13:JB$13,処理!$L10)+COUNTIF(II$16:JB$16,処理!$L10)+COUNTIF(II$19:JB$19,処理!$L10)+COUNTIF(II$22:JB$22,処理!$L10)+COUNTIF(II$25:JB$25,処理!$L10))/処理!$M10,0))","v":""},"",{"$f":"$K$32","v":""},null,{"$f":"IF(LEN(IQ32)=0,\"\",(COUNTIF(II$6:JB$7,IQ32)+COUNTIF(II$10:JB$10,IQ32)+COUNTIF(II$13:JB$13,IQ32)+COUNTIF(II$16:JB$16,IQ32)+COUNTIF(II$19:JB$19,IQ32)+COUNTIF(II$22:JB$22,IQ32)+COUNTIF(II$25:JB$25,IQ32))/設定!$J23+IFERROR((COUNTIF(II$6:JB$7,処理!$L16)+COUNTIF(II$10:JB$10,処理!$L16)+COUNTIF(II$13:JB$13,処理!$L16)+COUNTIF(II$16:JB$16,処理!$L16)+COUNTIF(II$19:JB$19,処理!$L16)+COUNTIF(II$22:JB$22,処理!$L16)+COUNTIF(II$25:JB$25,処理!$L16))/処理!$M16,0))","v":""},"",{"$f":"$O$32","v":""},null,{"$f":"IF(LEN(IU32)=0,\"\",(COUNTIF(II$6:JB$7,IU32)+COUNTIF(II$10:JB$10,IU32)+COUNTIF(II$13:JB$13,IU32)+COUNTIF(II$16:JB$16,IU32)+COUNTIF(II$19:JB$19,IU32)+COUNTIF(II$22:JB$22,IU32)+COUNTIF(II$25:JB$25,IU32))/設定!$M23+IFERROR((COUNTIF(II$6:JB$7,処理!$L22)+COUNTIF(II$10:JB$10,処理!$L22)+COUNTIF(II$13:JB$13,処理!$L22)+COUNTIF(II$16:JB$16,処理!$L22)+COUNTIF(II$19:JB$19,処理!$L22)+COUNTIF(II$22:JB$22,処理!$L22)+COUNTIF(II$25:JB$25,処理!$L22))/処理!$M22,0))","v":""},"",{"$f":"$S$32","v":""},null,{"$f":"IF(LEN(IY32)=0,\"\",COUNTIF(II$6:JB$7,IY32)+COUNTIF(II$10:JB$10,IY32)+COUNTIF(II$13:JB$13,IY32)+COUNTIF(II$16:JB$16,IY32)+COUNTIF(II$19:JB$19,IY32)+COUNTIF(II$22:JB$22,IY32)+COUNTIF(II$25:JB$25,IY32))","v":""},"",{"$f":"$C$32","v":""},null,{"$f":"IF(LEN(JC32)=0,\"\",(COUNTIF(JC$6:JV$7,JC32)+COUNTIF(JC$10:JV$10,JC32)+COUNTIF(JC$13:JV$13,JC32)+COUNTIF(JC$16:JV$16,JC32)+COUNTIF(JC$19:JV$19,JC32)+COUNTIF(JC$22:JV$22,JC32)+COUNTIF(JC$25:JV$25,JC32))/設定!$D23+IFERROR((COUNTIF(JC$6:JV$7,処理!$L4)+COUNTIF(JC$10:JV$10,処理!$L4)+COUNTIF(JC$13:JV$13,処理!$L4)+COUNTIF(JC$16:JV$16,処理!$L4)+COUNTIF(JC$19:JV$19,処理!$L4)+COUNTIF(JC$22:JV$22,処理!$L4)+COUNTIF(JC$25:JV$25,処理!$L4))/処理!$M4,0))","v":""},"",{"$f":"$G$32","v":""},null,{"$f":"IF(LEN(JG32)=0,\"\",(COUNTIF(JC$6:JV$7,JG32)+COUNTIF(JC$10:JV$10,JG32)+COUNTIF(JC$13:JV$13,JG32)+COUNTIF(JC$16:JV$16,JG32)+COUNTIF(JC$19:JV$19,JG32)+COUNTIF(JC$22:JV$22,JG32)+COUNTIF(JC$25:JV$25,JG32))/設定!$G23+IFERROR((COUNTIF(JC$6:JV$7,処理!$L10)+COUNTIF(JC$10:JV$10,処理!$L10)+COUNTIF(JC$13:JV$13,処理!$L10)+COUNTIF(JC$16:JV$16,処理!$L10)+COUNTIF(JC$19:JV$19,処理!$L10)+COUNTIF(JC$22:JV$22,処理!$L10)+COUNTIF(JC$25:JV$25,処理!$L10))/処理!$M10,0))","v":""},"",{"$f":"$K$32","v":""},null,{"$f":"IF(LEN(JK32)=0,\"\",(COUNTIF(JC$6:JV$7,JK32)+COUNTIF(JC$10:JV$10,JK32)+COUNTIF(JC$13:JV$13,JK32)+COUNTIF(JC$16:JV$16,JK32)+COUNTIF(JC$19:JV$19,JK32)+COUNTIF(JC$22:JV$22,JK32)+COUNTIF(JC$25:JV$25,JK32))/設定!$J23+IFERROR((COUNTIF(JC$6:JV$7,処理!$L16)+COUNTIF(JC$10:JV$10,処理!$L16)+COUNTIF(JC$13:JV$13,処理!$L16)+COUNTIF(JC$16:JV$16,処理!$L16)+COUNTIF(JC$19:JV$19,処理!$L16)+COUNTIF(JC$22:JV$22,処理!$L16)+COUNTIF(JC$25:JV$25,処理!$L16))/処理!$M16,0))","v":""},"",{"$f":"$O$32","v":""},null,{"$f":"IF(LEN(JO32)=0,\"\",(COUNTIF(JC$6:JV$7,JO32)+COUNTIF(JC$10:JV$10,JO32)+COUNTIF(JC$13:JV$13,JO32)+COUNTIF(JC$16:JV$16,JO32)+COUNTIF(JC$19:JV$19,JO32)+COUNTIF(JC$22:JV$22,JO32)+COUNTIF(JC$25:JV$25,JO32))/設定!$M23+IFERROR((COUNTIF(JC$6:JV$7,処理!$L22)+COUNTIF(JC$10:JV$10,処理!$L22)+COUNTIF(JC$13:JV$13,処理!$L22)+COUNTIF(JC$16:JV$16,処理!$L22)+COUNTIF(JC$19:JV$19,処理!$L22)+COUNTIF(JC$22:JV$22,処理!$L22)+COUNTIF(JC$25:JV$25,処理!$L22))/処理!$M22,0))","v":""},"",{"$f":"$S$32","v":""},null,{"$f":"IF(LEN(JS32)=0,\"\",COUNTIF(JC$6:JV$7,JS32)+COUNTIF(JC$10:JV$10,JS32)+COUNTIF(JC$13:JV$13,JS32)+COUNTIF(JC$16:JV$16,JS32)+COUNTIF(JC$19:JV$19,JS32)+COUNTIF(JC$22:JV$22,JS32)+COUNTIF(JC$25:JV$25,JS32))","v":""},"",{"$f":"$C$32","v":""},null,{"$f":"IF(LEN(JW32)=0,\"\",(COUNTIF(JW$6:KP$7,JW32)+COUNTIF(JW$10:KP$10,JW32)+COUNTIF(JW$13:KP$13,JW32)+COUNTIF(JW$16:KP$16,JW32)+COUNTIF(JW$19:KP$19,JW32)+COUNTIF(JW$22:KP$22,JW32)+COUNTIF(JW$25:KP$25,JW32))/設定!$D23+IFERROR((COUNTIF(JW$6:KP$7,処理!$L4)+COUNTIF(JW$10:KP$10,処理!$L4)+COUNTIF(JW$13:KP$13,処理!$L4)+COUNTIF(JW$16:KP$16,処理!$L4)+COUNTIF(JW$19:KP$19,処理!$L4)+COUNTIF(JW$22:KP$22,処理!$L4)+COUNTIF(JW$25:KP$25,処理!$L4))/処理!$M4,0))","v":""},"",{"$f":"$G$32","v":""},null,{"$f":"IF(LEN(KA32)=0,\"\",(COUNTIF(JW$6:KP$7,KA32)+COUNTIF(JW$10:KP$10,KA32)+COUNTIF(JW$13:KP$13,KA32)+COUNTIF(JW$16:KP$16,KA32)+COUNTIF(JW$19:KP$19,KA32)+COUNTIF(JW$22:KP$22,KA32)+COUNTIF(JW$25:KP$25,KA32))/設定!$G23+IFERROR((COUNTIF(JW$6:KP$7,処理!$L10)+COUNTIF(JW$10:KP$10,処理!$L10)+COUNTIF(JW$13:KP$13,処理!$L10)+COUNTIF(JW$16:KP$16,処理!$L10)+COUNTIF(JW$19:KP$19,処理!$L10)+COUNTIF(JW$22:KP$22,処理!$L10)+COUNTIF(JW$25:KP$25,処理!$L10))/処理!$M10,0))","v":""},"",{"$f":"$K$32","v":""},null,{"$f":"IF(LEN(KE32)=0,\"\",(COUNTIF(JW$6:KP$7,KE32)+COUNTIF(JW$10:KP$10,KE32)+COUNTIF(JW$13:KP$13,KE32)+COUNTIF(JW$16:KP$16,KE32)+COUNTIF(JW$19:KP$19,KE32)+COUNTIF(JW$22:KP$22,KE32)+COUNTIF(JW$25:KP$25,KE32))/設定!$J23+IFERROR((COUNTIF(JW$6:KP$7,処理!$L16)+COUNTIF(JW$10:KP$10,処理!$L16)+COUNTIF(JW$13:KP$13,処理!$L16)+COUNTIF(JW$16:KP$16,処理!$L16)+COUNTIF(JW$19:KP$19,処理!$L16)+COUNTIF(JW$22:KP$22,処理!$L16)+COUNTIF(JW$25:KP$25,処理!$L16))/処理!$M16,0))","v":""},"",{"$f":"$O$32","v":""},null,{"$f":"IF(LEN(KI32)=0,\"\",(COUNTIF(JW$6:KP$7,KI32)+COUNTIF(JW$10:KP$10,KI32)+COUNTIF(JW$13:KP$13,KI32)+COUNTIF(JW$16:KP$16,KI32)+COUNTIF(JW$19:KP$19,KI32)+COUNTIF(JW$22:KP$22,KI32)+COUNTIF(JW$25:KP$25,KI32))/設定!$M23+IFERROR((COUNTIF(JW$6:KP$7,処理!$L22)+COUNTIF(JW$10:KP$10,処理!$L22)+COUNTIF(JW$13:KP$13,処理!$L22)+COUNTIF(JW$16:KP$16,処理!$L22)+COUNTIF(JW$19:KP$19,処理!$L22)+COUNTIF(JW$22:KP$22,処理!$L22)+COUNTIF(JW$25:KP$25,処理!$L22))/処理!$M22,0))","v":""},"",{"$f":"$S$32","v":""},null,{"$f":"IF(LEN(KM32)=0,\"\",COUNTIF(JW$6:KP$7,KM32)+COUNTIF(JW$10:KP$10,KM32)+COUNTIF(JW$13:KP$13,KM32)+COUNTIF(JW$16:KP$16,KM32)+COUNTIF(JW$19:KP$19,KM32)+COUNTIF(JW$22:KP$22,KM32)+COUNTIF(JW$25:KP$25,KM32))","v":""},"",{"$f":"$C$32","v":""},null,{"$f":"IF(LEN(KQ32)=0,\"\",COUNTIF(KQ$6:LJ$25,KQ32)/設定!$D23+IFERROR(COUNTIF(KQ$6:LJ$25,処理!$L4)/処理!$M4,0))","v":""},"",{"$f":"$G$32","v":""},null,{"$f":"IF(LEN(KU32)=0,\"\",COUNTIF(KQ$6:LJ$25,KU32)/設定!$G23+IFERROR(COUNTIF(KQ$6:LJ$25,処理!$L10)/処理!$M10,0))","v":""},"",{"$f":"$K$32","v":""},null,{"$f":"IF(LEN(KY32)=0,\"\",COUNTIF(KQ$6:LJ$25,KY32)/設定!$J23+IFERROR(COUNTIF(KQ$6:LJ$25,処理!$L16)/処理!$M16,0))","v":""},"",{"$f":"$O$32","v":""},null,{"$f":"IF(LEN(LC32)=0,\"\",COUNTIF(KQ$6:LJ$25,LC32)/設定!$M23+IFERROR(COUNTIF(KQ$6:LJ$25,処理!$L22)/処理!$M22,0))","v":""},"",{"$f":"$S$32","v":""},null,{"$f":"IF(LEN(LG32)=0,\"\",COUNTIF(KQ$6:LJ$25,LG32))","v":""},"",{"$f":"$C$32","v":""},null,{"$f":"IF(LEN(LK32)=0,\"\",(COUNTIF(LK$6:MD$7,LK32)+COUNTIF(LK$10:MD$10,LK32)+COUNTIF(LK$13:MD$13,LK32)+COUNTIF(LK$16:MD$16,LK32)+COUNTIF(LK$19:MD$19,LK32)+COUNTIF(LK$22:MD$22,LK32)+COUNTIF(LK$25:MD$25,LK32))/設定!$D23+IFERROR((COUNTIF(LK$6:MD$7,処理!$L4)+COUNTIF(LK$10:MD$10,処理!$L4)+COUNTIF(LK$13:MD$13,処理!$L4)+COUNTIF(LK$16:MD$16,処理!$L4)+COUNTIF(LK$19:MD$19,処理!$L4)+COUNTIF(LK$22:MD$22,処理!$L4)+COUNTIF(LK$25:MD$25,処理!$L4))/処理!$M4,0))","v":""},"",{"$f":"$G$32","v":""},null,{"$f":"IF(LEN(LO32)=0,\"\",(COUNTIF(LK$6:MD$7,LO32)+COUNTIF(LK$10:MD$10,LO32)+COUNTIF(LK$13:MD$13,LO32)+COUNTIF(LK$16:MD$16,LO32)+COUNTIF(LK$19:MD$19,LO32)+COUNTIF(LK$22:MD$22,LO32)+COUNTIF(LK$25:MD$25,LO32))/設定!$G23+IFERROR((COUNTIF(LK$6:MD$7,処理!$L10)+COUNTIF(LK$10:MD$10,処理!$L10)+COUNTIF(LK$13:MD$13,処理!$L10)+COUNTIF(LK$16:MD$16,処理!$L10)+COUNTIF(LK$19:MD$19,処理!$L10)+COUNTIF(LK$22:MD$22,処理!$L10)+COUNTIF(LK$25:MD$25,処理!$L10))/処理!$M10,0))","v":""},"",{"$f":"$K$32","v":""},null,{"$f":"IF(LEN(LS32)=0,\"\",(COUNTIF(LK$6:MD$7,LS32)+COUNTIF(LK$10:MD$10,LS32)+COUNTIF(LK$13:MD$13,LS32)+COUNTIF(LK$16:MD$16,LS32)+COUNTIF(LK$19:MD$19,LS32)+COUNTIF(LK$22:MD$22,LS32)+COUNTIF(LK$25:MD$25,LS32))/設定!$J23+IFERROR((COUNTIF(LK$6:MD$7,処理!$L16)+COUNTIF(LK$10:MD$10,処理!$L16)+COUNTIF(LK$13:MD$13,処理!$L16)+COUNTIF(LK$16:MD$16,処理!$L16)+COUNTIF(LK$19:MD$19,処理!$L16)+COUNTIF(LK$22:MD$22,処理!$L16)+COUNTIF(LK$25:MD$25,処理!$L16))/処理!$M16,0))","v":""},"",{"$f":"$O$32","v":""},null,{"$f":"IF(LEN(LW32)=0,\"\",(COUNTIF(LK$6:MD$7,LW32)+COUNTIF(LK$10:MD$10,LW32)+COUNTIF(LK$13:MD$13,LW32)+COUNTIF(LK$16:MD$16,LW32)+COUNTIF(LK$19:MD$19,LW32)+COUNTIF(LK$22:MD$22,LW32)+COUNTIF(LK$25:MD$25,LW32))/設定!$M23+IFERROR((COUNTIF(LK$6:MD$7,処理!$L22)+COUNTIF(LK$10:MD$10,処理!$L22)+COUNTIF(LK$13:MD$13,処理!$L22)+COUNTIF(LK$16:MD$16,処理!$L22)+COUNTIF(LK$19:MD$19,処理!$L22)+COUNTIF(LK$22:MD$22,処理!$L22)+COUNTIF(LK$25:MD$25,処理!$L22))/処理!$M22,0))","v":""},"",{"$f":"$S$32","v":""},null,{"$f":"IF(LEN(MA32)=0,\"\",COUNTIF(LK$6:MD$7,MA32)+COUNTIF(LK$10:MD$10,MA32)+COUNTIF(LK$13:MD$13,MA32)+COUNTIF(LK$16:MD$16,MA32)+COUNTIF(LK$19:MD$19,MA32)+COUNTIF(LK$22:MD$22,MA32)+COUNTIF(LK$25:MD$25,MA32))","v":""},""]
[null,null,{"$f":"IF(COUNTIF(処理!$J$2:$J$25,3)>0,処理!H5,\"\")","v":""},null,{"$f":"IF(LEN(C33)=0,\"\",(COUNTIF(C$6:V$7,C33)+COUNTIF(C$10:V$10,C33)+COUNTIF(C$13:V$13,C33)+COUNTIF(C$16:V$16,C33)+COUNTIF(C$19:V$19,C33)+COUNTIF(C$22:V$22,C33)+COUNTIF(C$25:V$25,C33))/設定!$D24+IFERROR((COUNTIF(C$6:V$7,処理!$L5)+COUNTIF(C$10:V$10,処理!$L5)+COUNTIF(C$13:V$13,処理!$L5)+COUNTIF(C$16:V$16,処理!$L5)+COUNTIF(C$19:V$19,処理!$L5)+COUNTIF(C$22:V$22,処理!$L5)+COUNTIF(C$25:V$25,処理!$L5))/処理!$M5,0))","v":""},"",{"$f":"IF(COUNTIF(処理!$J$2:$J$25,9)>0,処理!H11,\"\")","v":""},null,{"$f":"IF(LEN(G33)=0,\"\",(COUNTIF(C$6:V$7,G33)+COUNTIF(C$10:V$10,G33)+COUNTIF(C$13:V$13,G33)+COUNTIF(C$16:V$16,G33)+COUNTIF(C$19:V$19,G33)+COUNTIF(C$22:V$22,G33)+COUNTIF(C$25:V$25,G33))/設定!$G24+IFERROR((COUNTIF(C$6:V$7,処理!$L11)+COUNTIF(C$10:V$10,処理!$L11)+COUNTIF(C$13:V$13,処理!$L11)+COUNTIF(C$16:V$16,処理!$L11)+COUNTIF(C$19:V$19,処理!$L11)+COUNTIF(C$22:V$22,処理!$L11)+COUNTIF(C$25:V$25,処理!$L11))/処理!$M11,0))","v":""},"",{"$f":"IF(COUNTIF(処理!$J$2:$J$25,15)>0,処理!H17,\"\")","v":""},null,{"$f":"IF(LEN(K33)=0,\"\",(COUNTIF(C$6:V$7,K33)+COUNTIF(C$10:V$10,K33)+COUNTIF(C$13:V$13,K33)+COUNTIF(C$16:V$16,K33)+COUNTIF(C$19:V$19,K33)+COUNTIF(C$22:V$22,K33)+COUNTIF(C$25:V$25,K33))/設定!$J24+IFERROR((COUNTIF(C$6:V$7,処理!$L17)+COUNTIF(C$10:V$10,処理!$L17)+COUNTIF(C$13:V$13,処理!$L17)+COUNTIF(C$16:V$16,処理!$L17)+COUNTIF(C$19:V$19,処理!$L17)+COUNTIF(C$22:V$22,処理!$L17)+COUNTIF(C$25:V$25,処理!$L17))/処理!$M17,0))","v":""},"",{"$f":"IF(COUNTIF(処理!$J$2:$J$25,21)>0,処理!H23,\"\")","v":""},null,{"$f":"IF(LEN(O33)=0,\"\",(COUNTIF(C$6:V$7,O33)+COUNTIF(C$10:V$10,O33)+COUNTIF(C$13:V$13,O33)+COUNTIF(C$16:V$16,O33)+COUNTIF(C$19:V$19,O33)+COUNTIF(C$22:V$22,O33)+COUNTIF(C$25:V$25,O33))/設定!$M24+IFERROR((COUNTIF(C$6:V$7,処理!$L23)+COUNTIF(C$10:V$10,処理!$L23)+COUNTIF(C$13:V$13,処理!$L23)+COUNTIF(C$16:V$16,処理!$L23)+COUNTIF(C$19:V$19,処理!$L23)+COUNTIF(C$22:V$22,処理!$L23)+COUNTIF(C$25:V$25,処理!$L23))/処理!$M23,0))","v":""},"",{"$f":"処理!H29&\"\"","v":""},null,"","",{"$f":"$C$33","v":""},null,{"$f":"IF(LEN(W33)=0,\"\",(COUNTIF(W$6:AP$7,W33)+COUNTIF(W$10:AP$10,W33)+COUNTIF(W$13:AP$13,W33)+COUNTIF(W$16:AP$16,W33)+COUNTIF(W$19:AP$19,W33)+COUNTIF(W$22:AP$22,W33)+COUNTIF(W$25:AP$25,W33))/設定!$D24+IFERROR((COUNTIF(W$6:AP$7,処理!$L5)+COUNTIF(W$10:AP$10,処理!$L5)+COUNTIF(W$13:AP$13,処理!$L5)+COUNTIF(W$16:AP$16,処理!$L5)+COUNTIF(W$19:AP$19,処理!$L5)+COUNTIF(W$22:AP$22,処理!$L5)+COUNTIF(W$25:AP$25,処理!$L5))/処理!$M5,0))","v":""},"",{"$f":"$G$33","v":""},null,{"$f":"IF(LEN(AA33)=0,\"\",(COUNTIF(W$6:AP$7,AA33)+COUNTIF(W$10:AP$10,AA33)+COUNTIF(W$13:AP$13,AA33)+COUNTIF(W$16:AP$16,AA33)+COUNTIF(W$19:AP$19,AA33)+COUNTIF(W$22:AP$22,AA33)+COUNTIF(W$25:AP$25,AA33))/設定!$G24+IFERROR((COUNTIF(W$6:AP$7,処理!$L11)+COUNTIF(W$10:AP$10,処理!$L11)+COUNTIF(W$13:AP$13,処理!$L11)+COUNTIF(W$16:AP$16,処理!$L11)+COUNTIF(W$19:AP$19,処理!$L11)+COUNTIF(W$22:AP$22,処理!$L11)+COUNTIF(W$25:AP$25,処理!$L11))/処理!$M11,0))","v":""},"",{"$f":"$K$33","v":""},null,{"$f":"IF(LEN(AE33)=0,\"\",(COUNTIF(W$6:AP$7,AE33)+COUNTIF(W$10:AP$10,AE33)+COUNTIF(W$13:AP$13,AE33)+COUNTIF(W$16:AP$16,AE33)+COUNTIF(W$19:AP$19,AE33)+COUNTIF(W$22:AP$22,AE33)+COUNTIF(W$25:AP$25,AE33))/設定!$J24+IFERROR((COUNTIF(W$6:AP$7,処理!$L17)+COUNTIF(W$10:AP$10,処理!$L17)+COUNTIF(W$13:AP$13,処理!$L17)+COUNTIF(W$16:AP$16,処理!$L17)+COUNTIF(W$19:AP$19,処理!$L17)+COUNTIF(W$22:AP$22,処理!$L17)+COUNTIF(W$25:AP$25,処理!$L17))/処理!$M17,0))","v":""},"",{"$f":"$O$33","v":""},null,{"$f":"IF(LEN(AI33)=0,\"\",(COUNTIF(W$6:AP$7,AI33)+COUNTIF(W$10:AP$10,AI33)+COUNTIF(W$13:AP$13,AI33)+COUNTIF(W$16:AP$16,AI33)+COUNTIF(W$19:AP$19,AI33)+COUNTIF(W$22:AP$22,AI33)+COUNTIF(W$25:AP$25,AI33))/設定!$M24+IFERROR((COUNTIF(W$6:AP$7,処理!$L23)+COUNTIF(W$10:AP$10,処理!$L23)+COUNTIF(W$13:AP$13,処理!$L23)+COUNTIF(W$16:AP$16,処理!$L23)+COUNTIF(W$19:AP$19,処理!$L23)+COUNTIF(W$22:AP$22,処理!$L23)+COUNTIF(W$25:AP$25,処理!$L23))/処理!$M23,0))","v":""},"",{"$f":"$S$33","v":""},null,"","",{"$f":"$C$33","v":""},null,{"$f":"IF(LEN(AQ33)=0,\"\",(COUNTIF(AQ$6:BJ$7,AQ33)+COUNTIF(AQ$10:BJ$10,AQ33)+COUNTIF(AQ$13:BJ$13,AQ33)+COUNTIF(AQ$16:BJ$16,AQ33)+COUNTIF(AQ$19:BJ$19,AQ33)+COUNTIF(AQ$22:BJ$22,AQ33)+COUNTIF(AQ$25:BJ$25,AQ33))/設定!$D24+IFERROR((COUNTIF(AQ$6:BJ$7,処理!$L5)+COUNTIF(AQ$10:BJ$10,処理!$L5)+COUNTIF(AQ$13:BJ$13,処理!$L5)+COUNTIF(AQ$16:BJ$16,処理!$L5)+COUNTIF(AQ$19:BJ$19,処理!$L5)+COUNTIF(AQ$22:BJ$22,処理!$L5)+COUNTIF(AQ$25:BJ$25,処理!$L5))/処理!$M5,0))","v":""},"",{"$f":"$G$33","v":""},null,{"$f":"IF(LEN(AU33)=0,\"\",(COUNTIF(AQ$6:BJ$7,AU33)+COUNTIF(AQ$10:BJ$10,AU33)+COUNTIF(AQ$13:BJ$13,AU33)+COUNTIF(AQ$16:BJ$16,AU33)+COUNTIF(AQ$19:BJ$19,AU33)+COUNTIF(AQ$22:BJ$22,AU33)+COUNTIF(AQ$25:BJ$25,AU33))/設定!$G24+IFERROR((COUNTIF(AQ$6:BJ$7,処理!$L11)+COUNTIF(AQ$10:BJ$10,処理!$L11)+COUNTIF(AQ$13:BJ$13,処理!$L11)+COUNTIF(AQ$16:BJ$16,処理!$L11)+COUNTIF(AQ$19:BJ$19,処理!$L11)+COUNTIF(AQ$22:BJ$22,処理!$L11)+COUNTIF(AQ$25:BJ$25,処理!$L11))/処理!$M11,0))","v":""},"",{"$f":"$K$33","v":""},null,{"$f":"IF(LEN(AY33)=0,\"\",(COUNTIF(AQ$6:BJ$7,AY33)+COUNTIF(AQ$10:BJ$10,AY33)+COUNTIF(AQ$13:BJ$13,AY33)+COUNTIF(AQ$16:BJ$16,AY33)+COUNTIF(AQ$19:BJ$19,AY33)+COUNTIF(AQ$22:BJ$22,AY33)+COUNTIF(AQ$25:BJ$25,AY33))/設定!$J24+IFERROR((COUNTIF(AQ$6:BJ$7,処理!$L17)+COUNTIF(AQ$10:BJ$10,処理!$L17)+COUNTIF(AQ$13:BJ$13,処理!$L17)+COUNTIF(AQ$16:BJ$16,処理!$L17)+COUNTIF(AQ$19:BJ$19,処理!$L17)+COUNTIF(AQ$22:BJ$22,処理!$L17)+COUNTIF(AQ$25:BJ$25,処理!$L17))/処理!$M17,0))","v":""},"",{"$f":"$O$33","v":""},null,{"$f":"IF(LEN(BC33)=0,\"\",(COUNTIF(AQ$6:BJ$7,BC33)+COUNTIF(AQ$10:BJ$10,BC33)+COUNTIF(AQ$13:BJ$13,BC33)+COUNTIF(AQ$16:BJ$16,BC33)+COUNTIF(AQ$19:BJ$19,BC33)+COUNTIF(AQ$22:BJ$22,BC33)+COUNTIF(AQ$25:BJ$25,BC33))/設定!$M24+IFERROR((COUNTIF(AQ$6:BJ$7,処理!$L23)+COUNTIF(AQ$10:BJ$10,処理!$L23)+COUNTIF(AQ$13:BJ$13,処理!$L23)+COUNTIF(AQ$16:BJ$16,処理!$L23)+COUNTIF(AQ$19:BJ$19,処理!$L23)+COUNTIF(AQ$22:BJ$22,処理!$L23)+COUNTIF(AQ$25:BJ$25,処理!$L23))/処理!$M23,0))","v":""},"",{"$f":"$S$33","v":""},null,"","",{"$f":"$C$33","v":""},null,{"$f":"IF(LEN(BK33)=0,\"\",(COUNTIF(BK$6:CD$7,BK33)+COUNTIF(BK$10:CD$10,BK33)+COUNTIF(BK$13:CD$13,BK33)+COUNTIF(BK$16:CD$16,BK33)+COUNTIF(BK$19:CD$19,BK33)+COUNTIF(BK$22:CD$22,BK33)+COUNTIF(BK$25:CD$25,BK33))/設定!$D24+IFERROR((COUNTIF(BK$6:CD$7,処理!$L5)+COUNTIF(BK$10:CD$10,処理!$L5)+COUNTIF(BK$13:CD$13,処理!$L5)+COUNTIF(BK$16:CD$16,処理!$L5)+COUNTIF(BK$19:CD$19,処理!$L5)+COUNTIF(BK$22:CD$22,処理!$L5)+COUNTIF(BK$25:CD$25,処理!$L5))/処理!$M5,0))","v":""},"",{"$f":"$G$33","v":""},null,{"$f":"IF(LEN(BO33)=0,\"\",(COUNTIF(BK$6:CD$7,BO33)+COUNTIF(BK$10:CD$10,BO33)+COUNTIF(BK$13:CD$13,BO33)+COUNTIF(BK$16:CD$16,BO33)+COUNTIF(BK$19:CD$19,BO33)+COUNTIF(BK$22:CD$22,BO33)+COUNTIF(BK$25:CD$25,BO33))/設定!$G24+IFERROR((COUNTIF(BK$6:CD$7,処理!$L11)+COUNTIF(BK$10:CD$10,処理!$L11)+COUNTIF(BK$13:CD$13,処理!$L11)+COUNTIF(BK$16:CD$16,処理!$L11)+COUNTIF(BK$19:CD$19,処理!$L11)+COUNTIF(BK$22:CD$22,処理!$L11)+COUNTIF(BK$25:CD$25,処理!$L11))/処理!$M11,0))","v":""},"",{"$f":"$K$33","v":""},null,{"$f":"IF(LEN(BS33)=0,\"\",(COUNTIF(BK$6:CD$7,BS33)+COUNTIF(BK$10:CD$10,BS33)+COUNTIF(BK$13:CD$13,BS33)+COUNTIF(BK$16:CD$16,BS33)+COUNTIF(BK$19:CD$19,BS33)+COUNTIF(BK$22:CD$22,BS33)+COUNTIF(BK$25:CD$25,BS33))/設定!$J24+IFERROR((COUNTIF(BK$6:CD$7,処理!$L17)+COUNTIF(BK$10:CD$10,処理!$L17)+COUNTIF(BK$13:CD$13,処理!$L17)+COUNTIF(BK$16:CD$16,処理!$L17)+COUNTIF(BK$19:CD$19,処理!$L17)+COUNTIF(BK$22:CD$22,処理!$L17)+COUNTIF(BK$25:CD$25,処理!$L17))/処理!$M17,0))","v":""},"",{"$f":"$O$33","v":""},null,{"$f":"IF(LEN(BW33)=0,\"\",(COUNTIF(BK$6:CD$7,BW33)+COUNTIF(BK$10:CD$10,BW33)+COUNTIF(BK$13:CD$13,BW33)+COUNTIF(BK$16:CD$16,BW33)+COUNTIF(BK$19:CD$19,BW33)+COUNTIF(BK$22:CD$22,BW33)+COUNTIF(BK$25:CD$25,BW33))/設定!$M24+IFERROR((COUNTIF(BK$6:CD$7,処理!$L23)+COUNTIF(BK$10:CD$10,処理!$L23)+COUNTIF(BK$13:CD$13,処理!$L23)+COUNTIF(BK$16:CD$16,処理!$L23)+COUNTIF(BK$19:CD$19,処理!$L23)+COUNTIF(BK$22:CD$22,処理!$L23)+COUNTIF(BK$25:CD$25,処理!$L23))/処理!$M23,0))","v":""},"",{"$f":"$S$33","v":""},null,"","",{"$f":"$C$33","v":""},null,{"$f":"IF(LEN(CE33)=0,\"\",(COUNTIF(CE$6:CX$7,CE33)+COUNTIF(CE$10:CX$10,CE33)+COUNTIF(CE$13:CX$13,CE33)+COUNTIF(CE$16:CX$16,CE33)+COUNTIF(CE$19:CX$19,CE33)+COUNTIF(CE$22:CX$22,CE33)+COUNTIF(CE$25:CX$25,CE33))/設定!$D24+IFERROR((COUNTIF(CE$6:CX$7,処理!$L5)+COUNTIF(CE$10:CX$10,処理!$L5)+COUNTIF(CE$13:CX$13,処理!$L5)+COUNTIF(CE$16:CX$16,処理!$L5)+COUNTIF(CE$19:CX$19,処理!$L5)+COUNTIF(CE$22:CX$22,処理!$L5)+COUNTIF(CE$25:CX$25,処理!$L5))/処理!$M5,0))","v":""},"",{"$f":"$G$33","v":""},null,{"$f":"IF(LEN(CI33)=0,\"\",(COUNTIF(CE$6:CX$7,CI33)+COUNTIF(CE$10:CX$10,CI33)+COUNTIF(CE$13:CX$13,CI33)+COUNTIF(CE$16:CX$16,CI33)+COUNTIF(CE$19:CX$19,CI33)+COUNTIF(CE$22:CX$22,CI33)+COUNTIF(CE$25:CX$25,CI33))/設定!$G24+IFERROR((COUNTIF(CE$6:CX$7,処理!$L11)+COUNTIF(CE$10:CX$10,処理!$L11)+COUNTIF(CE$13:CX$13,処理!$L11)+COUNTIF(CE$16:CX$16,処理!$L11)+COUNTIF(CE$19:CX$19,処理!$L11)+COUNTIF(CE$22:CX$22,処理!$L11)+COUNTIF(CE$25:CX$25,処理!$L11))/処理!$M11,0))","v":""},"",{"$f":"$K$33","v":""},null,{"$f":"IF(LEN(CM33)=0,\"\",(COUNTIF(CE$6:CX$7,CM33)+COUNTIF(CE$10:CX$10,CM33)+COUNTIF(CE$13:CX$13,CM33)+COUNTIF(CE$16:CX$16,CM33)+COUNTIF(CE$19:CX$19,CM33)+COUNTIF(CE$22:CX$22,CM33)+COUNTIF(CE$25:CX$25,CM33))/設定!$J24+IFERROR((COUNTIF(CE$6:CX$7,処理!$L17)+COUNTIF(CE$10:CX$10,処理!$L17)+COUNTIF(CE$13:CX$13,処理!$L17)+COUNTIF(CE$16:CX$16,処理!$L17)+COUNTIF(CE$19:CX$19,処理!$L17)+COUNTIF(CE$22:CX$22,処理!$L17)+COUNTIF(CE$25:CX$25,処理!$L17))/処理!$M17,0))","v":""},"",{"$f":"$O$33","v":""},null,{"$f":"IF(LEN(CQ33)=0,\"\",(COUNTIF(CE$6:CX$7,CQ33)+COUNTIF(CE$10:CX$10,CQ33)+COUNTIF(CE$13:CX$13,CQ33)+COUNTIF(CE$16:CX$16,CQ33)+COUNTIF(CE$19:CX$19,CQ33)+COUNTIF(CE$22:CX$22,CQ33)+COUNTIF(CE$25:CX$25,CQ33))/設定!$M24+IFERROR((COUNTIF(CE$6:CX$7,処理!$L23)+COUNTIF(CE$10:CX$10,処理!$L23)+COUNTIF(CE$13:CX$13,処理!$L23)+COUNTIF(CE$16:CX$16,処理!$L23)+COUNTIF(CE$19:CX$19,処理!$L23)+COUNTIF(CE$22:CX$22,処理!$L23)+COUNTIF(CE$25:CX$25,処理!$L23))/処理!$M23,0))","v":""},"",{"$f":"$S$33","v":""},null,"","",{"$f":"$C$33","v":""},null,{"$f":"IF(LEN(CY33)=0,\"\",(COUNTIF(CY$6:DR$7,CY33)+COUNTIF(CY$10:DR$10,CY33)+COUNTIF(CY$13:DR$13,CY33)+COUNTIF(CY$16:DR$16,CY33)+COUNTIF(CY$19:DR$19,CY33)+COUNTIF(CY$22:DR$22,CY33)+COUNTIF(CY$25:DR$25,CY33))/設定!$D24+IFERROR((COUNTIF(CY$6:DR$7,処理!$L5)+COUNTIF(CY$10:DR$10,処理!$L5)+COUNTIF(CY$13:DR$13,処理!$L5)+COUNTIF(CY$16:DR$16,処理!$L5)+COUNTIF(CY$19:DR$19,処理!$L5)+COUNTIF(CY$22:DR$22,処理!$L5)+COUNTIF(CY$25:DR$25,処理!$L5))/処理!$M5,0))","v":""},"",{"$f":"$G$33","v":""},null,{"$f":"IF(LEN(DC33)=0,\"\",(COUNTIF(CY$6:DR$7,DC33)+COUNTIF(CY$10:DR$10,DC33)+COUNTIF(CY$13:DR$13,DC33)+COUNTIF(CY$16:DR$16,DC33)+COUNTIF(CY$19:DR$19,DC33)+COUNTIF(CY$22:DR$22,DC33)+COUNTIF(CY$25:DR$25,DC33))/設定!$G24+IFERROR((COUNTIF(CY$6:DR$7,処理!$L11)+COUNTIF(CY$10:DR$10,処理!$L11)+COUNTIF(CY$13:DR$13,処理!$L11)+COUNTIF(CY$16:DR$16,処理!$L11)+COUNTIF(CY$19:DR$19,処理!$L11)+COUNTIF(CY$22:DR$22,処理!$L11)+COUNTIF(CY$25:DR$25,処理!$L11))/処理!$M11,0))","v":""},"",{"$f":"$K$33","v":""},null,{"$f":"IF(LEN(DG33)=0,\"\",(COUNTIF(CY$6:DR$7,DG33)+COUNTIF(CY$10:DR$10,DG33)+COUNTIF(CY$13:DR$13,DG33)+COUNTIF(CY$16:DR$16,DG33)+COUNTIF(CY$19:DR$19,DG33)+COUNTIF(CY$22:DR$22,DG33)+COUNTIF(CY$25:DR$25,DG33))/設定!$J24+IFERROR((COUNTIF(CY$6:DR$7,処理!$L17)+COUNTIF(CY$10:DR$10,処理!$L17)+COUNTIF(CY$13:DR$13,処理!$L17)+COUNTIF(CY$16:DR$16,処理!$L17)+COUNTIF(CY$19:DR$19,処理!$L17)+COUNTIF(CY$22:DR$22,処理!$L17)+COUNTIF(CY$25:DR$25,処理!$L17))/処理!$M17,0))","v":""},"",{"$f":"$O$33","v":""},null,{"$f":"IF(LEN(DK33)=0,\"\",(COUNTIF(CY$6:DR$7,DK33)+COUNTIF(CY$10:DR$10,DK33)+COUNTIF(CY$13:DR$13,DK33)+COUNTIF(CY$16:DR$16,DK33)+COUNTIF(CY$19:DR$19,DK33)+COUNTIF(CY$22:DR$22,DK33)+COUNTIF(CY$25:DR$25,DK33))/設定!$M24+IFERROR((COUNTIF(CY$6:DR$7,処理!$L23)+COUNTIF(CY$10:DR$10,処理!$L23)+COUNTIF(CY$13:DR$13,処理!$L23)+COUNTIF(CY$16:DR$16,処理!$L23)+COUNTIF(CY$19:DR$19,処理!$L23)+COUNTIF(CY$22:DR$22,処理!$L23)+COUNTIF(CY$25:DR$25,処理!$L23))/処理!$M23,0))","v":""},"",{"$f":"$S$33","v":""},null,"","",{"$f":"$C$33","v":""},null,{"$f":"IF(LEN(DS33)=0,\"\",(COUNTIF(DS$6:EL$7,DS33)+COUNTIF(DS$10:EL$10,DS33)+COUNTIF(DS$13:EL$13,DS33)+COUNTIF(DS$16:EL$16,DS33)+COUNTIF(DS$19:EL$19,DS33)+COUNTIF(DS$22:EL$22,DS33)+COUNTIF(DS$25:EL$25,DS33))/設定!$D24+IFERROR((COUNTIF(DS$6:EL$7,処理!$L5)+COUNTIF(DS$10:EL$10,処理!$L5)+COUNTIF(DS$13:EL$13,処理!$L5)+COUNTIF(DS$16:EL$16,処理!$L5)+COUNTIF(DS$19:EL$19,処理!$L5)+COUNTIF(DS$22:EL$22,処理!$L5)+COUNTIF(DS$25:EL$25,処理!$L5))/処理!$M5,0))","v":""},"",{"$f":"$G$33","v":""},null,{"$f":"IF(LEN(DW33)=0,\"\",(COUNTIF(DS$6:EL$7,DW33)+COUNTIF(DS$10:EL$10,DW33)+COUNTIF(DS$13:EL$13,DW33)+COUNTIF(DS$16:EL$16,DW33)+COUNTIF(DS$19:EL$19,DW33)+COUNTIF(DS$22:EL$22,DW33)+COUNTIF(DS$25:EL$25,DW33))/設定!$G24+IFERROR((COUNTIF(DS$6:EL$7,処理!$L11)+COUNTIF(DS$10:EL$10,処理!$L11)+COUNTIF(DS$13:EL$13,処理!$L11)+COUNTIF(DS$16:EL$16,処理!$L11)+COUNTIF(DS$19:EL$19,処理!$L11)+COUNTIF(DS$22:EL$22,処理!$L11)+COUNTIF(DS$25:EL$25,処理!$L11))/処理!$M11,0))","v":""},"",{"$f":"$K$33","v":""},null,{"$f":"IF(LEN(EA33)=0,\"\",(COUNTIF(DS$6:EL$7,EA33)+COUNTIF(DS$10:EL$10,EA33)+COUNTIF(DS$13:EL$13,EA33)+COUNTIF(DS$16:EL$16,EA33)+COUNTIF(DS$19:EL$19,EA33)+COUNTIF(DS$22:EL$22,EA33)+COUNTIF(DS$25:EL$25,EA33))/設定!$J24+IFERROR((COUNTIF(DS$6:EL$7,処理!$L17)+COUNTIF(DS$10:EL$10,処理!$L17)+COUNTIF(DS$13:EL$13,処理!$L17)+COUNTIF(DS$16:EL$16,処理!$L17)+COUNTIF(DS$19:EL$19,処理!$L17)+COUNTIF(DS$22:EL$22,処理!$L17)+COUNTIF(DS$25:EL$25,処理!$L17))/処理!$M17,0))","v":""},"",{"$f":"$O$33","v":""},null,{"$f":"IF(LEN(EE33)=0,\"\",(COUNTIF(DS$6:EL$7,EE33)+COUNTIF(DS$10:EL$10,EE33)+COUNTIF(DS$13:EL$13,EE33)+COUNTIF(DS$16:EL$16,EE33)+COUNTIF(DS$19:EL$19,EE33)+COUNTIF(DS$22:EL$22,EE33)+COUNTIF(DS$25:EL$25,EE33))/設定!$M24+IFERROR((COUNTIF(DS$6:EL$7,処理!$L23)+COUNTIF(DS$10:EL$10,処理!$L23)+COUNTIF(DS$13:EL$13,処理!$L23)+COUNTIF(DS$16:EL$16,処理!$L23)+COUNTIF(DS$19:EL$19,処理!$L23)+COUNTIF(DS$22:EL$22,処理!$L23)+COUNTIF(DS$25:EL$25,処理!$L23))/処理!$M23,0))","v":""},"",{"$f":"$S$33","v":""},null,"","",{"$f":"$C$33","v":""},null,{"$f":"IF(LEN(EM33)=0,\"\",(COUNTIF(EM$6:FF$7,EM33)+COUNTIF(EM$10:FF$10,EM33)+COUNTIF(EM$13:FF$13,EM33)+COUNTIF(EM$16:FF$16,EM33)+COUNTIF(EM$19:FF$19,EM33)+COUNTIF(EM$22:FF$22,EM33)+COUNTIF(EM$25:FF$25,EM33))/設定!$D24+IFERROR((COUNTIF(EM$6:FF$7,処理!$L5)+COUNTIF(EM$10:FF$10,処理!$L5)+COUNTIF(EM$13:FF$13,処理!$L5)+COUNTIF(EM$16:FF$16,処理!$L5)+COUNTIF(EM$19:FF$19,処理!$L5)+COUNTIF(EM$22:FF$22,処理!$L5)+COUNTIF(EM$25:FF$25,処理!$L5))/処理!$M5,0))","v":""},"",{"$f":"$G$33","v":""},null,{"$f":"IF(LEN(EQ33)=0,\"\",(COUNTIF(EM$6:FF$7,EQ33)+COUNTIF(EM$10:FF$10,EQ33)+COUNTIF(EM$13:FF$13,EQ33)+COUNTIF(EM$16:FF$16,EQ33)+COUNTIF(EM$19:FF$19,EQ33)+COUNTIF(EM$22:FF$22,EQ33)+COUNTIF(EM$25:FF$25,EQ33))/設定!$G24+IFERROR((COUNTIF(EM$6:FF$7,処理!$L11)+COUNTIF(EM$10:FF$10,処理!$L11)+COUNTIF(EM$13:FF$13,処理!$L11)+COUNTIF(EM$16:FF$16,処理!$L11)+COUNTIF(EM$19:FF$19,処理!$L11)+COUNTIF(EM$22:FF$22,処理!$L11)+COUNTIF(EM$25:FF$25,処理!$L11))/処理!$M11,0))","v":""},"",{"$f":"$K$33","v":""},null,{"$f":"IF(LEN(EU33)=0,\"\",(COUNTIF(EM$6:FF$7,EU33)+COUNTIF(EM$10:FF$10,EU33)+COUNTIF(EM$13:FF$13,EU33)+COUNTIF(EM$16:FF$16,EU33)+COUNTIF(EM$19:FF$19,EU33)+COUNTIF(EM$22:FF$22,EU33)+COUNTIF(EM$25:FF$25,EU33))/設定!$J24+IFERROR((COUNTIF(EM$6:FF$7,処理!$L17)+COUNTIF(EM$10:FF$10,処理!$L17)+COUNTIF(EM$13:FF$13,処理!$L17)+COUNTIF(EM$16:FF$16,処理!$L17)+COUNTIF(EM$19:FF$19,処理!$L17)+COUNTIF(EM$22:FF$22,処理!$L17)+COUNTIF(EM$25:FF$25,処理!$L17))/処理!$M17,0))","v":""},"",{"$f":"$O$33","v":""},null,{"$f":"IF(LEN(EY33)=0,\"\",(COUNTIF(EM$6:FF$7,EY33)+COUNTIF(EM$10:FF$10,EY33)+COUNTIF(EM$13:FF$13,EY33)+COUNTIF(EM$16:FF$16,EY33)+COUNTIF(EM$19:FF$19,EY33)+COUNTIF(EM$22:FF$22,EY33)+COUNTIF(EM$25:FF$25,EY33))/設定!$M24+IFERROR((COUNTIF(EM$6:FF$7,処理!$L23)+COUNTIF(EM$10:FF$10,処理!$L23)+COUNTIF(EM$13:FF$13,処理!$L23)+COUNTIF(EM$16:FF$16,処理!$L23)+COUNTIF(EM$19:FF$19,処理!$L23)+COUNTIF(EM$22:FF$22,処理!$L23)+COUNTIF(EM$25:FF$25,処理!$L23))/処理!$M23,0))","v":""},"",{"$f":"$S$33","v":""},null,"","",{"$f":"$C$33","v":""},null,{"$f":"IF(LEN(FG33)=0,\"\",(COUNTIF(FG$6:FZ$7,FG33)+COUNTIF(FG$10:FZ$10,FG33)+COUNTIF(FG$13:FZ$13,FG33)+COUNTIF(FG$16:FZ$16,FG33)+COUNTIF(FG$19:FZ$19,FG33)+COUNTIF(FG$22:FZ$22,FG33)+COUNTIF(FG$25:FZ$25,FG33))/設定!$D24+IFERROR((COUNTIF(FG$6:FZ$7,処理!$L5)+COUNTIF(FG$10:FZ$10,処理!$L5)+COUNTIF(FG$13:FZ$13,処理!$L5)+COUNTIF(FG$16:FZ$16,処理!$L5)+COUNTIF(FG$19:FZ$19,処理!$L5)+COUNTIF(FG$22:FZ$22,処理!$L5)+COUNTIF(FG$25:FZ$25,処理!$L5))/処理!$M5,0))","v":""},"",{"$f":"$G$33","v":""},null,{"$f":"IF(LEN(FK33)=0,\"\",(COUNTIF(FG$6:FZ$7,FK33)+COUNTIF(FG$10:FZ$10,FK33)+COUNTIF(FG$13:FZ$13,FK33)+COUNTIF(FG$16:FZ$16,FK33)+COUNTIF(FG$19:FZ$19,FK33)+COUNTIF(FG$22:FZ$22,FK33)+COUNTIF(FG$25:FZ$25,FK33))/設定!$G24+IFERROR((COUNTIF(FG$6:FZ$7,処理!$L11)+COUNTIF(FG$10:FZ$10,処理!$L11)+COUNTIF(FG$13:FZ$13,処理!$L11)+COUNTIF(FG$16:FZ$16,処理!$L11)+COUNTIF(FG$19:FZ$19,処理!$L11)+COUNTIF(FG$22:FZ$22,処理!$L11)+COUNTIF(FG$25:FZ$25,処理!$L11))/処理!$M11,0))","v":""},"",{"$f":"$K$33","v":""},null,{"$f":"IF(LEN(FO33)=0,\"\",(COUNTIF(FG$6:FZ$7,FO33)+COUNTIF(FG$10:FZ$10,FO33)+COUNTIF(FG$13:FZ$13,FO33)+COUNTIF(FG$16:FZ$16,FO33)+COUNTIF(FG$19:FZ$19,FO33)+COUNTIF(FG$22:FZ$22,FO33)+COUNTIF(FG$25:FZ$25,FO33))/設定!$J24+IFERROR((COUNTIF(FG$6:FZ$7,処理!$L17)+COUNTIF(FG$10:FZ$10,処理!$L17)+COUNTIF(FG$13:FZ$13,処理!$L17)+COUNTIF(FG$16:FZ$16,処理!$L17)+COUNTIF(FG$19:FZ$19,処理!$L17)+COUNTIF(FG$22:FZ$22,処理!$L17)+COUNTIF(FG$25:FZ$25,処理!$L17))/処理!$M17,0))","v":""},"",{"$f":"$O$33","v":""},null,{"$f":"IF(LEN(FS33)=0,\"\",(COUNTIF(FG$6:FZ$7,FS33)+COUNTIF(FG$10:FZ$10,FS33)+COUNTIF(FG$13:FZ$13,FS33)+COUNTIF(FG$16:FZ$16,FS33)+COUNTIF(FG$19:FZ$19,FS33)+COUNTIF(FG$22:FZ$22,FS33)+COUNTIF(FG$25:FZ$25,FS33))/設定!$M24+IFERROR((COUNTIF(FG$6:FZ$7,処理!$L23)+COUNTIF(FG$10:FZ$10,処理!$L23)+COUNTIF(FG$13:FZ$13,処理!$L23)+COUNTIF(FG$16:FZ$16,処理!$L23)+COUNTIF(FG$19:FZ$19,処理!$L23)+COUNTIF(FG$22:FZ$22,処理!$L23)+COUNTIF(FG$25:FZ$25,処理!$L23))/処理!$M23,0))","v":""},"",{"$f":"$S$33","v":""},null,"","",{"$f":"$C$33","v":""},null,{"$f":"IF(LEN(GA33)=0,\"\",(COUNTIF(GA$6:GT$7,GA33)+COUNTIF(GA$10:GT$10,GA33)+COUNTIF(GA$13:GT$13,GA33)+COUNTIF(GA$16:GT$16,GA33)+COUNTIF(GA$19:GT$19,GA33)+COUNTIF(GA$22:GT$22,GA33)+COUNTIF(GA$25:GT$25,GA33))/設定!$D24+IFERROR((COUNTIF(GA$6:GT$7,処理!$L5)+COUNTIF(GA$10:GT$10,処理!$L5)+COUNTIF(GA$13:GT$13,処理!$L5)+COUNTIF(GA$16:GT$16,処理!$L5)+COUNTIF(GA$19:GT$19,処理!$L5)+COUNTIF(GA$22:GT$22,処理!$L5)+COUNTIF(GA$25:GT$25,処理!$L5))/処理!$M5,0))","v":""},"",{"$f":"$G$33","v":""},null,{"$f":"IF(LEN(GE33)=0,\"\",(COUNTIF(GA$6:GT$7,GE33)+COUNTIF(GA$10:GT$10,GE33)+COUNTIF(GA$13:GT$13,GE33)+COUNTIF(GA$16:GT$16,GE33)+COUNTIF(GA$19:GT$19,GE33)+COUNTIF(GA$22:GT$22,GE33)+COUNTIF(GA$25:GT$25,GE33))/設定!$G24+IFERROR((COUNTIF(GA$6:GT$7,処理!$L11)+COUNTIF(GA$10:GT$10,処理!$L11)+COUNTIF(GA$13:GT$13,処理!$L11)+COUNTIF(GA$16:GT$16,処理!$L11)+COUNTIF(GA$19:GT$19,処理!$L11)+COUNTIF(GA$22:GT$22,処理!$L11)+COUNTIF(GA$25:GT$25,処理!$L11))/処理!$M11,0))","v":""},"",{"$f":"$K$33","v":""},null,{"$f":"IF(LEN(GI33)=0,\"\",(COUNTIF(GA$6:GT$7,GI33)+COUNTIF(GA$10:GT$10,GI33)+COUNTIF(GA$13:GT$13,GI33)+COUNTIF(GA$16:GT$16,GI33)+COUNTIF(GA$19:GT$19,GI33)+COUNTIF(GA$22:GT$22,GI33)+COUNTIF(GA$25:GT$25,GI33))/設定!$J24+IFERROR((COUNTIF(GA$6:GT$7,処理!$L17)+COUNTIF(GA$10:GT$10,処理!$L17)+COUNTIF(GA$13:GT$13,処理!$L17)+COUNTIF(GA$16:GT$16,処理!$L17)+COUNTIF(GA$19:GT$19,処理!$L17)+COUNTIF(GA$22:GT$22,処理!$L17)+COUNTIF(GA$25:GT$25,処理!$L17))/処理!$M17,0))","v":""},"",{"$f":"$O$33","v":""},null,{"$f":"IF(LEN(GM33)=0,\"\",(COUNTIF(GA$6:GT$7,GM33)+COUNTIF(GA$10:GT$10,GM33)+COUNTIF(GA$13:GT$13,GM33)+COUNTIF(GA$16:GT$16,GM33)+COUNTIF(GA$19:GT$19,GM33)+COUNTIF(GA$22:GT$22,GM33)+COUNTIF(GA$25:GT$25,GM33))/設定!$M24+IFERROR((COUNTIF(GA$6:GT$7,処理!$L23)+COUNTIF(GA$10:GT$10,処理!$L23)+COUNTIF(GA$13:GT$13,処理!$L23)+COUNTIF(GA$16:GT$16,処理!$L23)+COUNTIF(GA$19:GT$19,処理!$L23)+COUNTIF(GA$22:GT$22,処理!$L23)+COUNTIF(GA$25:GT$25,処理!$L23))/処理!$M23,0))","v":""},"",{"$f":"$S$33","v":""},null,"","",{"$f":"$C$33","v":""},null,{"$f":"IF(LEN(GU33)=0,\"\",(COUNTIF(GU$6:HN$7,GU33)+COUNTIF(GU$10:HN$10,GU33)+COUNTIF(GU$13:HN$13,GU33)+COUNTIF(GU$16:HN$16,GU33)+COUNTIF(GU$19:HN$19,GU33)+COUNTIF(GU$22:HN$22,GU33)+COUNTIF(GU$25:HN$25,GU33))/設定!$D24+IFERROR((COUNTIF(GU$6:HN$7,処理!$L5)+COUNTIF(GU$10:HN$10,処理!$L5)+COUNTIF(GU$13:HN$13,処理!$L5)+COUNTIF(GU$16:HN$16,処理!$L5)+COUNTIF(GU$19:HN$19,処理!$L5)+COUNTIF(GU$22:HN$22,処理!$L5)+COUNTIF(GU$25:HN$25,処理!$L5))/処理!$M5,0))","v":""},"",{"$f":"$G$33","v":""},null,{"$f":"IF(LEN(GY33)=0,\"\",(COUNTIF(GU$6:HN$7,GY33)+COUNTIF(GU$10:HN$10,GY33)+COUNTIF(GU$13:HN$13,GY33)+COUNTIF(GU$16:HN$16,GY33)+COUNTIF(GU$19:HN$19,GY33)+COUNTIF(GU$22:HN$22,GY33)+COUNTIF(GU$25:HN$25,GY33))/設定!$G24+IFERROR((COUNTIF(GU$6:HN$7,処理!$L11)+COUNTIF(GU$10:HN$10,処理!$L11)+COUNTIF(GU$13:HN$13,処理!$L11)+COUNTIF(GU$16:HN$16,処理!$L11)+COUNTIF(GU$19:HN$19,処理!$L11)+COUNTIF(GU$22:HN$22,処理!$L11)+COUNTIF(GU$25:HN$25,処理!$L11))/処理!$M11,0))","v":""},"",{"$f":"$K$33","v":""},null,{"$f":"IF(LEN(HC33)=0,\"\",(COUNTIF(GU$6:HN$7,HC33)+COUNTIF(GU$10:HN$10,HC33)+COUNTIF(GU$13:HN$13,HC33)+COUNTIF(GU$16:HN$16,HC33)+COUNTIF(GU$19:HN$19,HC33)+COUNTIF(GU$22:HN$22,HC33)+COUNTIF(GU$25:HN$25,HC33))/設定!$J24+IFERROR((COUNTIF(GU$6:HN$7,処理!$L17)+COUNTIF(GU$10:HN$10,処理!$L17)+COUNTIF(GU$13:HN$13,処理!$L17)+COUNTIF(GU$16:HN$16,処理!$L17)+COUNTIF(GU$19:HN$19,処理!$L17)+COUNTIF(GU$22:HN$22,処理!$L17)+COUNTIF(GU$25:HN$25,処理!$L17))/処理!$M17,0))","v":""},"",{"$f":"$O$33","v":""},null,{"$f":"IF(LEN(HG33)=0,\"\",(COUNTIF(GU$6:HN$7,HG33)+COUNTIF(GU$10:HN$10,HG33)+COUNTIF(GU$13:HN$13,HG33)+COUNTIF(GU$16:HN$16,HG33)+COUNTIF(GU$19:HN$19,HG33)+COUNTIF(GU$22:HN$22,HG33)+COUNTIF(GU$25:HN$25,HG33))/設定!$M24+IFERROR((COUNTIF(GU$6:HN$7,処理!$L23)+COUNTIF(GU$10:HN$10,処理!$L23)+COUNTIF(GU$13:HN$13,処理!$L23)+COUNTIF(GU$16:HN$16,処理!$L23)+COUNTIF(GU$19:HN$19,処理!$L23)+COUNTIF(GU$22:HN$22,処理!$L23)+COUNTIF(GU$25:HN$25,処理!$L23))/処理!$M23,0))","v":""},"",{"$f":"$S$33","v":""},null,"","",{"$f":"$C$33","v":""},null,{"$f":"IF(LEN(HO33)=0,\"\",(COUNTIF(HO$6:IH$7,HO33)+COUNTIF(HO$10:IH$10,HO33)+COUNTIF(HO$13:IH$13,HO33)+COUNTIF(HO$16:IH$16,HO33)+COUNTIF(HO$19:IH$19,HO33)+COUNTIF(HO$22:IH$22,HO33)+COUNTIF(HO$25:IH$25,HO33))/設定!$D24+IFERROR((COUNTIF(HO$6:IH$7,処理!$L5)+COUNTIF(HO$10:IH$10,処理!$L5)+COUNTIF(HO$13:IH$13,処理!$L5)+COUNTIF(HO$16:IH$16,処理!$L5)+COUNTIF(HO$19:IH$19,処理!$L5)+COUNTIF(HO$22:IH$22,処理!$L5)+COUNTIF(HO$25:IH$25,処理!$L5))/処理!$M5,0))","v":""},"",{"$f":"$G$33","v":""},null,{"$f":"IF(LEN(HS33)=0,\"\",(COUNTIF(HO$6:IH$7,HS33)+COUNTIF(HO$10:IH$10,HS33)+COUNTIF(HO$13:IH$13,HS33)+COUNTIF(HO$16:IH$16,HS33)+COUNTIF(HO$19:IH$19,HS33)+COUNTIF(HO$22:IH$22,HS33)+COUNTIF(HO$25:IH$25,HS33))/設定!$G24+IFERROR((COUNTIF(HO$6:IH$7,処理!$L11)+COUNTIF(HO$10:IH$10,処理!$L11)+COUNTIF(HO$13:IH$13,処理!$L11)+COUNTIF(HO$16:IH$16,処理!$L11)+COUNTIF(HO$19:IH$19,処理!$L11)+COUNTIF(HO$22:IH$22,処理!$L11)+COUNTIF(HO$25:IH$25,処理!$L11))/処理!$M11,0))","v":""},"",{"$f":"$K$33","v":""},null,{"$f":"IF(LEN(HW33)=0,\"\",(COUNTIF(HO$6:IH$7,HW33)+COUNTIF(HO$10:IH$10,HW33)+COUNTIF(HO$13:IH$13,HW33)+COUNTIF(HO$16:IH$16,HW33)+COUNTIF(HO$19:IH$19,HW33)+COUNTIF(HO$22:IH$22,HW33)+COUNTIF(HO$25:IH$25,HW33))/設定!$J24+IFERROR((COUNTIF(HO$6:IH$7,処理!$L17)+COUNTIF(HO$10:IH$10,処理!$L17)+COUNTIF(HO$13:IH$13,処理!$L17)+COUNTIF(HO$16:IH$16,処理!$L17)+COUNTIF(HO$19:IH$19,処理!$L17)+COUNTIF(HO$22:IH$22,処理!$L17)+COUNTIF(HO$25:IH$25,処理!$L17))/処理!$M17,0))","v":""},"",{"$f":"$O$33","v":""},null,{"$f":"IF(LEN(IA33)=0,\"\",(COUNTIF(HO$6:IH$7,IA33)+COUNTIF(HO$10:IH$10,IA33)+COUNTIF(HO$13:IH$13,IA33)+COUNTIF(HO$16:IH$16,IA33)+COUNTIF(HO$19:IH$19,IA33)+COUNTIF(HO$22:IH$22,IA33)+COUNTIF(HO$25:IH$25,IA33))/設定!$M24+IFERROR((COUNTIF(HO$6:IH$7,処理!$L23)+COUNTIF(HO$10:IH$10,処理!$L23)+COUNTIF(HO$13:IH$13,処理!$L23)+COUNTIF(HO$16:IH$16,処理!$L23)+COUNTIF(HO$19:IH$19,処理!$L23)+COUNTIF(HO$22:IH$22,処理!$L23)+COUNTIF(HO$25:IH$25,処理!$L23))/処理!$M23,0))","v":""},"",{"$f":"$S$33","v":""},null,"","",{"$f":"$C$33","v":""},null,{"$f":"IF(LEN(II33)=0,\"\",(COUNTIF(II$6:JB$7,II33)+COUNTIF(II$10:JB$10,II33)+COUNTIF(II$13:JB$13,II33)+COUNTIF(II$16:JB$16,II33)+COUNTIF(II$19:JB$19,II33)+COUNTIF(II$22:JB$22,II33)+COUNTIF(II$25:JB$25,II33))/設定!$D24+IFERROR((COUNTIF(II$6:JB$7,処理!$L5)+COUNTIF(II$10:JB$10,処理!$L5)+COUNTIF(II$13:JB$13,処理!$L5)+COUNTIF(II$16:JB$16,処理!$L5)+COUNTIF(II$19:JB$19,処理!$L5)+COUNTIF(II$22:JB$22,処理!$L5)+COUNTIF(II$25:JB$25,処理!$L5))/処理!$M5,0))","v":""},"",{"$f":"$G$33","v":""},null,{"$f":"IF(LEN(IM33)=0,\"\",(COUNTIF(II$6:JB$7,IM33)+COUNTIF(II$10:JB$10,IM33)+COUNTIF(II$13:JB$13,IM33)+COUNTIF(II$16:JB$16,IM33)+COUNTIF(II$19:JB$19,IM33)+COUNTIF(II$22:JB$22,IM33)+COUNTIF(II$25:JB$25,IM33))/設定!$G24+IFERROR((COUNTIF(II$6:JB$7,処理!$L11)+COUNTIF(II$10:JB$10,処理!$L11)+COUNTIF(II$13:JB$13,処理!$L11)+COUNTIF(II$16:JB$16,処理!$L11)+COUNTIF(II$19:JB$19,処理!$L11)+COUNTIF(II$22:JB$22,処理!$L11)+COUNTIF(II$25:JB$25,処理!$L11))/処理!$M11,0))","v":""},"",{"$f":"$K$33","v":""},null,{"$f":"IF(LEN(IQ33)=0,\"\",(COUNTIF(II$6:JB$7,IQ33)+COUNTIF(II$10:JB$10,IQ33)+COUNTIF(II$13:JB$13,IQ33)+COUNTIF(II$16:JB$16,IQ33)+COUNTIF(II$19:JB$19,IQ33)+COUNTIF(II$22:JB$22,IQ33)+COUNTIF(II$25:JB$25,IQ33))/設定!$J24+IFERROR((COUNTIF(II$6:JB$7,処理!$L17)+COUNTIF(II$10:JB$10,処理!$L17)+COUNTIF(II$13:JB$13,処理!$L17)+COUNTIF(II$16:JB$16,処理!$L17)+COUNTIF(II$19:JB$19,処理!$L17)+COUNTIF(II$22:JB$22,処理!$L17)+COUNTIF(II$25:JB$25,処理!$L17))/処理!$M17,0))","v":""},"",{"$f":"$O$33","v":""},null,{"$f":"IF(LEN(IU33)=0,\"\",(COUNTIF(II$6:JB$7,IU33)+COUNTIF(II$10:JB$10,IU33)+COUNTIF(II$13:JB$13,IU33)+COUNTIF(II$16:JB$16,IU33)+COUNTIF(II$19:JB$19,IU33)+COUNTIF(II$22:JB$22,IU33)+COUNTIF(II$25:JB$25,IU33))/設定!$M24+IFERROR((COUNTIF(II$6:JB$7,処理!$L23)+COUNTIF(II$10:JB$10,処理!$L23)+COUNTIF(II$13:JB$13,処理!$L23)+COUNTIF(II$16:JB$16,処理!$L23)+COUNTIF(II$19:JB$19,処理!$L23)+COUNTIF(II$22:JB$22,処理!$L23)+COUNTIF(II$25:JB$25,処理!$L23))/処理!$M23,0))","v":""},"",{"$f":"$S$33","v":""},null,"","",{"$f":"$C$33","v":""},null,{"$f":"IF(LEN(JC33)=0,\"\",(COUNTIF(JC$6:JV$7,JC33)+COUNTIF(JC$10:JV$10,JC33)+COUNTIF(JC$13:JV$13,JC33)+COUNTIF(JC$16:JV$16,JC33)+COUNTIF(JC$19:JV$19,JC33)+COUNTIF(JC$22:JV$22,JC33)+COUNTIF(JC$25:JV$25,JC33))/設定!$D24+IFERROR((COUNTIF(JC$6:JV$7,処理!$L5)+COUNTIF(JC$10:JV$10,処理!$L5)+COUNTIF(JC$13:JV$13,処理!$L5)+COUNTIF(JC$16:JV$16,処理!$L5)+COUNTIF(JC$19:JV$19,処理!$L5)+COUNTIF(JC$22:JV$22,処理!$L5)+COUNTIF(JC$25:JV$25,処理!$L5))/処理!$M5,0))","v":""},"",{"$f":"$G$33","v":""},null,{"$f":"IF(LEN(JG33)=0,\"\",(COUNTIF(JC$6:JV$7,JG33)+COUNTIF(JC$10:JV$10,JG33)+COUNTIF(JC$13:JV$13,JG33)+COUNTIF(JC$16:JV$16,JG33)+COUNTIF(JC$19:JV$19,JG33)+COUNTIF(JC$22:JV$22,JG33)+COUNTIF(JC$25:JV$25,JG33))/設定!$G24+IFERROR((COUNTIF(JC$6:JV$7,処理!$L11)+COUNTIF(JC$10:JV$10,処理!$L11)+COUNTIF(JC$13:JV$13,処理!$L11)+COUNTIF(JC$16:JV$16,処理!$L11)+COUNTIF(JC$19:JV$19,処理!$L11)+COUNTIF(JC$22:JV$22,処理!$L11)+COUNTIF(JC$25:JV$25,処理!$L11))/処理!$M11,0))","v":""},"",{"$f":"$K$33","v":""},null,{"$f":"IF(LEN(JK33)=0,\"\",(COUNTIF(JC$6:JV$7,JK33)+COUNTIF(JC$10:JV$10,JK33)+COUNTIF(JC$13:JV$13,JK33)+COUNTIF(JC$16:JV$16,JK33)+COUNTIF(JC$19:JV$19,JK33)+COUNTIF(JC$22:JV$22,JK33)+COUNTIF(JC$25:JV$25,JK33))/設定!$J24+IFERROR((COUNTIF(JC$6:JV$7,処理!$L17)+COUNTIF(JC$10:JV$10,処理!$L17)+COUNTIF(JC$13:JV$13,処理!$L17)+COUNTIF(JC$16:JV$16,処理!$L17)+COUNTIF(JC$19:JV$19,処理!$L17)+COUNTIF(JC$22:JV$22,処理!$L17)+COUNTIF(JC$25:JV$25,処理!$L17))/処理!$M17,0))","v":""},"",{"$f":"$O$33","v":""},null,{"$f":"IF(LEN(JO33)=0,\"\",(COUNTIF(JC$6:JV$7,JO33)+COUNTIF(JC$10:JV$10,JO33)+COUNTIF(JC$13:JV$13,JO33)+COUNTIF(JC$16:JV$16,JO33)+COUNTIF(JC$19:JV$19,JO33)+COUNTIF(JC$22:JV$22,JO33)+COUNTIF(JC$25:JV$25,JO33))/設定!$M24+IFERROR((COUNTIF(JC$6:JV$7,処理!$L23)+COUNTIF(JC$10:JV$10,処理!$L23)+COUNTIF(JC$13:JV$13,処理!$L23)+COUNTIF(JC$16:JV$16,処理!$L23)+COUNTIF(JC$19:JV$19,処理!$L23)+COUNTIF(JC$22:JV$22,処理!$L23)+COUNTIF(JC$25:JV$25,処理!$L23))/処理!$M23,0))","v":""},"",{"$f":"$S$33","v":""},null,"","",{"$f":"$C$33","v":""},null,{"$f":"IF(LEN(JW33)=0,\"\",(COUNTIF(JW$6:KP$7,JW33)+COUNTIF(JW$10:KP$10,JW33)+COUNTIF(JW$13:KP$13,JW33)+COUNTIF(JW$16:KP$16,JW33)+COUNTIF(JW$19:KP$19,JW33)+COUNTIF(JW$22:KP$22,JW33)+COUNTIF(JW$25:KP$25,JW33))/設定!$D24+IFERROR((COUNTIF(JW$6:KP$7,処理!$L5)+COUNTIF(JW$10:KP$10,処理!$L5)+COUNTIF(JW$13:KP$13,処理!$L5)+COUNTIF(JW$16:KP$16,処理!$L5)+COUNTIF(JW$19:KP$19,処理!$L5)+COUNTIF(JW$22:KP$22,処理!$L5)+COUNTIF(JW$25:KP$25,処理!$L5))/処理!$M5,0))","v":""},"",{"$f":"$G$33","v":""},null,{"$f":"IF(LEN(KA33)=0,\"\",(COUNTIF(JW$6:KP$7,KA33)+COUNTIF(JW$10:KP$10,KA33)+COUNTIF(JW$13:KP$13,KA33)+COUNTIF(JW$16:KP$16,KA33)+COUNTIF(JW$19:KP$19,KA33)+COUNTIF(JW$22:KP$22,KA33)+COUNTIF(JW$25:KP$25,KA33))/設定!$G24+IFERROR((COUNTIF(JW$6:KP$7,処理!$L11)+COUNTIF(JW$10:KP$10,処理!$L11)+COUNTIF(JW$13:KP$13,処理!$L11)+COUNTIF(JW$16:KP$16,処理!$L11)+COUNTIF(JW$19:KP$19,処理!$L11)+COUNTIF(JW$22:KP$22,処理!$L11)+COUNTIF(JW$25:KP$25,処理!$L11))/処理!$M11,0))","v":""},"",{"$f":"$K$33","v":""},null,{"$f":"IF(LEN(KE33)=0,\"\",(COUNTIF(JW$6:KP$7,KE33)+COUNTIF(JW$10:KP$10,KE33)+COUNTIF(JW$13:KP$13,KE33)+COUNTIF(JW$16:KP$16,KE33)+COUNTIF(JW$19:KP$19,KE33)+COUNTIF(JW$22:KP$22,KE33)+COUNTIF(JW$25:KP$25,KE33))/設定!$J24+IFERROR((COUNTIF(JW$6:KP$7,処理!$L17)+COUNTIF(JW$10:KP$10,処理!$L17)+COUNTIF(JW$13:KP$13,処理!$L17)+COUNTIF(JW$16:KP$16,処理!$L17)+COUNTIF(JW$19:KP$19,処理!$L17)+COUNTIF(JW$22:KP$22,処理!$L17)+COUNTIF(JW$25:KP$25,処理!$L17))/処理!$M17,0))","v":""},"",{"$f":"$O$33","v":""},null,{"$f":"IF(LEN(KI33)=0,\"\",(COUNTIF(JW$6:KP$7,KI33)+COUNTIF(JW$10:KP$10,KI33)+COUNTIF(JW$13:KP$13,KI33)+COUNTIF(JW$16:KP$16,KI33)+COUNTIF(JW$19:KP$19,KI33)+COUNTIF(JW$22:KP$22,KI33)+COUNTIF(JW$25:KP$25,KI33))/設定!$M24+IFERROR((COUNTIF(JW$6:KP$7,処理!$L23)+COUNTIF(JW$10:KP$10,処理!$L23)+COUNTIF(JW$13:KP$13,処理!$L23)+COUNTIF(JW$16:KP$16,処理!$L23)+COUNTIF(JW$19:KP$19,処理!$L23)+COUNTIF(JW$22:KP$22,処理!$L23)+COUNTIF(JW$25:KP$25,処理!$L23))/処理!$M23,0))","v":""},"",{"$f":"$S$33","v":""},null,"","",{"$f":"$C$33","v":""},null,{"$f":"IF(LEN(KQ33)=0,\"\",COUNTIF(KQ$6:LJ$25,KQ33)/設定!$D24+IFERROR(COUNTIF(KQ$6:LJ$25,処理!$L5)/処理!$M5,0))","v":""},"",{"$f":"$G$33","v":""},null,{"$f":"IF(LEN(KU33)=0,\"\",COUNTIF(KQ$6:LJ$25,KU33)/設定!$G24+IFERROR(COUNTIF(KQ$6:LJ$25,処理!$L11)/処理!$M11,0))","v":""},"",{"$f":"$K$33","v":""},null,{"$f":"IF(LEN(KY33)=0,\"\",COUNTIF(KQ$6:LJ$25,KY33)/設定!$J24+IFERROR(COUNTIF(KQ$6:LJ$25,処理!$L17)/処理!$M17,0))","v":""},"",{"$f":"$O$33","v":""},null,{"$f":"IF(LEN(LC33)=0,\"\",COUNTIF(KQ$6:LJ$25,LC33)/設定!$M24+IFERROR(COUNTIF(KQ$6:LJ$25,処理!$L23)/処理!$M23,0))","v":""},"",{"$f":"$S$33","v":""},null,"","",{"$f":"$C$33","v":""},null,{"$f":"IF(LEN(LK33)=0,\"\",(COUNTIF(LK$6:MD$7,LK33)+COUNTIF(LK$10:MD$10,LK33)+COUNTIF(LK$13:MD$13,LK33)+COUNTIF(LK$16:MD$16,LK33)+COUNTIF(LK$19:MD$19,LK33)+COUNTIF(LK$22:MD$22,LK33)+COUNTIF(LK$25:MD$25,LK33))/設定!$D24+IFERROR((COUNTIF(LK$6:MD$7,処理!$L5)+COUNTIF(LK$10:MD$10,処理!$L5)+COUNTIF(LK$13:MD$13,処理!$L5)+COUNTIF(LK$16:MD$16,処理!$L5)+COUNTIF(LK$19:MD$19,処理!$L5)+COUNTIF(LK$22:MD$22,処理!$L5)+COUNTIF(LK$25:MD$25,処理!$L5))/処理!$M5,0))","v":""},"",{"$f":"$G$33","v":""},null,{"$f":"IF(LEN(LO33)=0,\"\",(COUNTIF(LK$6:MD$7,LO33)+COUNTIF(LK$10:MD$10,LO33)+COUNTIF(LK$13:MD$13,LO33)+COUNTIF(LK$16:MD$16,LO33)+COUNTIF(LK$19:MD$19,LO33)+COUNTIF(LK$22:MD$22,LO33)+COUNTIF(LK$25:MD$25,LO33))/設定!$G24+IFERROR((COUNTIF(LK$6:MD$7,処理!$L11)+COUNTIF(LK$10:MD$10,処理!$L11)+COUNTIF(LK$13:MD$13,処理!$L11)+COUNTIF(LK$16:MD$16,処理!$L11)+COUNTIF(LK$19:MD$19,処理!$L11)+COUNTIF(LK$22:MD$22,処理!$L11)+COUNTIF(LK$25:MD$25,処理!$L11))/処理!$M11,0))","v":""},"",{"$f":"$K$33","v":""},null,{"$f":"IF(LEN(LS33)=0,\"\",(COUNTIF(LK$6:MD$7,LS33)+COUNTIF(LK$10:MD$10,LS33)+COUNTIF(LK$13:MD$13,LS33)+COUNTIF(LK$16:MD$16,LS33)+COUNTIF(LK$19:MD$19,LS33)+COUNTIF(LK$22:MD$22,LS33)+COUNTIF(LK$25:MD$25,LS33))/設定!$J24+IFERROR((COUNTIF(LK$6:MD$7,処理!$L17)+COUNTIF(LK$10:MD$10,処理!$L17)+COUNTIF(LK$13:MD$13,処理!$L17)+COUNTIF(LK$16:MD$16,処理!$L17)+COUNTIF(LK$19:MD$19,処理!$L17)+COUNTIF(LK$22:MD$22,処理!$L17)+COUNTIF(LK$25:MD$25,処理!$L17))/処理!$M17,0))","v":""},"",{"$f":"$O$33","v":""},null,{"$f":"IF(LEN(LW33)=0,\"\",(COUNTIF(LK$6:MD$7,LW33)+COUNTIF(LK$10:MD$10,LW33)+COUNTIF(LK$13:MD$13,LW33)+COUNTIF(LK$16:MD$16,LW33)+COUNTIF(LK$19:MD$19,LW33)+COUNTIF(LK$22:MD$22,LW33)+COUNTIF(LK$25:MD$25,LW33))/設定!$M24+IFERROR((COUNTIF(LK$6:MD$7,処理!$L23)+COUNTIF(LK$10:MD$10,処理!$L23)+COUNTIF(LK$13:MD$13,処理!$L23)+COUNTIF(LK$16:MD$16,処理!$L23)+COUNTIF(LK$19:MD$19,処理!$L23)+COUNTIF(LK$22:MD$22,処理!$L23)+COUNTIF(LK$25:MD$25,処理!$L23))/処理!$M23,0))","v":""},"",{"$f":"$S$33","v":""},null,"",""]
[null,null,{"$f":"IF(COUNTIF(処理!$J$2:$J$25,4)>0,処理!H6,\"\")","v":""},null,{"$f":"IF(LEN(C34)=0,\"\",(COUNTIF(C$6:V$7,C34)+COUNTIF(C$10:V$10,C34)+COUNTIF(C$13:V$13,C34)+COUNTIF(C$16:V$16,C34)+COUNTIF(C$19:V$19,C34)+COUNTIF(C$22:V$22,C34)+COUNTIF(C$25:V$25,C34))/設定!$D25+IFERROR((COUNTIF(C$6:V$7,処理!$L6)+COUNTIF(C$10:V$10,処理!$L6)+COUNTIF(C$13:V$13,処理!$L6)+COUNTIF(C$16:V$16,処理!$L6)+COUNTIF(C$19:V$19,処理!$L6)+COUNTIF(C$22:V$22,処理!$L6)+COUNTIF(C$25:V$25,処理!$L6))/処理!$M6,0))","v":""},"",{"$f":"IF(COUNTIF(処理!$J$2:$J$25,10)>0,処理!H12,\"\")","v":""},null,{"$f":"IF(LEN(G34)=0,\"\",(COUNTIF(C$6:V$7,G34)+COUNTIF(C$10:V$10,G34)+COUNTIF(C$13:V$13,G34)+COUNTIF(C$16:V$16,G34)+COUNTIF(C$19:V$19,G34)+COUNTIF(C$22:V$22,G34)+COUNTIF(C$25:V$25,G34))/設定!$G25+IFERROR((COUNTIF(C$6:V$7,処理!$L12)+COUNTIF(C$10:V$10,処理!$L12)+COUNTIF(C$13:V$13,処理!$L12)+COUNTIF(C$16:V$16,処理!$L12)+COUNTIF(C$19:V$19,処理!$L12)+COUNTIF(C$22:V$22,処理!$L12)+COUNTIF(C$25:V$25,処理!$L12))/処理!$M12,0))","v":""},"",{"$f":"IF(COUNTIF(処理!$J$2:$J$25,16)>0,処理!H18,\"\")","v":""},null,{"$f":"IF(LEN(K34)=0,\"\",(COUNTIF(C$6:V$7,K34)+COUNTIF(C$10:V$10,K34)+COUNTIF(C$13:V$13,K34)+COUNTIF(C$16:V$16,K34)+COUNTIF(C$19:V$19,K34)+COUNTIF(C$22:V$22,K34)+COUNTIF(C$25:V$25,K34))/設定!$J25+IFERROR((COUNTIF(C$6:V$7,処理!$L18)+COUNTIF(C$10:V$10,処理!$L18)+COUNTIF(C$13:V$13,処理!$L18)+COUNTIF(C$16:V$16,処理!$L18)+COUNTIF(C$19:V$19,処理!$L18)+COUNTIF(C$22:V$22,処理!$L18)+COUNTIF(C$25:V$25,処理!$L18))/処理!$M18,0))","v":""},"",{"$f":"IF(COUNTIF(処理!$J$2:$J$25,22)>0,処理!H24,\"\")","v":""},null,{"$f":"IF(LEN(O34)=0,\"\",(COUNTIF(C$6:V$7,O34)+COUNTIF(C$10:V$10,O34)+COUNTIF(C$13:V$13,O34)+COUNTIF(C$16:V$16,O34)+COUNTIF(C$19:V$19,O34)+COUNTIF(C$22:V$22,O34)+COUNTIF(C$25:V$25,O34))/設定!$M25+IFERROR((COUNTIF(C$6:V$7,処理!$L24)+COUNTIF(C$10:V$10,処理!$L24)+COUNTIF(C$13:V$13,処理!$L24)+COUNTIF(C$16:V$16,処理!$L24)+COUNTIF(C$19:V$19,処理!$L24)+COUNTIF(C$22:V$22,処理!$L24)+COUNTIF(C$25:V$25,処理!$L24))/処理!$M24,0))","v":""},"",{"$f":"処理!H30&\"\"","v":""},null,"","",{"$f":"$C$34","v":""},null,{"$f":"IF(LEN(W34)=0,\"\",(COUNTIF(W$6:AP$7,W34)+COUNTIF(W$10:AP$10,W34)+COUNTIF(W$13:AP$13,W34)+COUNTIF(W$16:AP$16,W34)+COUNTIF(W$19:AP$19,W34)+COUNTIF(W$22:AP$22,W34)+COUNTIF(W$25:AP$25,W34))/設定!$D25+IFERROR((COUNTIF(W$6:AP$7,処理!$L6)+COUNTIF(W$10:AP$10,処理!$L6)+COUNTIF(W$13:AP$13,処理!$L6)+COUNTIF(W$16:AP$16,処理!$L6)+COUNTIF(W$19:AP$19,処理!$L6)+COUNTIF(W$22:AP$22,処理!$L6)+COUNTIF(W$25:AP$25,処理!$L6))/処理!$M6,0))","v":""},"",{"$f":"$G$34","v":""},null,{"$f":"IF(LEN(AA34)=0,\"\",(COUNTIF(W$6:AP$7,AA34)+COUNTIF(W$10:AP$10,AA34)+COUNTIF(W$13:AP$13,AA34)+COUNTIF(W$16:AP$16,AA34)+COUNTIF(W$19:AP$19,AA34)+COUNTIF(W$22:AP$22,AA34)+COUNTIF(W$25:AP$25,AA34))/設定!$G25+IFERROR((COUNTIF(W$6:AP$7,処理!$L12)+COUNTIF(W$10:AP$10,処理!$L12)+COUNTIF(W$13:AP$13,処理!$L12)+COUNTIF(W$16:AP$16,処理!$L12)+COUNTIF(W$19:AP$19,処理!$L12)+COUNTIF(W$22:AP$22,処理!$L12)+COUNTIF(W$25:AP$25,処理!$L12))/処理!$M12,0))","v":""},"",{"$f":"$K$34","v":""},null,{"$f":"IF(LEN(AE34)=0,\"\",(COUNTIF(W$6:AP$7,AE34)+COUNTIF(W$10:AP$10,AE34)+COUNTIF(W$13:AP$13,AE34)+COUNTIF(W$16:AP$16,AE34)+COUNTIF(W$19:AP$19,AE34)+COUNTIF(W$22:AP$22,AE34)+COUNTIF(W$25:AP$25,AE34))/設定!$J25+IFERROR((COUNTIF(W$6:AP$7,処理!$L18)+COUNTIF(W$10:AP$10,処理!$L18)+COUNTIF(W$13:AP$13,処理!$L18)+COUNTIF(W$16:AP$16,処理!$L18)+COUNTIF(W$19:AP$19,処理!$L18)+COUNTIF(W$22:AP$22,処理!$L18)+COUNTIF(W$25:AP$25,処理!$L18))/処理!$M18,0))","v":""},"",{"$f":"$O$34","v":""},null,{"$f":"IF(LEN(AI34)=0,\"\",(COUNTIF(W$6:AP$7,AI34)+COUNTIF(W$10:AP$10,AI34)+COUNTIF(W$13:AP$13,AI34)+COUNTIF(W$16:AP$16,AI34)+COUNTIF(W$19:AP$19,AI34)+COUNTIF(W$22:AP$22,AI34)+COUNTIF(W$25:AP$25,AI34))/設定!$M25+IFERROR((COUNTIF(W$6:AP$7,処理!$L24)+COUNTIF(W$10:AP$10,処理!$L24)+COUNTIF(W$13:AP$13,処理!$L24)+COUNTIF(W$16:AP$16,処理!$L24)+COUNTIF(W$19:AP$19,処理!$L24)+COUNTIF(W$22:AP$22,処理!$L24)+COUNTIF(W$25:AP$25,処理!$L24))/処理!$M24,0))","v":""},"",{"$f":"$S$34","v":""},null,"","",{"$f":"$C$34","v":""},null,{"$f":"IF(LEN(AQ34)=0,\"\",(COUNTIF(AQ$6:BJ$7,AQ34)+COUNTIF(AQ$10:BJ$10,AQ34)+COUNTIF(AQ$13:BJ$13,AQ34)+COUNTIF(AQ$16:BJ$16,AQ34)+COUNTIF(AQ$19:BJ$19,AQ34)+COUNTIF(AQ$22:BJ$22,AQ34)+COUNTIF(AQ$25:BJ$25,AQ34))/設定!$D25+IFERROR((COUNTIF(AQ$6:BJ$7,処理!$L6)+COUNTIF(AQ$10:BJ$10,処理!$L6)+COUNTIF(AQ$13:BJ$13,処理!$L6)+COUNTIF(AQ$16:BJ$16,処理!$L6)+COUNTIF(AQ$19:BJ$19,処理!$L6)+COUNTIF(AQ$22:BJ$22,処理!$L6)+COUNTIF(AQ$25:BJ$25,処理!$L6))/処理!$M6,0))","v":""},"",{"$f":"$G$34","v":""},null,{"$f":"IF(LEN(AU34)=0,\"\",(COUNTIF(AQ$6:BJ$7,AU34)+COUNTIF(AQ$10:BJ$10,AU34)+COUNTIF(AQ$13:BJ$13,AU34)+COUNTIF(AQ$16:BJ$16,AU34)+COUNTIF(AQ$19:BJ$19,AU34)+COUNTIF(AQ$22:BJ$22,AU34)+COUNTIF(AQ$25:BJ$25,AU34))/設定!$G25+IFERROR((COUNTIF(AQ$6:BJ$7,処理!$L12)+COUNTIF(AQ$10:BJ$10,処理!$L12)+COUNTIF(AQ$13:BJ$13,処理!$L12)+COUNTIF(AQ$16:BJ$16,処理!$L12)+COUNTIF(AQ$19:BJ$19,処理!$L12)+COUNTIF(AQ$22:BJ$22,処理!$L12)+COUNTIF(AQ$25:BJ$25,処理!$L12))/処理!$M12,0))","v":""},"",{"$f":"$K$34","v":""},null,{"$f":"IF(LEN(AY34)=0,\"\",(COUNTIF(AQ$6:BJ$7,AY34)+COUNTIF(AQ$10:BJ$10,AY34)+COUNTIF(AQ$13:BJ$13,AY34)+COUNTIF(AQ$16:BJ$16,AY34)+COUNTIF(AQ$19:BJ$19,AY34)+COUNTIF(AQ$22:BJ$22,AY34)+COUNTIF(AQ$25:BJ$25,AY34))/設定!$J25+IFERROR((COUNTIF(AQ$6:BJ$7,処理!$L18)+COUNTIF(AQ$10:BJ$10,処理!$L18)+COUNTIF(AQ$13:BJ$13,処理!$L18)+COUNTIF(AQ$16:BJ$16,処理!$L18)+COUNTIF(AQ$19:BJ$19,処理!$L18)+COUNTIF(AQ$22:BJ$22,処理!$L18)+COUNTIF(AQ$25:BJ$25,処理!$L18))/処理!$M18,0))","v":""},"",{"$f":"$O$34","v":""},null,{"$f":"IF(LEN(BC34)=0,\"\",(COUNTIF(AQ$6:BJ$7,BC34)+COUNTIF(AQ$10:BJ$10,BC34)+COUNTIF(AQ$13:BJ$13,BC34)+COUNTIF(AQ$16:BJ$16,BC34)+COUNTIF(AQ$19:BJ$19,BC34)+COUNTIF(AQ$22:BJ$22,BC34)+COUNTIF(AQ$25:BJ$25,BC34))/設定!$M25+IFERROR((COUNTIF(AQ$6:BJ$7,処理!$L24)+COUNTIF(AQ$10:BJ$10,処理!$L24)+COUNTIF(AQ$13:BJ$13,処理!$L24)+COUNTIF(AQ$16:BJ$16,処理!$L24)+COUNTIF(AQ$19:BJ$19,処理!$L24)+COUNTIF(AQ$22:BJ$22,処理!$L24)+COUNTIF(AQ$25:BJ$25,処理!$L24))/処理!$M24,0))","v":""},"",{"$f":"$S$34","v":""},null,"","",{"$f":"$C$34","v":""},null,{"$f":"IF(LEN(BK34)=0,\"\",(COUNTIF(BK$6:CD$7,BK34)+COUNTIF(BK$10:CD$10,BK34)+COUNTIF(BK$13:CD$13,BK34)+COUNTIF(BK$16:CD$16,BK34)+COUNTIF(BK$19:CD$19,BK34)+COUNTIF(BK$22:CD$22,BK34)+COUNTIF(BK$25:CD$25,BK34))/設定!$D25+IFERROR((COUNTIF(BK$6:CD$7,処理!$L6)+COUNTIF(BK$10:CD$10,処理!$L6)+COUNTIF(BK$13:CD$13,処理!$L6)+COUNTIF(BK$16:CD$16,処理!$L6)+COUNTIF(BK$19:CD$19,処理!$L6)+COUNTIF(BK$22:CD$22,処理!$L6)+COUNTIF(BK$25:CD$25,処理!$L6))/処理!$M6,0))","v":""},"",{"$f":"$G$34","v":""},null,{"$f":"IF(LEN(BO34)=0,\"\",(COUNTIF(BK$6:CD$7,BO34)+COUNTIF(BK$10:CD$10,BO34)+COUNTIF(BK$13:CD$13,BO34)+COUNTIF(BK$16:CD$16,BO34)+COUNTIF(BK$19:CD$19,BO34)+COUNTIF(BK$22:CD$22,BO34)+COUNTIF(BK$25:CD$25,BO34))/設定!$G25+IFERROR((COUNTIF(BK$6:CD$7,処理!$L12)+COUNTIF(BK$10:CD$10,処理!$L12)+COUNTIF(BK$13:CD$13,処理!$L12)+COUNTIF(BK$16:CD$16,処理!$L12)+COUNTIF(BK$19:CD$19,処理!$L12)+COUNTIF(BK$22:CD$22,処理!$L12)+COUNTIF(BK$25:CD$25,処理!$L12))/処理!$M12,0))","v":""},"",{"$f":"$K$34","v":""},null,{"$f":"IF(LEN(BS34)=0,\"\",(COUNTIF(BK$6:CD$7,BS34)+COUNTIF(BK$10:CD$10,BS34)+COUNTIF(BK$13:CD$13,BS34)+COUNTIF(BK$16:CD$16,BS34)+COUNTIF(BK$19:CD$19,BS34)+COUNTIF(BK$22:CD$22,BS34)+COUNTIF(BK$25:CD$25,BS34))/設定!$J25+IFERROR((COUNTIF(BK$6:CD$7,処理!$L18)+COUNTIF(BK$10:CD$10,処理!$L18)+COUNTIF(BK$13:CD$13,処理!$L18)+COUNTIF(BK$16:CD$16,処理!$L18)+COUNTIF(BK$19:CD$19,処理!$L18)+COUNTIF(BK$22:CD$22,処理!$L18)+COUNTIF(BK$25:CD$25,処理!$L18))/処理!$M18,0))","v":""},"",{"$f":"$O$34","v":""},null,{"$f":"IF(LEN(BW34)=0,\"\",(COUNTIF(BK$6:CD$7,BW34)+COUNTIF(BK$10:CD$10,BW34)+COUNTIF(BK$13:CD$13,BW34)+COUNTIF(BK$16:CD$16,BW34)+COUNTIF(BK$19:CD$19,BW34)+COUNTIF(BK$22:CD$22,BW34)+COUNTIF(BK$25:CD$25,BW34))/設定!$M25+IFERROR((COUNTIF(BK$6:CD$7,処理!$L24)+COUNTIF(BK$10:CD$10,処理!$L24)+COUNTIF(BK$13:CD$13,処理!$L24)+COUNTIF(BK$16:CD$16,処理!$L24)+COUNTIF(BK$19:CD$19,処理!$L24)+COUNTIF(BK$22:CD$22,処理!$L24)+COUNTIF(BK$25:CD$25,処理!$L24))/処理!$M24,0))","v":""},"",{"$f":"$S$34","v":""},null,"","",{"$f":"$C$34","v":""},null,{"$f":"IF(LEN(CE34)=0,\"\",(COUNTIF(CE$6:CX$7,CE34)+COUNTIF(CE$10:CX$10,CE34)+COUNTIF(CE$13:CX$13,CE34)+COUNTIF(CE$16:CX$16,CE34)+COUNTIF(CE$19:CX$19,CE34)+COUNTIF(CE$22:CX$22,CE34)+COUNTIF(CE$25:CX$25,CE34))/設定!$D25+IFERROR((COUNTIF(CE$6:CX$7,処理!$L6)+COUNTIF(CE$10:CX$10,処理!$L6)+COUNTIF(CE$13:CX$13,処理!$L6)+COUNTIF(CE$16:CX$16,処理!$L6)+COUNTIF(CE$19:CX$19,処理!$L6)+COUNTIF(CE$22:CX$22,処理!$L6)+COUNTIF(CE$25:CX$25,処理!$L6))/処理!$M6,0))","v":""},"",{"$f":"$G$34","v":""},null,{"$f":"IF(LEN(CI34)=0,\"\",(COUNTIF(CE$6:CX$7,CI34)+COUNTIF(CE$10:CX$10,CI34)+COUNTIF(CE$13:CX$13,CI34)+COUNTIF(CE$16:CX$16,CI34)+COUNTIF(CE$19:CX$19,CI34)+COUNTIF(CE$22:CX$22,CI34)+COUNTIF(CE$25:CX$25,CI34))/設定!$G25+IFERROR((COUNTIF(CE$6:CX$7,処理!$L12)+COUNTIF(CE$10:CX$10,処理!$L12)+COUNTIF(CE$13:CX$13,処理!$L12)+COUNTIF(CE$16:CX$16,処理!$L12)+COUNTIF(CE$19:CX$19,処理!$L12)+COUNTIF(CE$22:CX$22,処理!$L12)+COUNTIF(CE$25:CX$25,処理!$L12))/処理!$M12,0))","v":""},"",{"$f":"$K$34","v":""},null,{"$f":"IF(LEN(CM34)=0,\"\",(COUNTIF(CE$6:CX$7,CM34)+COUNTIF(CE$10:CX$10,CM34)+COUNTIF(CE$13:CX$13,CM34)+COUNTIF(CE$16:CX$16,CM34)+COUNTIF(CE$19:CX$19,CM34)+COUNTIF(CE$22:CX$22,CM34)+COUNTIF(CE$25:CX$25,CM34))/設定!$J25+IFERROR((COUNTIF(CE$6:CX$7,処理!$L18)+COUNTIF(CE$10:CX$10,処理!$L18)+COUNTIF(CE$13:CX$13,処理!$L18)+COUNTIF(CE$16:CX$16,処理!$L18)+COUNTIF(CE$19:CX$19,処理!$L18)+COUNTIF(CE$22:CX$22,処理!$L18)+COUNTIF(CE$25:CX$25,処理!$L18))/処理!$M18,0))","v":""},"",{"$f":"$O$34","v":""},null,{"$f":"IF(LEN(CQ34)=0,\"\",(COUNTIF(CE$6:CX$7,CQ34)+COUNTIF(CE$10:CX$10,CQ34)+COUNTIF(CE$13:CX$13,CQ34)+COUNTIF(CE$16:CX$16,CQ34)+COUNTIF(CE$19:CX$19,CQ34)+COUNTIF(CE$22:CX$22,CQ34)+COUNTIF(CE$25:CX$25,CQ34))/設定!$M25+IFERROR((COUNTIF(CE$6:CX$7,処理!$L24)+COUNTIF(CE$10:CX$10,処理!$L24)+COUNTIF(CE$13:CX$13,処理!$L24)+COUNTIF(CE$16:CX$16,処理!$L24)+COUNTIF(CE$19:CX$19,処理!$L24)+COUNTIF(CE$22:CX$22,処理!$L24)+COUNTIF(CE$25:CX$25,処理!$L24))/処理!$M24,0))","v":""},"",{"$f":"$S$34","v":""},null,"","",{"$f":"$C$34","v":""},null,{"$f":"IF(LEN(CY34)=0,\"\",(COUNTIF(CY$6:DR$7,CY34)+COUNTIF(CY$10:DR$10,CY34)+COUNTIF(CY$13:DR$13,CY34)+COUNTIF(CY$16:DR$16,CY34)+COUNTIF(CY$19:DR$19,CY34)+COUNTIF(CY$22:DR$22,CY34)+COUNTIF(CY$25:DR$25,CY34))/設定!$D25+IFERROR((COUNTIF(CY$6:DR$7,処理!$L6)+COUNTIF(CY$10:DR$10,処理!$L6)+COUNTIF(CY$13:DR$13,処理!$L6)+COUNTIF(CY$16:DR$16,処理!$L6)+COUNTIF(CY$19:DR$19,処理!$L6)+COUNTIF(CY$22:DR$22,処理!$L6)+COUNTIF(CY$25:DR$25,処理!$L6))/処理!$M6,0))","v":""},"",{"$f":"$G$34","v":""},null,{"$f":"IF(LEN(DC34)=0,\"\",(COUNTIF(CY$6:DR$7,DC34)+COUNTIF(CY$10:DR$10,DC34)+COUNTIF(CY$13:DR$13,DC34)+COUNTIF(CY$16:DR$16,DC34)+COUNTIF(CY$19:DR$19,DC34)+COUNTIF(CY$22:DR$22,DC34)+COUNTIF(CY$25:DR$25,DC34))/設定!$G25+IFERROR((COUNTIF(CY$6:DR$7,処理!$L12)+COUNTIF(CY$10:DR$10,処理!$L12)+COUNTIF(CY$13:DR$13,処理!$L12)+COUNTIF(CY$16:DR$16,処理!$L12)+COUNTIF(CY$19:DR$19,処理!$L12)+COUNTIF(CY$22:DR$22,処理!$L12)+COUNTIF(CY$25:DR$25,処理!$L12))/処理!$M12,0))","v":""},"",{"$f":"$K$34","v":""},null,{"$f":"IF(LEN(DG34)=0,\"\",(COUNTIF(CY$6:DR$7,DG34)+COUNTIF(CY$10:DR$10,DG34)+COUNTIF(CY$13:DR$13,DG34)+COUNTIF(CY$16:DR$16,DG34)+COUNTIF(CY$19:DR$19,DG34)+COUNTIF(CY$22:DR$22,DG34)+COUNTIF(CY$25:DR$25,DG34))/設定!$J25+IFERROR((COUNTIF(CY$6:DR$7,処理!$L18)+COUNTIF(CY$10:DR$10,処理!$L18)+COUNTIF(CY$13:DR$13,処理!$L18)+COUNTIF(CY$16:DR$16,処理!$L18)+COUNTIF(CY$19:DR$19,処理!$L18)+COUNTIF(CY$22:DR$22,処理!$L18)+COUNTIF(CY$25:DR$25,処理!$L18))/処理!$M18,0))","v":""},"",{"$f":"$O$34","v":""},null,{"$f":"IF(LEN(DK34)=0,\"\",(COUNTIF(CY$6:DR$7,DK34)+COUNTIF(CY$10:DR$10,DK34)+COUNTIF(CY$13:DR$13,DK34)+COUNTIF(CY$16:DR$16,DK34)+COUNTIF(CY$19:DR$19,DK34)+COUNTIF(CY$22:DR$22,DK34)+COUNTIF(CY$25:DR$25,DK34))/設定!$M25+IFERROR((COUNTIF(CY$6:DR$7,処理!$L24)+COUNTIF(CY$10:DR$10,処理!$L24)+COUNTIF(CY$13:DR$13,処理!$L24)+COUNTIF(CY$16:DR$16,処理!$L24)+COUNTIF(CY$19:DR$19,処理!$L24)+COUNTIF(CY$22:DR$22,処理!$L24)+COUNTIF(CY$25:DR$25,処理!$L24))/処理!$M24,0))","v":""},"",{"$f":"$S$34","v":""},null,"","",{"$f":"$C$34","v":""},null,{"$f":"IF(LEN(DS34)=0,\"\",(COUNTIF(DS$6:EL$7,DS34)+COUNTIF(DS$10:EL$10,DS34)+COUNTIF(DS$13:EL$13,DS34)+COUNTIF(DS$16:EL$16,DS34)+COUNTIF(DS$19:EL$19,DS34)+COUNTIF(DS$22:EL$22,DS34)+COUNTIF(DS$25:EL$25,DS34))/設定!$D25+IFERROR((COUNTIF(DS$6:EL$7,処理!$L6)+COUNTIF(DS$10:EL$10,処理!$L6)+COUNTIF(DS$13:EL$13,処理!$L6)+COUNTIF(DS$16:EL$16,処理!$L6)+COUNTIF(DS$19:EL$19,処理!$L6)+COUNTIF(DS$22:EL$22,処理!$L6)+COUNTIF(DS$25:EL$25,処理!$L6))/処理!$M6,0))","v":""},"",{"$f":"$G$34","v":""},null,{"$f":"IF(LEN(DW34)=0,\"\",(COUNTIF(DS$6:EL$7,DW34)+COUNTIF(DS$10:EL$10,DW34)+COUNTIF(DS$13:EL$13,DW34)+COUNTIF(DS$16:EL$16,DW34)+COUNTIF(DS$19:EL$19,DW34)+COUNTIF(DS$22:EL$22,DW34)+COUNTIF(DS$25:EL$25,DW34))/設定!$G25+IFERROR((COUNTIF(DS$6:EL$7,処理!$L12)+COUNTIF(DS$10:EL$10,処理!$L12)+COUNTIF(DS$13:EL$13,処理!$L12)+COUNTIF(DS$16:EL$16,処理!$L12)+COUNTIF(DS$19:EL$19,処理!$L12)+COUNTIF(DS$22:EL$22,処理!$L12)+COUNTIF(DS$25:EL$25,処理!$L12))/処理!$M12,0))","v":""},"",{"$f":"$K$34","v":""},null,{"$f":"IF(LEN(EA34)=0,\"\",(COUNTIF(DS$6:EL$7,EA34)+COUNTIF(DS$10:EL$10,EA34)+COUNTIF(DS$13:EL$13,EA34)+COUNTIF(DS$16:EL$16,EA34)+COUNTIF(DS$19:EL$19,EA34)+COUNTIF(DS$22:EL$22,EA34)+COUNTIF(DS$25:EL$25,EA34))/設定!$J25+IFERROR((COUNTIF(DS$6:EL$7,処理!$L18)+COUNTIF(DS$10:EL$10,処理!$L18)+COUNTIF(DS$13:EL$13,処理!$L18)+COUNTIF(DS$16:EL$16,処理!$L18)+COUNTIF(DS$19:EL$19,処理!$L18)+COUNTIF(DS$22:EL$22,処理!$L18)+COUNTIF(DS$25:EL$25,処理!$L18))/処理!$M18,0))","v":""},"",{"$f":"$O$34","v":""},null,{"$f":"IF(LEN(EE34)=0,\"\",(COUNTIF(DS$6:EL$7,EE34)+COUNTIF(DS$10:EL$10,EE34)+COUNTIF(DS$13:EL$13,EE34)+COUNTIF(DS$16:EL$16,EE34)+COUNTIF(DS$19:EL$19,EE34)+COUNTIF(DS$22:EL$22,EE34)+COUNTIF(DS$25:EL$25,EE34))/設定!$M25+IFERROR((COUNTIF(DS$6:EL$7,処理!$L24)+COUNTIF(DS$10:EL$10,処理!$L24)+COUNTIF(DS$13:EL$13,処理!$L24)+COUNTIF(DS$16:EL$16,処理!$L24)+COUNTIF(DS$19:EL$19,処理!$L24)+COUNTIF(DS$22:EL$22,処理!$L24)+COUNTIF(DS$25:EL$25,処理!$L24))/処理!$M24,0))","v":""},"",{"$f":"$S$34","v":""},null,"","",{"$f":"$C$34","v":""},null,{"$f":"IF(LEN(EM34)=0,\"\",(COUNTIF(EM$6:FF$7,EM34)+COUNTIF(EM$10:FF$10,EM34)+COUNTIF(EM$13:FF$13,EM34)+COUNTIF(EM$16:FF$16,EM34)+COUNTIF(EM$19:FF$19,EM34)+COUNTIF(EM$22:FF$22,EM34)+COUNTIF(EM$25:FF$25,EM34))/設定!$D25+IFERROR((COUNTIF(EM$6:FF$7,処理!$L6)+COUNTIF(EM$10:FF$10,処理!$L6)+COUNTIF(EM$13:FF$13,処理!$L6)+COUNTIF(EM$16:FF$16,処理!$L6)+COUNTIF(EM$19:FF$19,処理!$L6)+COUNTIF(EM$22:FF$22,処理!$L6)+COUNTIF(EM$25:FF$25,処理!$L6))/処理!$M6,0))","v":""},"",{"$f":"$G$34","v":""},null,{"$f":"IF(LEN(EQ34)=0,\"\",(COUNTIF(EM$6:FF$7,EQ34)+COUNTIF(EM$10:FF$10,EQ34)+COUNTIF(EM$13:FF$13,EQ34)+COUNTIF(EM$16:FF$16,EQ34)+COUNTIF(EM$19:FF$19,EQ34)+COUNTIF(EM$22:FF$22,EQ34)+COUNTIF(EM$25:FF$25,EQ34))/設定!$G25+IFERROR((COUNTIF(EM$6:FF$7,処理!$L12)+COUNTIF(EM$10:FF$10,処理!$L12)+COUNTIF(EM$13:FF$13,処理!$L12)+COUNTIF(EM$16:FF$16,処理!$L12)+COUNTIF(EM$19:FF$19,処理!$L12)+COUNTIF(EM$22:FF$22,処理!$L12)+COUNTIF(EM$25:FF$25,処理!$L12))/処理!$M12,0))","v":""},"",{"$f":"$K$34","v":""},null,{"$f":"IF(LEN(EU34)=0,\"\",(COUNTIF(EM$6:FF$7,EU34)+COUNTIF(EM$10:FF$10,EU34)+COUNTIF(EM$13:FF$13,EU34)+COUNTIF(EM$16:FF$16,EU34)+COUNTIF(EM$19:FF$19,EU34)+COUNTIF(EM$22:FF$22,EU34)+COUNTIF(EM$25:FF$25,EU34))/設定!$J25+IFERROR((COUNTIF(EM$6:FF$7,処理!$L18)+COUNTIF(EM$10:FF$10,処理!$L18)+COUNTIF(EM$13:FF$13,処理!$L18)+COUNTIF(EM$16:FF$16,処理!$L18)+COUNTIF(EM$19:FF$19,処理!$L18)+COUNTIF(EM$22:FF$22,処理!$L18)+COUNTIF(EM$25:FF$25,処理!$L18))/処理!$M18,0))","v":""},"",{"$f":"$O$34","v":""},null,{"$f":"IF(LEN(EY34)=0,\"\",(COUNTIF(EM$6:FF$7,EY34)+COUNTIF(EM$10:FF$10,EY34)+COUNTIF(EM$13:FF$13,EY34)+COUNTIF(EM$16:FF$16,EY34)+COUNTIF(EM$19:FF$19,EY34)+COUNTIF(EM$22:FF$22,EY34)+COUNTIF(EM$25:FF$25,EY34))/設定!$M25+IFERROR((COUNTIF(EM$6:FF$7,処理!$L24)+COUNTIF(EM$10:FF$10,処理!$L24)+COUNTIF(EM$13:FF$13,処理!$L24)+COUNTIF(EM$16:FF$16,処理!$L24)+COUNTIF(EM$19:FF$19,処理!$L24)+COUNTIF(EM$22:FF$22,処理!$L24)+COUNTIF(EM$25:FF$25,処理!$L24))/処理!$M24,0))","v":""},"",{"$f":"$S$34","v":""},null,"","",{"$f":"$C$34","v":""},null,{"$f":"IF(LEN(FG34)=0,\"\",(COUNTIF(FG$6:FZ$7,FG34)+COUNTIF(FG$10:FZ$10,FG34)+COUNTIF(FG$13:FZ$13,FG34)+COUNTIF(FG$16:FZ$16,FG34)+COUNTIF(FG$19:FZ$19,FG34)+COUNTIF(FG$22:FZ$22,FG34)+COUNTIF(FG$25:FZ$25,FG34))/設定!$D25+IFERROR((COUNTIF(FG$6:FZ$7,処理!$L6)+COUNTIF(FG$10:FZ$10,処理!$L6)+COUNTIF(FG$13:FZ$13,処理!$L6)+COUNTIF(FG$16:FZ$16,処理!$L6)+COUNTIF(FG$19:FZ$19,処理!$L6)+COUNTIF(FG$22:FZ$22,処理!$L6)+COUNTIF(FG$25:FZ$25,処理!$L6))/処理!$M6,0))","v":""},"",{"$f":"$G$34","v":""},null,{"$f":"IF(LEN(FK34)=0,\"\",(COUNTIF(FG$6:FZ$7,FK34)+COUNTIF(FG$10:FZ$10,FK34)+COUNTIF(FG$13:FZ$13,FK34)+COUNTIF(FG$16:FZ$16,FK34)+COUNTIF(FG$19:FZ$19,FK34)+COUNTIF(FG$22:FZ$22,FK34)+COUNTIF(FG$25:FZ$25,FK34))/設定!$G25+IFERROR((COUNTIF(FG$6:FZ$7,処理!$L12)+COUNTIF(FG$10:FZ$10,処理!$L12)+COUNTIF(FG$13:FZ$13,処理!$L12)+COUNTIF(FG$16:FZ$16,処理!$L12)+COUNTIF(FG$19:FZ$19,処理!$L12)+COUNTIF(FG$22:FZ$22,処理!$L12)+COUNTIF(FG$25:FZ$25,処理!$L12))/処理!$M12,0))","v":""},"",{"$f":"$K$34","v":""},null,{"$f":"IF(LEN(FO34)=0,\"\",(COUNTIF(FG$6:FZ$7,FO34)+COUNTIF(FG$10:FZ$10,FO34)+COUNTIF(FG$13:FZ$13,FO34)+COUNTIF(FG$16:FZ$16,FO34)+COUNTIF(FG$19:FZ$19,FO34)+COUNTIF(FG$22:FZ$22,FO34)+COUNTIF(FG$25:FZ$25,FO34))/設定!$J25+IFERROR((COUNTIF(FG$6:FZ$7,処理!$L18)+COUNTIF(FG$10:FZ$10,処理!$L18)+COUNTIF(FG$13:FZ$13,処理!$L18)+COUNTIF(FG$16:FZ$16,処理!$L18)+COUNTIF(FG$19:FZ$19,処理!$L18)+COUNTIF(FG$22:FZ$22,処理!$L18)+COUNTIF(FG$25:FZ$25,処理!$L18))/処理!$M18,0))","v":""},"",{"$f":"$O$34","v":""},null,{"$f":"IF(LEN(FS34)=0,\"\",(COUNTIF(FG$6:FZ$7,FS34)+COUNTIF(FG$10:FZ$10,FS34)+COUNTIF(FG$13:FZ$13,FS34)+COUNTIF(FG$16:FZ$16,FS34)+COUNTIF(FG$19:FZ$19,FS34)+COUNTIF(FG$22:FZ$22,FS34)+COUNTIF(FG$25:FZ$25,FS34))/設定!$M25+IFERROR((COUNTIF(FG$6:FZ$7,処理!$L24)+COUNTIF(FG$10:FZ$10,処理!$L24)+COUNTIF(FG$13:FZ$13,処理!$L24)+COUNTIF(FG$16:FZ$16,処理!$L24)+COUNTIF(FG$19:FZ$19,処理!$L24)+COUNTIF(FG$22:FZ$22,処理!$L24)+COUNTIF(FG$25:FZ$25,処理!$L24))/処理!$M24,0))","v":""},"",{"$f":"$S$34","v":""},null,"","",{"$f":"$C$34","v":""},null,{"$f":"IF(LEN(GA34)=0,\"\",(COUNTIF(GA$6:GT$7,GA34)+COUNTIF(GA$10:GT$10,GA34)+COUNTIF(GA$13:GT$13,GA34)+COUNTIF(GA$16:GT$16,GA34)+COUNTIF(GA$19:GT$19,GA34)+COUNTIF(GA$22:GT$22,GA34)+COUNTIF(GA$25:GT$25,GA34))/設定!$D25+IFERROR((COUNTIF(GA$6:GT$7,処理!$L6)+COUNTIF(GA$10:GT$10,処理!$L6)+COUNTIF(GA$13:GT$13,処理!$L6)+COUNTIF(GA$16:GT$16,処理!$L6)+COUNTIF(GA$19:GT$19,処理!$L6)+COUNTIF(GA$22:GT$22,処理!$L6)+COUNTIF(GA$25:GT$25,処理!$L6))/処理!$M6,0))","v":""},"",{"$f":"$G$34","v":""},null,{"$f":"IF(LEN(GE34)=0,\"\",(COUNTIF(GA$6:GT$7,GE34)+COUNTIF(GA$10:GT$10,GE34)+COUNTIF(GA$13:GT$13,GE34)+COUNTIF(GA$16:GT$16,GE34)+COUNTIF(GA$19:GT$19,GE34)+COUNTIF(GA$22:GT$22,GE34)+COUNTIF(GA$25:GT$25,GE34))/設定!$G25+IFERROR((COUNTIF(GA$6:GT$7,処理!$L12)+COUNTIF(GA$10:GT$10,処理!$L12)+COUNTIF(GA$13:GT$13,処理!$L12)+COUNTIF(GA$16:GT$16,処理!$L12)+COUNTIF(GA$19:GT$19,処理!$L12)+COUNTIF(GA$22:GT$22,処理!$L12)+COUNTIF(GA$25:GT$25,処理!$L12))/処理!$M12,0))","v":""},"",{"$f":"$K$34","v":""},null,{"$f":"IF(LEN(GI34)=0,\"\",(COUNTIF(GA$6:GT$7,GI34)+COUNTIF(GA$10:GT$10,GI34)+COUNTIF(GA$13:GT$13,GI34)+COUNTIF(GA$16:GT$16,GI34)+COUNTIF(GA$19:GT$19,GI34)+COUNTIF(GA$22:GT$22,GI34)+COUNTIF(GA$25:GT$25,GI34))/設定!$J25+IFERROR((COUNTIF(GA$6:GT$7,処理!$L18)+COUNTIF(GA$10:GT$10,処理!$L18)+COUNTIF(GA$13:GT$13,処理!$L18)+COUNTIF(GA$16:GT$16,処理!$L18)+COUNTIF(GA$19:GT$19,処理!$L18)+COUNTIF(GA$22:GT$22,処理!$L18)+COUNTIF(GA$25:GT$25,処理!$L18))/処理!$M18,0))","v":""},"",{"$f":"$O$34","v":""},null,{"$f":"IF(LEN(GM34)=0,\"\",(COUNTIF(GA$6:GT$7,GM34)+COUNTIF(GA$10:GT$10,GM34)+COUNTIF(GA$13:GT$13,GM34)+COUNTIF(GA$16:GT$16,GM34)+COUNTIF(GA$19:GT$19,GM34)+COUNTIF(GA$22:GT$22,GM34)+COUNTIF(GA$25:GT$25,GM34))/設定!$M25+IFERROR((COUNTIF(GA$6:GT$7,処理!$L24)+COUNTIF(GA$10:GT$10,処理!$L24)+COUNTIF(GA$13:GT$13,処理!$L24)+COUNTIF(GA$16:GT$16,処理!$L24)+COUNTIF(GA$19:GT$19,処理!$L24)+COUNTIF(GA$22:GT$22,処理!$L24)+COUNTIF(GA$25:GT$25,処理!$L24))/処理!$M24,0))","v":""},"",{"$f":"$S$34","v":""},null,"","",{"$f":"$C$34","v":""},null,{"$f":"IF(LEN(GU34)=0,\"\",(COUNTIF(GU$6:HN$7,GU34)+COUNTIF(GU$10:HN$10,GU34)+COUNTIF(GU$13:HN$13,GU34)+COUNTIF(GU$16:HN$16,GU34)+COUNTIF(GU$19:HN$19,GU34)+COUNTIF(GU$22:HN$22,GU34)+COUNTIF(GU$25:HN$25,GU34))/設定!$D25+IFERROR((COUNTIF(GU$6:HN$7,処理!$L6)+COUNTIF(GU$10:HN$10,処理!$L6)+COUNTIF(GU$13:HN$13,処理!$L6)+COUNTIF(GU$16:HN$16,処理!$L6)+COUNTIF(GU$19:HN$19,処理!$L6)+COUNTIF(GU$22:HN$22,処理!$L6)+COUNTIF(GU$25:HN$25,処理!$L6))/処理!$M6,0))","v":""},"",{"$f":"$G$34","v":""},null,{"$f":"IF(LEN(GY34)=0,\"\",(COUNTIF(GU$6:HN$7,GY34)+COUNTIF(GU$10:HN$10,GY34)+COUNTIF(GU$13:HN$13,GY34)+COUNTIF(GU$16:HN$16,GY34)+COUNTIF(GU$19:HN$19,GY34)+COUNTIF(GU$22:HN$22,GY34)+COUNTIF(GU$25:HN$25,GY34))/設定!$G25+IFERROR((COUNTIF(GU$6:HN$7,処理!$L12)+COUNTIF(GU$10:HN$10,処理!$L12)+COUNTIF(GU$13:HN$13,処理!$L12)+COUNTIF(GU$16:HN$16,処理!$L12)+COUNTIF(GU$19:HN$19,処理!$L12)+COUNTIF(GU$22:HN$22,処理!$L12)+COUNTIF(GU$25:HN$25,処理!$L12))/処理!$M12,0))","v":""},"",{"$f":"$K$34","v":""},null,{"$f":"IF(LEN(HC34)=0,\"\",(COUNTIF(GU$6:HN$7,HC34)+COUNTIF(GU$10:HN$10,HC34)+COUNTIF(GU$13:HN$13,HC34)+COUNTIF(GU$16:HN$16,HC34)+COUNTIF(GU$19:HN$19,HC34)+COUNTIF(GU$22:HN$22,HC34)+COUNTIF(GU$25:HN$25,HC34))/設定!$J25+IFERROR((COUNTIF(GU$6:HN$7,処理!$L18)+COUNTIF(GU$10:HN$10,処理!$L18)+COUNTIF(GU$13:HN$13,処理!$L18)+COUNTIF(GU$16:HN$16,処理!$L18)+COUNTIF(GU$19:HN$19,処理!$L18)+COUNTIF(GU$22:HN$22,処理!$L18)+COUNTIF(GU$25:HN$25,処理!$L18))/処理!$M18,0))","v":""},"",{"$f":"$O$34","v":""},null,{"$f":"IF(LEN(HG34)=0,\"\",(COUNTIF(GU$6:HN$7,HG34)+COUNTIF(GU$10:HN$10,HG34)+COUNTIF(GU$13:HN$13,HG34)+COUNTIF(GU$16:HN$16,HG34)+COUNTIF(GU$19:HN$19,HG34)+COUNTIF(GU$22:HN$22,HG34)+COUNTIF(GU$25:HN$25,HG34))/設定!$M25+IFERROR((COUNTIF(GU$6:HN$7,処理!$L24)+COUNTIF(GU$10:HN$10,処理!$L24)+COUNTIF(GU$13:HN$13,処理!$L24)+COUNTIF(GU$16:HN$16,処理!$L24)+COUNTIF(GU$19:HN$19,処理!$L24)+COUNTIF(GU$22:HN$22,処理!$L24)+COUNTIF(GU$25:HN$25,処理!$L24))/処理!$M24,0))","v":""},"",{"$f":"$S$34","v":""},null,"","",{"$f":"$C$34","v":""},null,{"$f":"IF(LEN(HO34)=0,\"\",(COUNTIF(HO$6:IH$7,HO34)+COUNTIF(HO$10:IH$10,HO34)+COUNTIF(HO$13:IH$13,HO34)+COUNTIF(HO$16:IH$16,HO34)+COUNTIF(HO$19:IH$19,HO34)+COUNTIF(HO$22:IH$22,HO34)+COUNTIF(HO$25:IH$25,HO34))/設定!$D25+IFERROR((COUNTIF(HO$6:IH$7,処理!$L6)+COUNTIF(HO$10:IH$10,処理!$L6)+COUNTIF(HO$13:IH$13,処理!$L6)+COUNTIF(HO$16:IH$16,処理!$L6)+COUNTIF(HO$19:IH$19,処理!$L6)+COUNTIF(HO$22:IH$22,処理!$L6)+COUNTIF(HO$25:IH$25,処理!$L6))/処理!$M6,0))","v":""},"",{"$f":"$G$34","v":""},null,{"$f":"IF(LEN(HS34)=0,\"\",(COUNTIF(HO$6:IH$7,HS34)+COUNTIF(HO$10:IH$10,HS34)+COUNTIF(HO$13:IH$13,HS34)+COUNTIF(HO$16:IH$16,HS34)+COUNTIF(HO$19:IH$19,HS34)+COUNTIF(HO$22:IH$22,HS34)+COUNTIF(HO$25:IH$25,HS34))/設定!$G25+IFERROR((COUNTIF(HO$6:IH$7,処理!$L12)+COUNTIF(HO$10:IH$10,処理!$L12)+COUNTIF(HO$13:IH$13,処理!$L12)+COUNTIF(HO$16:IH$16,処理!$L12)+COUNTIF(HO$19:IH$19,処理!$L12)+COUNTIF(HO$22:IH$22,処理!$L12)+COUNTIF(HO$25:IH$25,処理!$L12))/処理!$M12,0))","v":""},"",{"$f":"$K$34","v":""},null,{"$f":"IF(LEN(HW34)=0,\"\",(COUNTIF(HO$6:IH$7,HW34)+COUNTIF(HO$10:IH$10,HW34)+COUNTIF(HO$13:IH$13,HW34)+COUNTIF(HO$16:IH$16,HW34)+COUNTIF(HO$19:IH$19,HW34)+COUNTIF(HO$22:IH$22,HW34)+COUNTIF(HO$25:IH$25,HW34))/設定!$J25+IFERROR((COUNTIF(HO$6:IH$7,処理!$L18)+COUNTIF(HO$10:IH$10,処理!$L18)+COUNTIF(HO$13:IH$13,処理!$L18)+COUNTIF(HO$16:IH$16,処理!$L18)+COUNTIF(HO$19:IH$19,処理!$L18)+COUNTIF(HO$22:IH$22,処理!$L18)+COUNTIF(HO$25:IH$25,処理!$L18))/処理!$M18,0))","v":""},"",{"$f":"$O$34","v":""},null,{"$f":"IF(LEN(IA34)=0,\"\",(COUNTIF(HO$6:IH$7,IA34)+COUNTIF(HO$10:IH$10,IA34)+COUNTIF(HO$13:IH$13,IA34)+COUNTIF(HO$16:IH$16,IA34)+COUNTIF(HO$19:IH$19,IA34)+COUNTIF(HO$22:IH$22,IA34)+COUNTIF(HO$25:IH$25,IA34))/設定!$M25+IFERROR((COUNTIF(HO$6:IH$7,処理!$L24)+COUNTIF(HO$10:IH$10,処理!$L24)+COUNTIF(HO$13:IH$13,処理!$L24)+COUNTIF(HO$16:IH$16,処理!$L24)+COUNTIF(HO$19:IH$19,処理!$L24)+COUNTIF(HO$22:IH$22,処理!$L24)+COUNTIF(HO$25:IH$25,処理!$L24))/処理!$M24,0))","v":""},"",{"$f":"$S$34","v":""},null,"","",{"$f":"$C$34","v":""},null,{"$f":"IF(LEN(II34)=0,\"\",(COUNTIF(II$6:JB$7,II34)+COUNTIF(II$10:JB$10,II34)+COUNTIF(II$13:JB$13,II34)+COUNTIF(II$16:JB$16,II34)+COUNTIF(II$19:JB$19,II34)+COUNTIF(II$22:JB$22,II34)+COUNTIF(II$25:JB$25,II34))/設定!$D25+IFERROR((COUNTIF(II$6:JB$7,処理!$L6)+COUNTIF(II$10:JB$10,処理!$L6)+COUNTIF(II$13:JB$13,処理!$L6)+COUNTIF(II$16:JB$16,処理!$L6)+COUNTIF(II$19:JB$19,処理!$L6)+COUNTIF(II$22:JB$22,処理!$L6)+COUNTIF(II$25:JB$25,処理!$L6))/処理!$M6,0))","v":""},"",{"$f":"$G$34","v":""},null,{"$f":"IF(LEN(IM34)=0,\"\",(COUNTIF(II$6:JB$7,IM34)+COUNTIF(II$10:JB$10,IM34)+COUNTIF(II$13:JB$13,IM34)+COUNTIF(II$16:JB$16,IM34)+COUNTIF(II$19:JB$19,IM34)+COUNTIF(II$22:JB$22,IM34)+COUNTIF(II$25:JB$25,IM34))/設定!$G25+IFERROR((COUNTIF(II$6:JB$7,処理!$L12)+COUNTIF(II$10:JB$10,処理!$L12)+COUNTIF(II$13:JB$13,処理!$L12)+COUNTIF(II$16:JB$16,処理!$L12)+COUNTIF(II$19:JB$19,処理!$L12)+COUNTIF(II$22:JB$22,処理!$L12)+COUNTIF(II$25:JB$25,処理!$L12))/処理!$M12,0))","v":""},"",{"$f":"$K$34","v":""},null,{"$f":"IF(LEN(IQ34)=0,\"\",(COUNTIF(II$6:JB$7,IQ34)+COUNTIF(II$10:JB$10,IQ34)+COUNTIF(II$13:JB$13,IQ34)+COUNTIF(II$16:JB$16,IQ34)+COUNTIF(II$19:JB$19,IQ34)+COUNTIF(II$22:JB$22,IQ34)+COUNTIF(II$25:JB$25,IQ34))/設定!$J25+IFERROR((COUNTIF(II$6:JB$7,処理!$L18)+COUNTIF(II$10:JB$10,処理!$L18)+COUNTIF(II$13:JB$13,処理!$L18)+COUNTIF(II$16:JB$16,処理!$L18)+COUNTIF(II$19:JB$19,処理!$L18)+COUNTIF(II$22:JB$22,処理!$L18)+COUNTIF(II$25:JB$25,処理!$L18))/処理!$M18,0))","v":""},"",{"$f":"$O$34","v":""},null,{"$f":"IF(LEN(IU34)=0,\"\",(COUNTIF(II$6:JB$7,IU34)+COUNTIF(II$10:JB$10,IU34)+COUNTIF(II$13:JB$13,IU34)+COUNTIF(II$16:JB$16,IU34)+COUNTIF(II$19:JB$19,IU34)+COUNTIF(II$22:JB$22,IU34)+COUNTIF(II$25:JB$25,IU34))/設定!$M25+IFERROR((COUNTIF(II$6:JB$7,処理!$L24)+COUNTIF(II$10:JB$10,処理!$L24)+COUNTIF(II$13:JB$13,処理!$L24)+COUNTIF(II$16:JB$16,処理!$L24)+COUNTIF(II$19:JB$19,処理!$L24)+COUNTIF(II$22:JB$22,処理!$L24)+COUNTIF(II$25:JB$25,処理!$L24))/処理!$M24,0))","v":""},"",{"$f":"$S$34","v":""},null,"","",{"$f":"$C$34","v":""},null,{"$f":"IF(LEN(JC34)=0,\"\",(COUNTIF(JC$6:JV$7,JC34)+COUNTIF(JC$10:JV$10,JC34)+COUNTIF(JC$13:JV$13,JC34)+COUNTIF(JC$16:JV$16,JC34)+COUNTIF(JC$19:JV$19,JC34)+COUNTIF(JC$22:JV$22,JC34)+COUNTIF(JC$25:JV$25,JC34))/設定!$D25+IFERROR((COUNTIF(JC$6:JV$7,処理!$L6)+COUNTIF(JC$10:JV$10,処理!$L6)+COUNTIF(JC$13:JV$13,処理!$L6)+COUNTIF(JC$16:JV$16,処理!$L6)+COUNTIF(JC$19:JV$19,処理!$L6)+COUNTIF(JC$22:JV$22,処理!$L6)+COUNTIF(JC$25:JV$25,処理!$L6))/処理!$M6,0))","v":""},"",{"$f":"$G$34","v":""},null,{"$f":"IF(LEN(JG34)=0,\"\",(COUNTIF(JC$6:JV$7,JG34)+COUNTIF(JC$10:JV$10,JG34)+COUNTIF(JC$13:JV$13,JG34)+COUNTIF(JC$16:JV$16,JG34)+COUNTIF(JC$19:JV$19,JG34)+COUNTIF(JC$22:JV$22,JG34)+COUNTIF(JC$25:JV$25,JG34))/設定!$G25+IFERROR((COUNTIF(JC$6:JV$7,処理!$L12)+COUNTIF(JC$10:JV$10,処理!$L12)+COUNTIF(JC$13:JV$13,処理!$L12)+COUNTIF(JC$16:JV$16,処理!$L12)+COUNTIF(JC$19:JV$19,処理!$L12)+COUNTIF(JC$22:JV$22,処理!$L12)+COUNTIF(JC$25:JV$25,処理!$L12))/処理!$M12,0))","v":""},"",{"$f":"$K$34","v":""},null,{"$f":"IF(LEN(JK34)=0,\"\",(COUNTIF(JC$6:JV$7,JK34)+COUNTIF(JC$10:JV$10,JK34)+COUNTIF(JC$13:JV$13,JK34)+COUNTIF(JC$16:JV$16,JK34)+COUNTIF(JC$19:JV$19,JK34)+COUNTIF(JC$22:JV$22,JK34)+COUNTIF(JC$25:JV$25,JK34))/設定!$J25+IFERROR((COUNTIF(JC$6:JV$7,処理!$L18)+COUNTIF(JC$10:JV$10,処理!$L18)+COUNTIF(JC$13:JV$13,処理!$L18)+COUNTIF(JC$16:JV$16,処理!$L18)+COUNTIF(JC$19:JV$19,処理!$L18)+COUNTIF(JC$22:JV$22,処理!$L18)+COUNTIF(JC$25:JV$25,処理!$L18))/処理!$M18,0))","v":""},"",{"$f":"$O$34","v":""},null,{"$f":"IF(LEN(JO34)=0,\"\",(COUNTIF(JC$6:JV$7,JO34)+COUNTIF(JC$10:JV$10,JO34)+COUNTIF(JC$13:JV$13,JO34)+COUNTIF(JC$16:JV$16,JO34)+COUNTIF(JC$19:JV$19,JO34)+COUNTIF(JC$22:JV$22,JO34)+COUNTIF(JC$25:JV$25,JO34))/設定!$M25+IFERROR((COUNTIF(JC$6:JV$7,処理!$L24)+COUNTIF(JC$10:JV$10,処理!$L24)+COUNTIF(JC$13:JV$13,処理!$L24)+COUNTIF(JC$16:JV$16,処理!$L24)+COUNTIF(JC$19:JV$19,処理!$L24)+COUNTIF(JC$22:JV$22,処理!$L24)+COUNTIF(JC$25:JV$25,処理!$L24))/処理!$M24,0))","v":""},"",{"$f":"$S$34","v":""},null,"","",{"$f":"$C$34","v":""},null,{"$f":"IF(LEN(JW34)=0,\"\",(COUNTIF(JW$6:KP$7,JW34)+COUNTIF(JW$10:KP$10,JW34)+COUNTIF(JW$13:KP$13,JW34)+COUNTIF(JW$16:KP$16,JW34)+COUNTIF(JW$19:KP$19,JW34)+COUNTIF(JW$22:KP$22,JW34)+COUNTIF(JW$25:KP$25,JW34))/設定!$D25+IFERROR((COUNTIF(JW$6:KP$7,処理!$L6)+COUNTIF(JW$10:KP$10,処理!$L6)+COUNTIF(JW$13:KP$13,処理!$L6)+COUNTIF(JW$16:KP$16,処理!$L6)+COUNTIF(JW$19:KP$19,処理!$L6)+COUNTIF(JW$22:KP$22,処理!$L6)+COUNTIF(JW$25:KP$25,処理!$L6))/処理!$M6,0))","v":""},"",{"$f":"$G$34","v":""},null,{"$f":"IF(LEN(KA34)=0,\"\",(COUNTIF(JW$6:KP$7,KA34)+COUNTIF(JW$10:KP$10,KA34)+COUNTIF(JW$13:KP$13,KA34)+COUNTIF(JW$16:KP$16,KA34)+COUNTIF(JW$19:KP$19,KA34)+COUNTIF(JW$22:KP$22,KA34)+COUNTIF(JW$25:KP$25,KA34))/設定!$G25+IFERROR((COUNTIF(JW$6:KP$7,処理!$L12)+COUNTIF(JW$10:KP$10,処理!$L12)+COUNTIF(JW$13:KP$13,処理!$L12)+COUNTIF(JW$16:KP$16,処理!$L12)+COUNTIF(JW$19:KP$19,処理!$L12)+COUNTIF(JW$22:KP$22,処理!$L12)+COUNTIF(JW$25:KP$25,処理!$L12))/処理!$M12,0))","v":""},"",{"$f":"$K$34","v":""},null,{"$f":"IF(LEN(KE34)=0,\"\",(COUNTIF(JW$6:KP$7,KE34)+COUNTIF(JW$10:KP$10,KE34)+COUNTIF(JW$13:KP$13,KE34)+COUNTIF(JW$16:KP$16,KE34)+COUNTIF(JW$19:KP$19,KE34)+COUNTIF(JW$22:KP$22,KE34)+COUNTIF(JW$25:KP$25,KE34))/設定!$J25+IFERROR((COUNTIF(JW$6:KP$7,処理!$L18)+COUNTIF(JW$10:KP$10,処理!$L18)+COUNTIF(JW$13:KP$13,処理!$L18)+COUNTIF(JW$16:KP$16,処理!$L18)+COUNTIF(JW$19:KP$19,処理!$L18)+COUNTIF(JW$22:KP$22,処理!$L18)+COUNTIF(JW$25:KP$25,処理!$L18))/処理!$M18,0))","v":""},"",{"$f":"$O$34","v":""},null,{"$f":"IF(LEN(KI34)=0,\"\",(COUNTIF(JW$6:KP$7,KI34)+COUNTIF(JW$10:KP$10,KI34)+COUNTIF(JW$13:KP$13,KI34)+COUNTIF(JW$16:KP$16,KI34)+COUNTIF(JW$19:KP$19,KI34)+COUNTIF(JW$22:KP$22,KI34)+COUNTIF(JW$25:KP$25,KI34))/設定!$M25+IFERROR((COUNTIF(JW$6:KP$7,処理!$L24)+COUNTIF(JW$10:KP$10,処理!$L24)+COUNTIF(JW$13:KP$13,処理!$L24)+COUNTIF(JW$16:KP$16,処理!$L24)+COUNTIF(JW$19:KP$19,処理!$L24)+COUNTIF(JW$22:KP$22,処理!$L24)+COUNTIF(JW$25:KP$25,処理!$L24))/処理!$M24,0))","v":""},"",{"$f":"$S$34","v":""},null,"","",{"$f":"$C$34","v":""},null,{"$f":"IF(LEN(KQ34)=0,\"\",COUNTIF(KQ$6:LJ$25,KQ34)/設定!$D25+IFERROR(COUNTIF(KQ$6:LJ$25,処理!$L6)/処理!$M6,0))","v":""},"",{"$f":"$G$34","v":""},null,{"$f":"IF(LEN(KU34)=0,\"\",COUNTIF(KQ$6:LJ$25,KU34)/設定!$G25+IFERROR(COUNTIF(KQ$6:LJ$25,処理!$L12)/処理!$M12,0))","v":""},"",{"$f":"$K$34","v":""},null,{"$f":"IF(LEN(KY34)=0,\"\",COUNTIF(KQ$6:LJ$25,KY34)/設定!$J25+IFERROR(COUNTIF(KQ$6:LJ$25,処理!$L18)/処理!$M18,0))","v":""},"",{"$f":"$O$34","v":""},null,{"$f":"IF(LEN(LC34)=0,\"\",COUNTIF(KQ$6:LJ$25,LC34)/設定!$M25+IFERROR(COUNTIF(KQ$6:LJ$25,処理!$L24)/処理!$M24,0))","v":""},"",{"$f":"$S$34","v":""},null,"","",{"$f":"$C$34","v":""},null,{"$f":"IF(LEN(LK34)=0,\"\",(COUNTIF(LK$6:MD$7,LK34)+COUNTIF(LK$10:MD$10,LK34)+COUNTIF(LK$13:MD$13,LK34)+COUNTIF(LK$16:MD$16,LK34)+COUNTIF(LK$19:MD$19,LK34)+COUNTIF(LK$22:MD$22,LK34)+COUNTIF(LK$25:MD$25,LK34))/設定!$D25+IFERROR((COUNTIF(LK$6:MD$7,処理!$L6)+COUNTIF(LK$10:MD$10,処理!$L6)+COUNTIF(LK$13:MD$13,処理!$L6)+COUNTIF(LK$16:MD$16,処理!$L6)+COUNTIF(LK$19:MD$19,処理!$L6)+COUNTIF(LK$22:MD$22,処理!$L6)+COUNTIF(LK$25:MD$25,処理!$L6))/処理!$M6,0))","v":""},"",{"$f":"$G$34","v":""},null,{"$f":"IF(LEN(LO34)=0,\"\",(COUNTIF(LK$6:MD$7,LO34)+COUNTIF(LK$10:MD$10,LO34)+COUNTIF(LK$13:MD$13,LO34)+COUNTIF(LK$16:MD$16,LO34)+COUNTIF(LK$19:MD$19,LO34)+COUNTIF(LK$22:MD$22,LO34)+COUNTIF(LK$25:MD$25,LO34))/設定!$G25+IFERROR((COUNTIF(LK$6:MD$7,処理!$L12)+COUNTIF(LK$10:MD$10,処理!$L12)+COUNTIF(LK$13:MD$13,処理!$L12)+COUNTIF(LK$16:MD$16,処理!$L12)+COUNTIF(LK$19:MD$19,処理!$L12)+COUNTIF(LK$22:MD$22,処理!$L12)+COUNTIF(LK$25:MD$25,処理!$L12))/処理!$M12,0))","v":""},"",{"$f":"$K$34","v":""},null,{"$f":"IF(LEN(LS34)=0,\"\",(COUNTIF(LK$6:MD$7,LS34)+COUNTIF(LK$10:MD$10,LS34)+COUNTIF(LK$13:MD$13,LS34)+COUNTIF(LK$16:MD$16,LS34)+COUNTIF(LK$19:MD$19,LS34)+COUNTIF(LK$22:MD$22,LS34)+COUNTIF(LK$25:MD$25,LS34))/設定!$J25+IFERROR((COUNTIF(LK$6:MD$7,処理!$L18)+COUNTIF(LK$10:MD$10,処理!$L18)+COUNTIF(LK$13:MD$13,処理!$L18)+COUNTIF(LK$16:MD$16,処理!$L18)+COUNTIF(LK$19:MD$19,処理!$L18)+COUNTIF(LK$22:MD$22,処理!$L18)+COUNTIF(LK$25:MD$25,処理!$L18))/処理!$M18,0))","v":""},"",{"$f":"$O$34","v":""},null,{"$f":"IF(LEN(LW34)=0,\"\",(COUNTIF(LK$6:MD$7,LW34)+COUNTIF(LK$10:MD$10,LW34)+COUNTIF(LK$13:MD$13,LW34)+COUNTIF(LK$16:MD$16,LW34)+COUNTIF(LK$19:MD$19,LW34)+COUNTIF(LK$22:MD$22,LW34)+COUNTIF(LK$25:MD$25,LW34))/設定!$M25+IFERROR((COUNTIF(LK$6:MD$7,処理!$L24)+COUNTIF(LK$10:MD$10,処理!$L24)+COUNTIF(LK$13:MD$13,処理!$L24)+COUNTIF(LK$16:MD$16,処理!$L24)+COUNTIF(LK$19:MD$19,処理!$L24)+COUNTIF(LK$22:MD$22,処理!$L24)+COUNTIF(LK$25:MD$25,処理!$L24))/処理!$M24,0))","v":""},"",{"$f":"$S$34","v":""},null,"",""]
[null,null,{"$f":"IF(COUNTIF(処理!$J$2:$J$25,5)>0,処理!H7,\"\")","v":""},null,{"$f":"IF(LEN(C35)=0,\"\",(COUNTIF(C$6:V$7,C35)+COUNTIF(C$10:V$10,C35)+COUNTIF(C$13:V$13,C35)+COUNTIF(C$16:V$16,C35)+COUNTIF(C$19:V$19,C35)+COUNTIF(C$22:V$22,C35)+COUNTIF(C$25:V$25,C35))/設定!$D26+IFERROR((COUNTIF(C$6:V$7,処理!$L7)+COUNTIF(C$10:V$10,処理!$L7)+COUNTIF(C$13:V$13,処理!$L7)+COUNTIF(C$16:V$16,処理!$L7)+COUNTIF(C$19:V$19,処理!$L7)+COUNTIF(C$22:V$22,処理!$L7)+COUNTIF(C$25:V$25,処理!$L7))/処理!$M7,0))","v":""},"",{"$f":"IF(COUNTIF(処理!$J$2:$J$25,11)>0,処理!H13,\"\")","v":""},null,{"$f":"IF(LEN(G35)=0,\"\",(COUNTIF(C$6:V$7,G35)+COUNTIF(C$10:V$10,G35)+COUNTIF(C$13:V$13,G35)+COUNTIF(C$16:V$16,G35)+COUNTIF(C$19:V$19,G35)+COUNTIF(C$22:V$22,G35)+COUNTIF(C$25:V$25,G35))/設定!$G26+IFERROR((COUNTIF(C$6:V$7,処理!$L13)+COUNTIF(C$10:V$10,処理!$L13)+COUNTIF(C$13:V$13,処理!$L13)+COUNTIF(C$16:V$16,処理!$L13)+COUNTIF(C$19:V$19,処理!$L13)+COUNTIF(C$22:V$22,処理!$L13)+COUNTIF(C$25:V$25,処理!$L13))/処理!$M13,0))","v":""},"",{"$f":"IF(COUNTIF(処理!$J$2:$J$25,17)>0,処理!H19,\"\")","v":""},null,{"$f":"IF(LEN(K35)=0,\"\",(COUNTIF(C$6:V$7,K35)+COUNTIF(C$10:V$10,K35)+COUNTIF(C$13:V$13,K35)+COUNTIF(C$16:V$16,K35)+COUNTIF(C$19:V$19,K35)+COUNTIF(C$22:V$22,K35)+COUNTIF(C$25:V$25,K35))/設定!$J26+IFERROR((COUNTIF(C$6:V$7,処理!$L19)+COUNTIF(C$10:V$10,処理!$L19)+COUNTIF(C$13:V$13,処理!$L19)+COUNTIF(C$16:V$16,処理!$L19)+COUNTIF(C$19:V$19,処理!$L19)+COUNTIF(C$22:V$22,処理!$L19)+COUNTIF(C$25:V$25,処理!$L19))/処理!$M19,0))","v":""},"",{"$f":"IF(COUNTIF(処理!$J$2:$J$25,23)>0,処理!H25,\"\")","v":""},null,{"$f":"IF(LEN(O35)=0,\"\",(COUNTIF(C$6:V$7,O35)+COUNTIF(C$10:V$10,O35)+COUNTIF(C$13:V$13,O35)+COUNTIF(C$16:V$16,O35)+COUNTIF(C$19:V$19,O35)+COUNTIF(C$22:V$22,O35)+COUNTIF(C$25:V$25,O35))/設定!$M26+IFERROR((COUNTIF(C$6:V$7,処理!$L25)+COUNTIF(C$10:V$10,処理!$L25)+COUNTIF(C$13:V$13,処理!$L25)+COUNTIF(C$16:V$16,処理!$L25)+COUNTIF(C$19:V$19,処理!$L25)+COUNTIF(C$22:V$22,処理!$L25)+COUNTIF(C$25:V$25,処理!$L25))/処理!$M25,0))","v":""},"",{"$f":"処理!H31&\"\"","v":""},null,"","",{"$f":"$C$35","v":""},null,{"$f":"IF(LEN(W35)=0,\"\",(COUNTIF(W$6:AP$7,W35)+COUNTIF(W$10:AP$10,W35)+COUNTIF(W$13:AP$13,W35)+COUNTIF(W$16:AP$16,W35)+COUNTIF(W$19:AP$19,W35)+COUNTIF(W$22:AP$22,W35)+COUNTIF(W$25:AP$25,W35))/設定!$D26+IFERROR((COUNTIF(W$6:AP$7,処理!$L7)+COUNTIF(W$10:AP$10,処理!$L7)+COUNTIF(W$13:AP$13,処理!$L7)+COUNTIF(W$16:AP$16,処理!$L7)+COUNTIF(W$19:AP$19,処理!$L7)+COUNTIF(W$22:AP$22,処理!$L7)+COUNTIF(W$25:AP$25,処理!$L7))/処理!$M7,0))","v":""},"",{"$f":"$G$35","v":""},null,{"$f":"IF(LEN(AA35)=0,\"\",(COUNTIF(W$6:AP$7,AA35)+COUNTIF(W$10:AP$10,AA35)+COUNTIF(W$13:AP$13,AA35)+COUNTIF(W$16:AP$16,AA35)+COUNTIF(W$19:AP$19,AA35)+COUNTIF(W$22:AP$22,AA35)+COUNTIF(W$25:AP$25,AA35))/設定!$G26+IFERROR((COUNTIF(W$6:AP$7,処理!$L13)+COUNTIF(W$10:AP$10,処理!$L13)+COUNTIF(W$13:AP$13,処理!$L13)+COUNTIF(W$16:AP$16,処理!$L13)+COUNTIF(W$19:AP$19,処理!$L13)+COUNTIF(W$22:AP$22,処理!$L13)+COUNTIF(W$25:AP$25,処理!$L13))/処理!$M13,0))","v":""},"",{"$f":"$K$35","v":""},null,{"$f":"IF(LEN(AE35)=0,\"\",(COUNTIF(W$6:AP$7,AE35)+COUNTIF(W$10:AP$10,AE35)+COUNTIF(W$13:AP$13,AE35)+COUNTIF(W$16:AP$16,AE35)+COUNTIF(W$19:AP$19,AE35)+COUNTIF(W$22:AP$22,AE35)+COUNTIF(W$25:AP$25,AE35))/設定!$J26+IFERROR((COUNTIF(W$6:AP$7,処理!$L19)+COUNTIF(W$10:AP$10,処理!$L19)+COUNTIF(W$13:AP$13,処理!$L19)+COUNTIF(W$16:AP$16,処理!$L19)+COUNTIF(W$19:AP$19,処理!$L19)+COUNTIF(W$22:AP$22,処理!$L19)+COUNTIF(W$25:AP$25,処理!$L19))/処理!$M19,0))","v":""},"",{"$f":"$O$35","v":""},null,{"$f":"IF(LEN(AI35)=0,\"\",(COUNTIF(W$6:AP$7,AI35)+COUNTIF(W$10:AP$10,AI35)+COUNTIF(W$13:AP$13,AI35)+COUNTIF(W$16:AP$16,AI35)+COUNTIF(W$19:AP$19,AI35)+COUNTIF(W$22:AP$22,AI35)+COUNTIF(W$25:AP$25,AI35))/設定!$M26+IFERROR((COUNTIF(W$6:AP$7,処理!$L25)+COUNTIF(W$10:AP$10,処理!$L25)+COUNTIF(W$13:AP$13,処理!$L25)+COUNTIF(W$16:AP$16,処理!$L25)+COUNTIF(W$19:AP$19,処理!$L25)+COUNTIF(W$22:AP$22,処理!$L25)+COUNTIF(W$25:AP$25,処理!$L25))/処理!$M25,0))","v":""},"",{"$f":"$S$35","v":""},null,"","",{"$f":"$C$35","v":""},null,{"$f":"IF(LEN(AQ35)=0,\"\",(COUNTIF(AQ$6:BJ$7,AQ35)+COUNTIF(AQ$10:BJ$10,AQ35)+COUNTIF(AQ$13:BJ$13,AQ35)+COUNTIF(AQ$16:BJ$16,AQ35)+COUNTIF(AQ$19:BJ$19,AQ35)+COUNTIF(AQ$22:BJ$22,AQ35)+COUNTIF(AQ$25:BJ$25,AQ35))/設定!$D26+IFERROR((COUNTIF(AQ$6:BJ$7,処理!$L7)+COUNTIF(AQ$10:BJ$10,処理!$L7)+COUNTIF(AQ$13:BJ$13,処理!$L7)+COUNTIF(AQ$16:BJ$16,処理!$L7)+COUNTIF(AQ$19:BJ$19,処理!$L7)+COUNTIF(AQ$22:BJ$22,処理!$L7)+COUNTIF(AQ$25:BJ$25,処理!$L7))/処理!$M7,0))","v":""},"",{"$f":"$G$35","v":""},null,{"$f":"IF(LEN(AU35)=0,\"\",(COUNTIF(AQ$6:BJ$7,AU35)+COUNTIF(AQ$10:BJ$10,AU35)+COUNTIF(AQ$13:BJ$13,AU35)+COUNTIF(AQ$16:BJ$16,AU35)+COUNTIF(AQ$19:BJ$19,AU35)+COUNTIF(AQ$22:BJ$22,AU35)+COUNTIF(AQ$25:BJ$25,AU35))/設定!$G26+IFERROR((COUNTIF(AQ$6:BJ$7,処理!$L13)+COUNTIF(AQ$10:BJ$10,処理!$L13)+COUNTIF(AQ$13:BJ$13,処理!$L13)+COUNTIF(AQ$16:BJ$16,処理!$L13)+COUNTIF(AQ$19:BJ$19,処理!$L13)+COUNTIF(AQ$22:BJ$22,処理!$L13)+COUNTIF(AQ$25:BJ$25,処理!$L13))/処理!$M13,0))","v":""},"",{"$f":"$K$35","v":""},null,{"$f":"IF(LEN(AY35)=0,\"\",(COUNTIF(AQ$6:BJ$7,AY35)+COUNTIF(AQ$10:BJ$10,AY35)+COUNTIF(AQ$13:BJ$13,AY35)+COUNTIF(AQ$16:BJ$16,AY35)+COUNTIF(AQ$19:BJ$19,AY35)+COUNTIF(AQ$22:BJ$22,AY35)+COUNTIF(AQ$25:BJ$25,AY35))/設定!$J26+IFERROR((COUNTIF(AQ$6:BJ$7,処理!$L19)+COUNTIF(AQ$10:BJ$10,処理!$L19)+COUNTIF(AQ$13:BJ$13,処理!$L19)+COUNTIF(AQ$16:BJ$16,処理!$L19)+COUNTIF(AQ$19:BJ$19,処理!$L19)+COUNTIF(AQ$22:BJ$22,処理!$L19)+COUNTIF(AQ$25:BJ$25,処理!$L19))/処理!$M19,0))","v":""},"",{"$f":"$O$35","v":""},null,{"$f":"IF(LEN(BC35)=0,\"\",(COUNTIF(AQ$6:BJ$7,BC35)+COUNTIF(AQ$10:BJ$10,BC35)+COUNTIF(AQ$13:BJ$13,BC35)+COUNTIF(AQ$16:BJ$16,BC35)+COUNTIF(AQ$19:BJ$19,BC35)+COUNTIF(AQ$22:BJ$22,BC35)+COUNTIF(AQ$25:BJ$25,BC35))/設定!$M26+IFERROR((COUNTIF(AQ$6:BJ$7,処理!$L25)+COUNTIF(AQ$10:BJ$10,処理!$L25)+COUNTIF(AQ$13:BJ$13,処理!$L25)+COUNTIF(AQ$16:BJ$16,処理!$L25)+COUNTIF(AQ$19:BJ$19,処理!$L25)+COUNTIF(AQ$22:BJ$22,処理!$L25)+COUNTIF(AQ$25:BJ$25,処理!$L25))/処理!$M25,0))","v":""},"",{"$f":"$S$35","v":""},null,"","",{"$f":"$C$35","v":""},null,{"$f":"IF(LEN(BK35)=0,\"\",(COUNTIF(BK$6:CD$7,BK35)+COUNTIF(BK$10:CD$10,BK35)+COUNTIF(BK$13:CD$13,BK35)+COUNTIF(BK$16:CD$16,BK35)+COUNTIF(BK$19:CD$19,BK35)+COUNTIF(BK$22:CD$22,BK35)+COUNTIF(BK$25:CD$25,BK35))/設定!$D26+IFERROR((COUNTIF(BK$6:CD$7,処理!$L7)+COUNTIF(BK$10:CD$10,処理!$L7)+COUNTIF(BK$13:CD$13,処理!$L7)+COUNTIF(BK$16:CD$16,処理!$L7)+COUNTIF(BK$19:CD$19,処理!$L7)+COUNTIF(BK$22:CD$22,処理!$L7)+COUNTIF(BK$25:CD$25,処理!$L7))/処理!$M7,0))","v":""},"",{"$f":"$G$35","v":""},null,{"$f":"IF(LEN(BO35)=0,\"\",(COUNTIF(BK$6:CD$7,BO35)+COUNTIF(BK$10:CD$10,BO35)+COUNTIF(BK$13:CD$13,BO35)+COUNTIF(BK$16:CD$16,BO35)+COUNTIF(BK$19:CD$19,BO35)+COUNTIF(BK$22:CD$22,BO35)+COUNTIF(BK$25:CD$25,BO35))/設定!$G26+IFERROR((COUNTIF(BK$6:CD$7,処理!$L13)+COUNTIF(BK$10:CD$10,処理!$L13)+COUNTIF(BK$13:CD$13,処理!$L13)+COUNTIF(BK$16:CD$16,処理!$L13)+COUNTIF(BK$19:CD$19,処理!$L13)+COUNTIF(BK$22:CD$22,処理!$L13)+COUNTIF(BK$25:CD$25,処理!$L13))/処理!$M13,0))","v":""},"",{"$f":"$K$35","v":""},null,{"$f":"IF(LEN(BS35)=0,\"\",(COUNTIF(BK$6:CD$7,BS35)+COUNTIF(BK$10:CD$10,BS35)+COUNTIF(BK$13:CD$13,BS35)+COUNTIF(BK$16:CD$16,BS35)+COUNTIF(BK$19:CD$19,BS35)+COUNTIF(BK$22:CD$22,BS35)+COUNTIF(BK$25:CD$25,BS35))/設定!$J26+IFERROR((COUNTIF(BK$6:CD$7,処理!$L19)+COUNTIF(BK$10:CD$10,処理!$L19)+COUNTIF(BK$13:CD$13,処理!$L19)+COUNTIF(BK$16:CD$16,処理!$L19)+COUNTIF(BK$19:CD$19,処理!$L19)+COUNTIF(BK$22:CD$22,処理!$L19)+COUNTIF(BK$25:CD$25,処理!$L19))/処理!$M19,0))","v":""},"",{"$f":"$O$35","v":""},null,{"$f":"IF(LEN(BW35)=0,\"\",(COUNTIF(BK$6:CD$7,BW35)+COUNTIF(BK$10:CD$10,BW35)+COUNTIF(BK$13:CD$13,BW35)+COUNTIF(BK$16:CD$16,BW35)+COUNTIF(BK$19:CD$19,BW35)+COUNTIF(BK$22:CD$22,BW35)+COUNTIF(BK$25:CD$25,BW35))/設定!$M26+IFERROR((COUNTIF(BK$6:CD$7,処理!$L25)+COUNTIF(BK$10:CD$10,処理!$L25)+COUNTIF(BK$13:CD$13,処理!$L25)+COUNTIF(BK$16:CD$16,処理!$L25)+COUNTIF(BK$19:CD$19,処理!$L25)+COUNTIF(BK$22:CD$22,処理!$L25)+COUNTIF(BK$25:CD$25,処理!$L25))/処理!$M25,0))","v":""},"",{"$f":"$S$35","v":""},null,"","",{"$f":"$C$35","v":""},null,{"$f":"IF(LEN(CE35)=0,\"\",(COUNTIF(CE$6:CX$7,CE35)+COUNTIF(CE$10:CX$10,CE35)+COUNTIF(CE$13:CX$13,CE35)+COUNTIF(CE$16:CX$16,CE35)+COUNTIF(CE$19:CX$19,CE35)+COUNTIF(CE$22:CX$22,CE35)+COUNTIF(CE$25:CX$25,CE35))/設定!$D26+IFERROR((COUNTIF(CE$6:CX$7,処理!$L7)+COUNTIF(CE$10:CX$10,処理!$L7)+COUNTIF(CE$13:CX$13,処理!$L7)+COUNTIF(CE$16:CX$16,処理!$L7)+COUNTIF(CE$19:CX$19,処理!$L7)+COUNTIF(CE$22:CX$22,処理!$L7)+COUNTIF(CE$25:CX$25,処理!$L7))/処理!$M7,0))","v":""},"",{"$f":"$G$35","v":""},null,{"$f":"IF(LEN(CI35)=0,\"\",(COUNTIF(CE$6:CX$7,CI35)+COUNTIF(CE$10:CX$10,CI35)+COUNTIF(CE$13:CX$13,CI35)+COUNTIF(CE$16:CX$16,CI35)+COUNTIF(CE$19:CX$19,CI35)+COUNTIF(CE$22:CX$22,CI35)+COUNTIF(CE$25:CX$25,CI35))/設定!$G26+IFERROR((COUNTIF(CE$6:CX$7,処理!$L13)+COUNTIF(CE$10:CX$10,処理!$L13)+COUNTIF(CE$13:CX$13,処理!$L13)+COUNTIF(CE$16:CX$16,処理!$L13)+COUNTIF(CE$19:CX$19,処理!$L13)+COUNTIF(CE$22:CX$22,処理!$L13)+COUNTIF(CE$25:CX$25,処理!$L13))/処理!$M13,0))","v":""},"",{"$f":"$K$35","v":""},null,{"$f":"IF(LEN(CM35)=0,\"\",(COUNTIF(CE$6:CX$7,CM35)+COUNTIF(CE$10:CX$10,CM35)+COUNTIF(CE$13:CX$13,CM35)+COUNTIF(CE$16:CX$16,CM35)+COUNTIF(CE$19:CX$19,CM35)+COUNTIF(CE$22:CX$22,CM35)+COUNTIF(CE$25:CX$25,CM35))/設定!$J26+IFERROR((COUNTIF(CE$6:CX$7,処理!$L19)+COUNTIF(CE$10:CX$10,処理!$L19)+COUNTIF(CE$13:CX$13,処理!$L19)+COUNTIF(CE$16:CX$16,処理!$L19)+COUNTIF(CE$19:CX$19,処理!$L19)+COUNTIF(CE$22:CX$22,処理!$L19)+COUNTIF(CE$25:CX$25,処理!$L19))/処理!$M19,0))","v":""},"",{"$f":"$O$35","v":""},null,{"$f":"IF(LEN(CQ35)=0,\"\",(COUNTIF(CE$6:CX$7,CQ35)+COUNTIF(CE$10:CX$10,CQ35)+COUNTIF(CE$13:CX$13,CQ35)+COUNTIF(CE$16:CX$16,CQ35)+COUNTIF(CE$19:CX$19,CQ35)+COUNTIF(CE$22:CX$22,CQ35)+COUNTIF(CE$25:CX$25,CQ35))/設定!$M26+IFERROR((COUNTIF(CE$6:CX$7,処理!$L25)+COUNTIF(CE$10:CX$10,処理!$L25)+COUNTIF(CE$13:CX$13,処理!$L25)+COUNTIF(CE$16:CX$16,処理!$L25)+COUNTIF(CE$19:CX$19,処理!$L25)+COUNTIF(CE$22:CX$22,処理!$L25)+COUNTIF(CE$25:CX$25,処理!$L25))/処理!$M25,0))","v":""},"",{"$f":"$S$35","v":""},null,"","",{"$f":"$C$35","v":""},null,{"$f":"IF(LEN(CY35)=0,\"\",(COUNTIF(CY$6:DR$7,CY35)+COUNTIF(CY$10:DR$10,CY35)+COUNTIF(CY$13:DR$13,CY35)+COUNTIF(CY$16:DR$16,CY35)+COUNTIF(CY$19:DR$19,CY35)+COUNTIF(CY$22:DR$22,CY35)+COUNTIF(CY$25:DR$25,CY35))/設定!$D26+IFERROR((COUNTIF(CY$6:DR$7,処理!$L7)+COUNTIF(CY$10:DR$10,処理!$L7)+COUNTIF(CY$13:DR$13,処理!$L7)+COUNTIF(CY$16:DR$16,処理!$L7)+COUNTIF(CY$19:DR$19,処理!$L7)+COUNTIF(CY$22:DR$22,処理!$L7)+COUNTIF(CY$25:DR$25,処理!$L7))/処理!$M7,0))","v":""},"",{"$f":"$G$35","v":""},null,{"$f":"IF(LEN(DC35)=0,\"\",(COUNTIF(CY$6:DR$7,DC35)+COUNTIF(CY$10:DR$10,DC35)+COUNTIF(CY$13:DR$13,DC35)+COUNTIF(CY$16:DR$16,DC35)+COUNTIF(CY$19:DR$19,DC35)+COUNTIF(CY$22:DR$22,DC35)+COUNTIF(CY$25:DR$25,DC35))/設定!$G26+IFERROR((COUNTIF(CY$6:DR$7,処理!$L13)+COUNTIF(CY$10:DR$10,処理!$L13)+COUNTIF(CY$13:DR$13,処理!$L13)+COUNTIF(CY$16:DR$16,処理!$L13)+COUNTIF(CY$19:DR$19,処理!$L13)+COUNTIF(CY$22:DR$22,処理!$L13)+COUNTIF(CY$25:DR$25,処理!$L13))/処理!$M13,0))","v":""},"",{"$f":"$K$35","v":""},null,{"$f":"IF(LEN(DG35)=0,\"\",(COUNTIF(CY$6:DR$7,DG35)+COUNTIF(CY$10:DR$10,DG35)+COUNTIF(CY$13:DR$13,DG35)+COUNTIF(CY$16:DR$16,DG35)+COUNTIF(CY$19:DR$19,DG35)+COUNTIF(CY$22:DR$22,DG35)+COUNTIF(CY$25:DR$25,DG35))/設定!$J26+IFERROR((COUNTIF(CY$6:DR$7,処理!$L19)+COUNTIF(CY$10:DR$10,処理!$L19)+COUNTIF(CY$13:DR$13,処理!$L19)+COUNTIF(CY$16:DR$16,処理!$L19)+COUNTIF(CY$19:DR$19,処理!$L19)+COUNTIF(CY$22:DR$22,処理!$L19)+COUNTIF(CY$25:DR$25,処理!$L19))/処理!$M19,0))","v":""},"",{"$f":"$O$35","v":""},null,{"$f":"IF(LEN(DK35)=0,\"\",(COUNTIF(CY$6:DR$7,DK35)+COUNTIF(CY$10:DR$10,DK35)+COUNTIF(CY$13:DR$13,DK35)+COUNTIF(CY$16:DR$16,DK35)+COUNTIF(CY$19:DR$19,DK35)+COUNTIF(CY$22:DR$22,DK35)+COUNTIF(CY$25:DR$25,DK35))/設定!$M26+IFERROR((COUNTIF(CY$6:DR$7,処理!$L25)+COUNTIF(CY$10:DR$10,処理!$L25)+COUNTIF(CY$13:DR$13,処理!$L25)+COUNTIF(CY$16:DR$16,処理!$L25)+COUNTIF(CY$19:DR$19,処理!$L25)+COUNTIF(CY$22:DR$22,処理!$L25)+COUNTIF(CY$25:DR$25,処理!$L25))/処理!$M25,0))","v":""},"",{"$f":"$S$35","v":""},null,"","",{"$f":"$C$35","v":""},null,{"$f":"IF(LEN(DS35)=0,\"\",(COUNTIF(DS$6:EL$7,DS35)+COUNTIF(DS$10:EL$10,DS35)+COUNTIF(DS$13:EL$13,DS35)+COUNTIF(DS$16:EL$16,DS35)+COUNTIF(DS$19:EL$19,DS35)+COUNTIF(DS$22:EL$22,DS35)+COUNTIF(DS$25:EL$25,DS35))/設定!$D26+IFERROR((COUNTIF(DS$6:EL$7,処理!$L7)+COUNTIF(DS$10:EL$10,処理!$L7)+COUNTIF(DS$13:EL$13,処理!$L7)+COUNTIF(DS$16:EL$16,処理!$L7)+COUNTIF(DS$19:EL$19,処理!$L7)+COUNTIF(DS$22:EL$22,処理!$L7)+COUNTIF(DS$25:EL$25,処理!$L7))/処理!$M7,0))","v":""},"",{"$f":"$G$35","v":""},null,{"$f":"IF(LEN(DW35)=0,\"\",(COUNTIF(DS$6:EL$7,DW35)+COUNTIF(DS$10:EL$10,DW35)+COUNTIF(DS$13:EL$13,DW35)+COUNTIF(DS$16:EL$16,DW35)+COUNTIF(DS$19:EL$19,DW35)+COUNTIF(DS$22:EL$22,DW35)+COUNTIF(DS$25:EL$25,DW35))/設定!$G26+IFERROR((COUNTIF(DS$6:EL$7,処理!$L13)+COUNTIF(DS$10:EL$10,処理!$L13)+COUNTIF(DS$13:EL$13,処理!$L13)+COUNTIF(DS$16:EL$16,処理!$L13)+COUNTIF(DS$19:EL$19,処理!$L13)+COUNTIF(DS$22:EL$22,処理!$L13)+COUNTIF(DS$25:EL$25,処理!$L13))/処理!$M13,0))","v":""},"",{"$f":"$K$35","v":""},null,{"$f":"IF(LEN(EA35)=0,\"\",(COUNTIF(DS$6:EL$7,EA35)+COUNTIF(DS$10:EL$10,EA35)+COUNTIF(DS$13:EL$13,EA35)+COUNTIF(DS$16:EL$16,EA35)+COUNTIF(DS$19:EL$19,EA35)+COUNTIF(DS$22:EL$22,EA35)+COUNTIF(DS$25:EL$25,EA35))/設定!$J26+IFERROR((COUNTIF(DS$6:EL$7,処理!$L19)+COUNTIF(DS$10:EL$10,処理!$L19)+COUNTIF(DS$13:EL$13,処理!$L19)+COUNTIF(DS$16:EL$16,処理!$L19)+COUNTIF(DS$19:EL$19,処理!$L19)+COUNTIF(DS$22:EL$22,処理!$L19)+COUNTIF(DS$25:EL$25,処理!$L19))/処理!$M19,0))","v":""},"",{"$f":"$O$35","v":""},null,{"$f":"IF(LEN(EE35)=0,\"\",(COUNTIF(DS$6:EL$7,EE35)+COUNTIF(DS$10:EL$10,EE35)+COUNTIF(DS$13:EL$13,EE35)+COUNTIF(DS$16:EL$16,EE35)+COUNTIF(DS$19:EL$19,EE35)+COUNTIF(DS$22:EL$22,EE35)+COUNTIF(DS$25:EL$25,EE35))/設定!$M26+IFERROR((COUNTIF(DS$6:EL$7,処理!$L25)+COUNTIF(DS$10:EL$10,処理!$L25)+COUNTIF(DS$13:EL$13,処理!$L25)+COUNTIF(DS$16:EL$16,処理!$L25)+COUNTIF(DS$19:EL$19,処理!$L25)+COUNTIF(DS$22:EL$22,処理!$L25)+COUNTIF(DS$25:EL$25,処理!$L25))/処理!$M25,0))","v":""},"",{"$f":"$S$35","v":""},null,"","",{"$f":"$C$35","v":""},null,{"$f":"IF(LEN(EM35)=0,\"\",(COUNTIF(EM$6:FF$7,EM35)+COUNTIF(EM$10:FF$10,EM35)+COUNTIF(EM$13:FF$13,EM35)+COUNTIF(EM$16:FF$16,EM35)+COUNTIF(EM$19:FF$19,EM35)+COUNTIF(EM$22:FF$22,EM35)+COUNTIF(EM$25:FF$25,EM35))/設定!$D26+IFERROR((COUNTIF(EM$6:FF$7,処理!$L7)+COUNTIF(EM$10:FF$10,処理!$L7)+COUNTIF(EM$13:FF$13,処理!$L7)+COUNTIF(EM$16:FF$16,処理!$L7)+COUNTIF(EM$19:FF$19,処理!$L7)+COUNTIF(EM$22:FF$22,処理!$L7)+COUNTIF(EM$25:FF$25,処理!$L7))/処理!$M7,0))","v":""},"",{"$f":"$G$35","v":""},null,{"$f":"IF(LEN(EQ35)=0,\"\",(COUNTIF(EM$6:FF$7,EQ35)+COUNTIF(EM$10:FF$10,EQ35)+COUNTIF(EM$13:FF$13,EQ35)+COUNTIF(EM$16:FF$16,EQ35)+COUNTIF(EM$19:FF$19,EQ35)+COUNTIF(EM$22:FF$22,EQ35)+COUNTIF(EM$25:FF$25,EQ35))/設定!$G26+IFERROR((COUNTIF(EM$6:FF$7,処理!$L13)+COUNTIF(EM$10:FF$10,処理!$L13)+COUNTIF(EM$13:FF$13,処理!$L13)+COUNTIF(EM$16:FF$16,処理!$L13)+COUNTIF(EM$19:FF$19,処理!$L13)+COUNTIF(EM$22:FF$22,処理!$L13)+COUNTIF(EM$25:FF$25,処理!$L13))/処理!$M13,0))","v":""},"",{"$f":"$K$35","v":""},null,{"$f":"IF(LEN(EU35)=0,\"\",(COUNTIF(EM$6:FF$7,EU35)+COUNTIF(EM$10:FF$10,EU35)+COUNTIF(EM$13:FF$13,EU35)+COUNTIF(EM$16:FF$16,EU35)+COUNTIF(EM$19:FF$19,EU35)+COUNTIF(EM$22:FF$22,EU35)+COUNTIF(EM$25:FF$25,EU35))/設定!$J26+IFERROR((COUNTIF(EM$6:FF$7,処理!$L19)+COUNTIF(EM$10:FF$10,処理!$L19)+COUNTIF(EM$13:FF$13,処理!$L19)+COUNTIF(EM$16:FF$16,処理!$L19)+COUNTIF(EM$19:FF$19,処理!$L19)+COUNTIF(EM$22:FF$22,処理!$L19)+COUNTIF(EM$25:FF$25,処理!$L19))/処理!$M19,0))","v":""},"",{"$f":"$O$35","v":""},null,{"$f":"IF(LEN(EY35)=0,\"\",(COUNTIF(EM$6:FF$7,EY35)+COUNTIF(EM$10:FF$10,EY35)+COUNTIF(EM$13:FF$13,EY35)+COUNTIF(EM$16:FF$16,EY35)+COUNTIF(EM$19:FF$19,EY35)+COUNTIF(EM$22:FF$22,EY35)+COUNTIF(EM$25:FF$25,EY35))/設定!$M26+IFERROR((COUNTIF(EM$6:FF$7,処理!$L25)+COUNTIF(EM$10:FF$10,処理!$L25)+COUNTIF(EM$13:FF$13,処理!$L25)+COUNTIF(EM$16:FF$16,処理!$L25)+COUNTIF(EM$19:FF$19,処理!$L25)+COUNTIF(EM$22:FF$22,処理!$L25)+COUNTIF(EM$25:FF$25,処理!$L25))/処理!$M25,0))","v":""},"",{"$f":"$S$35","v":""},null,"","",{"$f":"$C$35","v":""},null,{"$f":"IF(LEN(FG35)=0,\"\",(COUNTIF(FG$6:FZ$7,FG35)+COUNTIF(FG$10:FZ$10,FG35)+COUNTIF(FG$13:FZ$13,FG35)+COUNTIF(FG$16:FZ$16,FG35)+COUNTIF(FG$19:FZ$19,FG35)+COUNTIF(FG$22:FZ$22,FG35)+COUNTIF(FG$25:FZ$25,FG35))/設定!$D26+IFERROR((COUNTIF(FG$6:FZ$7,処理!$L7)+COUNTIF(FG$10:FZ$10,処理!$L7)+COUNTIF(FG$13:FZ$13,処理!$L7)+COUNTIF(FG$16:FZ$16,処理!$L7)+COUNTIF(FG$19:FZ$19,処理!$L7)+COUNTIF(FG$22:FZ$22,処理!$L7)+COUNTIF(FG$25:FZ$25,処理!$L7))/処理!$M7,0))","v":""},"",{"$f":"$G$35","v":""},null,{"$f":"IF(LEN(FK35)=0,\"\",(COUNTIF(FG$6:FZ$7,FK35)+COUNTIF(FG$10:FZ$10,FK35)+COUNTIF(FG$13:FZ$13,FK35)+COUNTIF(FG$16:FZ$16,FK35)+COUNTIF(FG$19:FZ$19,FK35)+COUNTIF(FG$22:FZ$22,FK35)+COUNTIF(FG$25:FZ$25,FK35))/設定!$G26+IFERROR((COUNTIF(FG$6:FZ$7,処理!$L13)+COUNTIF(FG$10:FZ$10,処理!$L13)+COUNTIF(FG$13:FZ$13,処理!$L13)+COUNTIF(FG$16:FZ$16,処理!$L13)+COUNTIF(FG$19:FZ$19,処理!$L13)+COUNTIF(FG$22:FZ$22,処理!$L13)+COUNTIF(FG$25:FZ$25,処理!$L13))/処理!$M13,0))","v":""},"",{"$f":"$K$35","v":""},null,{"$f":"IF(LEN(FO35)=0,\"\",(COUNTIF(FG$6:FZ$7,FO35)+COUNTIF(FG$10:FZ$10,FO35)+COUNTIF(FG$13:FZ$13,FO35)+COUNTIF(FG$16:FZ$16,FO35)+COUNTIF(FG$19:FZ$19,FO35)+COUNTIF(FG$22:FZ$22,FO35)+COUNTIF(FG$25:FZ$25,FO35))/設定!$J26+IFERROR((COUNTIF(FG$6:FZ$7,処理!$L19)+COUNTIF(FG$10:FZ$10,処理!$L19)+COUNTIF(FG$13:FZ$13,処理!$L19)+COUNTIF(FG$16:FZ$16,処理!$L19)+COUNTIF(FG$19:FZ$19,処理!$L19)+COUNTIF(FG$22:FZ$22,処理!$L19)+COUNTIF(FG$25:FZ$25,処理!$L19))/処理!$M19,0))","v":""},"",{"$f":"$O$35","v":""},null,{"$f":"IF(LEN(FS35)=0,\"\",(COUNTIF(FG$6:FZ$7,FS35)+COUNTIF(FG$10:FZ$10,FS35)+COUNTIF(FG$13:FZ$13,FS35)+COUNTIF(FG$16:FZ$16,FS35)+COUNTIF(FG$19:FZ$19,FS35)+COUNTIF(FG$22:FZ$22,FS35)+COUNTIF(FG$25:FZ$25,FS35))/設定!$M26+IFERROR((COUNTIF(FG$6:FZ$7,処理!$L25)+COUNTIF(FG$10:FZ$10,処理!$L25)+COUNTIF(FG$13:FZ$13,処理!$L25)+COUNTIF(FG$16:FZ$16,処理!$L25)+COUNTIF(FG$19:FZ$19,処理!$L25)+COUNTIF(FG$22:FZ$22,処理!$L25)+COUNTIF(FG$25:FZ$25,処理!$L25))/処理!$M25,0))","v":""},"",{"$f":"$S$35","v":""},null,"","",{"$f":"$C$35","v":""},null,{"$f":"IF(LEN(GA35)=0,\"\",(COUNTIF(GA$6:GT$7,GA35)+COUNTIF(GA$10:GT$10,GA35)+COUNTIF(GA$13:GT$13,GA35)+COUNTIF(GA$16:GT$16,GA35)+COUNTIF(GA$19:GT$19,GA35)+COUNTIF(GA$22:GT$22,GA35)+COUNTIF(GA$25:GT$25,GA35))/設定!$D26+IFERROR((COUNTIF(GA$6:GT$7,処理!$L7)+COUNTIF(GA$10:GT$10,処理!$L7)+COUNTIF(GA$13:GT$13,処理!$L7)+COUNTIF(GA$16:GT$16,処理!$L7)+COUNTIF(GA$19:GT$19,処理!$L7)+COUNTIF(GA$22:GT$22,処理!$L7)+COUNTIF(GA$25:GT$25,処理!$L7))/処理!$M7,0))","v":""},"",{"$f":"$G$35","v":""},null,{"$f":"IF(LEN(GE35)=0,\"\",(COUNTIF(GA$6:GT$7,GE35)+COUNTIF(GA$10:GT$10,GE35)+COUNTIF(GA$13:GT$13,GE35)+COUNTIF(GA$16:GT$16,GE35)+COUNTIF(GA$19:GT$19,GE35)+COUNTIF(GA$22:GT$22,GE35)+COUNTIF(GA$25:GT$25,GE35))/設定!$G26+IFERROR((COUNTIF(GA$6:GT$7,処理!$L13)+COUNTIF(GA$10:GT$10,処理!$L13)+COUNTIF(GA$13:GT$13,処理!$L13)+COUNTIF(GA$16:GT$16,処理!$L13)+COUNTIF(GA$19:GT$19,処理!$L13)+COUNTIF(GA$22:GT$22,処理!$L13)+COUNTIF(GA$25:GT$25,処理!$L13))/処理!$M13,0))","v":""},"",{"$f":"$K$35","v":""},null,{"$f":"IF(LEN(GI35)=0,\"\",(COUNTIF(GA$6:GT$7,GI35)+COUNTIF(GA$10:GT$10,GI35)+COUNTIF(GA$13:GT$13,GI35)+COUNTIF(GA$16:GT$16,GI35)+COUNTIF(GA$19:GT$19,GI35)+COUNTIF(GA$22:GT$22,GI35)+COUNTIF(GA$25:GT$25,GI35))/設定!$J26+IFERROR((COUNTIF(GA$6:GT$7,処理!$L19)+COUNTIF(GA$10:GT$10,処理!$L19)+COUNTIF(GA$13:GT$13,処理!$L19)+COUNTIF(GA$16:GT$16,処理!$L19)+COUNTIF(GA$19:GT$19,処理!$L19)+COUNTIF(GA$22:GT$22,処理!$L19)+COUNTIF(GA$25:GT$25,処理!$L19))/処理!$M19,0))","v":""},"",{"$f":"$O$35","v":""},null,{"$f":"IF(LEN(GM35)=0,\"\",(COUNTIF(GA$6:GT$7,GM35)+COUNTIF(GA$10:GT$10,GM35)+COUNTIF(GA$13:GT$13,GM35)+COUNTIF(GA$16:GT$16,GM35)+COUNTIF(GA$19:GT$19,GM35)+COUNTIF(GA$22:GT$22,GM35)+COUNTIF(GA$25:GT$25,GM35))/設定!$M26+IFERROR((COUNTIF(GA$6:GT$7,処理!$L25)+COUNTIF(GA$10:GT$10,処理!$L25)+COUNTIF(GA$13:GT$13,処理!$L25)+COUNTIF(GA$16:GT$16,処理!$L25)+COUNTIF(GA$19:GT$19,処理!$L25)+COUNTIF(GA$22:GT$22,処理!$L25)+COUNTIF(GA$25:GT$25,処理!$L25))/処理!$M25,0))","v":""},"",{"$f":"$S$35","v":""},null,"","",{"$f":"$C$35","v":""},null,{"$f":"IF(LEN(GU35)=0,\"\",(COUNTIF(GU$6:HN$7,GU35)+COUNTIF(GU$10:HN$10,GU35)+COUNTIF(GU$13:HN$13,GU35)+COUNTIF(GU$16:HN$16,GU35)+COUNTIF(GU$19:HN$19,GU35)+COUNTIF(GU$22:HN$22,GU35)+COUNTIF(GU$25:HN$25,GU35))/設定!$D26+IFERROR((COUNTIF(GU$6:HN$7,処理!$L7)+COUNTIF(GU$10:HN$10,処理!$L7)+COUNTIF(GU$13:HN$13,処理!$L7)+COUNTIF(GU$16:HN$16,処理!$L7)+COUNTIF(GU$19:HN$19,処理!$L7)+COUNTIF(GU$22:HN$22,処理!$L7)+COUNTIF(GU$25:HN$25,処理!$L7))/処理!$M7,0))","v":""},"",{"$f":"$G$35","v":""},null,{"$f":"IF(LEN(GY35)=0,\"\",(COUNTIF(GU$6:HN$7,GY35)+COUNTIF(GU$10:HN$10,GY35)+COUNTIF(GU$13:HN$13,GY35)+COUNTIF(GU$16:HN$16,GY35)+COUNTIF(GU$19:HN$19,GY35)+COUNTIF(GU$22:HN$22,GY35)+COUNTIF(GU$25:HN$25,GY35))/設定!$G26+IFERROR((COUNTIF(GU$6:HN$7,処理!$L13)+COUNTIF(GU$10:HN$10,処理!$L13)+COUNTIF(GU$13:HN$13,処理!$L13)+COUNTIF(GU$16:HN$16,処理!$L13)+COUNTIF(GU$19:HN$19,処理!$L13)+COUNTIF(GU$22:HN$22,処理!$L13)+COUNTIF(GU$25:HN$25,処理!$L13))/処理!$M13,0))","v":""},"",{"$f":"$K$35","v":""},null,{"$f":"IF(LEN(HC35)=0,\"\",(COUNTIF(GU$6:HN$7,HC35)+COUNTIF(GU$10:HN$10,HC35)+COUNTIF(GU$13:HN$13,HC35)+COUNTIF(GU$16:HN$16,HC35)+COUNTIF(GU$19:HN$19,HC35)+COUNTIF(GU$22:HN$22,HC35)+COUNTIF(GU$25:HN$25,HC35))/設定!$J26+IFERROR((COUNTIF(GU$6:HN$7,処理!$L19)+COUNTIF(GU$10:HN$10,処理!$L19)+COUNTIF(GU$13:HN$13,処理!$L19)+COUNTIF(GU$16:HN$16,処理!$L19)+COUNTIF(GU$19:HN$19,処理!$L19)+COUNTIF(GU$22:HN$22,処理!$L19)+COUNTIF(GU$25:HN$25,処理!$L19))/処理!$M19,0))","v":""},"",{"$f":"$O$35","v":""},null,{"$f":"IF(LEN(HG35)=0,\"\",(COUNTIF(GU$6:HN$7,HG35)+COUNTIF(GU$10:HN$10,HG35)+COUNTIF(GU$13:HN$13,HG35)+COUNTIF(GU$16:HN$16,HG35)+COUNTIF(GU$19:HN$19,HG35)+COUNTIF(GU$22:HN$22,HG35)+COUNTIF(GU$25:HN$25,HG35))/設定!$M26+IFERROR((COUNTIF(GU$6:HN$7,処理!$L25)+COUNTIF(GU$10:HN$10,処理!$L25)+COUNTIF(GU$13:HN$13,処理!$L25)+COUNTIF(GU$16:HN$16,処理!$L25)+COUNTIF(GU$19:HN$19,処理!$L25)+COUNTIF(GU$22:HN$22,処理!$L25)+COUNTIF(GU$25:HN$25,処理!$L25))/処理!$M25,0))","v":""},"",{"$f":"$S$35","v":""},null,"","",{"$f":"$C$35","v":""},null,{"$f":"IF(LEN(HO35)=0,\"\",(COUNTIF(HO$6:IH$7,HO35)+COUNTIF(HO$10:IH$10,HO35)+COUNTIF(HO$13:IH$13,HO35)+COUNTIF(HO$16:IH$16,HO35)+COUNTIF(HO$19:IH$19,HO35)+COUNTIF(HO$22:IH$22,HO35)+COUNTIF(HO$25:IH$25,HO35))/設定!$D26+IFERROR((COUNTIF(HO$6:IH$7,処理!$L7)+COUNTIF(HO$10:IH$10,処理!$L7)+COUNTIF(HO$13:IH$13,処理!$L7)+COUNTIF(HO$16:IH$16,処理!$L7)+COUNTIF(HO$19:IH$19,処理!$L7)+COUNTIF(HO$22:IH$22,処理!$L7)+COUNTIF(HO$25:IH$25,処理!$L7))/処理!$M7,0))","v":""},"",{"$f":"$G$35","v":""},null,{"$f":"IF(LEN(HS35)=0,\"\",(COUNTIF(HO$6:IH$7,HS35)+COUNTIF(HO$10:IH$10,HS35)+COUNTIF(HO$13:IH$13,HS35)+COUNTIF(HO$16:IH$16,HS35)+COUNTIF(HO$19:IH$19,HS35)+COUNTIF(HO$22:IH$22,HS35)+COUNTIF(HO$25:IH$25,HS35))/設定!$G26+IFERROR((COUNTIF(HO$6:IH$7,処理!$L13)+COUNTIF(HO$10:IH$10,処理!$L13)+COUNTIF(HO$13:IH$13,処理!$L13)+COUNTIF(HO$16:IH$16,処理!$L13)+COUNTIF(HO$19:IH$19,処理!$L13)+COUNTIF(HO$22:IH$22,処理!$L13)+COUNTIF(HO$25:IH$25,処理!$L13))/処理!$M13,0))","v":""},"",{"$f":"$K$35","v":""},null,{"$f":"IF(LEN(HW35)=0,\"\",(COUNTIF(HO$6:IH$7,HW35)+COUNTIF(HO$10:IH$10,HW35)+COUNTIF(HO$13:IH$13,HW35)+COUNTIF(HO$16:IH$16,HW35)+COUNTIF(HO$19:IH$19,HW35)+COUNTIF(HO$22:IH$22,HW35)+COUNTIF(HO$25:IH$25,HW35))/設定!$J26+IFERROR((COUNTIF(HO$6:IH$7,処理!$L19)+COUNTIF(HO$10:IH$10,処理!$L19)+COUNTIF(HO$13:IH$13,処理!$L19)+COUNTIF(HO$16:IH$16,処理!$L19)+COUNTIF(HO$19:IH$19,処理!$L19)+COUNTIF(HO$22:IH$22,処理!$L19)+COUNTIF(HO$25:IH$25,処理!$L19))/処理!$M19,0))","v":""},"",{"$f":"$O$35","v":""},null,{"$f":"IF(LEN(IA35)=0,\"\",(COUNTIF(HO$6:IH$7,IA35)+COUNTIF(HO$10:IH$10,IA35)+COUNTIF(HO$13:IH$13,IA35)+COUNTIF(HO$16:IH$16,IA35)+COUNTIF(HO$19:IH$19,IA35)+COUNTIF(HO$22:IH$22,IA35)+COUNTIF(HO$25:IH$25,IA35))/設定!$M26+IFERROR((COUNTIF(HO$6:IH$7,処理!$L25)+COUNTIF(HO$10:IH$10,処理!$L25)+COUNTIF(HO$13:IH$13,処理!$L25)+COUNTIF(HO$16:IH$16,処理!$L25)+COUNTIF(HO$19:IH$19,処理!$L25)+COUNTIF(HO$22:IH$22,処理!$L25)+COUNTIF(HO$25:IH$25,処理!$L25))/処理!$M25,0))","v":""},"",{"$f":"$S$35","v":""},null,"","",{"$f":"$C$35","v":""},null,{"$f":"IF(LEN(II35)=0,\"\",(COUNTIF(II$6:JB$7,II35)+COUNTIF(II$10:JB$10,II35)+COUNTIF(II$13:JB$13,II35)+COUNTIF(II$16:JB$16,II35)+COUNTIF(II$19:JB$19,II35)+COUNTIF(II$22:JB$22,II35)+COUNTIF(II$25:JB$25,II35))/設定!$D26+IFERROR((COUNTIF(II$6:JB$7,処理!$L7)+COUNTIF(II$10:JB$10,処理!$L7)+COUNTIF(II$13:JB$13,処理!$L7)+COUNTIF(II$16:JB$16,処理!$L7)+COUNTIF(II$19:JB$19,処理!$L7)+COUNTIF(II$22:JB$22,処理!$L7)+COUNTIF(II$25:JB$25,処理!$L7))/処理!$M7,0))","v":""},"",{"$f":"$G$35","v":""},null,{"$f":"IF(LEN(IM35)=0,\"\",(COUNTIF(II$6:JB$7,IM35)+COUNTIF(II$10:JB$10,IM35)+COUNTIF(II$13:JB$13,IM35)+COUNTIF(II$16:JB$16,IM35)+COUNTIF(II$19:JB$19,IM35)+COUNTIF(II$22:JB$22,IM35)+COUNTIF(II$25:JB$25,IM35))/設定!$G26+IFERROR((COUNTIF(II$6:JB$7,処理!$L13)+COUNTIF(II$10:JB$10,処理!$L13)+COUNTIF(II$13:JB$13,処理!$L13)+COUNTIF(II$16:JB$16,処理!$L13)+COUNTIF(II$19:JB$19,処理!$L13)+COUNTIF(II$22:JB$22,処理!$L13)+COUNTIF(II$25:JB$25,処理!$L13))/処理!$M13,0))","v":""},"",{"$f":"$K$35","v":""},null,{"$f":"IF(LEN(IQ35)=0,\"\",(COUNTIF(II$6:JB$7,IQ35)+COUNTIF(II$10:JB$10,IQ35)+COUNTIF(II$13:JB$13,IQ35)+COUNTIF(II$16:JB$16,IQ35)+COUNTIF(II$19:JB$19,IQ35)+COUNTIF(II$22:JB$22,IQ35)+COUNTIF(II$25:JB$25,IQ35))/設定!$J26+IFERROR((COUNTIF(II$6:JB$7,処理!$L19)+COUNTIF(II$10:JB$10,処理!$L19)+COUNTIF(II$13:JB$13,処理!$L19)+COUNTIF(II$16:JB$16,処理!$L19)+COUNTIF(II$19:JB$19,処理!$L19)+COUNTIF(II$22:JB$22,処理!$L19)+COUNTIF(II$25:JB$25,処理!$L19))/処理!$M19,0))","v":""},"",{"$f":"$O$35","v":""},null,{"$f":"IF(LEN(IU35)=0,\"\",(COUNTIF(II$6:JB$7,IU35)+COUNTIF(II$10:JB$10,IU35)+COUNTIF(II$13:JB$13,IU35)+COUNTIF(II$16:JB$16,IU35)+COUNTIF(II$19:JB$19,IU35)+COUNTIF(II$22:JB$22,IU35)+COUNTIF(II$25:JB$25,IU35))/設定!$M26+IFERROR((COUNTIF(II$6:JB$7,処理!$L25)+COUNTIF(II$10:JB$10,処理!$L25)+COUNTIF(II$13:JB$13,処理!$L25)+COUNTIF(II$16:JB$16,処理!$L25)+COUNTIF(II$19:JB$19,処理!$L25)+COUNTIF(II$22:JB$22,処理!$L25)+COUNTIF(II$25:JB$25,処理!$L25))/処理!$M25,0))","v":""},"",{"$f":"$S$35","v":""},null,"","",{"$f":"$C$35","v":""},null,{"$f":"IF(LEN(JC35)=0,\"\",(COUNTIF(JC$6:JV$7,JC35)+COUNTIF(JC$10:JV$10,JC35)+COUNTIF(JC$13:JV$13,JC35)+COUNTIF(JC$16:JV$16,JC35)+COUNTIF(JC$19:JV$19,JC35)+COUNTIF(JC$22:JV$22,JC35)+COUNTIF(JC$25:JV$25,JC35))/設定!$D26+IFERROR((COUNTIF(JC$6:JV$7,処理!$L7)+COUNTIF(JC$10:JV$10,処理!$L7)+COUNTIF(JC$13:JV$13,処理!$L7)+COUNTIF(JC$16:JV$16,処理!$L7)+COUNTIF(JC$19:JV$19,処理!$L7)+COUNTIF(JC$22:JV$22,処理!$L7)+COUNTIF(JC$25:JV$25,処理!$L7))/処理!$M7,0))","v":""},"",{"$f":"$G$35","v":""},null,{"$f":"IF(LEN(JG35)=0,\"\",(COUNTIF(JC$6:JV$7,JG35)+COUNTIF(JC$10:JV$10,JG35)+COUNTIF(JC$13:JV$13,JG35)+COUNTIF(JC$16:JV$16,JG35)+COUNTIF(JC$19:JV$19,JG35)+COUNTIF(JC$22:JV$22,JG35)+COUNTIF(JC$25:JV$25,JG35))/設定!$G26+IFERROR((COUNTIF(JC$6:JV$7,処理!$L13)+COUNTIF(JC$10:JV$10,処理!$L13)+COUNTIF(JC$13:JV$13,処理!$L13)+COUNTIF(JC$16:JV$16,処理!$L13)+COUNTIF(JC$19:JV$19,処理!$L13)+COUNTIF(JC$22:JV$22,処理!$L13)+COUNTIF(JC$25:JV$25,処理!$L13))/処理!$M13,0))","v":""},"",{"$f":"$K$35","v":""},null,{"$f":"IF(LEN(JK35)=0,\"\",(COUNTIF(JC$6:JV$7,JK35)+COUNTIF(JC$10:JV$10,JK35)+COUNTIF(JC$13:JV$13,JK35)+COUNTIF(JC$16:JV$16,JK35)+COUNTIF(JC$19:JV$19,JK35)+COUNTIF(JC$22:JV$22,JK35)+COUNTIF(JC$25:JV$25,JK35))/設定!$J26+IFERROR((COUNTIF(JC$6:JV$7,処理!$L19)+COUNTIF(JC$10:JV$10,処理!$L19)+COUNTIF(JC$13:JV$13,処理!$L19)+COUNTIF(JC$16:JV$16,処理!$L19)+COUNTIF(JC$19:JV$19,処理!$L19)+COUNTIF(JC$22:JV$22,処理!$L19)+COUNTIF(JC$25:JV$25,処理!$L19))/処理!$M19,0))","v":""},"",{"$f":"$O$35","v":""},null,{"$f":"IF(LEN(JO35)=0,\"\",(COUNTIF(JC$6:JV$7,JO35)+COUNTIF(JC$10:JV$10,JO35)+COUNTIF(JC$13:JV$13,JO35)+COUNTIF(JC$16:JV$16,JO35)+COUNTIF(JC$19:JV$19,JO35)+COUNTIF(JC$22:JV$22,JO35)+COUNTIF(JC$25:JV$25,JO35))/設定!$M26+IFERROR((COUNTIF(JC$6:JV$7,処理!$L25)+COUNTIF(JC$10:JV$10,処理!$L25)+COUNTIF(JC$13:JV$13,処理!$L25)+COUNTIF(JC$16:JV$16,処理!$L25)+COUNTIF(JC$19:JV$19,処理!$L25)+COUNTIF(JC$22:JV$22,処理!$L25)+COUNTIF(JC$25:JV$25,処理!$L25))/処理!$M25,0))","v":""},"",{"$f":"$S$35","v":""},null,"","",{"$f":"$C$35","v":""},null,{"$f":"IF(LEN(JW35)=0,\"\",(COUNTIF(JW$6:KP$7,JW35)+COUNTIF(JW$10:KP$10,JW35)+COUNTIF(JW$13:KP$13,JW35)+COUNTIF(JW$16:KP$16,JW35)+COUNTIF(JW$19:KP$19,JW35)+COUNTIF(JW$22:KP$22,JW35)+COUNTIF(JW$25:KP$25,JW35))/設定!$D26+IFERROR((COUNTIF(JW$6:KP$7,処理!$L7)+COUNTIF(JW$10:KP$10,処理!$L7)+COUNTIF(JW$13:KP$13,処理!$L7)+COUNTIF(JW$16:KP$16,処理!$L7)+COUNTIF(JW$19:KP$19,処理!$L7)+COUNTIF(JW$22:KP$22,処理!$L7)+COUNTIF(JW$25:KP$25,処理!$L7))/処理!$M7,0))","v":""},"",{"$f":"$G$35","v":""},null,{"$f":"IF(LEN(KA35)=0,\"\",(COUNTIF(JW$6:KP$7,KA35)+COUNTIF(JW$10:KP$10,KA35)+COUNTIF(JW$13:KP$13,KA35)+COUNTIF(JW$16:KP$16,KA35)+COUNTIF(JW$19:KP$19,KA35)+COUNTIF(JW$22:KP$22,KA35)+COUNTIF(JW$25:KP$25,KA35))/設定!$G26+IFERROR((COUNTIF(JW$6:KP$7,処理!$L13)+COUNTIF(JW$10:KP$10,処理!$L13)+COUNTIF(JW$13:KP$13,処理!$L13)+COUNTIF(JW$16:KP$16,処理!$L13)+COUNTIF(JW$19:KP$19,処理!$L13)+COUNTIF(JW$22:KP$22,処理!$L13)+COUNTIF(JW$25:KP$25,処理!$L13))/処理!$M13,0))","v":""},"",{"$f":"$K$35","v":""},null,{"$f":"IF(LEN(KE35)=0,\"\",(COUNTIF(JW$6:KP$7,KE35)+COUNTIF(JW$10:KP$10,KE35)+COUNTIF(JW$13:KP$13,KE35)+COUNTIF(JW$16:KP$16,KE35)+COUNTIF(JW$19:KP$19,KE35)+COUNTIF(JW$22:KP$22,KE35)+COUNTIF(JW$25:KP$25,KE35))/設定!$J26+IFERROR((COUNTIF(JW$6:KP$7,処理!$L19)+COUNTIF(JW$10:KP$10,処理!$L19)+COUNTIF(JW$13:KP$13,処理!$L19)+COUNTIF(JW$16:KP$16,処理!$L19)+COUNTIF(JW$19:KP$19,処理!$L19)+COUNTIF(JW$22:KP$22,処理!$L19)+COUNTIF(JW$25:KP$25,処理!$L19))/処理!$M19,0))","v":""},"",{"$f":"$O$35","v":""},null,{"$f":"IF(LEN(KI35)=0,\"\",(COUNTIF(JW$6:KP$7,KI35)+COUNTIF(JW$10:KP$10,KI35)+COUNTIF(JW$13:KP$13,KI35)+COUNTIF(JW$16:KP$16,KI35)+COUNTIF(JW$19:KP$19,KI35)+COUNTIF(JW$22:KP$22,KI35)+COUNTIF(JW$25:KP$25,KI35))/設定!$M26+IFERROR((COUNTIF(JW$6:KP$7,処理!$L25)+COUNTIF(JW$10:KP$10,処理!$L25)+COUNTIF(JW$13:KP$13,処理!$L25)+COUNTIF(JW$16:KP$16,処理!$L25)+COUNTIF(JW$19:KP$19,処理!$L25)+COUNTIF(JW$22:KP$22,処理!$L25)+COUNTIF(JW$25:KP$25,処理!$L25))/処理!$M25,0))","v":""},"",{"$f":"$S$35","v":""},null,"","",{"$f":"$C$35","v":""},null,{"$f":"IF(LEN(KQ35)=0,\"\",COUNTIF(KQ$6:LJ$25,KQ35)/設定!$D26+IFERROR(COUNTIF(KQ$6:LJ$25,処理!$L7)/処理!$M7,0))","v":""},"",{"$f":"$G$35","v":""},null,{"$f":"IF(LEN(KU35)=0,\"\",COUNTIF(KQ$6:LJ$25,KU35)/設定!$G26+IFERROR(COUNTIF(KQ$6:LJ$25,処理!$L13)/処理!$M13,0))","v":""},"",{"$f":"$K$35","v":""},null,{"$f":"IF(LEN(KY35)=0,\"\",COUNTIF(KQ$6:LJ$25,KY35)/設定!$J26+IFERROR(COUNTIF(KQ$6:LJ$25,処理!$L19)/処理!$M19,0))","v":""},"",{"$f":"$O$35","v":""},null,{"$f":"IF(LEN(LC35)=0,\"\",COUNTIF(KQ$6:LJ$25,LC35)/設定!$M26+IFERROR(COUNTIF(KQ$6:LJ$25,処理!$L25)/処理!$M25,0))","v":""},"",{"$f":"$S$35","v":""},null,"","",{"$f":"$C$35","v":""},null,{"$f":"IF(LEN(LK35)=0,\"\",(COUNTIF(LK$6:MD$7,LK35)+COUNTIF(LK$10:MD$10,LK35)+COUNTIF(LK$13:MD$13,LK35)+COUNTIF(LK$16:MD$16,LK35)+COUNTIF(LK$19:MD$19,LK35)+COUNTIF(LK$22:MD$22,LK35)+COUNTIF(LK$25:MD$25,LK35))/設定!$D26+IFERROR((COUNTIF(LK$6:MD$7,処理!$L7)+COUNTIF(LK$10:MD$10,処理!$L7)+COUNTIF(LK$13:MD$13,処理!$L7)+COUNTIF(LK$16:MD$16,処理!$L7)+COUNTIF(LK$19:MD$19,処理!$L7)+COUNTIF(LK$22:MD$22,処理!$L7)+COUNTIF(LK$25:MD$25,処理!$L7))/処理!$M7,0))","v":""},"",{"$f":"$G$35","v":""},null,{"$f":"IF(LEN(LO35)=0,\"\",(COUNTIF(LK$6:MD$7,LO35)+COUNTIF(LK$10:MD$10,LO35)+COUNTIF(LK$13:MD$13,LO35)+COUNTIF(LK$16:MD$16,LO35)+COUNTIF(LK$19:MD$19,LO35)+COUNTIF(LK$22:MD$22,LO35)+COUNTIF(LK$25:MD$25,LO35))/設定!$G26+IFERROR((COUNTIF(LK$6:MD$7,処理!$L13)+COUNTIF(LK$10:MD$10,処理!$L13)+COUNTIF(LK$13:MD$13,処理!$L13)+COUNTIF(LK$16:MD$16,処理!$L13)+COUNTIF(LK$19:MD$19,処理!$L13)+COUNTIF(LK$22:MD$22,処理!$L13)+COUNTIF(LK$25:MD$25,処理!$L13))/処理!$M13,0))","v":""},"",{"$f":"$K$35","v":""},null,{"$f":"IF(LEN(LS35)=0,\"\",(COUNTIF(LK$6:MD$7,LS35)+COUNTIF(LK$10:MD$10,LS35)+COUNTIF(LK$13:MD$13,LS35)+COUNTIF(LK$16:MD$16,LS35)+COUNTIF(LK$19:MD$19,LS35)+COUNTIF(LK$22:MD$22,LS35)+COUNTIF(LK$25:MD$25,LS35))/設定!$J26+IFERROR((COUNTIF(LK$6:MD$7,処理!$L19)+COUNTIF(LK$10:MD$10,処理!$L19)+COUNTIF(LK$13:MD$13,処理!$L19)+COUNTIF(LK$16:MD$16,処理!$L19)+COUNTIF(LK$19:MD$19,処理!$L19)+COUNTIF(LK$22:MD$22,処理!$L19)+COUNTIF(LK$25:MD$25,処理!$L19))/処理!$M19,0))","v":""},"",{"$f":"$O$35","v":""},null,{"$f":"IF(LEN(LW35)=0,\"\",(COUNTIF(LK$6:MD$7,LW35)+COUNTIF(LK$10:MD$10,LW35)+COUNTIF(LK$13:MD$13,LW35)+COUNTIF(LK$16:MD$16,LW35)+COUNTIF(LK$19:MD$19,LW35)+COUNTIF(LK$22:MD$22,LW35)+COUNTIF(LK$25:MD$25,LW35))/設定!$M26+IFERROR((COUNTIF(LK$6:MD$7,処理!$L25)+COUNTIF(LK$10:MD$10,処理!$L25)+COUNTIF(LK$13:MD$13,処理!$L25)+COUNTIF(LK$16:MD$16,処理!$L25)+COUNTIF(LK$19:MD$19,処理!$L25)+COUNTIF(LK$22:MD$22,処理!$L25)+COUNTIF(LK$25:MD$25,処理!$L25))/処理!$M25,0))","v":""},"",{"$f":"$S$35","v":""},null,"",""]

{"sheet":"２学期","index":3,"n_rows":35,"n_cols":362,"rows_kept":35,"cut":false,"hidden":true,"merged":[[34,342,34,343],[34,346,34,347],[34,350,34,351],[34,354,34,355],[34,358,34,359],[32,342,32,343],[32,346,32,347],[32,350,32,351],[32,354,32,355],[32,358,32,359],[33,342,33,343],[33,346,33,347],[33,350,33,351],[33,354,33,355],[33,358,33,359],[30,342,30,343],[30,346,30,347],[30,350,30,351],[30,354,30,355],[30,358,30,359],[31,342,31,343],[31,346,31,347],[31,350,31,351],[31,354,31,355],[31,358,31,359],[28,342,28,343],[28,346,28,347],[28,350,28,351],[28,354,28,355],[28,358,28,359],[29,342,29,343],[29,346,29,347],[29,350,29,351],[29,354,29,355],[29,358,29,359],[26,342,26,345],[26,346,26,349],[26,350,26,353],[26,354,26,357],[26,358,26,361],[27,342,27,345],[27,346,27,349],[27,350,27,353],[27,354,27,357],[27,358,27,361],[24,342,24,344],[24,346,24,348],[24,350,24,352],[24,354,24,356],[24,358,24,360],[25,342,25,345],[25,346,25,349],[25,350,25,353],[25,354,25,357],[25,358,25,361],[22,342,22,345],[22,346,22,349],[22,350,22,353],[22,354,22,357],[22,358,22,361],[23,342,23,345],[23,346,23,349],[23,350,23,353],[23,354,23,357],[23,358,23,361],[20,342,20,345],[20,346,20,349],[20,350,20,353],[20,354,20,357],[20,358,20,361],[21,342,21,344],[21,346,21,348],[21,350,21,352],[21,354,21,356],[21,358,21,360],[18,342,18,344],[18,346,18,348],[18,350,18,352],[18,354,18,356],[18,358,18,360],[19,342,19,345],[19,346,19,349],[19,350,19,353],[19,354,19,357],[19,358,19,361],[16,342,16,345],[16,346,16,349],[16,350,16,353],[16,354,16,357],[16,358,16,361],[17,342,17,345],[17,346,17,349],[17,350,17,353],[17,354,17,357],[17,358,17,361],[14,342,14,345],[14,346,14,349],[14,350,14,353],[14,354,14,357],[14,358,14,361],[15,342,15,344],[15,346,15,348],[15,350,15,352],[15,354,15,356],[15,358,15,360],[12,342,12,344],[12,346,12,348],[12,350,12,352],[12,354,12,356],[12,358,12,360],[13,342,13,345],[13,346,13,349],[13,350,13,353],[13,354,13,357],[13,358,13,361],[10,342,10,345],[10,346,10,349],[10,350,10,353],[10,354,10,357],[10,358,10,361],[11,342,11,345],[11,346,11,349],[11,350,11,353],[11,354,11,357],[11,358,11,361],[8,342,8,345],[8,346,8,349],[8,350,8,353],[8,354,8,357],[8,358,8,361],[9,342,9,344],[9,346,9,348],[9,350,9,352],[9,354,9,356],[9,358,9,360],[6,342,6,344],[6,346,6,348],[6,350,6,352],[6,354,6,356],[6,358,6,360],[7,342,7,345],[7,346,7,349],[7,350,7,353],[7,354,7,357],[7,358,7,361],[4,342,4,345],[4,346,4,349],[4,350,4,353],[4,354,4,357],[4,358,4,361],[5,342,5,344],[5,346,5,348],[5,350,5,352],[5,354,5,356],[5,358,5,360],[34,326,34,327],[34,330,34,331],[34,334,34,335],[34,338,34,339],[2,348,2,359],[3,342,3,345],[3,346,3,349],[3,350,3,353],[3,354,3,357],[3,358,3,361],[33,338,33,339],[32,326,32,327],[32,330,32,331],[32,334,32,335],[32,338,32,339],[29,338,29,339],[22,338,22,341],[21,330,21,332],[21,334,21,336],[21,338,21,340],[13,334,13,337],[13,338,13,341],[34,302,34,303],[34,306,34,307],[34,310,34,311],[34,314,34,315],[34,318,34,319],[34,322,34,323],[34,278,34,279],[34,282,34,283],[34,286,34,287],[34,290,34,291],[34,294,34,295],[34,298,34,299],[34,254,34,255],[34,258,34,259],[34,262,34,263],[34,266,34,267],[34,270,34,271],[34,274,34,275],[34,230,34,231],[34,234,34,235],[34,238,34,239],[34,242,34,243],[34,246,34,247],[34,250,34,251],[34,206,34,207],[34,210,34,211],[34,214,34,215],[34,218,34,219],[34,222,34,223],[34,226,34,227],[34,182,34,183],[34,186,34,187],[34,190,34,191],[34,194,34,195],[34,198,34,199],[34,202,34,203],[34,158,34,159],[34,162,34,163],[34,166,34,167],[34,170,34,171],[34,174,34,175],[34,178,34,179],[34,134,34,135],[34,138,34,139],[34,142,34,143],[34,146,34,147],[34,150,34,151],[34,154,34,155],[34,110,34,111],[34,114,34,115],[34,118,34,119],[34,122,34,123],[34,126,34,127],[34,130,34,131],[34,86,34,87],[34,90,34,91],[34,94,34,95],[34,98,34,99],[34,102,34,103],[34,106,34,107],[34,62,34,63],[34,66,34,67],[34,70,34,71],[34,74,34,75],[34,78,34,79],[34,82,34,83],[34,38,34,39],[34,42,34,43],[34,46,34,47],[34,50,34,51],[34,54,34,55],[34,58,34,59],[34,2,34,3],[34,6,34,7],[34,10,34,11],[34,14,34,15],[34,18,34,19],[34,22,34,23],[34,26,34,27],[34,30,34,31],[34,34,34,35],[33,314,33,315],[33,318,33,319],[33,322,33,323],[33,326,33,327],[33,330,33,331],[33,334,33,335],[33,290,33,291],[33,294,33,295],[33,298,33,299],[33,302,33,303],[33,306,33,307],[33,310,33,311],[33,266,33,267],[33,270,33,271],[33,274,33,275],[33,278,33,279],[33,282,33,283],[33,286,33,287],[33,242,33,243],[33,246,33,247],[33,250,33,251],[33,254,33,255],[33,258,33,259],[33,262,33,263],[33,218,33,219],[33,222,33,223],[33,226,33,227],[33,230,33,231],[33,234,33,235],[33,238,33,239],[33,194,33,195],[33,198,33,199],[33,202,33,203],[33,206,33,207],[33,210,33,211],[33,214,33,215],[33,170,33,171],[33,174,33,175],[33,178,33,179],[33,182,33,183],[33,186,33,187],[33,190,33,191],[33,146,33,147],[33,150,33,151],[33,154,33,155],[33,158,33,159],[33,162,33,163],[33,166,33,167],[33,122,33,123],[33,126,33,127],[33,130,33,131],[33,134,33,135],[33,138,33,139],[33,142,33,143],[33,98,33,99],[33,102,33,103],[33,106,33,107],[33,110,33,111],[33,114,33,115],[33,118,33,119],[33,74,33,75],[33,78,33,79],[33,82,33,83],[33,86,33,87],[33,90,33,91],[33,94,33,95],[33,50,33,51],[33,54,33,55],[33,58,33,59],[33,62,33,63],[33,66,33,67],[33,70,33,71],[33,26,33,27],[33,30,33,31],[33,34,33,35],[33,38,33,39],[33,42,33,43],[33,46,33,47],[33,2,33,3],[33,6,33,7],[33,10,33,11],[33,14,33,15],[33,18,33,19],[33,22,33,23],[32,302,32,303],[32,306,32,307],[32,310,32,311],[32,314,32,315],[32,318,32,319],[32,322,32,323],[32,278,32,279],[32,282,32,283],[32,286,32,287],[32,290,32,291],[32,294,32,295],[32,298,32,299],[32,254,32,255],[32,258,32,259],[32,262,32,263],[32,266,32,267],[32,270,32,271],[32,274,32,275],[32,230,32,231],[32,234,32,235],[32,238,32,239],[32,242,32,243],[32,246,32,247],[32,250,32,251],[32,206,32,207],[32,210,32,211],[32,214,32,215],[32,218,32,219],[32,222,32,223],[32,226,32,227],[32,182,32,183],[32,186,32,187],[32,190,32,191],[32,194,32,195],[32,198,32,199],[32,202,32,203],[32,158,32,159],[32,162,32,163],[32,166,32,167],[32,170,32,171],[32,174,32,175],[32,178,32,179],[32,134,32,135],[32,138,32,139],[32,142,32,143],[32,146,32,147],[32,150,32,151],[32,154,32,155],[32,110,32,111],[32,114,32,115],[32,118,32,119],[32,122,32,123],[32,126,32,127],[32,130,32,131],[32,86,32,87],[32,90,32,91],[32,94,32,95],[32,98,32,99],[32,102,32,103],[32,106,32,107],[32,62,32,63],[32,66,32,67],[32,70,32,71],[32,74,32,75],[32,78,32,79],[32,82,32,83],[32,38,32,39],[32,42,32,43],[32,46,32,47],[32,50,32,51],[32,54,32,55],[32,58,32,59],[31,338,31,339],[32,2,32,3],[32,6,32,7],[32,10,32,11],[32,14,32,15],[32,18,32,19],[32,22,32,23],[32,26,32,27],[32,30,32,31],[32,34,32,35],[31,314,31,315],[31,318,31,319],[31,322,31,323],[31,326,31,327],[31,330,31,331],[31,334,31,335],[31,290,31,291],[31,294,31,295],[31,298,31,299],[31,302,31,303],[31,306,31,307],[31,310,31,311],[31,266,31,267],[31,270,31,271],[31,274,31,275],[31,278,31,279],[31,282,31,283],[31,286,31,287],[31,242,31,243],[31,246,31,247],[31,250,31,251],[31,254,31,255],[31,258,31,259],[31,262,31,263],[31,218,31,219],[31,222,31,223],[31,226,31,227],[31,230,31,231],[31,234,31,235],[31,238,31,239],[31,194,31,195],[31,198,31,199],[31,202,31,203],[31,206,31,207],[31,210,31,211],[31,214,31,215],[31,170,31,171],[31,174,31,175],[31,178,31,179],[31,182,31,183],[31,186,31,187],[31,190,31,191],[31,146,31,147],[31,150,31,151],[31,154,31,155],[31,158,31,159],[31,162,31,163],[31,166,31,167],[31,122,31,123],[31,126,31,127],[31,130,31,131],[31,134,31,135],[31,138,31,139],[31,142,31,143],[31,98,31,99],[31,102,31,103],[31,106,31,107],[31,110,31,111],[31,114,31,115],[31,118,31,119],[31,74,31,75],[31,78,31,79],[31,82,31,83],[31,86,31,87],[31,90,31,91],[31,94,31,95],[31,50,31,51],[31,54,31,55],[31,58,31,59],[31,62,31,63],[31,66,31,67],[31,70,31,71],[31,26,31,27],[31,30,31,31],[31,34,31,35],[31,38,31,39],[31,42,31,43],[31,46,31,47],[30,326,30,327],[30,330,30,331],[30,334,30,335],[30,338,30,339],[31,2,31,3],[31,6,31,7],[31,10,31,11],[31,14,31,15],[31,18,31,19],[31,22,31,23],[30,302,30,303],[30,306,30,307],[30,310,30,311],[30,314,30,315],[30,318,30,319],[30,322,30,323],[30,278,30,279],[30,282,30,283],[30,286,30,287],[30,290,30,291],[30,294,30,295],[30,298,30,299],[30,254,30,255],[30,258,30,259],[30,262,30,263],[30,266,30,267],[30,270,30,271],[30,274,30,275],[30,230,30,231],[30,234,30,235],[30,238,30,239],[30,242,30,243],[30,246,30,247],[30,250,30,251],[30,206,30,207],[30,210,30,211],[30,214,30,215],[30,218,30,219],[30,222,30,223],[30,226,30,227],[30,182,30,183],[30,186,30,187],[30,190,30,191],[30,194,30,195],[30,198,30,199],[30,202,30,203],[30,158,30,159],[30,162,30,163],[30,166,30,167],[30,170,30,171],[30,174,30,175],[30,178,30,179],[30,134,30,135],[30,138,30,139],[30,142,30,143],[30,146,30,147],[30,150,30,151],[30,154,30,155],[30,110,30,111],[30,114,30,115],[30,118,30,119],[30,122,30,123],[30,126,30,127],[30,130,30,131],[30,86,30,87],[30,90,30,91],[30,94,30,95],[30,98,30,99],[30,102,30,103],[30,106,30,107],[30,62,30,63],[30,66,30,67],[30,70,30,71],[30,74,30,75],[30,78,30,79],[30,82,30,83],[30,38,30,39],[30,42,30,43],[30,46,30,47],[30,50,30,51],[30,54,30,55],[30,58,30,59],[30,2,30,3],[30,6,30,7],[30,10,30,11],[30,14,30,15],[30,18,30,19],[30,22,30,23],[30,26,30,27],[30,30,30,31],[30,34,30,35],[29,314,29,315],[29,318,29,319],[29,322,29,323],[29,326,29,327],[29,330,29,331],[29,334,29,335],[29,290,29,291],[29,294,29,295],[29,298,29,299],[29,302,29,303],[29,306,29,307],[29,310,29,311],[29,266,29,267],[29,270,29,271],[29,274,29,275],[29,278,29,279],[29,282,29,283],[29,286,29,287],[29,242,29,243],[29,246,29,247],[29,250,29,251],[29,254,29,255],[29,258,29,259],[29,262,29,263],[29,218,29,219],[29,222,29,223],[29,226,29,227],[29,230,29,231],[29,234,29,235],[29,238,29,239],[29,194,29,195],[29,198,29,199],[29,202,29,203],[29,206,29,207],[29,210,29,211],[29,214,29,215],[29,170,29,171],[29,174,29,175],[29,178,29,179],[29,182,29,183],[29,186,29,187],[29,190,29,191],[29,146,29,147],[29,150,29,151],[29,154,29,155],[29,158,29,159],[29,162,29,163],[29,166,29,167],[29,122,29,123],[29,126,29,127],[29,130,29,131],[29,134,29,135],[29,138,29,139],[29,142,29,143],[29,98,29,99],[29,102,29,103],[29,106,29,107],[29,110,29,111],[29,114,29,115],[29,118,29,119],[29,74,29,75],[29,78,29,79],[29,82,29,83],[29,86,29,87],[29,90,29,91],[29,94,29,95],[29,50,29,51],[29,54,29,55],[29,58,29,59],[29,62,29,63],[29,66,29,67],[29,70,29,71],[29,26,29,27],[29,30,29,31],[29,34,29,35],[29,38,29,39],[29,42,29,43],[29,46,29,47],[29,2,29,3],[29,6,29,7],[29,10,29,11],[29,14,29,15],[29,18,29,19],[29,22,29,23],[28,318,28,319],[28,322,28,323],[28,326,28,327],[28,330,28,331],[28,334,28,335],[28,338,28,339],[28,294,28,295],[28,298,28,299],[28,302,28,303],[28,306,28,307],[28,310,28,311],[28,314,28,315],[28,270,28,271],[28,274,28,275],[28,278,28,279],[28,282,28,283],[28,286,28,287],[28,290,28,291],[28,246,28,247],[28,250,28,251],[28,254,28,255],[28,258,28,259],[28,262,28,263],[28,266,28,267],[28,222,28,223],[28,226,28,227],[28,230,28,231],[28,234,28,235],[28,238,28,239],[28,242,28,243],[28,198,28,199],[28,202,28,203],[28,206,28,207],[28,210,28,211],[28,214,28,215],[28,218,28,219],[28,174,28,175],[28,178,28,179],[28,182,28,183],[28,186,28,187],[28,190,28,191],[28,194,28,195],[28,150,28,151],[28,154,28,155],[28,158,28,159],[28,162,28,163],[28,166,28,167],[28,170,28,171],[28,126,28,127],[28,130,28,131],[28,134,28,135],[28,138,28,139],[28,142,28,143],[28,146,28,147],[28,102,28,103],[28,106,28,107],[28,110,28,111],[28,114,28,115],[28,118,28,119],[28,122,28,123],[28,78,28,79],[28,82,28,83],[28,86,28,87],[28,90,28,91],[28,94,28,95],[28,98,28,99],[28,54,28,55],[28,58,28,59],[28,62,28,63],[28,66,28,67],[28,70,28,71],[28,74,28,75],[28,30,28,31],[28,34,28,35],[28,38,28,39],[28,42,28,43],[28,46,28,47],[28,50,28,51],[27,334,27,337],[27,338,27,341],[28,1,34,1],[28,2,28,3],[28,6,28,7],[28,10,28,11],[28,14,28,15],[28,18,28,19],[28,22,28,23],[28,26,28,27],[27,310,27,313],[27,314,27,317],[27,318,27,321],[27,322,27,325],[27,326,27,329],[27,330,27,333],[27,286,27,289],[27,290,27,293],[27,294,27,297],[27,298,27,301],[27,302,27,305],[27,306,27,309],[27,262,27,265],[27,266,27,269],[27,270,27,273],[27,274,27,277],[27,278,27,281],[27,282,27,285],[27,238,27,241],[27,242,27,245],[27,246,27,249],[27,250,27,253],[27,254,27,257],[27,258,27,261],[27,214,27,217],[27,218,27,221],[27,222,27,225],[27,226,27,229],[27,230,27,233],[27,234,27,237],[27,190,27,193],[27,194,27,197],[27,198,27,201],[27,202,27,205],[27,206,27,209],[27,210,27,213],[27,166,27,169],[27,170,27,173],[27,174,27,177],[27,178,27,181],[27,182,27,185],[27,186,27,189],[27,142,27,145],[27,146,27,149],[27,150,27,153],[27,154,27,157],[27,158,27,161],[27,162,27,165],[27,118,27,121],[27,122,27,125],[27,126,27,129],[27,130,27,133],[27,134,27,137],[27,138,27,141],[27,94,27,97],[27,98,27,101],[27,102,27,105],[27,106,27,109],[27,110,27,113],[27,114,27,117],[27,70,27,73],[27,74,27,77],[27,78,27,81],[27,82,27,85],[27,86,27,89],[27,90,27,93],[27,46,27,49],[27,50,27,53],[27,54,27,57],[27,58,27,61],[27,62,27,65],[27,66,27,69],[27,22,27,25],[27,26,27,29],[27,30,27,33],[27,34,27,37],[27,38,27,41],[27,42,27,45],[26,322,26,325],[26,326,26,329],[26,330,26,333],[26,334,26,337],[26,338,26,341],[26,214,26,217],[26,218,26,221],[26,222,26,225],[26,178,26,181],[26,182,26,185],[26,186,26,189],[26,190,26,193],[26,194,26,197],[26,198,26,201],[26,154,26,157],[26,158,26,161],[26,162,26,165],[26,166,26,169],[26,170,26,173],[26,174,26,177],[27,2,27,5],[27,6,27,9],[27,10,27,13],[27,14,27,17],[27,18,27,21],[26,298,26,301],[26,302,26,305],[26,306,26,309],[26,310,26,313],[26,314,26,317],[26,318,26,321],[26,274,26,277],[26,278,26,281],[26,282,26,285],[26,286,26,289],[26,290,26,293],[26,294,26,297],[26,250,26,253],[26,254,26,257],[26,258,26,261],[26,262,26,265],[26,266,26,269],[26,270,26,273],[26,226,26,229],[26,230,26,233],[26,234,26,237],[26,238,26,241],[26,242,26,245],[26,246,26,249],[26,202,26,205],[26,206,26,209],[26,210,26,213],[26,130,26,133],[26,134,26,137],[26,138,26,141],[26,142,26,145],[26,146,26,149],[26,150,26,153],[26,106,26,109],[26,110,26,113],[26,114,26,117],[26,118,26,121],[26,122,26,125],[26,126,26,129],[26,82,26,85],[26,86,26,89],[26,90,26,93],[26,94,26,97],[26,98,26,101],[26,102,26,105],[26,58,26,61],[26,62,26,65],[26,66,26,69],[26,70,26,73],[26,74,26,77],[26,78,26,81],[26,34,26,37],[26,38,26,41],[26,42,26,45],[26,46,26,49],[26,50,26,53],[26,54,26,57],[25,334,25,337],[25,338,25,341],[26,2,26,5],[26,6,26,9],[26,10,26,13],[26,14,26,17],[26,18,26,21],[26,22,26,25],[26,26,26,29],[26,30,26,33],[25,310,25,313],[25,314,25,317],[25,318,25,321],[25,322,25,325],[25,326,25,329],[25,330,25,333],[25,286,25,289],[25,290,25,293],[25,294,25,297],[25,298,25,301],[25,302,25,305],[25,306,25,309],[25,262,25,265],[25,266,25,269],[25,270,25,273],[25,274,25,277],[25,278,25,281],[25,282,25,285],[25,238,25,241],[25,242,25,245],[25,246,25,249],[25,250,25,253],[25,254,25,257],[25,258,25,261],[25,214,25,217],[25,218,25,221],[25,222,25,225],[25,226,25,229],[25,230,25,233],[25,234,25,237],[25,190,25,193],[25,194,25,197],[25,198,25,201],[25,202,25,205],[25,206,25,209],[25,210,25,213],[25,166,25,169],[25,170,25,173],[25,174,25,177],[25,178,25,181],[25,182,25,185],[25,186,25,189],[25,142,25,145],[25,146,25,149],[25,150,25,153],[25,154,25,157],[25,158,25,161],[25,162,25,165],[25,118,25,121],[25,122,25,125],[25,126,25,129],[25,130,25,133],[25,134,25,137],[25,138,25,141],[25,94,25,97],[25,98,25,101],[25,102,25,105],[25,106,25,109],[25,110,25,113],[25,114,25,117],[25,70,25,73],[25,74,25,77],[25,78,25,81],[25,82,25,85],[25,86,25,89]],"merged_total":2907,"flags":["merged_cut"]}
[]
[null,null,"２学期",null,null,null,null,null,null,null,null,null,null,null,null,null,null,null,null,null,null,null,"２学期",null,null,null,null,null,null,null,null,null,null,null,null,null,null,null,null,null,null,null,"２学期",null,null,null,null,null,null,null,null,null,null,null,null,null,null,null,null,null,null,null,"２学期",null,null,null,null,null,null,null,null,null,null,null,null,null,null,null,null,null,null,null,"２学期",null,null,null,null,null,null,null,null,null,null,null,null,null,null,null,null,null,null,null,"２学期",null,null,null,null,null,null,null,null,null,null,null,null,null,null,null,null,null,null,null,"２学期",null,null,null,null,null,null,null,null,null,null,null,null,null,null,null,null,null,null,null,"２学期",null,null,null,null,null,null,null,null,null,null,null,null,null,null,null,null,null,null,null,"２学期",null,null,null,null,null,null,null,null,null,null,null,null,null,null,null,null,null,null,null,"２学期",null,null,null,null,null,null,null,null,null,null,null,null,null,null,null,null,null,null,null,"２学期",null,null,null,null,null,null,null,null,null,null,null,null,null,null,null,null,null,null,null,"２学期",null,null,null,null,null,null,null,null,null,null,null,null,null,null,null,null,null,null,null,"２学期",null,null,null,null,null,null,null,null,null,null,null,null,null,null,null,null,null,null,null,"２学期",null,null,null,null,null,null,null,null,null,null,null,null,null,null,null,null,null,null,null,"２学期",null,null,null,null,null,null,null,null,null,null,null,null,null,null,null,null,null,null,null,"２学期",null,null,null,null,null,null,null,null,null,null,null,null,null,null,null,null,null,null,null,"２学期",null,null,null,null,null,null,null,null,null,null,null,null,null,null,null,null,null,null,null,"２学期"]
[null,null,null,"第１週",null,null,null,{"$f":"'１学期'!H3","v":"校長　　　　　教頭　　　　　教務主任　　　　　担任"},null,null,null,null,null,null,null,null,null,null,null,null,null,null,null,"第２週",null,null,null,null,{"$f":"$H$3","v":"校長　　　　　教頭　　　　　教務主任　　　　　担任"},null,null,null,null,null,null,null,null,null,null,null,null,null,null,"第３週",null,null,null,null,{"$f":"$H$3","v":"校長　　　　　教頭　　　　　教務主任　　　　　担任"},null,null,null,null,null,null,null,null,null,null,null,null,null,null,"第４週",null,null,null,null,{"$f":"$H$3","v":"校長　　　　　教頭　　　　　教務主任　　　　　担任"},null,null,null,null,null,null,null,null,null,null,null,null,null,null,"第５週",null,null,null,null,{"$f":"$H$3","v":"校長　　　　　教頭　　　　　教務主任　　　　　担任"},null,null,null,null,null,null,null,null,null,null,null,null,null,null,"第６週",null,null,null,null,{"$f":"$H$3","v":"校長　　　　　教頭　　　　　教務主任　　　　　担任"},null,null,null,null,null,null,null,null,null,null,null,null,null,null,"第７週",null,null,null,null,{"$f":"$H$3","v":"校長　　　　　教頭　　　　　教務主任　　　　　担任"},null,null,null,null,null,null,null,null,null,null,null,null,null,null,"第８週",null,null,null,null,{"$f":"$H$3","v":"校長　　　　　教頭　　　　　教務主任　　　　　担任"},null,null,null,null,null,null,null,null,null,null,null,null,null,null,"第９週",null,null,null,null,{"$f":"$H$3","v":"校長　　　　　教頭　　　　　教務主任　　　　　担任"},null,null,null,null,null,null,null,null,null,null,null,null,null,null,"第10週",null,null,null,null,{"$f":"$H$3","v":"校長　　　　　教頭　　　　　教務主任　　　　　担任"},null,null,null,null,null,null,null,null,null,null,null,null,null,null,"第11週",null,null,null,null,{"$f":"$H$3","v":"校長　　　　　教頭　　　　　教務主任　　　　　担任"},null,null,null,null,null,null,null,null,null,null,null,null,null,null,"第12週",null,null,null,null,{"$f":"$H$3","v":"校長　　　　　教頭　　　　　教務主任　　　　　担任"},null,null,null,null,null,null,null,null,null,null,null,null,null,null,"第13週",null,null,null,null,{"$f":"$H$3","v":"校長　　　　　教頭　　　　　教務主任　　　　　担任"},null,null,null,null,null,null,null,null,null,null,null,null,null,null,"第14週",null,null,null,null,{"$f":"$H$3","v":"校長　　　　　教頭　　　　　教務主任　　　　　担任"},null,null,null,null,null,null,null,null,null,null,null,null,null,null,"第15週",null,null,null,null,{"$f":"$H$3","v":"校長　　　　　教頭　　　　　教務主任　　　　　担任"},null,null,null,null,null,null,null,null,null,null,null,null,null,null,"第16週",null,null,null,null,{"$f":"$H$3","v":"校長　　　　　教頭　　　　　教務主任　　　　　担任"},null,null,null,null,null,null,null,null,null,null,null,null,null,null,"第17週",null,null,null,null,{"$f":"$H$3","v":"校長　　　　　教頭　　　　　教務主任　　　　　担任"},null,null,null,null,null,null,null,null,null,null,null,null,null,null,"第17週",null,null,null,null,{"$f":"$H$3","v":"校長　　　　　教頭　　　　　教務主任　　　　　担任"}]
[null,null,"1900-09-03",null,null,null,"1900-09-04",null,null,null,"1900-09-05",null,null,null,"1900-09-06",null,null,null,"1900-09-07",null,null,null,"1900-09-10",null,null,null,"1900-09-11",null,null,null,"1900-09-12",null,null,null,"1900-09-13",null,null,null,"1900-09-14",null,null,null,"1900-09-17",null,null,null,"1900-09-18",null,null,null,"1900-09-19",null,null,null,"1900-09-20",null,null,null,"1900-09-21",null,null,null,"1900-09-24",null,null,null,"1900-09-25",null,null,null,"1900-09-26",null,null,null,"1900-09-27",null,null,null,"1900-09-28",null,null,null,"1900-10-01",null,null,null,"1900-10-02",null,null,null,"1900-10-03",null,null,null,"1900-10-04",null,null,null,"1900-10-05",null,null,null,"1900-10-08",null,null,null,"1900-10-09",null,null,null,"1900-10-10",null,null,null,"1900-10-11",null,null,null,"1900-10-12",null,null,null,"1900-10-15",null,null,null,"1900-10-16",null,null,null,"1900-10-17",null,null,null,"1900-10-18",null,null,null,"1900-10-19",null,null,null,"1900-10-22",null,null,null,"1900-10-23",null,null,null,"1900-10-24",null,null,null,"1900-10-25",null,null,null,"1900-10-26",null,null,null,"1900-10-29",null,null,null,"1900-10-30",null,null,null,"1900-10-31",null,null,null,"1900-11-01",null,null,null,"1900-11-02",null,null,null,"1900-11-05",null,null,null,"1900-11-06",null,null,null,"1900-11-07",null,null,null,"1900-11-08",null,null,null,"1900-11-09",null,null,null,"1900-11-12",null,null,null,"1900-11-13",null,null,null,"1900-11-14",null,null,null,"1900-11-15",null,null,null,"1900-11-16",null,null,null,"1900-11-19",null,null,null,"1900-11-20",null,null,null,"1900-11-21",null,null,null,"1900-11-22",null,null,null,"1900-11-23",null,null,null,"1900-11-26",null,null,null,"1900-11-27",null,null,null,"1900-11-28",null,null,null,"1900-11-29",null,null,null,"1900-11-30",null,null,null,"1900-12-03",null,null,null,"1900-12-04",null,null,null,"1900-12-05",null,null,null,"1900-12-06",null,null,null,"1900-12-07",null,null,null,"1900-12-10",null,null,null,"1900-12-11",null,null,null,"1900-12-12",null,null,null,"1900-12-13",null,null,null,"1900-12-14",null,null,null,"1900-12-17",null,null,null,"1900-12-18",null,null,null,"1900-12-19",null,null,null,"1900-12-20",null,null,null,"1900-12-21",null,null,null,"1900-12-24",null,null,null,"1900-12-25",null,null,null,"1900-12-26",null,null,null,"1900-12-27",null,null,null,"1900-12-28",null,null,null,"1900-12-31",null,null,null,"1901-01-01",null,null,null,"1901-01-02",null,null,null,"1901-01-03",null,null,null,"1901-01-04"]
[null,null,"月",null,null,null,"火",null,null,null,"水",null,null,null,"木",null,null,null,"金",null,null,null,"月",null,null,null,"火",null,null,null,"水",null,null,null,"木",null,null,null,"金",null,null,null,"月",null,null,null,"火",null,null,null,"水",null,null,null,"木",null,null,null,"金",null,null,null,"月",null,null,null,"火",null,null,null,"水",null,null,null,"木",null,null,null,"金",null,null,null,"月",null,null,null,"火",null,null,null,"水",null,null,null,"木",null,null,null,"金",null,null,null,"月",null,null,null,"火",null,null,null,"水",null,null,null,"木",null,null,null,"金",null,null,null,"月",null,null,null,"火",null,null,null,"水",null,null,null,"木",null,null,null,"金",null,null,null,"月",null,null,null,"火",null,null,null,"水",null,null,null,"木",null,null,null,"金",null,null,null,"月",null,null,null,"火",null,null,null,"水",null,null,null,"木",null,null,null,"金",null,null,null,"月",null,null,null,"火",null,null,null,"水",null,null,null,"木",null,null,null,"金",null,null,null,"月",null,null,null,"火",null,null,null,"水",null,null,null,"木",null,null,null,"金",null,null,null,"月",null,null,null,"火",null,null,null,"水",null,null,null,"木",null,null,null,"金",null,null,null,"月",null,null,null,"火",null,null,null,"水",null,null,null,"木",null,null,null,"金",null,null,null,"月",null,null,null,"火",null,null,null,"水",null,null,null,"木",null,null,null,"金",null,null,null,"月",null,null,null,"火",null,null,null,"水",null,null,null,"木",null,null,null,"金",null,null,null,"月",null,null,null,"火",null,null,null,"水",null,null,null,"木",null,null,null,"金",null,null,null,"月",null,null,null,"火",null,null,null,"水",null,null,null,"木",null,null,null,"金",null,null,null,"月",null,null,null,"火",null,null,null,"水",null,null,null,"木",null,null,null,"金"]
[null,"前"]
[null,1]
[]
[]
[null,2]
[]
[]
[null,3]
[]
[]
[null,4]
[]
[]
[null,5]
[]
[]
[null,6]
[]
[]
[null,"後"]
[null,"備考"]
[]
[]
[null,"時間数集計","授業",null,"実施","累計","授業",null,"実施","累計","授業",null,"実施","累計","授業",null,"実施","累計",null,null,"実施","累計","授業",null,"実施","累計","授業",null,"実施","累計","授業",null,"実施","累計","授業",null,"実施","累計",null,null,"実施","累計","授業",null,"実施","累計","授業",null,"実施","累計","授業",null,"実施","累計","授業",null,"実施","累計",null,null,"実施","累計","授業",null,"実施","累計","授業",null,"実施","累計","授業",null,"実施","累計","授業",null,"実施","累計",null,null,"実施","累計","授業",null,"実施","累計","授業",null,"実施","累計","授業",null,"実施","累計","授業",null,"実施","累計",null,null,"実施","累計","授業",null,"実施","累計","授業",null,"実施","累計","授業",null,"実施","累計","授業",null,"実施","累計",null,null,"実施","累計","授業",null,"実施","累計","授業",null,"実施","累計","授業",null,"実施","累計","授業",null,"実施","累計",null,null,"実施","累計","授業",null,"実施","累計","授業",null,"実施","累計","授業",null,"実施","累計","授業",null,"実施","累計",null,null,"実施","累計","授業",null,"実施","累計","授業",null,"実施","累計","授業",null,"実施","累計","授業",null,"実施","累計",null,null,"実施","累計","授業",null,"実施","累計","授業",null,"実施","累計","授業",null,"実施","累計","授業",null,"実施","累計",null,null,"実施","累計","授業",null,"実施","累計","授業",null,"実施","累計","授業",null,"実施","累計","授業",null,"実施","累計",null,null,"実施","累計","授業",null,"実施","累計","授業",null,"実施","累計","授業",null,"実施","累計","授業",null,"実施","累計",null,null,"実施","累計","授業",null,"実施","累計","授業",null,"実施","累計","授業",null,"実施","累計","授業",null,"実施","累計",null,null,"実施","累計","授業",null,"実施","累計","授業",null,"実施","累計","授業",null,"実施","累計","授業",null,"実施","累計",null,null,"実施","累計","授業",null,"実施","累計","授業",null,"実施","累計","授業",null,"実施","累計","授業",null,"実施","累計",null,null,"実施","累計","授業",null,"実施","累計","授業",null,"実施","累計","授業",null,"実施","累計","授業",null,"実施","累計",null,null,"実施","累計","授業",null,"実施","累計","授業",null,"実施","累計","授業",null,"実施","累計","授業",null,"実施","累計",null,null,"実施","累計","授業",null,"実施","累計","授業",null,"実施","累計","授業",null,"実施","累計","授業",null,"実施","累計",null,null,"実施","累計"]
[null,null,{"$f":"IF(COUNTIF(処理!$J$2:$J$25,0)>0,処理!H2,\"\")","v":""},null,{"$f":"IF(LEN(C30)=0,\"\",(COUNTIF(C$6:V$7,C30)+COUNTIF(C$10:V$10,C30)+COUNTIF(C$13:V$13,C30)+COUNTIF(C$16:V$16,C30)+COUNTIF(C$19:V$19,C30)+COUNTIF(C$22:V$22,C30)+COUNTIF(C$25:V$25,C30))/設定!$D21+IFERROR((COUNTIF(C$6:V$7,処理!$L2)+COUNTIF(C$10:V$10,処理!$L2)+COUNTIF(C$13:V$13,処理!$L2)+COUNTIF(C$16:V$16,処理!$L2)+COUNTIF(C$19:V$19,処理!$L2)+COUNTIF(C$22:V$22,処理!$L2)+COUNTIF(C$25:V$25,処理!$L2))/処理!$M2,0))","v":""},{"$f":"E30","v":""},{"$f":"IF(COUNTIF(処理!$J$2:$J$25,6)>0,処理!H8,\"\")","v":""},null,{"$f":"IF(LEN(G30)=0,\"\",(COUNTIF(C$6:V$7,G30)+COUNTIF(C$10:V$10,G30)+COUNTIF(C$13:V$13,G30)+COUNTIF(C$16:V$16,G30)+COUNTIF(C$19:V$19,G30)+COUNTIF(C$22:V$22,G30)+COUNTIF(C$25:V$25,G30))/設定!$G21+IFERROR((COUNTIF(C$6:V$7,処理!$L8)+COUNTIF(C$10:V$10,処理!$L8)+COUNTIF(C$13:V$13,処理!$L8)+COUNTIF(C$16:V$16,処理!$L8)+COUNTIF(C$19:V$19,処理!$L8)+COUNTIF(C$22:V$22,処理!$L8)+COUNTIF(C$25:V$25,処理!$L8))/処理!$M8,0))","v":""},{"$f":"I30","v":""},{"$f":"IF(COUNTIF(処理!$J$2:$J$25,12)>0,処理!H14,\"\")","v":""},null,{"$f":"IF(LEN(K30)=0,\"\",(COUNTIF(C$6:V$7,K30)+COUNTIF(C$10:V$10,K30)+COUNTIF(C$13:V$13,K30)+COUNTIF(C$16:V$16,K30)+COUNTIF(C$19:V$19,K30)+COUNTIF(C$22:V$22,K30)+COUNTIF(C$25:V$25,K30))/設定!$J21+IFERROR((COUNTIF(C$6:V$7,処理!$L14)+COUNTIF(C$10:V$10,処理!$L14)+COUNTIF(C$13:V$13,処理!$L14)+COUNTIF(C$16:V$16,処理!$L14)+COUNTIF(C$19:V$19,処理!$L14)+COUNTIF(C$22:V$22,処理!$L14)+COUNTIF(C$25:V$25,処理!$L14))/処理!$M14,0))","v":""},{"$f":"M30","v":""},{"$f":"IF(COUNTIF(処理!$J$2:$J$25,18)>0,処理!H20,\"\")","v":""},null,{"$f":"IF(LEN(O30)=0,\"\",(COUNTIF(C$6:V$7,O30)+COUNTIF(C$10:V$10,O30)+COUNTIF(C$13:V$13,O30)+COUNTIF(C$16:V$16,O30)+COUNTIF(C$19:V$19,O30)+COUNTIF(C$22:V$22,O30)+COUNTIF(C$25:V$25,O30))/設定!$M21+IFERROR((COUNTIF(C$6:V$7,処理!$L20)+COUNTIF(C$10:V$10,処理!$L20)+COUNTIF(C$13:V$13,処理!$L20)+COUNTIF(C$16:V$16,処理!$L20)+COUNTIF(C$19:V$19,処理!$L20)+COUNTIF(C$22:V$22,処理!$L20)+COUNTIF(C$25:V$25,処理!$L20))/処理!$M20,0))","v":""},{"$f":"Q30","v":""},"授業合計",null,{"$f":"SUM(E30:E35,I30:I35,M30:M35,Q30:Q35)","v":0},{"$f":"U30","v":0},{"$f":"$C$30","v":""},null,{"$f":"IF(LEN(W30)=0,\"\",(COUNTIF(W$6:AP$7,W30)+COUNTIF(W$10:AP$10,W30)+COUNTIF(W$13:AP$13,W30)+COUNTIF(W$16:AP$16,W30)+COUNTIF(W$19:AP$19,W30)+COUNTIF(W$22:AP$22,W30)+COUNTIF(W$25:AP$25,W30))/設定!$D21+IFERROR((COUNTIF(W$6:AP$7,処理!$L2)+COUNTIF(W$10:AP$10,処理!$L2)+COUNTIF(W$13:AP$13,処理!$L2)+COUNTIF(W$16:AP$16,処理!$L2)+COUNTIF(W$19:AP$19,処理!$L2)+COUNTIF(W$22:AP$22,処理!$L2)+COUNTIF(W$25:AP$25,処理!$L2))/処理!$M2,0))","v":""},{"$f":"IF(LEN(W30)=0,\"\",SUM(F30,Y30))","v":""},{"$f":"$G$30","v":""},null,{"$f":"IF(LEN(AA30)=0,\"\",(COUNTIF(W$6:AP$7,AA30)+COUNTIF(W$10:AP$10,AA30)+COUNTIF(W$13:AP$13,AA30)+COUNTIF(W$16:AP$16,AA30)+COUNTIF(W$19:AP$19,AA30)+COUNTIF(W$22:AP$22,AA30)+COUNTIF(W$25:AP$25,AA30))/設定!$G21+IFERROR((COUNTIF(W$6:AP$7,処理!$L8)+COUNTIF(W$10:AP$10,処理!$L8)+COUNTIF(W$13:AP$13,処理!$L8)+COUNTIF(W$16:AP$16,処理!$L8)+COUNTIF(W$19:AP$19,処理!$L8)+COUNTIF(W$22:AP$22,処理!$L8)+COUNTIF(W$25:AP$25,処理!$L8))/処理!$M8,0))","v":""},{"$f":"IF(LEN(AA30)=0,\"\",SUM(J30,AC30))","v":""},{"$f":"$K$30","v":""},null,{"$f":"IF(LEN(AE30)=0,\"\",(COUNTIF(W$6:AP$7,AE30)+COUNTIF(W$10:AP$10,AE30)+COUNTIF(W$13:AP$13,AE30)+COUNTIF(W$16:AP$16,AE30)+COUNTIF(W$19:AP$19,AE30)+COUNTIF(W$22:AP$22,AE30)+COUNTIF(W$25:AP$25,AE30))/設定!$J21+IFERROR((COUNTIF(W$6:AP$7,処理!$L14)+COUNTIF(W$10:AP$10,処理!$L14)+COUNTIF(W$13:AP$13,処理!$L14)+COUNTIF(W$16:AP$16,処理!$L14)+COUNTIF(W$19:AP$19,処理!$L14)+COUNTIF(W$22:AP$22,処理!$L14)+COUNTIF(W$25:AP$25,処理!$L14))/処理!$M14,0))","v":""},{"$f":"IF(LEN(AE30)=0,\"\",SUM(N30,AG30))","v":""},{"$f":"$O$30","v":""},null,{"$f":"IF(LEN(AI30)=0,\"\",(COUNTIF(W$6:AP$7,AI30)+COUNTIF(W$10:AP$10,AI30)+COUNTIF(W$13:AP$13,AI30)+COUNTIF(W$16:AP$16,AI30)+COUNTIF(W$19:AP$19,AI30)+COUNTIF(W$22:AP$22,AI30)+COUNTIF(W$25:AP$25,AI30))/設定!$M21+IFERROR((COUNTIF(W$6:AP$7,処理!$L20)+COUNTIF(W$10:AP$10,処理!$L20)+COUNTIF(W$13:AP$13,処理!$L20)+COUNTIF(W$16:AP$16,処理!$L20)+COUNTIF(W$19:AP$19,処理!$L20)+COUNTIF(W$22:AP$22,処理!$L20)+COUNTIF(W$25:AP$25,処理!$L20))/処理!$M20,0))","v":""},{"$f":"IF(LEN(AI30)=0,\"\",SUM(R30,AK30))","v":""},"授業合計",null,{"$f":"SUM(Y30:Y35,AC30:AC35,AG30:AG35,AK30:AK35)","v":0},{"$f":"IF(LEN(AM30)=0,\"\",SUM(V30,AO30))","v":0},{"$f":"$C$30","v":""},null,{"$f":"IF(LEN(AQ30)=0,\"\",(COUNTIF(AQ$6:BJ$7,AQ30)+COUNTIF(AQ$10:BJ$10,AQ30)+COUNTIF(AQ$13:BJ$13,AQ30)+COUNTIF(AQ$16:BJ$16,AQ30)+COUNTIF(AQ$19:BJ$19,AQ30)+COUNTIF(AQ$22:BJ$22,AQ30)+COUNTIF(AQ$25:BJ$25,AQ30))/設定!$D21+IFERROR((COUNTIF(AQ$6:BJ$7,処理!$L2)+COUNTIF(AQ$10:BJ$10,処理!$L2)+COUNTIF(AQ$13:BJ$13,処理!$L2)+COUNTIF(AQ$16:BJ$16,処理!$L2)+COUNTIF(AQ$19:BJ$19,処理!$L2)+COUNTIF(AQ$22:BJ$22,処理!$L2)+COUNTIF(AQ$25:BJ$25,処理!$L2))/処理!$M2,0))","v":""},{"$f":"IF(LEN(AQ30)=0,\"\",SUM(Z30,AS30))","v":""},{"$f":"$G$30","v":""},null,{"$f":"IF(LEN(AU30)=0,\"\",(COUNTIF(AQ$6:BJ$7,AU30)+COUNTIF(AQ$10:BJ$10,AU30)+COUNTIF(AQ$13:BJ$13,AU30)+COUNTIF(AQ$16:BJ$16,AU30)+COUNTIF(AQ$19:BJ$19,AU30)+COUNTIF(AQ$22:BJ$22,AU30)+COUNTIF(AQ$25:BJ$25,AU30))/設定!$G21+IFERROR((COUNTIF(AQ$6:BJ$7,処理!$L8)+COUNTIF(AQ$10:BJ$10,処理!$L8)+COUNTIF(AQ$13:BJ$13,処理!$L8)+COUNTIF(AQ$16:BJ$16,処理!$L8)+COUNTIF(AQ$19:BJ$19,処理!$L8)+COUNTIF(AQ$22:BJ$22,処理!$L8)+COUNTIF(AQ$25:BJ$25,処理!$L8))/処理!$M8,0))","v":""},{"$f":"IF(LEN(AU30)=0,\"\",SUM(AD30,AW30))","v":""},{"$f":"$K$30","v":""},null,{"$f":"IF(LEN(AY30)=0,\"\",(COUNTIF(AQ$6:BJ$7,AY30)+COUNTIF(AQ$10:BJ$10,AY30)+COUNTIF(AQ$13:BJ$13,AY30)+COUNTIF(AQ$16:BJ$16,AY30)+COUNTIF(AQ$19:BJ$19,AY30)+COUNTIF(AQ$22:BJ$22,AY30)+COUNTIF(AQ$25:BJ$25,AY30))/設定!$J21+IFERROR((COUNTIF(AQ$6:BJ$7,処理!$L14)+COUNTIF(AQ$10:BJ$10,処理!$L14)+COUNTIF(AQ$13:BJ$13,処理!$L14)+COUNTIF(AQ$16:BJ$16,処理!$L14)+COUNTIF(AQ$19:BJ$19,処理!$L14)+COUNTIF(AQ$22:BJ$22,処理!$L14)+COUNTIF(AQ$25:BJ$25,処理!$L14))/処理!$M14,0))","v":""},{"$f":"IF(LEN(AY30)=0,\"\",SUM(AH30,BA30))","v":""},{"$f":"$O$30","v":""},null,{"$f":"IF(LEN(BC30)=0,\"\",(COUNTIF(AQ$6:BJ$7,BC30)+COUNTIF(AQ$10:BJ$10,BC30)+COUNTIF(AQ$13:BJ$13,BC30)+COUNTIF(AQ$16:BJ$16,BC30)+COUNTIF(AQ$19:BJ$19,BC30)+COUNTIF(AQ$22:BJ$22,BC30)+COUNTIF(AQ$25:BJ$25,BC30))/設定!$M21+IFERROR((COUNTIF(AQ$6:BJ$7,処理!$L20)+COUNTIF(AQ$10:BJ$10,処理!$L20)+COUNTIF(AQ$13:BJ$13,処理!$L20)+COUNTIF(AQ$16:BJ$16,処理!$L20)+COUNTIF(AQ$19:BJ$19,処理!$L20)+COUNTIF(AQ$22:BJ$22,処理!$L20)+COUNTIF(AQ$25:BJ$25,処理!$L20))/処理!$M20,0))","v":""},{"$f":"IF(LEN(BC30)=0,\"\",SUM(AL30,BE30))","v":""},"授業合計",null,{"$f":"SUM(AS30:AS35,AW30:AW35,BA30:BA35,BE30:BE35)","v":0},{"$f":"IF(LEN(BG30)=0,\"\",SUM(AP30,BI30))","v":0},{"$f":"$C$30","v":""},null,{"$f":"IF(LEN(BK30)=0,\"\",(COUNTIF(BK$6:CD$7,BK30)+COUNTIF(BK$10:CD$10,BK30)+COUNTIF(BK$13:CD$13,BK30)+COUNTIF(BK$16:CD$16,BK30)+COUNTIF(BK$19:CD$19,BK30)+COUNTIF(BK$22:CD$22,BK30)+COUNTIF(BK$25:CD$25,BK30))/設定!$D21+IFERROR((COUNTIF(BK$6:CD$7,処理!$L2)+COUNTIF(BK$10:CD$10,処理!$L2)+COUNTIF(BK$13:CD$13,処理!$L2)+COUNTIF(BK$16:CD$16,処理!$L2)+COUNTIF(BK$19:CD$19,処理!$L2)+COUNTIF(BK$22:CD$22,処理!$L2)+COUNTIF(BK$25:CD$25,処理!$L2))/処理!$M2,0))","v":""},{"$f":"IF(LEN(BK30)=0,\"\",SUM(AT30,BM30))","v":""},{"$f":"$G$30","v":""},null,{"$f":"IF(LEN(BO30)=0,\"\",(COUNTIF(BK$6:CD$7,BO30)+COUNTIF(BK$10:CD$10,BO30)+COUNTIF(BK$13:CD$13,BO30)+COUNTIF(BK$16:CD$16,BO30)+COUNTIF(BK$19:CD$19,BO30)+COUNTIF(BK$22:CD$22,BO30)+COUNTIF(BK$25:CD$25,BO30))/設定!$G21+IFERROR((COUNTIF(BK$6:CD$7,処理!$L8)+COUNTIF(BK$10:CD$10,処理!$L8)+COUNTIF(BK$13:CD$13,処理!$L8)+COUNTIF(BK$16:CD$16,処理!$L8)+COUNTIF(BK$19:CD$19,処理!$L8)+COUNTIF(BK$22:CD$22,処理!$L8)+COUNTIF(BK$25:CD$25,処理!$L8))/処理!$M8,0))","v":""},{"$f":"IF(LEN(BO30)=0,\"\",SUM(AX30,BQ30))","v":""},{"$f":"$K$30","v":""},null,{"$f":"IF(LEN(BS30)=0,\"\",(COUNTIF(BK$6:CD$7,BS30)+COUNTIF(BK$10:CD$10,BS30)+COUNTIF(BK$13:CD$13,BS30)+COUNTIF(BK$16:CD$16,BS30)+COUNTIF(BK$19:CD$19,BS30)+COUNTIF(BK$22:CD$22,BS30)+COUNTIF(BK$25:CD$25,BS30))/設定!$J21+IFERROR((COUNTIF(BK$6:CD$7,処理!$L14)+COUNTIF(BK$10:CD$10,処理!$L14)+COUNTIF(BK$13:CD$13,処理!$L14)+COUNTIF(BK$16:CD$16,処理!$L14)+COUNTIF(BK$19:CD$19,処理!$L14)+COUNTIF(BK$22:CD$22,処理!$L14)+COUNTIF(BK$25:CD$25,処理!$L14))/処理!$M14,0))","v":""},{"$f":"IF(LEN(BS30)=0,\"\",SUM(BB30,BU30))","v":""},{"$f":"$O$30","v":""},null,{"$f":"IF(LEN(BW30)=0,\"\",(COUNTIF(BK$6:CD$7,BW30)+COUNTIF(BK$10:CD$10,BW30)+COUNTIF(BK$13:CD$13,BW30)+COUNTIF(BK$16:CD$16,BW30)+COUNTIF(BK$19:CD$19,BW30)+COUNTIF(BK$22:CD$22,BW30)+COUNTIF(BK$25:CD$25,BW30))/設定!$M21+IFERROR((COUNTIF(BK$6:CD$7,処理!$L20)+COUNTIF(BK$10:CD$10,処理!$L20)+COUNTIF(BK$13:CD$13,処理!$L20)+COUNTIF(BK$16:CD$16,処理!$L20)+COUNTIF(BK$19:CD$19,処理!$L20)+COUNTIF(BK$22:CD$22,処理!$L20)+COUNTIF(BK$25:CD$25,処理!$L20))/処理!$M20,0))","v":""},{"$f":"IF(LEN(BW30)=0,\"\",SUM(BF30,BY30))","v":""},"授業合計",null,{"$f":"SUM(BM30:BM35,BQ30:BQ35,BU30:BU35,BY30:BY35)","v":0},{"$f":"IF(LEN(CA30)=0,\"\",SUM(BJ30,CC30))","v":0},{"$f":"$C$30","v":""},null,{"$f":"IF(LEN(CE30)=0,\"\",(COUNTIF(CE$6:CX$7,CE30)+COUNTIF(CE$10:CX$10,CE30)+COUNTIF(CE$13:CX$13,CE30)+COUNTIF(CE$16:CX$16,CE30)+COUNTIF(CE$19:CX$19,CE30)+COUNTIF(CE$22:CX$22,CE30)+COUNTIF(CE$25:CX$25,CE30))/設定!$D21+IFERROR((COUNTIF(CE$6:CX$7,処理!$L2)+COUNTIF(CE$10:CX$10,処理!$L2)+COUNTIF(CE$13:CX$13,処理!$L2)+COUNTIF(CE$16:CX$16,処理!$L2)+COUNTIF(CE$19:CX$19,処理!$L2)+COUNTIF(CE$22:CX$22,処理!$L2)+COUNTIF(CE$25:CX$25,処理!$L2))/処理!$M2,0))","v":""},{"$f":"IF(LEN(CE30)=0,\"\",SUM(BN30,CG30))","v":""},{"$f":"$G$30","v":""},null,{"$f":"IF(LEN(CI30)=0,\"\",(COUNTIF(CE$6:CX$7,CI30)+COUNTIF(CE$10:CX$10,CI30)+COUNTIF(CE$13:CX$13,CI30)+COUNTIF(CE$16:CX$16,CI30)+COUNTIF(CE$19:CX$19,CI30)+COUNTIF(CE$22:CX$22,CI30)+COUNTIF(CE$25:CX$25,CI30))/設定!$G21+IFERROR((COUNTIF(CE$6:CX$7,処理!$L8)+COUNTIF(CE$10:CX$10,処理!$L8)+COUNTIF(CE$13:CX$13,処理!$L8)+COUNTIF(CE$16:CX$16,処理!$L8)+COUNTIF(CE$19:CX$19,処理!$L8)+COUNTIF(CE$22:CX$22,処理!$L8)+COUNTIF(CE$25:CX$25,処理!$L8))/処理!$M8,0))","v":""},{"$f":"IF(LEN(CI30)=0,\"\",SUM(BR30,CK30))","v":""},{"$f":"$K$30","v":""},null,{"$f":"IF(LEN(CM30)=0,\"\",(COUNTIF(CE$6:CX$7,CM30)+COUNTIF(CE$10:CX$10,CM30)+COUNTIF(CE$13:CX$13,CM30)+COUNTIF(CE$16:CX$16,CM30)+COUNTIF(CE$19:CX$19,CM30)+COUNTIF(CE$22:CX$22,CM30)+COUNTIF(CE$25:CX$25,CM30))/設定!$J21+IFERROR((COUNTIF(CE$6:CX$7,処理!$L14)+COUNTIF(CE$10:CX$10,処理!$L14)+COUNTIF(CE$13:CX$13,処理!$L14)+COUNTIF(CE$16:CX$16,処理!$L14)+COUNTIF(CE$19:CX$19,処理!$L14)+COUNTIF(CE$22:CX$22,処理!$L14)+COUNTIF(CE$25:CX$25,処理!$L14))/処理!$M14,0))","v":""},{"$f":"IF(LEN(CM30)=0,\"\",SUM(BV30,CO30))","v":""},{"$f":"$O$30","v":""},null,{"$f":"IF(LEN(CQ30)=0,\"\",(COUNTIF(CE$6:CX$7,CQ30)+COUNTIF(CE$10:CX$10,CQ30)+COUNTIF(CE$13:CX$13,CQ30)+COUNTIF(CE$16:CX$16,CQ30)+COUNTIF(CE$19:CX$19,CQ30)+COUNTIF(CE$22:CX$22,CQ30)+COUNTIF(CE$25:CX$25,CQ30))/設定!$M21+IFERROR((COUNTIF(CE$6:CX$7,処理!$L20)+COUNTIF(CE$10:CX$10,処理!$L20)+COUNTIF(CE$13:CX$13,処理!$L20)+COUNTIF(CE$16:CX$16,処理!$L20)+COUNTIF(CE$19:CX$19,処理!$L20)+COUNTIF(CE$22:CX$22,処理!$L20)+COUNTIF(CE$25:CX$25,処理!$L20))/処理!$M20,0))","v":""},{"$f":"IF(LEN(CQ30)=0,\"\",SUM(BZ30,CS30))","v":""},"授業合計",null,{"$f":"SUM(CG30:CG35,CK30:CK35,CO30:CO35,CS30:CS35)","v":0},{"$f":"IF(LEN(CU30)=0,\"\",SUM(CD30,CW30))","v":0},{"$f":"$C$30","v":""},null,{"$f":"IF(LEN(CY30)=0,\"\",(COUNTIF(CY$6:DR$7,CY30)+COUNTIF(CY$10:DR$10,CY30)+COUNTIF(CY$13:DR$13,CY30)+COUNTIF(CY$16:DR$16,CY30)+COUNTIF(CY$19:DR$19,CY30)+COUNTIF(CY$22:DR$22,CY30)+COUNTIF(CY$25:DR$25,CY30))/設定!$D21+IFERROR((COUNTIF(CY$6:DR$7,処理!$L2)+COUNTIF(CY$10:DR$10,処理!$L2)+COUNTIF(CY$13:DR$13,処理!$L2)+COUNTIF(CY$16:DR$16,処理!$L2)+COUNTIF(CY$19:DR$19,処理!$L2)+COUNTIF(CY$22:DR$22,処理!$L2)+COUNTIF(CY$25:DR$25,処理!$L2))/処理!$M2,0))","v":""},{"$f":"IF(LEN(CY30)=0,\"\",SUM(CH30,DA30))","v":""},{"$f":"$G$30","v":""},null,{"$f":"IF(LEN(DC30)=0,\"\",(COUNTIF(CY$6:DR$7,DC30)+COUNTIF(CY$10:DR$10,DC30)+COUNTIF(CY$13:DR$13,DC30)+COUNTIF(CY$16:DR$16,DC30)+COUNTIF(CY$19:DR$19,DC30)+COUNTIF(CY$22:DR$22,DC30)+COUNTIF(CY$25:DR$25,DC30))/設定!$G21+IFERROR((COUNTIF(CY$6:DR$7,処理!$L8)+COUNTIF(CY$10:DR$10,処理!$L8)+COUNTIF(CY$13:DR$13,処理!$L8)+COUNTIF(CY$16:DR$16,処理!$L8)+COUNTIF(CY$19:DR$19,処理!$L8)+COUNTIF(CY$22:DR$22,処理!$L8)+COUNTIF(CY$25:DR$25,処理!$L8))/処理!$M8,0))","v":""},{"$f":"IF(LEN(DC30)=0,\"\",SUM(CL30,DE30))","v":""},{"$f":"$K$30","v":""},null,{"$f":"IF(LEN(DG30)=0,\"\",(COUNTIF(CY$6:DR$7,DG30)+COUNTIF(CY$10:DR$10,DG30)+COUNTIF(CY$13:DR$13,DG30)+COUNTIF(CY$16:DR$16,DG30)+COUNTIF(CY$19:DR$19,DG30)+COUNTIF(CY$22:DR$22,DG30)+COUNTIF(CY$25:DR$25,DG30))/設定!$J21+IFERROR((COUNTIF(CY$6:DR$7,処理!$L14)+COUNTIF(CY$10:DR$10,処理!$L14)+COUNTIF(CY$13:DR$13,処理!$L14)+COUNTIF(CY$16:DR$16,処理!$L14)+COUNTIF(CY$19:DR$19,処理!$L14)+COUNTIF(CY$22:DR$22,処理!$L14)+COUNTIF(CY$25:DR$25,処理!$L14))/処理!$M14,0))","v":""},{"$f":"IF(LEN(DG30)=0,\"\",SUM(CP30,DI30))","v":""},{"$f":"$O$30","v":""},null,{"$f":"IF(LEN(DK30)=0,\"\",(COUNTIF(CY$6:DR$7,DK30)+COUNTIF(CY$10:DR$10,DK30)+COUNTIF(CY$13:DR$13,DK30)+COUNTIF(CY$16:DR$16,DK30)+COUNTIF(CY$19:DR$19,DK30)+COUNTIF(CY$22:DR$22,DK30)+COUNTIF(CY$25:DR$25,DK30))/設定!$M21+IFERROR((COUNTIF(CY$6:DR$7,処理!$L20)+COUNTIF(CY$10:DR$10,処理!$L20)+COUNTIF(CY$13:DR$13,処理!$L20)+COUNTIF(CY$16:DR$16,処理!$L20)+COUNTIF(CY$19:DR$19,処理!$L20)+COUNTIF(CY$22:DR$22,処理!$L20)+COUNTIF(CY$25:DR$25,処理!$L20))/処理!$M20,0))","v":""},{"$f":"IF(LEN(DK30)=0,\"\",SUM(CT30,DM30))","v":""},"授業合計",null,{"$f":"SUM(DA30:DA35,DE30:DE35,DI30:DI35,DM30:DM35)","v":0},{"$f":"IF(LEN(DO30)=0,\"\",SUM(CX30,DQ30))","v":0},{"$f":"$C$30","v":""},null,{"$f":"IF(LEN(DS30)=0,\"\",(COUNTIF(DS$6:EL$7,DS30)+COUNTIF(DS$10:EL$10,DS30)+COUNTIF(DS$13:EL$13,DS30)+COUNTIF(DS$16:EL$16,DS30)+COUNTIF(DS$19:EL$19,DS30)+COUNTIF(DS$22:EL$22,DS30)+COUNTIF(DS$25:EL$25,DS30))/設定!$D21+IFERROR((COUNTIF(DS$6:EL$7,処理!$L2)+COUNTIF(DS$10:EL$10,処理!$L2)+COUNTIF(DS$13:EL$13,処理!$L2)+COUNTIF(DS$16:EL$16,処理!$L2)+COUNTIF(DS$19:EL$19,処理!$L2)+COUNTIF(DS$22:EL$22,処理!$L2)+COUNTIF(DS$25:EL$25,処理!$L2))/処理!$M2,0))","v":""},{"$f":"IF(LEN(DS30)=0,\"\",SUM(DB30,DU30))","v":""},{"$f":"$G$30","v":""},null,{"$f":"IF(LEN(DW30)=0,\"\",(COUNTIF(DS$6:EL$7,DW30)+COUNTIF(DS$10:EL$10,DW30)+COUNTIF(DS$13:EL$13,DW30)+COUNTIF(DS$16:EL$16,DW30)+COUNTIF(DS$19:EL$19,DW30)+COUNTIF(DS$22:EL$22,DW30)+COUNTIF(DS$25:EL$25,DW30))/設定!$G21+IFERROR((COUNTIF(DS$6:EL$7,処理!$L8)+COUNTIF(DS$10:EL$10,処理!$L8)+COUNTIF(DS$13:EL$13,処理!$L8)+COUNTIF(DS$16:EL$16,処理!$L8)+COUNTIF(DS$19:EL$19,処理!$L8)+COUNTIF(DS$22:EL$22,処理!$L8)+COUNTIF(DS$25:EL$25,処理!$L8))/処理!$M8,0))","v":""},{"$f":"IF(LEN(DW30)=0,\"\",SUM(DF30,DY30))","v":""},{"$f":"$K$30","v":""},null,{"$f":"IF(LEN(EA30)=0,\"\",(COUNTIF(DS$6:EL$7,EA30)+COUNTIF(DS$10:EL$10,EA30)+COUNTIF(DS$13:EL$13,EA30)+COUNTIF(DS$16:EL$16,EA30)+COUNTIF(DS$19:EL$19,EA30)+COUNTIF(DS$22:EL$22,EA30)+COUNTIF(DS$25:EL$25,EA30))/設定!$J21+IFERROR((COUNTIF(DS$6:EL$7,処理!$L14)+COUNTIF(DS$10:EL$10,処理!$L14)+COUNTIF(DS$13:EL$13,処理!$L14)+COUNTIF(DS$16:EL$16,処理!$L14)+COUNTIF(DS$19:EL$19,処理!$L14)+COUNTIF(DS$22:EL$22,処理!$L14)+COUNTIF(DS$25:EL$25,処理!$L14))/処理!$M14,0))","v":""},{"$f":"IF(LEN(EA30)=0,\"\",SUM(DJ30,EC30))","v":""},{"$f":"$O$30","v":""},null,{"$f":"IF(LEN(EE30)=0,\"\",(COUNTIF(DS$6:EL$7,EE30)+COUNTIF(DS$10:EL$10,EE30)+COUNTIF(DS$13:EL$13,EE30)+COUNTIF(DS$16:EL$16,EE30)+COUNTIF(DS$19:EL$19,EE30)+COUNTIF(DS$22:EL$22,EE30)+COUNTIF(DS$25:EL$25,EE30))/設定!$M21+IFERROR((COUNTIF(DS$6:EL$7,処理!$L20)+COUNTIF(DS$10:EL$10,処理!$L20)+COUNTIF(DS$13:EL$13,処理!$L20)+COUNTIF(DS$16:EL$16,処理!$L20)+COUNTIF(DS$19:EL$19,処理!$L20)+COUNTIF(DS$22:EL$22,処理!$L20)+COUNTIF(DS$25:EL$25,処理!$L20))/処理!$M20,0))","v":""},{"$f":"IF(LEN(EE30)=0,\"\",SUM(DN30,EG30))","v":""},"授業合計",null,{"$f":"SUM(DU30:DU35,DY30:DY35,EC30:EC35,EG30:EG35)","v":0},{"$f":"IF(LEN(EI30)=0,\"\",SUM(DR30,EK30))","v":0},{"$f":"$C$30","v":""},null,{"$f":"IF(LEN(EM30)=0,\"\",(COUNTIF(EM$6:FF$7,EM30)+COUNTIF(EM$10:FF$10,EM30)+COUNTIF(EM$13:FF$13,EM30)+COUNTIF(EM$16:FF$16,EM30)+COUNTIF(EM$19:FF$19,EM30)+COUNTIF(EM$22:FF$22,EM30)+COUNTIF(EM$25:FF$25,EM30))/設定!$D21+IFERROR((COUNTIF(EM$6:FF$7,処理!$L2)+COUNTIF(EM$10:FF$10,処理!$L2)+COUNTIF(EM$13:FF$13,処理!$L2)+COUNTIF(EM$16:FF$16,処理!$L2)+COUNTIF(EM$19:FF$19,処理!$L2)+COUNTIF(EM$22:FF$22,処理!$L2)+COUNTIF(EM$25:FF$25,処理!$L2))/処理!$M2,0))","v":""},{"$f":"IF(LEN(EM30)=0,\"\",SUM(DV30,EO30))","v":""},{"$f":"$G$30","v":""},null,{"$f":"IF(LEN(EQ30)=0,\"\",(COUNTIF(EM$6:FF$7,EQ30)+COUNTIF(EM$10:FF$10,EQ30)+COUNTIF(EM$13:FF$13,EQ30)+COUNTIF(EM$16:FF$16,EQ30)+COUNTIF(EM$19:FF$19,EQ30)+COUNTIF(EM$22:FF$22,EQ30)+COUNTIF(EM$25:FF$25,EQ30))/設定!$G21+IFERROR((COUNTIF(EM$6:FF$7,処理!$L8)+COUNTIF(EM$10:FF$10,処理!$L8)+COUNTIF(EM$13:FF$13,処理!$L8)+COUNTIF(EM$16:FF$16,処理!$L8)+COUNTIF(EM$19:FF$19,処理!$L8)+COUNTIF(EM$22:FF$22,処理!$L8)+COUNTIF(EM$25:FF$25,処理!$L8))/処理!$M8,0))","v":""},{"$f":"IF(LEN(EQ30)=0,\"\",SUM(DZ30,ES30))","v":""},{"$f":"$K$30","v":""},null,{"$f":"IF(LEN(EU30)=0,\"\",(COUNTIF(EM$6:FF$7,EU30)+COUNTIF(EM$10:FF$10,EU30)+COUNTIF(EM$13:FF$13,EU30)+COUNTIF(EM$16:FF$16,EU30)+COUNTIF(EM$19:FF$19,EU30)+COUNTIF(EM$22:FF$22,EU30)+COUNTIF(EM$25:FF$25,EU30))/設定!$J21+IFERROR((COUNTIF(EM$6:FF$7,処理!$L14)+COUNTIF(EM$10:FF$10,処理!$L14)+COUNTIF(EM$13:FF$13,処理!$L14)+COUNTIF(EM$16:FF$16,処理!$L14)+COUNTIF(EM$19:FF$19,処理!$L14)+COUNTIF(EM$22:FF$22,処理!$L14)+COUNTIF(EM$25:FF$25,処理!$L14))/処理!$M14,0))","v":""},{"$f":"IF(LEN(EU30)=0,\"\",SUM(ED30,EW30))","v":""},{"$f":"$O$30","v":""},null,{"$f":"IF(LEN(EY30)=0,\"\",(COUNTIF(EM$6:FF$7,EY30)+COUNTIF(EM$10:FF$10,EY30)+COUNTIF(EM$13:FF$13,EY30)+COUNTIF(EM$16:FF$16,EY30)+COUNTIF(EM$19:FF$19,EY30)+COUNTIF(EM$22:FF$22,EY30)+COUNTIF(EM$25:FF$25,EY30))/設定!$M21+IFERROR((COUNTIF(EM$6:FF$7,処理!$L20)+COUNTIF(EM$10:FF$10,処理!$L20)+COUNTIF(EM$13:FF$13,処理!$L20)+COUNTIF(EM$16:FF$16,処理!$L20)+COUNTIF(EM$19:FF$19,処理!$L20)+COUNTIF(EM$22:FF$22,処理!$L20)+COUNTIF(EM$25:FF$25,処理!$L20))/処理!$M20,0))","v":""},{"$f":"IF(LEN(EY30)=0,\"\",SUM(EH30,FA30))","v":""},"授業合計",null,{"$f":"SUM(EO30:EO35,ES30:ES35,EW30:EW35,FA30:FA35)","v":0},{"$f":"IF(LEN(FC30)=0,\"\",SUM(EL30,FE30))","v":0},{"$f":"$C$30","v":""},null,{"$f":"IF(LEN(FG30)=0,\"\",(COUNTIF(FG$6:FZ$7,FG30)+COUNTIF(FG$10:FZ$10,FG30)+COUNTIF(FG$13:FZ$13,FG30)+COUNTIF(FG$16:FZ$16,FG30)+COUNTIF(FG$19:FZ$19,FG30)+COUNTIF(FG$22:FZ$22,FG30)+COUNTIF(FG$25:FZ$25,FG30))/設定!$D21+IFERROR((COUNTIF(FG$6:FZ$7,処理!$L2)+COUNTIF(FG$10:FZ$10,処理!$L2)+COUNTIF(FG$13:FZ$13,処理!$L2)+COUNTIF(FG$16:FZ$16,処理!$L2)+COUNTIF(FG$19:FZ$19,処理!$L2)+COUNTIF(FG$22:FZ$22,処理!$L2)+COUNTIF(FG$25:FZ$25,処理!$L2))/処理!$M2,0))","v":""},{"$f":"IF(LEN(FG30)=0,\"\",SUM(EP30,FI30))","v":""},{"$f":"$G$30","v":""},null,{"$f":"IF(LEN(FK30)=0,\"\",(COUNTIF(FG$6:FZ$7,FK30)+COUNTIF(FG$10:FZ$10,FK30)+COUNTIF(FG$13:FZ$13,FK30)+COUNTIF(FG$16:FZ$16,FK30)+COUNTIF(FG$19:FZ$19,FK30)+COUNTIF(FG$22:FZ$22,FK30)+COUNTIF(FG$25:FZ$25,FK30))/設定!$G21+IFERROR((COUNTIF(FG$6:FZ$7,処理!$L8)+COUNTIF(FG$10:FZ$10,処理!$L8)+COUNTIF(FG$13:FZ$13,処理!$L8)+COUNTIF(FG$16:FZ$16,処理!$L8)+COUNTIF(FG$19:FZ$19,処理!$L8)+COUNTIF(FG$22:FZ$22,処理!$L8)+COUNTIF(FG$25:FZ$25,処理!$L8))/処理!$M8,0))","v":""},{"$f":"IF(LEN(FK30)=0,\"\",SUM(ET30,FM30))","v":""},{"$f":"$K$30","v":""},null,{"$f":"IF(LEN(FO30)=0,\"\",(COUNTIF(FG$6:FZ$7,FO30)+COUNTIF(FG$10:FZ$10,FO30)+COUNTIF(FG$13:FZ$13,FO30)+COUNTIF(FG$16:FZ$16,FO30)+COUNTIF(FG$19:FZ$19,FO30)+COUNTIF(FG$22:FZ$22,FO30)+COUNTIF(FG$25:FZ$25,FO30))/設定!$J21+IFERROR((COUNTIF(FG$6:FZ$7,処理!$L14)+COUNTIF(FG$10:FZ$10,処理!$L14)+COUNTIF(FG$13:FZ$13,処理!$L14)+COUNTIF(FG$16:FZ$16,処理!$L14)+COUNTIF(FG$19:FZ$19,処理!$L14)+COUNTIF(FG$22:FZ$22,処理!$L14)+COUNTIF(FG$25:FZ$25,処理!$L14))/処理!$M14,0))","v":""},{"$f":"IF(LEN(FO30)=0,\"\",SUM(EX30,FQ30))","v":""},{"$f":"$O$30","v":""},null,{"$f":"IF(LEN(FS30)=0,\"\",(COUNTIF(FG$6:FZ$7,FS30)+COUNTIF(FG$10:FZ$10,FS30)+COUNTIF(FG$13:FZ$13,FS30)+COUNTIF(FG$16:FZ$16,FS30)+COUNTIF(FG$19:FZ$19,FS30)+COUNTIF(FG$22:FZ$22,FS30)+COUNTIF(FG$25:FZ$25,FS30))/設定!$M21+IFERROR((COUNTIF(FG$6:FZ$7,処理!$L20)+COUNTIF(FG$10:FZ$10,処理!$L20)+COUNTIF(FG$13:FZ$13,処理!$L20)+COUNTIF(FG$16:FZ$16,処理!$L20)+COUNTIF(FG$19:FZ$19,処理!$L20)+COUNTIF(FG$22:FZ$22,処理!$L20)+COUNTIF(FG$25:FZ$25,処理!$L20))/処理!$M20,0))","v":""},{"$f":"IF(LEN(FS30)=0,\"\",SUM(FB30,FU30))","v":""},"授業合計",null,{"$f":"SUM(FI30:FI35,FM30:FM35,FQ30:FQ35,FU30:FU35)","v":0},{"$f":"IF(LEN(FW30)=0,\"\",SUM(FF30,FY30))","v":0},{"$f":"$C$30","v":""},null,{"$f":"IF(LEN(GA30)=0,\"\",(COUNTIF(GA$6:GT$7,GA30)+COUNTIF(GA$10:GT$10,GA30)+COUNTIF(GA$13:GT$13,GA30)+COUNTIF(GA$16:GT$16,GA30)+COUNTIF(GA$19:GT$19,GA30)+COUNTIF(GA$22:GT$22,GA30)+COUNTIF(GA$25:GT$25,GA30))/設定!$D21+IFERROR((COUNTIF(GA$6:GT$7,処理!$L2)+COUNTIF(GA$10:GT$10,処理!$L2)+COUNTIF(GA$13:GT$13,処理!$L2)+COUNTIF(GA$16:GT$16,処理!$L2)+COUNTIF(GA$19:GT$19,処理!$L2)+COUNTIF(GA$22:GT$22,処理!$L2)+COUNTIF(GA$25:GT$25,処理!$L2))/処理!$M2,0))","v":""},{"$f":"IF(LEN(GA30)=0,\"\",SUM(FJ30,GC30))","v":""},{"$f":"$G$30","v":""},null,{"$f":"IF(LEN(GE30)=0,\"\",(COUNTIF(GA$6:GT$7,GE30)+COUNTIF(GA$10:GT$10,GE30)+COUNTIF(GA$13:GT$13,GE30)+COUNTIF(GA$16:GT$16,GE30)+COUNTIF(GA$19:GT$19,GE30)+COUNTIF(GA$22:GT$22,GE30)+COUNTIF(GA$25:GT$25,GE30))/設定!$G21+IFERROR((COUNTIF(GA$6:GT$7,処理!$L8)+COUNTIF(GA$10:GT$10,処理!$L8)+COUNTIF(GA$13:GT$13,処理!$L8)+COUNTIF(GA$16:GT$16,処理!$L8)+COUNTIF(GA$19:GT$19,処理!$L8)+COUNTIF(GA$22:GT$22,処理!$L8)+COUNTIF(GA$25:GT$25,処理!$L8))/処理!$M8,0))","v":""},{"$f":"IF(LEN(GE30)=0,\"\",SUM(FN30,GG30))","v":""},{"$f":"$K$30","v":""},null,{"$f":"IF(LEN(GI30)=0,\"\",(COUNTIF(GA$6:GT$7,GI30)+COUNTIF(GA$10:GT$10,GI30)+COUNTIF(GA$13:GT$13,GI30)+COUNTIF(GA$16:GT$16,GI30)+COUNTIF(GA$19:GT$19,GI30)+COUNTIF(GA$22:GT$22,GI30)+COUNTIF(GA$25:GT$25,GI30))/設定!$J21+IFERROR((COUNTIF(GA$6:GT$7,処理!$L14)+COUNTIF(GA$10:GT$10,処理!$L14)+COUNTIF(GA$13:GT$13,処理!$L14)+COUNTIF(GA$16:GT$16,処理!$L14)+COUNTIF(GA$19:GT$19,処理!$L14)+COUNTIF(GA$22:GT$22,処理!$L14)+COUNTIF(GA$25:GT$25,処理!$L14))/処理!$M14,0))","v":""},{"$f":"IF(LEN(GI30)=0,\"\",SUM(FR30,GK30))","v":""},{"$f":"$O$30","v":""},null,{"$f":"IF(LEN(GM30)=0,\"\",(COUNTIF(GA$6:GT$7,GM30)+COUNTIF(GA$10:GT$10,GM30)+COUNTIF(GA$13:GT$13,GM30)+COUNTIF(GA$16:GT$16,GM30)+COUNTIF(GA$19:GT$19,GM30)+COUNTIF(GA$22:GT$22,GM30)+COUNTIF(GA$25:GT$25,GM30))/設定!$M21+IFERROR((COUNTIF(GA$6:GT$7,処理!$L20)+COUNTIF(GA$10:GT$10,処理!$L20)+COUNTIF(GA$13:GT$13,処理!$L20)+COUNTIF(GA$16:GT$16,処理!$L20)+COUNTIF(GA$19:GT$19,処理!$L20)+COUNTIF(GA$22:GT$22,処理!$L20)+COUNTIF(GA$25:GT$25,処理!$L20))/処理!$M20,0))","v":""},{"$f":"IF(LEN(GM30)=0,\"\",SUM(FV30,GO30))","v":""},"授業合計",null,{"$f":"SUM(GC30:GC35,GG30:GG35,GK30:GK35,GO30:GO35)","v":0},{"$f":"IF(LEN(GQ30)=0,\"\",SUM(FZ30,GS30))","v":0},{"$f":"$C$30","v":""},null,{"$f":"IF(LEN(GU30)=0,\"\",(COUNTIF(GU$6:HN$7,GU30)+COUNTIF(GU$10:HN$10,GU30)+COUNTIF(GU$13:HN$13,GU30)+COUNTIF(GU$16:HN$16,GU30)+COUNTIF(GU$19:HN$19,GU30)+COUNTIF(GU$22:HN$22,GU30)+COUNTIF(GU$25:HN$25,GU30))/設定!$D21+IFERROR((COUNTIF(GU$6:HN$7,処理!$L2)+COUNTIF(GU$10:HN$10,処理!$L2)+COUNTIF(GU$13:HN$13,処理!$L2)+COUNTIF(GU$16:HN$16,処理!$L2)+COUNTIF(GU$19:HN$19,処理!$L2)+COUNTIF(GU$22:HN$22,処理!$L2)+COUNTIF(GU$25:HN$25,処理!$L2))/処理!$M2,0))","v":""},{"$f":"IF(LEN(GU30)=0,\"\",SUM(GD30,GW30))","v":""},{"$f":"$G$30","v":""},null,{"$f":"IF(LEN(GY30)=0,\"\",(COUNTIF(GU$6:HN$7,GY30)+COUNTIF(GU$10:HN$10,GY30)+COUNTIF(GU$13:HN$13,GY30)+COUNTIF(GU$16:HN$16,GY30)+COUNTIF(GU$19:HN$19,GY30)+COUNTIF(GU$22:HN$22,GY30)+COUNTIF(GU$25:HN$25,GY30))/設定!$G21+IFERROR((COUNTIF(GU$6:HN$7,処理!$L8)+COUNTIF(GU$10:HN$10,処理!$L8)+COUNTIF(GU$13:HN$13,処理!$L8)+COUNTIF(GU$16:HN$16,処理!$L8)+COUNTIF(GU$19:HN$19,処理!$L8)+COUNTIF(GU$22:HN$22,処理!$L8)+COUNTIF(GU$25:HN$25,処理!$L8))/処理!$M8,0))","v":""},{"$f":"IF(LEN(GY30)=0,\"\",SUM(GH30,HA30))","v":""},{"$f":"$K$30","v":""},null,{"$f":"IF(LEN(HC30)=0,\"\",(COUNTIF(GU$6:HN$7,HC30)+COUNTIF(GU$10:HN$10,HC30)+COUNTIF(GU$13:HN$13,HC30)+COUNTIF(GU$16:HN$16,HC30)+COUNTIF(GU$19:HN$19,HC30)+COUNTIF(GU$22:HN$22,HC30)+COUNTIF(GU$25:HN$25,HC30))/設定!$J21+IFERROR((COUNTIF(GU$6:HN$7,処理!$L14)+COUNTIF(GU$10:HN$10,処理!$L14)+COUNTIF(GU$13:HN$13,処理!$L14)+COUNTIF(GU$16:HN$16,処理!$L14)+COUNTIF(GU$19:HN$19,処理!$L14)+COUNTIF(GU$22:HN$22,処理!$L14)+COUNTIF(GU$25:HN$25,処理!$L14))/処理!$M14,0))","v":""},{"$f":"IF(LEN(HC30)=0,\"\",SUM(GL30,HE30))","v":""},{"$f":"$O$30","v":""},null,{"$f":"IF(LEN(HG30)=0,\"\",(COUNTIF(GU$6:HN$7,HG30)+COUNTIF(GU$10:HN$10,HG30)+COUNTIF(GU$13:HN$13,HG30)+COUNTIF(GU$16:HN$16,HG30)+COUNTIF(GU$19:HN$19,HG30)+COUNTIF(GU$22:HN$22,HG30)+COUNTIF(GU$25:HN$25,HG30))/設定!$M21+IFERROR((COUNTIF(GU$6:HN$7,処理!$L20)+COUNTIF(GU$10:HN$10,処理!$L20)+COUNTIF(GU$13:HN$13,処理!$L20)+COUNTIF(GU$16:HN$16,処理!$L20)+COUNTIF(GU$19:HN$19,処理!$L20)+COUNTIF(GU$22:HN$22,処理!$L20)+COUNTIF(GU$25:HN$25,処理!$L20))/処理!$M20,0))","v":""},{"$f":"IF(LEN(HG30)=0,\"\",SUM(GP30,HI30))","v":""},"授業合計",null,{"$f":"SUM(GW30:GW35,HA30:HA35,HE30:HE35,HI30:HI35)","v":0},{"$f":"IF(LEN(HK30)=0,\"\",SUM(GT30,HM30))","v":0},{"$f":"$C$30","v":""},null,{"$f":"IF(LEN(HO30)=0,\"\",(COUNTIF(HO$6:IH$7,HO30)+COUNTIF(HO$10:IH$10,HO30)+COUNTIF(HO$13:IH$13,HO30)+COUNTIF(HO$16:IH$16,HO30)+COUNTIF(HO$19:IH$19,HO30)+COUNTIF(HO$22:IH$22,HO30)+COUNTIF(HO$25:IH$25,HO30))/設定!$D21+IFERROR((COUNTIF(HO$6:IH$7,処理!$L2)+COUNTIF(HO$10:IH$10,処理!$L2)+COUNTIF(HO$13:IH$13,処理!$L2)+COUNTIF(HO$16:IH$16,処理!$L2)+COUNTIF(HO$19:IH$19,処理!$L2)+COUNTIF(HO$22:IH$22,処理!$L2)+COUNTIF(HO$25:IH$25,処理!$L2))/処理!$M2,0))","v":""},{"$f":"IF(LEN(HO30)=0,\"\",SUM(GX30,HQ30))","v":""},{"$f":"$G$30","v":""},null,{"$f":"IF(LEN(HS30)=0,\"\",(COUNTIF(HO$6:IH$7,HS30)+COUNTIF(HO$10:IH$10,HS30)+COUNTIF(HO$13:IH$13,HS30)+COUNTIF(HO$16:IH$16,HS30)+COUNTIF(HO$19:IH$19,HS30)+COUNTIF(HO$22:IH$22,HS30)+COUNTIF(HO$25:IH$25,HS30))/設定!$G21+IFERROR((COUNTIF(HO$6:IH$7,処理!$L8)+COUNTIF(HO$10:IH$10,処理!$L8)+COUNTIF(HO$13:IH$13,処理!$L8)+COUNTIF(HO$16:IH$16,処理!$L8)+COUNTIF(HO$19:IH$19,処理!$L8)+COUNTIF(HO$22:IH$22,処理!$L8)+COUNTIF(HO$25:IH$25,処理!$L8))/処理!$M8,0))","v":""},{"$f":"IF(LEN(HS30)=0,\"\",SUM(HB30,HU30))","v":""},{"$f":"$K$30","v":""},null,{"$f":"IF(LEN(HW30)=0,\"\",(COUNTIF(HO$6:IH$7,HW30)+COUNTIF(HO$10:IH$10,HW30)+COUNTIF(HO$13:IH$13,HW30)+COUNTIF(HO$16:IH$16,HW30)+COUNTIF(HO$19:IH$19,HW30)+COUNTIF(HO$22:IH$22,HW30)+COUNTIF(HO$25:IH$25,HW30))/設定!$J21+IFERROR((COUNTIF(HO$6:IH$7,処理!$L14)+COUNTIF(HO$10:IH$10,処理!$L14)+COUNTIF(HO$13:IH$13,処理!$L14)+COUNTIF(HO$16:IH$16,処理!$L14)+COUNTIF(HO$19:IH$19,処理!$L14)+COUNTIF(HO$22:IH$22,処理!$L14)+COUNTIF(HO$25:IH$25,処理!$L14))/処理!$M14,0))","v":""},{"$f":"IF(LEN(HW30)=0,\"\",SUM(HF30,HY30))","v":""},{"$f":"$O$30","v":""},null,{"$f":"IF(LEN(IA30)=0,\"\",(COUNTIF(HO$6:IH$7,IA30)+COUNTIF(HO$10:IH$10,IA30)+COUNTIF(HO$13:IH$13,IA30)+COUNTIF(HO$16:IH$16,IA30)+COUNTIF(HO$19:IH$19,IA30)+COUNTIF(HO$22:IH$22,IA30)+COUNTIF(HO$25:IH$25,IA30))/設定!$M21+IFERROR((COUNTIF(HO$6:IH$7,処理!$L20)+COUNTIF(HO$10:IH$10,処理!$L20)+COUNTIF(HO$13:IH$13,処理!$L20)+COUNTIF(HO$16:IH$16,処理!$L20)+COUNTIF(HO$19:IH$19,処理!$L20)+COUNTIF(HO$22:IH$22,処理!$L20)+COUNTIF(HO$25:IH$25,処理!$L20))/処理!$M20,0))","v":""},{"$f":"IF(LEN(IA30)=0,\"\",SUM(HJ30,IC30))","v":""},"授業合計",null,{"$f":"SUM(HQ30:HQ35,HU30:HU35,HY30:HY35,IC30:IC35)","v":0},{"$f":"IF(LEN(IE30)=0,\"\",SUM(HN30,IG30))","v":0},{"$f":"$C$30","v":""},null,{"$f":"IF(LEN(II30)=0,\"\",(COUNTIF(II$6:JB$7,II30)+COUNTIF(II$10:JB$10,II30)+COUNTIF(II$13:JB$13,II30)+COUNTIF(II$16:JB$16,II30)+COUNTIF(II$19:JB$19,II30)+COUNTIF(II$22:JB$22,II30)+COUNTIF(II$25:JB$25,II30))/設定!$D21+IFERROR((COUNTIF(II$6:JB$7,処理!$L2)+COUNTIF(II$10:JB$10,処理!$L2)+COUNTIF(II$13:JB$13,処理!$L2)+COUNTIF(II$16:JB$16,処理!$L2)+COUNTIF(II$19:JB$19,処理!$L2)+COUNTIF(II$22:JB$22,処理!$L2)+COUNTIF(II$25:JB$25,処理!$L2))/処理!$M2,0))","v":""},{"$f":"IF(LEN(II30)=0,\"\",SUM(HR30,IK30))","v":""},{"$f":"$G$30","v":""},null,{"$f":"IF(LEN(IM30)=0,\"\",(COUNTIF(II$6:JB$7,IM30)+COUNTIF(II$10:JB$10,IM30)+COUNTIF(II$13:JB$13,IM30)+COUNTIF(II$16:JB$16,IM30)+COUNTIF(II$19:JB$19,IM30)+COUNTIF(II$22:JB$22,IM30)+COUNTIF(II$25:JB$25,IM30))/設定!$G21+IFERROR((COUNTIF(II$6:JB$7,処理!$L8)+COUNTIF(II$10:JB$10,処理!$L8)+COUNTIF(II$13:JB$13,処理!$L8)+COUNTIF(II$16:JB$16,処理!$L8)+COUNTIF(II$19:JB$19,処理!$L8)+COUNTIF(II$22:JB$22,処理!$L8)+COUNTIF(II$25:JB$25,処理!$L8))/処理!$M8,0))","v":""},{"$f":"IF(LEN(IM30)=0,\"\",SUM(HV30,IO30))","v":""},{"$f":"$K$30","v":""},null,{"$f":"IF(LEN(IQ30)=0,\"\",(COUNTIF(II$6:JB$7,IQ30)+COUNTIF(II$10:JB$10,IQ30)+COUNTIF(II$13:JB$13,IQ30)+COUNTIF(II$16:JB$16,IQ30)+COUNTIF(II$19:JB$19,IQ30)+COUNTIF(II$22:JB$22,IQ30)+COUNTIF(II$25:JB$25,IQ30))/設定!$J21+IFERROR((COUNTIF(II$6:JB$7,処理!$L14)+COUNTIF(II$10:JB$10,処理!$L14)+COUNTIF(II$13:JB$13,処理!$L14)+COUNTIF(II$16:JB$16,処理!$L14)+COUNTIF(II$19:JB$19,処理!$L14)+COUNTIF(II$22:JB$22,処理!$L14)+COUNTIF(II$25:JB$25,処理!$L14))/処理!$M14,0))","v":""},{"$f":"IF(LEN(IQ30)=0,\"\",SUM(HZ30,IS30))","v":""},{"$f":"$O$30","v":""},null,{"$f":"IF(LEN(IU30)=0,\"\",(COUNTIF(II$6:JB$7,IU30)+COUNTIF(II$10:JB$10,IU30)+COUNTIF(II$13:JB$13,IU30)+COUNTIF(II$16:JB$16,IU30)+COUNTIF(II$19:JB$19,IU30)+COUNTIF(II$22:JB$22,IU30)+COUNTIF(II$25:JB$25,IU30))/設定!$M21+IFERROR((COUNTIF(II$6:JB$7,処理!$L20)+COUNTIF(II$10:JB$10,処理!$L20)+COUNTIF(II$13:JB$13,処理!$L20)+COUNTIF(II$16:JB$16,処理!$L20)+COUNTIF(II$19:JB$19,処理!$L20)+COUNTIF(II$22:JB$22,処理!$L20)+COUNTIF(II$25:JB$25,処理!$L20))/処理!$M20,0))","v":""},{"$f":"IF(LEN(IU30)=0,\"\",SUM(ID30,IW30))","v":""},"授業合計",null,{"$f":"SUM(IK30:IK35,IO30:IO35,IS30:IS35,IW30:IW35)","v":0},{"$f":"IF(LEN(IY30)=0,\"\",SUM(IH30,JA30))","v":0},{"$f":"$C$30","v":""},null,{"$f":"IF(LEN(JC30)=0,\"\",(COUNTIF(JC$6:JV$7,JC30)+COUNTIF(JC$10:JV$10,JC30)+COUNTIF(JC$13:JV$13,JC30)+COUNTIF(JC$16:JV$16,JC30)+COUNTIF(JC$19:JV$19,JC30)+COUNTIF(JC$22:JV$22,JC30)+COUNTIF(JC$25:JV$25,JC30))/設定!$D21+IFERROR((COUNTIF(JC$6:JV$7,処理!$L2)+COUNTIF(JC$10:JV$10,処理!$L2)+COUNTIF(JC$13:JV$13,処理!$L2)+COUNTIF(JC$16:JV$16,処理!$L2)+COUNTIF(JC$19:JV$19,処理!$L2)+COUNTIF(JC$22:JV$22,処理!$L2)+COUNTIF(JC$25:JV$25,処理!$L2))/処理!$M2,0))","v":""},{"$f":"IF(LEN(JC30)=0,\"\",SUM(IL30,JE30))","v":""},{"$f":"$G$30","v":""},null,{"$f":"IF(LEN(JG30)=0,\"\",(COUNTIF(JC$6:JV$7,JG30)+COUNTIF(JC$10:JV$10,JG30)+COUNTIF(JC$13:JV$13,JG30)+COUNTIF(JC$16:JV$16,JG30)+COUNTIF(JC$19:JV$19,JG30)+COUNTIF(JC$22:JV$22,JG30)+COUNTIF(JC$25:JV$25,JG30))/設定!$G21+IFERROR((COUNTIF(JC$6:JV$7,処理!$L8)+COUNTIF(JC$10:JV$10,処理!$L8)+COUNTIF(JC$13:JV$13,処理!$L8)+COUNTIF(JC$16:JV$16,処理!$L8)+COUNTIF(JC$19:JV$19,処理!$L8)+COUNTIF(JC$22:JV$22,処理!$L8)+COUNTIF(JC$25:JV$25,処理!$L8))/処理!$M8,0))","v":""},{"$f":"IF(LEN(JG30)=0,\"\",SUM(IP30,JI30))","v":""},{"$f":"$K$30","v":""},null,{"$f":"IF(LEN(JK30)=0,\"\",(COUNTIF(JC$6:JV$7,JK30)+COUNTIF(JC$10:JV$10,JK30)+COUNTIF(JC$13:JV$13,JK30)+COUNTIF(JC$16:JV$16,JK30)+COUNTIF(JC$19:JV$19,JK30)+COUNTIF(JC$22:JV$22,JK30)+COUNTIF(JC$25:JV$25,JK30))/設定!$J21+IFERROR((COUNTIF(JC$6:JV$7,処理!$L14)+COUNTIF(JC$10:JV$10,処理!$L14)+COUNTIF(JC$13:JV$13,処理!$L14)+COUNTIF(JC$16:JV$16,処理!$L14)+COUNTIF(JC$19:JV$19,処理!$L14)+COUNTIF(JC$22:JV$22,処理!$L14)+COUNTIF(JC$25:JV$25,処理!$L14))/処理!$M14,0))","v":""},{"$f":"IF(LEN(JK30)=0,\"\",SUM(IT30,JM30))","v":""},{"$f":"$O$30","v":""},null,{"$f":"IF(LEN(JO30)=0,\"\",(COUNTIF(JC$6:JV$7,JO30)+COUNTIF(JC$10:JV$10,JO30)+COUNTIF(JC$13:JV$13,JO30)+COUNTIF(JC$16:JV$16,JO30)+COUNTIF(JC$19:JV$19,JO30)+COUNTIF(JC$22:JV$22,JO30)+COUNTIF(JC$25:JV$25,JO30))/設定!$M21+IFERROR((COUNTIF(JC$6:JV$7,処理!$L20)+COUNTIF(JC$10:JV$10,処理!$L20)+COUNTIF(JC$13:JV$13,処理!$L20)+COUNTIF(JC$16:JV$16,処理!$L20)+COUNTIF(JC$19:JV$19,処理!$L20)+COUNTIF(JC$22:JV$22,処理!$L20)+COUNTIF(JC$25:JV$25,処理!$L20))/処理!$M20,0))","v":""},{"$f":"IF(LEN(JO30)=0,\"\",SUM(IX30,JQ30))","v":""},"授業合計",null,{"$f":"SUM(JE30:JE35,JI30:JI35,JM30:JM35,JQ30:JQ35)","v":0},{"$f":"IF(LEN(JS30)=0,\"\",SUM(JB30,JU30))","v":0},{"$f":"$C$30","v":""},null,{"$f":"IF(LEN(JW30)=0,\"\",(COUNTIF(JW$6:KP$7,JW30)+COUNTIF(JW$10:KP$10,JW30)+COUNTIF(JW$13:KP$13,JW30)+COUNTIF(JW$16:KP$16,JW30)+COUNTIF(JW$19:KP$19,JW30)+COUNTIF(JW$22:KP$22,JW30)+COUNTIF(JW$25:KP$25,JW30))/設定!$D21+IFERROR((COUNTIF(JW$6:KP$7,処理!$L2)+COUNTIF(JW$10:KP$10,処理!$L2)+COUNTIF(JW$13:KP$13,処理!$L2)+COUNTIF(JW$16:KP$16,処理!$L2)+COUNTIF(JW$19:KP$19,処理!$L2)+COUNTIF(JW$22:KP$22,処理!$L2)+COUNTIF(JW$25:KP$25,処理!$L2))/処理!$M2,0))","v":""},{"$f":"IF(LEN(JW30)=0,\"\",SUM(JF30,JY30))","v":""},{"$f":"$G$30","v":""},null,{"$f":"IF(LEN(KA30)=0,\"\",(COUNTIF(JW$6:KP$7,KA30)+COUNTIF(JW$10:KP$10,KA30)+COUNTIF(JW$13:KP$13,KA30)+COUNTIF(JW$16:KP$16,KA30)+COUNTIF(JW$19:KP$19,KA30)+COUNTIF(JW$22:KP$22,KA30)+COUNTIF(JW$25:KP$25,KA30))/設定!$G21+IFERROR((COUNTIF(JW$6:KP$7,処理!$L8)+COUNTIF(JW$10:KP$10,処理!$L8)+COUNTIF(JW$13:KP$13,処理!$L8)+COUNTIF(JW$16:KP$16,処理!$L8)+COUNTIF(JW$19:KP$19,処理!$L8)+COUNTIF(JW$22:KP$22,処理!$L8)+COUNTIF(JW$25:KP$25,処理!$L8))/処理!$M8,0))","v":""},{"$f":"IF(LEN(KA30)=0,\"\",SUM(JJ30,KC30))","v":""},{"$f":"$K$30","v":""},null,{"$f":"IF(LEN(KE30)=0,\"\",(COUNTIF(JW$6:KP$7,KE30)+COUNTIF(JW$10:KP$10,KE30)+COUNTIF(JW$13:KP$13,KE30)+COUNTIF(JW$16:KP$16,KE30)+COUNTIF(JW$19:KP$19,KE30)+COUNTIF(JW$22:KP$22,KE30)+COUNTIF(JW$25:KP$25,KE30))/設定!$J21+IFERROR((COUNTIF(JW$6:KP$7,処理!$L14)+COUNTIF(JW$10:KP$10,処理!$L14)+COUNTIF(JW$13:KP$13,処理!$L14)+COUNTIF(JW$16:KP$16,処理!$L14)+COUNTIF(JW$19:KP$19,処理!$L14)+COUNTIF(JW$22:KP$22,処理!$L14)+COUNTIF(JW$25:KP$25,処理!$L14))/処理!$M14,0))","v":""},{"$f":"IF(LEN(KE30)=0,\"\",SUM(JN30,KG30))","v":""},{"$f":"$O$30","v":""},null,{"$f":"IF(LEN(KI30)=0,\"\",(COUNTIF(JW$6:KP$7,KI30)+COUNTIF(JW$10:KP$10,KI30)+COUNTIF(JW$13:KP$13,KI30)+COUNTIF(JW$16:KP$16,KI30)+COUNTIF(JW$19:KP$19,KI30)+COUNTIF(JW$22:KP$22,KI30)+COUNTIF(JW$25:KP$25,KI30))/設定!$M21+IFERROR((COUNTIF(JW$6:KP$7,処理!$L20)+COUNTIF(JW$10:KP$10,処理!$L20)+COUNTIF(JW$13:KP$13,処理!$L20)+COUNTIF(JW$16:KP$16,処理!$L20)+COUNTIF(JW$19:KP$19,処理!$L20)+COUNTIF(JW$22:KP$22,処理!$L20)+COUNTIF(JW$25:KP$25,処理!$L20))/処理!$M20,0))","v":""},{"$f":"IF(LEN(KI30)=0,\"\",SUM(JR30,KK30))","v":""},"授業合計",null,{"$f":"SUM(JY30:JY35,KC30:KC35,KG30:KG35,KK30:KK35)","v":0},{"$f":"IF(LEN(KM30)=0,\"\",SUM(JV30,KO30))","v":0},{"$f":"$C$30","v":""},null,{"$f":"IF(LEN(KQ30)=0,\"\",(COUNTIF(KQ$6:LJ$7,KQ30)+COUNTIF(KQ$10:LJ$10,KQ30)+COUNTIF(KQ$13:LJ$13,KQ30)+COUNTIF(KQ$16:LJ$16,KQ30)+COUNTIF(KQ$19:LJ$19,KQ30)+COUNTIF(KQ$22:LJ$22,KQ30)+COUNTIF(KQ$25:LJ$25,KQ30))/設定!$D21+IFERROR((COUNTIF(KQ$6:LJ$7,処理!$L2)+COUNTIF(KQ$10:LJ$10,処理!$L2)+COUNTIF(KQ$13:LJ$13,処理!$L2)+COUNTIF(KQ$16:LJ$16,処理!$L2)+COUNTIF(KQ$19:LJ$19,処理!$L2)+COUNTIF(KQ$22:LJ$22,処理!$L2)+COUNTIF(KQ$25:LJ$25,処理!$L2))/処理!$M2,0))","v":""},{"$f":"IF(LEN(KQ30)=0,\"\",SUM(JZ30,KS30))","v":""},{"$f":"$G$30","v":""},null,{"$f":"IF(LEN(KU30)=0,\"\",(COUNTIF(KQ$6:LJ$7,KU30)+COUNTIF(KQ$10:LJ$10,KU30)+COUNTIF(KQ$13:LJ$13,KU30)+COUNTIF(KQ$16:LJ$16,KU30)+COUNTIF(KQ$19:LJ$19,KU30)+COUNTIF(KQ$22:LJ$22,KU30)+COUNTIF(KQ$25:LJ$25,KU30))/設定!$G21+IFERROR((COUNTIF(KQ$6:LJ$7,処理!$L8)+COUNTIF(KQ$10:LJ$10,処理!$L8)+COUNTIF(KQ$13:LJ$13,処理!$L8)+COUNTIF(KQ$16:LJ$16,処理!$L8)+COUNTIF(KQ$19:LJ$19,処理!$L8)+COUNTIF(KQ$22:LJ$22,処理!$L8)+COUNTIF(KQ$25:LJ$25,処理!$L8))/処理!$M8,0))","v":""},{"$f":"IF(LEN(KU30)=0,\"\",SUM(KD30,KW30))","v":""},{"$f":"$K$30","v":""},null,{"$f":"IF(LEN(KY30)=0,\"\",(COUNTIF(KQ$6:LJ$7,KY30)+COUNTIF(KQ$10:LJ$10,KY30)+COUNTIF(KQ$13:LJ$13,KY30)+COUNTIF(KQ$16:LJ$16,KY30)+COUNTIF(KQ$19:LJ$19,KY30)+COUNTIF(KQ$22:LJ$22,KY30)+COUNTIF(KQ$25:LJ$25,KY30))/設定!$J21+IFERROR((COUNTIF(KQ$6:LJ$7,処理!$L14)+COUNTIF(KQ$10:LJ$10,処理!$L14)+COUNTIF(KQ$13:LJ$13,処理!$L14)+COUNTIF(KQ$16:LJ$16,処理!$L14)+COUNTIF(KQ$19:LJ$19,処理!$L14)+COUNTIF(KQ$22:LJ$22,処理!$L14)+COUNTIF(KQ$25:LJ$25,処理!$L14))/処理!$M14,0))","v":""},{"$f":"IF(LEN(KY30)=0,\"\",SUM(KH30,LA30))","v":""},{"$f":"$O$30","v":""},null,{"$f":"IF(LEN(LC30)=0,\"\",(COUNTIF(KQ$6:LJ$7,LC30)+COUNTIF(KQ$10:LJ$10,LC30)+COUNTIF(KQ$13:LJ$13,LC30)+COUNTIF(KQ$16:LJ$16,LC30)+COUNTIF(KQ$19:LJ$19,LC30)+COUNTIF(KQ$22:LJ$22,LC30)+COUNTIF(KQ$25:LJ$25,LC30))/設定!$M21+IFERROR((COUNTIF(KQ$6:LJ$7,処理!$L20)+COUNTIF(KQ$10:LJ$10,処理!$L20)+COUNTIF(KQ$13:LJ$13,処理!$L20)+COUNTIF(KQ$16:LJ$16,処理!$L20)+COUNTIF(KQ$19:LJ$19,処理!$L20)+COUNTIF(KQ$22:LJ$22,処理!$L20)+COUNTIF(KQ$25:LJ$25,処理!$L20))/処理!$M20,0))","v":""},{"$f":"IF(LEN(LC30)=0,\"\",SUM(KL30,LE30))","v":""},"授業合計",null,{"$f":"SUM(KS30:KS35,KW30:KW35,LA30:LA35,LE30:LE35)","v":0},{"$f":"IF(LEN(LG30)=0,\"\",SUM(KP30,LI30))","v":0},{"$f":"$C$30","v":""},null,{"$f":"IF(LEN(LK30)=0,\"\",(COUNTIF(LK$6:MD$7,LK30)+COUNTIF(LK$10:MD$10,LK30)+COUNTIF(LK$13:MD$13,LK30)+COUNTIF(LK$16:MD$16,LK30)+COUNTIF(LK$19:MD$19,LK30)+COUNTIF(LK$22:MD$22,LK30)+COUNTIF(LK$25:MD$25,LK30))/設定!$D21+IFERROR((COUNTIF(LK$6:MD$7,処理!$L2)+COUNTIF(LK$10:MD$10,処理!$L2)+COUNTIF(LK$13:MD$13,処理!$L2)+COUNTIF(LK$16:MD$16,処理!$L2)+COUNTIF(LK$19:MD$19,処理!$L2)+COUNTIF(LK$22:MD$22,処理!$L2)+COUNTIF(LK$25:MD$25,処理!$L2))/処理!$M2,0))","v":""},{"$f":"IF(LEN(LK30)=0,\"\",SUM(KT30,LM30))","v":""},{"$f":"$G$30","v":""},null,{"$f":"IF(LEN(LO30)=0,\"\",(COUNTIF(LK$6:MD$7,LO30)+COUNTIF(LK$10:MD$10,LO30)+COUNTIF(LK$13:MD$13,LO30)+COUNTIF(LK$16:MD$16,LO30)+COUNTIF(LK$19:MD$19,LO30)+COUNTIF(LK$22:MD$22,LO30)+COUNTIF(LK$25:MD$25,LO30))/設定!$G21+IFERROR((COUNTIF(LK$6:MD$7,処理!$L8)+COUNTIF(LK$10:MD$10,処理!$L8)+COUNTIF(LK$13:MD$13,処理!$L8)+COUNTIF(LK$16:MD$16,処理!$L8)+COUNTIF(LK$19:MD$19,処理!$L8)+COUNTIF(LK$22:MD$22,処理!$L8)+COUNTIF(LK$25:MD$25,処理!$L8))/処理!$M8,0))","v":""},{"$f":"IF(LEN(LO30)=0,\"\",SUM(KX30,LQ30))","v":""},{"$f":"$K$30","v":""},null,{"$f":"IF(LEN(LS30)=0,\"\",(COUNTIF(LK$6:MD$7,LS30)+COUNTIF(LK$10:MD$10,LS30)+COUNTIF(LK$13:MD$13,LS30)+COUNTIF(LK$16:MD$16,LS30)+COUNTIF(LK$19:MD$19,LS30)+COUNTIF(LK$22:MD$22,LS30)+COUNTIF(LK$25:MD$25,LS30))/設定!$J21+IFERROR((COUNTIF(LK$6:MD$7,処理!$L14)+COUNTIF(LK$10:MD$10,処理!$L14)+COUNTIF(LK$13:MD$13,処理!$L14)+COUNTIF(LK$16:MD$16,処理!$L14)+COUNTIF(LK$19:MD$19,処理!$L14)+COUNTIF(LK$22:MD$22,処理!$L14)+COUNTIF(LK$25:MD$25,処理!$L14))/処理!$M14,0))","v":""},{"$f":"IF(LEN(LS30)=0,\"\",SUM(LB30,LU30))","v":""},{"$f":"$O$30","v":""},null,{"$f":"IF(LEN(LW30)=0,\"\",(COUNTIF(LK$6:MD$7,LW30)+COUNTIF(LK$10:MD$10,LW30)+COUNTIF(LK$13:MD$13,LW30)+COUNTIF(LK$16:MD$16,LW30)+COUNTIF(LK$19:MD$19,LW30)+COUNTIF(LK$22:MD$22,LW30)+COUNTIF(LK$25:MD$25,LW30))/設定!$M21+IFERROR((COUNTIF(LK$6:MD$7,処理!$L20)+COUNTIF(LK$10:MD$10,処理!$L20)+COUNTIF(LK$13:MD$13,処理!$L20)+COUNTIF(LK$16:MD$16,処理!$L20)+COUNTIF(LK$19:MD$19,処理!$L20)+COUNTIF(LK$22:MD$22,処理!$L20)+COUNTIF(LK$25:MD$25,処理!$L20))/処理!$M20,0))","v":""},{"$f":"IF(LEN(LW30)=0,\"\",SUM(LF30,LY30))","v":""},"授業合計",null,{"$f":"SUM(LM30:LM35,LQ30:LQ35,LU30:LU35,LY30:LY35)","v":0},{"$f":"IF(LEN(MA30)=0,\"\",SUM(LJ30,MC30))","v":0},{"$f":"$C$30","v":""},null,{"$f":"IF(LEN(ME30)=0,\"\",(COUNTIF(ME$6:MX$7,ME30)+COUNTIF(ME$10:MX$10,ME30)+COUNTIF(ME$13:MX$13,ME30)+COUNTIF(ME$16:MX$16,ME30)+COUNTIF(ME$19:MX$19,ME30)+COUNTIF(ME$22:MX$22,ME30)+COUNTIF(ME$25:MX$25,ME30))/設定!$D21+IFERROR((COUNTIF(ME$6:MX$7,処理!$L2)+COUNTIF(ME$10:MX$10,処理!$L2)+COUNTIF(ME$13:MX$13,処理!$L2)+COUNTIF(ME$16:MX$16,処理!$L2)+COUNTIF(ME$19:MX$19,処理!$L2)+COUNTIF(ME$22:MX$22,処理!$L2)+COUNTIF(ME$25:MX$25,処理!$L2))/処理!$M2,0))","v":""},{"$f":"IF(LEN(ME30)=0,\"\",SUM(LN30,MG30))","v":""},{"$f":"$G$30","v":""},null,{"$f":"IF(LEN(MI30)=0,\"\",(COUNTIF(ME$6:MX$7,MI30)+COUNTIF(ME$10:MX$10,MI30)+COUNTIF(ME$13:MX$13,MI30)+COUNTIF(ME$16:MX$16,MI30)+COUNTIF(ME$19:MX$19,MI30)+COUNTIF(ME$22:MX$22,MI30)+COUNTIF(ME$25:MX$25,MI30))/設定!$G21+IFERROR((COUNTIF(ME$6:MX$7,処理!$L8)+COUNTIF(ME$10:MX$10,処理!$L8)+COUNTIF(ME$13:MX$13,処理!$L8)+COUNTIF(ME$16:MX$16,処理!$L8)+COUNTIF(ME$19:MX$19,処理!$L8)+COUNTIF(ME$22:MX$22,処理!$L8)+COUNTIF(ME$25:MX$25,処理!$L8))/処理!$M8,0))","v":""},{"$f":"IF(LEN(MI30)=0,\"\",SUM(LR30,MK30))","v":""},{"$f":"$K$30","v":""},null,{"$f":"IF(LEN(MM30)=0,\"\",(COUNTIF(ME$6:MX$7,MM30)+COUNTIF(ME$10:MX$10,MM30)+COUNTIF(ME$13:MX$13,MM30)+COUNTIF(ME$16:MX$16,MM30)+COUNTIF(ME$19:MX$19,MM30)+COUNTIF(ME$22:MX$22,MM30)+COUNTIF(ME$25:MX$25,MM30))/設定!$J21+IFERROR((COUNTIF(ME$6:MX$7,処理!$L14)+COUNTIF(ME$10:MX$10,処理!$L14)+COUNTIF(ME$13:MX$13,処理!$L14)+COUNTIF(ME$16:MX$16,処理!$L14)+COUNTIF(ME$19:MX$19,処理!$L14)+COUNTIF(ME$22:MX$22,処理!$L14)+COUNTIF(ME$25:MX$25,処理!$L14))/処理!$M14,0))","v":""},{"$f":"IF(LEN(MM30)=0,\"\",SUM(LV30,MO30))","v":""},{"$f":"$O$30","v":""},null,{"$f":"IF(LEN(MQ30)=0,\"\",(COUNTIF(ME$6:MX$7,MQ30)+COUNTIF(ME$10:MX$10,MQ30)+COUNTIF(ME$13:MX$13,MQ30)+COUNTIF(ME$16:MX$16,MQ30)+COUNTIF(ME$19:MX$19,MQ30)+COUNTIF(ME$22:MX$22,MQ30)+COUNTIF(ME$25:MX$25,MQ30))/設定!$M21+IFERROR((COUNTIF(ME$6:MX$7,処理!$L20)+COUNTIF(ME$10:MX$10,処理!$L20)+COUNTIF(ME$13:MX$13,処理!$L20)+COUNTIF(ME$16:MX$16,処理!$L20)+COUNTIF(ME$19:MX$19,処理!$L20)+COUNTIF(ME$22:MX$22,処理!$L20)+COUNTIF(ME$25:MX$25,処理!$L20))/処理!$M20,0))","v":""},{"$f":"IF(LEN(MQ30)=0,\"\",SUM(LZ30,MS30))","v":""},"授業合計",null,{"$f":"SUM(MG30:MG35,MK30:MK35,MO30:MO35,MS30:MS35)","v":0},{"$f":"IF(LEN(MU30)=0,\"\",SUM(MD30,MW30))","v":0}]
[null,null,{"$f":"IF(COUNTIF(処理!$J$2:$J$25,1)>0,処理!H3,\"\")","v":""},null,{"$f":"IF(LEN(C31)=0,\"\",(COUNTIF(C$6:V$7,C31)+COUNTIF(C$10:V$10,C31)+COUNTIF(C$13:V$13,C31)+COUNTIF(C$16:V$16,C31)+COUNTIF(C$19:V$19,C31)+COUNTIF(C$22:V$22,C31)+COUNTIF(C$25:V$25,C31))/設定!$D22+IFERROR((COUNTIF(C$6:V$7,処理!$L3)+COUNTIF(C$10:V$10,処理!$L3)+COUNTIF(C$13:V$13,処理!$L3)+COUNTIF(C$16:V$16,処理!$L3)+COUNTIF(C$19:V$19,処理!$L3)+COUNTIF(C$22:V$22,処理!$L3)+COUNTIF(C$25:V$25,処理!$L3))/処理!$M3,0))","v":""},{"$f":"E31","v":""},{"$f":"IF(COUNTIF(処理!$J$2:$J$25,7)>0,処理!H9,\"\")","v":""},null,{"$f":"IF(LEN(G31)=0,\"\",(COUNTIF(C$6:V$7,G31)+COUNTIF(C$10:V$10,G31)+COUNTIF(C$13:V$13,G31)+COUNTIF(C$16:V$16,G31)+COUNTIF(C$19:V$19,G31)+COUNTIF(C$22:V$22,G31)+COUNTIF(C$25:V$25,G31))/設定!$G22+IFERROR((COUNTIF(C$6:V$7,処理!$L9)+COUNTIF(C$10:V$10,処理!$L9)+COUNTIF(C$13:V$13,処理!$L9)+COUNTIF(C$16:V$16,処理!$L9)+COUNTIF(C$19:V$19,処理!$L9)+COUNTIF(C$22:V$22,処理!$L9)+COUNTIF(C$25:V$25,処理!$L9))/処理!$M9,0))","v":""},{"$f":"I31","v":""},{"$f":"IF(COUNTIF(処理!$J$2:$J$25,13)>0,処理!H15,\"\")","v":""},null,{"$f":"IF(LEN(K31)=0,\"\",(COUNTIF(C$6:V$7,K31)+COUNTIF(C$10:V$10,K31)+COUNTIF(C$13:V$13,K31)+COUNTIF(C$16:V$16,K31)+COUNTIF(C$19:V$19,K31)+COUNTIF(C$22:V$22,K31)+COUNTIF(C$25:V$25,K31))/設定!$J22+IFERROR((COUNTIF(C$6:V$7,処理!$L15)+COUNTIF(C$10:V$10,処理!$L15)+COUNTIF(C$13:V$13,処理!$L15)+COUNTIF(C$16:V$16,処理!$L15)+COUNTIF(C$19:V$19,処理!$L15)+COUNTIF(C$22:V$22,処理!$L15)+COUNTIF(C$25:V$25,処理!$L15))/処理!$M15,0))","v":""},{"$f":"M31","v":""},{"$f":"IF(COUNTIF(処理!$J$2:$J$25,19)>0,処理!H21,\"\")","v":""},null,{"$f":"IF(LEN(O31)=0,\"\",(COUNTIF(C$6:V$7,O31)+COUNTIF(C$10:V$10,O31)+COUNTIF(C$13:V$13,O31)+COUNTIF(C$16:V$16,O31)+COUNTIF(C$19:V$19,O31)+COUNTIF(C$22:V$22,O31)+COUNTIF(C$25:V$25,O31))/設定!$M22+IFERROR((COUNTIF(C$6:V$7,処理!$L21)+COUNTIF(C$10:V$10,処理!$L21)+COUNTIF(C$13:V$13,処理!$L21)+COUNTIF(C$16:V$16,処理!$L21)+COUNTIF(C$19:V$19,処理!$L21)+COUNTIF(C$22:V$22,処理!$L21)+COUNTIF(C$25:V$25,処理!$L21))/処理!$M21,0))","v":""},{"$f":"Q31","v":""},{"$f":"処理!H27&\"\"","v":""},null,{"$f":"IF(LEN(S31)=0,\"\",COUNTIF(C$6:V$7,S31)+COUNTIF(C$10:V$10,S31)+COUNTIF(C$13:V$13,S31)+COUNTIF(C$16:V$16,S31)+COUNTIF(C$19:V$19,S31)+COUNTIF(C$22:V$22,S31)+COUNTIF(C$25:V$25,S31))","v":""},{"$f":"U31","v":""},{"$f":"$C$31","v":""},null,{"$f":"IF(LEN(W31)=0,\"\",(COUNTIF(W$6:AP$7,W31)+COUNTIF(W$10:AP$10,W31)+COUNTIF(W$13:AP$13,W31)+COUNTIF(W$16:AP$16,W31)+COUNTIF(W$19:AP$19,W31)+COUNTIF(W$22:AP$22,W31)+COUNTIF(W$25:AP$25,W31))/設定!$D22+IFERROR((COUNTIF(W$6:AP$7,処理!$L3)+COUNTIF(W$10:AP$10,処理!$L3)+COUNTIF(W$13:AP$13,処理!$L3)+COUNTIF(W$16:AP$16,処理!$L3)+COUNTIF(W$19:AP$19,処理!$L3)+COUNTIF(W$22:AP$22,処理!$L3)+COUNTIF(W$25:AP$25,処理!$L3))/処理!$M3,0))","v":""},{"$f":"IF(LEN(W31)=0,\"\",SUM(F31,Y31))","v":""},{"$f":"$G$31","v":""},null,{"$f":"IF(LEN(AA31)=0,\"\",(COUNTIF(W$6:AP$7,AA31)+COUNTIF(W$10:AP$10,AA31)+COUNTIF(W$13:AP$13,AA31)+COUNTIF(W$16:AP$16,AA31)+COUNTIF(W$19:AP$19,AA31)+COUNTIF(W$22:AP$22,AA31)+COUNTIF(W$25:AP$25,AA31))/設定!$G22+IFERROR((COUNTIF(W$6:AP$7,処理!$L9)+COUNTIF(W$10:AP$10,処理!$L9)+COUNTIF(W$13:AP$13,処理!$L9)+COUNTIF(W$16:AP$16,処理!$L9)+COUNTIF(W$19:AP$19,処理!$L9)+COUNTIF(W$22:AP$22,処理!$L9)+COUNTIF(W$25:AP$25,処理!$L9))/処理!$M9,0))","v":""},"",{"$f":"$K$31","v":""},null,{"$f":"IF(LEN(AE31)=0,\"\",(COUNTIF(W$6:AP$7,AE31)+COUNTIF(W$10:AP$10,AE31)+COUNTIF(W$13:AP$13,AE31)+COUNTIF(W$16:AP$16,AE31)+COUNTIF(W$19:AP$19,AE31)+COUNTIF(W$22:AP$22,AE31)+COUNTIF(W$25:AP$25,AE31))/設定!$J22+IFERROR((COUNTIF(W$6:AP$7,処理!$L15)+COUNTIF(W$10:AP$10,処理!$L15)+COUNTIF(W$13:AP$13,処理!$L15)+COUNTIF(W$16:AP$16,処理!$L15)+COUNTIF(W$19:AP$19,処理!$L15)+COUNTIF(W$22:AP$22,処理!$L15)+COUNTIF(W$25:AP$25,処理!$L15))/処理!$M15,0))","v":""},"",{"$f":"$O$31","v":""},null,{"$f":"IF(LEN(AI31)=0,\"\",(COUNTIF(W$6:AP$7,AI31)+COUNTIF(W$10:AP$10,AI31)+COUNTIF(W$13:AP$13,AI31)+COUNTIF(W$16:AP$16,AI31)+COUNTIF(W$19:AP$19,AI31)+COUNTIF(W$22:AP$22,AI31)+COUNTIF(W$25:AP$25,AI31))/設定!$M22+IFERROR((COUNTIF(W$6:AP$7,処理!$L21)+COUNTIF(W$10:AP$10,処理!$L21)+COUNTIF(W$13:AP$13,処理!$L21)+COUNTIF(W$16:AP$16,処理!$L21)+COUNTIF(W$19:AP$19,処理!$L21)+COUNTIF(W$22:AP$22,処理!$L21)+COUNTIF(W$25:AP$25,処理!$L21))/処理!$M21,0))","v":""},"",{"$f":"$S$31","v":""},null,{"$f":"IF(LEN(AM31)=0,\"\",COUNTIF(W$6:AP$7,AM31)+COUNTIF(W$10:AP$10,AM31)+COUNTIF(W$13:AP$13,AM31)+COUNTIF(W$16:AP$16,AM31)+COUNTIF(W$19:AP$19,AM31)+COUNTIF(W$22:AP$22,AM31)+COUNTIF(W$25:AP$25,AM31))","v":""},"",{"$f":"$C$31","v":""},null,{"$f":"IF(LEN(AQ31)=0,\"\",(COUNTIF(AQ$6:BJ$7,AQ31)+COUNTIF(AQ$10:BJ$10,AQ31)+COUNTIF(AQ$13:BJ$13,AQ31)+COUNTIF(AQ$16:BJ$16,AQ31)+COUNTIF(AQ$19:BJ$19,AQ31)+COUNTIF(AQ$22:BJ$22,AQ31)+COUNTIF(AQ$25:BJ$25,AQ31))/設定!$D22+IFERROR((COUNTIF(AQ$6:BJ$7,処理!$L3)+COUNTIF(AQ$10:BJ$10,処理!$L3)+COUNTIF(AQ$13:BJ$13,処理!$L3)+COUNTIF(AQ$16:BJ$16,処理!$L3)+COUNTIF(AQ$19:BJ$19,処理!$L3)+COUNTIF(AQ$22:BJ$22,処理!$L3)+COUNTIF(AQ$25:BJ$25,処理!$L3))/処理!$M3,0))","v":""},{"$f":"IF(LEN(AQ31)=0,\"\",SUM(Z31,AS31))","v":""},{"$f":"$G$31","v":""},null,{"$f":"IF(LEN(AU31)=0,\"\",(COUNTIF(AQ$6:BJ$7,AU31)+COUNTIF(AQ$10:BJ$10,AU31)+COUNTIF(AQ$13:BJ$13,AU31)+COUNTIF(AQ$16:BJ$16,AU31)+COUNTIF(AQ$19:BJ$19,AU31)+COUNTIF(AQ$22:BJ$22,AU31)+COUNTIF(AQ$25:BJ$25,AU31))/設定!$G22+IFERROR((COUNTIF(AQ$6:BJ$7,処理!$L9)+COUNTIF(AQ$10:BJ$10,処理!$L9)+COUNTIF(AQ$13:BJ$13,処理!$L9)+COUNTIF(AQ$16:BJ$16,処理!$L9)+COUNTIF(AQ$19:BJ$19,処理!$L9)+COUNTIF(AQ$22:BJ$22,処理!$L9)+COUNTIF(AQ$25:BJ$25,処理!$L9))/処理!$M9,0))","v":""},"",{"$f":"$K$31","v":""},null,{"$f":"IF(LEN(AY31)=0,\"\",(COUNTIF(AQ$6:BJ$7,AY31)+COUNTIF(AQ$10:BJ$10,AY31)+COUNTIF(AQ$13:BJ$13,AY31)+COUNTIF(AQ$16:BJ$16,AY31)+COUNTIF(AQ$19:BJ$19,AY31)+COUNTIF(AQ$22:BJ$22,AY31)+COUNTIF(AQ$25:BJ$25,AY31))/設定!$J22+IFERROR((COUNTIF(AQ$6:BJ$7,処理!$L15)+COUNTIF(AQ$10:BJ$10,処理!$L15)+COUNTIF(AQ$13:BJ$13,処理!$L15)+COUNTIF(AQ$16:BJ$16,処理!$L15)+COUNTIF(AQ$19:BJ$19,処理!$L15)+COUNTIF(AQ$22:BJ$22,処理!$L15)+COUNTIF(AQ$25:BJ$25,処理!$L15))/処理!$M15,0))","v":""},"",{"$f":"$O$31","v":""},null,{"$f":"IF(LEN(BC31)=0,\"\",(COUNTIF(AQ$6:BJ$7,BC31)+COUNTIF(AQ$10:BJ$10,BC31)+COUNTIF(AQ$13:BJ$13,BC31)+COUNTIF(AQ$16:BJ$16,BC31)+COUNTIF(AQ$19:BJ$19,BC31)+COUNTIF(AQ$22:BJ$22,BC31)+COUNTIF(AQ$25:BJ$25,BC31))/設定!$M22+IFERROR((COUNTIF(AQ$6:BJ$7,処理!$L21)+COUNTIF(AQ$10:BJ$10,処理!$L21)+COUNTIF(AQ$13:BJ$13,処理!$L21)+COUNTIF(AQ$16:BJ$16,処理!$L21)+COUNTIF(AQ$19:BJ$19,処理!$L21)+COUNTIF(AQ$22:BJ$22,処理!$L21)+COUNTIF(AQ$25:BJ$25,処理!$L21))/処理!$M21,0))","v":""},"",{"$f":"$S$31","v":""},null,{"$f":"IF(LEN(BG31)=0,\"\",COUNTIF(AQ$6:BJ$7,BG31)+COUNTIF(AQ$10:BJ$10,BG31)+COUNTIF(AQ$13:BJ$13,BG31)+COUNTIF(AQ$16:BJ$16,BG31)+COUNTIF(AQ$19:BJ$19,BG31)+COUNTIF(AQ$22:BJ$22,BG31)+COUNTIF(AQ$25:BJ$25,BG31))","v":""},"",{"$f":"$C$31","v":""},null,{"$f":"IF(LEN(BK31)=0,\"\",(COUNTIF(BK$6:CD$7,BK31)+COUNTIF(BK$10:CD$10,BK31)+COUNTIF(BK$13:CD$13,BK31)+COUNTIF(BK$16:CD$16,BK31)+COUNTIF(BK$19:CD$19,BK31)+COUNTIF(BK$22:CD$22,BK31)+COUNTIF(BK$25:CD$25,BK31))/設定!$D22+IFERROR((COUNTIF(BK$6:CD$7,処理!$L3)+COUNTIF(BK$10:CD$10,処理!$L3)+COUNTIF(BK$13:CD$13,処理!$L3)+COUNTIF(BK$16:CD$16,処理!$L3)+COUNTIF(BK$19:CD$19,処理!$L3)+COUNTIF(BK$22:CD$22,処理!$L3)+COUNTIF(BK$25:CD$25,処理!$L3))/処理!$M3,0))","v":""},{"$f":"IF(LEN(BK31)=0,\"\",SUM(AT31,BM31))","v":""},{"$f":"$G$31","v":""},null,{"$f":"IF(LEN(BO31)=0,\"\",(COUNTIF(BK$6:CD$7,BO31)+COUNTIF(BK$10:CD$10,BO31)+COUNTIF(BK$13:CD$13,BO31)+COUNTIF(BK$16:CD$16,BO31)+COUNTIF(BK$19:CD$19,BO31)+COUNTIF(BK$22:CD$22,BO31)+COUNTIF(BK$25:CD$25,BO31))/設定!$G22+IFERROR((COUNTIF(BK$6:CD$7,処理!$L9)+COUNTIF(BK$10:CD$10,処理!$L9)+COUNTIF(BK$13:CD$13,処理!$L9)+COUNTIF(BK$16:CD$16,処理!$L9)+COUNTIF(BK$19:CD$19,処理!$L9)+COUNTIF(BK$22:CD$22,処理!$L9)+COUNTIF(BK$25:CD$25,処理!$L9))/処理!$M9,0))","v":""},"",{"$f":"$K$31","v":""},null,{"$f":"IF(LEN(BS31)=0,\"\",(COUNTIF(BK$6:CD$7,BS31)+COUNTIF(BK$10:CD$10,BS31)+COUNTIF(BK$13:CD$13,BS31)+COUNTIF(BK$16:CD$16,BS31)+COUNTIF(BK$19:CD$19,BS31)+COUNTIF(BK$22:CD$22,BS31)+COUNTIF(BK$25:CD$25,BS31))/設定!$J22+IFERROR((COUNTIF(BK$6:CD$7,処理!$L15)+COUNTIF(BK$10:CD$10,処理!$L15)+COUNTIF(BK$13:CD$13,処理!$L15)+COUNTIF(BK$16:CD$16,処理!$L15)+COUNTIF(BK$19:CD$19,処理!$L15)+COUNTIF(BK$22:CD$22,処理!$L15)+COUNTIF(BK$25:CD$25,処理!$L15))/処理!$M15,0))","v":""},"",{"$f":"$O$31","v":""},null,{"$f":"IF(LEN(BW31)=0,\"\",(COUNTIF(BK$6:CD$7,BW31)+COUNTIF(BK$10:CD$10,BW31)+COUNTIF(BK$13:CD$13,BW31)+COUNTIF(BK$16:CD$16,BW31)+COUNTIF(BK$19:CD$19,BW31)+COUNTIF(BK$22:CD$22,BW31)+COUNTIF(BK$25:CD$25,BW31))/設定!$M22+IFERROR((COUNTIF(BK$6:CD$7,処理!$L21)+COUNTIF(BK$10:CD$10,処理!$L21)+COUNTIF(BK$13:CD$13,処理!$L21)+COUNTIF(BK$16:CD$16,処理!$L21)+COUNTIF(BK$19:CD$19,処理!$L21)+COUNTIF(BK$22:CD$22,処理!$L21)+COUNTIF(BK$25:CD$25,処理!$L21))/処理!$M21,0))","v":""},"",{"$f":"$S$31","v":""},null,{"$f":"IF(LEN(CA31)=0,\"\",COUNTIF(BK$6:CD$7,CA31)+COUNTIF(BK$10:CD$10,CA31)+COUNTIF(BK$13:CD$13,CA31)+COUNTIF(BK$16:CD$16,CA31)+COUNTIF(BK$19:CD$19,CA31)+COUNTIF(BK$22:CD$22,CA31)+COUNTIF(BK$25:CD$25,CA31))","v":""},"",{"$f":"$C$31","v":""},null,{"$f":"IF(LEN(CE31)=0,\"\",(COUNTIF(CE$6:CX$7,CE31)+COUNTIF(CE$10:CX$10,CE31)+COUNTIF(CE$13:CX$13,CE31)+COUNTIF(CE$16:CX$16,CE31)+COUNTIF(CE$19:CX$19,CE31)+COUNTIF(CE$22:CX$22,CE31)+COUNTIF(CE$25:CX$25,CE31))/設定!$D22+IFERROR((COUNTIF(CE$6:CX$7,処理!$L3)+COUNTIF(CE$10:CX$10,処理!$L3)+COUNTIF(CE$13:CX$13,処理!$L3)+COUNTIF(CE$16:CX$16,処理!$L3)+COUNTIF(CE$19:CX$19,処理!$L3)+COUNTIF(CE$22:CX$22,処理!$L3)+COUNTIF(CE$25:CX$25,処理!$L3))/処理!$M3,0))","v":""},{"$f":"IF(LEN(CE31)=0,\"\",SUM(BN31,CG31))","v":""},{"$f":"$G$31","v":""},null,{"$f":"IF(LEN(CI31)=0,\"\",(COUNTIF(CE$6:CX$7,CI31)+COUNTIF(CE$10:CX$10,CI31)+COUNTIF(CE$13:CX$13,CI31)+COUNTIF(CE$16:CX$16,CI31)+COUNTIF(CE$19:CX$19,CI31)+COUNTIF(CE$22:CX$22,CI31)+COUNTIF(CE$25:CX$25,CI31))/設定!$G22+IFERROR((COUNTIF(CE$6:CX$7,処理!$L9)+COUNTIF(CE$10:CX$10,処理!$L9)+COUNTIF(CE$13:CX$13,処理!$L9)+COUNTIF(CE$16:CX$16,処理!$L9)+COUNTIF(CE$19:CX$19,処理!$L9)+COUNTIF(CE$22:CX$22,処理!$L9)+COUNTIF(CE$25:CX$25,処理!$L9))/処理!$M9,0))","v":""},"",{"$f":"$K$31","v":""},null,{"$f":"IF(LEN(CM31)=0,\"\",(COUNTIF(CE$6:CX$7,CM31)+COUNTIF(CE$10:CX$10,CM31)+COUNTIF(CE$13:CX$13,CM31)+COUNTIF(CE$16:CX$16,CM31)+COUNTIF(CE$19:CX$19,CM31)+COUNTIF(CE$22:CX$22,CM31)+COUNTIF(CE$25:CX$25,CM31))/設定!$J22+IFERROR((COUNTIF(CE$6:CX$7,処理!$L15)+COUNTIF(CE$10:CX$10,処理!$L15)+COUNTIF(CE$13:CX$13,処理!$L15)+COUNTIF(CE$16:CX$16,処理!$L15)+COUNTIF(CE$19:CX$19,処理!$L15)+COUNTIF(CE$22:CX$22,処理!$L15)+COUNTIF(CE$25:CX$25,処理!$L15))/処理!$M15,0))","v":""},"",{"$f":"$O$31","v":""},null,{"$f":"IF(LEN(CQ31)=0,\"\",(COUNTIF(CE$6:CX$7,CQ31)+COUNTIF(CE$10:CX$10,CQ31)+COUNTIF(CE$13:CX$13,CQ31)+COUNTIF(CE$16:CX$16,CQ31)+COUNTIF(CE$19:CX$19,CQ31)+COUNTIF(CE$22:CX$22,CQ31)+COUNTIF(CE$25:CX$25,CQ31))/設定!$M22+IFERROR((COUNTIF(CE$6:CX$7,処理!$L21)+COUNTIF(CE$10:CX$10,処理!$L21)+COUNTIF(CE$13:CX$13,処理!$L21)+COUNTIF(CE$16:CX$16,処理!$L21)+COUNTIF(CE$19:CX$19,処理!$L21)+COUNTIF(CE$22:CX$22,処理!$L21)+COUNTIF(CE$25:CX$25,処理!$L21))/処理!$M21,0))","v":""},"",{"$f":"$S$31","v":""},null,{"$f":"IF(LEN(CU31)=0,\"\",COUNTIF(CE$6:CX$7,CU31)+COUNTIF(CE$10:CX$10,CU31)+COUNTIF(CE$13:CX$13,CU31)+COUNTIF(CE$16:CX$16,CU31)+COUNTIF(CE$19:CX$19,CU31)+COUNTIF(CE$22:CX$22,CU31)+COUNTIF(CE$25:CX$25,CU31))","v":""},"",{"$f":"$C$31","v":""},null,{"$f":"IF(LEN(CY31)=0,\"\",(COUNTIF(CY$6:DR$7,CY31)+COUNTIF(CY$10:DR$10,CY31)+COUNTIF(CY$13:DR$13,CY31)+COUNTIF(CY$16:DR$16,CY31)+COUNTIF(CY$19:DR$19,CY31)+COUNTIF(CY$22:DR$22,CY31)+COUNTIF(CY$25:DR$25,CY31))/設定!$D22+IFERROR((COUNTIF(CY$6:DR$7,処理!$L3)+COUNTIF(CY$10:DR$10,処理!$L3)+COUNTIF(CY$13:DR$13,処理!$L3)+COUNTIF(CY$16:DR$16,処理!$L3)+COUNTIF(CY$19:DR$19,処理!$L3)+COUNTIF(CY$22:DR$22,処理!$L3)+COUNTIF(CY$25:DR$25,処理!$L3))/処理!$M3,0))","v":""},{"$f":"IF(LEN(CY31)=0,\"\",SUM(CH31,DA31))","v":""},{"$f":"$G$31","v":""},null,{"$f":"IF(LEN(DC31)=0,\"\",(COUNTIF(CY$6:DR$7,DC31)+COUNTIF(CY$10:DR$10,DC31)+COUNTIF(CY$13:DR$13,DC31)+COUNTIF(CY$16:DR$16,DC31)+COUNTIF(CY$19:DR$19,DC31)+COUNTIF(CY$22:DR$22,DC31)+COUNTIF(CY$25:DR$25,DC31))/設定!$G22+IFERROR((COUNTIF(CY$6:DR$7,処理!$L9)+COUNTIF(CY$10:DR$10,処理!$L9)+COUNTIF(CY$13:DR$13,処理!$L9)+COUNTIF(CY$16:DR$16,処理!$L9)+COUNTIF(CY$19:DR$19,処理!$L9)+COUNTIF(CY$22:DR$22,処理!$L9)+COUNTIF(CY$25:DR$25,処理!$L9))/処理!$M9,0))","v":""},"",{"$f":"$K$31","v":""},null,{"$f":"IF(LEN(DG31)=0,\"\",(COUNTIF(CY$6:DR$7,DG31)+COUNTIF(CY$10:DR$10,DG31)+COUNTIF(CY$13:DR$13,DG31)+COUNTIF(CY$16:DR$16,DG31)+COUNTIF(CY$19:DR$19,DG31)+COUNTIF(CY$22:DR$22,DG31)+COUNTIF(CY$25:DR$25,DG31))/設定!$J22+IFERROR((COUNTIF(CY$6:DR$7,処理!$L15)+COUNTIF(CY$10:DR$10,処理!$L15)+COUNTIF(CY$13:DR$13,処理!$L15)+COUNTIF(CY$16:DR$16,処理!$L15)+COUNTIF(CY$19:DR$19,処理!$L15)+COUNTIF(CY$22:DR$22,処理!$L15)+COUNTIF(CY$25:DR$25,処理!$L15))/処理!$M15,0))","v":""},"",{"$f":"$O$31","v":""},null,{"$f":"IF(LEN(DK31)=0,\"\",(COUNTIF(CY$6:DR$7,DK31)+COUNTIF(CY$10:DR$10,DK31)+COUNTIF(CY$13:DR$13,DK31)+COUNTIF(CY$16:DR$16,DK31)+COUNTIF(CY$19:DR$19,DK31)+COUNTIF(CY$22:DR$22,DK31)+COUNTIF(CY$25:DR$25,DK31))/設定!$M22+IFERROR((COUNTIF(CY$6:DR$7,処理!$L21)+COUNTIF(CY$10:DR$10,処理!$L21)+COUNTIF(CY$13:DR$13,処理!$L21)+COUNTIF(CY$16:DR$16,処理!$L21)+COUNTIF(CY$19:DR$19,処理!$L21)+COUNTIF(CY$22:DR$22,処理!$L21)+COUNTIF(CY$25:DR$25,処理!$L21))/処理!$M21,0))","v":""},"",{"$f":"$S$31","v":""},null,{"$f":"IF(LEN(DO31)=0,\"\",COUNTIF(CY$6:DR$7,DO31)+COUNTIF(CY$10:DR$10,DO31)+COUNTIF(CY$13:DR$13,DO31)+COUNTIF(CY$16:DR$16,DO31)+COUNTIF(CY$19:DR$19,DO31)+COUNTIF(CY$22:DR$22,DO31)+COUNTIF(CY$25:DR$25,DO31))","v":""},"",{"$f":"$C$31","v":""},null,{"$f":"IF(LEN(DS31)=0,\"\",(COUNTIF(DS$6:EL$7,DS31)+COUNTIF(DS$10:EL$10,DS31)+COUNTIF(DS$13:EL$13,DS31)+COUNTIF(DS$16:EL$16,DS31)+COUNTIF(DS$19:EL$19,DS31)+COUNTIF(DS$22:EL$22,DS31)+COUNTIF(DS$25:EL$25,DS31))/設定!$D22+IFERROR((COUNTIF(DS$6:EL$7,処理!$L3)+COUNTIF(DS$10:EL$10,処理!$L3)+COUNTIF(DS$13:EL$13,処理!$L3)+COUNTIF(DS$16:EL$16,処理!$L3)+COUNTIF(DS$19:EL$19,処理!$L3)+COUNTIF(DS$22:EL$22,処理!$L3)+COUNTIF(DS$25:EL$25,処理!$L3))/処理!$M3,0))","v":""},{"$f":"IF(LEN(DS31)=0,\"\",SUM(DB31,DU31))","v":""},{"$f":"$G$31","v":""},null,{"$f":"IF(LEN(DW31)=0,\"\",(COUNTIF(DS$6:EL$7,DW31)+COUNTIF(DS$10:EL$10,DW31)+COUNTIF(DS$13:EL$13,DW31)+COUNTIF(DS$16:EL$16,DW31)+COUNTIF(DS$19:EL$19,DW31)+COUNTIF(DS$22:EL$22,DW31)+COUNTIF(DS$25:EL$25,DW31))/設定!$G22+IFERROR((COUNTIF(DS$6:EL$7,処理!$L9)+COUNTIF(DS$10:EL$10,処理!$L9)+COUNTIF(DS$13:EL$13,処理!$L9)+COUNTIF(DS$16:EL$16,処理!$L9)+COUNTIF(DS$19:EL$19,処理!$L9)+COUNTIF(DS$22:EL$22,処理!$L9)+COUNTIF(DS$25:EL$25,処理!$L9))/処理!$M9,0))","v":""},"",{"$f":"$K$31","v":""},null,{"$f":"IF(LEN(EA31)=0,\"\",(COUNTIF(DS$6:EL$7,EA31)+COUNTIF(DS$10:EL$10,EA31)+COUNTIF(DS$13:EL$13,EA31)+COUNTIF(DS$16:EL$16,EA31)+COUNTIF(DS$19:EL$19,EA31)+COUNTIF(DS$22:EL$22,EA31)+COUNTIF(DS$25:EL$25,EA31))/設定!$J22+IFERROR((COUNTIF(DS$6:EL$7,処理!$L15)+COUNTIF(DS$10:EL$10,処理!$L15)+COUNTIF(DS$13:EL$13,処理!$L15)+COUNTIF(DS$16:EL$16,処理!$L15)+COUNTIF(DS$19:EL$19,処理!$L15)+COUNTIF(DS$22:EL$22,処理!$L15)+COUNTIF(DS$25:EL$25,処理!$L15))/処理!$M15,0))","v":""},"",{"$f":"$O$31","v":""},null,{"$f":"IF(LEN(EE31)=0,\"\",(COUNTIF(DS$6:EL$7,EE31)+COUNTIF(DS$10:EL$10,EE31)+COUNTIF(DS$13:EL$13,EE31)+COUNTIF(DS$16:EL$16,EE31)+COUNTIF(DS$19:EL$19,EE31)+COUNTIF(DS$22:EL$22,EE31)+COUNTIF(DS$25:EL$25,EE31))/設定!$M22+IFERROR((COUNTIF(DS$6:EL$7,処理!$L21)+COUNTIF(DS$10:EL$10,処理!$L21)+COUNTIF(DS$13:EL$13,処理!$L21)+COUNTIF(DS$16:EL$16,処理!$L21)+COUNTIF(DS$19:EL$19,処理!$L21)+COUNTIF(DS$22:EL$22,処理!$L21)+COUNTIF(DS$25:EL$25,処理!$L21))/処理!$M21,0))","v":""},"",{"$f":"$S$31","v":""},null,{"$f":"IF(LEN(EI31)=0,\"\",COUNTIF(DS$6:EL$7,EI31)+COUNTIF(DS$10:EL$10,EI31)+COUNTIF(DS$13:EL$13,EI31)+COUNTIF(DS$16:EL$16,EI31)+COUNTIF(DS$19:EL$19,EI31)+COUNTIF(DS$22:EL$22,EI31)+COUNTIF(DS$25:EL$25,EI31))","v":""},"",{"$f":"$C$31","v":""},null,{"$f":"IF(LEN(EM31)=0,\"\",(COUNTIF(EM$6:FF$7,EM31)+COUNTIF(EM$10:FF$10,EM31)+COUNTIF(EM$13:FF$13,EM31)+COUNTIF(EM$16:FF$16,EM31)+COUNTIF(EM$19:FF$19,EM31)+COUNTIF(EM$22:FF$22,EM31)+COUNTIF(EM$25:FF$25,EM31))/設定!$D22+IFERROR((COUNTIF(EM$6:FF$7,処理!$L3)+COUNTIF(EM$10:FF$10,処理!$L3)+COUNTIF(EM$13:FF$13,処理!$L3)+COUNTIF(EM$16:FF$16,処理!$L3)+COUNTIF(EM$19:FF$19,処理!$L3)+COUNTIF(EM$22:FF$22,処理!$L3)+COUNTIF(EM$25:FF$25,処理!$L3))/処理!$M3,0))","v":""},{"$f":"IF(LEN(EM31)=0,\"\",SUM(DV31,EO31))","v":""},{"$f":"$G$31","v":""},null,{"$f":"IF(LEN(EQ31)=0,\"\",(COUNTIF(EM$6:FF$7,EQ31)+COUNTIF(EM$10:FF$10,EQ31)+COUNTIF(EM$13:FF$13,EQ31)+COUNTIF(EM$16:FF$16,EQ31)+COUNTIF(EM$19:FF$19,EQ31)+COUNTIF(EM$22:FF$22,EQ31)+COUNTIF(EM$25:FF$25,EQ31))/設定!$G22+IFERROR((COUNTIF(EM$6:FF$7,処理!$L9)+COUNTIF(EM$10:FF$10,処理!$L9)+COUNTIF(EM$13:FF$13,処理!$L9)+COUNTIF(EM$16:FF$16,処理!$L9)+COUNTIF(EM$19:FF$19,処理!$L9)+COUNTIF(EM$22:FF$22,処理!$L9)+COUNTIF(EM$25:FF$25,処理!$L9))/処理!$M9,0))","v":""},"",{"$f":"$K$31","v":""},null,{"$f":"IF(LEN(EU31)=0,\"\",(COUNTIF(EM$6:FF$7,EU31)+COUNTIF(EM$10:FF$10,EU31)+COUNTIF(EM$13:FF$13,EU31)+COUNTIF(EM$16:FF$16,EU31)+COUNTIF(EM$19:FF$19,EU31)+COUNTIF(EM$22:FF$22,EU31)+COUNTIF(EM$25:FF$25,EU31))/設定!$J22+IFERROR((COUNTIF(EM$6:FF$7,処理!$L15)+COUNTIF(EM$10:FF$10,処理!$L15)+COUNTIF(EM$13:FF$13,処理!$L15)+COUNTIF(EM$16:FF$16,処理!$L15)+COUNTIF(EM$19:FF$19,処理!$L15)+COUNTIF(EM$22:FF$22,処理!$L15)+COUNTIF(EM$25:FF$25,処理!$L15))/処理!$M15,0))","v":""},"",{"$f":"$O$31","v":""},null,{"$f":"IF(LEN(EY31)=0,\"\",(COUNTIF(EM$6:FF$7,EY31)+COUNTIF(EM$10:FF$10,EY31)+COUNTIF(EM$13:FF$13,EY31)+COUNTIF(EM$16:FF$16,EY31)+COUNTIF(EM$19:FF$19,EY31)+COUNTIF(EM$22:FF$22,EY31)+COUNTIF(EM$25:FF$25,EY31))/設定!$M22+IFERROR((COUNTIF(EM$6:FF$7,処理!$L21)+COUNTIF(EM$10:FF$10,処理!$L21)+COUNTIF(EM$13:FF$13,処理!$L21)+COUNTIF(EM$16:FF$16,処理!$L21)+COUNTIF(EM$19:FF$19,処理!$L21)+COUNTIF(EM$22:FF$22,処理!$L21)+COUNTIF(EM$25:FF$25,処理!$L21))/処理!$M21,0))","v":""},"",{"$f":"$S$31","v":""},null,{"$f":"IF(LEN(FC31)=0,\"\",COUNTIF(EM$6:FF$7,FC31)+COUNTIF(EM$10:FF$10,FC31)+COUNTIF(EM$13:FF$13,FC31)+COUNTIF(EM$16:FF$16,FC31)+COUNTIF(EM$19:FF$19,FC31)+COUNTIF(EM$22:FF$22,FC31)+COUNTIF(EM$25:FF$25,FC31))","v":""},"",{"$f":"$C$31","v":""},null,{"$f":"IF(LEN(FG31)=0,\"\",(COUNTIF(FG$6:FZ$7,FG31)+COUNTIF(FG$10:FZ$10,FG31)+COUNTIF(FG$13:FZ$13,FG31)+COUNTIF(FG$16:FZ$16,FG31)+COUNTIF(FG$19:FZ$19,FG31)+COUNTIF(FG$22:FZ$22,FG31)+COUNTIF(FG$25:FZ$25,FG31))/設定!$D22+IFERROR((COUNTIF(FG$6:FZ$7,処理!$L3)+COUNTIF(FG$10:FZ$10,処理!$L3)+COUNTIF(FG$13:FZ$13,処理!$L3)+COUNTIF(FG$16:FZ$16,処理!$L3)+COUNTIF(FG$19:FZ$19,処理!$L3)+COUNTIF(FG$22:FZ$22,処理!$L3)+COUNTIF(FG$25:FZ$25,処理!$L3))/処理!$M3,0))","v":""},{"$f":"IF(LEN(FG31)=0,\"\",SUM(EP31,FI31))","v":""},{"$f":"$G$31","v":""},null,{"$f":"IF(LEN(FK31)=0,\"\",(COUNTIF(FG$6:FZ$7,FK31)+COUNTIF(FG$10:FZ$10,FK31)+COUNTIF(FG$13:FZ$13,FK31)+COUNTIF(FG$16:FZ$16,FK31)+COUNTIF(FG$19:FZ$19,FK31)+COUNTIF(FG$22:FZ$22,FK31)+COUNTIF(FG$25:FZ$25,FK31))/設定!$G22+IFERROR((COUNTIF(FG$6:FZ$7,処理!$L9)+COUNTIF(FG$10:FZ$10,処理!$L9)+COUNTIF(FG$13:FZ$13,処理!$L9)+COUNTIF(FG$16:FZ$16,処理!$L9)+COUNTIF(FG$19:FZ$19,処理!$L9)+COUNTIF(FG$22:FZ$22,処理!$L9)+COUNTIF(FG$25:FZ$25,処理!$L9))/処理!$M9,0))","v":""},"",{"$f":"$K$31","v":""},null,{"$f":"IF(LEN(FO31)=0,\"\",(COUNTIF(FG$6:FZ$7,FO31)+COUNTIF(FG$10:FZ$10,FO31)+COUNTIF(FG$13:FZ$13,FO31)+COUNTIF(FG$16:FZ$16,FO31)+COUNTIF(FG$19:FZ$19,FO31)+COUNTIF(FG$22:FZ$22,FO31)+COUNTIF(FG$25:FZ$25,FO31))/設定!$J22+IFERROR((COUNTIF(FG$6:FZ$7,処理!$L15)+COUNTIF(FG$10:FZ$10,処理!$L15)+COUNTIF(FG$13:FZ$13,処理!$L15)+COUNTIF(FG$16:FZ$16,処理!$L15)+COUNTIF(FG$19:FZ$19,処理!$L15)+COUNTIF(FG$22:FZ$22,処理!$L15)+COUNTIF(FG$25:FZ$25,処理!$L15))/処理!$M15,0))","v":""},"",{"$f":"$O$31","v":""},null,{"$f":"IF(LEN(FS31)=0,\"\",(COUNTIF(FG$6:FZ$7,FS31)+COUNTIF(FG$10:FZ$10,FS31)+COUNTIF(FG$13:FZ$13,FS31)+COUNTIF(FG$16:FZ$16,FS31)+COUNTIF(FG$19:FZ$19,FS31)+COUNTIF(FG$22:FZ$22,FS31)+COUNTIF(FG$25:FZ$25,FS31))/設定!$M22+IFERROR((COUNTIF(FG$6:FZ$7,処理!$L21)+COUNTIF(FG$10:FZ$10,処理!$L21)+COUNTIF(FG$13:FZ$13,処理!$L21)+COUNTIF(FG$16:FZ$16,処理!$L21)+COUNTIF(FG$19:FZ$19,処理!$L21)+COUNTIF(FG$22:FZ$22,処理!$L21)+COUNTIF(FG$25:FZ$25,処理!$L21))/処理!$M21,0))","v":""},"",{"$f":"$S$31","v":""},null,{"$f":"IF(LEN(FW31)=0,\"\",COUNTIF(FG$6:FZ$7,FW31)+COUNTIF(FG$10:FZ$10,FW31)+COUNTIF(FG$13:FZ$13,FW31)+COUNTIF(FG$16:FZ$16,FW31)+COUNTIF(FG$19:FZ$19,FW31)+COUNTIF(FG$22:FZ$22,FW31)+COUNTIF(FG$25:FZ$25,FW31))","v":""},"",{"$f":"$C$31","v":""},null,{"$f":"IF(LEN(GA31)=0,\"\",(COUNTIF(GA$6:GT$7,GA31)+COUNTIF(GA$10:GT$10,GA31)+COUNTIF(GA$13:GT$13,GA31)+COUNTIF(GA$16:GT$16,GA31)+COUNTIF(GA$19:GT$19,GA31)+COUNTIF(GA$22:GT$22,GA31)+COUNTIF(GA$25:GT$25,GA31))/設定!$D22+IFERROR((COUNTIF(GA$6:GT$7,処理!$L3)+COUNTIF(GA$10:GT$10,処理!$L3)+COUNTIF(GA$13:GT$13,処理!$L3)+COUNTIF(GA$16:GT$16,処理!$L3)+COUNTIF(GA$19:GT$19,処理!$L3)+COUNTIF(GA$22:GT$22,処理!$L3)+COUNTIF(GA$25:GT$25,処理!$L3))/処理!$M3,0))","v":""},{"$f":"IF(LEN(GA31)=0,\"\",SUM(FJ31,GC31))","v":""},{"$f":"$G$31","v":""},null,{"$f":"IF(LEN(GE31)=0,\"\",(COUNTIF(GA$6:GT$7,GE31)+COUNTIF(GA$10:GT$10,GE31)+COUNTIF(GA$13:GT$13,GE31)+COUNTIF(GA$16:GT$16,GE31)+COUNTIF(GA$19:GT$19,GE31)+COUNTIF(GA$22:GT$22,GE31)+COUNTIF(GA$25:GT$25,GE31))/設定!$G22+IFERROR((COUNTIF(GA$6:GT$7,処理!$L9)+COUNTIF(GA$10:GT$10,処理!$L9)+COUNTIF(GA$13:GT$13,処理!$L9)+COUNTIF(GA$16:GT$16,処理!$L9)+COUNTIF(GA$19:GT$19,処理!$L9)+COUNTIF(GA$22:GT$22,処理!$L9)+COUNTIF(GA$25:GT$25,処理!$L9))/処理!$M9,0))","v":""},"",{"$f":"$K$31","v":""},null,{"$f":"IF(LEN(GI31)=0,\"\",(COUNTIF(GA$6:GT$7,GI31)+COUNTIF(GA$10:GT$10,GI31)+COUNTIF(GA$13:GT$13,GI31)+COUNTIF(GA$16:GT$16,GI31)+COUNTIF(GA$19:GT$19,GI31)+COUNTIF(GA$22:GT$22,GI31)+COUNTIF(GA$25:GT$25,GI31))/設定!$J22+IFERROR((COUNTIF(GA$6:GT$7,処理!$L15)+COUNTIF(GA$10:GT$10,処理!$L15)+COUNTIF(GA$13:GT$13,処理!$L15)+COUNTIF(GA$16:GT$16,処理!$L15)+COUNTIF(GA$19:GT$19,処理!$L15)+COUNTIF(GA$22:GT$22,処理!$L15)+COUNTIF(GA$25:GT$25,処理!$L15))/処理!$M15,0))","v":""},"",{"$f":"$O$31","v":""},null,{"$f":"IF(LEN(GM31)=0,\"\",(COUNTIF(GA$6:GT$7,GM31)+COUNTIF(GA$10:GT$10,GM31)+COUNTIF(GA$13:GT$13,GM31)+COUNTIF(GA$16:GT$16,GM31)+COUNTIF(GA$19:GT$19,GM31)+COUNTIF(GA$22:GT$22,GM31)+COUNTIF(GA$25:GT$25,GM31))/設定!$M22+IFERROR((COUNTIF(GA$6:GT$7,処理!$L21)+COUNTIF(GA$10:GT$10,処理!$L21)+COUNTIF(GA$13:GT$13,処理!$L21)+COUNTIF(GA$16:GT$16,処理!$L21)+COUNTIF(GA$19:GT$19,処理!$L21)+COUNTIF(GA$22:GT$22,処理!$L21)+COUNTIF(GA$25:GT$25,処理!$L21))/処理!$M21,0))","v":""},"",{"$f":"$S$31","v":""},null,{"$f":"IF(LEN(GQ31)=0,\"\",COUNTIF(GA$6:GT$7,GQ31)+COUNTIF(GA$10:GT$10,GQ31)+COUNTIF(GA$13:GT$13,GQ31)+COUNTIF(GA$16:GT$16,GQ31)+COUNTIF(GA$19:GT$19,GQ31)+COUNTIF(GA$22:GT$22,GQ31)+COUNTIF(GA$25:GT$25,GQ31))","v":""},"",{"$f":"$C$31","v":""},null,{"$f":"IF(LEN(GU31)=0,\"\",(COUNTIF(GU$6:HN$7,GU31)+COUNTIF(GU$10:HN$10,GU31)+COUNTIF(GU$13:HN$13,GU31)+COUNTIF(GU$16:HN$16,GU31)+COUNTIF(GU$19:HN$19,GU31)+COUNTIF(GU$22:HN$22,GU31)+COUNTIF(GU$25:HN$25,GU31))/設定!$D22+IFERROR((COUNTIF(GU$6:HN$7,処理!$L3)+COUNTIF(GU$10:HN$10,処理!$L3)+COUNTIF(GU$13:HN$13,処理!$L3)+COUNTIF(GU$16:HN$16,処理!$L3)+COUNTIF(GU$19:HN$19,処理!$L3)+COUNTIF(GU$22:HN$22,処理!$L3)+COUNTIF(GU$25:HN$25,処理!$L3))/処理!$M3,0))","v":""},{"$f":"IF(LEN(GU31)=0,\"\",SUM(GD31,GW31))","v":""},{"$f":"$G$31","v":""},null,{"$f":"IF(LEN(GY31)=0,\"\",(COUNTIF(GU$6:HN$7,GY31)+COUNTIF(GU$10:HN$10,GY31)+COUNTIF(GU$13:HN$13,GY31)+COUNTIF(GU$16:HN$16,GY31)+COUNTIF(GU$19:HN$19,GY31)+COUNTIF(GU$22:HN$22,GY31)+COUNTIF(GU$25:HN$25,GY31))/設定!$G22+IFERROR((COUNTIF(GU$6:HN$7,処理!$L9)+COUNTIF(GU$10:HN$10,処理!$L9)+COUNTIF(GU$13:HN$13,処理!$L9)+COUNTIF(GU$16:HN$16,処理!$L9)+COUNTIF(GU$19:HN$19,処理!$L9)+COUNTIF(GU$22:HN$22,処理!$L9)+COUNTIF(GU$25:HN$25,処理!$L9))/処理!$M9,0))","v":""},"",{"$f":"$K$31","v":""},null,{"$f":"IF(LEN(HC31)=0,\"\",(COUNTIF(GU$6:HN$7,HC31)+COUNTIF(GU$10:HN$10,HC31)+COUNTIF(GU$13:HN$13,HC31)+COUNTIF(GU$16:HN$16,HC31)+COUNTIF(GU$19:HN$19,HC31)+COUNTIF(GU$22:HN$22,HC31)+COUNTIF(GU$25:HN$25,HC31))/設定!$J22+IFERROR((COUNTIF(GU$6:HN$7,処理!$L15)+COUNTIF(GU$10:HN$10,処理!$L15)+COUNTIF(GU$13:HN$13,処理!$L15)+COUNTIF(GU$16:HN$16,処理!$L15)+COUNTIF(GU$19:HN$19,処理!$L15)+COUNTIF(GU$22:HN$22,処理!$L15)+COUNTIF(GU$25:HN$25,処理!$L15))/処理!$M15,0))","v":""},"",{"$f":"$O$31","v":""},null,{"$f":"IF(LEN(HG31)=0,\"\",(COUNTIF(GU$6:HN$7,HG31)+COUNTIF(GU$10:HN$10,HG31)+COUNTIF(GU$13:HN$13,HG31)+COUNTIF(GU$16:HN$16,HG31)+COUNTIF(GU$19:HN$19,HG31)+COUNTIF(GU$22:HN$22,HG31)+COUNTIF(GU$25:HN$25,HG31))/設定!$M22+IFERROR((COUNTIF(GU$6:HN$7,処理!$L21)+COUNTIF(GU$10:HN$10,処理!$L21)+COUNTIF(GU$13:HN$13,処理!$L21)+COUNTIF(GU$16:HN$16,処理!$L21)+COUNTIF(GU$19:HN$19,処理!$L21)+COUNTIF(GU$22:HN$22,処理!$L21)+COUNTIF(GU$25:HN$25,処理!$L21))/処理!$M21,0))","v":""},"",{"$f":"$S$31","v":""},null,{"$f":"IF(LEN(HK31)=0,\"\",COUNTIF(GU$6:HN$7,HK31)+COUNTIF(GU$10:HN$10,HK31)+COUNTIF(GU$13:HN$13,HK31)+COUNTIF(GU$16:HN$16,HK31)+COUNTIF(GU$19:HN$19,HK31)+COUNTIF(GU$22:HN$22,HK31)+COUNTIF(GU$25:HN$25,HK31))","v":""},"",{"$f":"$C$31","v":""},null,{"$f":"IF(LEN(HO31)=0,\"\",(COUNTIF(HO$6:IH$7,HO31)+COUNTIF(HO$10:IH$10,HO31)+COUNTIF(HO$13:IH$13,HO31)+COUNTIF(HO$16:IH$16,HO31)+COUNTIF(HO$19:IH$19,HO31)+COUNTIF(HO$22:IH$22,HO31)+COUNTIF(HO$25:IH$25,HO31))/設定!$D22+IFERROR((COUNTIF(HO$6:IH$7,処理!$L3)+COUNTIF(HO$10:IH$10,処理!$L3)+COUNTIF(HO$13:IH$13,処理!$L3)+COUNTIF(HO$16:IH$16,処理!$L3)+COUNTIF(HO$19:IH$19,処理!$L3)+COUNTIF(HO$22:IH$22,処理!$L3)+COUNTIF(HO$25:IH$25,処理!$L3))/処理!$M3,0))","v":""},{"$f":"IF(LEN(HO31)=0,\"\",SUM(GX31,HQ31))","v":""},{"$f":"$G$31","v":""},null,{"$f":"IF(LEN(HS31)=0,\"\",(COUNTIF(HO$6:IH$7,HS31)+COUNTIF(HO$10:IH$10,HS31)+COUNTIF(HO$13:IH$13,HS31)+COUNTIF(HO$16:IH$16,HS31)+COUNTIF(HO$19:IH$19,HS31)+COUNTIF(HO$22:IH$22,HS31)+COUNTIF(HO$25:IH$25,HS31))/設定!$G22+IFERROR((COUNTIF(HO$6:IH$7,処理!$L9)+COUNTIF(HO$10:IH$10,処理!$L9)+COUNTIF(HO$13:IH$13,処理!$L9)+COUNTIF(HO$16:IH$16,処理!$L9)+COUNTIF(HO$19:IH$19,処理!$L9)+COUNTIF(HO$22:IH$22,処理!$L9)+COUNTIF(HO$25:IH$25,処理!$L9))/処理!$M9,0))","v":""},"",{"$f":"$K$31","v":""},null,{"$f":"IF(LEN(HW31)=0,\"\",(COUNTIF(HO$6:IH$7,HW31)+COUNTIF(HO$10:IH$10,HW31)+COUNTIF(HO$13:IH$13,HW31)+COUNTIF(HO$16:IH$16,HW31)+COUNTIF(HO$19:IH$19,HW31)+COUNTIF(HO$22:IH$22,HW31)+COUNTIF(HO$25:IH$25,HW31))/設定!$J22+IFERROR((COUNTIF(HO$6:IH$7,処理!$L15)+COUNTIF(HO$10:IH$10,処理!$L15)+COUNTIF(HO$13:IH$13,処理!$L15)+COUNTIF(HO$16:IH$16,処理!$L15)+COUNTIF(HO$19:IH$19,処理!$L15)+COUNTIF(HO$22:IH$22,処理!$L15)+COUNTIF(HO$25:IH$25,処理!$L15))/処理!$M15,0))","v":""},"",{"$f":"$O$31","v":""},null,{"$f":"IF(LEN(IA31)=0,\"\",(COUNTIF(HO$6:IH$7,IA31)+COUNTIF(HO$10:IH$10,IA31)+COUNTIF(HO$13:IH$13,IA31)+COUNTIF(HO$16:IH$16,IA31)+COUNTIF(HO$19:IH$19,IA31)+COUNTIF(HO$22:IH$22,IA31)+COUNTIF(HO$25:IH$25,IA31))/設定!$M22+IFERROR((COUNTIF(HO$6:IH$7,処理!$L21)+COUNTIF(HO$10:IH$10,処理!$L21)+COUNTIF(HO$13:IH$13,処理!$L21)+COUNTIF(HO$16:IH$16,処理!$L21)+COUNTIF(HO$19:IH$19,処理!$L21)+COUNTIF(HO$22:IH$22,処理!$L21)+COUNTIF(HO$25:IH$25,処理!$L21))/処理!$M21,0))","v":""},"",{"$f":"$S$31","v":""},null,{"$f":"IF(LEN(IE31)=0,\"\",COUNTIF(HO$6:IH$7,IE31)+COUNTIF(HO$10:IH$10,IE31)+COUNTIF(HO$13:IH$13,IE31)+COUNTIF(HO$16:IH$16,IE31)+COUNTIF(HO$19:IH$19,IE31)+COUNTIF(HO$22:IH$22,IE31)+COUNTIF(HO$25:IH$25,IE31))","v":""},"",{"$f":"$C$31","v":""},null,{"$f":"IF(LEN(II31)=0,\"\",(COUNTIF(II$6:JB$7,II31)+COUNTIF(II$10:JB$10,II31)+COUNTIF(II$13:JB$13,II31)+COUNTIF(II$16:JB$16,II31)+COUNTIF(II$19:JB$19,II31)+COUNTIF(II$22:JB$22,II31)+COUNTIF(II$25:JB$25,II31))/設定!$D22+IFERROR((COUNTIF(II$6:JB$7,処理!$L3)+COUNTIF(II$10:JB$10,処理!$L3)+COUNTIF(II$13:JB$13,処理!$L3)+COUNTIF(II$16:JB$16,処理!$L3)+COUNTIF(II$19:JB$19,処理!$L3)+COUNTIF(II$22:JB$22,処理!$L3)+COUNTIF(II$25:JB$25,処理!$L3))/処理!$M3,0))","v":""},{"$f":"IF(LEN(II31)=0,\"\",SUM(HR31,IK31))","v":""},{"$f":"$G$31","v":""},null,{"$f":"IF(LEN(IM31)=0,\"\",(COUNTIF(II$6:JB$7,IM31)+COUNTIF(II$10:JB$10,IM31)+COUNTIF(II$13:JB$13,IM31)+COUNTIF(II$16:JB$16,IM31)+COUNTIF(II$19:JB$19,IM31)+COUNTIF(II$22:JB$22,IM31)+COUNTIF(II$25:JB$25,IM31))/設定!$G22+IFERROR((COUNTIF(II$6:JB$7,処理!$L9)+COUNTIF(II$10:JB$10,処理!$L9)+COUNTIF(II$13:JB$13,処理!$L9)+COUNTIF(II$16:JB$16,処理!$L9)+COUNTIF(II$19:JB$19,処理!$L9)+COUNTIF(II$22:JB$22,処理!$L9)+COUNTIF(II$25:JB$25,処理!$L9))/処理!$M9,0))","v":""},"",{"$f":"$K$31","v":""},null,{"$f":"IF(LEN(IQ31)=0,\"\",(COUNTIF(II$6:JB$7,IQ31)+COUNTIF(II$10:JB$10,IQ31)+COUNTIF(II$13:JB$13,IQ31)+COUNTIF(II$16:JB$16,IQ31)+COUNTIF(II$19:JB$19,IQ31)+COUNTIF(II$22:JB$22,IQ31)+COUNTIF(II$25:JB$25,IQ31))/設定!$J22+IFERROR((COUNTIF(II$6:JB$7,処理!$L15)+COUNTIF(II$10:JB$10,処理!$L15)+COUNTIF(II$13:JB$13,処理!$L15)+COUNTIF(II$16:JB$16,処理!$L15)+COUNTIF(II$19:JB$19,処理!$L15)+COUNTIF(II$22:JB$22,処理!$L15)+COUNTIF(II$25:JB$25,処理!$L15))/処理!$M15,0))","v":""},"",{"$f":"$O$31","v":""},null,{"$f":"IF(LEN(IU31)=0,\"\",(COUNTIF(II$6:JB$7,IU31)+COUNTIF(II$10:JB$10,IU31)+COUNTIF(II$13:JB$13,IU31)+COUNTIF(II$16:JB$16,IU31)+COUNTIF(II$19:JB$19,IU31)+COUNTIF(II$22:JB$22,IU31)+COUNTIF(II$25:JB$25,IU31))/設定!$M22+IFERROR((COUNTIF(II$6:JB$7,処理!$L21)+COUNTIF(II$10:JB$10,処理!$L21)+COUNTIF(II$13:JB$13,処理!$L21)+COUNTIF(II$16:JB$16,処理!$L21)+COUNTIF(II$19:JB$19,処理!$L21)+COUNTIF(II$22:JB$22,処理!$L21)+COUNTIF(II$25:JB$25,処理!$L21))/処理!$M21,0))","v":""},"",{"$f":"$S$31","v":""},null,{"$f":"IF(LEN(IY31)=0,\"\",COUNTIF(II$6:JB$7,IY31)+COUNTIF(II$10:JB$10,IY31)+COUNTIF(II$13:JB$13,IY31)+COUNTIF(II$16:JB$16,IY31)+COUNTIF(II$19:JB$19,IY31)+COUNTIF(II$22:JB$22,IY31)+COUNTIF(II$25:JB$25,IY31))","v":""},"",{"$f":"$C$31","v":""},null,{"$f":"IF(LEN(JC31)=0,\"\",(COUNTIF(JC$6:JV$7,JC31)+COUNTIF(JC$10:JV$10,JC31)+COUNTIF(JC$13:JV$13,JC31)+COUNTIF(JC$16:JV$16,JC31)+COUNTIF(JC$19:JV$19,JC31)+COUNTIF(JC$22:JV$22,JC31)+COUNTIF(JC$25:JV$25,JC31))/設定!$D22+IFERROR((COUNTIF(JC$6:JV$7,処理!$L3)+COUNTIF(JC$10:JV$10,処理!$L3)+COUNTIF(JC$13:JV$13,処理!$L3)+COUNTIF(JC$16:JV$16,処理!$L3)+COUNTIF(JC$19:JV$19,処理!$L3)+COUNTIF(JC$22:JV$22,処理!$L3)+COUNTIF(JC$25:JV$25,処理!$L3))/処理!$M3,0))","v":""},{"$f":"IF(LEN(JC31)=0,\"\",SUM(IL31,JE31))","v":""},{"$f":"$G$31","v":""},null,{"$f":"IF(LEN(JG31)=0,\"\",(COUNTIF(JC$6:JV$7,JG31)+COUNTIF(JC$10:JV$10,JG31)+COUNTIF(JC$13:JV$13,JG31)+COUNTIF(JC$16:JV$16,JG31)+COUNTIF(JC$19:JV$19,JG31)+COUNTIF(JC$22:JV$22,JG31)+COUNTIF(JC$25:JV$25,JG31))/設定!$G22+IFERROR((COUNTIF(JC$6:JV$7,処理!$L9)+COUNTIF(JC$10:JV$10,処理!$L9)+COUNTIF(JC$13:JV$13,処理!$L9)+COUNTIF(JC$16:JV$16,処理!$L9)+COUNTIF(JC$19:JV$19,処理!$L9)+COUNTIF(JC$22:JV$22,処理!$L9)+COUNTIF(JC$25:JV$25,処理!$L9))/処理!$M9,0))","v":""},"",{"$f":"$K$31","v":""},null,{"$f":"IF(LEN(JK31)=0,\"\",(COUNTIF(JC$6:JV$7,JK31)+COUNTIF(JC$10:JV$10,JK31)+COUNTIF(JC$13:JV$13,JK31)+COUNTIF(JC$16:JV$16,JK31)+COUNTIF(JC$19:JV$19,JK31)+COUNTIF(JC$22:JV$22,JK31)+COUNTIF(JC$25:JV$25,JK31))/設定!$J22+IFERROR((COUNTIF(JC$6:JV$7,処理!$L15)+COUNTIF(JC$10:JV$10,処理!$L15)+COUNTIF(JC$13:JV$13,処理!$L15)+COUNTIF(JC$16:JV$16,処理!$L15)+COUNTIF(JC$19:JV$19,処理!$L15)+COUNTIF(JC$22:JV$22,処理!$L15)+COUNTIF(JC$25:JV$25,処理!$L15))/処理!$M15,0))","v":""},"",{"$f":"$O$31","v":""},null,{"$f":"IF(LEN(JO31)=0,\"\",(COUNTIF(JC$6:JV$7,JO31)+COUNTIF(JC$10:JV$10,JO31)+COUNTIF(JC$13:JV$13,JO31)+COUNTIF(JC$16:JV$16,JO31)+COUNTIF(JC$19:JV$19,JO31)+COUNTIF(JC$22:JV$22,JO31)+COUNTIF(JC$25:JV$25,JO31))/設定!$M22+IFERROR((COUNTIF(JC$6:JV$7,処理!$L21)+COUNTIF(JC$10:JV$10,処理!$L21)+COUNTIF(JC$13:JV$13,処理!$L21)+COUNTIF(JC$16:JV$16,処理!$L21)+COUNTIF(JC$19:JV$19,処理!$L21)+COUNTIF(JC$22:JV$22,処理!$L21)+COUNTIF(JC$25:JV$25,処理!$L21))/処理!$M21,0))","v":""},"",{"$f":"$S$31","v":""},null,{"$f":"IF(LEN(JS31)=0,\"\",COUNTIF(JC$6:JV$7,JS31)+COUNTIF(JC$10:JV$10,JS31)+COUNTIF(JC$13:JV$13,JS31)+COUNTIF(JC$16:JV$16,JS31)+COUNTIF(JC$19:JV$19,JS31)+COUNTIF(JC$22:JV$22,JS31)+COUNTIF(JC$25:JV$25,JS31))","v":""},"",{"$f":"$C$31","v":""},null,{"$f":"IF(LEN(JW31)=0,\"\",(COUNTIF(JW$6:KP$7,JW31)+COUNTIF(JW$10:KP$10,JW31)+COUNTIF(JW$13:KP$13,JW31)+COUNTIF(JW$16:KP$16,JW31)+COUNTIF(JW$19:KP$19,JW31)+COUNTIF(JW$22:KP$22,JW31)+COUNTIF(JW$25:KP$25,JW31))/設定!$D22+IFERROR((COUNTIF(JW$6:KP$7,処理!$L3)+COUNTIF(JW$10:KP$10,処理!$L3)+COUNTIF(JW$13:KP$13,処理!$L3)+COUNTIF(JW$16:KP$16,処理!$L3)+COUNTIF(JW$19:KP$19,処理!$L3)+COUNTIF(JW$22:KP$22,処理!$L3)+COUNTIF(JW$25:KP$25,処理!$L3))/処理!$M3,0))","v":""},{"$f":"IF(LEN(JW31)=0,\"\",SUM(JF31,JY31))","v":""},{"$f":"$G$31","v":""},null,{"$f":"IF(LEN(KA31)=0,\"\",(COUNTIF(JW$6:KP$7,KA31)+COUNTIF(JW$10:KP$10,KA31)+COUNTIF(JW$13:KP$13,KA31)+COUNTIF(JW$16:KP$16,KA31)+COUNTIF(JW$19:KP$19,KA31)+COUNTIF(JW$22:KP$22,KA31)+COUNTIF(JW$25:KP$25,KA31))/設定!$G22+IFERROR((COUNTIF(JW$6:KP$7,処理!$L9)+COUNTIF(JW$10:KP$10,処理!$L9)+COUNTIF(JW$13:KP$13,処理!$L9)+COUNTIF(JW$16:KP$16,処理!$L9)+COUNTIF(JW$19:KP$19,処理!$L9)+COUNTIF(JW$22:KP$22,処理!$L9)+COUNTIF(JW$25:KP$25,処理!$L9))/処理!$M9,0))","v":""},"",{"$f":"$K$31","v":""},null,{"$f":"IF(LEN(KE31)=0,\"\",(COUNTIF(JW$6:KP$7,KE31)+COUNTIF(JW$10:KP$10,KE31)+COUNTIF(JW$13:KP$13,KE31)+COUNTIF(JW$16:KP$16,KE31)+COUNTIF(JW$19:KP$19,KE31)+COUNTIF(JW$22:KP$22,KE31)+COUNTIF(JW$25:KP$25,KE31))/設定!$J22+IFERROR((COUNTIF(JW$6:KP$7,処理!$L15)+COUNTIF(JW$10:KP$10,処理!$L15)+COUNTIF(JW$13:KP$13,処理!$L15)+COUNTIF(JW$16:KP$16,処理!$L15)+COUNTIF(JW$19:KP$19,処理!$L15)+COUNTIF(JW$22:KP$22,処理!$L15)+COUNTIF(JW$25:KP$25,処理!$L15))/処理!$M15,0))","v":""},"",{"$f":"$O$31","v":""},null,{"$f":"IF(LEN(KI31)=0,\"\",(COUNTIF(JW$6:KP$7,KI31)+COUNTIF(JW$10:KP$10,KI31)+COUNTIF(JW$13:KP$13,KI31)+COUNTIF(JW$16:KP$16,KI31)+COUNTIF(JW$19:KP$19,KI31)+COUNTIF(JW$22:KP$22,KI31)+COUNTIF(JW$25:KP$25,KI31))/設定!$M22+IFERROR((COUNTIF(JW$6:KP$7,処理!$L21)+COUNTIF(JW$10:KP$10,処理!$L21)+COUNTIF(JW$13:KP$13,処理!$L21)+COUNTIF(JW$16:KP$16,処理!$L21)+COUNTIF(JW$19:KP$19,処理!$L21)+COUNTIF(JW$22:KP$22,処理!$L21)+COUNTIF(JW$25:KP$25,処理!$L21))/処理!$M21,0))","v":""},"",{"$f":"$S$31","v":""},null,{"$f":"IF(LEN(KM31)=0,\"\",COUNTIF(JW$6:KP$7,KM31)+COUNTIF(JW$10:KP$10,KM31)+COUNTIF(JW$13:KP$13,KM31)+COUNTIF(JW$16:KP$16,KM31)+COUNTIF(JW$19:KP$19,KM31)+COUNTIF(JW$22:KP$22,KM31)+COUNTIF(JW$25:KP$25,KM31))","v":""},"",{"$f":"$C$31","v":""},null,{"$f":"IF(LEN(KQ31)=0,\"\",(COUNTIF(KQ$6:LJ$7,KQ31)+COUNTIF(KQ$10:LJ$10,KQ31)+COUNTIF(KQ$13:LJ$13,KQ31)+COUNTIF(KQ$16:LJ$16,KQ31)+COUNTIF(KQ$19:LJ$19,KQ31)+COUNTIF(KQ$22:LJ$22,KQ31)+COUNTIF(KQ$25:LJ$25,KQ31))/設定!$D22+IFERROR((COUNTIF(KQ$6:LJ$7,処理!$L3)+COUNTIF(KQ$10:LJ$10,処理!$L3)+COUNTIF(KQ$13:LJ$13,処理!$L3)+COUNTIF(KQ$16:LJ$16,処理!$L3)+COUNTIF(KQ$19:LJ$19,処理!$L3)+COUNTIF(KQ$22:LJ$22,処理!$L3)+COUNTIF(KQ$25:LJ$25,処理!$L3))/処理!$M3,0))","v":""},{"$f":"IF(LEN(KQ31)=0,\"\",SUM(JZ31,KS31))","v":""},{"$f":"$G$31","v":""},null,{"$f":"IF(LEN(KU31)=0,\"\",(COUNTIF(KQ$6:LJ$7,KU31)+COUNTIF(KQ$10:LJ$10,KU31)+COUNTIF(KQ$13:LJ$13,KU31)+COUNTIF(KQ$16:LJ$16,KU31)+COUNTIF(KQ$19:LJ$19,KU31)+COUNTIF(KQ$22:LJ$22,KU31)+COUNTIF(KQ$25:LJ$25,KU31))/設定!$G22+IFERROR((COUNTIF(KQ$6:LJ$7,処理!$L9)+COUNTIF(KQ$10:LJ$10,処理!$L9)+COUNTIF(KQ$13:LJ$13,処理!$L9)+COUNTIF(KQ$16:LJ$16,処理!$L9)+COUNTIF(KQ$19:LJ$19,処理!$L9)+COUNTIF(KQ$22:LJ$22,処理!$L9)+COUNTIF(KQ$25:LJ$25,処理!$L9))/処理!$M9,0))","v":""},"",{"$f":"$K$31","v":""},null,{"$f":"IF(LEN(KY31)=0,\"\",(COUNTIF(KQ$6:LJ$7,KY31)+COUNTIF(KQ$10:LJ$10,KY31)+COUNTIF(KQ$13:LJ$13,KY31)+COUNTIF(KQ$16:LJ$16,KY31)+COUNTIF(KQ$19:LJ$19,KY31)+COUNTIF(KQ$22:LJ$22,KY31)+COUNTIF(KQ$25:LJ$25,KY31))/設定!$J22+IFERROR((COUNTIF(KQ$6:LJ$7,処理!$L15)+COUNTIF(KQ$10:LJ$10,処理!$L15)+COUNTIF(KQ$13:LJ$13,処理!$L15)+COUNTIF(KQ$16:LJ$16,処理!$L15)+COUNTIF(KQ$19:LJ$19,処理!$L15)+COUNTIF(KQ$22:LJ$22,処理!$L15)+COUNTIF(KQ$25:LJ$25,処理!$L15))/処理!$M15,0))","v":""},"",{"$f":"$O$31","v":""},null,{"$f":"IF(LEN(LC31)=0,\"\",(COUNTIF(KQ$6:LJ$7,LC31)+COUNTIF(KQ$10:LJ$10,LC31)+COUNTIF(KQ$13:LJ$13,LC31)+COUNTIF(KQ$16:LJ$16,LC31)+COUNTIF(KQ$19:LJ$19,LC31)+COUNTIF(KQ$22:LJ$22,LC31)+COUNTIF(KQ$25:LJ$25,LC31))/設定!$M22+IFERROR((COUNTIF(KQ$6:LJ$7,処理!$L21)+COUNTIF(KQ$10:LJ$10,処理!$L21)+COUNTIF(KQ$13:LJ$13,処理!$L21)+COUNTIF(KQ$16:LJ$16,処理!$L21)+COUNTIF(KQ$19:LJ$19,処理!$L21)+COUNTIF(KQ$22:LJ$22,処理!$L21)+COUNTIF(KQ$25:LJ$25,処理!$L21))/処理!$M21,0))","v":""},"",{"$f":"$S$31","v":""},null,{"$f":"IF(LEN(LG31)=0,\"\",COUNTIF(KQ$6:LJ$7,LG31)+COUNTIF(KQ$10:LJ$10,LG31)+COUNTIF(KQ$13:LJ$13,LG31)+COUNTIF(KQ$16:LJ$16,LG31)+COUNTIF(KQ$19:LJ$19,LG31)+COUNTIF(KQ$22:LJ$22,LG31)+COUNTIF(KQ$25:LJ$25,LG31))","v":""},"",{"$f":"$C$31","v":""},null,{"$f":"IF(LEN(LK31)=0,\"\",(COUNTIF(LK$6:MD$7,LK31)+COUNTIF(LK$10:MD$10,LK31)+COUNTIF(LK$13:MD$13,LK31)+COUNTIF(LK$16:MD$16,LK31)+COUNTIF(LK$19:MD$19,LK31)+COUNTIF(LK$22:MD$22,LK31)+COUNTIF(LK$25:MD$25,LK31))/設定!$D22+IFERROR((COUNTIF(LK$6:MD$7,処理!$L3)+COUNTIF(LK$10:MD$10,処理!$L3)+COUNTIF(LK$13:MD$13,処理!$L3)+COUNTIF(LK$16:MD$16,処理!$L3)+COUNTIF(LK$19:MD$19,処理!$L3)+COUNTIF(LK$22:MD$22,処理!$L3)+COUNTIF(LK$25:MD$25,処理!$L3))/処理!$M3,0))","v":""},{"$f":"IF(LEN(LK31)=0,\"\",SUM(KT31,LM31))","v":""},{"$f":"$G$31","v":""},null,{"$f":"IF(LEN(LO31)=0,\"\",(COUNTIF(LK$6:MD$7,LO31)+COUNTIF(LK$10:MD$10,LO31)+COUNTIF(LK$13:MD$13,LO31)+COUNTIF(LK$16:MD$16,LO31)+COUNTIF(LK$19:MD$19,LO31)+COUNTIF(LK$22:MD$22,LO31)+COUNTIF(LK$25:MD$25,LO31))/設定!$G22+IFERROR((COUNTIF(LK$6:MD$7,処理!$L9)+COUNTIF(LK$10:MD$10,処理!$L9)+COUNTIF(LK$13:MD$13,処理!$L9)+COUNTIF(LK$16:MD$16,処理!$L9)+COUNTIF(LK$19:MD$19,処理!$L9)+COUNTIF(LK$22:MD$22,処理!$L9)+COUNTIF(LK$25:MD$25,処理!$L9))/処理!$M9,0))","v":""},"",{"$f":"$K$31","v":""},null,{"$f":"IF(LEN(LS31)=0,\"\",(COUNTIF(LK$6:MD$7,LS31)+COUNTIF(LK$10:MD$10,LS31)+COUNTIF(LK$13:MD$13,LS31)+COUNTIF(LK$16:MD$16,LS31)+COUNTIF(LK$19:MD$19,LS31)+COUNTIF(LK$22:MD$22,LS31)+COUNTIF(LK$25:MD$25,LS31))/設定!$J22+IFERROR((COUNTIF(LK$6:MD$7,処理!$L15)+COUNTIF(LK$10:MD$10,処理!$L15)+COUNTIF(LK$13:MD$13,処理!$L15)+COUNTIF(LK$16:MD$16,処理!$L15)+COUNTIF(LK$19:MD$19,処理!$L15)+COUNTIF(LK$22:MD$22,処理!$L15)+COUNTIF(LK$25:MD$25,処理!$L15))/処理!$M15,0))","v":""},"",{"$f":"$O$31","v":""},null,{"$f":"IF(LEN(LW31)=0,\"\",(COUNTIF(LK$6:MD$7,LW31)+COUNTIF(LK$10:MD$10,LW31)+COUNTIF(LK$13:MD$13,LW31)+COUNTIF(LK$16:MD$16,LW31)+COUNTIF(LK$19:MD$19,LW31)+COUNTIF(LK$22:MD$22,LW31)+COUNTIF(LK$25:MD$25,LW31))/設定!$M22+IFERROR((COUNTIF(LK$6:MD$7,処理!$L21)+COUNTIF(LK$10:MD$10,処理!$L21)+COUNTIF(LK$13:MD$13,処理!$L21)+COUNTIF(LK$16:MD$16,処理!$L21)+COUNTIF(LK$19:MD$19,処理!$L21)+COUNTIF(LK$22:MD$22,処理!$L21)+COUNTIF(LK$25:MD$25,処理!$L21))/処理!$M21,0))","v":""},"",{"$f":"$S$31","v":""},null,{"$f":"IF(LEN(MA31)=0,\"\",COUNTIF(LK$6:MD$7,MA31)+COUNTIF(LK$10:MD$10,MA31)+COUNTIF(LK$13:MD$13,MA31)+COUNTIF(LK$16:MD$16,MA31)+COUNTIF(LK$19:MD$19,MA31)+COUNTIF(LK$22:MD$22,MA31)+COUNTIF(LK$25:MD$25,MA31))","v":""},"",{"$f":"$C$31","v":""},null,{"$f":"IF(LEN(ME31)=0,\"\",(COUNTIF(ME$6:MX$7,ME31)+COUNTIF(ME$10:MX$10,ME31)+COUNTIF(ME$13:MX$13,ME31)+COUNTIF(ME$16:MX$16,ME31)+COUNTIF(ME$19:MX$19,ME31)+COUNTIF(ME$22:MX$22,ME31)+COUNTIF(ME$25:MX$25,ME31))/設定!$D22+IFERROR((COUNTIF(ME$6:MX$7,処理!$L3)+COUNTIF(ME$10:MX$10,処理!$L3)+COUNTIF(ME$13:MX$13,処理!$L3)+COUNTIF(ME$16:MX$16,処理!$L3)+COUNTIF(ME$19:MX$19,処理!$L3)+COUNTIF(ME$22:MX$22,処理!$L3)+COUNTIF(ME$25:MX$25,処理!$L3))/処理!$M3,0))","v":""},{"$f":"IF(LEN(ME31)=0,\"\",SUM(LN31,MG31))","v":""},{"$f":"$G$31","v":""},null,{"$f":"IF(LEN(MI31)=0,\"\",(COUNTIF(ME$6:MX$7,MI31)+COUNTIF(ME$10:MX$10,MI31)+COUNTIF(ME$13:MX$13,MI31)+COUNTIF(ME$16:MX$16,MI31)+COUNTIF(ME$19:MX$19,MI31)+COUNTIF(ME$22:MX$22,MI31)+COUNTIF(ME$25:MX$25,MI31))/設定!$G22+IFERROR((COUNTIF(ME$6:MX$7,処理!$L9)+COUNTIF(ME$10:MX$10,処理!$L9)+COUNTIF(ME$13:MX$13,処理!$L9)+COUNTIF(ME$16:MX$16,処理!$L9)+COUNTIF(ME$19:MX$19,処理!$L9)+COUNTIF(ME$22:MX$22,処理!$L9)+COUNTIF(ME$25:MX$25,処理!$L9))/処理!$M9,0))","v":""},"",{"$f":"$K$31","v":""},null,{"$f":"IF(LEN(MM31)=0,\"\",(COUNTIF(ME$6:MX$7,MM31)+COUNTIF(ME$10:MX$10,MM31)+COUNTIF(ME$13:MX$13,MM31)+COUNTIF(ME$16:MX$16,MM31)+COUNTIF(ME$19:MX$19,MM31)+COUNTIF(ME$22:MX$22,MM31)+COUNTIF(ME$25:MX$25,MM31))/設定!$J22+IFERROR((COUNTIF(ME$6:MX$7,処理!$L15)+COUNTIF(ME$10:MX$10,処理!$L15)+COUNTIF(ME$13:MX$13,処理!$L15)+COUNTIF(ME$16:MX$16,処理!$L15)+COUNTIF(ME$19:MX$19,処理!$L15)+COUNTIF(ME$22:MX$22,処理!$L15)+COUNTIF(ME$25:MX$25,処理!$L15))/処理!$M15,0))","v":""},"",{"$f":"$O$31","v":""},null,{"$f":"IF(LEN(MQ31)=0,\"\",(COUNTIF(ME$6:MX$7,MQ31)+COUNTIF(ME$10:MX$10,MQ31)+COUNTIF(ME$13:MX$13,MQ31)+COUNTIF(ME$16:MX$16,MQ31)+COUNTIF(ME$19:MX$19,MQ31)+COUNTIF(ME$22:MX$22,MQ31)+COUNTIF(ME$25:MX$25,MQ31))/設定!$M22+IFERROR((COUNTIF(ME$6:MX$7,処理!$L21)+COUNTIF(ME$10:MX$10,処理!$L21)+COUNTIF(ME$13:MX$13,処理!$L21)+COUNTIF(ME$16:MX$16,処理!$L21)+COUNTIF(ME$19:MX$19,処理!$L21)+COUNTIF(ME$22:MX$22,処理!$L21)+COUNTIF(ME$25:MX$25,処理!$L21))/処理!$M21,0))","v":""},"",{"$f":"$S$31","v":""},null,{"$f":"IF(LEN(MU31)=0,\"\",COUNTIF(ME$6:MX$7,MU31)+COUNTIF(ME$10:MX$10,MU31)+COUNTIF(ME$13:MX$13,MU31)+COUNTIF(ME$16:MX$16,MU31)+COUNTIF(ME$19:MX$19,MU31)+COUNTIF(ME$22:MX$22,MU31)+COUNTIF(ME$25:MX$25,MU31))","v":""},""]
[null,null,{"$f":"IF(COUNTIF(処理!$J$2:$J$25,2)>0,処理!H4,\"\")","v":""},null,{"$f":"IF(LEN(C32)=0,\"\",(COUNTIF(C$6:V$7,C32)+COUNTIF(C$10:V$10,C32)+COUNTIF(C$13:V$13,C32)+COUNTIF(C$16:V$16,C32)+COUNTIF(C$19:V$19,C32)+COUNTIF(C$22:V$22,C32)+COUNTIF(C$25:V$25,C32))/設定!$D23+IFERROR((COUNTIF(C$6:V$7,処理!$L4)+COUNTIF(C$10:V$10,処理!$L4)+COUNTIF(C$13:V$13,処理!$L4)+COUNTIF(C$16:V$16,処理!$L4)+COUNTIF(C$19:V$19,処理!$L4)+COUNTIF(C$22:V$22,処理!$L4)+COUNTIF(C$25:V$25,処理!$L4))/処理!$M4,0))","v":""},"",{"$f":"IF(COUNTIF(処理!$J$2:$J$25,8)>0,処理!H10,\"\")","v":""},null,{"$f":"IF(LEN(G32)=0,\"\",(COUNTIF(C$6:V$7,G32)+COUNTIF(C$10:V$10,G32)+COUNTIF(C$13:V$13,G32)+COUNTIF(C$16:V$16,G32)+COUNTIF(C$19:V$19,G32)+COUNTIF(C$22:V$22,G32)+COUNTIF(C$25:V$25,G32))/設定!$G23+IFERROR((COUNTIF(C$6:V$7,処理!$L10)+COUNTIF(C$10:V$10,処理!$L10)+COUNTIF(C$13:V$13,処理!$L10)+COUNTIF(C$16:V$16,処理!$L10)+COUNTIF(C$19:V$19,処理!$L10)+COUNTIF(C$22:V$22,処理!$L10)+COUNTIF(C$25:V$25,処理!$L10))/処理!$M10,0))","v":""},"",{"$f":"IF(COUNTIF(処理!$J$2:$J$25,14)>0,処理!H16,\"\")","v":""},null,{"$f":"IF(LEN(K32)=0,\"\",(COUNTIF(C$6:V$7,K32)+COUNTIF(C$10:V$10,K32)+COUNTIF(C$13:V$13,K32)+COUNTIF(C$16:V$16,K32)+COUNTIF(C$19:V$19,K32)+COUNTIF(C$22:V$22,K32)+COUNTIF(C$25:V$25,K32))/設定!$J23+IFERROR((COUNTIF(C$6:V$7,処理!$L16)+COUNTIF(C$10:V$10,処理!$L16)+COUNTIF(C$13:V$13,処理!$L16)+COUNTIF(C$16:V$16,処理!$L16)+COUNTIF(C$19:V$19,処理!$L16)+COUNTIF(C$22:V$22,処理!$L16)+COUNTIF(C$25:V$25,処理!$L16))/処理!$M16,0))","v":""},"",{"$f":"IF(COUNTIF(処理!$J$2:$J$25,20)>0,処理!H22,\"\")","v":""},null,{"$f":"IF(LEN(O32)=0,\"\",(COUNTIF(C$6:V$7,O32)+COUNTIF(C$10:V$10,O32)+COUNTIF(C$13:V$13,O32)+COUNTIF(C$16:V$16,O32)+COUNTIF(C$19:V$19,O32)+COUNTIF(C$22:V$22,O32)+COUNTIF(C$25:V$25,O32))/設定!$M23+IFERROR((COUNTIF(C$6:V$7,処理!$L22)+COUNTIF(C$10:V$10,処理!$L22)+COUNTIF(C$13:V$13,処理!$L22)+COUNTIF(C$16:V$16,処理!$L22)+COUNTIF(C$19:V$19,処理!$L22)+COUNTIF(C$22:V$22,処理!$L22)+COUNTIF(C$25:V$25,処理!$L22))/処理!$M22,0))","v":""},"",{"$f":"処理!H28&\"\"","v":""},null,{"$f":"IF(LEN(S32)=0,\"\",COUNTIF(C$6:V$7,S32)+COUNTIF(C$10:V$10,S32)+COUNTIF(C$13:V$13,S32)+COUNTIF(C$16:V$16,S32)+COUNTIF(C$19:V$19,S32)+COUNTIF(C$22:V$22,S32)+COUNTIF(C$25:V$25,S32))","v":""},"",{"$f":"$C$32","v":""},null,{"$f":"IF(LEN(W32)=0,\"\",(COUNTIF(W$6:AP$7,W32)+COUNTIF(W$10:AP$10,W32)+COUNTIF(W$13:AP$13,W32)+COUNTIF(W$16:AP$16,W32)+COUNTIF(W$19:AP$19,W32)+COUNTIF(W$22:AP$22,W32)+COUNTIF(W$25:AP$25,W32))/設定!$D23+IFERROR((COUNTIF(W$6:AP$7,処理!$L4)+COUNTIF(W$10:AP$10,処理!$L4)+COUNTIF(W$13:AP$13,処理!$L4)+COUNTIF(W$16:AP$16,処理!$L4)+COUNTIF(W$19:AP$19,処理!$L4)+COUNTIF(W$22:AP$22,処理!$L4)+COUNTIF(W$25:AP$25,処理!$L4))/処理!$M4,0))","v":""},"",{"$f":"$G$32","v":""},null,{"$f":"IF(LEN(AA32)=0,\"\",(COUNTIF(W$6:AP$7,AA32)+COUNTIF(W$10:AP$10,AA32)+COUNTIF(W$13:AP$13,AA32)+COUNTIF(W$16:AP$16,AA32)+COUNTIF(W$19:AP$19,AA32)+COUNTIF(W$22:AP$22,AA32)+COUNTIF(W$25:AP$25,AA32))/設定!$G23+IFERROR((COUNTIF(W$6:AP$7,処理!$L10)+COUNTIF(W$10:AP$10,処理!$L10)+COUNTIF(W$13:AP$13,処理!$L10)+COUNTIF(W$16:AP$16,処理!$L10)+COUNTIF(W$19:AP$19,処理!$L10)+COUNTIF(W$22:AP$22,処理!$L10)+COUNTIF(W$25:AP$25,処理!$L10))/処理!$M10,0))","v":""},"",{"$f":"$K$32","v":""},null,{"$f":"IF(LEN(AE32)=0,\"\",(COUNTIF(W$6:AP$7,AE32)+COUNTIF(W$10:AP$10,AE32)+COUNTIF(W$13:AP$13,AE32)+COUNTIF(W$16:AP$16,AE32)+COUNTIF(W$19:AP$19,AE32)+COUNTIF(W$22:AP$22,AE32)+COUNTIF(W$25:AP$25,AE32))/設定!$J23+IFERROR((COUNTIF(W$6:AP$7,処理!$L16)+COUNTIF(W$10:AP$10,処理!$L16)+COUNTIF(W$13:AP$13,処理!$L16)+COUNTIF(W$16:AP$16,処理!$L16)+COUNTIF(W$19:AP$19,処理!$L16)+COUNTIF(W$22:AP$22,処理!$L16)+COUNTIF(W$25:AP$25,処理!$L16))/処理!$M16,0))","v":""},"",{"$f":"$O$32","v":""},null,{"$f":"IF(LEN(AI32)=0,\"\",(COUNTIF(W$6:AP$7,AI32)+COUNTIF(W$10:AP$10,AI32)+COUNTIF(W$13:AP$13,AI32)+COUNTIF(W$16:AP$16,AI32)+COUNTIF(W$19:AP$19,AI32)+COUNTIF(W$22:AP$22,AI32)+COUNTIF(W$25:AP$25,AI32))/設定!$M23+IFERROR((COUNTIF(W$6:AP$7,処理!$L22)+COUNTIF(W$10:AP$10,処理!$L22)+COUNTIF(W$13:AP$13,処理!$L22)+COUNTIF(W$16:AP$16,処理!$L22)+COUNTIF(W$19:AP$19,処理!$L22)+COUNTIF(W$22:AP$22,処理!$L22)+COUNTIF(W$25:AP$25,処理!$L22))/処理!$M22,0))","v":""},"",{"$f":"$S$32","v":""},null,{"$f":"IF(LEN(AM32)=0,\"\",COUNTIF(W$6:AP$7,AM32)+COUNTIF(W$10:AP$10,AM32)+COUNTIF(W$13:AP$13,AM32)+COUNTIF(W$16:AP$16,AM32)+COUNTIF(W$19:AP$19,AM32)+COUNTIF(W$22:AP$22,AM32)+COUNTIF(W$25:AP$25,AM32))","v":""},"",{"$f":"$C$32","v":""},null,{"$f":"IF(LEN(AQ32)=0,\"\",(COUNTIF(AQ$6:BJ$7,AQ32)+COUNTIF(AQ$10:BJ$10,AQ32)+COUNTIF(AQ$13:BJ$13,AQ32)+COUNTIF(AQ$16:BJ$16,AQ32)+COUNTIF(AQ$19:BJ$19,AQ32)+COUNTIF(AQ$22:BJ$22,AQ32)+COUNTIF(AQ$25:BJ$25,AQ32))/設定!$D23+IFERROR((COUNTIF(AQ$6:BJ$7,処理!$L4)+COUNTIF(AQ$10:BJ$10,処理!$L4)+COUNTIF(AQ$13:BJ$13,処理!$L4)+COUNTIF(AQ$16:BJ$16,処理!$L4)+COUNTIF(AQ$19:BJ$19,処理!$L4)+COUNTIF(AQ$22:BJ$22,処理!$L4)+COUNTIF(AQ$25:BJ$25,処理!$L4))/処理!$M4,0))","v":""},"",{"$f":"$G$32","v":""},null,{"$f":"IF(LEN(AU32)=0,\"\",(COUNTIF(AQ$6:BJ$7,AU32)+COUNTIF(AQ$10:BJ$10,AU32)+COUNTIF(AQ$13:BJ$13,AU32)+COUNTIF(AQ$16:BJ$16,AU32)+COUNTIF(AQ$19:BJ$19,AU32)+COUNTIF(AQ$22:BJ$22,AU32)+COUNTIF(AQ$25:BJ$25,AU32))/設定!$G23+IFERROR((COUNTIF(AQ$6:BJ$7,処理!$L10)+COUNTIF(AQ$10:BJ$10,処理!$L10)+COUNTIF(AQ$13:BJ$13,処理!$L10)+COUNTIF(AQ$16:BJ$16,処理!$L10)+COUNTIF(AQ$19:BJ$19,処理!$L10)+COUNTIF(AQ$22:BJ$22,処理!$L10)+COUNTIF(AQ$25:BJ$25,処理!$L10))/処理!$M10,0))","v":""},"",{"$f":"$K$32","v":""},null,{"$f":"IF(LEN(AY32)=0,\"\",(COUNTIF(AQ$6:BJ$7,AY32)+COUNTIF(AQ$10:BJ$10,AY32)+COUNTIF(AQ$13:BJ$13,AY32)+COUNTIF(AQ$16:BJ$16,AY32)+COUNTIF(AQ$19:BJ$19,AY32)+COUNTIF(AQ$22:BJ$22,AY32)+COUNTIF(AQ$25:BJ$25,AY32))/設定!$J23+IFERROR((COUNTIF(AQ$6:BJ$7,処理!$L16)+COUNTIF(AQ$10:BJ$10,処理!$L16)+COUNTIF(AQ$13:BJ$13,処理!$L16)+COUNTIF(AQ$16:BJ$16,処理!$L16)+COUNTIF(AQ$19:BJ$19,処理!$L16)+COUNTIF(AQ$22:BJ$22,処理!$L16)+COUNTIF(AQ$25:BJ$25,処理!$L16))/処理!$M16,0))","v":""},"",{"$f":"$O$32","v":""},null,{"$f":"IF(LEN(BC32)=0,\"\",(COUNTIF(AQ$6:BJ$7,BC32)+COUNTIF(AQ$10:BJ$10,BC32)+COUNTIF(AQ$13:BJ$13,BC32)+COUNTIF(AQ$16:BJ$16,BC32)+COUNTIF(AQ$19:BJ$19,BC32)+COUNTIF(AQ$22:BJ$22,BC32)+COUNTIF(AQ$25:BJ$25,BC32))/設定!$M23+IFERROR((COUNTIF(AQ$6:BJ$7,処理!$L22)+COUNTIF(AQ$10:BJ$10,処理!$L22)+COUNTIF(AQ$13:BJ$13,処理!$L22)+COUNTIF(AQ$16:BJ$16,処理!$L22)+COUNTIF(AQ$19:BJ$19,処理!$L22)+COUNTIF(AQ$22:BJ$22,処理!$L22)+COUNTIF(AQ$25:BJ$25,処理!$L22))/処理!$M22,0))","v":""},"",{"$f":"$S$32","v":""},null,{"$f":"IF(LEN(BG32)=0,\"\",COUNTIF(AQ$6:BJ$7,BG32)+COUNTIF(AQ$10:BJ$10,BG32)+COUNTIF(AQ$13:BJ$13,BG32)+COUNTIF(AQ$16:BJ$16,BG32)+COUNTIF(AQ$19:BJ$19,BG32)+COUNTIF(AQ$22:BJ$22,BG32)+COUNTIF(AQ$25:BJ$25,BG32))","v":""},"",{"$f":"$C$32","v":""},null,{"$f":"IF(LEN(BK32)=0,\"\",(COUNTIF(BK$6:CD$7,BK32)+COUNTIF(BK$10:CD$10,BK32)+COUNTIF(BK$13:CD$13,BK32)+COUNTIF(BK$16:CD$16,BK32)+COUNTIF(BK$19:CD$19,BK32)+COUNTIF(BK$22:CD$22,BK32)+COUNTIF(BK$25:CD$25,BK32))/設定!$D23+IFERROR((COUNTIF(BK$6:CD$7,処理!$L4)+COUNTIF(BK$10:CD$10,処理!$L4)+COUNTIF(BK$13:CD$13,処理!$L4)+COUNTIF(BK$16:CD$16,処理!$L4)+COUNTIF(BK$19:CD$19,処理!$L4)+COUNTIF(BK$22:CD$22,処理!$L4)+COUNTIF(BK$25:CD$25,処理!$L4))/処理!$M4,0))","v":""},"",{"$f":"$G$32","v":""},null,{"$f":"IF(LEN(BO32)=0,\"\",(COUNTIF(BK$6:CD$7,BO32)+COUNTIF(BK$10:CD$10,BO32)+COUNTIF(BK$13:CD$13,BO32)+COUNTIF(BK$16:CD$16,BO32)+COUNTIF(BK$19:CD$19,BO32)+COUNTIF(BK$22:CD$22,BO32)+COUNTIF(BK$25:CD$25,BO32))/設定!$G23+IFERROR((COUNTIF(BK$6:CD$7,処理!$L10)+COUNTIF(BK$10:CD$10,処理!$L10)+COUNTIF(BK$13:CD$13,処理!$L10)+COUNTIF(BK$16:CD$16,処理!$L10)+COUNTIF(BK$19:CD$19,処理!$L10)+COUNTIF(BK$22:CD$22,処理!$L10)+COUNTIF(BK$25:CD$25,処理!$L10))/処理!$M10,0))","v":""},"",{"$f":"$K$32","v":""},null,{"$f":"IF(LEN(BS32)=0,\"\",(COUNTIF(BK$6:CD$7,BS32)+COUNTIF(BK$10:CD$10,BS32)+COUNTIF(BK$13:CD$13,BS32)+COUNTIF(BK$16:CD$16,BS32)+COUNTIF(BK$19:CD$19,BS32)+COUNTIF(BK$22:CD$22,BS32)+COUNTIF(BK$25:CD$25,BS32))/設定!$J23+IFERROR((COUNTIF(BK$6:CD$7,処理!$L16)+COUNTIF(BK$10:CD$10,処理!$L16)+COUNTIF(BK$13:CD$13,処理!$L16)+COUNTIF(BK$16:CD$16,処理!$L16)+COUNTIF(BK$19:CD$19,処理!$L16)+COUNTIF(BK$22:CD$22,処理!$L16)+COUNTIF(BK$25:CD$25,処理!$L16))/処理!$M16,0))","v":""},"",{"$f":"$O$32","v":""},null,{"$f":"IF(LEN(BW32)=0,\"\",(COUNTIF(BK$6:CD$7,BW32)+COUNTIF(BK$10:CD$10,BW32)+COUNTIF(BK$13:CD$13,BW32)+COUNTIF(BK$16:CD$16,BW32)+COUNTIF(BK$19:CD$19,BW32)+COUNTIF(BK$22:CD$22,BW32)+COUNTIF(BK$25:CD$25,BW32))/設定!$M23+IFERROR((COUNTIF(BK$6:CD$7,処理!$L22)+COUNTIF(BK$10:CD$10,処理!$L22)+COUNTIF(BK$13:CD$13,処理!$L22)+COUNTIF(BK$16:CD$16,処理!$L22)+COUNTIF(BK$19:CD$19,処理!$L22)+COUNTIF(BK$22:CD$22,処理!$L22)+COUNTIF(BK$25:CD$25,処理!$L22))/処理!$M22,0))","v":""},"",{"$f":"$S$32","v":""},null,{"$f":"IF(LEN(CA32)=0,\"\",COUNTIF(BK$6:CD$7,CA32)+COUNTIF(BK$10:CD$10,CA32)+COUNTIF(BK$13:CD$13,CA32)+COUNTIF(BK$16:CD$16,CA32)+COUNTIF(BK$19:CD$19,CA32)+COUNTIF(BK$22:CD$22,CA32)+COUNTIF(BK$25:CD$25,CA32))","v":""},"",{"$f":"$C$32","v":""},null,{"$f":"IF(LEN(CE32)=0,\"\",(COUNTIF(CE$6:CX$7,CE32)+COUNTIF(CE$10:CX$10,CE32)+COUNTIF(CE$13:CX$13,CE32)+COUNTIF(CE$16:CX$16,CE32)+COUNTIF(CE$19:CX$19,CE32)+COUNTIF(CE$22:CX$22,CE32)+COUNTIF(CE$25:CX$25,CE32))/設定!$D23+IFERROR((COUNTIF(CE$6:CX$7,処理!$L4)+COUNTIF(CE$10:CX$10,処理!$L4)+COUNTIF(CE$13:CX$13,処理!$L4)+COUNTIF(CE$16:CX$16,処理!$L4)+COUNTIF(CE$19:CX$19,処理!$L4)+COUNTIF(CE$22:CX$22,処理!$L4)+COUNTIF(CE$25:CX$25,処理!$L4))/処理!$M4,0))","v":""},"",{"$f":"$G$32","v":""},null,{"$f":"IF(LEN(CI32)=0,\"\",(COUNTIF(CE$6:CX$7,CI32)+COUNTIF(CE$10:CX$10,CI32)+COUNTIF(CE$13:CX$13,CI32)+COUNTIF(CE$16:CX$16,CI32)+COUNTIF(CE$19:CX$19,CI32)+COUNTIF(CE$22:CX$22,CI32)+COUNTIF(CE$25:CX$25,CI32))/設定!$G23+IFERROR((COUNTIF(CE$6:CX$7,処理!$L10)+COUNTIF(CE$10:CX$10,処理!$L10)+COUNTIF(CE$13:CX$13,処理!$L10)+COUNTIF(CE$16:CX$16,処理!$L10)+COUNTIF(CE$19:CX$19,処理!$L10)+COUNTIF(CE$22:CX$22,処理!$L10)+COUNTIF(CE$25:CX$25,処理!$L10))/処理!$M10,0))","v":""},"",{"$f":"$K$32","v":""},null,{"$f":"IF(LEN(CM32)=0,\"\",(COUNTIF(CE$6:CX$7,CM32)+COUNTIF(CE$10:CX$10,CM32)+COUNTIF(CE$13:CX$13,CM32)+COUNTIF(CE$16:CX$16,CM32)+COUNTIF(CE$19:CX$19,CM32)+COUNTIF(CE$22:CX$22,CM32)+COUNTIF(CE$25:CX$25,CM32))/設定!$J23+IFERROR((COUNTIF(CE$6:CX$7,処理!$L16)+COUNTIF(CE$10:CX$10,処理!$L16)+COUNTIF(CE$13:CX$13,処理!$L16)+COUNTIF(CE$16:CX$16,処理!$L16)+COUNTIF(CE$19:CX$19,処理!$L16)+COUNTIF(CE$22:CX$22,処理!$L16)+COUNTIF(CE$25:CX$25,処理!$L16))/処理!$M16,0))","v":""},"",{"$f":"$O$32","v":""},null,{"$f":"IF(LEN(CQ32)=0,\"\",(COUNTIF(CE$6:CX$7,CQ32)+COUNTIF(CE$10:CX$10,CQ32)+COUNTIF(CE$13:CX$13,CQ32)+COUNTIF(CE$16:CX$16,CQ32)+COUNTIF(CE$19:CX$19,CQ32)+COUNTIF(CE$22:CX$22,CQ32)+COUNTIF(CE$25:CX$25,CQ32))/設定!$M23+IFERROR((COUNTIF(CE$6:CX$7,処理!$L22)+COUNTIF(CE$10:CX$10,処理!$L22)+COUNTIF(CE$13:CX$13,処理!$L22)+COUNTIF(CE$16:CX$16,処理!$L22)+COUNTIF(CE$19:CX$19,処理!$L22)+COUNTIF(CE$22:CX$22,処理!$L22)+COUNTIF(CE$25:CX$25,処理!$L22))/処理!$M22,0))","v":""},"",{"$f":"$S$32","v":""},null,{"$f":"IF(LEN(CU32)=0,\"\",COUNTIF(CE$6:CX$7,CU32)+COUNTIF(CE$10:CX$10,CU32)+COUNTIF(CE$13:CX$13,CU32)+COUNTIF(CE$16:CX$16,CU32)+COUNTIF(CE$19:CX$19,CU32)+COUNTIF(CE$22:CX$22,CU32)+COUNTIF(CE$25:CX$25,CU32))","v":""},"",{"$f":"$C$32","v":""},null,{"$f":"IF(LEN(CY32)=0,\"\",(COUNTIF(CY$6:DR$7,CY32)+COUNTIF(CY$10:DR$10,CY32)+COUNTIF(CY$13:DR$13,CY32)+COUNTIF(CY$16:DR$16,CY32)+COUNTIF(CY$19:DR$19,CY32)+COUNTIF(CY$22:DR$22,CY32)+COUNTIF(CY$25:DR$25,CY32))/設定!$D23+IFERROR((COUNTIF(CY$6:DR$7,処理!$L4)+COUNTIF(CY$10:DR$10,処理!$L4)+COUNTIF(CY$13:DR$13,処理!$L4)+COUNTIF(CY$16:DR$16,処理!$L4)+COUNTIF(CY$19:DR$19,処理!$L4)+COUNTIF(CY$22:DR$22,処理!$L4)+COUNTIF(CY$25:DR$25,処理!$L4))/処理!$M4,0))","v":""},"",{"$f":"$G$32","v":""},null,{"$f":"IF(LEN(DC32)=0,\"\",(COUNTIF(CY$6:DR$7,DC32)+COUNTIF(CY$10:DR$10,DC32)+COUNTIF(CY$13:DR$13,DC32)+COUNTIF(CY$16:DR$16,DC32)+COUNTIF(CY$19:DR$19,DC32)+COUNTIF(CY$22:DR$22,DC32)+COUNTIF(CY$25:DR$25,DC32))/設定!$G23+IFERROR((COUNTIF(CY$6:DR$7,処理!$L10)+COUNTIF(CY$10:DR$10,処理!$L10)+COUNTIF(CY$13:DR$13,処理!$L10)+COUNTIF(CY$16:DR$16,処理!$L10)+COUNTIF(CY$19:DR$19,処理!$L10)+COUNTIF(CY$22:DR$22,処理!$L10)+COUNTIF(CY$25:DR$25,処理!$L10))/処理!$M10,0))","v":""},"",{"$f":"$K$32","v":""},null,{"$f":"IF(LEN(DG32)=0,\"\",(COUNTIF(CY$6:DR$7,DG32)+COUNTIF(CY$10:DR$10,DG32)+COUNTIF(CY$13:DR$13,DG32)+COUNTIF(CY$16:DR$16,DG32)+COUNTIF(CY$19:DR$19,DG32)+COUNTIF(CY$22:DR$22,DG32)+COUNTIF(CY$25:DR$25,DG32))/設定!$J23+IFERROR((COUNTIF(CY$6:DR$7,処理!$L16)+COUNTIF(CY$10:DR$10,処理!$L16)+COUNTIF(CY$13:DR$13,処理!$L16)+COUNTIF(CY$16:DR$16,処理!$L16)+COUNTIF(CY$19:DR$19,処理!$L16)+COUNTIF(CY$22:DR$22,処理!$L16)+COUNTIF(CY$25:DR$25,処理!$L16))/処理!$M16,0))","v":""},"",{"$f":"$O$32","v":""},null,{"$f":"IF(LEN(DK32)=0,\"\",(COUNTIF(CY$6:DR$7,DK32)+COUNTIF(CY$10:DR$10,DK32)+COUNTIF(CY$13:DR$13,DK32)+COUNTIF(CY$16:DR$16,DK32)+COUNTIF(CY$19:DR$19,DK32)+COUNTIF(CY$22:DR$22,DK32)+COUNTIF(CY$25:DR$25,DK32))/設定!$M23+IFERROR((COUNTIF(CY$6:DR$7,処理!$L22)+COUNTIF(CY$10:DR$10,処理!$L22)+COUNTIF(CY$13:DR$13,処理!$L22)+COUNTIF(CY$16:DR$16,処理!$L22)+COUNTIF(CY$19:DR$19,処理!$L22)+COUNTIF(CY$22:DR$22,処理!$L22)+COUNTIF(CY$25:DR$25,処理!$L22))/処理!$M22,0))","v":""},"",{"$f":"$S$32","v":""},null,{"$f":"IF(LEN(DO32)=0,\"\",COUNTIF(CY$6:DR$7,DO32)+COUNTIF(CY$10:DR$10,DO32)+COUNTIF(CY$13:DR$13,DO32)+COUNTIF(CY$16:DR$16,DO32)+COUNTIF(CY$19:DR$19,DO32)+COUNTIF(CY$22:DR$22,DO32)+COUNTIF(CY$25:DR$25,DO32))","v":""},"",{"$f":"$C$32","v":""},null,{"$f":"IF(LEN(DS32)=0,\"\",(COUNTIF(DS$6:EL$7,DS32)+COUNTIF(DS$10:EL$10,DS32)+COUNTIF(DS$13:EL$13,DS32)+COUNTIF(DS$16:EL$16,DS32)+COUNTIF(DS$19:EL$19,DS32)+COUNTIF(DS$22:EL$22,DS32)+COUNTIF(DS$25:EL$25,DS32))/設定!$D23+IFERROR((COUNTIF(DS$6:EL$7,処理!$L4)+COUNTIF(DS$10:EL$10,処理!$L4)+COUNTIF(DS$13:EL$13,処理!$L4)+COUNTIF(DS$16:EL$16,処理!$L4)+COUNTIF(DS$19:EL$19,処理!$L4)+COUNTIF(DS$22:EL$22,処理!$L4)+COUNTIF(DS$25:EL$25,処理!$L4))/処理!$M4,0))","v":""},"",{"$f":"$G$32","v":""},null,{"$f":"IF(LEN(DW32)=0,\"\",(COUNTIF(DS$6:EL$7,DW32)+COUNTIF(DS$10:EL$10,DW32)+COUNTIF(DS$13:EL$13,DW32)+COUNTIF(DS$16:EL$16,DW32)+COUNTIF(DS$19:EL$19,DW32)+COUNTIF(DS$22:EL$22,DW32)+COUNTIF(DS$25:EL$25,DW32))/設定!$G23+IFERROR((COUNTIF(DS$6:EL$7,処理!$L10)+COUNTIF(DS$10:EL$10,処理!$L10)+COUNTIF(DS$13:EL$13,処理!$L10)+COUNTIF(DS$16:EL$16,処理!$L10)+COUNTIF(DS$19:EL$19,処理!$L10)+COUNTIF(DS$22:EL$22,処理!$L10)+COUNTIF(DS$25:EL$25,処理!$L10))/処理!$M10,0))","v":""},"",{"$f":"$K$32","v":""},null,{"$f":"IF(LEN(EA32)=0,\"\",(COUNTIF(DS$6:EL$7,EA32)+COUNTIF(DS$10:EL$10,EA32)+COUNTIF(DS$13:EL$13,EA32)+COUNTIF(DS$16:EL$16,EA32)+COUNTIF(DS$19:EL$19,EA32)+COUNTIF(DS$22:EL$22,EA32)+COUNTIF(DS$25:EL$25,EA32))/設定!$J23+IFERROR((COUNTIF(DS$6:EL$7,処理!$L16)+COUNTIF(DS$10:EL$10,処理!$L16)+COUNTIF(DS$13:EL$13,処理!$L16)+COUNTIF(DS$16:EL$16,処理!$L16)+COUNTIF(DS$19:EL$19,処理!$L16)+COUNTIF(DS$22:EL$22,処理!$L16)+COUNTIF(DS$25:EL$25,処理!$L16))/処理!$M16,0))","v":""},"",{"$f":"$O$32","v":""},null,{"$f":"IF(LEN(EE32)=0,\"\",(COUNTIF(DS$6:EL$7,EE32)+COUNTIF(DS$10:EL$10,EE32)+COUNTIF(DS$13:EL$13,EE32)+COUNTIF(DS$16:EL$16,EE32)+COUNTIF(DS$19:EL$19,EE32)+COUNTIF(DS$22:EL$22,EE32)+COUNTIF(DS$25:EL$25,EE32))/設定!$M23+IFERROR((COUNTIF(DS$6:EL$7,処理!$L22)+COUNTIF(DS$10:EL$10,処理!$L22)+COUNTIF(DS$13:EL$13,処理!$L22)+COUNTIF(DS$16:EL$16,処理!$L22)+COUNTIF(DS$19:EL$19,処理!$L22)+COUNTIF(DS$22:EL$22,処理!$L22)+COUNTIF(DS$25:EL$25,処理!$L22))/処理!$M22,0))","v":""},"",{"$f":"$S$32","v":""},null,{"$f":"IF(LEN(EI32)=0,\"\",COUNTIF(DS$6:EL$7,EI32)+COUNTIF(DS$10:EL$10,EI32)+COUNTIF(DS$13:EL$13,EI32)+COUNTIF(DS$16:EL$16,EI32)+COUNTIF(DS$19:EL$19,EI32)+COUNTIF(DS$22:EL$22,EI32)+COUNTIF(DS$25:EL$25,EI32))","v":""},"",{"$f":"$C$32","v":""},null,{"$f":"IF(LEN(EM32)=0,\"\",(COUNTIF(EM$6:FF$7,EM32)+COUNTIF(EM$10:FF$10,EM32)+COUNTIF(EM$13:FF$13,EM32)+COUNTIF(EM$16:FF$16,EM32)+COUNTIF(EM$19:FF$19,EM32)+COUNTIF(EM$22:FF$22,EM32)+COUNTIF(EM$25:FF$25,EM32))/設定!$D23+IFERROR((COUNTIF(EM$6:FF$7,処理!$L4)+COUNTIF(EM$10:FF$10,処理!$L4)+COUNTIF(EM$13:FF$13,処理!$L4)+COUNTIF(EM$16:FF$16,処理!$L4)+COUNTIF(EM$19:FF$19,処理!$L4)+COUNTIF(EM$22:FF$22,処理!$L4)+COUNTIF(EM$25:FF$25,処理!$L4))/処理!$M4,0))","v":""},"",{"$f":"$G$32","v":""},null,{"$f":"IF(LEN(EQ32)=0,\"\",(COUNTIF(EM$6:FF$7,EQ32)+COUNTIF(EM$10:FF$10,EQ32)+COUNTIF(EM$13:FF$13,EQ32)+COUNTIF(EM$16:FF$16,EQ32)+COUNTIF(EM$19:FF$19,EQ32)+COUNTIF(EM$22:FF$22,EQ32)+COUNTIF(EM$25:FF$25,EQ32))/設定!$G23+IFERROR((COUNTIF(EM$6:FF$7,処理!$L10)+COUNTIF(EM$10:FF$10,処理!$L10)+COUNTIF(EM$13:FF$13,処理!$L10)+COUNTIF(EM$16:FF$16,処理!$L10)+COUNTIF(EM$19:FF$19,処理!$L10)+COUNTIF(EM$22:FF$22,処理!$L10)+COUNTIF(EM$25:FF$25,処理!$L10))/処理!$M10,0))","v":""},"",{"$f":"$K$32","v":""},null,{"$f":"IF(LEN(EU32)=0,\"\",(COUNTIF(EM$6:FF$7,EU32)+COUNTIF(EM$10:FF$10,EU32)+COUNTIF(EM$13:FF$13,EU32)+COUNTIF(EM$16:FF$16,EU32)+COUNTIF(EM$19:FF$19,EU32)+COUNTIF(EM$22:FF$22,EU32)+COUNTIF(EM$25:FF$25,EU32))/設定!$J23+IFERROR((COUNTIF(EM$6:FF$7,処理!$L16)+COUNTIF(EM$10:FF$10,処理!$L16)+COUNTIF(EM$13:FF$13,処理!$L16)+COUNTIF(EM$16:FF$16,処理!$L16)+COUNTIF(EM$19:FF$19,処理!$L16)+COUNTIF(EM$22:FF$22,処理!$L16)+COUNTIF(EM$25:FF$25,処理!$L16))/処理!$M16,0))","v":""},"",{"$f":"$O$32","v":""},null,{"$f":"IF(LEN(EY32)=0,\"\",(COUNTIF(EM$6:FF$7,EY32)+COUNTIF(EM$10:FF$10,EY32)+COUNTIF(EM$13:FF$13,EY32)+COUNTIF(EM$16:FF$16,EY32)+COUNTIF(EM$19:FF$19,EY32)+COUNTIF(EM$22:FF$22,EY32)+COUNTIF(EM$25:FF$25,EY32))/設定!$M23+IFERROR((COUNTIF(EM$6:FF$7,処理!$L22)+COUNTIF(EM$10:FF$10,処理!$L22)+COUNTIF(EM$13:FF$13,処理!$L22)+COUNTIF(EM$16:FF$16,処理!$L22)+COUNTIF(EM$19:FF$19,処理!$L22)+COUNTIF(EM$22:FF$22,処理!$L22)+COUNTIF(EM$25:FF$25,処理!$L22))/処理!$M22,0))","v":""},"",{"$f":"$S$32","v":""},null,{"$f":"IF(LEN(FC32)=0,\"\",COUNTIF(EM$6:FF$7,FC32)+COUNTIF(EM$10:FF$10,FC32)+COUNTIF(EM$13:FF$13,FC32)+COUNTIF(EM$16:FF$16,FC32)+COUNTIF(EM$19:FF$19,FC32)+COUNTIF(EM$22:FF$22,FC32)+COUNTIF(EM$25:FF$25,FC32))","v":""},"",{"$f":"$C$32","v":""},null,{"$f":"IF(LEN(FG32)=0,\"\",(COUNTIF(FG$6:FZ$7,FG32)+COUNTIF(FG$10:FZ$10,FG32)+COUNTIF(FG$13:FZ$13,FG32)+COUNTIF(FG$16:FZ$16,FG32)+COUNTIF(FG$19:FZ$19,FG32)+COUNTIF(FG$22:FZ$22,FG32)+COUNTIF(FG$25:FZ$25,FG32))/設定!$D23+IFERROR((COUNTIF(FG$6:FZ$7,処理!$L4)+COUNTIF(FG$10:FZ$10,処理!$L4)+COUNTIF(FG$13:FZ$13,処理!$L4)+COUNTIF(FG$16:FZ$16,処理!$L4)+COUNTIF(FG$19:FZ$19,処理!$L4)+COUNTIF(FG$22:FZ$22,処理!$L4)+COUNTIF(FG$25:FZ$25,処理!$L4))/処理!$M4,0))","v":""},"",{"$f":"$G$32","v":""},null,{"$f":"IF(LEN(FK32)=0,\"\",(COUNTIF(FG$6:FZ$7,FK32)+COUNTIF(FG$10:FZ$10,FK32)+COUNTIF(FG$13:FZ$13,FK32)+COUNTIF(FG$16:FZ$16,FK32)+COUNTIF(FG$19:FZ$19,FK32)+COUNTIF(FG$22:FZ$22,FK32)+COUNTIF(FG$25:FZ$25,FK32))/設定!$G23+IFERROR((COUNTIF(FG$6:FZ$7,処理!$L10)+COUNTIF(FG$10:FZ$10,処理!$L10)+COUNTIF(FG$13:FZ$13,処理!$L10)+COUNTIF(FG$16:FZ$16,処理!$L10)+COUNTIF(FG$19:FZ$19,処理!$L10)+COUNTIF(FG$22:FZ$22,処理!$L10)+COUNTIF(FG$25:FZ$25,処理!$L10))/処理!$M10,0))","v":""},"",{"$f":"$K$32","v":""},null,{"$f":"IF(LEN(FO32)=0,\"\",(COUNTIF(FG$6:FZ$7,FO32)+COUNTIF(FG$10:FZ$10,FO32)+COUNTIF(FG$13:FZ$13,FO32)+COUNTIF(FG$16:FZ$16,FO32)+COUNTIF(FG$19:FZ$19,FO32)+COUNTIF(FG$22:FZ$22,FO32)+COUNTIF(FG$25:FZ$25,FO32))/設定!$J23+IFERROR((COUNTIF(FG$6:FZ$7,処理!$L16)+COUNTIF(FG$10:FZ$10,処理!$L16)+COUNTIF(FG$13:FZ$13,処理!$L16)+COUNTIF(FG$16:FZ$16,処理!$L16)+COUNTIF(FG$19:FZ$19,処理!$L16)+COUNTIF(FG$22:FZ$22,処理!$L16)+COUNTIF(FG$25:FZ$25,処理!$L16))/処理!$M16,0))","v":""},"",{"$f":"$O$32","v":""},null,{"$f":"IF(LEN(FS32)=0,\"\",(COUNTIF(FG$6:FZ$7,FS32)+COUNTIF(FG$10:FZ$10,FS32)+COUNTIF(FG$13:FZ$13,FS32)+COUNTIF(FG$16:FZ$16,FS32)+COUNTIF(FG$19:FZ$19,FS32)+COUNTIF(FG$22:FZ$22,FS32)+COUNTIF(FG$25:FZ$25,FS32))/設定!$M23+IFERROR((COUNTIF(FG$6:FZ$7,処理!$L22)+COUNTIF(FG$10:FZ$10,処理!$L22)+COUNTIF(FG$13:FZ$13,処理!$L22)+COUNTIF(FG$16:FZ$16,処理!$L22)+COUNTIF(FG$19:FZ$19,処理!$L22)+COUNTIF(FG$22:FZ$22,処理!$L22)+COUNTIF(FG$25:FZ$25,処理!$L22))/処理!$M22,0))","v":""},"",{"$f":"$S$32","v":""},null,{"$f":"IF(LEN(FW32)=0,\"\",COUNTIF(FG$6:FZ$7,FW32)+COUNTIF(FG$10:FZ$10,FW32)+COUNTIF(FG$13:FZ$13,FW32)+COUNTIF(FG$16:FZ$16,FW32)+COUNTIF(FG$19:FZ$19,FW32)+COUNTIF(FG$22:FZ$22,FW32)+COUNTIF(FG$25:FZ$25,FW32))","v":""},"",{"$f":"$C$32","v":""},null,{"$f":"IF(LEN(GA32)=0,\"\",(COUNTIF(GA$6:GT$7,GA32)+COUNTIF(GA$10:GT$10,GA32)+COUNTIF(GA$13:GT$13,GA32)+COUNTIF(GA$16:GT$16,GA32)+COUNTIF(GA$19:GT$19,GA32)+COUNTIF(GA$22:GT$22,GA32)+COUNTIF(GA$25:GT$25,GA32))/設定!$D23+IFERROR((COUNTIF(GA$6:GT$7,処理!$L4)+COUNTIF(GA$10:GT$10,処理!$L4)+COUNTIF(GA$13:GT$13,処理!$L4)+COUNTIF(GA$16:GT$16,処理!$L4)+COUNTIF(GA$19:GT$19,処理!$L4)+COUNTIF(GA$22:GT$22,処理!$L4)+COUNTIF(GA$25:GT$25,処理!$L4))/処理!$M4,0))","v":""},"",{"$f":"$G$32","v":""},null,{"$f":"IF(LEN(GE32)=0,\"\",(COUNTIF(GA$6:GT$7,GE32)+COUNTIF(GA$10:GT$10,GE32)+COUNTIF(GA$13:GT$13,GE32)+COUNTIF(GA$16:GT$16,GE32)+COUNTIF(GA$19:GT$19,GE32)+COUNTIF(GA$22:GT$22,GE32)+COUNTIF(GA$25:GT$25,GE32))/設定!$G23+IFERROR((COUNTIF(GA$6:GT$7,処理!$L10)+COUNTIF(GA$10:GT$10,処理!$L10)+COUNTIF(GA$13:GT$13,処理!$L10)+COUNTIF(GA$16:GT$16,処理!$L10)+COUNTIF(GA$19:GT$19,処理!$L10)+COUNTIF(GA$22:GT$22,処理!$L10)+COUNTIF(GA$25:GT$25,処理!$L10))/処理!$M10,0))","v":""},"",{"$f":"$K$32","v":""},null,{"$f":"IF(LEN(GI32)=0,\"\",(COUNTIF(GA$6:GT$7,GI32)+COUNTIF(GA$10:GT$10,GI32)+COUNTIF(GA$13:GT$13,GI32)+COUNTIF(GA$16:GT$16,GI32)+COUNTIF(GA$19:GT$19,GI32)+COUNTIF(GA$22:GT$22,GI32)+COUNTIF(GA$25:GT$25,GI32))/設定!$J23+IFERROR((COUNTIF(GA$6:GT$7,処理!$L16)+COUNTIF(GA$10:GT$10,処理!$L16)+COUNTIF(GA$13:GT$13,処理!$L16)+COUNTIF(GA$16:GT$16,処理!$L16)+COUNTIF(GA$19:GT$19,処理!$L16)+COUNTIF(GA$22:GT$22,処理!$L16)+COUNTIF(GA$25:GT$25,処理!$L16))/処理!$M16,0))","v":""},"",{"$f":"$O$32","v":""},null,{"$f":"IF(LEN(GM32)=0,\"\",(COUNTIF(GA$6:GT$7,GM32)+COUNTIF(GA$10:GT$10,GM32)+COUNTIF(GA$13:GT$13,GM32)+COUNTIF(GA$16:GT$16,GM32)+COUNTIF(GA$19:GT$19,GM32)+COUNTIF(GA$22:GT$22,GM32)+COUNTIF(GA$25:GT$25,GM32))/設定!$M23+IFERROR((COUNTIF(GA$6:GT$7,処理!$L22)+COUNTIF(GA$10:GT$10,処理!$L22)+COUNTIF(GA$13:GT$13,処理!$L22)+COUNTIF(GA$16:GT$16,処理!$L22)+COUNTIF(GA$19:GT$19,処理!$L22)+COUNTIF(GA$22:GT$22,処理!$L22)+COUNTIF(GA$25:GT$25,処理!$L22))/処理!$M22,0))","v":""},"",{"$f":"$S$32","v":""},null,{"$f":"IF(LEN(GQ32)=0,\"\",COUNTIF(GA$6:GT$7,GQ32)+COUNTIF(GA$10:GT$10,GQ32)+COUNTIF(GA$13:GT$13,GQ32)+COUNTIF(GA$16:GT$16,GQ32)+COUNTIF(GA$19:GT$19,GQ32)+COUNTIF(GA$22:GT$22,GQ32)+COUNTIF(GA$25:GT$25,GQ32))","v":""},"",{"$f":"$C$32","v":""},null,{"$f":"IF(LEN(GU32)=0,\"\",(COUNTIF(GU$6:HN$7,GU32)+COUNTIF(GU$10:HN$10,GU32)+COUNTIF(GU$13:HN$13,GU32)+COUNTIF(GU$16:HN$16,GU32)+COUNTIF(GU$19:HN$19,GU32)+COUNTIF(GU$22:HN$22,GU32)+COUNTIF(GU$25:HN$25,GU32))/設定!$D23+IFERROR((COUNTIF(GU$6:HN$7,処理!$L4)+COUNTIF(GU$10:HN$10,処理!$L4)+COUNTIF(GU$13:HN$13,処理!$L4)+COUNTIF(GU$16:HN$16,処理!$L4)+COUNTIF(GU$19:HN$19,処理!$L4)+COUNTIF(GU$22:HN$22,処理!$L4)+COUNTIF(GU$25:HN$25,処理!$L4))/処理!$M4,0))","v":""},"",{"$f":"$G$32","v":""},null,{"$f":"IF(LEN(GY32)=0,\"\",(COUNTIF(GU$6:HN$7,GY32)+COUNTIF(GU$10:HN$10,GY32)+COUNTIF(GU$13:HN$13,GY32)+COUNTIF(GU$16:HN$16,GY32)+COUNTIF(GU$19:HN$19,GY32)+COUNTIF(GU$22:HN$22,GY32)+COUNTIF(GU$25:HN$25,GY32))/設定!$G23+IFERROR((COUNTIF(GU$6:HN$7,処理!$L10)+COUNTIF(GU$10:HN$10,処理!$L10)+COUNTIF(GU$13:HN$13,処理!$L10)+COUNTIF(GU$16:HN$16,処理!$L10)+COUNTIF(GU$19:HN$19,処理!$L10)+COUNTIF(GU$22:HN$22,処理!$L10)+COUNTIF(GU$25:HN$25,処理!$L10))/処理!$M10,0))","v":""},"",{"$f":"$K$32","v":""},null,{"$f":"IF(LEN(HC32)=0,\"\",(COUNTIF(GU$6:HN$7,HC32)+COUNTIF(GU$10:HN$10,HC32)+COUNTIF(GU$13:HN$13,HC32)+COUNTIF(GU$16:HN$16,HC32)+COUNTIF(GU$19:HN$19,HC32)+COUNTIF(GU$22:HN$22,HC32)+COUNTIF(GU$25:HN$25,HC32))/設定!$J23+IFERROR((COUNTIF(GU$6:HN$7,処理!$L16)+COUNTIF(GU$10:HN$10,処理!$L16)+COUNTIF(GU$13:HN$13,処理!$L16)+COUNTIF(GU$16:HN$16,処理!$L16)+COUNTIF(GU$19:HN$19,処理!$L16)+COUNTIF(GU$22:HN$22,処理!$L16)+COUNTIF(GU$25:HN$25,処理!$L16))/処理!$M16,0))","v":""},"",{"$f":"$O$32","v":""},null,{"$f":"IF(LEN(HG32)=0,\"\",(COUNTIF(GU$6:HN$7,HG32)+COUNTIF(GU$10:HN$10,HG32)+COUNTIF(GU$13:HN$13,HG32)+COUNTIF(GU$16:HN$16,HG32)+COUNTIF(GU$19:HN$19,HG32)+COUNTIF(GU$22:HN$22,HG32)+COUNTIF(GU$25:HN$25,HG32))/設定!$M23+IFERROR((COUNTIF(GU$6:HN$7,処理!$L22)+COUNTIF(GU$10:HN$10,処理!$L22)+COUNTIF(GU$13:HN$13,処理!$L22)+COUNTIF(GU$16:HN$16,処理!$L22)+COUNTIF(GU$19:HN$19,処理!$L22)+COUNTIF(GU$22:HN$22,処理!$L22)+COUNTIF(GU$25:HN$25,処理!$L22))/処理!$M22,0))","v":""},"",{"$f":"$S$32","v":""},null,{"$f":"IF(LEN(HK32)=0,\"\",COUNTIF(GU$6:HN$7,HK32)+COUNTIF(GU$10:HN$10,HK32)+COUNTIF(GU$13:HN$13,HK32)+COUNTIF(GU$16:HN$16,HK32)+COUNTIF(GU$19:HN$19,HK32)+COUNTIF(GU$22:HN$22,HK32)+COUNTIF(GU$25:HN$25,HK32))","v":""},"",{"$f":"$C$32","v":""},null,{"$f":"IF(LEN(HO32)=0,\"\",(COUNTIF(HO$6:IH$7,HO32)+COUNTIF(HO$10:IH$10,HO32)+COUNTIF(HO$13:IH$13,HO32)+COUNTIF(HO$16:IH$16,HO32)+COUNTIF(HO$19:IH$19,HO32)+COUNTIF(HO$22:IH$22,HO32)+COUNTIF(HO$25:IH$25,HO32))/設定!$D23+IFERROR((COUNTIF(HO$6:IH$7,処理!$L4)+COUNTIF(HO$10:IH$10,処理!$L4)+COUNTIF(HO$13:IH$13,処理!$L4)+COUNTIF(HO$16:IH$16,処理!$L4)+COUNTIF(HO$19:IH$19,処理!$L4)+COUNTIF(HO$22:IH$22,処理!$L4)+COUNTIF(HO$25:IH$25,処理!$L4))/処理!$M4,0))","v":""},"",{"$f":"$G$32","v":""},null,{"$f":"IF(LEN(HS32)=0,\"\",(COUNTIF(HO$6:IH$7,HS32)+COUNTIF(HO$10:IH$10,HS32)+COUNTIF(HO$13:IH$13,HS32)+COUNTIF(HO$16:IH$16,HS32)+COUNTIF(HO$19:IH$19,HS32)+COUNTIF(HO$22:IH$22,HS32)+COUNTIF(HO$25:IH$25,HS32))/設定!$G23+IFERROR((COUNTIF(HO$6:IH$7,処理!$L10)+COUNTIF(HO$10:IH$10,処理!$L10)+COUNTIF(HO$13:IH$13,処理!$L10)+COUNTIF(HO$16:IH$16,処理!$L10)+COUNTIF(HO$19:IH$19,処理!$L10)+COUNTIF(HO$22:IH$22,処理!$L10)+COUNTIF(HO$25:IH$25,処理!$L10))/処理!$M10,0))","v":""},"",{"$f":"$K$32","v":""},null,{"$f":"IF(LEN(HW32)=0,\"\",(COUNTIF(HO$6:IH$7,HW32)+COUNTIF(HO$10:IH$10,HW32)+COUNTIF(HO$13:IH$13,HW32)+COUNTIF(HO$16:IH$16,HW32)+COUNTIF(HO$19:IH$19,HW32)+COUNTIF(HO$22:IH$22,HW32)+COUNTIF(HO$25:IH$25,HW32))/設定!$J23+IFERROR((COUNTIF(HO$6:IH$7,処理!$L16)+COUNTIF(HO$10:IH$10,処理!$L16)+COUNTIF(HO$13:IH$13,処理!$L16)+COUNTIF(HO$16:IH$16,処理!$L16)+COUNTIF(HO$19:IH$19,処理!$L16)+COUNTIF(HO$22:IH$22,処理!$L16)+COUNTIF(HO$25:IH$25,処理!$L16))/処理!$M16,0))","v":""},"",{"$f":"$O$32","v":""},null,{"$f":"IF(LEN(IA32)=0,\"\",(COUNTIF(HO$6:IH$7,IA32)+COUNTIF(HO$10:IH$10,IA32)+COUNTIF(HO$13:IH$13,IA32)+COUNTIF(HO$16:IH$16,IA32)+COUNTIF(HO$19:IH$19,IA32)+COUNTIF(HO$22:IH$22,IA32)+COUNTIF(HO$25:IH$25,IA32))/設定!$M23+IFERROR((COUNTIF(HO$6:IH$7,処理!$L22)+COUNTIF(HO$10:IH$10,処理!$L22)+COUNTIF(HO$13:IH$13,処理!$L22)+COUNTIF(HO$16:IH$16,処理!$L22)+COUNTIF(HO$19:IH$19,処理!$L22)+COUNTIF(HO$22:IH$22,処理!$L22)+COUNTIF(HO$25:IH$25,処理!$L22))/処理!$M22,0))","v":""},"",{"$f":"$S$32","v":""},null,{"$f":"IF(LEN(IE32)=0,\"\",COUNTIF(HO$6:IH$7,IE32)+COUNTIF(HO$10:IH$10,IE32)+COUNTIF(HO$13:IH$13,IE32)+COUNTIF(HO$16:IH$16,IE32)+COUNTIF(HO$19:IH$19,IE32)+COUNTIF(HO$22:IH$22,IE32)+COUNTIF(HO$25:IH$25,IE32))","v":""},"",{"$f":"$C$32","v":""},null,{"$f":"IF(LEN(II32)=0,\"\",(COUNTIF(II$6:JB$7,II32)+COUNTIF(II$10:JB$10,II32)+COUNTIF(II$13:JB$13,II32)+COUNTIF(II$16:JB$16,II32)+COUNTIF(II$19:JB$19,II32)+COUNTIF(II$22:JB$22,II32)+COUNTIF(II$25:JB$25,II32))/設定!$D23+IFERROR((COUNTIF(II$6:JB$7,処理!$L4)+COUNTIF(II$10:JB$10,処理!$L4)+COUNTIF(II$13:JB$13,処理!$L4)+COUNTIF(II$16:JB$16,処理!$L4)+COUNTIF(II$19:JB$19,処理!$L4)+COUNTIF(II$22:JB$22,処理!$L4)+COUNTIF(II$25:JB$25,処理!$L4))/処理!$M4,0))","v":""},"",{"$f":"$G$32","v":""},null,{"$f":"IF(LEN(IM32)=0,\"\",(COUNTIF(II$6:JB$7,IM32)+COUNTIF(II$10:JB$10,IM32)+COUNTIF(II$13:JB$13,IM32)+COUNTIF(II$16:JB$16,IM32)+COUNTIF(II$19:JB$19,IM32)+COUNTIF(II$22:JB$22,IM32)+COUNTIF(II$25:JB$25,IM32))/設定!$G23+IFERROR((COUNTIF(II$6:JB$7,処理!$L10)+COUNTIF(II$10:JB$10,処理!$L10)+COUNTIF(II$13:JB$13,処理!$L10)+COUNTIF(II$16:JB$16,処理!$L10)+COUNTIF(II$19:JB$19,処理!$L10)+COUNTIF(II$22:JB$22,処理!$L10)+COUNTIF(II$25:JB$25,処理!$L10))/処理!$M10,0))","v":""},"",{"$f":"$K$32","v":""},null,{"$f":"IF(LEN(IQ32)=0,\"\",(COUNTIF(II$6:JB$7,IQ32)+COUNTIF(II$10:JB$10,IQ32)+COUNTIF(II$13:JB$13,IQ32)+COUNTIF(II$16:JB$16,IQ32)+COUNTIF(II$19:JB$19,IQ32)+COUNTIF(II$22:JB$22,IQ32)+COUNTIF(II$25:JB$25,IQ32))/設定!$J23+IFERROR((COUNTIF(II$6:JB$7,処理!$L16)+COUNTIF(II$10:JB$10,処理!$L16)+COUNTIF(II$13:JB$13,処理!$L16)+COUNTIF(II$16:JB$16,処理!$L16)+COUNTIF(II$19:JB$19,処理!$L16)+COUNTIF(II$22:JB$22,処理!$L16)+COUNTIF(II$25:JB$25,処理!$L16))/処理!$M16,0))","v":""},"",{"$f":"$O$32","v":""},null,{"$f":"IF(LEN(IU32)=0,\"\",(COUNTIF(II$6:JB$7,IU32)+COUNTIF(II$10:JB$10,IU32)+COUNTIF(II$13:JB$13,IU32)+COUNTIF(II$16:JB$16,IU32)+COUNTIF(II$19:JB$19,IU32)+COUNTIF(II$22:JB$22,IU32)+COUNTIF(II$25:JB$25,IU32))/設定!$M23+IFERROR((COUNTIF(II$6:JB$7,処理!$L22)+COUNTIF(II$10:JB$10,処理!$L22)+COUNTIF(II$13:JB$13,処理!$L22)+COUNTIF(II$16:JB$16,処理!$L22)+COUNTIF(II$19:JB$19,処理!$L22)+COUNTIF(II$22:JB$22,処理!$L22)+COUNTIF(II$25:JB$25,処理!$L22))/処理!$M22,0))","v":""},"",{"$f":"$S$32","v":""},null,{"$f":"IF(LEN(IY32)=0,\"\",COUNTIF(II$6:JB$7,IY32)+COUNTIF(II$10:JB$10,IY32)+COUNTIF(II$13:JB$13,IY32)+COUNTIF(II$16:JB$16,IY32)+COUNTIF(II$19:JB$19,IY32)+COUNTIF(II$22:JB$22,IY32)+COUNTIF(II$25:JB$25,IY32))","v":""},"",{"$f":"$C$32","v":""},null,{"$f":"IF(LEN(JC32)=0,\"\",(COUNTIF(JC$6:JV$7,JC32)+COUNTIF(JC$10:JV$10,JC32)+COUNTIF(JC$13:JV$13,JC32)+COUNTIF(JC$16:JV$16,JC32)+COUNTIF(JC$19:JV$19,JC32)+COUNTIF(JC$22:JV$22,JC32)+COUNTIF(JC$25:JV$25,JC32))/設定!$D23+IFERROR((COUNTIF(JC$6:JV$7,処理!$L4)+COUNTIF(JC$10:JV$10,処理!$L4)+COUNTIF(JC$13:JV$13,処理!$L4)+COUNTIF(JC$16:JV$16,処理!$L4)+COUNTIF(JC$19:JV$19,処理!$L4)+COUNTIF(JC$22:JV$22,処理!$L4)+COUNTIF(JC$25:JV$25,処理!$L4))/処理!$M4,0))","v":""},"",{"$f":"$G$32","v":""},null,{"$f":"IF(LEN(JG32)=0,\"\",(COUNTIF(JC$6:JV$7,JG32)+COUNTIF(JC$10:JV$10,JG32)+COUNTIF(JC$13:JV$13,JG32)+COUNTIF(JC$16:JV$16,JG32)+COUNTIF(JC$19:JV$19,JG32)+COUNTIF(JC$22:JV$22,JG32)+COUNTIF(JC$25:JV$25,JG32))/設定!$G23+IFERROR((COUNTIF(JC$6:JV$7,処理!$L10)+COUNTIF(JC$10:JV$10,処理!$L10)+COUNTIF(JC$13:JV$13,処理!$L10)+COUNTIF(JC$16:JV$16,処理!$L10)+COUNTIF(JC$19:JV$19,処理!$L10)+COUNTIF(JC$22:JV$22,処理!$L10)+COUNTIF(JC$25:JV$25,処理!$L10))/処理!$M10,0))","v":""},"",{"$f":"$K$32","v":""},null,{"$f":"IF(LEN(JK32)=0,\"\",(COUNTIF(JC$6:JV$7,JK32)+COUNTIF(JC$10:JV$10,JK32)+COUNTIF(JC$13:JV$13,JK32)+COUNTIF(JC$16:JV$16,JK32)+COUNTIF(JC$19:JV$19,JK32)+COUNTIF(JC$22:JV$22,JK32)+COUNTIF(JC$25:JV$25,JK32))/設定!$J23+IFERROR((COUNTIF(JC$6:JV$7,処理!$L16)+COUNTIF(JC$10:JV$10,処理!$L16)+COUNTIF(JC$13:JV$13,処理!$L16)+COUNTIF(JC$16:JV$16,処理!$L16)+COUNTIF(JC$19:JV$19,処理!$L16)+COUNTIF(JC$22:JV$22,処理!$L16)+COUNTIF(JC$25:JV$25,処理!$L16))/処理!$M16,0))","v":""},"",{"$f":"$O$32","v":""},null,{"$f":"IF(LEN(JO32)=0,\"\",(COUNTIF(JC$6:JV$7,JO32)+COUNTIF(JC$10:JV$10,JO32)+COUNTIF(JC$13:JV$13,JO32)+COUNTIF(JC$16:JV$16,JO32)+COUNTIF(JC$19:JV$19,JO32)+COUNTIF(JC$22:JV$22,JO32)+COUNTIF(JC$25:JV$25,JO32))/設定!$M23+IFERROR((COUNTIF(JC$6:JV$7,処理!$L22)+COUNTIF(JC$10:JV$10,処理!$L22)+COUNTIF(JC$13:JV$13,処理!$L22)+COUNTIF(JC$16:JV$16,処理!$L22)+COUNTIF(JC$19:JV$19,処理!$L22)+COUNTIF(JC$22:JV$22,処理!$L22)+COUNTIF(JC$25:JV$25,処理!$L22))/処理!$M22,0))","v":""},"",{"$f":"$S$32","v":""},null,{"$f":"IF(LEN(JS32)=0,\"\",COUNTIF(JC$6:JV$7,JS32)+COUNTIF(JC$10:JV$10,JS32)+COUNTIF(JC$13:JV$13,JS32)+COUNTIF(JC$16:JV$16,JS32)+COUNTIF(JC$19:JV$19,JS32)+COUNTIF(JC$22:JV$22,JS32)+COUNTIF(JC$25:JV$25,JS32))","v":""},"",{"$f":"$C$32","v":""},null,{"$f":"IF(LEN(JW32)=0,\"\",(COUNTIF(JW$6:KP$7,JW32)+COUNTIF(JW$10:KP$10,JW32)+COUNTIF(JW$13:KP$13,JW32)+COUNTIF(JW$16:KP$16,JW32)+COUNTIF(JW$19:KP$19,JW32)+COUNTIF(JW$22:KP$22,JW32)+COUNTIF(JW$25:KP$25,JW32))/設定!$D23+IFERROR((COUNTIF(JW$6:KP$7,処理!$L4)+COUNTIF(JW$10:KP$10,処理!$L4)+COUNTIF(JW$13:KP$13,処理!$L4)+COUNTIF(JW$16:KP$16,処理!$L4)+COUNTIF(JW$19:KP$19,処理!$L4)+COUNTIF(JW$22:KP$22,処理!$L4)+COUNTIF(JW$25:KP$25,処理!$L4))/処理!$M4,0))","v":""},"",{"$f":"$G$32","v":""},null,{"$f":"IF(LEN(KA32)=0,\"\",(COUNTIF(JW$6:KP$7,KA32)+COUNTIF(JW$10:KP$10,KA32)+COUNTIF(JW$13:KP$13,KA32)+COUNTIF(JW$16:KP$16,KA32)+COUNTIF(JW$19:KP$19,KA32)+COUNTIF(JW$22:KP$22,KA32)+COUNTIF(JW$25:KP$25,KA32))/設定!$G23+IFERROR((COUNTIF(JW$6:KP$7,処理!$L10)+COUNTIF(JW$10:KP$10,処理!$L10)+COUNTIF(JW$13:KP$13,処理!$L10)+COUNTIF(JW$16:KP$16,処理!$L10)+COUNTIF(JW$19:KP$19,処理!$L10)+COUNTIF(JW$22:KP$22,処理!$L10)+COUNTIF(JW$25:KP$25,処理!$L10))/処理!$M10,0))","v":""},"",{"$f":"$K$32","v":""},null,{"$f":"IF(LEN(KE32)=0,\"\",(COUNTIF(JW$6:KP$7,KE32)+COUNTIF(JW$10:KP$10,KE32)+COUNTIF(JW$13:KP$13,KE32)+COUNTIF(JW$16:KP$16,KE32)+COUNTIF(JW$19:KP$19,KE32)+COUNTIF(JW$22:KP$22,KE32)+COUNTIF(JW$25:KP$25,KE32))/設定!$J23+IFERROR((COUNTIF(JW$6:KP$7,処理!$L16)+COUNTIF(JW$10:KP$10,処理!$L16)+COUNTIF(JW$13:KP$13,処理!$L16)+COUNTIF(JW$16:KP$16,処理!$L16)+COUNTIF(JW$19:KP$19,処理!$L16)+COUNTIF(JW$22:KP$22,処理!$L16)+COUNTIF(JW$25:KP$25,処理!$L16))/処理!$M16,0))","v":""},"",{"$f":"$O$32","v":""},null,{"$f":"IF(LEN(KI32)=0,\"\",(COUNTIF(JW$6:KP$7,KI32)+COUNTIF(JW$10:KP$10,KI32)+COUNTIF(JW$13:KP$13,KI32)+COUNTIF(JW$16:KP$16,KI32)+COUNTIF(JW$19:KP$19,KI32)+COUNTIF(JW$22:KP$22,KI32)+COUNTIF(JW$25:KP$25,KI32))/設定!$M23+IFERROR((COUNTIF(JW$6:KP$7,処理!$L22)+COUNTIF(JW$10:KP$10,処理!$L22)+COUNTIF(JW$13:KP$13,処理!$L22)+COUNTIF(JW$16:KP$16,処理!$L22)+COUNTIF(JW$19:KP$19,処理!$L22)+COUNTIF(JW$22:KP$22,処理!$L22)+COUNTIF(JW$25:KP$25,処理!$L22))/処理!$M22,0))","v":""},"",{"$f":"$S$32","v":""},null,{"$f":"IF(LEN(KM32)=0,\"\",COUNTIF(JW$6:KP$7,KM32)+COUNTIF(JW$10:KP$10,KM32)+COUNTIF(JW$13:KP$13,KM32)+COUNTIF(JW$16:KP$16,KM32)+COUNTIF(JW$19:KP$19,KM32)+COUNTIF(JW$22:KP$22,KM32)+COUNTIF(JW$25:KP$25,KM32))","v":""},"",{"$f":"$C$32","v":""},null,{"$f":"IF(LEN(KQ32)=0,\"\",(COUNTIF(KQ$6:LJ$7,KQ32)+COUNTIF(KQ$10:LJ$10,KQ32)+COUNTIF(KQ$13:LJ$13,KQ32)+COUNTIF(KQ$16:LJ$16,KQ32)+COUNTIF(KQ$19:LJ$19,KQ32)+COUNTIF(KQ$22:LJ$22,KQ32)+COUNTIF(KQ$25:LJ$25,KQ32))/設定!$D23+IFERROR((COUNTIF(KQ$6:LJ$7,処理!$L4)+COUNTIF(KQ$10:LJ$10,処理!$L4)+COUNTIF(KQ$13:LJ$13,処理!$L4)+COUNTIF(KQ$16:LJ$16,処理!$L4)+COUNTIF(KQ$19:LJ$19,処理!$L4)+COUNTIF(KQ$22:LJ$22,処理!$L4)+COUNTIF(KQ$25:LJ$25,処理!$L4))/処理!$M4,0))","v":""},"",{"$f":"$G$32","v":""},null,{"$f":"IF(LEN(KU32)=0,\"\",(COUNTIF(KQ$6:LJ$7,KU32)+COUNTIF(KQ$10:LJ$10,KU32)+COUNTIF(KQ$13:LJ$13,KU32)+COUNTIF(KQ$16:LJ$16,KU32)+COUNTIF(KQ$19:LJ$19,KU32)+COUNTIF(KQ$22:LJ$22,KU32)+COUNTIF(KQ$25:LJ$25,KU32))/設定!$G23+IFERROR((COUNTIF(KQ$6:LJ$7,処理!$L10)+COUNTIF(KQ$10:LJ$10,処理!$L10)+COUNTIF(KQ$13:LJ$13,処理!$L10)+COUNTIF(KQ$16:LJ$16,処理!$L10)+COUNTIF(KQ$19:LJ$19,処理!$L10)+COUNTIF(KQ$22:LJ$22,処理!$L10)+COUNTIF(KQ$25:LJ$25,処理!$L10))/処理!$M10,0))","v":""},"",{"$f":"$K$32","v":""},null,{"$f":"IF(LEN(KY32)=0,\"\",(COUNTIF(KQ$6:LJ$7,KY32)+COUNTIF(KQ$10:LJ$10,KY32)+COUNTIF(KQ$13:LJ$13,KY32)+COUNTIF(KQ$16:LJ$16,KY32)+COUNTIF(KQ$19:LJ$19,KY32)+COUNTIF(KQ$22:LJ$22,KY32)+COUNTIF(KQ$25:LJ$25,KY32))/設定!$J23+IFERROR((COUNTIF(KQ$6:LJ$7,処理!$L16)+COUNTIF(KQ$10:LJ$10,処理!$L16)+COUNTIF(KQ$13:LJ$13,処理!$L16)+COUNTIF(KQ$16:LJ$16,処理!$L16)+COUNTIF(KQ$19:LJ$19,処理!$L16)+COUNTIF(KQ$22:LJ$22,処理!$L16)+COUNTIF(KQ$25:LJ$25,処理!$L16))/処理!$M16,0))","v":""},"",{"$f":"$O$32","v":""},null,{"$f":"IF(LEN(LC32)=0,\"\",(COUNTIF(KQ$6:LJ$7,LC32)+COUNTIF(KQ$10:LJ$10,LC32)+COUNTIF(KQ$13:LJ$13,LC32)+COUNTIF(KQ$16:LJ$16,LC32)+COUNTIF(KQ$19:LJ$19,LC32)+COUNTIF(KQ$22:LJ$22,LC32)+COUNTIF(KQ$25:LJ$25,LC32))/設定!$M23+IFERROR((COUNTIF(KQ$6:LJ$7,処理!$L22)+COUNTIF(KQ$10:LJ$10,処理!$L22)+COUNTIF(KQ$13:LJ$13,処理!$L22)+COUNTIF(KQ$16:LJ$16,処理!$L22)+COUNTIF(KQ$19:LJ$19,処理!$L22)+COUNTIF(KQ$22:LJ$22,処理!$L22)+COUNTIF(KQ$25:LJ$25,処理!$L22))/処理!$M22,0))","v":""},"",{"$f":"$S$32","v":""},null,{"$f":"IF(LEN(LG32)=0,\"\",COUNTIF(KQ$6:LJ$7,LG32)+COUNTIF(KQ$10:LJ$10,LG32)+COUNTIF(KQ$13:LJ$13,LG32)+COUNTIF(KQ$16:LJ$16,LG32)+COUNTIF(KQ$19:LJ$19,LG32)+COUNTIF(KQ$22:LJ$22,LG32)+COUNTIF(KQ$25:LJ$25,LG32))","v":""},"",{"$f":"$C$32","v":""},null,{"$f":"IF(LEN(LK32)=0,\"\",(COUNTIF(LK$6:MD$7,LK32)+COUNTIF(LK$10:MD$10,LK32)+COUNTIF(LK$13:MD$13,LK32)+COUNTIF(LK$16:MD$16,LK32)+COUNTIF(LK$19:MD$19,LK32)+COUNTIF(LK$22:MD$22,LK32)+COUNTIF(LK$25:MD$25,LK32))/設定!$D23+IFERROR((COUNTIF(LK$6:MD$7,処理!$L4)+COUNTIF(LK$10:MD$10,処理!$L4)+COUNTIF(LK$13:MD$13,処理!$L4)+COUNTIF(LK$16:MD$16,処理!$L4)+COUNTIF(LK$19:MD$19,処理!$L4)+COUNTIF(LK$22:MD$22,処理!$L4)+COUNTIF(LK$25:MD$25,処理!$L4))/処理!$M4,0))","v":""},"",{"$f":"$G$32","v":""},null,{"$f":"IF(LEN(LO32)=0,\"\",(COUNTIF(LK$6:MD$7,LO32)+COUNTIF(LK$10:MD$10,LO32)+COUNTIF(LK$13:MD$13,LO32)+COUNTIF(LK$16:MD$16,LO32)+COUNTIF(LK$19:MD$19,LO32)+COUNTIF(LK$22:MD$22,LO32)+COUNTIF(LK$25:MD$25,LO32))/設定!$G23+IFERROR((COUNTIF(LK$6:MD$7,処理!$L10)+COUNTIF(LK$10:MD$10,処理!$L10)+COUNTIF(LK$13:MD$13,処理!$L10)+COUNTIF(LK$16:MD$16,処理!$L10)+COUNTIF(LK$19:MD$19,処理!$L10)+COUNTIF(LK$22:MD$22,処理!$L10)+COUNTIF(LK$25:MD$25,処理!$L10))/処理!$M10,0))","v":""},"",{"$f":"$K$32","v":""},null,{"$f":"IF(LEN(LS32)=0,\"\",(COUNTIF(LK$6:MD$7,LS32)+COUNTIF(LK$10:MD$10,LS32)+COUNTIF(LK$13:MD$13,LS32)+COUNTIF(LK$16:MD$16,LS32)+COUNTIF(LK$19:MD$19,LS32)+COUNTIF(LK$22:MD$22,LS32)+COUNTIF(LK$25:MD$25,LS32))/設定!$J23+IFERROR((COUNTIF(LK$6:MD$7,処理!$L16)+COUNTIF(LK$10:MD$10,処理!$L16)+COUNTIF(LK$13:MD$13,処理!$L16)+COUNTIF(LK$16:MD$16,処理!$L16)+COUNTIF(LK$19:MD$19,処理!$L16)+COUNTIF(LK$22:MD$22,処理!$L16)+COUNTIF(LK$25:MD$25,処理!$L16))/処理!$M16,0))","v":""},"",{"$f":"$O$32","v":""},null,{"$f":"IF(LEN(LW32)=0,\"\",(COUNTIF(LK$6:MD$7,LW32)+COUNTIF(LK$10:MD$10,LW32)+COUNTIF(LK$13:MD$13,LW32)+COUNTIF(LK$16:MD$16,LW32)+COUNTIF(LK$19:MD$19,LW32)+COUNTIF(LK$22:MD$22,LW32)+COUNTIF(LK$25:MD$25,LW32))/設定!$M23+IFERROR((COUNTIF(LK$6:MD$7,処理!$L22)+COUNTIF(LK$10:MD$10,処理!$L22)+COUNTIF(LK$13:MD$13,処理!$L22)+COUNTIF(LK$16:MD$16,処理!$L22)+COUNTIF(LK$19:MD$19,処理!$L22)+COUNTIF(LK$22:MD$22,処理!$L22)+COUNTIF(LK$25:MD$25,処理!$L22))/処理!$M22,0))","v":""},"",{"$f":"$S$32","v":""},null,{"$f":"IF(LEN(MA32)=0,\"\",COUNTIF(LK$6:MD$7,MA32)+COUNTIF(LK$10:MD$10,MA32)+COUNTIF(LK$13:MD$13,MA32)+COUNTIF(LK$16:MD$16,MA32)+COUNTIF(LK$19:MD$19,MA32)+COUNTIF(LK$22:MD$22,MA32)+COUNTIF(LK$25:MD$25,MA32))","v":""},"",{"$f":"$C$32","v":""},null,{"$f":"IF(LEN(ME32)=0,\"\",(COUNTIF(ME$6:MX$7,ME32)+COUNTIF(ME$10:MX$10,ME32)+COUNTIF(ME$13:MX$13,ME32)+COUNTIF(ME$16:MX$16,ME32)+COUNTIF(ME$19:MX$19,ME32)+COUNTIF(ME$22:MX$22,ME32)+COUNTIF(ME$25:MX$25,ME32))/設定!$D23+IFERROR((COUNTIF(ME$6:MX$7,処理!$L4)+COUNTIF(ME$10:MX$10,処理!$L4)+COUNTIF(ME$13:MX$13,処理!$L4)+COUNTIF(ME$16:MX$16,処理!$L4)+COUNTIF(ME$19:MX$19,処理!$L4)+COUNTIF(ME$22:MX$22,処理!$L4)+COUNTIF(ME$25:MX$25,処理!$L4))/処理!$M4,0))","v":""},"",{"$f":"$G$32","v":""},null,{"$f":"IF(LEN(MI32)=0,\"\",(COUNTIF(ME$6:MX$7,MI32)+COUNTIF(ME$10:MX$10,MI32)+COUNTIF(ME$13:MX$13,MI32)+COUNTIF(ME$16:MX$16,MI32)+COUNTIF(ME$19:MX$19,MI32)+COUNTIF(ME$22:MX$22,MI32)+COUNTIF(ME$25:MX$25,MI32))/設定!$G23+IFERROR((COUNTIF(ME$6:MX$7,処理!$L10)+COUNTIF(ME$10:MX$10,処理!$L10)+COUNTIF(ME$13:MX$13,処理!$L10)+COUNTIF(ME$16:MX$16,処理!$L10)+COUNTIF(ME$19:MX$19,処理!$L10)+COUNTIF(ME$22:MX$22,処理!$L10)+COUNTIF(ME$25:MX$25,処理!$L10))/処理!$M10,0))","v":""},"",{"$f":"$K$32","v":""},null,{"$f":"IF(LEN(MM32)=0,\"\",(COUNTIF(ME$6:MX$7,MM32)+COUNTIF(ME$10:MX$10,MM32)+COUNTIF(ME$13:MX$13,MM32)+COUNTIF(ME$16:MX$16,MM32)+COUNTIF(ME$19:MX$19,MM32)+COUNTIF(ME$22:MX$22,MM32)+COUNTIF(ME$25:MX$25,MM32))/設定!$J23+IFERROR((COUNTIF(ME$6:MX$7,処理!$L16)+COUNTIF(ME$10:MX$10,処理!$L16)+COUNTIF(ME$13:MX$13,処理!$L16)+COUNTIF(ME$16:MX$16,処理!$L16)+COUNTIF(ME$19:MX$19,処理!$L16)+COUNTIF(ME$22:MX$22,処理!$L16)+COUNTIF(ME$25:MX$25,処理!$L16))/処理!$M16,0))","v":""},"",{"$f":"$O$32","v":""},null,{"$f":"IF(LEN(MQ32)=0,\"\",(COUNTIF(ME$6:MX$7,MQ32)+COUNTIF(ME$10:MX$10,MQ32)+COUNTIF(ME$13:MX$13,MQ32)+COUNTIF(ME$16:MX$16,MQ32)+COUNTIF(ME$19:MX$19,MQ32)+COUNTIF(ME$22:MX$22,MQ32)+COUNTIF(ME$25:MX$25,MQ32))/設定!$M23+IFERROR((COUNTIF(ME$6:MX$7,処理!$L22)+COUNTIF(ME$10:MX$10,処理!$L22)+COUNTIF(ME$13:MX$13,処理!$L22)+COUNTIF(ME$16:MX$16,処理!$L22)+COUNTIF(ME$19:MX$19,処理!$L22)+COUNTIF(ME$22:MX$22,処理!$L22)+COUNTIF(ME$25:MX$25,処理!$L22))/処理!$M22,0))","v":""},"",{"$f":"$S$32","v":""},null,{"$f":"IF(LEN(MU32)=0,\"\",COUNTIF(ME$6:MX$7,MU32)+COUNTIF(ME$10:MX$10,MU32)+COUNTIF(ME$13:MX$13,MU32)+COUNTIF(ME$16:MX$16,MU32)+COUNTIF(ME$19:MX$19,MU32)+COUNTIF(ME$22:MX$22,MU32)+COUNTIF(ME$25:MX$25,MU32))","v":""},""]
[null,null,{"$f":"IF(COUNTIF(処理!$J$2:$J$25,3)>0,処理!H5,\"\")","v":""},null,{"$f":"IF(LEN(C33)=0,\"\",(COUNTIF(C$6:V$7,C33)+COUNTIF(C$10:V$10,C33)+COUNTIF(C$13:V$13,C33)+COUNTIF(C$16:V$16,C33)+COUNTIF(C$19:V$19,C33)+COUNTIF(C$22:V$22,C33)+COUNTIF(C$25:V$25,C33))/設定!$D24+IFERROR((COUNTIF(C$6:V$7,処理!$L5)+COUNTIF(C$10:V$10,処理!$L5)+COUNTIF(C$13:V$13,処理!$L5)+COUNTIF(C$16:V$16,処理!$L5)+COUNTIF(C$19:V$19,処理!$L5)+COUNTIF(C$22:V$22,処理!$L5)+COUNTIF(C$25:V$25,処理!$L5))/処理!$M5,0))","v":""},"",{"$f":"IF(COUNTIF(処理!$J$2:$J$25,9)>0,処理!H11,\"\")","v":""},null,{"$f":"IF(LEN(G33)=0,\"\",(COUNTIF(C$6:V$7,G33)+COUNTIF(C$10:V$10,G33)+COUNTIF(C$13:V$13,G33)+COUNTIF(C$16:V$16,G33)+COUNTIF(C$19:V$19,G33)+COUNTIF(C$22:V$22,G33)+COUNTIF(C$25:V$25,G33))/設定!$G24+IFERROR((COUNTIF(C$6:V$7,処理!$L11)+COUNTIF(C$10:V$10,処理!$L11)+COUNTIF(C$13:V$13,処理!$L11)+COUNTIF(C$16:V$16,処理!$L11)+COUNTIF(C$19:V$19,処理!$L11)+COUNTIF(C$22:V$22,処理!$L11)+COUNTIF(C$25:V$25,処理!$L11))/処理!$M11,0))","v":""},"",{"$f":"IF(COUNTIF(処理!$J$2:$J$25,15)>0,処理!H17,\"\")","v":""},null,{"$f":"IF(LEN(K33)=0,\"\",(COUNTIF(C$6:V$7,K33)+COUNTIF(C$10:V$10,K33)+COUNTIF(C$13:V$13,K33)+COUNTIF(C$16:V$16,K33)+COUNTIF(C$19:V$19,K33)+COUNTIF(C$22:V$22,K33)+COUNTIF(C$25:V$25,K33))/設定!$J24+IFERROR((COUNTIF(C$6:V$7,処理!$L17)+COUNTIF(C$10:V$10,処理!$L17)+COUNTIF(C$13:V$13,処理!$L17)+COUNTIF(C$16:V$16,処理!$L17)+COUNTIF(C$19:V$19,処理!$L17)+COUNTIF(C$22:V$22,処理!$L17)+COUNTIF(C$25:V$25,処理!$L17))/処理!$M17,0))","v":""},"",{"$f":"IF(COUNTIF(処理!$J$2:$J$25,21)>0,処理!H23,\"\")","v":""},null,{"$f":"IF(LEN(O33)=0,\"\",(COUNTIF(C$6:V$7,O33)+COUNTIF(C$10:V$10,O33)+COUNTIF(C$13:V$13,O33)+COUNTIF(C$16:V$16,O33)+COUNTIF(C$19:V$19,O33)+COUNTIF(C$22:V$22,O33)+COUNTIF(C$25:V$25,O33))/設定!$M24+IFERROR((COUNTIF(C$6:V$7,処理!$L23)+COUNTIF(C$10:V$10,処理!$L23)+COUNTIF(C$13:V$13,処理!$L23)+COUNTIF(C$16:V$16,処理!$L23)+COUNTIF(C$19:V$19,処理!$L23)+COUNTIF(C$22:V$22,処理!$L23)+COUNTIF(C$25:V$25,処理!$L23))/処理!$M23,0))","v":""},"",{"$f":"処理!H29&\"\"","v":""},null,"","",{"$f":"$C$33","v":""},null,{"$f":"IF(LEN(W33)=0,\"\",(COUNTIF(W$6:AP$7,W33)+COUNTIF(W$10:AP$10,W33)+COUNTIF(W$13:AP$13,W33)+COUNTIF(W$16:AP$16,W33)+COUNTIF(W$19:AP$19,W33)+COUNTIF(W$22:AP$22,W33)+COUNTIF(W$25:AP$25,W33))/設定!$D24+IFERROR((COUNTIF(W$6:AP$7,処理!$L5)+COUNTIF(W$10:AP$10,処理!$L5)+COUNTIF(W$13:AP$13,処理!$L5)+COUNTIF(W$16:AP$16,処理!$L5)+COUNTIF(W$19:AP$19,処理!$L5)+COUNTIF(W$22:AP$22,処理!$L5)+COUNTIF(W$25:AP$25,処理!$L5))/処理!$M5,0))","v":""},"",{"$f":"$G$33","v":""},null,{"$f":"IF(LEN(AA33)=0,\"\",(COUNTIF(W$6:AP$7,AA33)+COUNTIF(W$10:AP$10,AA33)+COUNTIF(W$13:AP$13,AA33)+COUNTIF(W$16:AP$16,AA33)+COUNTIF(W$19:AP$19,AA33)+COUNTIF(W$22:AP$22,AA33)+COUNTIF(W$25:AP$25,AA33))/設定!$G24+IFERROR((COUNTIF(W$6:AP$7,処理!$L11)+COUNTIF(W$10:AP$10,処理!$L11)+COUNTIF(W$13:AP$13,処理!$L11)+COUNTIF(W$16:AP$16,処理!$L11)+COUNTIF(W$19:AP$19,処理!$L11)+COUNTIF(W$22:AP$22,処理!$L11)+COUNTIF(W$25:AP$25,処理!$L11))/処理!$M11,0))","v":""},"",{"$f":"$K$33","v":""},null,{"$f":"IF(LEN(AE33)=0,\"\",(COUNTIF(W$6:AP$7,AE33)+COUNTIF(W$10:AP$10,AE33)+COUNTIF(W$13:AP$13,AE33)+COUNTIF(W$16:AP$16,AE33)+COUNTIF(W$19:AP$19,AE33)+COUNTIF(W$22:AP$22,AE33)+COUNTIF(W$25:AP$25,AE33))/設定!$J24+IFERROR((COUNTIF(W$6:AP$7,処理!$L17)+COUNTIF(W$10:AP$10,処理!$L17)+COUNTIF(W$13:AP$13,処理!$L17)+COUNTIF(W$16:AP$16,処理!$L17)+COUNTIF(W$19:AP$19,処理!$L17)+COUNTIF(W$22:AP$22,処理!$L17)+COUNTIF(W$25:AP$25,処理!$L17))/処理!$M17,0))","v":""},"",{"$f":"$O$33","v":""},null,{"$f":"IF(LEN(AI33)=0,\"\",(COUNTIF(W$6:AP$7,AI33)+COUNTIF(W$10:AP$10,AI33)+COUNTIF(W$13:AP$13,AI33)+COUNTIF(W$16:AP$16,AI33)+COUNTIF(W$19:AP$19,AI33)+COUNTIF(W$22:AP$22,AI33)+COUNTIF(W$25:AP$25,AI33))/設定!$M24+IFERROR((COUNTIF(W$6:AP$7,処理!$L23)+COUNTIF(W$10:AP$10,処理!$L23)+COUNTIF(W$13:AP$13,処理!$L23)+COUNTIF(W$16:AP$16,処理!$L23)+COUNTIF(W$19:AP$19,処理!$L23)+COUNTIF(W$22:AP$22,処理!$L23)+COUNTIF(W$25:AP$25,処理!$L23))/処理!$M23,0))","v":""},"",{"$f":"$S$33","v":""},null,"","",{"$f":"$C$33","v":""},null,{"$f":"IF(LEN(AQ33)=0,\"\",(COUNTIF(AQ$6:BJ$7,AQ33)+COUNTIF(AQ$10:BJ$10,AQ33)+COUNTIF(AQ$13:BJ$13,AQ33)+COUNTIF(AQ$16:BJ$16,AQ33)+COUNTIF(AQ$19:BJ$19,AQ33)+COUNTIF(AQ$22:BJ$22,AQ33)+COUNTIF(AQ$25:BJ$25,AQ33))/設定!$D24+IFERROR((COUNTIF(AQ$6:BJ$7,処理!$L5)+COUNTIF(AQ$10:BJ$10,処理!$L5)+COUNTIF(AQ$13:BJ$13,処理!$L5)+COUNTIF(AQ$16:BJ$16,処理!$L5)+COUNTIF(AQ$19:BJ$19,処理!$L5)+COUNTIF(AQ$22:BJ$22,処理!$L5)+COUNTIF(AQ$25:BJ$25,処理!$L5))/処理!$M5,0))","v":""},"",{"$f":"$G$33","v":""},null,{"$f":"IF(LEN(AU33)=0,\"\",(COUNTIF(AQ$6:BJ$7,AU33)+COUNTIF(AQ$10:BJ$10,AU33)+COUNTIF(AQ$13:BJ$13,AU33)+COUNTIF(AQ$16:BJ$16,AU33)+COUNTIF(AQ$19:BJ$19,AU33)+COUNTIF(AQ$22:BJ$22,AU33)+COUNTIF(AQ$25:BJ$25,AU33))/設定!$G24+IFERROR((COUNTIF(AQ$6:BJ$7,処理!$L11)+COUNTIF(AQ$10:BJ$10,処理!$L11)+COUNTIF(AQ$13:BJ$13,処理!$L11)+COUNTIF(AQ$16:BJ$16,処理!$L11)+COUNTIF(AQ$19:BJ$19,処理!$L11)+COUNTIF(AQ$22:BJ$22,処理!$L11)+COUNTIF(AQ$25:BJ$25,処理!$L11))/処理!$M11,0))","v":""},"",{"$f":"$K$33","v":""},null,{"$f":"IF(LEN(AY33)=0,\"\",(COUNTIF(AQ$6:BJ$7,AY33)+COUNTIF(AQ$10:BJ$10,AY33)+COUNTIF(AQ$13:BJ$13,AY33)+COUNTIF(AQ$16:BJ$16,AY33)+COUNTIF(AQ$19:BJ$19,AY33)+COUNTIF(AQ$22:BJ$22,AY33)+COUNTIF(AQ$25:BJ$25,AY33))/設定!$J24+IFERROR((COUNTIF(AQ$6:BJ$7,処理!$L17)+COUNTIF(AQ$10:BJ$10,処理!$L17)+COUNTIF(AQ$13:BJ$13,処理!$L17)+COUNTIF(AQ$16:BJ$16,処理!$L17)+COUNTIF(AQ$19:BJ$19,処理!$L17)+COUNTIF(AQ$22:BJ$22,処理!$L17)+COUNTIF(AQ$25:BJ$25,処理!$L17))/処理!$M17,0))","v":""},"",{"$f":"$O$33","v":""},null,{"$f":"IF(LEN(BC33)=0,\"\",(COUNTIF(AQ$6:BJ$7,BC33)+COUNTIF(AQ$10:BJ$10,BC33)+COUNTIF(AQ$13:BJ$13,BC33)+COUNTIF(AQ$16:BJ$16,BC33)+COUNTIF(AQ$19:BJ$19,BC33)+COUNTIF(AQ$22:BJ$22,BC33)+COUNTIF(AQ$25:BJ$25,BC33))/設定!$M24+IFERROR((COUNTIF(AQ$6:BJ$7,処理!$L23)+COUNTIF(AQ$10:BJ$10,処理!$L23)+COUNTIF(AQ$13:BJ$13,処理!$L23)+COUNTIF(AQ$16:BJ$16,処理!$L23)+COUNTIF(AQ$19:BJ$19,処理!$L23)+COUNTIF(AQ$22:BJ$22,処理!$L23)+COUNTIF(AQ$25:BJ$25,処理!$L23))/処理!$M23,0))","v":""},"",{"$f":"$S$33","v":""},null,"","",{"$f":"$C$33","v":""},null,{"$f":"IF(LEN(BK33)=0,\"\",(COUNTIF(BK$6:CD$7,BK33)+COUNTIF(BK$10:CD$10,BK33)+COUNTIF(BK$13:CD$13,BK33)+COUNTIF(BK$16:CD$16,BK33)+COUNTIF(BK$19:CD$19,BK33)+COUNTIF(BK$22:CD$22,BK33)+COUNTIF(BK$25:CD$25,BK33))/設定!$D24+IFERROR((COUNTIF(BK$6:CD$7,処理!$L5)+COUNTIF(BK$10:CD$10,処理!$L5)+COUNTIF(BK$13:CD$13,処理!$L5)+COUNTIF(BK$16:CD$16,処理!$L5)+COUNTIF(BK$19:CD$19,処理!$L5)+COUNTIF(BK$22:CD$22,処理!$L5)+COUNTIF(BK$25:CD$25,処理!$L5))/処理!$M5,0))","v":""},"",{"$f":"$G$33","v":""},null,{"$f":"IF(LEN(BO33)=0,\"\",(COUNTIF(BK$6:CD$7,BO33)+COUNTIF(BK$10:CD$10,BO33)+COUNTIF(BK$13:CD$13,BO33)+COUNTIF(BK$16:CD$16,BO33)+COUNTIF(BK$19:CD$19,BO33)+COUNTIF(BK$22:CD$22,BO33)+COUNTIF(BK$25:CD$25,BO33))/設定!$G24+IFERROR((COUNTIF(BK$6:CD$7,処理!$L11)+COUNTIF(BK$10:CD$10,処理!$L11)+COUNTIF(BK$13:CD$13,処理!$L11)+COUNTIF(BK$16:CD$16,処理!$L11)+COUNTIF(BK$19:CD$19,処理!$L11)+COUNTIF(BK$22:CD$22,処理!$L11)+COUNTIF(BK$25:CD$25,処理!$L11))/処理!$M11,0))","v":""},"",{"$f":"$K$33","v":""},null,{"$f":"IF(LEN(BS33)=0,\"\",(COUNTIF(BK$6:CD$7,BS33)+COUNTIF(BK$10:CD$10,BS33)+COUNTIF(BK$13:CD$13,BS33)+COUNTIF(BK$16:CD$16,BS33)+COUNTIF(BK$19:CD$19,BS33)+COUNTIF(BK$22:CD$22,BS33)+COUNTIF(BK$25:CD$25,BS33))/設定!$J24+IFERROR((COUNTIF(BK$6:CD$7,処理!$L17)+COUNTIF(BK$10:CD$10,処理!$L17)+COUNTIF(BK$13:CD$13,処理!$L17)+COUNTIF(BK$16:CD$16,処理!$L17)+COUNTIF(BK$19:CD$19,処理!$L17)+COUNTIF(BK$22:CD$22,処理!$L17)+COUNTIF(BK$25:CD$25,処理!$L17))/処理!$M17,0))","v":""},"",{"$f":"$O$33","v":""},null,{"$f":"IF(LEN(BW33)=0,\"\",(COUNTIF(BK$6:CD$7,BW33)+COUNTIF(BK$10:CD$10,BW33)+COUNTIF(BK$13:CD$13,BW33)+COUNTIF(BK$16:CD$16,BW33)+COUNTIF(BK$19:CD$19,BW33)+COUNTIF(BK$22:CD$22,BW33)+COUNTIF(BK$25:CD$25,BW33))/設定!$M24+IFERROR((COUNTIF(BK$6:CD$7,処理!$L23)+COUNTIF(BK$10:CD$10,処理!$L23)+COUNTIF(BK$13:CD$13,処理!$L23)+COUNTIF(BK$16:CD$16,処理!$L23)+COUNTIF(BK$19:CD$19,処理!$L23)+COUNTIF(BK$22:CD$22,処理!$L23)+COUNTIF(BK$25:CD$25,処理!$L23))/処理!$M23,0))","v":""},"",{"$f":"$S$33","v":""},null,"","",{"$f":"$C$33","v":""},null,{"$f":"IF(LEN(CE33)=0,\"\",(COUNTIF(CE$6:CX$7,CE33)+COUNTIF(CE$10:CX$10,CE33)+COUNTIF(CE$13:CX$13,CE33)+COUNTIF(CE$16:CX$16,CE33)+COUNTIF(CE$19:CX$19,CE33)+COUNTIF(CE$22:CX$22,CE33)+COUNTIF(CE$25:CX$25,CE33))/設定!$D24+IFERROR((COUNTIF(CE$6:CX$7,処理!$L5)+COUNTIF(CE$10:CX$10,処理!$L5)+COUNTIF(CE$13:CX$13,処理!$L5)+COUNTIF(CE$16:CX$16,処理!$L5)+COUNTIF(CE$19:CX$19,処理!$L5)+COUNTIF(CE$22:CX$22,処理!$L5)+COUNTIF(CE$25:CX$25,処理!$L5))/処理!$M5,0))","v":""},"",{"$f":"$G$33","v":""},null,{"$f":"IF(LEN(CI33)=0,\"\",(COUNTIF(CE$6:CX$7,CI33)+COUNTIF(CE$10:CX$10,CI33)+COUNTIF(CE$13:CX$13,CI33)+COUNTIF(CE$16:CX$16,CI33)+COUNTIF(CE$19:CX$19,CI33)+COUNTIF(CE$22:CX$22,CI33)+COUNTIF(CE$25:CX$25,CI33))/設定!$G24+IFERROR((COUNTIF(CE$6:CX$7,処理!$L11)+COUNTIF(CE$10:CX$10,処理!$L11)+COUNTIF(CE$13:CX$13,処理!$L11)+COUNTIF(CE$16:CX$16,処理!$L11)+COUNTIF(CE$19:CX$19,処理!$L11)+COUNTIF(CE$22:CX$22,処理!$L11)+COUNTIF(CE$25:CX$25,処理!$L11))/処理!$M11,0))","v":""},"",{"$f":"$K$33","v":""},null,{"$f":"IF(LEN(CM33)=0,\"\",(COUNTIF(CE$6:CX$7,CM33)+COUNTIF(CE$10:CX$10,CM33)+COUNTIF(CE$13:CX$13,CM33)+COUNTIF(CE$16:CX$16,CM33)+COUNTIF(CE$19:CX$19,CM33)+COUNTIF(CE$22:CX$22,CM33)+COUNTIF(CE$25:CX$25,CM33))/設定!$J24+IFERROR((COUNTIF(CE$6:CX$7,処理!$L17)+COUNTIF(CE$10:CX$10,処理!$L17)+COUNTIF(CE$13:CX$13,処理!$L17)+COUNTIF(CE$16:CX$16,処理!$L17)+COUNTIF(CE$19:CX$19,処理!$L17)+COUNTIF(CE$22:CX$22,処理!$L17)+COUNTIF(CE$25:CX$25,処理!$L17))/処理!$M17,0))","v":""},"",{"$f":"$O$33","v":""},null,{"$f":"IF(LEN(CQ33)=0,\"\",(COUNTIF(CE$6:CX$7,CQ33)+COUNTIF(CE$10:CX$10,CQ33)+COUNTIF(CE$13:CX$13,CQ33)+COUNTIF(CE$16:CX$16,CQ33)+COUNTIF(CE$19:CX$19,CQ33)+COUNTIF(CE$22:CX$22,CQ33)+COUNTIF(CE$25:CX$25,CQ33))/設定!$M24+IFERROR((COUNTIF(CE$6:CX$7,処理!$L23)+COUNTIF(CE$10:CX$10,処理!$L23)+COUNTIF(CE$13:CX$13,処理!$L23)+COUNTIF(CE$16:CX$16,処理!$L23)+COUNTIF(CE$19:CX$19,処理!$L23)+COUNTIF(CE$22:CX$22,処理!$L23)+COUNTIF(CE$25:CX$25,処理!$L23))/処理!$M23,0))","v":""},"",{"$f":"$S$33","v":""},null,"","",{"$f":"$C$33","v":""},null,{"$f":"IF(LEN(CY33)=0,\"\",(COUNTIF(CY$6:DR$7,CY33)+COUNTIF(CY$10:DR$10,CY33)+COUNTIF(CY$13:DR$13,CY33)+COUNTIF(CY$16:DR$16,CY33)+COUNTIF(CY$19:DR$19,CY33)+COUNTIF(CY$22:DR$22,CY33)+COUNTIF(CY$25:DR$25,CY33))/設定!$D24+IFERROR((COUNTIF(CY$6:DR$7,処理!$L5)+COUNTIF(CY$10:DR$10,処理!$L5)+COUNTIF(CY$13:DR$13,処理!$L5)+COUNTIF(CY$16:DR$16,処理!$L5)+COUNTIF(CY$19:DR$19,処理!$L5)+COUNTIF(CY$22:DR$22,処理!$L5)+COUNTIF(CY$25:DR$25,処理!$L5))/処理!$M5,0))","v":""},"",{"$f":"$G$33","v":""},null,{"$f":"IF(LEN(DC33)=0,\"\",(COUNTIF(CY$6:DR$7,DC33)+COUNTIF(CY$10:DR$10,DC33)+COUNTIF(CY$13:DR$13,DC33)+COUNTIF(CY$16:DR$16,DC33)+COUNTIF(CY$19:DR$19,DC33)+COUNTIF(CY$22:DR$22,DC33)+COUNTIF(CY$25:DR$25,DC33))/設定!$G24+IFERROR((COUNTIF(CY$6:DR$7,処理!$L11)+COUNTIF(CY$10:DR$10,処理!$L11)+COUNTIF(CY$13:DR$13,処理!$L11)+COUNTIF(CY$16:DR$16,処理!$L11)+COUNTIF(CY$19:DR$19,処理!$L11)+COUNTIF(CY$22:DR$22,処理!$L11)+COUNTIF(CY$25:DR$25,処理!$L11))/処理!$M11,0))","v":""},"",{"$f":"$K$33","v":""},null,{"$f":"IF(LEN(DG33)=0,\"\",(COUNTIF(CY$6:DR$7,DG33)+COUNTIF(CY$10:DR$10,DG33)+COUNTIF(CY$13:DR$13,DG33)+COUNTIF(CY$16:DR$16,DG33)+COUNTIF(CY$19:DR$19,DG33)+COUNTIF(CY$22:DR$22,DG33)+COUNTIF(CY$25:DR$25,DG33))/設定!$J24+IFERROR((COUNTIF(CY$6:DR$7,処理!$L17)+COUNTIF(CY$10:DR$10,処理!$L17)+COUNTIF(CY$13:DR$13,処理!$L17)+COUNTIF(CY$16:DR$16,処理!$L17)+COUNTIF(CY$19:DR$19,処理!$L17)+COUNTIF(CY$22:DR$22,処理!$L17)+COUNTIF(CY$25:DR$25,処理!$L17))/処理!$M17,0))","v":""},"",{"$f":"$O$33","v":""},null,{"$f":"IF(LEN(DK33)=0,\"\",(COUNTIF(CY$6:DR$7,DK33)+COUNTIF(CY$10:DR$10,DK33)+COUNTIF(CY$13:DR$13,DK33)+COUNTIF(CY$16:DR$16,DK33)+COUNTIF(CY$19:DR$19,DK33)+COUNTIF(CY$22:DR$22,DK33)+COUNTIF(CY$25:DR$25,DK33))/設定!$M24+IFERROR((COUNTIF(CY$6:DR$7,処理!$L23)+COUNTIF(CY$10:DR$10,処理!$L23)+COUNTIF(CY$13:DR$13,処理!$L23)+COUNTIF(CY$16:DR$16,処理!$L23)+COUNTIF(CY$19:DR$19,処理!$L23)+COUNTIF(CY$22:DR$22,処理!$L23)+COUNTIF(CY$25:DR$25,処理!$L23))/処理!$M23,0))","v":""},"",{"$f":"$S$33","v":""},null,"","",{"$f":"$C$33","v":""},null,{"$f":"IF(LEN(DS33)=0,\"\",(COUNTIF(DS$6:EL$7,DS33)+COUNTIF(DS$10:EL$10,DS33)+COUNTIF(DS$13:EL$13,DS33)+COUNTIF(DS$16:EL$16,DS33)+COUNTIF(DS$19:EL$19,DS33)+COUNTIF(DS$22:EL$22,DS33)+COUNTIF(DS$25:EL$25,DS33))/設定!$D24+IFERROR((COUNTIF(DS$6:EL$7,処理!$L5)+COUNTIF(DS$10:EL$10,処理!$L5)+COUNTIF(DS$13:EL$13,処理!$L5)+COUNTIF(DS$16:EL$16,処理!$L5)+COUNTIF(DS$19:EL$19,処理!$L5)+COUNTIF(DS$22:EL$22,処理!$L5)+COUNTIF(DS$25:EL$25,処理!$L5))/処理!$M5,0))","v":""},"",{"$f":"$G$33","v":""},null,{"$f":"IF(LEN(DW33)=0,\"\",(COUNTIF(DS$6:EL$7,DW33)+COUNTIF(DS$10:EL$10,DW33)+COUNTIF(DS$13:EL$13,DW33)+COUNTIF(DS$16:EL$16,DW33)+COUNTIF(DS$19:EL$19,DW33)+COUNTIF(DS$22:EL$22,DW33)+COUNTIF(DS$25:EL$25,DW33))/設定!$G24+IFERROR((COUNTIF(DS$6:EL$7,処理!$L11)+COUNTIF(DS$10:EL$10,処理!$L11)+COUNTIF(DS$13:EL$13,処理!$L11)+COUNTIF(DS$16:EL$16,処理!$L11)+COUNTIF(DS$19:EL$19,処理!$L11)+COUNTIF(DS$22:EL$22,処理!$L11)+COUNTIF(DS$25:EL$25,処理!$L11))/処理!$M11,0))","v":""},"",{"$f":"$K$33","v":""},null,{"$f":"IF(LEN(EA33)=0,\"\",(COUNTIF(DS$6:EL$7,EA33)+COUNTIF(DS$10:EL$10,EA33)+COUNTIF(DS$13:EL$13,EA33)+COUNTIF(DS$16:EL$16,EA33)+COUNTIF(DS$19:EL$19,EA33)+COUNTIF(DS$22:EL$22,EA33)+COUNTIF(DS$25:EL$25,EA33))/設定!$J24+IFERROR((COUNTIF(DS$6:EL$7,処理!$L17)+COUNTIF(DS$10:EL$10,処理!$L17)+COUNTIF(DS$13:EL$13,処理!$L17)+COUNTIF(DS$16:EL$16,処理!$L17)+COUNTIF(DS$19:EL$19,処理!$L17)+COUNTIF(DS$22:EL$22,処理!$L17)+COUNTIF(DS$25:EL$25,処理!$L17))/処理!$M17,0))","v":""},"",{"$f":"$O$33","v":""},null,{"$f":"IF(LEN(EE33)=0,\"\",(COUNTIF(DS$6:EL$7,EE33)+COUNTIF(DS$10:EL$10,EE33)+COUNTIF(DS$13:EL$13,EE33)+COUNTIF(DS$16:EL$16,EE33)+COUNTIF(DS$19:EL$19,EE33)+COUNTIF(DS$22:EL$22,EE33)+COUNTIF(DS$25:EL$25,EE33))/設定!$M24+IFERROR((COUNTIF(DS$6:EL$7,処理!$L23)+COUNTIF(DS$10:EL$10,処理!$L23)+COUNTIF(DS$13:EL$13,処理!$L23)+COUNTIF(DS$16:EL$16,処理!$L23)+COUNTIF(DS$19:EL$19,処理!$L23)+COUNTIF(DS$22:EL$22,処理!$L23)+COUNTIF(DS$25:EL$25,処理!$L23))/処理!$M23,0))","v":""},"",{"$f":"$S$33","v":""},null,"","",{"$f":"$C$33","v":""},null,{"$f":"IF(LEN(EM33)=0,\"\",(COUNTIF(EM$6:FF$7,EM33)+COUNTIF(EM$10:FF$10,EM33)+COUNTIF(EM$13:FF$13,EM33)+COUNTIF(EM$16:FF$16,EM33)+COUNTIF(EM$19:FF$19,EM33)+COUNTIF(EM$22:FF$22,EM33)+COUNTIF(EM$25:FF$25,EM33))/設定!$D24+IFERROR((COUNTIF(EM$6:FF$7,処理!$L5)+COUNTIF(EM$10:FF$10,処理!$L5)+COUNTIF(EM$13:FF$13,処理!$L5)+COUNTIF(EM$16:FF$16,処理!$L5)+COUNTIF(EM$19:FF$19,処理!$L5)+COUNTIF(EM$22:FF$22,処理!$L5)+COUNTIF(EM$25:FF$25,処理!$L5))/処理!$M5,0))","v":""},"",{"$f":"$G$33","v":""},null,{"$f":"IF(LEN(EQ33)=0,\"\",(COUNTIF(EM$6:FF$7,EQ33)+COUNTIF(EM$10:FF$10,EQ33)+COUNTIF(EM$13:FF$13,EQ33)+COUNTIF(EM$16:FF$16,EQ33)+COUNTIF(EM$19:FF$19,EQ33)+COUNTIF(EM$22:FF$22,EQ33)+COUNTIF(EM$25:FF$25,EQ33))/設定!$G24+IFERROR((COUNTIF(EM$6:FF$7,処理!$L11)+COUNTIF(EM$10:FF$10,処理!$L11)+COUNTIF(EM$13:FF$13,処理!$L11)+COUNTIF(EM$16:FF$16,処理!$L11)+COUNTIF(EM$19:FF$19,処理!$L11)+COUNTIF(EM$22:FF$22,処理!$L11)+COUNTIF(EM$25:FF$25,処理!$L11))/処理!$M11,0))","v":""},"",{"$f":"$K$33","v":""},null,{"$f":"IF(LEN(EU33)=0,\"\",(COUNTIF(EM$6:FF$7,EU33)+COUNTIF(EM$10:FF$10,EU33)+COUNTIF(EM$13:FF$13,EU33)+COUNTIF(EM$16:FF$16,EU33)+COUNTIF(EM$19:FF$19,EU33)+COUNTIF(EM$22:FF$22,EU33)+COUNTIF(EM$25:FF$25,EU33))/設定!$J24+IFERROR((COUNTIF(EM$6:FF$7,処理!$L17)+COUNTIF(EM$10:FF$10,処理!$L17)+COUNTIF(EM$13:FF$13,処理!$L17)+COUNTIF(EM$16:FF$16,処理!$L17)+COUNTIF(EM$19:FF$19,処理!$L17)+COUNTIF(EM$22:FF$22,処理!$L17)+COUNTIF(EM$25:FF$25,処理!$L17))/処理!$M17,0))","v":""},"",{"$f":"$O$33","v":""},null,{"$f":"IF(LEN(EY33)=0,\"\",(COUNTIF(EM$6:FF$7,EY33)+COUNTIF(EM$10:FF$10,EY33)+COUNTIF(EM$13:FF$13,EY33)+COUNTIF(EM$16:FF$16,EY33)+COUNTIF(EM$19:FF$19,EY33)+COUNTIF(EM$22:FF$22,EY33)+COUNTIF(EM$25:FF$25,EY33))/設定!$M24+IFERROR((COUNTIF(EM$6:FF$7,処理!$L23)+COUNTIF(EM$10:FF$10,処理!$L23)+COUNTIF(EM$13:FF$13,処理!$L23)+COUNTIF(EM$16:FF$16,処理!$L23)+COUNTIF(EM$19:FF$19,処理!$L23)+COUNTIF(EM$22:FF$22,処理!$L23)+COUNTIF(EM$25:FF$25,処理!$L23))/処理!$M23,0))","v":""},"",{"$f":"$S$33","v":""},null,"","",{"$f":"$C$33","v":""},null,{"$f":"IF(LEN(FG33)=0,\"\",(COUNTIF(FG$6:FZ$7,FG33)+COUNTIF(FG$10:FZ$10,FG33)+COUNTIF(FG$13:FZ$13,FG33)+COUNTIF(FG$16:FZ$16,FG33)+COUNTIF(FG$19:FZ$19,FG33)+COUNTIF(FG$22:FZ$22,FG33)+COUNTIF(FG$25:FZ$25,FG33))/設定!$D24+IFERROR((COUNTIF(FG$6:FZ$7,処理!$L5)+COUNTIF(FG$10:FZ$10,処理!$L5)+COUNTIF(FG$13:FZ$13,処理!$L5)+COUNTIF(FG$16:FZ$16,処理!$L5)+COUNTIF(FG$19:FZ$19,処理!$L5)+COUNTIF(FG$22:FZ$22,処理!$L5)+COUNTIF(FG$25:FZ$25,処理!$L5))/処理!$M5,0))","v":""},"",{"$f":"$G$33","v":""},null,{"$f":"IF(LEN(FK33)=0,\"\",(COUNTIF(FG$6:FZ$7,FK33)+COUNTIF(FG$10:FZ$10,FK33)+COUNTIF(FG$13:FZ$13,FK33)+COUNTIF(FG$16:FZ$16,FK33)+COUNTIF(FG$19:FZ$19,FK33)+COUNTIF(FG$22:FZ$22,FK33)+COUNTIF(FG$25:FZ$25,FK33))/設定!$G24+IFERROR((COUNTIF(FG$6:FZ$7,処理!$L11)+COUNTIF(FG$10:FZ$10,処理!$L11)+COUNTIF(FG$13:FZ$13,処理!$L11)+COUNTIF(FG$16:FZ$16,処理!$L11)+COUNTIF(FG$19:FZ$19,処理!$L11)+COUNTIF(FG$22:FZ$22,処理!$L11)+COUNTIF(FG$25:FZ$25,処理!$L11))/処理!$M11,0))","v":""},"",{"$f":"$K$33","v":""},null,{"$f":"IF(LEN(FO33)=0,\"\",(COUNTIF(FG$6:FZ$7,FO33)+COUNTIF(FG$10:FZ$10,FO33)+COUNTIF(FG$13:FZ$13,FO33)+COUNTIF(FG$16:FZ$16,FO33)+COUNTIF(FG$19:FZ$19,FO33)+COUNTIF(FG$22:FZ$22,FO33)+COUNTIF(FG$25:FZ$25,FO33))/設定!$J24+IFERROR((COUNTIF(FG$6:FZ$7,処理!$L17)+COUNTIF(FG$10:FZ$10,処理!$L17)+COUNTIF(FG$13:FZ$13,処理!$L17)+COUNTIF(FG$16:FZ$16,処理!$L17)+COUNTIF(FG$19:FZ$19,処理!$L17)+COUNTIF(FG$22:FZ$22,処理!$L17)+COUNTIF(FG$25:FZ$25,処理!$L17))/処理!$M17,0))","v":""},"",{"$f":"$O$33","v":""},null,{"$f":"IF(LEN(FS33)=0,\"\",(COUNTIF(FG$6:FZ$7,FS33)+COUNTIF(FG$10:FZ$10,FS33)+COUNTIF(FG$13:FZ$13,FS33)+COUNTIF(FG$16:FZ$16,FS33)+COUNTIF(FG$19:FZ$19,FS33)+COUNTIF(FG$22:FZ$22,FS33)+COUNTIF(FG$25:FZ$25,FS33))/設定!$M24+IFERROR((COUNTIF(FG$6:FZ$7,処理!$L23)+COUNTIF(FG$10:FZ$10,処理!$L23)+COUNTIF(FG$13:FZ$13,処理!$L23)+COUNTIF(FG$16:FZ$16,処理!$L23)+COUNTIF(FG$19:FZ$19,処理!$L23)+COUNTIF(FG$22:FZ$22,処理!$L23)+COUNTIF(FG$25:FZ$25,処理!$L23))/処理!$M23,0))","v":""},"",{"$f":"$S$33","v":""},null,"","",{"$f":"$C$33","v":""},null,{"$f":"IF(LEN(GA33)=0,\"\",(COUNTIF(GA$6:GT$7,GA33)+COUNTIF(GA$10:GT$10,GA33)+COUNTIF(GA$13:GT$13,GA33)+COUNTIF(GA$16:GT$16,GA33)+COUNTIF(GA$19:GT$19,GA33)+COUNTIF(GA$22:GT$22,GA33)+COUNTIF(GA$25:GT$25,GA33))/設定!$D24+IFERROR((COUNTIF(GA$6:GT$7,処理!$L5)+COUNTIF(GA$10:GT$10,処理!$L5)+COUNTIF(GA$13:GT$13,処理!$L5)+COUNTIF(GA$16:GT$16,処理!$L5)+COUNTIF(GA$19:GT$19,処理!$L5)+COUNTIF(GA$22:GT$22,処理!$L5)+COUNTIF(GA$25:GT$25,処理!$L5))/処理!$M5,0))","v":""},"",{"$f":"$G$33","v":""},null,{"$f":"IF(LEN(GE33)=0,\"\",(COUNTIF(GA$6:GT$7,GE33)+COUNTIF(GA$10:GT$10,GE33)+COUNTIF(GA$13:GT$13,GE33)+COUNTIF(GA$16:GT$16,GE33)+COUNTIF(GA$19:GT$19,GE33)+COUNTIF(GA$22:GT$22,GE33)+COUNTIF(GA$25:GT$25,GE33))/設定!$G24+IFERROR((COUNTIF(GA$6:GT$7,処理!$L11)+COUNTIF(GA$10:GT$10,処理!$L11)+COUNTIF(GA$13:GT$13,処理!$L11)+COUNTIF(GA$16:GT$16,処理!$L11)+COUNTIF(GA$19:GT$19,処理!$L11)+COUNTIF(GA$22:GT$22,処理!$L11)+COUNTIF(GA$25:GT$25,処理!$L11))/処理!$M11,0))","v":""},"",{"$f":"$K$33","v":""},null,{"$f":"IF(LEN(GI33)=0,\"\",(COUNTIF(GA$6:GT$7,GI33)+COUNTIF(GA$10:GT$10,GI33)+COUNTIF(GA$13:GT$13,GI33)+COUNTIF(GA$16:GT$16,GI33)+COUNTIF(GA$19:GT$19,GI33)+COUNTIF(GA$22:GT$22,GI33)+COUNTIF(GA$25:GT$25,GI33))/設定!$J24+IFERROR((COUNTIF(GA$6:GT$7,処理!$L17)+COUNTIF(GA$10:GT$10,処理!$L17)+COUNTIF(GA$13:GT$13,処理!$L17)+COUNTIF(GA$16:GT$16,処理!$L17)+COUNTIF(GA$19:GT$19,処理!$L17)+COUNTIF(GA$22:GT$22,処理!$L17)+COUNTIF(GA$25:GT$25,処理!$L17))/処理!$M17,0))","v":""},"",{"$f":"$O$33","v":""},null,{"$f":"IF(LEN(GM33)=0,\"\",(COUNTIF(GA$6:GT$7,GM33)+COUNTIF(GA$10:GT$10,GM33)+COUNTIF(GA$13:GT$13,GM33)+COUNTIF(GA$16:GT$16,GM33)+COUNTIF(GA$19:GT$19,GM33)+COUNTIF(GA$22:GT$22,GM33)+COUNTIF(GA$25:GT$25,GM33))/設定!$M24+IFERROR((COUNTIF(GA$6:GT$7,処理!$L23)+COUNTIF(GA$10:GT$10,処理!$L23)+COUNTIF(GA$13:GT$13,処理!$L23)+COUNTIF(GA$16:GT$16,処理!$L23)+COUNTIF(GA$19:GT$19,処理!$L23)+COUNTIF(GA$22:GT$22,処理!$L23)+COUNTIF(GA$25:GT$25,処理!$L23))/処理!$M23,0))","v":""},"",{"$f":"$S$33","v":""},null,"","",{"$f":"$C$33","v":""},null,{"$f":"IF(LEN(GU33)=0,\"\",(COUNTIF(GU$6:HN$7,GU33)+COUNTIF(GU$10:HN$10,GU33)+COUNTIF(GU$13:HN$13,GU33)+COUNTIF(GU$16:HN$16,GU33)+COUNTIF(GU$19:HN$19,GU33)+COUNTIF(GU$22:HN$22,GU33)+COUNTIF(GU$25:HN$25,GU33))/設定!$D24+IFERROR((COUNTIF(GU$6:HN$7,処理!$L5)+COUNTIF(GU$10:HN$10,処理!$L5)+COUNTIF(GU$13:HN$13,処理!$L5)+COUNTIF(GU$16:HN$16,処理!$L5)+COUNTIF(GU$19:HN$19,処理!$L5)+COUNTIF(GU$22:HN$22,処理!$L5)+COUNTIF(GU$25:HN$25,処理!$L5))/処理!$M5,0))","v":""},"",{"$f":"$G$33","v":""},null,{"$f":"IF(LEN(GY33)=0,\"\",(COUNTIF(GU$6:HN$7,GY33)+COUNTIF(GU$10:HN$10,GY33)+COUNTIF(GU$13:HN$13,GY33)+COUNTIF(GU$16:HN$16,GY33)+COUNTIF(GU$19:HN$19,GY33)+COUNTIF(GU$22:HN$22,GY33)+COUNTIF(GU$25:HN$25,GY33))/設定!$G24+IFERROR((COUNTIF(GU$6:HN$7,処理!$L11)+COUNTIF(GU$10:HN$10,処理!$L11)+COUNTIF(GU$13:HN$13,処理!$L11)+COUNTIF(GU$16:HN$16,処理!$L11)+COUNTIF(GU$19:HN$19,処理!$L11)+COUNTIF(GU$22:HN$22,処理!$L11)+COUNTIF(GU$25:HN$25,処理!$L11))/処理!$M11,0))","v":""},"",{"$f":"$K$33","v":""},null,{"$f":"IF(LEN(HC33)=0,\"\",(COUNTIF(GU$6:HN$7,HC33)+COUNTIF(GU$10:HN$10,HC33)+COUNTIF(GU$13:HN$13,HC33)+COUNTIF(GU$16:HN$16,HC33)+COUNTIF(GU$19:HN$19,HC33)+COUNTIF(GU$22:HN$22,HC33)+COUNTIF(GU$25:HN$25,HC33))/設定!$J24+IFERROR((COUNTIF(GU$6:HN$7,処理!$L17)+COUNTIF(GU$10:HN$10,処理!$L17)+COUNTIF(GU$13:HN$13,処理!$L17)+COUNTIF(GU$16:HN$16,処理!$L17)+COUNTIF(GU$19:HN$19,処理!$L17)+COUNTIF(GU$22:HN$22,処理!$L17)+COUNTIF(GU$25:HN$25,処理!$L17))/処理!$M17,0))","v":""},"",{"$f":"$O$33","v":""},null,{"$f":"IF(LEN(HG33)=0,\"\",(COUNTIF(GU$6:HN$7,HG33)+COUNTIF(GU$10:HN$10,HG33)+COUNTIF(GU$13:HN$13,HG33)+COUNTIF(GU$16:HN$16,HG33)+COUNTIF(GU$19:HN$19,HG33)+COUNTIF(GU$22:HN$22,HG33)+COUNTIF(GU$25:HN$25,HG33))/設定!$M24+IFERROR((COUNTIF(GU$6:HN$7,処理!$L23)+COUNTIF(GU$10:HN$10,処理!$L23)+COUNTIF(GU$13:HN$13,処理!$L23)+COUNTIF(GU$16:HN$16,処理!$L23)+COUNTIF(GU$19:HN$19,処理!$L23)+COUNTIF(GU$22:HN$22,処理!$L23)+COUNTIF(GU$25:HN$25,処理!$L23))/処理!$M23,0))","v":""},"",{"$f":"$S$33","v":""},null,"","",{"$f":"$C$33","v":""},null,{"$f":"IF(LEN(HO33)=0,\"\",(COUNTIF(HO$6:IH$7,HO33)+COUNTIF(HO$10:IH$10,HO33)+COUNTIF(HO$13:IH$13,HO33)+COUNTIF(HO$16:IH$16,HO33)+COUNTIF(HO$19:IH$19,HO33)+COUNTIF(HO$22:IH$22,HO33)+COUNTIF(HO$25:IH$25,HO33))/設定!$D24+IFERROR((COUNTIF(HO$6:IH$7,処理!$L5)+COUNTIF(HO$10:IH$10,処理!$L5)+COUNTIF(HO$13:IH$13,処理!$L5)+COUNTIF(HO$16:IH$16,処理!$L5)+COUNTIF(HO$19:IH$19,処理!$L5)+COUNTIF(HO$22:IH$22,処理!$L5)+COUNTIF(HO$25:IH$25,処理!$L5))/処理!$M5,0))","v":""},"",{"$f":"$G$33","v":""},null,{"$f":"IF(LEN(HS33)=0,\"\",(COUNTIF(HO$6:IH$7,HS33)+COUNTIF(HO$10:IH$10,HS33)+COUNTIF(HO$13:IH$13,HS33)+COUNTIF(HO$16:IH$16,HS33)+COUNTIF(HO$19:IH$19,HS33)+COUNTIF(HO$22:IH$22,HS33)+COUNTIF(HO$25:IH$25,HS33))/設定!$G24+IFERROR((COUNTIF(HO$6:IH$7,処理!$L11)+COUNTIF(HO$10:IH$10,処理!$L11)+COUNTIF(HO$13:IH$13,処理!$L11)+COUNTIF(HO$16:IH$16,処理!$L11)+COUNTIF(HO$19:IH$19,処理!$L11)+COUNTIF(HO$22:IH$22,処理!$L11)+COUNTIF(HO$25:IH$25,処理!$L11))/処理!$M11,0))","v":""},"",{"$f":"$K$33","v":""},null,{"$f":"IF(LEN(HW33)=0,\"\",(COUNTIF(HO$6:IH$7,HW33)+COUNTIF(HO$10:IH$10,HW33)+COUNTIF(HO$13:IH$13,HW33)+COUNTIF(HO$16:IH$16,HW33)+COUNTIF(HO$19:IH$19,HW33)+COUNTIF(HO$22:IH$22,HW33)+COUNTIF(HO$25:IH$25,HW33))/設定!$J24+IFERROR((COUNTIF(HO$6:IH$7,処理!$L17)+COUNTIF(HO$10:IH$10,処理!$L17)+COUNTIF(HO$13:IH$13,処理!$L17)+COUNTIF(HO$16:IH$16,処理!$L17)+COUNTIF(HO$19:IH$19,処理!$L17)+COUNTIF(HO$22:IH$22,処理!$L17)+COUNTIF(HO$25:IH$25,処理!$L17))/処理!$M17,0))","v":""},"",{"$f":"$O$33","v":""},null,{"$f":"IF(LEN(IA33)=0,\"\",(COUNTIF(HO$6:IH$7,IA33)+COUNTIF(HO$10:IH$10,IA33)+COUNTIF(HO$13:IH$13,IA33)+COUNTIF(HO$16:IH$16,IA33)+COUNTIF(HO$19:IH$19,IA33)+COUNTIF(HO$22:IH$22,IA33)+COUNTIF(HO$25:IH$25,IA33))/設定!$M24+IFERROR((COUNTIF(HO$6:IH$7,処理!$L23)+COUNTIF(HO$10:IH$10,処理!$L23)+COUNTIF(HO$13:IH$13,処理!$L23)+COUNTIF(HO$16:IH$16,処理!$L23)+COUNTIF(HO$19:IH$19,処理!$L23)+COUNTIF(HO$22:IH$22,処理!$L23)+COUNTIF(HO$25:IH$25,処理!$L23))/処理!$M23,0))","v":""},"",{"$f":"$S$33","v":""},null,"","",{"$f":"$C$33","v":""},null,{"$f":"IF(LEN(II33)=0,\"\",(COUNTIF(II$6:JB$7,II33)+COUNTIF(II$10:JB$10,II33)+COUNTIF(II$13:JB$13,II33)+COUNTIF(II$16:JB$16,II33)+COUNTIF(II$19:JB$19,II33)+COUNTIF(II$22:JB$22,II33)+COUNTIF(II$25:JB$25,II33))/設定!$D24+IFERROR((COUNTIF(II$6:JB$7,処理!$L5)+COUNTIF(II$10:JB$10,処理!$L5)+COUNTIF(II$13:JB$13,処理!$L5)+COUNTIF(II$16:JB$16,処理!$L5)+COUNTIF(II$19:JB$19,処理!$L5)+COUNTIF(II$22:JB$22,処理!$L5)+COUNTIF(II$25:JB$25,処理!$L5))/処理!$M5,0))","v":""},"",{"$f":"$G$33","v":""},null,{"$f":"IF(LEN(IM33)=0,\"\",(COUNTIF(II$6:JB$7,IM33)+COUNTIF(II$10:JB$10,IM33)+COUNTIF(II$13:JB$13,IM33)+COUNTIF(II$16:JB$16,IM33)+COUNTIF(II$19:JB$19,IM33)+COUNTIF(II$22:JB$22,IM33)+COUNTIF(II$25:JB$25,IM33))/設定!$G24+IFERROR((COUNTIF(II$6:JB$7,処理!$L11)+COUNTIF(II$10:JB$10,処理!$L11)+COUNTIF(II$13:JB$13,処理!$L11)+COUNTIF(II$16:JB$16,処理!$L11)+COUNTIF(II$19:JB$19,処理!$L11)+COUNTIF(II$22:JB$22,処理!$L11)+COUNTIF(II$25:JB$25,処理!$L11))/処理!$M11,0))","v":""},"",{"$f":"$K$33","v":""},null,{"$f":"IF(LEN(IQ33)=0,\"\",(COUNTIF(II$6:JB$7,IQ33)+COUNTIF(II$10:JB$10,IQ33)+COUNTIF(II$13:JB$13,IQ33)+COUNTIF(II$16:JB$16,IQ33)+COUNTIF(II$19:JB$19,IQ33)+COUNTIF(II$22:JB$22,IQ33)+COUNTIF(II$25:JB$25,IQ33))/設定!$J24+IFERROR((COUNTIF(II$6:JB$7,処理!$L17)+COUNTIF(II$10:JB$10,処理!$L17)+COUNTIF(II$13:JB$13,処理!$L17)+COUNTIF(II$16:JB$16,処理!$L17)+COUNTIF(II$19:JB$19,処理!$L17)+COUNTIF(II$22:JB$22,処理!$L17)+COUNTIF(II$25:JB$25,処理!$L17))/処理!$M17,0))","v":""},"",{"$f":"$O$33","v":""},null,{"$f":"IF(LEN(IU33)=0,\"\",(COUNTIF(II$6:JB$7,IU33)+COUNTIF(II$10:JB$10,IU33)+COUNTIF(II$13:JB$13,IU33)+COUNTIF(II$16:JB$16,IU33)+COUNTIF(II$19:JB$19,IU33)+COUNTIF(II$22:JB$22,IU33)+COUNTIF(II$25:JB$25,IU33))/設定!$M24+IFERROR((COUNTIF(II$6:JB$7,処理!$L23)+COUNTIF(II$10:JB$10,処理!$L23)+COUNTIF(II$13:JB$13,処理!$L23)+COUNTIF(II$16:JB$16,処理!$L23)+COUNTIF(II$19:JB$19,処理!$L23)+COUNTIF(II$22:JB$22,処理!$L23)+COUNTIF(II$25:JB$25,処理!$L23))/処理!$M23,0))","v":""},"",{"$f":"$S$33","v":""},null,"","",{"$f":"$C$33","v":""},null,{"$f":"IF(LEN(JC33)=0,\"\",(COUNTIF(JC$6:JV$7,JC33)+COUNTIF(JC$10:JV$10,JC33)+COUNTIF(JC$13:JV$13,JC33)+COUNTIF(JC$16:JV$16,JC33)+COUNTIF(JC$19:JV$19,JC33)+COUNTIF(JC$22:JV$22,JC33)+COUNTIF(JC$25:JV$25,JC33))/設定!$D24+IFERROR((COUNTIF(JC$6:JV$7,処理!$L5)+COUNTIF(JC$10:JV$10,処理!$L5)+COUNTIF(JC$13:JV$13,処理!$L5)+COUNTIF(JC$16:JV$16,処理!$L5)+COUNTIF(JC$19:JV$19,処理!$L5)+COUNTIF(JC$22:JV$22,処理!$L5)+COUNTIF(JC$25:JV$25,処理!$L5))/処理!$M5,0))","v":""},"",{"$f":"$G$33","v":""},null,{"$f":"IF(LEN(JG33)=0,\"\",(COUNTIF(JC$6:JV$7,JG33)+COUNTIF(JC$10:JV$10,JG33)+COUNTIF(JC$13:JV$13,JG33)+COUNTIF(JC$16:JV$16,JG33)+COUNTIF(JC$19:JV$19,JG33)+COUNTIF(JC$22:JV$22,JG33)+COUNTIF(JC$25:JV$25,JG33))/設定!$G24+IFERROR((COUNTIF(JC$6:JV$7,処理!$L11)+COUNTIF(JC$10:JV$10,処理!$L11)+COUNTIF(JC$13:JV$13,処理!$L11)+COUNTIF(JC$16:JV$16,処理!$L11)+COUNTIF(JC$19:JV$19,処理!$L11)+COUNTIF(JC$22:JV$22,処理!$L11)+COUNTIF(JC$25:JV$25,処理!$L11))/処理!$M11,0))","v":""},"",{"$f":"$K$33","v":""},null,{"$f":"IF(LEN(JK33)=0,\"\",(COUNTIF(JC$6:JV$7,JK33)+COUNTIF(JC$10:JV$10,JK33)+COUNTIF(JC$13:JV$13,JK33)+COUNTIF(JC$16:JV$16,JK33)+COUNTIF(JC$19:JV$19,JK33)+COUNTIF(JC$22:JV$22,JK33)+COUNTIF(JC$25:JV$25,JK33))/設定!$J24+IFERROR((COUNTIF(JC$6:JV$7,処理!$L17)+COUNTIF(JC$10:JV$10,処理!$L17)+COUNTIF(JC$13:JV$13,処理!$L17)+COUNTIF(JC$16:JV$16,処理!$L17)+COUNTIF(JC$19:JV$19,処理!$L17)+COUNTIF(JC$22:JV$22,処理!$L17)+COUNTIF(JC$25:JV$25,処理!$L17))/処理!$M17,0))","v":""},"",{"$f":"$O$33","v":""},null,{"$f":"IF(LEN(JO33)=0,\"\",(COUNTIF(JC$6:JV$7,JO33)+COUNTIF(JC$10:JV$10,JO33)+COUNTIF(JC$13:JV$13,JO33)+COUNTIF(JC$16:JV$16,JO33)+COUNTIF(JC$19:JV$19,JO33)+COUNTIF(JC$22:JV$22,JO33)+COUNTIF(JC$25:JV$25,JO33))/設定!$M24+IFERROR((COUNTIF(JC$6:JV$7,処理!$L23)+COUNTIF(JC$10:JV$10,処理!$L23)+COUNTIF(JC$13:JV$13,処理!$L23)+COUNTIF(JC$16:JV$16,処理!$L23)+COUNTIF(JC$19:JV$19,処理!$L23)+COUNTIF(JC$22:JV$22,処理!$L23)+COUNTIF(JC$25:JV$25,処理!$L23))/処理!$M23,0))","v":""},"",{"$f":"$S$33","v":""},null,"","",{"$f":"$C$33","v":""},null,{"$f":"IF(LEN(JW33)=0,\"\",(COUNTIF(JW$6:KP$7,JW33)+COUNTIF(JW$10:KP$10,JW33)+COUNTIF(JW$13:KP$13,JW33)+COUNTIF(JW$16:KP$16,JW33)+COUNTIF(JW$19:KP$19,JW33)+COUNTIF(JW$22:KP$22,JW33)+COUNTIF(JW$25:KP$25,JW33))/設定!$D24+IFERROR((COUNTIF(JW$6:KP$7,処理!$L5)+COUNTIF(JW$10:KP$10,処理!$L5)+COUNTIF(JW$13:KP$13,処理!$L5)+COUNTIF(JW$16:KP$16,処理!$L5)+COUNTIF(JW$19:KP$19,処理!$L5)+COUNTIF(JW$22:KP$22,処理!$L5)+COUNTIF(JW$25:KP$25,処理!$L5))/処理!$M5,0))","v":""},"",{"$f":"$G$33","v":""},null,{"$f":"IF(LEN(KA33)=0,\"\",(COUNTIF(JW$6:KP$7,KA33)+COUNTIF(JW$10:KP$10,KA33)+COUNTIF(JW$13:KP$13,KA33)+COUNTIF(JW$16:KP$16,KA33)+COUNTIF(JW$19:KP$19,KA33)+COUNTIF(JW$22:KP$22,KA33)+COUNTIF(JW$25:KP$25,KA33))/設定!$G24+IFERROR((COUNTIF(JW$6:KP$7,処理!$L11)+COUNTIF(JW$10:KP$10,処理!$L11)+COUNTIF(JW$13:KP$13,処理!$L11)+COUNTIF(JW$16:KP$16,処理!$L11)+COUNTIF(JW$19:KP$19,処理!$L11)+COUNTIF(JW$22:KP$22,処理!$L11)+COUNTIF(JW$25:KP$25,処理!$L11))/処理!$M11,0))","v":""},"",{"$f":"$K$33","v":""},null,{"$f":"IF(LEN(KE33)=0,\"\",(COUNTIF(JW$6:KP$7,KE33)+COUNTIF(JW$10:KP$10,KE33)+COUNTIF(JW$13:KP$13,KE33)+COUNTIF(JW$16:KP$16,KE33)+COUNTIF(JW$19:KP$19,KE33)+COUNTIF(JW$22:KP$22,KE33)+COUNTIF(JW$25:KP$25,KE33))/設定!$J24+IFERROR((COUNTIF(JW$6:KP$7,処理!$L17)+COUNTIF(JW$10:KP$10,処理!$L17)+COUNTIF(JW$13:KP$13,処理!$L17)+COUNTIF(JW$16:KP$16,処理!$L17)+COUNTIF(JW$19:KP$19,処理!$L17)+COUNTIF(JW$22:KP$22,処理!$L17)+COUNTIF(JW$25:KP$25,処理!$L17))/処理!$M17,0))","v":""},"",{"$f":"$O$33","v":""},null,{"$f":"IF(LEN(KI33)=0,\"\",(COUNTIF(JW$6:KP$7,KI33)+COUNTIF(JW$10:KP$10,KI33)+COUNTIF(JW$13:KP$13,KI33)+COUNTIF(JW$16:KP$16,KI33)+COUNTIF(JW$19:KP$19,KI33)+COUNTIF(JW$22:KP$22,KI33)+COUNTIF(JW$25:KP$25,KI33))/設定!$M24+IFERROR((COUNTIF(JW$6:KP$7,処理!$L23)+COUNTIF(JW$10:KP$10,処理!$L23)+COUNTIF(JW$13:KP$13,処理!$L23)+COUNTIF(JW$16:KP$16,処理!$L23)+COUNTIF(JW$19:KP$19,処理!$L23)+COUNTIF(JW$22:KP$22,処理!$L23)+COUNTIF(JW$25:KP$25,処理!$L23))/処理!$M23,0))","v":""},"",{"$f":"$S$33","v":""},null,"","",{"$f":"$C$33","v":""},null,{"$f":"IF(LEN(KQ33)=0,\"\",(COUNTIF(KQ$6:LJ$7,KQ33)+COUNTIF(KQ$10:LJ$10,KQ33)+COUNTIF(KQ$13:LJ$13,KQ33)+COUNTIF(KQ$16:LJ$16,KQ33)+COUNTIF(KQ$19:LJ$19,KQ33)+COUNTIF(KQ$22:LJ$22,KQ33)+COUNTIF(KQ$25:LJ$25,KQ33))/設定!$D24+IFERROR((COUNTIF(KQ$6:LJ$7,処理!$L5)+COUNTIF(KQ$10:LJ$10,処理!$L5)+COUNTIF(KQ$13:LJ$13,処理!$L5)+COUNTIF(KQ$16:LJ$16,処理!$L5)+COUNTIF(KQ$19:LJ$19,処理!$L5)+COUNTIF(KQ$22:LJ$22,処理!$L5)+COUNTIF(KQ$25:LJ$25,処理!$L5))/処理!$M5,0))","v":""},"",{"$f":"$G$33","v":""},null,{"$f":"IF(LEN(KU33)=0,\"\",(COUNTIF(KQ$6:LJ$7,KU33)+COUNTIF(KQ$10:LJ$10,KU33)+COUNTIF(KQ$13:LJ$13,KU33)+COUNTIF(KQ$16:LJ$16,KU33)+COUNTIF(KQ$19:LJ$19,KU33)+COUNTIF(KQ$22:LJ$22,KU33)+COUNTIF(KQ$25:LJ$25,KU33))/設定!$G24+IFERROR((COUNTIF(KQ$6:LJ$7,処理!$L11)+COUNTIF(KQ$10:LJ$10,処理!$L11)+COUNTIF(KQ$13:LJ$13,処理!$L11)+COUNTIF(KQ$16:LJ$16,処理!$L11)+COUNTIF(KQ$19:LJ$19,処理!$L11)+COUNTIF(KQ$22:LJ$22,処理!$L11)+COUNTIF(KQ$25:LJ$25,処理!$L11))/処理!$M11,0))","v":""},"",{"$f":"$K$33","v":""},null,{"$f":"IF(LEN(KY33)=0,\"\",(COUNTIF(KQ$6:LJ$7,KY33)+COUNTIF(KQ$10:LJ$10,KY33)+COUNTIF(KQ$13:LJ$13,KY33)+COUNTIF(KQ$16:LJ$16,KY33)+COUNTIF(KQ$19:LJ$19,KY33)+COUNTIF(KQ$22:LJ$22,KY33)+COUNTIF(KQ$25:LJ$25,KY33))/設定!$J24+IFERROR((COUNTIF(KQ$6:LJ$7,処理!$L17)+COUNTIF(KQ$10:LJ$10,処理!$L17)+COUNTIF(KQ$13:LJ$13,処理!$L17)+COUNTIF(KQ$16:LJ$16,処理!$L17)+COUNTIF(KQ$19:LJ$19,処理!$L17)+COUNTIF(KQ$22:LJ$22,処理!$L17)+COUNTIF(KQ$25:LJ$25,処理!$L17))/処理!$M17,0))","v":""},"",{"$f":"$O$33","v":""},null,{"$f":"IF(LEN(LC33)=0,\"\",(COUNTIF(KQ$6:LJ$7,LC33)+COUNTIF(KQ$10:LJ$10,LC33)+COUNTIF(KQ$13:LJ$13,LC33)+COUNTIF(KQ$16:LJ$16,LC33)+COUNTIF(KQ$19:LJ$19,LC33)+COUNTIF(KQ$22:LJ$22,LC33)+COUNTIF(KQ$25:LJ$25,LC33))/設定!$M24+IFERROR((COUNTIF(KQ$6:LJ$7,処理!$L23)+COUNTIF(KQ$10:LJ$10,処理!$L23)+COUNTIF(KQ$13:LJ$13,処理!$L23)+COUNTIF(KQ$16:LJ$16,処理!$L23)+COUNTIF(KQ$19:LJ$19,処理!$L23)+COUNTIF(KQ$22:LJ$22,処理!$L23)+COUNTIF(KQ$25:LJ$25,処理!$L23))/処理!$M23,0))","v":""},"",{"$f":"$S$33","v":""},null,"","",{"$f":"$C$33","v":""},null,{"$f":"IF(LEN(LK33)=0,\"\",(COUNTIF(LK$6:MD$7,LK33)+COUNTIF(LK$10:MD$10,LK33)+COUNTIF(LK$13:MD$13,LK33)+COUNTIF(LK$16:MD$16,LK33)+COUNTIF(LK$19:MD$19,LK33)+COUNTIF(LK$22:MD$22,LK33)+COUNTIF(LK$25:MD$25,LK33))/設定!$D24+IFERROR((COUNTIF(LK$6:MD$7,処理!$L5)+COUNTIF(LK$10:MD$10,処理!$L5)+COUNTIF(LK$13:MD$13,処理!$L5)+COUNTIF(LK$16:MD$16,処理!$L5)+COUNTIF(LK$19:MD$19,処理!$L5)+COUNTIF(LK$22:MD$22,処理!$L5)+COUNTIF(LK$25:MD$25,処理!$L5))/処理!$M5,0))","v":""},"",{"$f":"$G$33","v":""},null,{"$f":"IF(LEN(LO33)=0,\"\",(COUNTIF(LK$6:MD$7,LO33)+COUNTIF(LK$10:MD$10,LO33)+COUNTIF(LK$13:MD$13,LO33)+COUNTIF(LK$16:MD$16,LO33)+COUNTIF(LK$19:MD$19,LO33)+COUNTIF(LK$22:MD$22,LO33)+COUNTIF(LK$25:MD$25,LO33))/設定!$G24+IFERROR((COUNTIF(LK$6:MD$7,処理!$L11)+COUNTIF(LK$10:MD$10,処理!$L11)+COUNTIF(LK$13:MD$13,処理!$L11)+COUNTIF(LK$16:MD$16,処理!$L11)+COUNTIF(LK$19:MD$19,処理!$L11)+COUNTIF(LK$22:MD$22,処理!$L11)+COUNTIF(LK$25:MD$25,処理!$L11))/処理!$M11,0))","v":""},"",{"$f":"$K$33","v":""},null,{"$f":"IF(LEN(LS33)=0,\"\",(COUNTIF(LK$6:MD$7,LS33)+COUNTIF(LK$10:MD$10,LS33)+COUNTIF(LK$13:MD$13,LS33)+COUNTIF(LK$16:MD$16,LS33)+COUNTIF(LK$19:MD$19,LS33)+COUNTIF(LK$22:MD$22,LS33)+COUNTIF(LK$25:MD$25,LS33))/設定!$J24+IFERROR((COUNTIF(LK$6:MD$7,処理!$L17)+COUNTIF(LK$10:MD$10,処理!$L17)+COUNTIF(LK$13:MD$13,処理!$L17)+COUNTIF(LK$16:MD$16,処理!$L17)+COUNTIF(LK$19:MD$19,処理!$L17)+COUNTIF(LK$22:MD$22,処理!$L17)+COUNTIF(LK$25:MD$25,処理!$L17))/処理!$M17,0))","v":""},"",{"$f":"$O$33","v":""},null,{"$f":"IF(LEN(LW33)=0,\"\",(COUNTIF(LK$6:MD$7,LW33)+COUNTIF(LK$10:MD$10,LW33)+COUNTIF(LK$13:MD$13,LW33)+COUNTIF(LK$16:MD$16,LW33)+COUNTIF(LK$19:MD$19,LW33)+COUNTIF(LK$22:MD$22,LW33)+COUNTIF(LK$25:MD$25,LW33))/設定!$M24+IFERROR((COUNTIF(LK$6:MD$7,処理!$L23)+COUNTIF(LK$10:MD$10,処理!$L23)+COUNTIF(LK$13:MD$13,処理!$L23)+COUNTIF(LK$16:MD$16,処理!$L23)+COUNTIF(LK$19:MD$19,処理!$L23)+COUNTIF(LK$22:MD$22,処理!$L23)+COUNTIF(LK$25:MD$25,処理!$L23))/処理!$M23,0))","v":""},"",{"$f":"$S$33","v":""},null,"","",{"$f":"$C$33","v":""},null,{"$f":"IF(LEN(ME33)=0,\"\",(COUNTIF(ME$6:MX$7,ME33)+COUNTIF(ME$10:MX$10,ME33)+COUNTIF(ME$13:MX$13,ME33)+COUNTIF(ME$16:MX$16,ME33)+COUNTIF(ME$19:MX$19,ME33)+COUNTIF(ME$22:MX$22,ME33)+COUNTIF(ME$25:MX$25,ME33))/設定!$D24+IFERROR((COUNTIF(ME$6:MX$7,処理!$L5)+COUNTIF(ME$10:MX$10,処理!$L5)+COUNTIF(ME$13:MX$13,処理!$L5)+COUNTIF(ME$16:MX$16,処理!$L5)+COUNTIF(ME$19:MX$19,処理!$L5)+COUNTIF(ME$22:MX$22,処理!$L5)+COUNTIF(ME$25:MX$25,処理!$L5))/処理!$M5,0))","v":""},"",{"$f":"$G$33","v":""},null,{"$f":"IF(LEN(MI33)=0,\"\",(COUNTIF(ME$6:MX$7,MI33)+COUNTIF(ME$10:MX$10,MI33)+COUNTIF(ME$13:MX$13,MI33)+COUNTIF(ME$16:MX$16,MI33)+COUNTIF(ME$19:MX$19,MI33)+COUNTIF(ME$22:MX$22,MI33)+COUNTIF(ME$25:MX$25,MI33))/設定!$G24+IFERROR((COUNTIF(ME$6:MX$7,処理!$L11)+COUNTIF(ME$10:MX$10,処理!$L11)+COUNTIF(ME$13:MX$13,処理!$L11)+COUNTIF(ME$16:MX$16,処理!$L11)+COUNTIF(ME$19:MX$19,処理!$L11)+COUNTIF(ME$22:MX$22,処理!$L11)+COUNTIF(ME$25:MX$25,処理!$L11))/処理!$M11,0))","v":""},"",{"$f":"$K$33","v":""},null,{"$f":"IF(LEN(MM33)=0,\"\",(COUNTIF(ME$6:MX$7,MM33)+COUNTIF(ME$10:MX$10,MM33)+COUNTIF(ME$13:MX$13,MM33)+COUNTIF(ME$16:MX$16,MM33)+COUNTIF(ME$19:MX$19,MM33)+COUNTIF(ME$22:MX$22,MM33)+COUNTIF(ME$25:MX$25,MM33))/設定!$J24+IFERROR((COUNTIF(ME$6:MX$7,処理!$L17)+COUNTIF(ME$10:MX$10,処理!$L17)+COUNTIF(ME$13:MX$13,処理!$L17)+COUNTIF(ME$16:MX$16,処理!$L17)+COUNTIF(ME$19:MX$19,処理!$L17)+COUNTIF(ME$22:MX$22,処理!$L17)+COUNTIF(ME$25:MX$25,処理!$L17))/処理!$M17,0))","v":""},"",{"$f":"$O$33","v":""},null,{"$f":"IF(LEN(MQ33)=0,\"\",(COUNTIF(ME$6:MX$7,MQ33)+COUNTIF(ME$10:MX$10,MQ33)+COUNTIF(ME$13:MX$13,MQ33)+COUNTIF(ME$16:MX$16,MQ33)+COUNTIF(ME$19:MX$19,MQ33)+COUNTIF(ME$22:MX$22,MQ33)+COUNTIF(ME$25:MX$25,MQ33))/設定!$M24+IFERROR((COUNTIF(ME$6:MX$7,処理!$L23)+COUNTIF(ME$10:MX$10,処理!$L23)+COUNTIF(ME$13:MX$13,処理!$L23)+COUNTIF(ME$16:MX$16,処理!$L23)+COUNTIF(ME$19:MX$19,処理!$L23)+COUNTIF(ME$22:MX$22,処理!$L23)+COUNTIF(ME$25:MX$25,処理!$L23))/処理!$M23,0))","v":""},"",{"$f":"$S$33","v":""},null,"",""]
[null,null,{"$f":"IF(COUNTIF(処理!$J$2:$J$25,4)>0,処理!H6,\"\")","v":""},null,{"$f":"IF(LEN(C34)=0,\"\",(COUNTIF(C$6:V$7,C34)+COUNTIF(C$10:V$10,C34)+COUNTIF(C$13:V$13,C34)+COUNTIF(C$16:V$16,C34)+COUNTIF(C$19:V$19,C34)+COUNTIF(C$22:V$22,C34)+COUNTIF(C$25:V$25,C34))/設定!$D25+IFERROR((COUNTIF(C$6:V$7,処理!$L6)+COUNTIF(C$10:V$10,処理!$L6)+COUNTIF(C$13:V$13,処理!$L6)+COUNTIF(C$16:V$16,処理!$L6)+COUNTIF(C$19:V$19,処理!$L6)+COUNTIF(C$22:V$22,処理!$L6)+COUNTIF(C$25:V$25,処理!$L6))/処理!$M6,0))","v":""},"",{"$f":"IF(COUNTIF(処理!$J$2:$J$25,10)>0,処理!H12,\"\")","v":""},null,{"$f":"IF(LEN(G34)=0,\"\",(COUNTIF(C$6:V$7,G34)+COUNTIF(C$10:V$10,G34)+COUNTIF(C$13:V$13,G34)+COUNTIF(C$16:V$16,G34)+COUNTIF(C$19:V$19,G34)+COUNTIF(C$22:V$22,G34)+COUNTIF(C$25:V$25,G34))/設定!$G25+IFERROR((COUNTIF(C$6:V$7,処理!$L12)+COUNTIF(C$10:V$10,処理!$L12)+COUNTIF(C$13:V$13,処理!$L12)+COUNTIF(C$16:V$16,処理!$L12)+COUNTIF(C$19:V$19,処理!$L12)+COUNTIF(C$22:V$22,処理!$L12)+COUNTIF(C$25:V$25,処理!$L12))/処理!$M12,0))","v":""},"",{"$f":"IF(COUNTIF(処理!$J$2:$J$25,16)>0,処理!H18,\"\")","v":""},null,{"$f":"IF(LEN(K34)=0,\"\",(COUNTIF(C$6:V$7,K34)+COUNTIF(C$10:V$10,K34)+COUNTIF(C$13:V$13,K34)+COUNTIF(C$16:V$16,K34)+COUNTIF(C$19:V$19,K34)+COUNTIF(C$22:V$22,K34)+COUNTIF(C$25:V$25,K34))/設定!$J25+IFERROR((COUNTIF(C$6:V$7,処理!$L18)+COUNTIF(C$10:V$10,処理!$L18)+COUNTIF(C$13:V$13,処理!$L18)+COUNTIF(C$16:V$16,処理!$L18)+COUNTIF(C$19:V$19,処理!$L18)+COUNTIF(C$22:V$22,処理!$L18)+COUNTIF(C$25:V$25,処理!$L18))/処理!$M18,0))","v":""},"",{"$f":"IF(COUNTIF(処理!$J$2:$J$25,22)>0,処理!H24,\"\")","v":""},null,{"$f":"IF(LEN(O34)=0,\"\",(COUNTIF(C$6:V$7,O34)+COUNTIF(C$10:V$10,O34)+COUNTIF(C$13:V$13,O34)+COUNTIF(C$16:V$16,O34)+COUNTIF(C$19:V$19,O34)+COUNTIF(C$22:V$22,O34)+COUNTIF(C$25:V$25,O34))/設定!$M25+IFERROR((COUNTIF(C$6:V$7,処理!$L24)+COUNTIF(C$10:V$10,処理!$L24)+COUNTIF(C$13:V$13,処理!$L24)+COUNTIF(C$16:V$16,処理!$L24)+COUNTIF(C$19:V$19,処理!$L24)+COUNTIF(C$22:V$22,処理!$L24)+COUNTIF(C$25:V$25,処理!$L24))/処理!$M24,0))","v":""},"",{"$f":"処理!H30&\"\"","v":""},null,"","",{"$f":"$C$34","v":""},null,{"$f":"IF(LEN(W34)=0,\"\",(COUNTIF(W$6:AP$7,W34)+COUNTIF(W$10:AP$10,W34)+COUNTIF(W$13:AP$13,W34)+COUNTIF(W$16:AP$16,W34)+COUNTIF(W$19:AP$19,W34)+COUNTIF(W$22:AP$22,W34)+COUNTIF(W$25:AP$25,W34))/設定!$D25+IFERROR((COUNTIF(W$6:AP$7,処理!$L6)+COUNTIF(W$10:AP$10,処理!$L6)+COUNTIF(W$13:AP$13,処理!$L6)+COUNTIF(W$16:AP$16,処理!$L6)+COUNTIF(W$19:AP$19,処理!$L6)+COUNTIF(W$22:AP$22,処理!$L6)+COUNTIF(W$25:AP$25,処理!$L6))/処理!$M6,0))","v":""},"",{"$f":"$G$34","v":""},null,{"$f":"IF(LEN(AA34)=0,\"\",(COUNTIF(W$6:AP$7,AA34)+COUNTIF(W$10:AP$10,AA34)+COUNTIF(W$13:AP$13,AA34)+COUNTIF(W$16:AP$16,AA34)+COUNTIF(W$19:AP$19,AA34)+COUNTIF(W$22:AP$22,AA34)+COUNTIF(W$25:AP$25,AA34))/設定!$G25+IFERROR((COUNTIF(W$6:AP$7,処理!$L12)+COUNTIF(W$10:AP$10,処理!$L12)+COUNTIF(W$13:AP$13,処理!$L12)+COUNTIF(W$16:AP$16,処理!$L12)+COUNTIF(W$19:AP$19,処理!$L12)+COUNTIF(W$22:AP$22,処理!$L12)+COUNTIF(W$25:AP$25,処理!$L12))/処理!$M12,0))","v":""},"",{"$f":"$K$34","v":""},null,{"$f":"IF(LEN(AE34)=0,\"\",(COUNTIF(W$6:AP$7,AE34)+COUNTIF(W$10:AP$10,AE34)+COUNTIF(W$13:AP$13,AE34)+COUNTIF(W$16:AP$16,AE34)+COUNTIF(W$19:AP$19,AE34)+COUNTIF(W$22:AP$22,AE34)+COUNTIF(W$25:AP$25,AE34))/設定!$J25+IFERROR((COUNTIF(W$6:AP$7,処理!$L18)+COUNTIF(W$10:AP$10,処理!$L18)+COUNTIF(W$13:AP$13,処理!$L18)+COUNTIF(W$16:AP$16,処理!$L18)+COUNTIF(W$19:AP$19,処理!$L18)+COUNTIF(W$22:AP$22,処理!$L18)+COUNTIF(W$25:AP$25,処理!$L18))/処理!$M18,0))","v":""},"",{"$f":"$O$34","v":""},null,{"$f":"IF(LEN(AI34)=0,\"\",(COUNTIF(W$6:AP$7,AI34)+COUNTIF(W$10:AP$10,AI34)+COUNTIF(W$13:AP$13,AI34)+COUNTIF(W$16:AP$16,AI34)+COUNTIF(W$19:AP$19,AI34)+COUNTIF(W$22:AP$22,AI34)+COUNTIF(W$25:AP$25,AI34))/設定!$M25+IFERROR((COUNTIF(W$6:AP$7,処理!$L24)+COUNTIF(W$10:AP$10,処理!$L24)+COUNTIF(W$13:AP$13,処理!$L24)+COUNTIF(W$16:AP$16,処理!$L24)+COUNTIF(W$19:AP$19,処理!$L24)+COUNTIF(W$22:AP$22,処理!$L24)+COUNTIF(W$25:AP$25,処理!$L24))/処理!$M24,0))","v":""},"",{"$f":"$S$34","v":""},null,"","",{"$f":"$C$34","v":""},null,{"$f":"IF(LEN(AQ34)=0,\"\",(COUNTIF(AQ$6:BJ$7,AQ34)+COUNTIF(AQ$10:BJ$10,AQ34)+COUNTIF(AQ$13:BJ$13,AQ34)+COUNTIF(AQ$16:BJ$16,AQ34)+COUNTIF(AQ$19:BJ$19,AQ34)+COUNTIF(AQ$22:BJ$22,AQ34)+COUNTIF(AQ$25:BJ$25,AQ34))/設定!$D25+IFERROR((COUNTIF(AQ$6:BJ$7,処理!$L6)+COUNTIF(AQ$10:BJ$10,処理!$L6)+COUNTIF(AQ$13:BJ$13,処理!$L6)+COUNTIF(AQ$16:BJ$16,処理!$L6)+COUNTIF(AQ$19:BJ$19,処理!$L6)+COUNTIF(AQ$22:BJ$22,処理!$L6)+COUNTIF(AQ$25:BJ$25,処理!$L6))/処理!$M6,0))","v":""},"",{"$f":"$G$34","v":""},null,{"$f":"IF(LEN(AU34)=0,\"\",(COUNTIF(AQ$6:BJ$7,AU34)+COUNTIF(AQ$10:BJ$10,AU34)+COUNTIF(AQ$13:BJ$13,AU34)+COUNTIF(AQ$16:BJ$16,AU34)+COUNTIF(AQ$19:BJ$19,AU34)+COUNTIF(AQ$22:BJ$22,AU34)+COUNTIF(AQ$25:BJ$25,AU34))/設定!$G25+IFERROR((COUNTIF(AQ$6:BJ$7,処理!$L12)+COUNTIF(AQ$10:BJ$10,処理!$L12)+COUNTIF(AQ$13:BJ$13,処理!$L12)+COUNTIF(AQ$16:BJ$16,処理!$L12)+COUNTIF(AQ$19:BJ$19,処理!$L12)+COUNTIF(AQ$22:BJ$22,処理!$L12)+COUNTIF(AQ$25:BJ$25,処理!$L12))/処理!$M12,0))","v":""},"",{"$f":"$K$34","v":""},null,{"$f":"IF(LEN(AY34)=0,\"\",(COUNTIF(AQ$6:BJ$7,AY34)+COUNTIF(AQ$10:BJ$10,AY34)+COUNTIF(AQ$13:BJ$13,AY34)+COUNTIF(AQ$16:BJ$16,AY34)+COUNTIF(AQ$19:BJ$19,AY34)+COUNTIF(AQ$22:BJ$22,AY34)+COUNTIF(AQ$25:BJ$25,AY34))/設定!$J25+IFERROR((COUNTIF(AQ$6:BJ$7,処理!$L18)+COUNTIF(AQ$10:BJ$10,処理!$L18)+COUNTIF(AQ$13:BJ$13,処理!$L18)+COUNTIF(AQ$16:BJ$16,処理!$L18)+COUNTIF(AQ$19:BJ$19,処理!$L18)+COUNTIF(AQ$22:BJ$22,処理!$L18)+COUNTIF(AQ$25:BJ$25,処理!$L18))/処理!$M18,0))","v":""},"",{"$f":"$O$34","v":""},null,{"$f":"IF(LEN(BC34)=0,\"\",(COUNTIF(AQ$6:BJ$7,BC34)+COUNTIF(AQ$10:BJ$10,BC34)+COUNTIF(AQ$13:BJ$13,BC34)+COUNTIF(AQ$16:BJ$16,BC34)+COUNTIF(AQ$19:BJ$19,BC34)+COUNTIF(AQ$22:BJ$22,BC34)+COUNTIF(AQ$25:BJ$25,BC34))/設定!$M25+IFERROR((COUNTIF(AQ$6:BJ$7,処理!$L24)+COUNTIF(AQ$10:BJ$10,処理!$L24)+COUNTIF(AQ$13:BJ$13,処理!$L24)+COUNTIF(AQ$16:BJ$16,処理!$L24)+COUNTIF(AQ$19:BJ$19,処理!$L24)+COUNTIF(AQ$22:BJ$22,処理!$L24)+COUNTIF(AQ$25:BJ$25,処理!$L24))/処理!$M24,0))","v":""},"",{"$f":"$S$34","v":""},null,"","",{"$f":"$C$34","v":""},null,{"$f":"IF(LEN(BK34)=0,\"\",(COUNTIF(BK$6:CD$7,BK34)+COUNTIF(BK$10:CD$10,BK34)+COUNTIF(BK$13:CD$13,BK34)+COUNTIF(BK$16:CD$16,BK34)+COUNTIF(BK$19:CD$19,BK34)+COUNTIF(BK$22:CD$22,BK34)+COUNTIF(BK$25:CD$25,BK34))/設定!$D25+IFERROR((COUNTIF(BK$6:CD$7,処理!$L6)+COUNTIF(BK$10:CD$10,処理!$L6)+COUNTIF(BK$13:CD$13,処理!$L6)+COUNTIF(BK$16:CD$16,処理!$L6)+COUNTIF(BK$19:CD$19,処理!$L6)+COUNTIF(BK$22:CD$22,処理!$L6)+COUNTIF(BK$25:CD$25,処理!$L6))/処理!$M6,0))","v":""},"",{"$f":"$G$34","v":""},null,{"$f":"IF(LEN(BO34)=0,\"\",(COUNTIF(BK$6:CD$7,BO34)+COUNTIF(BK$10:CD$10,BO34)+COUNTIF(BK$13:CD$13,BO34)+COUNTIF(BK$16:CD$16,BO34)+COUNTIF(BK$19:CD$19,BO34)+COUNTIF(BK$22:CD$22,BO34)+COUNTIF(BK$25:CD$25,BO34))/設定!$G25+IFERROR((COUNTIF(BK$6:CD$7,処理!$L12)+COUNTIF(BK$10:CD$10,処理!$L12)+COUNTIF(BK$13:CD$13,処理!$L12)+COUNTIF(BK$16:CD$16,処理!$L12)+COUNTIF(BK$19:CD$19,処理!$L12)+COUNTIF(BK$22:CD$22,処理!$L12)+COUNTIF(BK$25:CD$25,処理!$L12))/処理!$M12,0))","v":""},"",{"$f":"$K$34","v":""},null,{"$f":"IF(LEN(BS34)=0,\"\",(COUNTIF(BK$6:CD$7,BS34)+COUNTIF(BK$10:CD$10,BS34)+COUNTIF(BK$13:CD$13,BS34)+COUNTIF(BK$16:CD$16,BS34)+COUNTIF(BK$19:CD$19,BS34)+COUNTIF(BK$22:CD$22,BS34)+COUNTIF(BK$25:CD$25,BS34))/設定!$J25+IFERROR((COUNTIF(BK$6:CD$7,処理!$L18)+COUNTIF(BK$10:CD$10,処理!$L18)+COUNTIF(BK$13:CD$13,処理!$L18)+COUNTIF(BK$16:CD$16,処理!$L18)+COUNTIF(BK$19:CD$19,処理!$L18)+COUNTIF(BK$22:CD$22,処理!$L18)+COUNTIF(BK$25:CD$25,処理!$L18))/処理!$M18,0))","v":""},"",{"$f":"$O$34","v":""},null,{"$f":"IF(LEN(BW34)=0,\"\",(COUNTIF(BK$6:CD$7,BW34)+COUNTIF(BK$10:CD$10,BW34)+COUNTIF(BK$13:CD$13,BW34)+COUNTIF(BK$16:CD$16,BW34)+COUNTIF(BK$19:CD$19,BW34)+COUNTIF(BK$22:CD$22,BW34)+COUNTIF(BK$25:CD$25,BW34))/設定!$M25+IFERROR((COUNTIF(BK$6:CD$7,処理!$L24)+COUNTIF(BK$10:CD$10,処理!$L24)+COUNTIF(BK$13:CD$13,処理!$L24)+COUNTIF(BK$16:CD$16,処理!$L24)+COUNTIF(BK$19:CD$19,処理!$L24)+COUNTIF(BK$22:CD$22,処理!$L24)+COUNTIF(BK$25:CD$25,処理!$L24))/処理!$M24,0))","v":""},"",{"$f":"$S$34","v":""},null,"","",{"$f":"$C$34","v":""},null,{"$f":"IF(LEN(CE34)=0,\"\",(COUNTIF(CE$6:CX$7,CE34)+COUNTIF(CE$10:CX$10,CE34)+COUNTIF(CE$13:CX$13,CE34)+COUNTIF(CE$16:CX$16,CE34)+COUNTIF(CE$19:CX$19,CE34)+COUNTIF(CE$22:CX$22,CE34)+COUNTIF(CE$25:CX$25,CE34))/設定!$D25+IFERROR((COUNTIF(CE$6:CX$7,処理!$L6)+COUNTIF(CE$10:CX$10,処理!$L6)+COUNTIF(CE$13:CX$13,処理!$L6)+COUNTIF(CE$16:CX$16,処理!$L6)+COUNTIF(CE$19:CX$19,処理!$L6)+COUNTIF(CE$22:CX$22,処理!$L6)+COUNTIF(CE$25:CX$25,処理!$L6))/処理!$M6,0))","v":""},"",{"$f":"$G$34","v":""},null,{"$f":"IF(LEN(CI34)=0,\"\",(COUNTIF(CE$6:CX$7,CI34)+COUNTIF(CE$10:CX$10,CI34)+COUNTIF(CE$13:CX$13,CI34)+COUNTIF(CE$16:CX$16,CI34)+COUNTIF(CE$19:CX$19,CI34)+COUNTIF(CE$22:CX$22,CI34)+COUNTIF(CE$25:CX$25,CI34))/設定!$G25+IFERROR((COUNTIF(CE$6:CX$7,処理!$L12)+COUNTIF(CE$10:CX$10,処理!$L12)+COUNTIF(CE$13:CX$13,処理!$L12)+COUNTIF(CE$16:CX$16,処理!$L12)+COUNTIF(CE$19:CX$19,処理!$L12)+COUNTIF(CE$22:CX$22,処理!$L12)+COUNTIF(CE$25:CX$25,処理!$L12))/処理!$M12,0))","v":""},"",{"$f":"$K$34","v":""},null,{"$f":"IF(LEN(CM34)=0,\"\",(COUNTIF(CE$6:CX$7,CM34)+COUNTIF(CE$10:CX$10,CM34)+COUNTIF(CE$13:CX$13,CM34)+COUNTIF(CE$16:CX$16,CM34)+COUNTIF(CE$19:CX$19,CM34)+COUNTIF(CE$22:CX$22,CM34)+COUNTIF(CE$25:CX$25,CM34))/設定!$J25+IFERROR((COUNTIF(CE$6:CX$7,処理!$L18)+COUNTIF(CE$10:CX$10,処理!$L18)+COUNTIF(CE$13:CX$13,処理!$L18)+COUNTIF(CE$16:CX$16,処理!$L18)+COUNTIF(CE$19:CX$19,処理!$L18)+COUNTIF(CE$22:CX$22,処理!$L18)+COUNTIF(CE$25:CX$25,処理!$L18))/処理!$M18,0))","v":""},"",{"$f":"$O$34","v":""},null,{"$f":"IF(LEN(CQ34)=0,\"\",(COUNTIF(CE$6:CX$7,CQ34)+COUNTIF(CE$10:CX$10,CQ34)+COUNTIF(CE$13:CX$13,CQ34)+COUNTIF(CE$16:CX$16,CQ34)+COUNTIF(CE$19:CX$19,CQ34)+COUNTIF(CE$22:CX$22,CQ34)+COUNTIF(CE$25:CX$25,CQ34))/設定!$M25+IFERROR((COUNTIF(CE$6:CX$7,処理!$L24)+COUNTIF(CE$10:CX$10,処理!$L24)+COUNTIF(CE$13:CX$13,処理!$L24)+COUNTIF(CE$16:CX$16,処理!$L24)+COUNTIF(CE$19:CX$19,処理!$L24)+COUNTIF(CE$22:CX$22,処理!$L24)+COUNTIF(CE$25:CX$25,処理!$L24))/処理!$M24,0))","v":""},"",{"$f":"$S$34","v":""},null,"","",{"$f":"$C$34","v":""},null,{"$f":"IF(LEN(CY34)=0,\"\",(COUNTIF(CY$6:DR$7,CY34)+COUNTIF(CY$10:DR$10,CY34)+COUNTIF(CY$13:DR$13,CY34)+COUNTIF(CY$16:DR$16,CY34)+COUNTIF(CY$19:DR$19,CY34)+COUNTIF(CY$22:DR$22,CY34)+COUNTIF(CY$25:DR$25,CY34))/設定!$D25+IFERROR((COUNTIF(CY$6:DR$7,処理!$L6)+COUNTIF(CY$10:DR$10,処理!$L6)+COUNTIF(CY$13:DR$13,処理!$L6)+COUNTIF(CY$16:DR$16,処理!$L6)+COUNTIF(CY$19:DR$19,処理!$L6)+COUNTIF(CY$22:DR$22,処理!$L6)+COUNTIF(CY$25:DR$25,処理!$L6))/処理!$M6,0))","v":""},"",{"$f":"$G$34","v":""},null,{"$f":"IF(LEN(DC34)=0,\"\",(COUNTIF(CY$6:DR$7,DC34)+COUNTIF(CY$10:DR$10,DC34)+COUNTIF(CY$13:DR$13,DC34)+COUNTIF(CY$16:DR$16,DC34)+COUNTIF(CY$19:DR$19,DC34)+COUNTIF(CY$22:DR$22,DC34)+COUNTIF(CY$25:DR$25,DC34))/設定!$G25+IFERROR((COUNTIF(CY$6:DR$7,処理!$L12)+COUNTIF(CY$10:DR$10,処理!$L12)+COUNTIF(CY$13:DR$13,処理!$L12)+COUNTIF(CY$16:DR$16,処理!$L12)+COUNTIF(CY$19:DR$19,処理!$L12)+COUNTIF(CY$22:DR$22,処理!$L12)+COUNTIF(CY$25:DR$25,処理!$L12))/処理!$M12,0))","v":""},"",{"$f":"$K$34","v":""},null,{"$f":"IF(LEN(DG34)=0,\"\",(COUNTIF(CY$6:DR$7,DG34)+COUNTIF(CY$10:DR$10,DG34)+COUNTIF(CY$13:DR$13,DG34)+COUNTIF(CY$16:DR$16,DG34)+COUNTIF(CY$19:DR$19,DG34)+COUNTIF(CY$22:DR$22,DG34)+COUNTIF(CY$25:DR$25,DG34))/設定!$J25+IFERROR((COUNTIF(CY$6:DR$7,処理!$L18)+COUNTIF(CY$10:DR$10,処理!$L18)+COUNTIF(CY$13:DR$13,処理!$L18)+COUNTIF(CY$16:DR$16,処理!$L18)+COUNTIF(CY$19:DR$19,処理!$L18)+COUNTIF(CY$22:DR$22,処理!$L18)+COUNTIF(CY$25:DR$25,処理!$L18))/処理!$M18,0))","v":""},"",{"$f":"$O$34","v":""},null,{"$f":"IF(LEN(DK34)=0,\"\",(COUNTIF(CY$6:DR$7,DK34)+COUNTIF(CY$10:DR$10,DK34)+COUNTIF(CY$13:DR$13,DK34)+COUNTIF(CY$16:DR$16,DK34)+COUNTIF(CY$19:DR$19,DK34)+COUNTIF(CY$22:DR$22,DK34)+COUNTIF(CY$25:DR$25,DK34))/設定!$M25+IFERROR((COUNTIF(CY$6:DR$7,処理!$L24)+COUNTIF(CY$10:DR$10,処理!$L24)+COUNTIF(CY$13:DR$13,処理!$L24)+COUNTIF(CY$16:DR$16,処理!$L24)+COUNTIF(CY$19:DR$19,処理!$L24)+COUNTIF(CY$22:DR$22,処理!$L24)+COUNTIF(CY$25:DR$25,処理!$L24))/処理!$M24,0))","v":""},"",{"$f":"$S$34","v":""},null,"","",{"$f":"$C$34","v":""},null,{"$f":"IF(LEN(DS34)=0,\"\",(COUNTIF(DS$6:EL$7,DS34)+COUNTIF(DS$10:EL$10,DS34)+COUNTIF(DS$13:EL$13,DS34)+COUNTIF(DS$16:EL$16,DS34)+COUNTIF(DS$19:EL$19,DS34)+COUNTIF(DS$22:EL$22,DS34)+COUNTIF(DS$25:EL$25,DS34))/設定!$D25+IFERROR((COUNTIF(DS$6:EL$7,処理!$L6)+COUNTIF(DS$10:EL$10,処理!$L6)+COUNTIF(DS$13:EL$13,処理!$L6)+COUNTIF(DS$16:EL$16,処理!$L6)+COUNTIF(DS$19:EL$19,処理!$L6)+COUNTIF(DS$22:EL$22,処理!$L6)+COUNTIF(DS$25:EL$25,処理!$L6))/処理!$M6,0))","v":""},"",{"$f":"$G$34","v":""},null,{"$f":"IF(LEN(DW34)=0,\"\",(COUNTIF(DS$6:EL$7,DW34)+COUNTIF(DS$10:EL$10,DW34)+COUNTIF(DS$13:EL$13,DW34)+COUNTIF(DS$16:EL$16,DW34)+COUNTIF(DS$19:EL$19,DW34)+COUNTIF(DS$22:EL$22,DW34)+COUNTIF(DS$25:EL$25,DW34))/設定!$G25+IFERROR((COUNTIF(DS$6:EL$7,処理!$L12)+COUNTIF(DS$10:EL$10,処理!$L12)+COUNTIF(DS$13:EL$13,処理!$L12)+COUNTIF(DS$16:EL$16,処理!$L12)+COUNTIF(DS$19:EL$19,処理!$L12)+COUNTIF(DS$22:EL$22,処理!$L12)+COUNTIF(DS$25:EL$25,処理!$L12))/処理!$M12,0))","v":""},"",{"$f":"$K$34","v":""},null,{"$f":"IF(LEN(EA34)=0,\"\",(COUNTIF(DS$6:EL$7,EA34)+COUNTIF(DS$10:EL$10,EA34)+COUNTIF(DS$13:EL$13,EA34)+COUNTIF(DS$16:EL$16,EA34)+COUNTIF(DS$19:EL$19,EA34)+COUNTIF(DS$22:EL$22,EA34)+COUNTIF(DS$25:EL$25,EA34))/設定!$J25+IFERROR((COUNTIF(DS$6:EL$7,処理!$L18)+COUNTIF(DS$10:EL$10,処理!$L18)+COUNTIF(DS$13:EL$13,処理!$L18)+COUNTIF(DS$16:EL$16,処理!$L18)+COUNTIF(DS$19:EL$19,処理!$L18)+COUNTIF(DS$22:EL$22,処理!$L18)+COUNTIF(DS$25:EL$25,処理!$L18))/処理!$M18,0))","v":""},"",{"$f":"$O$34","v":""},null,{"$f":"IF(LEN(EE34)=0,\"\",(COUNTIF(DS$6:EL$7,EE34)+COUNTIF(DS$10:EL$10,EE34)+COUNTIF(DS$13:EL$13,EE34)+COUNTIF(DS$16:EL$16,EE34)+COUNTIF(DS$19:EL$19,EE34)+COUNTIF(DS$22:EL$22,EE34)+COUNTIF(DS$25:EL$25,EE34))/設定!$M25+IFERROR((COUNTIF(DS$6:EL$7,処理!$L24)+COUNTIF(DS$10:EL$10,処理!$L24)+COUNTIF(DS$13:EL$13,処理!$L24)+COUNTIF(DS$16:EL$16,処理!$L24)+COUNTIF(DS$19:EL$19,処理!$L24)+COUNTIF(DS$22:EL$22,処理!$L24)+COUNTIF(DS$25:EL$25,処理!$L24))/処理!$M24,0))","v":""},"",{"$f":"$S$34","v":""},null,"","",{"$f":"$C$34","v":""},null,{"$f":"IF(LEN(EM34)=0,\"\",(COUNTIF(EM$6:FF$7,EM34)+COUNTIF(EM$10:FF$10,EM34)+COUNTIF(EM$13:FF$13,EM34)+COUNTIF(EM$16:FF$16,EM34)+COUNTIF(EM$19:FF$19,EM34)+COUNTIF(EM$22:FF$22,EM34)+COUNTIF(EM$25:FF$25,EM34))/設定!$D25+IFERROR((COUNTIF(EM$6:FF$7,処理!$L6)+COUNTIF(EM$10:FF$10,処理!$L6)+COUNTIF(EM$13:FF$13,処理!$L6)+COUNTIF(EM$16:FF$16,処理!$L6)+COUNTIF(EM$19:FF$19,処理!$L6)+COUNTIF(EM$22:FF$22,処理!$L6)+COUNTIF(EM$25:FF$25,処理!$L6))/処理!$M6,0))","v":""},"",{"$f":"$G$34","v":""},null,{"$f":"IF(LEN(EQ34)=0,\"\",(COUNTIF(EM$6:FF$7,EQ34)+COUNTIF(EM$10:FF$10,EQ34)+COUNTIF(EM$13:FF$13,EQ34)+COUNTIF(EM$16:FF$16,EQ34)+COUNTIF(EM$19:FF$19,EQ34)+COUNTIF(EM$22:FF$22,EQ34)+COUNTIF(EM$25:FF$25,EQ34))/設定!$G25+IFERROR((COUNTIF(EM$6:FF$7,処理!$L12)+COUNTIF(EM$10:FF$10,処理!$L12)+COUNTIF(EM$13:FF$13,処理!$L12)+COUNTIF(EM$16:FF$16,処理!$L12)+COUNTIF(EM$19:FF$19,処理!$L12)+COUNTIF(EM$22:FF$22,処理!$L12)+COUNTIF(EM$25:FF$25,処理!$L12))/処理!$M12,0))","v":""},"",{"$f":"$K$34","v":""},null,{"$f":"IF(LEN(EU34)=0,\"\",(COUNTIF(EM$6:FF$7,EU34)+COUNTIF(EM$10:FF$10,EU34)+COUNTIF(EM$13:FF$13,EU34)+COUNTIF(EM$16:FF$16,EU34)+COUNTIF(EM$19:FF$19,EU34)+COUNTIF(EM$22:FF$22,EU34)+COUNTIF(EM$25:FF$25,EU34))/設定!$J25+IFERROR((COUNTIF(EM$6:FF$7,処理!$L18)+COUNTIF(EM$10:FF$10,処理!$L18)+COUNTIF(EM$13:FF$13,処理!$L18)+COUNTIF(EM$16:FF$16,処理!$L18)+COUNTIF(EM$19:FF$19,処理!$L18)+COUNTIF(EM$22:FF$22,処理!$L18)+COUNTIF(EM$25:FF$25,処理!$L18))/処理!$M18,0))","v":""},"",{"$f":"$O$34","v":""},null,{"$f":"IF(LEN(EY34)=0,\"\",(COUNTIF(EM$6:FF$7,EY34)+COUNTIF(EM$10:FF$10,EY34)+COUNTIF(EM$13:FF$13,EY34)+COUNTIF(EM$16:FF$16,EY34)+COUNTIF(EM$19:FF$19,EY34)+COUNTIF(EM$22:FF$22,EY34)+COUNTIF(EM$25:FF$25,EY34))/設定!$M25+IFERROR((COUNTIF(EM$6:FF$7,処理!$L24)+COUNTIF(EM$10:FF$10,処理!$L24)+COUNTIF(EM$13:FF$13,処理!$L24)+COUNTIF(EM$16:FF$16,処理!$L24)+COUNTIF(EM$19:FF$19,処理!$L24)+COUNTIF(EM$22:FF$22,処理!$L24)+COUNTIF(EM$25:FF$25,処理!$L24))/処理!$M24,0))","v":""},"",{"$f":"$S$34","v":""},null,"","",{"$f":"$C$34","v":""},null,{"$f":"IF(LEN(FG34)=0,\"\",(COUNTIF(FG$6:FZ$7,FG34)+COUNTIF(FG$10:FZ$10,FG34)+COUNTIF(FG$13:FZ$13,FG34)+COUNTIF(FG$16:FZ$16,FG34)+COUNTIF(FG$19:FZ$19,FG34)+COUNTIF(FG$22:FZ$22,FG34)+COUNTIF(FG$25:FZ$25,FG34))/設定!$D25+IFERROR((COUNTIF(FG$6:FZ$7,処理!$L6)+COUNTIF(FG$10:FZ$10,処理!$L6)+COUNTIF(FG$13:FZ$13,処理!$L6)+COUNTIF(FG$16:FZ$16,処理!$L6)+COUNTIF(FG$19:FZ$19,処理!$L6)+COUNTIF(FG$22:FZ$22,処理!$L6)+COUNTIF(FG$25:FZ$25,処理!$L6))/処理!$M6,0))","v":""},"",{"$f":"$G$34","v":""},null,{"$f":"IF(LEN(FK34)=0,\"\",(COUNTIF(FG$6:FZ$7,FK34)+COUNTIF(FG$10:FZ$10,FK34)+COUNTIF(FG$13:FZ$13,FK34)+COUNTIF(FG$16:FZ$16,FK34)+COUNTIF(FG$19:FZ$19,FK34)+COUNTIF(FG$22:FZ$22,FK34)+COUNTIF(FG$25:FZ$25,FK34))/設定!$G25+IFERROR((COUNTIF(FG$6:FZ$7,処理!$L12)+COUNTIF(FG$10:FZ$10,処理!$L12)+COUNTIF(FG$13:FZ$13,処理!$L12)+COUNTIF(FG$16:FZ$16,処理!$L12)+COUNTIF(FG$19:FZ$19,処理!$L12)+COUNTIF(FG$22:FZ$22,処理!$L12)+COUNTIF(FG$25:FZ$25,処理!$L12))/処理!$M12,0))","v":""},"",{"$f":"$K$34","v":""},null,{"$f":"IF(LEN(FO34)=0,\"\",(COUNTIF(FG$6:FZ$7,FO34)+COUNTIF(FG$10:FZ$10,FO34)+COUNTIF(FG$13:FZ$13,FO34)+COUNTIF(FG$16:FZ$16,FO34)+COUNTIF(FG$19:FZ$19,FO34)+COUNTIF(FG$22:FZ$22,FO34)+COUNTIF(FG$25:FZ$25,FO34))/設定!$J25+IFERROR((COUNTIF(FG$6:FZ$7,処理!$L18)+COUNTIF(FG$10:FZ$10,処理!$L18)+COUNTIF(FG$13:FZ$13,処理!$L18)+COUNTIF(FG$16:FZ$16,処理!$L18)+COUNTIF(FG$19:FZ$19,処理!$L18)+COUNTIF(FG$22:FZ$22,処理!$L18)+COUNTIF(FG$25:FZ$25,処理!$L18))/処理!$M18,0))","v":""},"",{"$f":"$O$34","v":""},null,{"$f":"IF(LEN(FS34)=0,\"\",(COUNTIF(FG$6:FZ$7,FS34)+COUNTIF(FG$10:FZ$10,FS34)+COUNTIF(FG$13:FZ$13,FS34)+COUNTIF(FG$16:FZ$16,FS34)+COUNTIF(FG$19:FZ$19,FS34)+COUNTIF(FG$22:FZ$22,FS34)+COUNTIF(FG$25:FZ$25,FS34))/設定!$M25+IFERROR((COUNTIF(FG$6:FZ$7,処理!$L24)+COUNTIF(FG$10:FZ$10,処理!$L24)+COUNTIF(FG$13:FZ$13,処理!$L24)+COUNTIF(FG$16:FZ$16,処理!$L24)+COUNTIF(FG$19:FZ$19,処理!$L24)+COUNTIF(FG$22:FZ$22,処理!$L24)+COUNTIF(FG$25:FZ$25,処理!$L24))/処理!$M24,0))","v":""},"",{"$f":"$S$34","v":""},null,"","",{"$f":"$C$34","v":""},null,{"$f":"IF(LEN(GA34)=0,\"\",(COUNTIF(GA$6:GT$7,GA34)+COUNTIF(GA$10:GT$10,GA34)+COUNTIF(GA$13:GT$13,GA34)+COUNTIF(GA$16:GT$16,GA34)+COUNTIF(GA$19:GT$19,GA34)+COUNTIF(GA$22:GT$22,GA34)+COUNTIF(GA$25:GT$25,GA34))/設定!$D25+IFERROR((COUNTIF(GA$6:GT$7,処理!$L6)+COUNTIF(GA$10:GT$10,処理!$L6)+COUNTIF(GA$13:GT$13,処理!$L6)+COUNTIF(GA$16:GT$16,処理!$L6)+COUNTIF(GA$19:GT$19,処理!$L6)+COUNTIF(GA$22:GT$22,処理!$L6)+COUNTIF(GA$25:GT$25,処理!$L6))/処理!$M6,0))","v":""},"",{"$f":"$G$34","v":""},null,{"$f":"IF(LEN(GE34)=0,\"\",(COUNTIF(GA$6:GT$7,GE34)+COUNTIF(GA$10:GT$10,GE34)+COUNTIF(GA$13:GT$13,GE34)+COUNTIF(GA$16:GT$16,GE34)+COUNTIF(GA$19:GT$19,GE34)+COUNTIF(GA$22:GT$22,GE34)+COUNTIF(GA$25:GT$25,GE34))/設定!$G25+IFERROR((COUNTIF(GA$6:GT$7,処理!$L12)+COUNTIF(GA$10:GT$10,処理!$L12)+COUNTIF(GA$13:GT$13,処理!$L12)+COUNTIF(GA$16:GT$16,処理!$L12)+COUNTIF(GA$19:GT$19,処理!$L12)+COUNTIF(GA$22:GT$22,処理!$L12)+COUNTIF(GA$25:GT$25,処理!$L12))/処理!$M12,0))","v":""},"",{"$f":"$K$34","v":""},null,{"$f":"IF(LEN(GI34)=0,\"\",(COUNTIF(GA$6:GT$7,GI34)+COUNTIF(GA$10:GT$10,GI34)+COUNTIF(GA$13:GT$13,GI34)+COUNTIF(GA$16:GT$16,GI34)+COUNTIF(GA$19:GT$19,GI34)+COUNTIF(GA$22:GT$22,GI34)+COUNTIF(GA$25:GT$25,GI34))/設定!$J25+IFERROR((COUNTIF(GA$6:GT$7,処理!$L18)+COUNTIF(GA$10:GT$10,処理!$L18)+COUNTIF(GA$13:GT$13,処理!$L18)+COUNTIF(GA$16:GT$16,処理!$L18)+COUNTIF(GA$19:GT$19,処理!$L18)+COUNTIF(GA$22:GT$22,処理!$L18)+COUNTIF(GA$25:GT$25,処理!$L18))/処理!$M18,0))","v":""},"",{"$f":"$O$34","v":""},null,{"$f":"IF(LEN(GM34)=0,\"\",(COUNTIF(GA$6:GT$7,GM34)+COUNTIF(GA$10:GT$10,GM34)+COUNTIF(GA$13:GT$13,GM34)+COUNTIF(GA$16:GT$16,GM34)+COUNTIF(GA$19:GT$19,GM34)+COUNTIF(GA$22:GT$22,GM34)+COUNTIF(GA$25:GT$25,GM34))/設定!$M25+IFERROR((COUNTIF(GA$6:GT$7,処理!$L24)+COUNTIF(GA$10:GT$10,処理!$L24)+COUNTIF(GA$13:GT$13,処理!$L24)+COUNTIF(GA$16:GT$16,処理!$L24)+COUNTIF(GA$19:GT$19,処理!$L24)+COUNTIF(GA$22:GT$22,処理!$L24)+COUNTIF(GA$25:GT$25,処理!$L24))/処理!$M24,0))","v":""},"",{"$f":"$S$34","v":""},null,"","",{"$f":"$C$34","v":""},null,{"$f":"IF(LEN(GU34)=0,\"\",(COUNTIF(GU$6:HN$7,GU34)+COUNTIF(GU$10:HN$10,GU34)+COUNTIF(GU$13:HN$13,GU34)+COUNTIF(GU$16:HN$16,GU34)+COUNTIF(GU$19:HN$19,GU34)+COUNTIF(GU$22:HN$22,GU34)+COUNTIF(GU$25:HN$25,GU34))/設定!$D25+IFERROR((COUNTIF(GU$6:HN$7,処理!$L6)+COUNTIF(GU$10:HN$10,処理!$L6)+COUNTIF(GU$13:HN$13,処理!$L6)+COUNTIF(GU$16:HN$16,処理!$L6)+COUNTIF(GU$19:HN$19,処理!$L6)+COUNTIF(GU$22:HN$22,処理!$L6)+COUNTIF(GU$25:HN$25,処理!$L6))/処理!$M6,0))","v":""},"",{"$f":"$G$34","v":""},null,{"$f":"IF(LEN(GY34)=0,\"\",(COUNTIF(GU$6:HN$7,GY34)+COUNTIF(GU$10:HN$10,GY34)+COUNTIF(GU$13:HN$13,GY34)+COUNTIF(GU$16:HN$16,GY34)+COUNTIF(GU$19:HN$19,GY34)+COUNTIF(GU$22:HN$22,GY34)+COUNTIF(GU$25:HN$25,GY34))/設定!$G25+IFERROR((COUNTIF(GU$6:HN$7,処理!$L12)+COUNTIF(GU$10:HN$10,処理!$L12)+COUNTIF(GU$13:HN$13,処理!$L12)+COUNTIF(GU$16:HN$16,処理!$L12)+COUNTIF(GU$19:HN$19,処理!$L12)+COUNTIF(GU$22:HN$22,処理!$L12)+COUNTIF(GU$25:HN$25,処理!$L12))/処理!$M12,0))","v":""},"",{"$f":"$K$34","v":""},null,{"$f":"IF(LEN(HC34)=0,\"\",(COUNTIF(GU$6:HN$7,HC34)+COUNTIF(GU$10:HN$10,HC34)+COUNTIF(GU$13:HN$13,HC34)+COUNTIF(GU$16:HN$16,HC34)+COUNTIF(GU$19:HN$19,HC34)+COUNTIF(GU$22:HN$22,HC34)+COUNTIF(GU$25:HN$25,HC34))/設定!$J25+IFERROR((COUNTIF(GU$6:HN$7,処理!$L18)+COUNTIF(GU$10:HN$10,処理!$L18)+COUNTIF(GU$13:HN$13,処理!$L18)+COUNTIF(GU$16:HN$16,処理!$L18)+COUNTIF(GU$19:HN$19,処理!$L18)+COUNTIF(GU$22:HN$22,処理!$L18)+COUNTIF(GU$25:HN$25,処理!$L18))/処理!$M18,0))","v":""},"",{"$f":"$O$34","v":""},null,{"$f":"IF(LEN(HG34)=0,\"\",(COUNTIF(GU$6:HN$7,HG34)+COUNTIF(GU$10:HN$10,HG34)+COUNTIF(GU$13:HN$13,HG34)+COUNTIF(GU$16:HN$16,HG34)+COUNTIF(GU$19:HN$19,HG34)+COUNTIF(GU$22:HN$22,HG34)+COUNTIF(GU$25:HN$25,HG34))/設定!$M25+IFERROR((COUNTIF(GU$6:HN$7,処理!$L24)+COUNTIF(GU$10:HN$10,処理!$L24)+COUNTIF(GU$13:HN$13,処理!$L24)+COUNTIF(GU$16:HN$16,処理!$L24)+COUNTIF(GU$19:HN$19,処理!$L24)+COUNTIF(GU$22:HN$22,処理!$L24)+COUNTIF(GU$25:HN$25,処理!$L24))/処理!$M24,0))","v":""},"",{"$f":"$S$34","v":""},null,"","",{"$f":"$C$34","v":""},null,{"$f":"IF(LEN(HO34)=0,\"\",(COUNTIF(HO$6:IH$7,HO34)+COUNTIF(HO$10:IH$10,HO34)+COUNTIF(HO$13:IH$13,HO34)+COUNTIF(HO$16:IH$16,HO34)+COUNTIF(HO$19:IH$19,HO34)+COUNTIF(HO$22:IH$22,HO34)+COUNTIF(HO$25:IH$25,HO34))/設定!$D25+IFERROR((COUNTIF(HO$6:IH$7,処理!$L6)+COUNTIF(HO$10:IH$10,処理!$L6)+COUNTIF(HO$13:IH$13,処理!$L6)+COUNTIF(HO$16:IH$16,処理!$L6)+COUNTIF(HO$19:IH$19,処理!$L6)+COUNTIF(HO$22:IH$22,処理!$L6)+COUNTIF(HO$25:IH$25,処理!$L6))/処理!$M6,0))","v":""},"",{"$f":"$G$34","v":""},null,{"$f":"IF(LEN(HS34)=0,\"\",(COUNTIF(HO$6:IH$7,HS34)+COUNTIF(HO$10:IH$10,HS34)+COUNTIF(HO$13:IH$13,HS34)+COUNTIF(HO$16:IH$16,HS34)+COUNTIF(HO$19:IH$19,HS34)+COUNTIF(HO$22:IH$22,HS34)+COUNTIF(HO$25:IH$25,HS34))/設定!$G25+IFERROR((COUNTIF(HO$6:IH$7,処理!$L12)+COUNTIF(HO$10:IH$10,処理!$L12)+COUNTIF(HO$13:IH$13,処理!$L12)+COUNTIF(HO$16:IH$16,処理!$L12)+COUNTIF(HO$19:IH$19,処理!$L12)+COUNTIF(HO$22:IH$22,処理!$L12)+COUNTIF(HO$25:IH$25,処理!$L12))/処理!$M12,0))","v":""},"",{"$f":"$K$34","v":""},null,{"$f":"IF(LEN(HW34)=0,\"\",(COUNTIF(HO$6:IH$7,HW34)+COUNTIF(HO$10:IH$10,HW34)+COUNTIF(HO$13:IH$13,HW34)+COUNTIF(HO$16:IH$16,HW34)+COUNTIF(HO$19:IH$19,HW34)+COUNTIF(HO$22:IH$22,HW34)+COUNTIF(HO$25:IH$25,HW34))/設定!$J25+IFERROR((COUNTIF(HO$6:IH$7,処理!$L18)+COUNTIF(HO$10:IH$10,処理!$L18)+COUNTIF(HO$13:IH$13,処理!$L18)+COUNTIF(HO$16:IH$16,処理!$L18)+COUNTIF(HO$19:IH$19,処理!$L18)+COUNTIF(HO$22:IH$22,処理!$L18)+COUNTIF(HO$25:IH$25,処理!$L18))/処理!$M18,0))","v":""},"",{"$f":"$O$34","v":""},null,{"$f":"IF(LEN(IA34)=0,\"\",(COUNTIF(HO$6:IH$7,IA34)+COUNTIF(HO$10:IH$10,IA34)+COUNTIF(HO$13:IH$13,IA34)+COUNTIF(HO$16:IH$16,IA34)+COUNTIF(HO$19:IH$19,IA34)+COUNTIF(HO$22:IH$22,IA34)+COUNTIF(HO$25:IH$25,IA34))/設定!$M25+IFERROR((COUNTIF(HO$6:IH$7,処理!$L24)+COUNTIF(HO$10:IH$10,処理!$L24)+COUNTIF(HO$13:IH$13,処理!$L24)+COUNTIF(HO$16:IH$16,処理!$L24)+COUNTIF(HO$19:IH$19,処理!$L24)+COUNTIF(HO$22:IH$22,処理!$L24)+COUNTIF(HO$25:IH$25,処理!$L24))/処理!$M24,0))","v":""},"",{"$f":"$S$34","v":""},null,"","",{"$f":"$C$34","v":""},null,{"$f":"IF(LEN(II34)=0,\"\",(COUNTIF(II$6:JB$7,II34)+COUNTIF(II$10:JB$10,II34)+COUNTIF(II$13:JB$13,II34)+COUNTIF(II$16:JB$16,II34)+COUNTIF(II$19:JB$19,II34)+COUNTIF(II$22:JB$22,II34)+COUNTIF(II$25:JB$25,II34))/設定!$D25+IFERROR((COUNTIF(II$6:JB$7,処理!$L6)+COUNTIF(II$10:JB$10,処理!$L6)+COUNTIF(II$13:JB$13,処理!$L6)+COUNTIF(II$16:JB$16,処理!$L6)+COUNTIF(II$19:JB$19,処理!$L6)+COUNTIF(II$22:JB$22,処理!$L6)+COUNTIF(II$25:JB$25,処理!$L6))/処理!$M6,0))","v":""},"",{"$f":"$G$34","v":""},null,{"$f":"IF(LEN(IM34)=0,\"\",(COUNTIF(II$6:JB$7,IM34)+COUNTIF(II$10:JB$10,IM34)+COUNTIF(II$13:JB$13,IM34)+COUNTIF(II$16:JB$16,IM34)+COUNTIF(II$19:JB$19,IM34)+COUNTIF(II$22:JB$22,IM34)+COUNTIF(II$25:JB$25,IM34))/設定!$G25+IFERROR((COUNTIF(II$6:JB$7,処理!$L12)+COUNTIF(II$10:JB$10,処理!$L12)+COUNTIF(II$13:JB$13,処理!$L12)+COUNTIF(II$16:JB$16,処理!$L12)+COUNTIF(II$19:JB$19,処理!$L12)+COUNTIF(II$22:JB$22,処理!$L12)+COUNTIF(II$25:JB$25,処理!$L12))/処理!$M12,0))","v":""},"",{"$f":"$K$34","v":""},null,{"$f":"IF(LEN(IQ34)=0,\"\",(COUNTIF(II$6:JB$7,IQ34)+COUNTIF(II$10:JB$10,IQ34)+COUNTIF(II$13:JB$13,IQ34)+COUNTIF(II$16:JB$16,IQ34)+COUNTIF(II$19:JB$19,IQ34)+COUNTIF(II$22:JB$22,IQ34)+COUNTIF(II$25:JB$25,IQ34))/設定!$J25+IFERROR((COUNTIF(II$6:JB$7,処理!$L18)+COUNTIF(II$10:JB$10,処理!$L18)+COUNTIF(II$13:JB$13,処理!$L18)+COUNTIF(II$16:JB$16,処理!$L18)+COUNTIF(II$19:JB$19,処理!$L18)+COUNTIF(II$22:JB$22,処理!$L18)+COUNTIF(II$25:JB$25,処理!$L18))/処理!$M18,0))","v":""},"",{"$f":"$O$34","v":""},null,{"$f":"IF(LEN(IU34)=0,\"\",(COUNTIF(II$6:JB$7,IU34)+COUNTIF(II$10:JB$10,IU34)+COUNTIF(II$13:JB$13,IU34)+COUNTIF(II$16:JB$16,IU34)+COUNTIF(II$19:JB$19,IU34)+COUNTIF(II$22:JB$22,IU34)+COUNTIF(II$25:JB$25,IU34))/設定!$M25+IFERROR((COUNTIF(II$6:JB$7,処理!$L24)+COUNTIF(II$10:JB$10,処理!$L24)+COUNTIF(II$13:JB$13,処理!$L24)+COUNTIF(II$16:JB$16,処理!$L24)+COUNTIF(II$19:JB$19,処理!$L24)+COUNTIF(II$22:JB$22,処理!$L24)+COUNTIF(II$25:JB$25,処理!$L24))/処理!$M24,0))","v":""},"",{"$f":"$S$34","v":""},null,"","",{"$f":"$C$34","v":""},null,{"$f":"IF(LEN(JC34)=0,\"\",(COUNTIF(JC$6:JV$7,JC34)+COUNTIF(JC$10:JV$10,JC34)+COUNTIF(JC$13:JV$13,JC34)+COUNTIF(JC$16:JV$16,JC34)+COUNTIF(JC$19:JV$19,JC34)+COUNTIF(JC$22:JV$22,JC34)+COUNTIF(JC$25:JV$25,JC34))/設定!$D25+IFERROR((COUNTIF(JC$6:JV$7,処理!$L6)+COUNTIF(JC$10:JV$10,処理!$L6)+COUNTIF(JC$13:JV$13,処理!$L6)+COUNTIF(JC$16:JV$16,処理!$L6)+COUNTIF(JC$19:JV$19,処理!$L6)+COUNTIF(JC$22:JV$22,処理!$L6)+COUNTIF(JC$25:JV$25,処理!$L6))/処理!$M6,0))","v":""},"",{"$f":"$G$34","v":""},null,{"$f":"IF(LEN(JG34)=0,\"\",(COUNTIF(JC$6:JV$7,JG34)+COUNTIF(JC$10:JV$10,JG34)+COUNTIF(JC$13:JV$13,JG34)+COUNTIF(JC$16:JV$16,JG34)+COUNTIF(JC$19:JV$19,JG34)+COUNTIF(JC$22:JV$22,JG34)+COUNTIF(JC$25:JV$25,JG34))/設定!$G25+IFERROR((COUNTIF(JC$6:JV$7,処理!$L12)+COUNTIF(JC$10:JV$10,処理!$L12)+COUNTIF(JC$13:JV$13,処理!$L12)+COUNTIF(JC$16:JV$16,処理!$L12)+COUNTIF(JC$19:JV$19,処理!$L12)+COUNTIF(JC$22:JV$22,処理!$L12)+COUNTIF(JC$25:JV$25,処理!$L12))/処理!$M12,0))","v":""},"",{"$f":"$K$34","v":""},null,{"$f":"IF(LEN(JK34)=0,\"\",(COUNTIF(JC$6:JV$7,JK34)+COUNTIF(JC$10:JV$10,JK34)+COUNTIF(JC$13:JV$13,JK34)+COUNTIF(JC$16:JV$16,JK34)+COUNTIF(JC$19:JV$19,JK34)+COUNTIF(JC$22:JV$22,JK34)+COUNTIF(JC$25:JV$25,JK34))/設定!$J25+IFERROR((COUNTIF(JC$6:JV$7,処理!$L18)+COUNTIF(JC$10:JV$10,処理!$L18)+COUNTIF(JC$13:JV$13,処理!$L18)+COUNTIF(JC$16:JV$16,処理!$L18)+COUNTIF(JC$19:JV$19,処理!$L18)+COUNTIF(JC$22:JV$22,処理!$L18)+COUNTIF(JC$25:JV$25,処理!$L18))/処理!$M18,0))","v":""},"",{"$f":"$O$34","v":""},null,{"$f":"IF(LEN(JO34)=0,\"\",(COUNTIF(JC$6:JV$7,JO34)+COUNTIF(JC$10:JV$10,JO34)+COUNTIF(JC$13:JV$13,JO34)+COUNTIF(JC$16:JV$16,JO34)+COUNTIF(JC$19:JV$19,JO34)+COUNTIF(JC$22:JV$22,JO34)+COUNTIF(JC$25:JV$25,JO34))/設定!$M25+IFERROR((COUNTIF(JC$6:JV$7,処理!$L24)+COUNTIF(JC$10:JV$10,処理!$L24)+COUNTIF(JC$13:JV$13,処理!$L24)+COUNTIF(JC$16:JV$16,処理!$L24)+COUNTIF(JC$19:JV$19,処理!$L24)+COUNTIF(JC$22:JV$22,処理!$L24)+COUNTIF(JC$25:JV$25,処理!$L24))/処理!$M24,0))","v":""},"",{"$f":"$S$34","v":""},null,"","",{"$f":"$C$34","v":""},null,{"$f":"IF(LEN(JW34)=0,\"\",(COUNTIF(JW$6:KP$7,JW34)+COUNTIF(JW$10:KP$10,JW34)+COUNTIF(JW$13:KP$13,JW34)+COUNTIF(JW$16:KP$16,JW34)+COUNTIF(JW$19:KP$19,JW34)+COUNTIF(JW$22:KP$22,JW34)+COUNTIF(JW$25:KP$25,JW34))/設定!$D25+IFERROR((COUNTIF(JW$6:KP$7,処理!$L6)+COUNTIF(JW$10:KP$10,処理!$L6)+COUNTIF(JW$13:KP$13,処理!$L6)+COUNTIF(JW$16:KP$16,処理!$L6)+COUNTIF(JW$19:KP$19,処理!$L6)+COUNTIF(JW$22:KP$22,処理!$L6)+COUNTIF(JW$25:KP$25,処理!$L6))/処理!$M6,0))","v":""},"",{"$f":"$G$34","v":""},null,{"$f":"IF(LEN(KA34)=0,\"\",(COUNTIF(JW$6:KP$7,KA34)+COUNTIF(JW$10:KP$10,KA34)+COUNTIF(JW$13:KP$13,KA34)+COUNTIF(JW$16:KP$16,KA34)+COUNTIF(JW$19:KP$19,KA34)+COUNTIF(JW$22:KP$22,KA34)+COUNTIF(JW$25:KP$25,KA34))/設定!$G25+IFERROR((COUNTIF(JW$6:KP$7,処理!$L12)+COUNTIF(JW$10:KP$10,処理!$L12)+COUNTIF(JW$13:KP$13,処理!$L12)+COUNTIF(JW$16:KP$16,処理!$L12)+COUNTIF(JW$19:KP$19,処理!$L12)+COUNTIF(JW$22:KP$22,処理!$L12)+COUNTIF(JW$25:KP$25,処理!$L12))/処理!$M12,0))","v":""},"",{"$f":"$K$34","v":""},null,{"$f":"IF(LEN(KE34)=0,\"\",(COUNTIF(JW$6:KP$7,KE34)+COUNTIF(JW$10:KP$10,KE34)+COUNTIF(JW$13:KP$13,KE34)+COUNTIF(JW$16:KP$16,KE34)+COUNTIF(JW$19:KP$19,KE34)+COUNTIF(JW$22:KP$22,KE34)+COUNTIF(JW$25:KP$25,KE34))/設定!$J25+IFERROR((COUNTIF(JW$6:KP$7,処理!$L18)+COUNTIF(JW$10:KP$10,処理!$L18)+COUNTIF(JW$13:KP$13,処理!$L18)+COUNTIF(JW$16:KP$16,処理!$L18)+COUNTIF(JW$19:KP$19,処理!$L18)+COUNTIF(JW$22:KP$22,処理!$L18)+COUNTIF(JW$25:KP$25,処理!$L18))/処理!$M18,0))","v":""},"",{"$f":"$O$34","v":""},null,{"$f":"IF(LEN(KI34)=0,\"\",(COUNTIF(JW$6:KP$7,KI34)+COUNTIF(JW$10:KP$10,KI34)+COUNTIF(JW$13:KP$13,KI34)+COUNTIF(JW$16:KP$16,KI34)+COUNTIF(JW$19:KP$19,KI34)+COUNTIF(JW$22:KP$22,KI34)+COUNTIF(JW$25:KP$25,KI34))/設定!$M25+IFERROR((COUNTIF(JW$6:KP$7,処理!$L24)+COUNTIF(JW$10:KP$10,処理!$L24)+COUNTIF(JW$13:KP$13,処理!$L24)+COUNTIF(JW$16:KP$16,処理!$L24)+COUNTIF(JW$19:KP$19,処理!$L24)+COUNTIF(JW$22:KP$22,処理!$L24)+COUNTIF(JW$25:KP$25,処理!$L24))/処理!$M24,0))","v":""},"",{"$f":"$S$34","v":""},null,"","",{"$f":"$C$34","v":""},null,{"$f":"IF(LEN(KQ34)=0,\"\",(COUNTIF(KQ$6:LJ$7,KQ34)+COUNTIF(KQ$10:LJ$10,KQ34)+COUNTIF(KQ$13:LJ$13,KQ34)+COUNTIF(KQ$16:LJ$16,KQ34)+COUNTIF(KQ$19:LJ$19,KQ34)+COUNTIF(KQ$22:LJ$22,KQ34)+COUNTIF(KQ$25:LJ$25,KQ34))/設定!$D25+IFERROR((COUNTIF(KQ$6:LJ$7,処理!$L6)+COUNTIF(KQ$10:LJ$10,処理!$L6)+COUNTIF(KQ$13:LJ$13,処理!$L6)+COUNTIF(KQ$16:LJ$16,処理!$L6)+COUNTIF(KQ$19:LJ$19,処理!$L6)+COUNTIF(KQ$22:LJ$22,処理!$L6)+COUNTIF(KQ$25:LJ$25,処理!$L6))/処理!$M6,0))","v":""},"",{"$f":"$G$34","v":""},null,{"$f":"IF(LEN(KU34)=0,\"\",(COUNTIF(KQ$6:LJ$7,KU34)+COUNTIF(KQ$10:LJ$10,KU34)+COUNTIF(KQ$13:LJ$13,KU34)+COUNTIF(KQ$16:LJ$16,KU34)+COUNTIF(KQ$19:LJ$19,KU34)+COUNTIF(KQ$22:LJ$22,KU34)+COUNTIF(KQ$25:LJ$25,KU34))/設定!$G25+IFERROR((COUNTIF(KQ$6:LJ$7,処理!$L12)+COUNTIF(KQ$10:LJ$10,処理!$L12)+COUNTIF(KQ$13:LJ$13,処理!$L12)+COUNTIF(KQ$16:LJ$16,処理!$L12)+COUNTIF(KQ$19:LJ$19,処理!$L12)+COUNTIF(KQ$22:LJ$22,処理!$L12)+COUNTIF(KQ$25:LJ$25,処理!$L12))/処理!$M12,0))","v":""},"",{"$f":"$K$34","v":""},null,{"$f":"IF(LEN(KY34)=0,\"\",(COUNTIF(KQ$6:LJ$7,KY34)+COUNTIF(KQ$10:LJ$10,KY34)+COUNTIF(KQ$13:LJ$13,KY34)+COUNTIF(KQ$16:LJ$16,KY34)+COUNTIF(KQ$19:LJ$19,KY34)+COUNTIF(KQ$22:LJ$22,KY34)+COUNTIF(KQ$25:LJ$25,KY34))/設定!$J25+IFERROR((COUNTIF(KQ$6:LJ$7,処理!$L18)+COUNTIF(KQ$10:LJ$10,処理!$L18)+COUNTIF(KQ$13:LJ$13,処理!$L18)+COUNTIF(KQ$16:LJ$16,処理!$L18)+COUNTIF(KQ$19:LJ$19,処理!$L18)+COUNTIF(KQ$22:LJ$22,処理!$L18)+COUNTIF(KQ$25:LJ$25,処理!$L18))/処理!$M18,0))","v":""},"",{"$f":"$O$34","v":""},null,{"$f":"IF(LEN(LC34)=0,\"\",(COUNTIF(KQ$6:LJ$7,LC34)+COUNTIF(KQ$10:LJ$10,LC34)+COUNTIF(KQ$13:LJ$13,LC34)+COUNTIF(KQ$16:LJ$16,LC34)+COUNTIF(KQ$19:LJ$19,LC34)+COUNTIF(KQ$22:LJ$22,LC34)+COUNTIF(KQ$25:LJ$25,LC34))/設定!$M25+IFERROR((COUNTIF(KQ$6:LJ$7,処理!$L24)+COUNTIF(KQ$10:LJ$10,処理!$L24)+COUNTIF(KQ$13:LJ$13,処理!$L24)+COUNTIF(KQ$16:LJ$16,処理!$L24)+COUNTIF(KQ$19:LJ$19,処理!$L24)+COUNTIF(KQ$22:LJ$22,処理!$L24)+COUNTIF(KQ$25:LJ$25,処理!$L24))/処理!$M24,0))","v":""},"",{"$f":"$S$34","v":""},null,"","",{"$f":"$C$34","v":""},null,{"$f":"IF(LEN(LK34)=0,\"\",(COUNTIF(LK$6:MD$7,LK34)+COUNTIF(LK$10:MD$10,LK34)+COUNTIF(LK$13:MD$13,LK34)+COUNTIF(LK$16:MD$16,LK34)+COUNTIF(LK$19:MD$19,LK34)+COUNTIF(LK$22:MD$22,LK34)+COUNTIF(LK$25:MD$25,LK34))/設定!$D25+IFERROR((COUNTIF(LK$6:MD$7,処理!$L6)+COUNTIF(LK$10:MD$10,処理!$L6)+COUNTIF(LK$13:MD$13,処理!$L6)+COUNTIF(LK$16:MD$16,処理!$L6)+COUNTIF(LK$19:MD$19,処理!$L6)+COUNTIF(LK$22:MD$22,処理!$L6)+COUNTIF(LK$25:MD$25,処理!$L6))/処理!$M6,0))","v":""},"",{"$f":"$G$34","v":""},null,{"$f":"IF(LEN(LO34)=0,\"\",(COUNTIF(LK$6:MD$7,LO34)+COUNTIF(LK$10:MD$10,LO34)+COUNTIF(LK$13:MD$13,LO34)+COUNTIF(LK$16:MD$16,LO34)+COUNTIF(LK$19:MD$19,LO34)+COUNTIF(LK$22:MD$22,LO34)+COUNTIF(LK$25:MD$25,LO34))/設定!$G25+IFERROR((COUNTIF(LK$6:MD$7,処理!$L12)+COUNTIF(LK$10:MD$10,処理!$L12)+COUNTIF(LK$13:MD$13,処理!$L12)+COUNTIF(LK$16:MD$16,処理!$L12)+COUNTIF(LK$19:MD$19,処理!$L12)+COUNTIF(LK$22:MD$22,処理!$L12)+COUNTIF(LK$25:MD$25,処理!$L12))/処理!$M12,0))","v":""},"",{"$f":"$K$34","v":""},null,{"$f":"IF(LEN(LS34)=0,\"\",(COUNTIF(LK$6:MD$7,LS34)+COUNTIF(LK$10:MD$10,LS34)+COUNTIF(LK$13:MD$13,LS34)+COUNTIF(LK$16:MD$16,LS34)+COUNTIF(LK$19:MD$19,LS34)+COUNTIF(LK$22:MD$22,LS34)+COUNTIF(LK$25:MD$25,LS34))/設定!$J25+IFERROR((COUNTIF(LK$6:MD$7,処理!$L18)+COUNTIF(LK$10:MD$10,処理!$L18)+COUNTIF(LK$13:MD$13,処理!$L18)+COUNTIF(LK$16:MD$16,処理!$L18)+COUNTIF(LK$19:MD$19,処理!$L18)+COUNTIF(LK$22:MD$22,処理!$L18)+COUNTIF(LK$25:MD$25,処理!$L18))/処理!$M18,0))","v":""},"",{"$f":"$O$34","v":""},null,{"$f":"IF(LEN(LW34)=0,\"\",(COUNTIF(LK$6:MD$7,LW34)+COUNTIF(LK$10:MD$10,LW34)+COUNTIF(LK$13:MD$13,LW34)+COUNTIF(LK$16:MD$16,LW34)+COUNTIF(LK$19:MD$19,LW34)+COUNTIF(LK$22:MD$22,LW34)+COUNTIF(LK$25:MD$25,LW34))/設定!$M25+IFERROR((COUNTIF(LK$6:MD$7,処理!$L24)+COUNTIF(LK$10:MD$10,処理!$L24)+COUNTIF(LK$13:MD$13,処理!$L24)+COUNTIF(LK$16:MD$16,処理!$L24)+COUNTIF(LK$19:MD$19,処理!$L24)+COUNTIF(LK$22:MD$22,処理!$L24)+COUNTIF(LK$25:MD$25,処理!$L24))/処理!$M24,0))","v":""},"",{"$f":"$S$34","v":""},null,"","",{"$f":"$C$34","v":""},null,{"$f":"IF(LEN(ME34)=0,\"\",(COUNTIF(ME$6:MX$7,ME34)+COUNTIF(ME$10:MX$10,ME34)+COUNTIF(ME$13:MX$13,ME34)+COUNTIF(ME$16:MX$16,ME34)+COUNTIF(ME$19:MX$19,ME34)+COUNTIF(ME$22:MX$22,ME34)+COUNTIF(ME$25:MX$25,ME34))/設定!$D25+IFERROR((COUNTIF(ME$6:MX$7,処理!$L6)+COUNTIF(ME$10:MX$10,処理!$L6)+COUNTIF(ME$13:MX$13,処理!$L6)+COUNTIF(ME$16:MX$16,処理!$L6)+COUNTIF(ME$19:MX$19,処理!$L6)+COUNTIF(ME$22:MX$22,処理!$L6)+COUNTIF(ME$25:MX$25,処理!$L6))/処理!$M6,0))","v":""},"",{"$f":"$G$34","v":""},null,{"$f":"IF(LEN(MI34)=0,\"\",(COUNTIF(ME$6:MX$7,MI34)+COUNTIF(ME$10:MX$10,MI34)+COUNTIF(ME$13:MX$13,MI34)+COUNTIF(ME$16:MX$16,MI34)+COUNTIF(ME$19:MX$19,MI34)+COUNTIF(ME$22:MX$22,MI34)+COUNTIF(ME$25:MX$25,MI34))/設定!$G25+IFERROR((COUNTIF(ME$6:MX$7,処理!$L12)+COUNTIF(ME$10:MX$10,処理!$L12)+COUNTIF(ME$13:MX$13,処理!$L12)+COUNTIF(ME$16:MX$16,処理!$L12)+COUNTIF(ME$19:MX$19,処理!$L12)+COUNTIF(ME$22:MX$22,処理!$L12)+COUNTIF(ME$25:MX$25,処理!$L12))/処理!$M12,0))","v":""},"",{"$f":"$K$34","v":""},null,{"$f":"IF(LEN(MM34)=0,\"\",(COUNTIF(ME$6:MX$7,MM34)+COUNTIF(ME$10:MX$10,MM34)+COUNTIF(ME$13:MX$13,MM34)+COUNTIF(ME$16:MX$16,MM34)+COUNTIF(ME$19:MX$19,MM34)+COUNTIF(ME$22:MX$22,MM34)+COUNTIF(ME$25:MX$25,MM34))/設定!$J25+IFERROR((COUNTIF(ME$6:MX$7,処理!$L18)+COUNTIF(ME$10:MX$10,処理!$L18)+COUNTIF(ME$13:MX$13,処理!$L18)+COUNTIF(ME$16:MX$16,処理!$L18)+COUNTIF(ME$19:MX$19,処理!$L18)+COUNTIF(ME$22:MX$22,処理!$L18)+COUNTIF(ME$25:MX$25,処理!$L18))/処理!$M18,0))","v":""},"",{"$f":"$O$34","v":""},null,{"$f":"IF(LEN(MQ34)=0,\"\",(COUNTIF(ME$6:MX$7,MQ34)+COUNTIF(ME$10:MX$10,MQ34)+COUNTIF(ME$13:MX$13,MQ34)+COUNTIF(ME$16:MX$16,MQ34)+COUNTIF(ME$19:MX$19,MQ34)+COUNTIF(ME$22:MX$22,MQ34)+COUNTIF(ME$25:MX$25,MQ34))/設定!$M25+IFERROR((COUNTIF(ME$6:MX$7,処理!$L24)+COUNTIF(ME$10:MX$10,処理!$L24)+COUNTIF(ME$13:MX$13,処理!$L24)+COUNTIF(ME$16:MX$16,処理!$L24)+COUNTIF(ME$19:MX$19,処理!$L24)+COUNTIF(ME$22:MX$22,処理!$L24)+COUNTIF(ME$25:MX$25,処理!$L24))/処理!$M24,0))","v":""},"",{"$f":"$S$34","v":""},null,"",""]
[null,null,{"$f":"IF(COUNTIF(処理!$J$2:$J$25,5)>0,処理!H7,\"\")","v":""},null,{"$f":"IF(LEN(C35)=0,\"\",(COUNTIF(C$6:V$7,C35)+COUNTIF(C$10:V$10,C35)+COUNTIF(C$13:V$13,C35)+COUNTIF(C$16:V$16,C35)+COUNTIF(C$19:V$19,C35)+COUNTIF(C$22:V$22,C35)+COUNTIF(C$25:V$25,C35))/設定!$D26+IFERROR((COUNTIF(C$6:V$7,処理!$L7)+COUNTIF(C$10:V$10,処理!$L7)+COUNTIF(C$13:V$13,処理!$L7)+COUNTIF(C$16:V$16,処理!$L7)+COUNTIF(C$19:V$19,処理!$L7)+COUNTIF(C$22:V$22,処理!$L7)+COUNTIF(C$25:V$25,処理!$L7))/処理!$M7,0))","v":""},"",{"$f":"IF(COUNTIF(処理!$J$2:$J$25,11)>0,処理!H13,\"\")","v":""},null,{"$f":"IF(LEN(G35)=0,\"\",(COUNTIF(C$6:V$7,G35)+COUNTIF(C$10:V$10,G35)+COUNTIF(C$13:V$13,G35)+COUNTIF(C$16:V$16,G35)+COUNTIF(C$19:V$19,G35)+COUNTIF(C$22:V$22,G35)+COUNTIF(C$25:V$25,G35))/設定!$G26+IFERROR((COUNTIF(C$6:V$7,処理!$L13)+COUNTIF(C$10:V$10,処理!$L13)+COUNTIF(C$13:V$13,処理!$L13)+COUNTIF(C$16:V$16,処理!$L13)+COUNTIF(C$19:V$19,処理!$L13)+COUNTIF(C$22:V$22,処理!$L13)+COUNTIF(C$25:V$25,処理!$L13))/処理!$M13,0))","v":""},"",{"$f":"IF(COUNTIF(処理!$J$2:$J$25,17)>0,処理!H19,\"\")","v":""},null,{"$f":"IF(LEN(K35)=0,\"\",(COUNTIF(C$6:V$7,K35)+COUNTIF(C$10:V$10,K35)+COUNTIF(C$13:V$13,K35)+COUNTIF(C$16:V$16,K35)+COUNTIF(C$19:V$19,K35)+COUNTIF(C$22:V$22,K35)+COUNTIF(C$25:V$25,K35))/設定!$J26+IFERROR((COUNTIF(C$6:V$7,処理!$L19)+COUNTIF(C$10:V$10,処理!$L19)+COUNTIF(C$13:V$13,処理!$L19)+COUNTIF(C$16:V$16,処理!$L19)+COUNTIF(C$19:V$19,処理!$L19)+COUNTIF(C$22:V$22,処理!$L19)+COUNTIF(C$25:V$25,処理!$L19))/処理!$M19,0))","v":""},"",{"$f":"IF(COUNTIF(処理!$J$2:$J$25,23)>0,処理!H25,\"\")","v":""},null,{"$f":"IF(LEN(O35)=0,\"\",(COUNTIF(C$6:V$7,O35)+COUNTIF(C$10:V$10,O35)+COUNTIF(C$13:V$13,O35)+COUNTIF(C$16:V$16,O35)+COUNTIF(C$19:V$19,O35)+COUNTIF(C$22:V$22,O35)+COUNTIF(C$25:V$25,O35))/設定!$M26+IFERROR((COUNTIF(C$6:V$7,処理!$L25)+COUNTIF(C$10:V$10,処理!$L25)+COUNTIF(C$13:V$13,処理!$L25)+COUNTIF(C$16:V$16,処理!$L25)+COUNTIF(C$19:V$19,処理!$L25)+COUNTIF(C$22:V$22,処理!$L25)+COUNTIF(C$25:V$25,処理!$L25))/処理!$M25,0))","v":""},"",{"$f":"処理!H31&\"\"","v":""},null,"","",{"$f":"$C$35","v":""},null,{"$f":"IF(LEN(W35)=0,\"\",(COUNTIF(W$6:AP$7,W35)+COUNTIF(W$10:AP$10,W35)+COUNTIF(W$13:AP$13,W35)+COUNTIF(W$16:AP$16,W35)+COUNTIF(W$19:AP$19,W35)+COUNTIF(W$22:AP$22,W35)+COUNTIF(W$25:AP$25,W35))/設定!$D26+IFERROR((COUNTIF(W$6:AP$7,処理!$L7)+COUNTIF(W$10:AP$10,処理!$L7)+COUNTIF(W$13:AP$13,処理!$L7)+COUNTIF(W$16:AP$16,処理!$L7)+COUNTIF(W$19:AP$19,処理!$L7)+COUNTIF(W$22:AP$22,処理!$L7)+COUNTIF(W$25:AP$25,処理!$L7))/処理!$M7,0))","v":""},"",{"$f":"$G$35","v":""},null,{"$f":"IF(LEN(AA35)=0,\"\",(COUNTIF(W$6:AP$7,AA35)+COUNTIF(W$10:AP$10,AA35)+COUNTIF(W$13:AP$13,AA35)+COUNTIF(W$16:AP$16,AA35)+COUNTIF(W$19:AP$19,AA35)+COUNTIF(W$22:AP$22,AA35)+COUNTIF(W$25:AP$25,AA35))/設定!$G26+IFERROR((COUNTIF(W$6:AP$7,処理!$L13)+COUNTIF(W$10:AP$10,処理!$L13)+COUNTIF(W$13:AP$13,処理!$L13)+COUNTIF(W$16:AP$16,処理!$L13)+COUNTIF(W$19:AP$19,処理!$L13)+COUNTIF(W$22:AP$22,処理!$L13)+COUNTIF(W$25:AP$25,処理!$L13))/処理!$M13,0))","v":""},"",{"$f":"$K$35","v":""},null,{"$f":"IF(LEN(AE35)=0,\"\",(COUNTIF(W$6:AP$7,AE35)+COUNTIF(W$10:AP$10,AE35)+COUNTIF(W$13:AP$13,AE35)+COUNTIF(W$16:AP$16,AE35)+COUNTIF(W$19:AP$19,AE35)+COUNTIF(W$22:AP$22,AE35)+COUNTIF(W$25:AP$25,AE35))/設定!$J26+IFERROR((COUNTIF(W$6:AP$7,処理!$L19)+COUNTIF(W$10:AP$10,処理!$L19)+COUNTIF(W$13:AP$13,処理!$L19)+COUNTIF(W$16:AP$16,処理!$L19)+COUNTIF(W$19:AP$19,処理!$L19)+COUNTIF(W$22:AP$22,処理!$L19)+COUNTIF(W$25:AP$25,処理!$L19))/処理!$M19,0))","v":""},"",{"$f":"$O$35","v":""},null,{"$f":"IF(LEN(AI35)=0,\"\",(COUNTIF(W$6:AP$7,AI35)+COUNTIF(W$10:AP$10,AI35)+COUNTIF(W$13:AP$13,AI35)+COUNTIF(W$16:AP$16,AI35)+COUNTIF(W$19:AP$19,AI35)+COUNTIF(W$22:AP$22,AI35)+COUNTIF(W$25:AP$25,AI35))/設定!$M26+IFERROR((COUNTIF(W$6:AP$7,処理!$L25)+COUNTIF(W$10:AP$10,処理!$L25)+COUNTIF(W$13:AP$13,処理!$L25)+COUNTIF(W$16:AP$16,処理!$L25)+COUNTIF(W$19:AP$19,処理!$L25)+COUNTIF(W$22:AP$22,処理!$L25)+COUNTIF(W$25:AP$25,処理!$L25))/処理!$M25,0))","v":""},"",{"$f":"$S$35","v":""},null,"","",{"$f":"$C$35","v":""},null,{"$f":"IF(LEN(AQ35)=0,\"\",(COUNTIF(AQ$6:BJ$7,AQ35)+COUNTIF(AQ$10:BJ$10,AQ35)+COUNTIF(AQ$13:BJ$13,AQ35)+COUNTIF(AQ$16:BJ$16,AQ35)+COUNTIF(AQ$19:BJ$19,AQ35)+COUNTIF(AQ$22:BJ$22,AQ35)+COUNTIF(AQ$25:BJ$25,AQ35))/設定!$D26+IFERROR((COUNTIF(AQ$6:BJ$7,処理!$L7)+COUNTIF(AQ$10:BJ$10,処理!$L7)+COUNTIF(AQ$13:BJ$13,処理!$L7)+COUNTIF(AQ$16:BJ$16,処理!$L7)+COUNTIF(AQ$19:BJ$19,処理!$L7)+COUNTIF(AQ$22:BJ$22,処理!$L7)+COUNTIF(AQ$25:BJ$25,処理!$L7))/処理!$M7,0))","v":""},"",{"$f":"$G$35","v":""},null,{"$f":"IF(LEN(AU35)=0,\"\",(COUNTIF(AQ$6:BJ$7,AU35)+COUNTIF(AQ$10:BJ$10,AU35)+COUNTIF(AQ$13:BJ$13,AU35)+COUNTIF(AQ$16:BJ$16,AU35)+COUNTIF(AQ$19:BJ$19,AU35)+COUNTIF(AQ$22:BJ$22,AU35)+COUNTIF(AQ$25:BJ$25,AU35))/設定!$G26+IFERROR((COUNTIF(AQ$6:BJ$7,処理!$L13)+COUNTIF(AQ$10:BJ$10,処理!$L13)+COUNTIF(AQ$13:BJ$13,処理!$L13)+COUNTIF(AQ$16:BJ$16,処理!$L13)+COUNTIF(AQ$19:BJ$19,処理!$L13)+COUNTIF(AQ$22:BJ$22,処理!$L13)+COUNTIF(AQ$25:BJ$25,処理!$L13))/処理!$M13,0))","v":""},"",{"$f":"$K$35","v":""},null,{"$f":"IF(LEN(AY35)=0,\"\",(COUNTIF(AQ$6:BJ$7,AY35)+COUNTIF(AQ$10:BJ$10,AY35)+COUNTIF(AQ$13:BJ$13,AY35)+COUNTIF(AQ$16:BJ$16,AY35)+COUNTIF(AQ$19:BJ$19,AY35)+COUNTIF(AQ$22:BJ$22,AY35)+COUNTIF(AQ$25:BJ$25,AY35))/設定!$J26+IFERROR((COUNTIF(AQ$6:BJ$7,処理!$L19)+COUNTIF(AQ$10:BJ$10,処理!$L19)+COUNTIF(AQ$13:BJ$13,処理!$L19)+COUNTIF(AQ$16:BJ$16,処理!$L19)+COUNTIF(AQ$19:BJ$19,処理!$L19)+COUNTIF(AQ$22:BJ$22,処理!$L19)+COUNTIF(AQ$25:BJ$25,処理!$L19))/処理!$M19,0))","v":""},"",{"$f":"$O$35","v":""},null,{"$f":"IF(LEN(BC35)=0,\"\",(COUNTIF(AQ$6:BJ$7,BC35)+COUNTIF(AQ$10:BJ$10,BC35)+COUNTIF(AQ$13:BJ$13,BC35)+COUNTIF(AQ$16:BJ$16,BC35)+COUNTIF(AQ$19:BJ$19,BC35)+COUNTIF(AQ$22:BJ$22,BC35)+COUNTIF(AQ$25:BJ$25,BC35))/設定!$M26+IFERROR((COUNTIF(AQ$6:BJ$7,処理!$L25)+COUNTIF(AQ$10:BJ$10,処理!$L25)+COUNTIF(AQ$13:BJ$13,処理!$L25)+COUNTIF(AQ$16:BJ$16,処理!$L25)+COUNTIF(AQ$19:BJ$19,処理!$L25)+COUNTIF(AQ$22:BJ$22,処理!$L25)+COUNTIF(AQ$25:BJ$25,処理!$L25))/処理!$M25,0))","v":""},"",{"$f":"$S$35","v":""},null,"","",{"$f":"$C$35","v":""},null,{"$f":"IF(LEN(BK35)=0,\"\",(COUNTIF(BK$6:CD$7,BK35)+COUNTIF(BK$10:CD$10,BK35)+COUNTIF(BK$13:CD$13,BK35)+COUNTIF(BK$16:CD$16,BK35)+COUNTIF(BK$19:CD$19,BK35)+COUNTIF(BK$22:CD$22,BK35)+COUNTIF(BK$25:CD$25,BK35))/設定!$D26+IFERROR((COUNTIF(BK$6:CD$7,処理!$L7)+COUNTIF(BK$10:CD$10,処理!$L7)+COUNTIF(BK$13:CD$13,処理!$L7)+COUNTIF(BK$16:CD$16,処理!$L7)+COUNTIF(BK$19:CD$19,処理!$L7)+COUNTIF(BK$22:CD$22,処理!$L7)+COUNTIF(BK$25:CD$25,処理!$L7))/処理!$M7,0))","v":""},"",{"$f":"$G$35","v":""},null,{"$f":"IF(LEN(BO35)=0,\"\",(COUNTIF(BK$6:CD$7,BO35)+COUNTIF(BK$10:CD$10,BO35)+COUNTIF(BK$13:CD$13,BO35)+COUNTIF(BK$16:CD$16,BO35)+COUNTIF(BK$19:CD$19,BO35)+COUNTIF(BK$22:CD$22,BO35)+COUNTIF(BK$25:CD$25,BO35))/設定!$G26+IFERROR((COUNTIF(BK$6:CD$7,処理!$L13)+COUNTIF(BK$10:CD$10,処理!$L13)+COUNTIF(BK$13:CD$13,処理!$L13)+COUNTIF(BK$16:CD$16,処理!$L13)+COUNTIF(BK$19:CD$19,処理!$L13)+COUNTIF(BK$22:CD$22,処理!$L13)+COUNTIF(BK$25:CD$25,処理!$L13))/処理!$M13,0))","v":""},"",{"$f":"$K$35","v":""},null,{"$f":"IF(LEN(BS35)=0,\"\",(COUNTIF(BK$6:CD$7,BS35)+COUNTIF(BK$10:CD$10,BS35)+COUNTIF(BK$13:CD$13,BS35)+COUNTIF(BK$16:CD$16,BS35)+COUNTIF(BK$19:CD$19,BS35)+COUNTIF(BK$22:CD$22,BS35)+COUNTIF(BK$25:CD$25,BS35))/設定!$J26+IFERROR((COUNTIF(BK$6:CD$7,処理!$L19)+COUNTIF(BK$10:CD$10,処理!$L19)+COUNTIF(BK$13:CD$13,処理!$L19)+COUNTIF(BK$16:CD$16,処理!$L19)+COUNTIF(BK$19:CD$19,処理!$L19)+COUNTIF(BK$22:CD$22,処理!$L19)+COUNTIF(BK$25:CD$25,処理!$L19))/処理!$M19,0))","v":""},"",{"$f":"$O$35","v":""},null,{"$f":"IF(LEN(BW35)=0,\"\",(COUNTIF(BK$6:CD$7,BW35)+COUNTIF(BK$10:CD$10,BW35)+COUNTIF(BK$13:CD$13,BW35)+COUNTIF(BK$16:CD$16,BW35)+COUNTIF(BK$19:CD$19,BW35)+COUNTIF(BK$22:CD$22,BW35)+COUNTIF(BK$25:CD$25,BW35))/設定!$M26+IFERROR((COUNTIF(BK$6:CD$7,処理!$L25)+COUNTIF(BK$10:CD$10,処理!$L25)+COUNTIF(BK$13:CD$13,処理!$L25)+COUNTIF(BK$16:CD$16,処理!$L25)+COUNTIF(BK$19:CD$19,処理!$L25)+COUNTIF(BK$22:CD$22,処理!$L25)+COUNTIF(BK$25:CD$25,処理!$L25))/処理!$M25,0))","v":""},"",{"$f":"$S$35","v":""},null,"","",{"$f":"$C$35","v":""},null,{"$f":"IF(LEN(CE35)=0,\"\",(COUNTIF(CE$6:CX$7,CE35)+COUNTIF(CE$10:CX$10,CE35)+COUNTIF(CE$13:CX$13,CE35)+COUNTIF(CE$16:CX$16,CE35)+COUNTIF(CE$19:CX$19,CE35)+COUNTIF(CE$22:CX$22,CE35)+COUNTIF(CE$25:CX$25,CE35))/設定!$D26+IFERROR((COUNTIF(CE$6:CX$7,処理!$L7)+COUNTIF(CE$10:CX$10,処理!$L7)+COUNTIF(CE$13:CX$13,処理!$L7)+COUNTIF(CE$16:CX$16,処理!$L7)+COUNTIF(CE$19:CX$19,処理!$L7)+COUNTIF(CE$22:CX$22,処理!$L7)+COUNTIF(CE$25:CX$25,処理!$L7))/処理!$M7,0))","v":""},"",{"$f":"$G$35","v":""},null,{"$f":"IF(LEN(CI35)=0,\"\",(COUNTIF(CE$6:CX$7,CI35)+COUNTIF(CE$10:CX$10,CI35)+COUNTIF(CE$13:CX$13,CI35)+COUNTIF(CE$16:CX$16,CI35)+COUNTIF(CE$19:CX$19,CI35)+COUNTIF(CE$22:CX$22,CI35)+COUNTIF(CE$25:CX$25,CI35))/設定!$G26+IFERROR((COUNTIF(CE$6:CX$7,処理!$L13)+COUNTIF(CE$10:CX$10,処理!$L13)+COUNTIF(CE$13:CX$13,処理!$L13)+COUNTIF(CE$16:CX$16,処理!$L13)+COUNTIF(CE$19:CX$19,処理!$L13)+COUNTIF(CE$22:CX$22,処理!$L13)+COUNTIF(CE$25:CX$25,処理!$L13))/処理!$M13,0))","v":""},"",{"$f":"$K$35","v":""},null,{"$f":"IF(LEN(CM35)=0,\"\",(COUNTIF(CE$6:CX$7,CM35)+COUNTIF(CE$10:CX$10,CM35)+COUNTIF(CE$13:CX$13,CM35)+COUNTIF(CE$16:CX$16,CM35)+COUNTIF(CE$19:CX$19,CM35)+COUNTIF(CE$22:CX$22,CM35)+COUNTIF(CE$25:CX$25,CM35))/設定!$J26+IFERROR((COUNTIF(CE$6:CX$7,処理!$L19)+COUNTIF(CE$10:CX$10,処理!$L19)+COUNTIF(CE$13:CX$13,処理!$L19)+COUNTIF(CE$16:CX$16,処理!$L19)+COUNTIF(CE$19:CX$19,処理!$L19)+COUNTIF(CE$22:CX$22,処理!$L19)+COUNTIF(CE$25:CX$25,処理!$L19))/処理!$M19,0))","v":""},"",{"$f":"$O$35","v":""},null,{"$f":"IF(LEN(CQ35)=0,\"\",(COUNTIF(CE$6:CX$7,CQ35)+COUNTIF(CE$10:CX$10,CQ35)+COUNTIF(CE$13:CX$13,CQ35)+COUNTIF(CE$16:CX$16,CQ35)+COUNTIF(CE$19:CX$19,CQ35)+COUNTIF(CE$22:CX$22,CQ35)+COUNTIF(CE$25:CX$25,CQ35))/設定!$M26+IFERROR((COUNTIF(CE$6:CX$7,処理!$L25)+COUNTIF(CE$10:CX$10,処理!$L25)+COUNTIF(CE$13:CX$13,処理!$L25)+COUNTIF(CE$16:CX$16,処理!$L25)+COUNTIF(CE$19:CX$19,処理!$L25)+COUNTIF(CE$22:CX$22,処理!$L25)+COUNTIF(CE$25:CX$25,処理!$L25))/処理!$M25,0))","v":""},"",{"$f":"$S$35","v":""},null,"","",{"$f":"$C$35","v":""},null,{"$f":"IF(LEN(CY35)=0,\"\",(COUNTIF(CY$6:DR$7,CY35)+COUNTIF(CY$10:DR$10,CY35)+COUNTIF(CY$13:DR$13,CY35)+COUNTIF(CY$16:DR$16,CY35)+COUNTIF(CY$19:DR$19,CY35)+COUNTIF(CY$22:DR$22,CY35)+COUNTIF(CY$25:DR$25,CY35))/設定!$D26+IFERROR((COUNTIF(CY$6:DR$7,処理!$L7)+COUNTIF(CY$10:DR$10,処理!$L7)+COUNTIF(CY$13:DR$13,処理!$L7)+COUNTIF(CY$16:DR$16,処理!$L7)+COUNTIF(CY$19:DR$19,処理!$L7)+COUNTIF(CY$22:DR$22,処理!$L7)+COUNTIF(CY$25:DR$25,処理!$L7))/処理!$M7,0))","v":""},"",{"$f":"$G$35","v":""},null,{"$f":"IF(LEN(DC35)=0,\"\",(COUNTIF(CY$6:DR$7,DC35)+COUNTIF(CY$10:DR$10,DC35)+COUNTIF(CY$13:DR$13,DC35)+COUNTIF(CY$16:DR$16,DC35)+COUNTIF(CY$19:DR$19,DC35)+COUNTIF(CY$22:DR$22,DC35)+COUNTIF(CY$25:DR$25,DC35))/設定!$G26+IFERROR((COUNTIF(CY$6:DR$7,処理!$L13)+COUNTIF(CY$10:DR$10,処理!$L13)+COUNTIF(CY$13:DR$13,処理!$L13)+COUNTIF(CY$16:DR$16,処理!$L13)+COUNTIF(CY$19:DR$19,処理!$L13)+COUNTIF(CY$22:DR$22,処理!$L13)+COUNTIF(CY$25:DR$25,処理!$L13))/処理!$M13,0))","v":""},"",{"$f":"$K$35","v":""},null,{"$f":"IF(LEN(DG35)=0,\"\",(COUNTIF(CY$6:DR$7,DG35)+COUNTIF(CY$10:DR$10,DG35)+COUNTIF(CY$13:DR$13,DG35)+COUNTIF(CY$16:DR$16,DG35)+COUNTIF(CY$19:DR$19,DG35)+COUNTIF(CY$22:DR$22,DG35)+COUNTIF(CY$25:DR$25,DG35))/設定!$J26+IFERROR((COUNTIF(CY$6:DR$7,処理!$L19)+COUNTIF(CY$10:DR$10,処理!$L19)+COUNTIF(CY$13:DR$13,処理!$L19)+COUNTIF(CY$16:DR$16,処理!$L19)+COUNTIF(CY$19:DR$19,処理!$L19)+COUNTIF(CY$22:DR$22,処理!$L19)+COUNTIF(CY$25:DR$25,処理!$L19))/処理!$M19,0))","v":""},"",{"$f":"$O$35","v":""},null,{"$f":"IF(LEN(DK35)=0,\"\",(COUNTIF(CY$6:DR$7,DK35)+COUNTIF(CY$10:DR$10,DK35)+COUNTIF(CY$13:DR$13,DK35)+COUNTIF(CY$16:DR$16,DK35)+COUNTIF(CY$19:DR$19,DK35)+COUNTIF(CY$22:DR$22,DK35)+COUNTIF(CY$25:DR$25,DK35))/設定!$M26+IFERROR((COUNTIF(CY$6:DR$7,処理!$L25)+COUNTIF(CY$10:DR$10,処理!$L25)+COUNTIF(CY$13:DR$13,処理!$L25)+COUNTIF(CY$16:DR$16,処理!$L25)+COUNTIF(CY$19:DR$19,処理!$L25)+COUNTIF(CY$22:DR$22,処理!$L25)+COUNTIF(CY$25:DR$25,処理!$L25))/処理!$M25,0))","v":""},"",{"$f":"$S$35","v":""},null,"","",{"$f":"$C$35","v":""},null,{"$f":"IF(LEN(DS35)=0,\"\",(COUNTIF(DS$6:EL$7,DS35)+COUNTIF(DS$10:EL$10,DS35)+COUNTIF(DS$13:EL$13,DS35)+COUNTIF(DS$16:EL$16,DS35)+COUNTIF(DS$19:EL$19,DS35)+COUNTIF(DS$22:EL$22,DS35)+COUNTIF(DS$25:EL$25,DS35))/設定!$D26+IFERROR((COUNTIF(DS$6:EL$7,処理!$L7)+COUNTIF(DS$10:EL$10,処理!$L7)+COUNTIF(DS$13:EL$13,処理!$L7)+COUNTIF(DS$16:EL$16,処理!$L7)+COUNTIF(DS$19:EL$19,処理!$L7)+COUNTIF(DS$22:EL$22,処理!$L7)+COUNTIF(DS$25:EL$25,処理!$L7))/処理!$M7,0))","v":""},"",{"$f":"$G$35","v":""},null,{"$f":"IF(LEN(DW35)=0,\"\",(COUNTIF(DS$6:EL$7,DW35)+COUNTIF(DS$10:EL$10,DW35)+COUNTIF(DS$13:EL$13,DW35)+COUNTIF(DS$16:EL$16,DW35)+COUNTIF(DS$19:EL$19,DW35)+COUNTIF(DS$22:EL$22,DW35)+COUNTIF(DS$25:EL$25,DW35))/設定!$G26+IFERROR((COUNTIF(DS$6:EL$7,処理!$L13)+COUNTIF(DS$10:EL$10,処理!$L13)+COUNTIF(DS$13:EL$13,処理!$L13)+COUNTIF(DS$16:EL$16,処理!$L13)+COUNTIF(DS$19:EL$19,処理!$L13)+COUNTIF(DS$22:EL$22,処理!$L13)+COUNTIF(DS$25:EL$25,処理!$L13))/処理!$M13,0))","v":""},"",{"$f":"$K$35","v":""},null,{"$f":"IF(LEN(EA35)=0,\"\",(COUNTIF(DS$6:EL$7,EA35)+COUNTIF(DS$10:EL$10,EA35)+COUNTIF(DS$13:EL$13,EA35)+COUNTIF(DS$16:EL$16,EA35)+COUNTIF(DS$19:EL$19,EA35)+COUNTIF(DS$22:EL$22,EA35)+COUNTIF(DS$25:EL$25,EA35))/設定!$J26+IFERROR((COUNTIF(DS$6:EL$7,処理!$L19)+COUNTIF(DS$10:EL$10,処理!$L19)+COUNTIF(DS$13:EL$13,処理!$L19)+COUNTIF(DS$16:EL$16,処理!$L19)+COUNTIF(DS$19:EL$19,処理!$L19)+COUNTIF(DS$22:EL$22,処理!$L19)+COUNTIF(DS$25:EL$25,処理!$L19))/処理!$M19,0))","v":""},"",{"$f":"$O$35","v":""},null,{"$f":"IF(LEN(EE35)=0,\"\",(COUNTIF(DS$6:EL$7,EE35)+COUNTIF(DS$10:EL$10,EE35)+COUNTIF(DS$13:EL$13,EE35)+COUNTIF(DS$16:EL$16,EE35)+COUNTIF(DS$19:EL$19,EE35)+COUNTIF(DS$22:EL$22,EE35)+COUNTIF(DS$25:EL$25,EE35))/設定!$M26+IFERROR((COUNTIF(DS$6:EL$7,処理!$L25)+COUNTIF(DS$10:EL$10,処理!$L25)+COUNTIF(DS$13:EL$13,処理!$L25)+COUNTIF(DS$16:EL$16,処理!$L25)+COUNTIF(DS$19:EL$19,処理!$L25)+COUNTIF(DS$22:EL$22,処理!$L25)+COUNTIF(DS$25:EL$25,処理!$L25))/処理!$M25,0))","v":""},"",{"$f":"$S$35","v":""},null,"","",{"$f":"$C$35","v":""},null,{"$f":"IF(LEN(EM35)=0,\"\",(COUNTIF(EM$6:FF$7,EM35)+COUNTIF(EM$10:FF$10,EM35)+COUNTIF(EM$13:FF$13,EM35)+COUNTIF(EM$16:FF$16,EM35)+COUNTIF(EM$19:FF$19,EM35)+COUNTIF(EM$22:FF$22,EM35)+COUNTIF(EM$25:FF$25,EM35))/設定!$D26+IFERROR((COUNTIF(EM$6:FF$7,処理!$L7)+COUNTIF(EM$10:FF$10,処理!$L7)+COUNTIF(EM$13:FF$13,処理!$L7)+COUNTIF(EM$16:FF$16,処理!$L7)+COUNTIF(EM$19:FF$19,処理!$L7)+COUNTIF(EM$22:FF$22,処理!$L7)+COUNTIF(EM$25:FF$25,処理!$L7))/処理!$M7,0))","v":""},"",{"$f":"$G$35","v":""},null,{"$f":"IF(LEN(EQ35)=0,\"\",(COUNTIF(EM$6:FF$7,EQ35)+COUNTIF(EM$10:FF$10,EQ35)+COUNTIF(EM$13:FF$13,EQ35)+COUNTIF(EM$16:FF$16,EQ35)+COUNTIF(EM$19:FF$19,EQ35)+COUNTIF(EM$22:FF$22,EQ35)+COUNTIF(EM$25:FF$25,EQ35))/設定!$G26+IFERROR((COUNTIF(EM$6:FF$7,処理!$L13)+COUNTIF(EM$10:FF$10,処理!$L13)+COUNTIF(EM$13:FF$13,処理!$L13)+COUNTIF(EM$16:FF$16,処理!$L13)+COUNTIF(EM$19:FF$19,処理!$L13)+COUNTIF(EM$22:FF$22,処理!$L13)+COUNTIF(EM$25:FF$25,処理!$L13))/処理!$M13,0))","v":""},"",{"$f":"$K$35","v":""},null,{"$f":"IF(LEN(EU35)=0,\"\",(COUNTIF(EM$6:FF$7,EU35)+COUNTIF(EM$10:FF$10,EU35)+COUNTIF(EM$13:FF$13,EU35)+COUNTIF(EM$16:FF$16,EU35)+COUNTIF(EM$19:FF$19,EU35)+COUNTIF(EM$22:FF$22,EU35)+COUNTIF(EM$25:FF$25,EU35))/設定!$J26+IFERROR((COUNTIF(EM$6:FF$7,処理!$L19)+COUNTIF(EM$10:FF$10,処理!$L19)+COUNTIF(EM$13:FF$13,処理!$L19)+COUNTIF(EM$16:FF$16,処理!$L19)+COUNTIF(EM$19:FF$19,処理!$L19)+COUNTIF(EM$22:FF$22,処理!$L19)+COUNTIF(EM$25:FF$25,処理!$L19))/処理!$M19,0))","v":""},"",{"$f":"$O$35","v":""},null,{"$f":"IF(LEN(EY35)=0,\"\",(COUNTIF(EM$6:FF$7,EY35)+COUNTIF(EM$10:FF$10,EY35)+COUNTIF(EM$13:FF$13,EY35)+COUNTIF(EM$16:FF$16,EY35)+COUNTIF(EM$19:FF$19,EY35)+COUNTIF(EM$22:FF$22,EY35)+COUNTIF(EM$25:FF$25,EY35))/設定!$M26+IFERROR((COUNTIF(EM$6:FF$7,処理!$L25)+COUNTIF(EM$10:FF$10,処理!$L25)+COUNTIF(EM$13:FF$13,処理!$L25)+COUNTIF(EM$16:FF$16,処理!$L25)+COUNTIF(EM$19:FF$19,処理!$L25)+COUNTIF(EM$22:FF$22,処理!$L25)+COUNTIF(EM$25:FF$25,処理!$L25))/処理!$M25,0))","v":""},"",{"$f":"$S$35","v":""},null,"","",{"$f":"$C$35","v":""},null,{"$f":"IF(LEN(FG35)=0,\"\",(COUNTIF(FG$6:FZ$7,FG35)+COUNTIF(FG$10:FZ$10,FG35)+COUNTIF(FG$13:FZ$13,FG35)+COUNTIF(FG$16:FZ$16,FG35)+COUNTIF(FG$19:FZ$19,FG35)+COUNTIF(FG$22:FZ$22,FG35)+COUNTIF(FG$25:FZ$25,FG35))/設定!$D26+IFERROR((COUNTIF(FG$6:FZ$7,処理!$L7)+COUNTIF(FG$10:FZ$10,処理!$L7)+COUNTIF(FG$13:FZ$13,処理!$L7)+COUNTIF(FG$16:FZ$16,処理!$L7)+COUNTIF(FG$19:FZ$19,処理!$L7)+COUNTIF(FG$22:FZ$22,処理!$L7)+COUNTIF(FG$25:FZ$25,処理!$L7))/処理!$M7,0))","v":""},"",{"$f":"$G$35","v":""},null,{"$f":"IF(LEN(FK35)=0,\"\",(COUNTIF(FG$6:FZ$7,FK35)+COUNTIF(FG$10:FZ$10,FK35)+COUNTIF(FG$13:FZ$13,FK35)+COUNTIF(FG$16:FZ$16,FK35)+COUNTIF(FG$19:FZ$19,FK35)+COUNTIF(FG$22:FZ$22,FK35)+COUNTIF(FG$25:FZ$25,FK35))/設定!$G26+IFERROR((COUNTIF(FG$6:FZ$7,処理!$L13)+COUNTIF(FG$10:FZ$10,処理!$L13)+COUNTIF(FG$13:FZ$13,処理!$L13)+COUNTIF(FG$16:FZ$16,処理!$L13)+COUNTIF(FG$19:FZ$19,処理!$L13)+COUNTIF(FG$22:FZ$22,処理!$L13)+COUNTIF(FG$25:FZ$25,処理!$L13))/処理!$M13,0))","v":""},"",{"$f":"$K$35","v":""},null,{"$f":"IF(LEN(FO35)=0,\"\",(COUNTIF(FG$6:FZ$7,FO35)+COUNTIF(FG$10:FZ$10,FO35)+COUNTIF(FG$13:FZ$13,FO35)+COUNTIF(FG$16:FZ$16,FO35)+COUNTIF(FG$19:FZ$19,FO35)+COUNTIF(FG$22:FZ$22,FO35)+COUNTIF(FG$25:FZ$25,FO35))/設定!$J26+IFERROR((COUNTIF(FG$6:FZ$7,処理!$L19)+COUNTIF(FG$10:FZ$10,処理!$L19)+COUNTIF(FG$13:FZ$13,処理!$L19)+COUNTIF(FG$16:FZ$16,処理!$L19)+COUNTIF(FG$19:FZ$19,処理!$L19)+COUNTIF(FG$22:FZ$22,処理!$L19)+COUNTIF(FG$25:FZ$25,処理!$L19))/処理!$M19,0))","v":""},"",{"$f":"$O$35","v":""},null,{"$f":"IF(LEN(FS35)=0,\"\",(COUNTIF(FG$6:FZ$7,FS35)+COUNTIF(FG$10:FZ$10,FS35)+COUNTIF(FG$13:FZ$13,FS35)+COUNTIF(FG$16:FZ$16,FS35)+COUNTIF(FG$19:FZ$19,FS35)+COUNTIF(FG$22:FZ$22,FS35)+COUNTIF(FG$25:FZ$25,FS35))/設定!$M26+IFERROR((COUNTIF(FG$6:FZ$7,処理!$L25)+COUNTIF(FG$10:FZ$10,処理!$L25)+COUNTIF(FG$13:FZ$13,処理!$L25)+COUNTIF(FG$16:FZ$16,処理!$L25)+COUNTIF(FG$19:FZ$19,処理!$L25)+COUNTIF(FG$22:FZ$22,処理!$L25)+COUNTIF(FG$25:FZ$25,処理!$L25))/処理!$M25,0))","v":""},"",{"$f":"$S$35","v":""},null,"","",{"$f":"$C$35","v":""},null,{"$f":"IF(LEN(GA35)=0,\"\",(COUNTIF(GA$6:GT$7,GA35)+COUNTIF(GA$10:GT$10,GA35)+COUNTIF(GA$13:GT$13,GA35)+COUNTIF(GA$16:GT$16,GA35)+COUNTIF(GA$19:GT$19,GA35)+COUNTIF(GA$22:GT$22,GA35)+COUNTIF(GA$25:GT$25,GA35))/設定!$D26+IFERROR((COUNTIF(GA$6:GT$7,処理!$L7)+COUNTIF(GA$10:GT$10,処理!$L7)+COUNTIF(GA$13:GT$13,処理!$L7)+COUNTIF(GA$16:GT$16,処理!$L7)+COUNTIF(GA$19:GT$19,処理!$L7)+COUNTIF(GA$22:GT$22,処理!$L7)+COUNTIF(GA$25:GT$25,処理!$L7))/処理!$M7,0))","v":""},"",{"$f":"$G$35","v":""},null,{"$f":"IF(LEN(GE35)=0,\"\",(COUNTIF(GA$6:GT$7,GE35)+COUNTIF(GA$10:GT$10,GE35)+COUNTIF(GA$13:GT$13,GE35)+COUNTIF(GA$16:GT$16,GE35)+COUNTIF(GA$19:GT$19,GE35)+COUNTIF(GA$22:GT$22,GE35)+COUNTIF(GA$25:GT$25,GE35))/設定!$G26+IFERROR((COUNTIF(GA$6:GT$7,処理!$L13)+COUNTIF(GA$10:GT$10,処理!$L13)+COUNTIF(GA$13:GT$13,処理!$L13)+COUNTIF(GA$16:GT$16,処理!$L13)+COUNTIF(GA$19:GT$19,処理!$L13)+COUNTIF(GA$22:GT$22,処理!$L13)+COUNTIF(GA$25:GT$25,処理!$L13))/処理!$M13,0))","v":""},"",{"$f":"$K$35","v":""},null,{"$f":"IF(LEN(GI35)=0,\"\",(COUNTIF(GA$6:GT$7,GI35)+COUNTIF(GA$10:GT$10,GI35)+COUNTIF(GA$13:GT$13,GI35)+COUNTIF(GA$16:GT$16,GI35)+COUNTIF(GA$19:GT$19,GI35)+COUNTIF(GA$22:GT$22,GI35)+COUNTIF(GA$25:GT$25,GI35))/設定!$J26+IFERROR((COUNTIF(GA$6:GT$7,処理!$L19)+COUNTIF(GA$10:GT$10,処理!$L19)+COUNTIF(GA$13:GT$13,処理!$L19)+COUNTIF(GA$16:GT$16,処理!$L19)+COUNTIF(GA$19:GT$19,処理!$L19)+COUNTIF(GA$22:GT$22,処理!$L19)+COUNTIF(GA$25:GT$25,処理!$L19))/処理!$M19,0))","v":""},"",{"$f":"$O$35","v":""},null,{"$f":"IF(LEN(GM35)=0,\"\",(COUNTIF(GA$6:GT$7,GM35)+COUNTIF(GA$10:GT$10,GM35)+COUNTIF(GA$13:GT$13,GM35)+COUNTIF(GA$16:GT$16,GM35)+COUNTIF(GA$19:GT$19,GM35)+COUNTIF(GA$22:GT$22,GM35)+COUNTIF(GA$25:GT$25,GM35))/設定!$M26+IFERROR((COUNTIF(GA$6:GT$7,処理!$L25)+COUNTIF(GA$10:GT$10,処理!$L25)+COUNTIF(GA$13:GT$13,処理!$L25)+COUNTIF(GA$16:GT$16,処理!$L25)+COUNTIF(GA$19:GT$19,処理!$L25)+COUNTIF(GA$22:GT$22,処理!$L25)+COUNTIF(GA$25:GT$25,処理!$L25))/処理!$M25,0))","v":""},"",{"$f":"$S$35","v":""},null,"","",{"$f":"$C$35","v":""},null,{"$f":"IF(LEN(GU35)=0,\"\",(COUNTIF(GU$6:HN$7,GU35)+COUNTIF(GU$10:HN$10,GU35)+COUNTIF(GU$13:HN$13,GU35)+COUNTIF(GU$16:HN$16,GU35)+COUNTIF(GU$19:HN$19,GU35)+COUNTIF(GU$22:HN$22,GU35)+COUNTIF(GU$25:HN$25,GU35))/設定!$D26+IFERROR((COUNTIF(GU$6:HN$7,処理!$L7)+COUNTIF(GU$10:HN$10,処理!$L7)+COUNTIF(GU$13:HN$13,処理!$L7)+COUNTIF(GU$16:HN$16,処理!$L7)+COUNTIF(GU$19:HN$19,処理!$L7)+COUNTIF(GU$22:HN$22,処理!$L7)+COUNTIF(GU$25:HN$25,処理!$L7))/処理!$M7,0))","v":""},"",{"$f":"$G$35","v":""},null,{"$f":"IF(LEN(GY35)=0,\"\",(COUNTIF(GU$6:HN$7,GY35)+COUNTIF(GU$10:HN$10,GY35)+COUNTIF(GU$13:HN$13,GY35)+COUNTIF(GU$16:HN$16,GY35)+COUNTIF(GU$19:HN$19,GY35)+COUNTIF(GU$22:HN$22,GY35)+COUNTIF(GU$25:HN$25,GY35))/設定!$G26+IFERROR((COUNTIF(GU$6:HN$7,処理!$L13)+COUNTIF(GU$10:HN$10,処理!$L13)+COUNTIF(GU$13:HN$13,処理!$L13)+COUNTIF(GU$16:HN$16,処理!$L13)+COUNTIF(GU$19:HN$19,処理!$L13)+COUNTIF(GU$22:HN$22,処理!$L13)+COUNTIF(GU$25:HN$25,処理!$L13))/処理!$M13,0))","v":""},"",{"$f":"$K$35","v":""},null,{"$f":"IF(LEN(HC35)=0,\"\",(COUNTIF(GU$6:HN$7,HC35)+COUNTIF(GU$10:HN$10,HC35)+COUNTIF(GU$13:HN$13,HC35)+COUNTIF(GU$16:HN$16,HC35)+COUNTIF(GU$19:HN$19,HC35)+COUNTIF(GU$22:HN$22,HC35)+COUNTIF(GU$25:HN$25,HC35))/設定!$J26+IFERROR((COUNTIF(GU$6:HN$7,処理!$L19)+COUNTIF(GU$10:HN$10,処理!$L19)+COUNTIF(GU$13:HN$13,処理!$L19)+COUNTIF(GU$16:HN$16,処理!$L19)+COUNTIF(GU$19:HN$19,処理!$L19)+COUNTIF(GU$22:HN$22,処理!$L19)+COUNTIF(GU$25:HN$25,処理!$L19))/処理!$M19,0))","v":""},"",{"$f":"$O$35","v":""},null,{"$f":"IF(LEN(HG35)=0,\"\",(COUNTIF(GU$6:HN$7,HG35)+COUNTIF(GU$10:HN$10,HG35)+COUNTIF(GU$13:HN$13,HG35)+COUNTIF(GU$16:HN$16,HG35)+COUNTIF(GU$19:HN$19,HG35)+COUNTIF(GU$22:HN$22,HG35)+COUNTIF(GU$25:HN$25,HG35))/設定!$M26+IFERROR((COUNTIF(GU$6:HN$7,処理!$L25)+COUNTIF(GU$10:HN$10,処理!$L25)+COUNTIF(GU$13:HN$13,処理!$L25)+COUNTIF(GU$16:HN$16,処理!$L25)+COUNTIF(GU$19:HN$19,処理!$L25)+COUNTIF(GU$22:HN$22,処理!$L25)+COUNTIF(GU$25:HN$25,処理!$L25))/処理!$M25,0))","v":""},"",{"$f":"$S$35","v":""},null,"","",{"$f":"$C$35","v":""},null,{"$f":"IF(LEN(HO35)=0,\"\",(COUNTIF(HO$6:IH$7,HO35)+COUNTIF(HO$10:IH$10,HO35)+COUNTIF(HO$13:IH$13,HO35)+COUNTIF(HO$16:IH$16,HO35)+COUNTIF(HO$19:IH$19,HO35)+COUNTIF(HO$22:IH$22,HO35)+COUNTIF(HO$25:IH$25,HO35))/設定!$D26+IFERROR((COUNTIF(HO$6:IH$7,処理!$L7)+COUNTIF(HO$10:IH$10,処理!$L7)+COUNTIF(HO$13:IH$13,処理!$L7)+COUNTIF(HO$16:IH$16,処理!$L7)+COUNTIF(HO$19:IH$19,処理!$L7)+COUNTIF(HO$22:IH$22,処理!$L7)+COUNTIF(HO$25:IH$25,処理!$L7))/処理!$M7,0))","v":""},"",{"$f":"$G$35","v":""},null,{"$f":"IF(LEN(HS35)=0,\"\",(COUNTIF(HO$6:IH$7,HS35)+COUNTIF(HO$10:IH$10,HS35)+COUNTIF(HO$13:IH$13,HS35)+COUNTIF(HO$16:IH$16,HS35)+COUNTIF(HO$19:IH$19,HS35)+COUNTIF(HO$22:IH$22,HS35)+COUNTIF(HO$25:IH$25,HS35))/設定!$G26+IFERROR((COUNTIF(HO$6:IH$7,処理!$L13)+COUNTIF(HO$10:IH$10,処理!$L13)+COUNTIF(HO$13:IH$13,処理!$L13)+COUNTIF(HO$16:IH$16,処理!$L13)+COUNTIF(HO$19:IH$19,処理!$L13)+COUNTIF(HO$22:IH$22,処理!$L13)+COUNTIF(HO$25:IH$25,処理!$L13))/処理!$M13,0))","v":""},"",{"$f":"$K$35","v":""},null,{"$f":"IF(LEN(HW35)=0,\"\",(COUNTIF(HO$6:IH$7,HW35)+COUNTIF(HO$10:IH$10,HW35)+COUNTIF(HO$13:IH$13,HW35)+COUNTIF(HO$16:IH$16,HW35)+COUNTIF(HO$19:IH$19,HW35)+COUNTIF(HO$22:IH$22,HW35)+COUNTIF(HO$25:IH$25,HW35))/設定!$J26+IFERROR((COUNTIF(HO$6:IH$7,処理!$L19)+COUNTIF(HO$10:IH$10,処理!$L19)+COUNTIF(HO$13:IH$13,処理!$L19)+COUNTIF(HO$16:IH$16,処理!$L19)+COUNTIF(HO$19:IH$19,処理!$L19)+COUNTIF(HO$22:IH$22,処理!$L19)+COUNTIF(HO$25:IH$25,処理!$L19))/処理!$M19,0))","v":""},"",{"$f":"$O$35","v":""},null,{"$f":"IF(LEN(IA35)=0,\"\",(COUNTIF(HO$6:IH$7,IA35)+COUNTIF(HO$10:IH$10,IA35)+COUNTIF(HO$13:IH$13,IA35)+COUNTIF(HO$16:IH$16,IA35)+COUNTIF(HO$19:IH$19,IA35)+COUNTIF(HO$22:IH$22,IA35)+COUNTIF(HO$25:IH$25,IA35))/設定!$M26+IFERROR((COUNTIF(HO$6:IH$7,処理!$L25)+COUNTIF(HO$10:IH$10,処理!$L25)+COUNTIF(HO$13:IH$13,処理!$L25)+COUNTIF(HO$16:IH$16,処理!$L25)+COUNTIF(HO$19:IH$19,処理!$L25)+COUNTIF(HO$22:IH$22,処理!$L25)+COUNTIF(HO$25:IH$25,処理!$L25))/処理!$M25,0))","v":""},"",{"$f":"$S$35","v":""},null,"","",{"$f":"$C$35","v":""},null,{"$f":"IF(LEN(II35)=0,\"\",(COUNTIF(II$6:JB$7,II35)+COUNTIF(II$10:JB$10,II35)+COUNTIF(II$13:JB$13,II35)+COUNTIF(II$16:JB$16,II35)+COUNTIF(II$19:JB$19,II35)+COUNTIF(II$22:JB$22,II35)+COUNTIF(II$25:JB$25,II35))/設定!$D26+IFERROR((COUNTIF(II$6:JB$7,処理!$L7)+COUNTIF(II$10:JB$10,処理!$L7)+COUNTIF(II$13:JB$13,処理!$L7)+COUNTIF(II$16:JB$16,処理!$L7)+COUNTIF(II$19:JB$19,処理!$L7)+COUNTIF(II$22:JB$22,処理!$L7)+COUNTIF(II$25:JB$25,処理!$L7))/処理!$M7,0))","v":""},"",{"$f":"$G$35","v":""},null,{"$f":"IF(LEN(IM35)=0,\"\",(COUNTIF(II$6:JB$7,IM35)+COUNTIF(II$10:JB$10,IM35)+COUNTIF(II$13:JB$13,IM35)+COUNTIF(II$16:JB$16,IM35)+COUNTIF(II$19:JB$19,IM35)+COUNTIF(II$22:JB$22,IM35)+COUNTIF(II$25:JB$25,IM35))/設定!$G26+IFERROR((COUNTIF(II$6:JB$7,処理!$L13)+COUNTIF(II$10:JB$10,処理!$L13)+COUNTIF(II$13:JB$13,処理!$L13)+COUNTIF(II$16:JB$16,処理!$L13)+COUNTIF(II$19:JB$19,処理!$L13)+COUNTIF(II$22:JB$22,処理!$L13)+COUNTIF(II$25:JB$25,処理!$L13))/処理!$M13,0))","v":""},"",{"$f":"$K$35","v":""},null,{"$f":"IF(LEN(IQ35)=0,\"\",(COUNTIF(II$6:JB$7,IQ35)+COUNTIF(II$10:JB$10,IQ35)+COUNTIF(II$13:JB$13,IQ35)+COUNTIF(II$16:JB$16,IQ35)+COUNTIF(II$19:JB$19,IQ35)+COUNTIF(II$22:JB$22,IQ35)+COUNTIF(II$25:JB$25,IQ35))/設定!$J26+IFERROR((COUNTIF(II$6:JB$7,処理!$L19)+COUNTIF(II$10:JB$10,処理!$L19)+COUNTIF(II$13:JB$13,処理!$L19)+COUNTIF(II$16:JB$16,処理!$L19)+COUNTIF(II$19:JB$19,処理!$L19)+COUNTIF(II$22:JB$22,処理!$L19)+COUNTIF(II$25:JB$25,処理!$L19))/処理!$M19,0))","v":""},"",{"$f":"$O$35","v":""},null,{"$f":"IF(LEN(IU35)=0,\"\",(COUNTIF(II$6:JB$7,IU35)+COUNTIF(II$10:JB$10,IU35)+COUNTIF(II$13:JB$13,IU35)+COUNTIF(II$16:JB$16,IU35)+COUNTIF(II$19:JB$19,IU35)+COUNTIF(II$22:JB$22,IU35)+COUNTIF(II$25:JB$25,IU35))/設定!$M26+IFERROR((COUNTIF(II$6:JB$7,処理!$L25)+COUNTIF(II$10:JB$10,処理!$L25)+COUNTIF(II$13:JB$13,処理!$L25)+COUNTIF(II$16:JB$16,処理!$L25)+COUNTIF(II$19:JB$19,処理!$L25)+COUNTIF(II$22:JB$22,処理!$L25)+COUNTIF(II$25:JB$25,処理!$L25))/処理!$M25,0))","v":""},"",{"$f":"$S$35","v":""},null,"","",{"$f":"$C$35","v":""},null,{"$f":"IF(LEN(JC35)=0,\"\",(COUNTIF(JC$6:JV$7,JC35)+COUNTIF(JC$10:JV$10,JC35)+COUNTIF(JC$13:JV$13,JC35)+COUNTIF(JC$16:JV$16,JC35)+COUNTIF(JC$19:JV$19,JC35)+COUNTIF(JC$22:JV$22,JC35)+COUNTIF(JC$25:JV$25,JC35))/設定!$D26+IFERROR((COUNTIF(JC$6:JV$7,処理!$L7)+COUNTIF(JC$10:JV$10,処理!$L7)+COUNTIF(JC$13:JV$13,処理!$L7)+COUNTIF(JC$16:JV$16,処理!$L7)+COUNTIF(JC$19:JV$19,処理!$L7)+COUNTIF(JC$22:JV$22,処理!$L7)+COUNTIF(JC$25:JV$25,処理!$L7))/処理!$M7,0))","v":""},"",{"$f":"$G$35","v":""},null,{"$f":"IF(LEN(JG35)=0,\"\",(COUNTIF(JC$6:JV$7,JG35)+COUNTIF(JC$10:JV$10,JG35)+COUNTIF(JC$13:JV$13,JG35)+COUNTIF(JC$16:JV$16,JG35)+COUNTIF(JC$19:JV$19,JG35)+COUNTIF(JC$22:JV$22,JG35)+COUNTIF(JC$25:JV$25,JG35))/設定!$G26+IFERROR((COUNTIF(JC$6:JV$7,処理!$L13)+COUNTIF(JC$10:JV$10,処理!$L13)+COUNTIF(JC$13:JV$13,処理!$L13)+COUNTIF(JC$16:JV$16,処理!$L13)+COUNTIF(JC$19:JV$19,処理!$L13)+COUNTIF(JC$22:JV$22,処理!$L13)+COUNTIF(JC$25:JV$25,処理!$L13))/処理!$M13,0))","v":""},"",{"$f":"$K$35","v":""},null,{"$f":"IF(LEN(JK35)=0,\"\",(COUNTIF(JC$6:JV$7,JK35)+COUNTIF(JC$10:JV$10,JK35)+COUNTIF(JC$13:JV$13,JK35)+COUNTIF(JC$16:JV$16,JK35)+COUNTIF(JC$19:JV$19,JK35)+COUNTIF(JC$22:JV$22,JK35)+COUNTIF(JC$25:JV$25,JK35))/設定!$J26+IFERROR((COUNTIF(JC$6:JV$7,処理!$L19)+COUNTIF(JC$10:JV$10,処理!$L19)+COUNTIF(JC$13:JV$13,処理!$L19)+COUNTIF(JC$16:JV$16,処理!$L19)+COUNTIF(JC$19:JV$19,処理!$L19)+COUNTIF(JC$22:JV$22,処理!$L19)+COUNTIF(JC$25:JV$25,処理!$L19))/処理!$M19,0))","v":""},"",{"$f":"$O$35","v":""},null,{"$f":"IF(LEN(JO35)=0,\"\",(COUNTIF(JC$6:JV$7,JO35)+COUNTIF(JC$10:JV$10,JO35)+COUNTIF(JC$13:JV$13,JO35)+COUNTIF(JC$16:JV$16,JO35)+COUNTIF(JC$19:JV$19,JO35)+COUNTIF(JC$22:JV$22,JO35)+COUNTIF(JC$25:JV$25,JO35))/設定!$M26+IFERROR((COUNTIF(JC$6:JV$7,処理!$L25)+COUNTIF(JC$10:JV$10,処理!$L25)+COUNTIF(JC$13:JV$13,処理!$L25)+COUNTIF(JC$16:JV$16,処理!$L25)+COUNTIF(JC$19:JV$19,処理!$L25)+COUNTIF(JC$22:JV$22,処理!$L25)+COUNTIF(JC$25:JV$25,処理!$L25))/処理!$M25,0))","v":""},"",{"$f":"$S$35","v":""},null,"","",{"$f":"$C$35","v":""},null,{"$f":"IF(LEN(JW35)=0,\"\",(COUNTIF(JW$6:KP$7,JW35)+COUNTIF(JW$10:KP$10,JW35)+COUNTIF(JW$13:KP$13,JW35)+COUNTIF(JW$16:KP$16,JW35)+COUNTIF(JW$19:KP$19,JW35)+COUNTIF(JW$22:KP$22,JW35)+COUNTIF(JW$25:KP$25,JW35))/設定!$D26+IFERROR((COUNTIF(JW$6:KP$7,処理!$L7)+COUNTIF(JW$10:KP$10,処理!$L7)+COUNTIF(JW$13:KP$13,処理!$L7)+COUNTIF(JW$16:KP$16,処理!$L7)+COUNTIF(JW$19:KP$19,処理!$L7)+COUNTIF(JW$22:KP$22,処理!$L7)+COUNTIF(JW$25:KP$25,処理!$L7))/処理!$M7,0))","v":""},"",{"$f":"$G$35","v":""},null,{"$f":"IF(LEN(KA35)=0,\"\",(COUNTIF(JW$6:KP$7,KA35)+COUNTIF(JW$10:KP$10,KA35)+COUNTIF(JW$13:KP$13,KA35)+COUNTIF(JW$16:KP$16,KA35)+COUNTIF(JW$19:KP$19,KA35)+COUNTIF(JW$22:KP$22,KA35)+COUNTIF(JW$25:KP$25,KA35))/設定!$G26+IFERROR((COUNTIF(JW$6:KP$7,処理!$L13)+COUNTIF(JW$10:KP$10,処理!$L13)+COUNTIF(JW$13:KP$13,処理!$L13)+COUNTIF(JW$16:KP$16,処理!$L13)+COUNTIF(JW$19:KP$19,処理!$L13)+COUNTIF(JW$22:KP$22,処理!$L13)+COUNTIF(JW$25:KP$25,処理!$L13))/処理!$M13,0))","v":""},"",{"$f":"$K$35","v":""},null,{"$f":"IF(LEN(KE35)=0,\"\",(COUNTIF(JW$6:KP$7,KE35)+COUNTIF(JW$10:KP$10,KE35)+COUNTIF(JW$13:KP$13,KE35)+COUNTIF(JW$16:KP$16,KE35)+COUNTIF(JW$19:KP$19,KE35)+COUNTIF(JW$22:KP$22,KE35)+COUNTIF(JW$25:KP$25,KE35))/設定!$J26+IFERROR((COUNTIF(JW$6:KP$7,処理!$L19)+COUNTIF(JW$10:KP$10,処理!$L19)+COUNTIF(JW$13:KP$13,処理!$L19)+COUNTIF(JW$16:KP$16,処理!$L19)+COUNTIF(JW$19:KP$19,処理!$L19)+COUNTIF(JW$22:KP$22,処理!$L19)+COUNTIF(JW$25:KP$25,処理!$L19))/処理!$M19,0))","v":""},"",{"$f":"$O$35","v":""},null,{"$f":"IF(LEN(KI35)=0,\"\",(COUNTIF(JW$6:KP$7,KI35)+COUNTIF(JW$10:KP$10,KI35)+COUNTIF(JW$13:KP$13,KI35)+COUNTIF(JW$16:KP$16,KI35)+COUNTIF(JW$19:KP$19,KI35)+COUNTIF(JW$22:KP$22,KI35)+COUNTIF(JW$25:KP$25,KI35))/設定!$M26+IFERROR((COUNTIF(JW$6:KP$7,処理!$L25)+COUNTIF(JW$10:KP$10,処理!$L25)+COUNTIF(JW$13:KP$13,処理!$L25)+COUNTIF(JW$16:KP$16,処理!$L25)+COUNTIF(JW$19:KP$19,処理!$L25)+COUNTIF(JW$22:KP$22,処理!$L25)+COUNTIF(JW$25:KP$25,処理!$L25))/処理!$M25,0))","v":""},"",{"$f":"$S$35","v":""},null,"","",{"$f":"$C$35","v":""},null,{"$f":"IF(LEN(KQ35)=0,\"\",(COUNTIF(KQ$6:LJ$7,KQ35)+COUNTIF(KQ$10:LJ$10,KQ35)+COUNTIF(KQ$13:LJ$13,KQ35)+COUNTIF(KQ$16:LJ$16,KQ35)+COUNTIF(KQ$19:LJ$19,KQ35)+COUNTIF(KQ$22:LJ$22,KQ35)+COUNTIF(KQ$25:LJ$25,KQ35))/設定!$D26+IFERROR((COUNTIF(KQ$6:LJ$7,処理!$L7)+COUNTIF(KQ$10:LJ$10,処理!$L7)+COUNTIF(KQ$13:LJ$13,処理!$L7)+COUNTIF(KQ$16:LJ$16,処理!$L7)+COUNTIF(KQ$19:LJ$19,処理!$L7)+COUNTIF(KQ$22:LJ$22,処理!$L7)+COUNTIF(KQ$25:LJ$25,処理!$L7))/処理!$M7,0))","v":""},"",{"$f":"$G$35","v":""},null,{"$f":"IF(LEN(KU35)=0,\"\",(COUNTIF(KQ$6:LJ$7,KU35)+COUNTIF(KQ$10:LJ$10,KU35)+COUNTIF(KQ$13:LJ$13,KU35)+COUNTIF(KQ$16:LJ$16,KU35)+COUNTIF(KQ$19:LJ$19,KU35)+COUNTIF(KQ$22:LJ$22,KU35)+COUNTIF(KQ$25:LJ$25,KU35))/設定!$G26+IFERROR((COUNTIF(KQ$6:LJ$7,処理!$L13)+COUNTIF(KQ$10:LJ$10,処理!$L13)+COUNTIF(KQ$13:LJ$13,処理!$L13)+COUNTIF(KQ$16:LJ$16,処理!$L13)+COUNTIF(KQ$19:LJ$19,処理!$L13)+COUNTIF(KQ$22:LJ$22,処理!$L13)+COUNTIF(KQ$25:LJ$25,処理!$L13))/処理!$M13,0))","v":""},"",{"$f":"$K$35","v":""},null,{"$f":"IF(LEN(KY35)=0,\"\",(COUNTIF(KQ$6:LJ$7,KY35)+COUNTIF(KQ$10:LJ$10,KY35)+COUNTIF(KQ$13:LJ$13,KY35)+COUNTIF(KQ$16:LJ$16,KY35)+COUNTIF(KQ$19:LJ$19,KY35)+COUNTIF(KQ$22:LJ$22,KY35)+COUNTIF(KQ$25:LJ$25,KY35))/設定!$J26+IFERROR((COUNTIF(KQ$6:LJ$7,処理!$L19)+COUNTIF(KQ$10:LJ$10,処理!$L19)+COUNTIF(KQ$13:LJ$13,処理!$L19)+COUNTIF(KQ$16:LJ$16,処理!$L19)+COUNTIF(KQ$19:LJ$19,処理!$L19)+COUNTIF(KQ$22:LJ$22,処理!$L19)+COUNTIF(KQ$25:LJ$25,処理!$L19))/処理!$M19,0))","v":""},"",{"$f":"$O$35","v":""},null,{"$f":"IF(LEN(LC35)=0,\"\",(COUNTIF(KQ$6:LJ$7,LC35)+COUNTIF(KQ$10:LJ$10,LC35)+COUNTIF(KQ$13:LJ$13,LC35)+COUNTIF(KQ$16:LJ$16,LC35)+COUNTIF(KQ$19:LJ$19,LC35)+COUNTIF(KQ$22:LJ$22,LC35)+COUNTIF(KQ$25:LJ$25,LC35))/設定!$M26+IFERROR((COUNTIF(KQ$6:LJ$7,処理!$L25)+COUNTIF(KQ$10:LJ$10,処理!$L25)+COUNTIF(KQ$13:LJ$13,処理!$L25)+COUNTIF(KQ$16:LJ$16,処理!$L25)+COUNTIF(KQ$19:LJ$19,処理!$L25)+COUNTIF(KQ$22:LJ$22,処理!$L25)+COUNTIF(KQ$25:LJ$25,処理!$L25))/処理!$M25,0))","v":""},"",{"$f":"$S$35","v":""},null,"","",{"$f":"$C$35","v":""},null,{"$f":"IF(LEN(LK35)=0,\"\",(COUNTIF(LK$6:MD$7,LK35)+COUNTIF(LK$10:MD$10,LK35)+COUNTIF(LK$13:MD$13,LK35)+COUNTIF(LK$16:MD$16,LK35)+COUNTIF(LK$19:MD$19,LK35)+COUNTIF(LK$22:MD$22,LK35)+COUNTIF(LK$25:MD$25,LK35))/設定!$D26+IFERROR((COUNTIF(LK$6:MD$7,処理!$L7)+COUNTIF(LK$10:MD$10,処理!$L7)+COUNTIF(LK$13:MD$13,処理!$L7)+COUNTIF(LK$16:MD$16,処理!$L7)+COUNTIF(LK$19:MD$19,処理!$L7)+COUNTIF(LK$22:MD$22,処理!$L7)+COUNTIF(LK$25:MD$25,処理!$L7))/処理!$M7,0))","v":""},"",{"$f":"$G$35","v":""},null,{"$f":"IF(LEN(LO35)=0,\"\",(COUNTIF(LK$6:MD$7,LO35)+COUNTIF(LK$10:MD$10,LO35)+COUNTIF(LK$13:MD$13,LO35)+COUNTIF(LK$16:MD$16,LO35)+COUNTIF(LK$19:MD$19,LO35)+COUNTIF(LK$22:MD$22,LO35)+COUNTIF(LK$25:MD$25,LO35))/設定!$G26+IFERROR((COUNTIF(LK$6:MD$7,処理!$L13)+COUNTIF(LK$10:MD$10,処理!$L13)+COUNTIF(LK$13:MD$13,処理!$L13)+COUNTIF(LK$16:MD$16,処理!$L13)+COUNTIF(LK$19:MD$19,処理!$L13)+COUNTIF(LK$22:MD$22,処理!$L13)+COUNTIF(LK$25:MD$25,処理!$L13))/処理!$M13,0))","v":""},"",{"$f":"$K$35","v":""},null,{"$f":"IF(LEN(LS35)=0,\"\",(COUNTIF(LK$6:MD$7,LS35)+COUNTIF(LK$10:MD$10,LS35)+COUNTIF(LK$13:MD$13,LS35)+COUNTIF(LK$16:MD$16,LS35)+COUNTIF(LK$19:MD$19,LS35)+COUNTIF(LK$22:MD$22,LS35)+COUNTIF(LK$25:MD$25,LS35))/設定!$J26+IFERROR((COUNTIF(LK$6:MD$7,処理!$L19)+COUNTIF(LK$10:MD$10,処理!$L19)+COUNTIF(LK$13:MD$13,処理!$L19)+COUNTIF(LK$16:MD$16,処理!$L19)+COUNTIF(LK$19:MD$19,処理!$L19)+COUNTIF(LK$22:MD$22,処理!$L19)+COUNTIF(LK$25:MD$25,処理!$L19))/処理!$M19,0))","v":""},"",{"$f":"$O$35","v":""},null,{"$f":"IF(LEN(LW35)=0,\"\",(COUNTIF(LK$6:MD$7,LW35)+COUNTIF(LK$10:MD$10,LW35)+COUNTIF(LK$13:MD$13,LW35)+COUNTIF(LK$16:MD$16,LW35)+COUNTIF(LK$19:MD$19,LW35)+COUNTIF(LK$22:MD$22,LW35)+COUNTIF(LK$25:MD$25,LW35))/設定!$M26+IFERROR((COUNTIF(LK$6:MD$7,処理!$L25)+COUNTIF(LK$10:MD$10,処理!$L25)+COUNTIF(LK$13:MD$13,処理!$L25)+COUNTIF(LK$16:MD$16,処理!$L25)+COUNTIF(LK$19:MD$19,処理!$L25)+COUNTIF(LK$22:MD$22,処理!$L25)+COUNTIF(LK$25:MD$25,処理!$L25))/処理!$M25,0))","v":""},"",{"$f":"$S$35","v":""},null,"","",{"$f":"$C$35","v":""},null,{"$f":"IF(LEN(ME35)=0,\"\",(COUNTIF(ME$6:MX$7,ME35)+COUNTIF(ME$10:MX$10,ME35)+COUNTIF(ME$13:MX$13,ME35)+COUNTIF(ME$16:MX$16,ME35)+COUNTIF(ME$19:MX$19,ME35)+COUNTIF(ME$22:MX$22,ME35)+COUNTIF(ME$25:MX$25,ME35))/設定!$D26+IFERROR((COUNTIF(ME$6:MX$7,処理!$L7)+COUNTIF(ME$10:MX$10,処理!$L7)+COUNTIF(ME$13:MX$13,処理!$L7)+COUNTIF(ME$16:MX$16,処理!$L7)+COUNTIF(ME$19:MX$19,処理!$L7)+COUNTIF(ME$22:MX$22,処理!$L7)+COUNTIF(ME$25:MX$25,処理!$L7))/処理!$M7,0))","v":""},"",{"$f":"$G$35","v":""},null,{"$f":"IF(LEN(MI35)=0,\"\",(COUNTIF(ME$6:MX$7,MI35)+COUNTIF(ME$10:MX$10,MI35)+COUNTIF(ME$13:MX$13,MI35)+COUNTIF(ME$16:MX$16,MI35)+COUNTIF(ME$19:MX$19,MI35)+COUNTIF(ME$22:MX$22,MI35)+COUNTIF(ME$25:MX$25,MI35))/設定!$G26+IFERROR((COUNTIF(ME$6:MX$7,処理!$L13)+COUNTIF(ME$10:MX$10,処理!$L13)+COUNTIF(ME$13:MX$13,処理!$L13)+COUNTIF(ME$16:MX$16,処理!$L13)+COUNTIF(ME$19:MX$19,処理!$L13)+COUNTIF(ME$22:MX$22,処理!$L13)+COUNTIF(ME$25:MX$25,処理!$L13))/処理!$M13,0))","v":""},"",{"$f":"$K$35","v":""},null,{"$f":"IF(LEN(MM35)=0,\"\",(COUNTIF(ME$6:MX$7,MM35)+COUNTIF(ME$10:MX$10,MM35)+COUNTIF(ME$13:MX$13,MM35)+COUNTIF(ME$16:MX$16,MM35)+COUNTIF(ME$19:MX$19,MM35)+COUNTIF(ME$22:MX$22,MM35)+COUNTIF(ME$25:MX$25,MM35))/設定!$J26+IFERROR((COUNTIF(ME$6:MX$7,処理!$L19)+COUNTIF(ME$10:MX$10,処理!$L19)+COUNTIF(ME$13:MX$13,処理!$L19)+COUNTIF(ME$16:MX$16,処理!$L19)+COUNTIF(ME$19:MX$19,処理!$L19)+COUNTIF(ME$22:MX$22,処理!$L19)+COUNTIF(ME$25:MX$25,処理!$L19))/処理!$M19,0))","v":""},"",{"$f":"$O$35","v":""},null,{"$f":"IF(LEN(MQ35)=0,\"\",(COUNTIF(ME$6:MX$7,MQ35)+COUNTIF(ME$10:MX$10,MQ35)+COUNTIF(ME$13:MX$13,MQ35)+COUNTIF(ME$16:MX$16,MQ35)+COUNTIF(ME$19:MX$19,MQ35)+COUNTIF(ME$22:MX$22,MQ35)+COUNTIF(ME$25:MX$25,MQ35))/設定!$M26+IFERROR((COUNTIF(ME$6:MX$7,処理!$L25)+COUNTIF(ME$10:MX$10,処理!$L25)+COUNTIF(ME$13:MX$13,処理!$L25)+COUNTIF(ME$16:MX$16,処理!$L25)+COUNTIF(ME$19:MX$19,処理!$L25)+COUNTIF(ME$22:MX$22,処理!$L25)+COUNTIF(ME$25:MX$25,処理!$L25))/処理!$M25,0))","v":""},"",{"$f":"$S$35","v":""},null,"",""]

{"sheet":"３学期","index":4,"n_rows":35,"n_cols":262,"rows_kept":35,"cut":false,"hidden":true,"merged":[[34,254,34,255],[34,258,34,259],[34,230,34,231],[34,234,34,235],[34,238,34,239],[34,242,34,243],[34,246,34,247],[34,250,34,251],[34,206,34,207],[34,210,34,211],[34,214,34,215],[34,218,34,219],[34,222,34,223],[34,226,34,227],[34,182,34,183],[34,186,34,187],[34,190,34,191],[34,194,34,195],[34,198,34,199],[34,202,34,203],[34,158,34,159],[34,162,34,163],[34,166,34,167],[34,170,34,171],[34,174,34,175],[34,178,34,179],[34,134,34,135],[34,138,34,139],[34,142,34,143],[34,146,34,147],[34,150,34,151],[34,154,34,155],[34,110,34,111],[34,114,34,115],[34,118,34,119],[34,122,34,123],[34,126,34,127],[34,130,34,131],[34,86,34,87],[34,90,34,91],[34,94,34,95],[34,98,34,99],[34,102,34,103],[34,106,34,107],[34,62,34,63],[34,66,34,67],[34,70,34,71],[34,74,34,75],[34,78,34,79],[34,82,34,83],[34,38,34,39],[34,42,34,43],[34,46,34,47],[34,50,34,51],[34,54,34,55],[34,58,34,59],[34,2,34,3],[34,6,34,7],[34,10,34,11],[34,14,34,15],[34,18,34,19],[34,22,34,23],[34,26,34,27],[34,30,34,31],[34,34,34,35],[33,242,33,243],[33,246,33,247],[33,250,33,251],[33,254,33,255],[33,258,33,259],[33,218,33,219],[33,222,33,223],[33,226,33,227],[33,230,33,231],[33,234,33,235],[33,238,33,239],[33,194,33,195],[33,198,33,199],[33,202,33,203],[33,206,33,207],[33,210,33,211],[33,214,33,215],[33,170,33,171],[33,174,33,175],[33,178,33,179],[33,182,33,183],[33,186,33,187],[33,190,33,191],[33,146,33,147],[33,150,33,151],[33,154,33,155],[33,158,33,159],[33,162,33,163],[33,166,33,167],[33,122,33,123],[33,126,33,127],[33,130,33,131],[33,134,33,135],[33,138,33,139],[33,142,33,143],[33,98,33,99],[33,102,33,103],[33,106,33,107],[33,110,33,111],[33,114,33,115],[33,118,33,119],[33,74,33,75],[33,78,33,79],[33,82,33,83],[33,86,33,87],[33,90,33,91],[33,94,33,95],[33,50,33,51],[33,54,33,55],[33,58,33,59],[33,62,33,63],[33,66,33,67],[33,70,33,71],[33,26,33,27],[33,30,33,31],[33,34,33,35],[33,38,33,39],[33,42,33,43],[33,46,33,47],[33,2,33,3],[33,6,33,7],[33,10,33,11],[33,14,33,15],[33,18,33,19],[33,22,33,23],[32,254,32,255],[32,258,32,259],[32,230,32,231],[32,234,32,235],[32,238,32,239],[32,242,32,243],[32,246,32,247],[32,250,32,251],[32,206,32,207],[32,210,32,211],[32,214,32,215],[32,218,32,219],[32,222,32,223],[32,226,32,227],[32,182,32,183],[32,186,32,187],[32,190,32,191],[32,194,32,195],[32,198,32,199],[32,202,32,203],[32,158,32,159],[32,162,32,163],[32,166,32,167],[32,170,32,171],[32,174,32,175],[32,178,32,179],[32,134,32,135],[32,138,32,139],[32,142,32,143],[32,146,32,147],[32,150,32,151],[32,154,32,155],[32,110,32,111],[32,114,32,115],[32,118,32,119],[32,122,32,123],[32,126,32,127],[32,130,32,131],[32,86,32,87],[32,90,32,91],[32,94,32,95],[32,98,32,99],[32,102,32,103],[32,106,32,107],[32,62,32,63],[32,66,32,67],[32,70,32,71],[32,74,32,75],[32,78,32,79],[32,82,32,83],[32,38,32,39],[32,42,32,43],[32,46,32,47],[32,50,32,51],[32,54,32,55],[32,58,32,59],[32,2,32,3],[32,6,32,7],[32,10,32,11],[32,14,32,15],[32,18,32,19],[32,22,32,23],[32,26,32,27],[32,30,32,31],[32,34,32,35],[31,242,31,243],[31,246,31,247],[31,250,31,251],[31,254,31,255],[31,258,31,259],[31,218,31,219],[31,222,31,223],[31,226,31,227],[31,230,31,231],[31,234,31,235],[31,238,31,239],[31,194,31,195],[31,198,31,199],[31,202,31,203],[31,206,31,207],[31,210,31,211],[31,214,31,215],[31,170,31,171],[31,174,31,175],[31,178,31,179],[31,182,31,183],[31,186,31,187],[31,190,31,191],[31,146,31,147],[31,150,31,151],[31,154,31,155],[31,158,31,159],[31,162,31,163],[31,166,31,167],[31,122,31,123],[31,126,31,127],[31,130,31,131],[31,134,31,135],[31,138,31,139],[31,142,31,143],[31,2,31,3],[31,6,31,7],[31,10,31,11],[31,14,31,15],[31,18,31,19],[31,22,31,23],[30,254,30,255],[30,258,30,259],[30,230,30,231],[30,234,30,235],[30,238,30,239],[30,242,30,243],[30,246,30,247],[30,250,30,251],[30,206,30,207],[30,210,30,211],[30,214,30,215],[30,218,30,219],[30,222,30,223],[30,226,30,227],[30,182,30,183],[30,186,30,187],[30,190,30,191],[30,194,30,195],[30,198,30,199],[30,202,30,203],[31,98,31,99],[31,102,31,103],[31,106,31,107],[31,110,31,111],[31,114,31,115],[31,118,31,119],[30,174,30,175],[30,178,30,179],[30,134,30,135],[30,138,30,139],[30,142,30,143],[30,146,30,147],[30,150,30,151],[30,154,30,155],[30,110,30,111],[30,114,30,115],[30,118,30,119],[30,122,30,123],[30,126,30,127],[30,130,30,131],[31,26,31,27],[31,30,31,31],[31,34,31,35],[31,38,31,39],[31,42,31,43],[31,46,31,47],[31,74,31,75],[31,78,31,79],[31,82,31,83],[31,86,31,87],[31,90,31,91],[31,94,31,95],[31,50,31,51],[31,54,31,55],[31,58,31,59],[31,62,31,63],[31,66,31,67],[31,70,31,71],[30,106,30,107],[30,62,30,63],[30,66,30,67],[30,70,30,71],[30,74,30,75],[30,78,30,79],[30,82,30,83],[30,38,30,39],[30,42,30,43],[30,46,30,47],[30,50,30,51],[30,54,30,55],[30,58,30,59],[30,158,30,159],[30,162,30,163],[30,166,30,167],[30,170,30,171],[30,22,30,23],[30,26,30,27],[30,30,30,31],[30,34,30,35],[29,242,29,243],[29,246,29,247],[29,250,29,251],[29,254,29,255],[29,258,29,259],[29,218,29,219],[29,222,29,223],[29,226,29,227],[29,230,29,231],[29,234,29,235],[29,238,29,239],[29,194,29,195],[29,198,29,199],[29,202,29,203],[29,206,29,207],[29,210,29,211],[29,214,29,215],[29,170,29,171],[29,174,29,175],[29,178,29,179],[29,182,29,183],[29,186,29,187],[29,190,29,191],[30,86,30,87],[30,90,30,91],[30,94,30,95],[30,98,30,99],[30,102,30,103],[29,146,29,147],[29,150,29,151],[29,154,29,155],[29,158,29,159],[29,162,29,163],[29,166,29,167],[29,122,29,123],[29,126,29,127],[29,130,29,131],[29,134,29,135],[29,138,29,139],[29,142,29,143],[29,98,29,99],[29,102,29,103],[29,106,29,107],[29,110,29,111],[29,114,29,115],[29,118,29,119],[29,78,29,79],[29,82,29,83],[29,86,29,87],[29,90,29,91],[29,94,29,95],[29,50,29,51],[29,54,29,55],[29,58,29,59],[29,62,29,63],[29,66,29,67],[29,70,29,71],[29,26,29,27],[29,30,29,31],[29,34,29,35],[29,38,29,39],[29,42,29,43],[29,46,29,47],[28,246,28,247],[28,250,28,251],[28,254,28,255],[28,258,28,259],[28,222,28,223],[28,226,28,227],[28,230,28,231],[28,234,28,235],[28,238,28,239],[28,242,28,243],[28,198,28,199],[28,202,28,203],[28,206,28,207],[28,210,28,211],[28,214,28,215],[28,218,28,219],[28,174,28,175],[28,178,28,179],[28,182,28,183],[28,186,28,187],[28,190,28,191],[28,194,28,195],[28,166,28,167],[28,170,28,171],[28,126,28,127],[28,130,28,131],[28,134,28,135],[28,138,28,139],[28,142,28,143],[28,146,28,147],[28,102,28,103],[28,106,28,107],[28,110,28,111],[28,114,28,115],[28,118,28,119],[28,122,28,123],[28,78,28,79],[28,82,28,83],[28,86,28,87],[28,90,28,91],[28,94,28,95],[28,98,28,99],[28,150,28,151],[28,154,28,155],[28,158,28,159],[28,162,28,163],[28,54,28,55],[28,58,28,59],[28,62,28,63],[28,66,28,67],[28,70,28,71],[28,74,28,75],[28,30,28,31],[28,34,28,35],[28,38,28,39],[28,42,28,43],[28,46,28,47],[28,50,28,51],[28,1,34,1],[28,2,28,3],[28,6,28,7],[28,10,28,11],[28,14,28,15],[28,18,28,19],[28,22,28,23],[28,26,28,27],[29,2,29,3],[29,6,29,7],[29,10,29,11],[29,14,29,15],[29,18,29,19],[29,22,29,23],[29,74,29,75],[30,2,30,3],[30,6,30,7],[30,10,30,11],[30,14,30,15],[30,18,30,19],[27,238,27,241],[27,242,27,245],[27,246,27,249],[27,250,27,253],[27,254,27,257],[27,258,27,261],[27,214,27,217],[27,218,27,221],[27,222,27,225],[27,226,27,229],[27,230,27,233],[27,234,27,237],[27,190,27,193],[27,194,27,197],[27,198,27,201],[27,202,27,205],[27,206,27,209],[27,210,27,213],[27,166,27,169],[27,170,27,173],[27,174,27,177],[27,178,27,181],[27,182,27,185],[27,186,27,189],[27,142,27,145],[27,146,27,149],[27,150,27,153],[27,154,27,157],[27,158,27,161],[27,162,27,165],[27,118,27,121],[27,122,27,125],[27,126,27,129],[27,130,27,133],[27,134,27,137],[27,138,27,141],[27,94,27,97],[27,98,27,101],[27,102,27,105],[27,106,27,109],[27,110,27,113],[27,114,27,117],[27,70,27,73],[27,74,27,77],[27,78,27,81],[27,82,27,85],[27,86,27,89],[27,90,27,93],[27,46,27,49],[27,50,27,53],[27,54,27,57],[27,58,27,61],[27,62,27,65],[27,66,27,69],[27,22,27,25],[27,26,27,29],[27,30,27,33],[27,34,27,37],[27,38,27,41],[27,42,27,45],[27,2,27,5],[27,6,27,9],[27,10,27,13],[27,14,27,17],[27,18,27,21],[26,250,26,253],[26,254,26,257],[26,258,26,261],[26,226,26,229],[26,230,26,233],[26,234,26,237],[26,238,26,241],[26,242,26,245],[26,246,26,249],[26,202,26,205],[26,206,26,209],[26,210,26,213],[26,214,26,217],[26,218,26,221],[26,222,26,225],[26,178,26,181],[26,182,26,185],[26,186,26,189],[26,190,26,193],[26,194,26,197],[26,198,26,201],[26,154,26,157],[26,158,26,161],[26,162,26,165],[26,166,26,169],[26,170,26,173],[26,174,26,177],[26,130,26,133],[26,134,26,137],[26,138,26,141],[26,142,26,145],[26,146,26,149],[26,150,26,153],[26,106,26,109],[26,110,26,113],[26,114,26,117],[26,118,26,121],[26,122,26,125],[26,126,26,129],[26,82,26,85],[26,86,26,89],[26,90,26,93],[26,94,26,97],[26,98,26,101],[26,102,26,105],[26,58,26,61],[26,62,26,65],[26,66,26,69],[26,70,26,73],[26,74,26,77],[26,78,26,81],[26,34,26,37],[26,38,26,41],[26,42,26,45],[26,46,26,49],[26,50,26,53],[26,54,26,57],[26,2,26,5],[26,6,26,9],[26,10,26,13],[26,14,26,17],[26,18,26,21],[26,22,26,25],[26,26,26,29],[26,30,26,33],[25,238,25,241],[25,242,25,245],[25,246,25,249],[25,250,25,253],[25,254,25,257],[25,258,25,261],[25,214,25,217],[25,218,25,221],[25,222,25,225],[25,226,25,229],[25,230,25,233],[25,234,25,237],[25,190,25,193],[25,194,25,197],[25,198,25,201],[25,202,25,205],[25,206,25,209],[25,210,25,213],[25,166,25,169],[25,170,25,173],[25,174,25,177],[25,178,25,181],[25,182,25,185],[25,186,25,189],[25,142,25,145],[25,146,25,149],[25,150,25,153],[25,154,25,157],[25,158,25,161],[25,162,25,165],[25,118,25,121],[25,122,25,125],[25,126,25,129],[25,130,25,133],[25,134,25,137],[25,138,25,141],[25,94,25,97],[25,98,25,101],[25,102,25,105],[25,106,25,109],[25,110,25,113],[25,114,25,117],[25,70,25,73],[25,74,25,77],[25,78,25,81],[25,82,25,85],[25,86,25,89],[25,90,25,93],[25,46,25,49],[25,50,25,53],[25,54,25,57],[25,58,25,61],[25,62,25,65],[25,66,25,69],[25,22,25,25],[25,26,25,29],[25,30,25,33],[25,34,25,37],[25,38,25,41],[25,42,25,45],[25,1,27,1],[25,2,25,5],[25,6,25,9],[25,10,25,13],[25,14,25,17],[25,18,25,21],[24,254,24,256],[24,258,24,260],[24,230,24,232],[24,234,24,236],[24,238,24,240],[24,242,24,244],[24,246,24,248],[24,250,24,252],[24,206,24,208],[24,210,24,212],[24,214,24,216],[24,218,24,220],[24,222,24,224],[24,226,24,228],[24,182,24,184],[24,186,24,188],[24,190,24,192],[24,194,24,196],[24,198,24,200],[24,202,24,204],[24,158,24,160],[24,162,24,164],[24,166,24,168],[24,170,24,172],[24,174,24,176],[24,178,24,180],[24,134,24,136],[24,138,24,140],[24,142,24,144],[24,146,24,148],[24,150,24,152],[24,154,24,156],[24,110,24,112],[24,114,24,116],[24,118,24,120],[24,122,24,124],[24,126,24,128],[24,130,24,132],[24,86,24,88],[24,90,24,92],[24,94,24,96],[24,98,24,100],[24,102,24,104],[24,106,24,108],[24,62,24,64],[24,66,24,68],[24,70,24,72],[24,74,24,76],[24,78,24,80],[24,82,24,84],[24,38,24,40],[24,42,24,44],[24,46,24,48],[24,50,24,52],[24,54,24,56],[24,58,24,60],[24,2,24,4],[24,6,24,8],[24,10,24,12],[24,14,24,16],[24,18,24,20],[24,22,24,24],[24,26,24,28],[24,30,24,32],[24,34,24,36],[23,242,23,245],[23,246,23,249],[23,250,23,253],[23,254,23,257],[23,258,23,261],[23,218,23,221],[23,222,23,225],[23,226,23,229],[23,230,23,233],[23,234,23,237],[23,238,23,241],[23,194,23,197],[23,198,23,201],[23,202,23,205],[23,206,23,209],[23,210,23,213],[23,214,23,217],[23,170,23,173],[23,174,23,177],[23,178,23,181],[23,182,23,185],[23,186,23,189],[23,190,23,193],[23,146,23,149],[23,150,23,153],[23,154,23,157],[23,158,23,161],[23,162,23,165],[23,166,23,169],[23,122,23,125],[23,126,23,129],[23,130,23,133],[23,134,23,137],[23,138,23,141],[23,142,23,145],[23,98,23,101],[23,102,23,105],[23,106,23,109],[23,110,23,113],[23,114,23,117],[23,118,23,121],[23,74,23,77],[23,78,23,81],[23,82,23,85],[23,86,23,89],[23,90,23,93],[23,94,23,97],[23,50,23,53],[23,54,23,57],[23,58,23,61],[23,62,23,65],[23,66,23,69],[23,70,23,73],[23,26,23,29],[23,30,23,33],[23,34,23,37],[23,38,23,41],[23,42,23,45],[23,46,23,49],[23,2,23,5],[23,6,23,9],[23,10,23,13],[23,14,23,17],[23,18,23,21],[23,22,23,25],[22,246,22,249],[22,250,22,253],[22,254,22,257],[22,258,22,261],[22,222,22,225],[22,226,22,229],[22,230,22,233],[22,234,22,237],[22,238,22,241],[22,242,22,245],[22,198,22,201],[22,202,22,205],[22,206,22,209],[22,210,22,213],[22,214,22,217],[22,218,22,221],[22,174,22,177],[22,178,22,181],[22,182,22,185],[22,186,22,189],[22,190,22,193],[22,194,22,197],[22,150,22,153],[22,154,22,157],[22,158,22,161],[22,162,22,165],[22,166,22,169],[22,170,22,173],[22,126,22,129],[22,130,22,133],[22,134,22,137],[22,138,22,141],[22,142,22,145],[22,146,22,149],[22,102,22,105],[22,106,22,109],[22,110,22,113],[22,114,22,117],[22,118,22,121],[22,122,22,125],[22,78,22,81],[22,82,22,85],[22,86,22,89],[22,90,22,93],[22,94,22,97],[22,98,22,101],[22,54,22,57],[22,58,22,61],[22,62,22,65],[22,66,22,69],[22,70,22,73],[22,74,22,77],[22,30,22,33],[22,34,22,37],[22,38,22,41],[22,42,22,45],[22,46,22,49],[22,50,22,53],[22,2,22,5],[22,6,22,9],[22,10,22,13],[22,14,22,17],[22,18,22,21],[22,22,22,25],[22,26,22,29],[21,258,21,260],[21,234,21,236],[21,238,21,240],[21,242,21,244],[21,246,21,248],[21,250,21,252],[21,254,21,256],[21,210,21,212],[21,214,21,216],[21,218,21,220],[21,222,21,224],[21,226,21,228],[21,230,21,232],[21,186,21,188],[21,190,21,192],[21,194,21,196],[21,198,21,200],[21,202,21,204],[21,206,21,208],[21,162,21,164],[21,166,21,168],[21,170,21,172],[21,174,21,176],[21,178,21,180],[21,182,21,184],[21,138,21,140],[21,142,21,144],[21,146,21,148],[21,150,21,152],[21,154,21,156],[21,158,21,160],[21,114,21,116],[21,118,21,120],[21,122,21,124],[21,126,21,128],[21,130,21,132],[21,134,21,136],[21,90,21,92],[21,94,21,96],[21,98,21,100],[21,102,21,104],[21,106,21,108],[21,110,21,112],[21,66,21,68],[21,70,21,72],[21,74,21,76],[21,78,21,80],[21,82,21,84],[21,86,21,88],[21,42,21,44],[21,46,21,48],[21,50,21,52],[21,54,21,56],[21,58,21,60],[21,62,21,64],[21,18,21,20],[21,22,21,24],[21,26,21,28],[21,30,21,32],[21,34,21,36],[21,38,21,40],[21,1,23,1],[21,2,21,4],[21,6,21,8],[21,10,21,12],[21,14,21,16],[20,250,20,253],[20,254,20,257],[20,258,20,261],[20,226,20,229],[20,230,20,233],[20,234,20,237],[20,238,20,241],[20,242,20,245],[20,246,20,249],[20,202,20,205],[20,206,20,209],[20,210,20,213],[20,214,20,217],[20,218,20,221],[20,222,20,225],[20,178,20,181],[20,182,20,185],[20,186,20,189],[20,190,20,193],[20,194,20,197],[20,198,20,201],[20,154,20,157],[20,158,20,161],[20,162,20,165],[20,166,20,169],[20,170,20,173],[20,174,20,177],[20,130,20,133],[20,134,20,137],[20,138,20,141],[20,142,20,145],[20,146,20,149],[20,150,20,153],[20,106,20,109],[20,110,20,113],[20,114,20,117],[20,118,20,121],[20,122,20,125],[20,126,20,129],[20,82,20,85],[20,86,20,89],[20,90,20,93],[20,94,20,97],[20,98,20,101],[20,102,20,105],[20,58,20,61],[20,62,20,65],[20,66,20,69],[20,70,20,73],[20,74,20,77],[20,78,20,81],[20,34,20,37],[20,38,20,41],[20,42,20,45],[20,46,20,49],[20,50,20,53],[20,54,20,57],[20,2,20,5],[20,6,20,9],[20,10,20,13],[20,14,20,17],[20,18,20,21],[20,22,20,25],[20,26,20,29],[20,30,20,33],[19,238,19,241],[19,242,19,245],[19,246,19,249],[19,250,19,253],[19,254,19,257],[19,258,19,261],[19,214,19,217],[19,218,19,221],[19,222,19,225],[19,226,19,229],[19,230,19,233],[19,234,19,237],[19,190,19,193],[19,194,19,197],[19,198,19,201],[19,202,19,205],[19,206,19,209],[19,210,19,213],[19,166,19,169],[19,170,19,173],[19,174,19,177],[19,178,19,181]],"merged_total":2102,"flags":["merged_cut"]}
[]
[null,null,"３学期",null,null,null,null,null,null,null,null,null,null,null,null,null,null,null,null,null,null,null,"３学期",null,null,null,null,null,null,null,null,null,null,null,null,null,null,null,null,null,null,null,"３学期",null,null,null,null,null,null,null,null,null,null,null,null,null,null,null,null,null,null,null,"３学期",null,null,null,null,null,null,null,null,null,null,null,null,null,null,null,null,null,null,null,"３学期",null,null,null,null,null,null,null,null,null,null,null,null,null,null,null,null,null,null,null,"３学期",null,null,null,null,null,null,null,null,null,null,null,null,null,null,null,null,null,null,null,"３学期",null,null,null,null,null,null,null,null,null,null,null,null,null,null,null,null,null,null,null,"３学期",null,null,null,null,null,null,null,null,null,null,null,null,null,null,null,null,null,null,null,"３学期",null,null,null,null,null,null,null,null,null,null,null,null,null,null,null,null,null,null,null,"３学期",null,null,null,null,null,null,null,null,null,null,null,null,null,null,null,null,null,null,null,"３学期",null,null,null,null,null,null,null,null,null,null,null,null,null,null,null,null,null,null,null,"３学期",null,null,null,null,null,null,null,null,null,null,null,null,null,null,null,null,null,null,null,"３学期"]
[null,null,null,"第１週",null,null,null,{"$f":"'１学期'!H3","v":"校長　　　　　教頭　　　　　教務主任　　　　　担任"},null,null,null,null,null,null,null,null,null,null,null,null,null,null,null,"第２週",null,null,null,null,{"$f":"$H$3","v":"校長　　　　　教頭　　　　　教務主任　　　　　担任"},null,null,null,null,null,null,null,null,null,null,null,null,null,null,"第３週",null,null,null,null,{"$f":"$H$3","v":"校長　　　　　教頭　　　　　教務主任　　　　　担任"},null,null,null,null,null,null,null,null,null,null,null,null,null,null,"第４週",null,null,null,null,{"$f":"$H$3","v":"校長　　　　　教頭　　　　　教務主任　　　　　担任"},null,null,null,null,null,null,null,null,null,null,null,null,null,null,"第５週",null,null,null,null,{"$f":"$H$3","v":"校長　　　　　教頭　　　　　教務主任　　　　　担任"},null,null,null,null,null,null,null,null,null,null,null,null,null,null,"第６週",null,null,null,null,{"$f":"$H$3","v":"校長　　　　　教頭　　　　　教務主任　　　　　担任"},null,null,null,null,null,null,null,null,null,null,null,null,null,null,"第７週",null,null,null,null,{"$f":"$H$3","v":"校長　　　　　教頭　　　　　教務主任　　　　　担任"},null,null,null,null,null,null,null,null,null,null,null,null,null,null,"第８週",null,null,null,null,{"$f":"$H$3","v":"校長　　　　　教頭　　　　　教務主任　　　　　担任"},null,null,null,null,null,null,null,null,null,null,null,null,null,null,"第９週",null,null,null,null,{"$f":"$H$3","v":"校長　　　　　教頭　　　　　教務主任　　　　　担任"},null,null,null,null,null,null,null,null,null,null,null,null,null,null,"第10週",null,null,null,null,{"$f":"$H$3","v":"校長　　　　　教頭　　　　　教務主任　　　　　担任"},null,null,null,null,null,null,null,null,null,null,null,null,null,null,"第11週",null,null,null,null,{"$f":"$H$3","v":"校長　　　　　教頭　　　　　教務主任　　　　　担任"},null,null,null,null,null,null,null,null,null,null,null,null,null,null,"第12週",null,null,null,null,{"$f":"$H$3","v":"校長　　　　　教頭　　　　　教務主任　　　　　担任"},null,null,null,null,null,null,null,null,null,null,null,null,null,null,"第13週",null,null,null,null,{"$f":"$H$3","v":"校長　　　　　教頭　　　　　教務主任　　　　　担任"}]
[null,null,"1901-01-07",null,null,null,"1901-01-08",null,null,null,"1901-01-09",null,null,null,"1901-01-10",null,null,null,"1901-01-11",null,null,null,"1901-01-14",null,null,null,"1901-01-15",null,null,null,"1901-01-16",null,null,null,"1901-01-17",null,null,null,"1901-01-18",null,null,null,"1901-01-21",null,null,null,"1901-01-22",null,null,null,"1901-01-23",null,null,null,"1901-01-24",null,null,null,"1901-01-25",null,null,null,"1901-01-28",null,null,null,"1901-01-29",null,null,null,"1901-01-30",null,null,null,"1901-01-31",null,null,null,"1901-02-01",null,null,null,"1901-02-04",null,null,null,"1901-02-05",null,null,null,"1901-02-06",null,null,null,"1901-02-07",null,null,null,"1901-02-08",null,null,null,"1901-02-11",null,null,null,"1901-02-12",null,null,null,"1901-02-13",null,null,null,"1901-02-14",null,null,null,"1901-02-15",null,null,null,"1901-02-18",null,null,null,"1901-02-19",null,null,null,"1901-02-20",null,null,null,"1901-02-21",null,null,null,"1901-02-22",null,null,null,"1901-02-25",null,null,null,"1901-02-26",null,null,null,"1901-02-27",null,null,null,"1901-02-28",null,null,null,"1901-03-01",null,null,null,"1901-03-04",null,null,null,"1901-03-05",null,null,null,"1901-03-06",null,null,null,"1901-03-07",null,null,null,"1901-03-08",null,null,null,"1901-03-11",null,null,null,"1901-03-12",null,null,null,"1901-03-13",null,null,null,"1901-03-14",null,null,null,"1901-03-15",null,null,null,"1901-03-18",null,null,null,"1901-03-19",null,null,null,"1901-03-20",null,null,null,"1901-03-21",null,null,null,"1901-03-22",null,null,null,"1901-03-25",null,null,null,"1901-03-26",null,null,null,"1901-03-27",null,null,null,"1901-03-28",null,null,null,"1901-03-29",null,null,null,"1901-04-01",null,null,null,"1901-04-02",null,null,null,"1901-04-03",null,null,null,"1901-04-04",null,null,null,"1901-04-05"]
[null,null,"月",null,null,null,"火",null,null,null,"水",null,null,null,"木",null,null,null,"金",null,null,null,"月",null,null,null,"火",null,null,null,"水",null,null,null,"木",null,null,null,"金",null,null,null,"月",null,null,null,"火",null,null,null,"水",null,null,null,"木",null,null,null,"金",null,null,null,"月",null,null,null,"火",null,null,null,"水",null,null,null,"木",null,null,null,"金",null,null,null,"月",null,null,null,"火",null,null,null,"水",null,null,null,"木",null,null,null,"金",null,null,null,"月",null,null,null,"火",null,null,null,"水",null,null,null,"木",null,null,null,"金",null,null,null,"月",null,null,null,"火",null,null,null,"水",null,null,null,"木",null,null,null,"金",null,null,null,"月",null,null,null,"火",null,null,null,"水",null,null,null,"木",null,null,null,"金",null,null,null,"月",null,null,null,"火",null,null,null,"水",null,null,null,"木",null,null,null,"金",null,null,null,"月",null,null,null,"火",null,null,null,"水",null,null,null,"木",null,null,null,"金",null,null,null,"月",null,null,null,"火",null,null,null,"水",null,null,null,"木",null,null,null,"金",null,null,null,"月",null,null,null,"火",null,null,null,"水",null,null,null,"木",null,null,null,"金",null,null,null,"月",null,null,null,"火",null,null,null,"水",null,null,null,"木",null,null,null,"金"]
[null,"前"]
[null,1]
[]
[]
[null,2]
[]
[]
[null,3]
[]
[]
[null,4]
[]
[]
[null,5]
[]
[]
[null,6]
[]
[]
[null,"後"]
[null,"備考"]
[]
[]
[null,"時間数集計","授業",null,"実施","累計","授業",null,"実施","累計","授業",null,"実施","累計","授業",null,"実施","累計",null,null,"実施","累計","授業",null,"実施","累計","授業",null,"実施","累計","授業",null,"実施","累計","授業",null,"実施","累計",null,null,"実施","累計","授業",null,"実施","累計","授業",null,"実施","累計","授業",null,"実施","累計","授業",null,"実施","累計",null,null,"実施","累計","授業",null,"実施","累計","授業",null,"実施","累計","授業",null,"実施","累計","授業",null,"実施","累計",null,null,"実施","累計","授業",null,"実施","累計","授業",null,"実施","累計","授業",null,"実施","累計","授業",null,"実施","累計",null,null,"実施","累計","授業",null,"実施","累計","授業",null,"実施","累計","授業",null,"実施","累計","授業",null,"実施","累計",null,null,"実施","累計","授業",null,"実施","累計","授業",null,"実施","累計","授業",null,"実施","累計","授業",null,"実施","累計",null,null,"実施","累計","授業",null,"実施","累計","授業",null,"実施","累計","授業",null,"実施","累計","授業",null,"実施","累計",null,null,"実施","累計","授業",null,"実施","累計","授業",null,"実施","累計","授業",null,"実施","累計","授業",null,"実施","累計",null,null,"実施","累計","授業",null,"実施","累計","授業",null,"実施","累計","授業",null,"実施","累計","授業",null,"実施","累計",null,null,"実施","累計","授業",null,"実施","累計","授業",null,"実施","累計","授業",null,"実施","累計","授業",null,"実施","累計",null,null,"実施","累計","授業",null,"実施","累計","授業",null,"実施","累計","授業",null,"実施","累計","授業",null,"実施","累計",null,null,"実施","累計","授業",null,"実施","累計","授業",null,"実施","累計","授業",null,"実施","累計","授業",null,"実施","累計",null,null,"実施","累計"]
[null,null,{"$f":"IF(COUNTIF(処理!$J$2:$J$25,0)>0,処理!H2,\"\")","v":""},null,{"$f":"IF(LEN(C30)=0,\"\",(COUNTIF(C$6:V$7,C30)+COUNTIF(C$10:V$10,C30)+COUNTIF(C$13:V$13,C30)+COUNTIF(C$16:V$16,C30)+COUNTIF(C$19:V$19,C30)+COUNTIF(C$22:V$22,C30)+COUNTIF(C$25:V$25,C30))/設定!$D21+IFERROR((COUNTIF(C$6:V$7,処理!$L2)+COUNTIF(C$10:V$10,処理!$L2)+COUNTIF(C$13:V$13,処理!$L2)+COUNTIF(C$16:V$16,処理!$L2)+COUNTIF(C$19:V$19,処理!$L2)+COUNTIF(C$22:V$22,処理!$L2)+COUNTIF(C$25:V$25,処理!$L2))/処理!$M2,0))","v":""},{"$f":"E30","v":""},{"$f":"IF(COUNTIF(処理!$J$2:$J$25,6)>0,処理!H8,\"\")","v":""},null,{"$f":"IF(LEN(G30)=0,\"\",(COUNTIF(C$6:V$7,G30)+COUNTIF(C$10:V$10,G30)+COUNTIF(C$13:V$13,G30)+COUNTIF(C$16:V$16,G30)+COUNTIF(C$19:V$19,G30)+COUNTIF(C$22:V$22,G30)+COUNTIF(C$25:V$25,G30))/設定!$G21+IFERROR((COUNTIF(C$6:V$7,処理!$L8)+COUNTIF(C$10:V$10,処理!$L8)+COUNTIF(C$13:V$13,処理!$L8)+COUNTIF(C$16:V$16,処理!$L8)+COUNTIF(C$19:V$19,処理!$L8)+COUNTIF(C$22:V$22,処理!$L8)+COUNTIF(C$25:V$25,処理!$L8))/処理!$M8,0))","v":""},{"$f":"I30","v":""},{"$f":"IF(COUNTIF(処理!$J$2:$J$25,12)>0,処理!H14,\"\")","v":""},null,{"$f":"IF(LEN(K30)=0,\"\",(COUNTIF(C$6:V$7,K30)+COUNTIF(C$10:V$10,K30)+COUNTIF(C$13:V$13,K30)+COUNTIF(C$16:V$16,K30)+COUNTIF(C$19:V$19,K30)+COUNTIF(C$22:V$22,K30)+COUNTIF(C$25:V$25,K30))/設定!$J21+IFERROR((COUNTIF(C$6:V$7,処理!$L14)+COUNTIF(C$10:V$10,処理!$L14)+COUNTIF(C$13:V$13,処理!$L14)+COUNTIF(C$16:V$16,処理!$L14)+COUNTIF(C$19:V$19,処理!$L14)+COUNTIF(C$22:V$22,処理!$L14)+COUNTIF(C$25:V$25,処理!$L14))/処理!$M14,0))","v":""},{"$f":"M30","v":""},{"$f":"IF(COUNTIF(処理!$J$2:$J$25,18)>0,処理!H20,\"\")","v":""},null,{"$f":"IF(LEN(O30)=0,\"\",(COUNTIF(C$6:V$7,O30)+COUNTIF(C$10:V$10,O30)+COUNTIF(C$13:V$13,O30)+COUNTIF(C$16:V$16,O30)+COUNTIF(C$19:V$19,O30)+COUNTIF(C$22:V$22,O30)+COUNTIF(C$25:V$25,O30))/設定!$M21+IFERROR((COUNTIF(C$6:V$7,処理!$L20)+COUNTIF(C$10:V$10,処理!$L20)+COUNTIF(C$13:V$13,処理!$L20)+COUNTIF(C$16:V$16,処理!$L20)+COUNTIF(C$19:V$19,処理!$L20)+COUNTIF(C$22:V$22,処理!$L20)+COUNTIF(C$25:V$25,処理!$L20))/処理!$M20,0))","v":""},{"$f":"Q30","v":""},"授業合計",null,{"$f":"SUM(E30:E35,I30:I35,M30:M35,Q30:Q35)","v":0},{"$f":"U30","v":0},{"$f":"$C$30","v":""},null,{"$f":"IF(LEN(W30)=0,\"\",(COUNTIF(W$6:AP$7,W30)+COUNTIF(W$10:AP$10,W30)+COUNTIF(W$13:AP$13,W30)+COUNTIF(W$16:AP$16,W30)+COUNTIF(W$19:AP$19,W30)+COUNTIF(W$22:AP$22,W30)+COUNTIF(W$25:AP$25,W30))/設定!$D21+IFERROR((COUNTIF(W$6:AP$7,処理!$L2)+COUNTIF(W$10:AP$10,処理!$L2)+COUNTIF(W$13:AP$13,処理!$L2)+COUNTIF(W$16:AP$16,処理!$L2)+COUNTIF(W$19:AP$19,処理!$L2)+COUNTIF(W$22:AP$22,処理!$L2)+COUNTIF(W$25:AP$25,処理!$L2))/処理!$M2,0))","v":""},{"$f":"IF(LEN(W30)=0,\"\",SUM(F30,Y30))","v":""},{"$f":"$G$30","v":""},null,{"$f":"IF(LEN(AA30)=0,\"\",(COUNTIF(W$6:AP$7,AA30)+COUNTIF(W$10:AP$10,AA30)+COUNTIF(W$13:AP$13,AA30)+COUNTIF(W$16:AP$16,AA30)+COUNTIF(W$19:AP$19,AA30)+COUNTIF(W$22:AP$22,AA30)+COUNTIF(W$25:AP$25,AA30))/設定!$G21+IFERROR((COUNTIF(W$6:AP$7,処理!$L8)+COUNTIF(W$10:AP$10,処理!$L8)+COUNTIF(W$13:AP$13,処理!$L8)+COUNTIF(W$16:AP$16,処理!$L8)+COUNTIF(W$19:AP$19,処理!$L8)+COUNTIF(W$22:AP$22,処理!$L8)+COUNTIF(W$25:AP$25,処理!$L8))/処理!$M8,0))","v":""},{"$f":"IF(LEN(AA30)=0,\"\",SUM(J30,AC30))","v":""},{"$f":"$K$30","v":""},null,{"$f":"IF(LEN(AE30)=0,\"\",(COUNTIF(W$6:AP$7,AE30)+COUNTIF(W$10:AP$10,AE30)+COUNTIF(W$13:AP$13,AE30)+COUNTIF(W$16:AP$16,AE30)+COUNTIF(W$19:AP$19,AE30)+COUNTIF(W$22:AP$22,AE30)+COUNTIF(W$25:AP$25,AE30))/設定!$J21+IFERROR((COUNTIF(W$6:AP$7,処理!$L14)+COUNTIF(W$10:AP$10,処理!$L14)+COUNTIF(W$13:AP$13,処理!$L14)+COUNTIF(W$16:AP$16,処理!$L14)+COUNTIF(W$19:AP$19,処理!$L14)+COUNTIF(W$22:AP$22,処理!$L14)+COUNTIF(W$25:AP$25,処理!$L14))/処理!$M14,0))","v":""},{"$f":"IF(LEN(AE30)=0,\"\",SUM(N30,AG30))","v":""},{"$f":"$O$30","v":""},null,{"$f":"IF(LEN(AI30)=0,\"\",(COUNTIF(W$6:AP$7,AI30)+COUNTIF(W$10:AP$10,AI30)+COUNTIF(W$13:AP$13,AI30)+COUNTIF(W$16:AP$16,AI30)+COUNTIF(W$19:AP$19,AI30)+COUNTIF(W$22:AP$22,AI30)+COUNTIF(W$25:AP$25,AI30))/設定!$M21+IFERROR((COUNTIF(W$6:AP$7,処理!$L20)+COUNTIF(W$10:AP$10,処理!$L20)+COUNTIF(W$13:AP$13,処理!$L20)+COUNTIF(W$16:AP$16,処理!$L20)+COUNTIF(W$19:AP$19,処理!$L20)+COUNTIF(W$22:AP$22,処理!$L20)+COUNTIF(W$25:AP$25,処理!$L20))/処理!$M20,0))","v":""},{"$f":"IF(LEN(AI30)=0,\"\",SUM(R30,AK30))","v":""},"授業合計",null,{"$f":"SUM(Y30:Y35,AC30:AC35,AG30:AG35,AK30:AK35)","v":0},{"$f":"IF(LEN(AM30)=0,\"\",SUM(V30,AO30))","v":0},{"$f":"$C$30","v":""},null,{"$f":"IF(LEN(AQ30)=0,\"\",(COUNTIF(AQ$6:BJ$7,AQ30)+COUNTIF(AQ$10:BJ$10,AQ30)+COUNTIF(AQ$13:BJ$13,AQ30)+COUNTIF(AQ$16:BJ$16,AQ30)+COUNTIF(AQ$19:BJ$19,AQ30)+COUNTIF(AQ$22:BJ$22,AQ30)+COUNTIF(AQ$25:BJ$25,AQ30))/設定!$D21+IFERROR((COUNTIF(AQ$6:BJ$7,処理!$L2)+COUNTIF(AQ$10:BJ$10,処理!$L2)+COUNTIF(AQ$13:BJ$13,処理!$L2)+COUNTIF(AQ$16:BJ$16,処理!$L2)+COUNTIF(AQ$19:BJ$19,処理!$L2)+COUNTIF(AQ$22:BJ$22,処理!$L2)+COUNTIF(AQ$25:BJ$25,処理!$L2))/処理!$M2,0))","v":""},{"$f":"IF(LEN(AQ30)=0,\"\",SUM(Z30,AS30))","v":""},{"$f":"$G$30","v":""},null,{"$f":"IF(LEN(AU30)=0,\"\",(COUNTIF(AQ$6:BJ$7,AU30)+COUNTIF(AQ$10:BJ$10,AU30)+COUNTIF(AQ$13:BJ$13,AU30)+COUNTIF(AQ$16:BJ$16,AU30)+COUNTIF(AQ$19:BJ$19,AU30)+COUNTIF(AQ$22:BJ$22,AU30)+COUNTIF(AQ$25:BJ$25,AU30))/設定!$G21+IFERROR((COUNTIF(AQ$6:BJ$7,処理!$L8)+COUNTIF(AQ$10:BJ$10,処理!$L8)+COUNTIF(AQ$13:BJ$13,処理!$L8)+COUNTIF(AQ$16:BJ$16,処理!$L8)+COUNTIF(AQ$19:BJ$19,処理!$L8)+COUNTIF(AQ$22:BJ$22,処理!$L8)+COUNTIF(AQ$25:BJ$25,処理!$L8))/処理!$M8,0))","v":""},{"$f":"IF(LEN(AU30)=0,\"\",SUM(AD30,AW30))","v":""},{"$f":"$K$30","v":""},null,{"$f":"IF(LEN(AY30)=0,\"\",(COUNTIF(AQ$6:BJ$7,AY30)+COUNTIF(AQ$10:BJ$10,AY30)+COUNTIF(AQ$13:BJ$13,AY30)+COUNTIF(AQ$16:BJ$16,AY30)+COUNTIF(AQ$19:BJ$19,AY30)+COUNTIF(AQ$22:BJ$22,AY30)+COUNTIF(AQ$25:BJ$25,AY30))/設定!$J21+IFERROR((COUNTIF(AQ$6:BJ$7,処理!$L14)+COUNTIF(AQ$10:BJ$10,処理!$L14)+COUNTIF(AQ$13:BJ$13,処理!$L14)+COUNTIF(AQ$16:BJ$16,処理!$L14)+COUNTIF(AQ$19:BJ$19,処理!$L14)+COUNTIF(AQ$22:BJ$22,処理!$L14)+COUNTIF(AQ$25:BJ$25,処理!$L14))/処理!$M14,0))","v":""},{"$f":"IF(LEN(AY30)=0,\"\",SUM(AH30,BA30))","v":""},{"$f":"$O$30","v":""},null,{"$f":"IF(LEN(BC30)=0,\"\",(COUNTIF(AQ$6:BJ$7,BC30)+COUNTIF(AQ$10:BJ$10,BC30)+COUNTIF(AQ$13:BJ$13,BC30)+COUNTIF(AQ$16:BJ$16,BC30)+COUNTIF(AQ$19:BJ$19,BC30)+COUNTIF(AQ$22:BJ$22,BC30)+COUNTIF(AQ$25:BJ$25,BC30))/設定!$M21+IFERROR((COUNTIF(AQ$6:BJ$7,処理!$L20)+COUNTIF(AQ$10:BJ$10,処理!$L20)+COUNTIF(AQ$13:BJ$13,処理!$L20)+COUNTIF(AQ$16:BJ$16,処理!$L20)+COUNTIF(AQ$19:BJ$19,処理!$L20)+COUNTIF(AQ$22:BJ$22,処理!$L20)+COUNTIF(AQ$25:BJ$25,処理!$L20))/処理!$M20,0))","v":""},{"$f":"IF(LEN(BC30)=0,\"\",SUM(AL30,BE30))","v":""},"授業合計",null,{"$f":"SUM(AS30:AS35,AW30:AW35,BA30:BA35,BE30:BE35)","v":0},{"$f":"IF(LEN(BG30)=0,\"\",SUM(AP30,BI30))","v":0},{"$f":"$C$30","v":""},null,{"$f":"IF(LEN(BK30)=0,\"\",(COUNTIF(BK$6:CD$7,BK30)+COUNTIF(BK$10:CD$10,BK30)+COUNTIF(BK$13:CD$13,BK30)+COUNTIF(BK$16:CD$16,BK30)+COUNTIF(BK$19:CD$19,BK30)+COUNTIF(BK$22:CD$22,BK30)+COUNTIF(BK$25:CD$25,BK30))/設定!$D21+IFERROR((COUNTIF(BK$6:CD$7,処理!$L2)+COUNTIF(BK$10:CD$10,処理!$L2)+COUNTIF(BK$13:CD$13,処理!$L2)+COUNTIF(BK$16:CD$16,処理!$L2)+COUNTIF(BK$19:CD$19,処理!$L2)+COUNTIF(BK$22:CD$22,処理!$L2)+COUNTIF(BK$25:CD$25,処理!$L2))/処理!$M2,0))","v":""},{"$f":"IF(LEN(BK30)=0,\"\",SUM(AT30,BM30))","v":""},{"$f":"$G$30","v":""},null,{"$f":"IF(LEN(BO30)=0,\"\",(COUNTIF(BK$6:CD$7,BO30)+COUNTIF(BK$10:CD$10,BO30)+COUNTIF(BK$13:CD$13,BO30)+COUNTIF(BK$16:CD$16,BO30)+COUNTIF(BK$19:CD$19,BO30)+COUNTIF(BK$22:CD$22,BO30)+COUNTIF(BK$25:CD$25,BO30))/設定!$G21+IFERROR((COUNTIF(BK$6:CD$7,処理!$L8)+COUNTIF(BK$10:CD$10,処理!$L8)+COUNTIF(BK$13:CD$13,処理!$L8)+COUNTIF(BK$16:CD$16,処理!$L8)+COUNTIF(BK$19:CD$19,処理!$L8)+COUNTIF(BK$22:CD$22,処理!$L8)+COUNTIF(BK$25:CD$25,処理!$L8))/処理!$M8,0))","v":""},{"$f":"IF(LEN(BO30)=0,\"\",SUM(AX30,BQ30))","v":""},{"$f":"$K$30","v":""},null,{"$f":"IF(LEN(BS30)=0,\"\",(COUNTIF(BK$6:CD$7,BS30)+COUNTIF(BK$10:CD$10,BS30)+COUNTIF(BK$13:CD$13,BS30)+COUNTIF(BK$16:CD$16,BS30)+COUNTIF(BK$19:CD$19,BS30)+COUNTIF(BK$22:CD$22,BS30)+COUNTIF(BK$25:CD$25,BS30))/設定!$J21+IFERROR((COUNTIF(BK$6:CD$7,処理!$L14)+COUNTIF(BK$10:CD$10,処理!$L14)+COUNTIF(BK$13:CD$13,処理!$L14)+COUNTIF(BK$16:CD$16,処理!$L14)+COUNTIF(BK$19:CD$19,処理!$L14)+COUNTIF(BK$22:CD$22,処理!$L14)+COUNTIF(BK$25:CD$25,処理!$L14))/処理!$M14,0))","v":""},{"$f":"IF(LEN(BS30)=0,\"\",SUM(BB30,BU30))","v":""},{"$f":"$O$30","v":""},null,{"$f":"IF(LEN(BW30)=0,\"\",(COUNTIF(BK$6:CD$7,BW30)+COUNTIF(BK$10:CD$10,BW30)+COUNTIF(BK$13:CD$13,BW30)+COUNTIF(BK$16:CD$16,BW30)+COUNTIF(BK$19:CD$19,BW30)+COUNTIF(BK$22:CD$22,BW30)+COUNTIF(BK$25:CD$25,BW30))/設定!$M21+IFERROR((COUNTIF(BK$6:CD$7,処理!$L20)+COUNTIF(BK$10:CD$10,処理!$L20)+COUNTIF(BK$13:CD$13,処理!$L20)+COUNTIF(BK$16:CD$16,処理!$L20)+COUNTIF(BK$19:CD$19,処理!$L20)+COUNTIF(BK$22:CD$22,処理!$L20)+COUNTIF(BK$25:CD$25,処理!$L20))/処理!$M20,0))","v":""},{"$f":"IF(LEN(BW30)=0,\"\",SUM(BF30,BY30))","v":""},"授業合計",null,{"$f":"SUM(BM30:BM35,BQ30:BQ35,BU30:BU35,BY30:BY35)","v":0},{"$f":"IF(LEN(CA30)=0,\"\",SUM(BJ30,CC30))","v":0},{"$f":"$C$30","v":""},null,{"$f":"IF(LEN(CE30)=0,\"\",(COUNTIF(CE$6:CX$7,CE30)+COUNTIF(CE$10:CX$10,CE30)+COUNTIF(CE$13:CX$13,CE30)+COUNTIF(CE$16:CX$16,CE30)+COUNTIF(CE$19:CX$19,CE30)+COUNTIF(CE$22:CX$22,CE30)+COUNTIF(CE$25:CX$25,CE30))/設定!$D21+IFERROR((COUNTIF(CE$6:CX$7,処理!$L2)+COUNTIF(CE$10:CX$10,処理!$L2)+COUNTIF(CE$13:CX$13,処理!$L2)+COUNTIF(CE$16:CX$16,処理!$L2)+COUNTIF(CE$19:CX$19,処理!$L2)+COUNTIF(CE$22:CX$22,処理!$L2)+COUNTIF(CE$25:CX$25,処理!$L2))/処理!$M2,0))","v":""},{"$f":"IF(LEN(CE30)=0,\"\",SUM(BN30,CG30))","v":""},{"$f":"$G$30","v":""},null,{"$f":"IF(LEN(CI30)=0,\"\",(COUNTIF(CE$6:CX$7,CI30)+COUNTIF(CE$10:CX$10,CI30)+COUNTIF(CE$13:CX$13,CI30)+COUNTIF(CE$16:CX$16,CI30)+COUNTIF(CE$19:CX$19,CI30)+COUNTIF(CE$22:CX$22,CI30)+COUNTIF(CE$25:CX$25,CI30))/設定!$G21+IFERROR((COUNTIF(CE$6:CX$7,処理!$L8)+COUNTIF(CE$10:CX$10,処理!$L8)+COUNTIF(CE$13:CX$13,処理!$L8)+COUNTIF(CE$16:CX$16,処理!$L8)+COUNTIF(CE$19:CX$19,処理!$L8)+COUNTIF(CE$22:CX$22,処理!$L8)+COUNTIF(CE$25:CX$25,処理!$L8))/処理!$M8,0))","v":""},{"$f":"IF(LEN(CI30)=0,\"\",SUM(BR30,CK30))","v":""},{"$f":"$K$30","v":""},null,{"$f":"IF(LEN(CM30)=0,\"\",(COUNTIF(CE$6:CX$7,CM30)+COUNTIF(CE$10:CX$10,CM30)+COUNTIF(CE$13:CX$13,CM30)+COUNTIF(CE$16:CX$16,CM30)+COUNTIF(CE$19:CX$19,CM30)+COUNTIF(CE$22:CX$22,CM30)+COUNTIF(CE$25:CX$25,CM30))/設定!$J21+IFERROR((COUNTIF(CE$6:CX$7,処理!$L14)+COUNTIF(CE$10:CX$10,処理!$L14)+COUNTIF(CE$13:CX$13,処理!$L14)+COUNTIF(CE$16:CX$16,処理!$L14)+COUNTIF(CE$19:CX$19,処理!$L14)+COUNTIF(CE$22:CX$22,処理!$L14)+COUNTIF(CE$25:CX$25,処理!$L14))/処理!$M14,0))","v":""},{"$f":"IF(LEN(CM30)=0,\"\",SUM(BV30,CO30))","v":""},{"$f":"$O$30","v":""},null,{"$f":"IF(LEN(CQ30)=0,\"\",(COUNTIF(CE$6:CX$7,CQ30)+COUNTIF(CE$10:CX$10,CQ30)+COUNTIF(CE$13:CX$13,CQ30)+COUNTIF(CE$16:CX$16,CQ30)+COUNTIF(CE$19:CX$19,CQ30)+COUNTIF(CE$22:CX$22,CQ30)+COUNTIF(CE$25:CX$25,CQ30))/設定!$M21+IFERROR((COUNTIF(CE$6:CX$7,処理!$L20)+COUNTIF(CE$10:CX$10,処理!$L20)+COUNTIF(CE$13:CX$13,処理!$L20)+COUNTIF(CE$16:CX$16,処理!$L20)+COUNTIF(CE$19:CX$19,処理!$L20)+COUNTIF(CE$22:CX$22,処理!$L20)+COUNTIF(CE$25:CX$25,処理!$L20))/処理!$M20,0))","v":""},{"$f":"IF(LEN(CQ30)=0,\"\",SUM(BZ30,CS30))","v":""},"授業合計",null,{"$f":"SUM(CG30:CG35,CK30:CK35,CO30:CO35,CS30:CS35)","v":0},{"$f":"IF(LEN(CU30)=0,\"\",SUM(CD30,CW30))","v":0},{"$f":"$C$30","v":""},null,{"$f":"IF(LEN(CY30)=0,\"\",(COUNTIF(CY$6:DR$7,CY30)+COUNTIF(CY$10:DR$10,CY30)+COUNTIF(CY$13:DR$13,CY30)+COUNTIF(CY$16:DR$16,CY30)+COUNTIF(CY$19:DR$19,CY30)+COUNTIF(CY$22:DR$22,CY30)+COUNTIF(CY$25:DR$25,CY30))/設定!$D21+IFERROR((COUNTIF(CY$6:DR$7,処理!$L2)+COUNTIF(CY$10:DR$10,処理!$L2)+COUNTIF(CY$13:DR$13,処理!$L2)+COUNTIF(CY$16:DR$16,処理!$L2)+COUNTIF(CY$19:DR$19,処理!$L2)+COUNTIF(CY$22:DR$22,処理!$L2)+COUNTIF(CY$25:DR$25,処理!$L2))/処理!$M2,0))","v":""},{"$f":"IF(LEN(CY30)=0,\"\",SUM(CH30,DA30))","v":""},{"$f":"$G$30","v":""},null,{"$f":"IF(LEN(DC30)=0,\"\",(COUNTIF(CY$6:DR$7,DC30)+COUNTIF(CY$10:DR$10,DC30)+COUNTIF(CY$13:DR$13,DC30)+COUNTIF(CY$16:DR$16,DC30)+COUNTIF(CY$19:DR$19,DC30)+COUNTIF(CY$22:DR$22,DC30)+COUNTIF(CY$25:DR$25,DC30))/設定!$G21+IFERROR((COUNTIF(CY$6:DR$7,処理!$L8)+COUNTIF(CY$10:DR$10,処理!$L8)+COUNTIF(CY$13:DR$13,処理!$L8)+COUNTIF(CY$16:DR$16,処理!$L8)+COUNTIF(CY$19:DR$19,処理!$L8)+COUNTIF(CY$22:DR$22,処理!$L8)+COUNTIF(CY$25:DR$25,処理!$L8))/処理!$M8,0))","v":""},{"$f":"IF(LEN(DC30)=0,\"\",SUM(CL30,DE30))","v":""},{"$f":"$K$30","v":""},null,{"$f":"IF(LEN(DG30)=0,\"\",(COUNTIF(CY$6:DR$7,DG30)+COUNTIF(CY$10:DR$10,DG30)+COUNTIF(CY$13:DR$13,DG30)+COUNTIF(CY$16:DR$16,DG30)+COUNTIF(CY$19:DR$19,DG30)+COUNTIF(CY$22:DR$22,DG30)+COUNTIF(CY$25:DR$25,DG30))/設定!$J21+IFERROR((COUNTIF(CY$6:DR$7,処理!$L14)+COUNTIF(CY$10:DR$10,処理!$L14)+COUNTIF(CY$13:DR$13,処理!$L14)+COUNTIF(CY$16:DR$16,処理!$L14)+COUNTIF(CY$19:DR$19,処理!$L14)+COUNTIF(CY$22:DR$22,処理!$L14)+COUNTIF(CY$25:DR$25,処理!$L14))/処理!$M14,0))","v":""},{"$f":"IF(LEN(DG30)=0,\"\",SUM(CP30,DI30))","v":""},{"$f":"$O$30","v":""},null,{"$f":"IF(LEN(DK30)=0,\"\",(COUNTIF(CY$6:DR$7,DK30)+COUNTIF(CY$10:DR$10,DK30)+COUNTIF(CY$13:DR$13,DK30)+COUNTIF(CY$16:DR$16,DK30)+COUNTIF(CY$19:DR$19,DK30)+COUNTIF(CY$22:DR$22,DK30)+COUNTIF(CY$25:DR$25,DK30))/設定!$M21+IFERROR((COUNTIF(CY$6:DR$7,処理!$L20)+COUNTIF(CY$10:DR$10,処理!$L20)+COUNTIF(CY$13:DR$13,処理!$L20)+COUNTIF(CY$16:DR$16,処理!$L20)+COUNTIF(CY$19:DR$19,処理!$L20)+COUNTIF(CY$22:DR$22,処理!$L20)+COUNTIF(CY$25:DR$25,処理!$L20))/処理!$M20,0))","v":""},{"$f":"IF(LEN(DK30)=0,\"\",SUM(CT30,DM30))","v":""},"授業合計",null,{"$f":"SUM(DA30:DA35,DE30:DE35,DI30:DI35,DM30:DM35)","v":0},{"$f":"IF(LEN(DO30)=0,\"\",SUM(CX30,DQ30))","v":0},{"$f":"$C$30","v":""},null,{"$f":"IF(LEN(DS30)=0,\"\",(COUNTIF(DS$6:EL$7,DS30)+COUNTIF(DS$10:EL$10,DS30)+COUNTIF(DS$13:EL$13,DS30)+COUNTIF(DS$16:EL$16,DS30)+COUNTIF(DS$19:EL$19,DS30)+COUNTIF(DS$22:EL$22,DS30)+COUNTIF(DS$25:EL$25,DS30))/設定!$D21+IFERROR((COUNTIF(DS$6:EL$7,処理!$L2)+COUNTIF(DS$10:EL$10,処理!$L2)+COUNTIF(DS$13:EL$13,処理!$L2)+COUNTIF(DS$16:EL$16,処理!$L2)+COUNTIF(DS$19:EL$19,処理!$L2)+COUNTIF(DS$22:EL$22,処理!$L2)+COUNTIF(DS$25:EL$25,処理!$L2))/処理!$M2,0))","v":""},{"$f":"IF(LEN(DS30)=0,\"\",SUM(DB30,DU30))","v":""},{"$f":"$G$30","v":""},null,{"$f":"IF(LEN(DW30)=0,\"\",(COUNTIF(DS$6:EL$7,DW30)+COUNTIF(DS$10:EL$10,DW30)+COUNTIF(DS$13:EL$13,DW30)+COUNTIF(DS$16:EL$16,DW30)+COUNTIF(DS$19:EL$19,DW30)+COUNTIF(DS$22:EL$22,DW30)+COUNTIF(DS$25:EL$25,DW30))/設定!$G21+IFERROR((COUNTIF(DS$6:EL$7,処理!$L8)+COUNTIF(DS$10:EL$10,処理!$L8)+COUNTIF(DS$13:EL$13,処理!$L8)+COUNTIF(DS$16:EL$16,処理!$L8)+COUNTIF(DS$19:EL$19,処理!$L8)+COUNTIF(DS$22:EL$22,処理!$L8)+COUNTIF(DS$25:EL$25,処理!$L8))/処理!$M8,0))","v":""},{"$f":"IF(LEN(DW30)=0,\"\",SUM(DF30,DY30))","v":""},{"$f":"$K$30","v":""},null,{"$f":"IF(LEN(EA30)=0,\"\",(COUNTIF(DS$6:EL$7,EA30)+COUNTIF(DS$10:EL$10,EA30)+COUNTIF(DS$13:EL$13,EA30)+COUNTIF(DS$16:EL$16,EA30)+COUNTIF(DS$19:EL$19,EA30)+COUNTIF(DS$22:EL$22,EA30)+COUNTIF(DS$25:EL$25,EA30))/設定!$J21+IFERROR((COUNTIF(DS$6:EL$7,処理!$L14)+COUNTIF(DS$10:EL$10,処理!$L14)+COUNTIF(DS$13:EL$13,処理!$L14)+COUNTIF(DS$16:EL$16,処理!$L14)+COUNTIF(DS$19:EL$19,処理!$L14)+COUNTIF(DS$22:EL$22,処理!$L14)+COUNTIF(DS$25:EL$25,処理!$L14))/処理!$M14,0))","v":""},{"$f":"IF(LEN(EA30)=0,\"\",SUM(DJ30,EC30))","v":""},{"$f":"$O$30","v":""},null,{"$f":"IF(LEN(EE30)=0,\"\",(COUNTIF(DS$6:EL$7,EE30)+COUNTIF(DS$10:EL$10,EE30)+COUNTIF(DS$13:EL$13,EE30)+COUNTIF(DS$16:EL$16,EE30)+COUNTIF(DS$19:EL$19,EE30)+COUNTIF(DS$22:EL$22,EE30)+COUNTIF(DS$25:EL$25,EE30))/設定!$M21+IFERROR((COUNTIF(DS$6:EL$7,処理!$L20)+COUNTIF(DS$10:EL$10,処理!$L20)+COUNTIF(DS$13:EL$13,処理!$L20)+COUNTIF(DS$16:EL$16,処理!$L20)+COUNTIF(DS$19:EL$19,処理!$L20)+COUNTIF(DS$22:EL$22,処理!$L20)+COUNTIF(DS$25:EL$25,処理!$L20))/処理!$M20,0))","v":""},{"$f":"IF(LEN(EE30)=0,\"\",SUM(DN30,EG30))","v":""},"授業合計",null,{"$f":"SUM(DU30:DU35,DY30:DY35,EC30:EC35,EG30:EG35)","v":0},{"$f":"IF(LEN(EI30)=0,\"\",SUM(DR30,EK30))","v":0},{"$f":"$C$30","v":""},null,{"$f":"IF(LEN(EM30)=0,\"\",(COUNTIF(EM$6:FF$7,EM30)+COUNTIF(EM$10:FF$10,EM30)+COUNTIF(EM$13:FF$13,EM30)+COUNTIF(EM$16:FF$16,EM30)+COUNTIF(EM$19:FF$19,EM30)+COUNTIF(EM$22:FF$22,EM30)+COUNTIF(EM$25:FF$25,EM30))/設定!$D21+IFERROR((COUNTIF(EM$6:FF$7,処理!$L2)+COUNTIF(EM$10:FF$10,処理!$L2)+COUNTIF(EM$13:FF$13,処理!$L2)+COUNTIF(EM$16:FF$16,処理!$L2)+COUNTIF(EM$19:FF$19,処理!$L2)+COUNTIF(EM$22:FF$22,処理!$L2)+COUNTIF(EM$25:FF$25,処理!$L2))/処理!$M2,0))","v":""},{"$f":"IF(LEN(EM30)=0,\"\",SUM(DV30,EO30))","v":""},{"$f":"$G$30","v":""},null,{"$f":"IF(LEN(EQ30)=0,\"\",(COUNTIF(EM$6:FF$7,EQ30)+COUNTIF(EM$10:FF$10,EQ30)+COUNTIF(EM$13:FF$13,EQ30)+COUNTIF(EM$16:FF$16,EQ30)+COUNTIF(EM$19:FF$19,EQ30)+COUNTIF(EM$22:FF$22,EQ30)+COUNTIF(EM$25:FF$25,EQ30))/設定!$G21+IFERROR((COUNTIF(EM$6:FF$7,処理!$L8)+COUNTIF(EM$10:FF$10,処理!$L8)+COUNTIF(EM$13:FF$13,処理!$L8)+COUNTIF(EM$16:FF$16,処理!$L8)+COUNTIF(EM$19:FF$19,処理!$L8)+COUNTIF(EM$22:FF$22,処理!$L8)+COUNTIF(EM$25:FF$25,処理!$L8))/処理!$M8,0))","v":""},{"$f":"IF(LEN(EQ30)=0,\"\",SUM(DZ30,ES30))","v":""},{"$f":"$K$30","v":""},null,{"$f":"IF(LEN(EU30)=0,\"\",(COUNTIF(EM$6:FF$7,EU30)+COUNTIF(EM$10:FF$10,EU30)+COUNTIF(EM$13:FF$13,EU30)+COUNTIF(EM$16:FF$16,EU30)+COUNTIF(EM$19:FF$19,EU30)+COUNTIF(EM$22:FF$22,EU30)+COUNTIF(EM$25:FF$25,EU30))/設定!$J21+IFERROR((COUNTIF(EM$6:FF$7,処理!$L14)+COUNTIF(EM$10:FF$10,処理!$L14)+COUNTIF(EM$13:FF$13,処理!$L14)+COUNTIF(EM$16:FF$16,処理!$L14)+COUNTIF(EM$19:FF$19,処理!$L14)+COUNTIF(EM$22:FF$22,処理!$L14)+COUNTIF(EM$25:FF$25,処理!$L14))/処理!$M14,0))","v":""},{"$f":"IF(LEN(EU30)=0,\"\",SUM(ED30,EW30))","v":""},{"$f":"$O$30","v":""},null,{"$f":"IF(LEN(EY30)=0,\"\",(COUNTIF(EM$6:FF$7,EY30)+COUNTIF(EM$10:FF$10,EY30)+COUNTIF(EM$13:FF$13,EY30)+COUNTIF(EM$16:FF$16,EY30)+COUNTIF(EM$19:FF$19,EY30)+COUNTIF(EM$22:FF$22,EY30)+COUNTIF(EM$25:FF$25,EY30))/設定!$M21+IFERROR((COUNTIF(EM$6:FF$7,処理!$L20)+COUNTIF(EM$10:FF$10,処理!$L20)+COUNTIF(EM$13:FF$13,処理!$L20)+COUNTIF(EM$16:FF$16,処理!$L20)+COUNTIF(EM$19:FF$19,処理!$L20)+COUNTIF(EM$22:FF$22,処理!$L20)+COUNTIF(EM$25:FF$25,処理!$L20))/処理!$M20,0))","v":""},{"$f":"IF(LEN(EY30)=0,\"\",SUM(EH30,FA30))","v":""},"授業合計",null,{"$f":"SUM(EO30:EO35,ES30:ES35,EW30:EW35,FA30:FA35)","v":0},{"$f":"IF(LEN(FC30)=0,\"\",SUM(EL30,FE30))","v":0},{"$f":"$C$30","v":""},null,{"$f":"IF(LEN(FG30)=0,\"\",(COUNTIF(FG$6:FZ$7,FG30)+COUNTIF(FG$10:FZ$10,FG30)+COUNTIF(FG$13:FZ$13,FG30)+COUNTIF(FG$16:FZ$16,FG30)+COUNTIF(FG$19:FZ$19,FG30)+COUNTIF(FG$22:FZ$22,FG30)+COUNTIF(FG$25:FZ$25,FG30))/設定!$D21+IFERROR((COUNTIF(FG$6:FZ$7,処理!$L2)+COUNTIF(FG$10:FZ$10,処理!$L2)+COUNTIF(FG$13:FZ$13,処理!$L2)+COUNTIF(FG$16:FZ$16,処理!$L2)+COUNTIF(FG$19:FZ$19,処理!$L2)+COUNTIF(FG$22:FZ$22,処理!$L2)+COUNTIF(FG$25:FZ$25,処理!$L2))/処理!$M2,0))","v":""},{"$f":"IF(LEN(FG30)=0,\"\",SUM(EP30,FI30))","v":""},{"$f":"$G$30","v":""},null,{"$f":"IF(LEN(FK30)=0,\"\",(COUNTIF(FG$6:FZ$7,FK30)+COUNTIF(FG$10:FZ$10,FK30)+COUNTIF(FG$13:FZ$13,FK30)+COUNTIF(FG$16:FZ$16,FK30)+COUNTIF(FG$19:FZ$19,FK30)+COUNTIF(FG$22:FZ$22,FK30)+COUNTIF(FG$25:FZ$25,FK30))/設定!$G21+IFERROR((COUNTIF(FG$6:FZ$7,処理!$L8)+COUNTIF(FG$10:FZ$10,処理!$L8)+COUNTIF(FG$13:FZ$13,処理!$L8)+COUNTIF(FG$16:FZ$16,処理!$L8)+COUNTIF(FG$19:FZ$19,処理!$L8)+COUNTIF(FG$22:FZ$22,処理!$L8)+COUNTIF(FG$25:FZ$25,処理!$L8))/処理!$M8,0))","v":""},{"$f":"IF(LEN(FK30)=0,\"\",SUM(ET30,FM30))","v":""},{"$f":"$K$30","v":""},null,{"$f":"IF(LEN(FO30)=0,\"\",(COUNTIF(FG$6:FZ$7,FO30)+COUNTIF(FG$10:FZ$10,FO30)+COUNTIF(FG$13:FZ$13,FO30)+COUNTIF(FG$16:FZ$16,FO30)+COUNTIF(FG$19:FZ$19,FO30)+COUNTIF(FG$22:FZ$22,FO30)+COUNTIF(FG$25:FZ$25,FO30))/設定!$J21+IFERROR((COUNTIF(FG$6:FZ$7,処理!$L14)+COUNTIF(FG$10:FZ$10,処理!$L14)+COUNTIF(FG$13:FZ$13,処理!$L14)+COUNTIF(FG$16:FZ$16,処理!$L14)+COUNTIF(FG$19:FZ$19,処理!$L14)+COUNTIF(FG$22:FZ$22,処理!$L14)+COUNTIF(FG$25:FZ$25,処理!$L14))/処理!$M14,0))","v":""},{"$f":"IF(LEN(FO30)=0,\"\",SUM(EX30,FQ30))","v":""},{"$f":"$O$30","v":""},null,{"$f":"IF(LEN(FS30)=0,\"\",(COUNTIF(FG$6:FZ$7,FS30)+COUNTIF(FG$10:FZ$10,FS30)+COUNTIF(FG$13:FZ$13,FS30)+COUNTIF(FG$16:FZ$16,FS30)+COUNTIF(FG$19:FZ$19,FS30)+COUNTIF(FG$22:FZ$22,FS30)+COUNTIF(FG$25:FZ$25,FS30))/設定!$M21+IFERROR((COUNTIF(FG$6:FZ$7,処理!$L20)+COUNTIF(FG$10:FZ$10,処理!$L20)+COUNTIF(FG$13:FZ$13,処理!$L20)+COUNTIF(FG$16:FZ$16,処理!$L20)+COUNTIF(FG$19:FZ$19,処理!$L20)+COUNTIF(FG$22:FZ$22,処理!$L20)+COUNTIF(FG$25:FZ$25,処理!$L20))/処理!$M20,0))","v":""},{"$f":"IF(LEN(FS30)=0,\"\",SUM(FB30,FU30))","v":""},"授業合計",null,{"$f":"SUM(FI30:FI35,FM30:FM35,FQ30:FQ35,FU30:FU35)","v":0},{"$f":"IF(LEN(FW30)=0,\"\",SUM(FF30,FY30))","v":0},{"$f":"$C$30","v":""},null,{"$f":"IF(LEN(GA30)=0,\"\",(COUNTIF(GA$6:GT$7,GA30)+COUNTIF(GA$10:GT$10,GA30)+COUNTIF(GA$13:GT$13,GA30)+COUNTIF(GA$16:GT$16,GA30)+COUNTIF(GA$19:GT$19,GA30)+COUNTIF(GA$22:GT$22,GA30)+COUNTIF(GA$25:GT$25,GA30))/設定!$D21+IFERROR((COUNTIF(GA$6:GT$7,処理!$L2)+COUNTIF(GA$10:GT$10,処理!$L2)+COUNTIF(GA$13:GT$13,処理!$L2)+COUNTIF(GA$16:GT$16,処理!$L2)+COUNTIF(GA$19:GT$19,処理!$L2)+COUNTIF(GA$22:GT$22,処理!$L2)+COUNTIF(GA$25:GT$25,処理!$L2))/処理!$M2,0))","v":""},{"$f":"IF(LEN(GA30)=0,\"\",SUM(FJ30,GC30))","v":""},{"$f":"$G$30","v":""},null,{"$f":"IF(LEN(GE30)=0,\"\",(COUNTIF(GA$6:GT$7,GE30)+COUNTIF(GA$10:GT$10,GE30)+COUNTIF(GA$13:GT$13,GE30)+COUNTIF(GA$16:GT$16,GE30)+COUNTIF(GA$19:GT$19,GE30)+COUNTIF(GA$22:GT$22,GE30)+COUNTIF(GA$25:GT$25,GE30))/設定!$G21+IFERROR((COUNTIF(GA$6:GT$7,処理!$L8)+COUNTIF(GA$10:GT$10,処理!$L8)+COUNTIF(GA$13:GT$13,処理!$L8)+COUNTIF(GA$16:GT$16,処理!$L8)+COUNTIF(GA$19:GT$19,処理!$L8)+COUNTIF(GA$22:GT$22,処理!$L8)+COUNTIF(GA$25:GT$25,処理!$L8))/処理!$M8,0))","v":""},{"$f":"IF(LEN(GE30)=0,\"\",SUM(FN30,GG30))","v":""},{"$f":"$K$30","v":""},null,{"$f":"IF(LEN(GI30)=0,\"\",(COUNTIF(GA$6:GT$7,GI30)+COUNTIF(GA$10:GT$10,GI30)+COUNTIF(GA$13:GT$13,GI30)+COUNTIF(GA$16:GT$16,GI30)+COUNTIF(GA$19:GT$19,GI30)+COUNTIF(GA$22:GT$22,GI30)+COUNTIF(GA$25:GT$25,GI30))/設定!$J21+IFERROR((COUNTIF(GA$6:GT$7,処理!$L14)+COUNTIF(GA$10:GT$10,処理!$L14)+COUNTIF(GA$13:GT$13,処理!$L14)+COUNTIF(GA$16:GT$16,処理!$L14)+COUNTIF(GA$19:GT$19,処理!$L14)+COUNTIF(GA$22:GT$22,処理!$L14)+COUNTIF(GA$25:GT$25,処理!$L14))/処理!$M14,0))","v":""},{"$f":"IF(LEN(GI30)=0,\"\",SUM(FR30,GK30))","v":""},{"$f":"$O$30","v":""},null,{"$f":"IF(LEN(GM30)=0,\"\",(COUNTIF(GA$6:GT$7,GM30)+COUNTIF(GA$10:GT$10,GM30)+COUNTIF(GA$13:GT$13,GM30)+COUNTIF(GA$16:GT$16,GM30)+COUNTIF(GA$19:GT$19,GM30)+COUNTIF(GA$22:GT$22,GM30)+COUNTIF(GA$25:GT$25,GM30))/設定!$M21+IFERROR((COUNTIF(GA$6:GT$7,処理!$L20)+COUNTIF(GA$10:GT$10,処理!$L20)+COUNTIF(GA$13:GT$13,処理!$L20)+COUNTIF(GA$16:GT$16,処理!$L20)+COUNTIF(GA$19:GT$19,処理!$L20)+COUNTIF(GA$22:GT$22,処理!$L20)+COUNTIF(GA$25:GT$25,処理!$L20))/処理!$M20,0))","v":""},{"$f":"IF(LEN(GM30)=0,\"\",SUM(FV30,GO30))","v":""},"授業合計",null,{"$f":"SUM(GC30:GC35,GG30:GG35,GK30:GK35,GO30:GO35)","v":0},{"$f":"IF(LEN(GQ30)=0,\"\",SUM(FZ30,GS30))","v":0},{"$f":"$C$30","v":""},null,{"$f":"IF(LEN(GU30)=0,\"\",(COUNTIF(GU$6:HN$7,GU30)+COUNTIF(GU$10:HN$10,GU30)+COUNTIF(GU$13:HN$13,GU30)+COUNTIF(GU$16:HN$16,GU30)+COUNTIF(GU$19:HN$19,GU30)+COUNTIF(GU$22:HN$22,GU30)+COUNTIF(GU$25:HN$25,GU30))/設定!$D21+IFERROR((COUNTIF(GU$6:HN$7,処理!$L2)+COUNTIF(GU$10:HN$10,処理!$L2)+COUNTIF(GU$13:HN$13,処理!$L2)+COUNTIF(GU$16:HN$16,処理!$L2)+COUNTIF(GU$19:HN$19,処理!$L2)+COUNTIF(GU$22:HN$22,処理!$L2)+COUNTIF(GU$25:HN$25,処理!$L2))/処理!$M2,0))","v":""},{"$f":"IF(LEN(GU30)=0,\"\",SUM(GD30,GW30))","v":""},{"$f":"$G$30","v":""},null,{"$f":"IF(LEN(GY30)=0,\"\",(COUNTIF(GU$6:HN$7,GY30)+COUNTIF(GU$10:HN$10,GY30)+COUNTIF(GU$13:HN$13,GY30)+COUNTIF(GU$16:HN$16,GY30)+COUNTIF(GU$19:HN$19,GY30)+COUNTIF(GU$22:HN$22,GY30)+COUNTIF(GU$25:HN$25,GY30))/設定!$G21+IFERROR((COUNTIF(GU$6:HN$7,処理!$L8)+COUNTIF(GU$10:HN$10,処理!$L8)+COUNTIF(GU$13:HN$13,処理!$L8)+COUNTIF(GU$16:HN$16,処理!$L8)+COUNTIF(GU$19:HN$19,処理!$L8)+COUNTIF(GU$22:HN$22,処理!$L8)+COUNTIF(GU$25:HN$25,処理!$L8))/処理!$M8,0))","v":""},{"$f":"IF(LEN(GY30)=0,\"\",SUM(GH30,HA30))","v":""},{"$f":"$K$30","v":""},null,{"$f":"IF(LEN(HC30)=0,\"\",(COUNTIF(GU$6:HN$7,HC30)+COUNTIF(GU$10:HN$10,HC30)+COUNTIF(GU$13:HN$13,HC30)+COUNTIF(GU$16:HN$16,HC30)+COUNTIF(GU$19:HN$19,HC30)+COUNTIF(GU$22:HN$22,HC30)+COUNTIF(GU$25:HN$25,HC30))/設定!$J21+IFERROR((COUNTIF(GU$6:HN$7,処理!$L14)+COUNTIF(GU$10:HN$10,処理!$L14)+COUNTIF(GU$13:HN$13,処理!$L14)+COUNTIF(GU$16:HN$16,処理!$L14)+COUNTIF(GU$19:HN$19,処理!$L14)+COUNTIF(GU$22:HN$22,処理!$L14)+COUNTIF(GU$25:HN$25,処理!$L14))/処理!$M14,0))","v":""},{"$f":"IF(LEN(HC30)=0,\"\",SUM(GL30,HE30))","v":""},{"$f":"$O$30","v":""},null,{"$f":"IF(LEN(HG30)=0,\"\",(COUNTIF(GU$6:HN$7,HG30)+COUNTIF(GU$10:HN$10,HG30)+COUNTIF(GU$13:HN$13,HG30)+COUNTIF(GU$16:HN$16,HG30)+COUNTIF(GU$19:HN$19,HG30)+COUNTIF(GU$22:HN$22,HG30)+COUNTIF(GU$25:HN$25,HG30))/設定!$M21+IFERROR((COUNTIF(GU$6:HN$7,処理!$L20)+COUNTIF(GU$10:HN$10,処理!$L20)+COUNTIF(GU$13:HN$13,処理!$L20)+COUNTIF(GU$16:HN$16,処理!$L20)+COUNTIF(GU$19:HN$19,処理!$L20)+COUNTIF(GU$22:HN$22,処理!$L20)+COUNTIF(GU$25:HN$25,処理!$L20))/処理!$M20,0))","v":""},{"$f":"IF(LEN(HG30)=0,\"\",SUM(GP30,HI30))","v":""},"授業合計",null,{"$f":"SUM(GW30:GW35,HA30:HA35,HE30:HE35,HI30:HI35)","v":0},{"$f":"IF(LEN(HK30)=0,\"\",SUM(GT30,HM30))","v":0},{"$f":"$C$30","v":""},null,{"$f":"IF(LEN(HO30)=0,\"\",(COUNTIF(HO$6:IH$7,HO30)+COUNTIF(HO$10:IH$10,HO30)+COUNTIF(HO$13:IH$13,HO30)+COUNTIF(HO$16:IH$16,HO30)+COUNTIF(HO$19:IH$19,HO30)+COUNTIF(HO$22:IH$22,HO30)+COUNTIF(HO$25:IH$25,HO30))/設定!$D21+IFERROR((COUNTIF(HO$6:IH$7,処理!$L2)+COUNTIF(HO$10:IH$10,処理!$L2)+COUNTIF(HO$13:IH$13,処理!$L2)+COUNTIF(HO$16:IH$16,処理!$L2)+COUNTIF(HO$19:IH$19,処理!$L2)+COUNTIF(HO$22:IH$22,処理!$L2)+COUNTIF(HO$25:IH$25,処理!$L2))/処理!$M2,0))","v":""},{"$f":"IF(LEN(HO30)=0,\"\",SUM(GX30,HQ30))","v":""},{"$f":"$G$30","v":""},null,{"$f":"IF(LEN(HS30)=0,\"\",(COUNTIF(HO$6:IH$7,HS30)+COUNTIF(HO$10:IH$10,HS30)+COUNTIF(HO$13:IH$13,HS30)+COUNTIF(HO$16:IH$16,HS30)+COUNTIF(HO$19:IH$19,HS30)+COUNTIF(HO$22:IH$22,HS30)+COUNTIF(HO$25:IH$25,HS30))/設定!$G21+IFERROR((COUNTIF(HO$6:IH$7,処理!$L8)+COUNTIF(HO$10:IH$10,処理!$L8)+COUNTIF(HO$13:IH$13,処理!$L8)+COUNTIF(HO$16:IH$16,処理!$L8)+COUNTIF(HO$19:IH$19,処理!$L8)+COUNTIF(HO$22:IH$22,処理!$L8)+COUNTIF(HO$25:IH$25,処理!$L8))/処理!$M8,0))","v":""},{"$f":"IF(LEN(HS30)=0,\"\",SUM(HB30,HU30))","v":""},{"$f":"$K$30","v":""},null,{"$f":"IF(LEN(HW30)=0,\"\",(COUNTIF(HO$6:IH$7,HW30)+COUNTIF(HO$10:IH$10,HW30)+COUNTIF(HO$13:IH$13,HW30)+COUNTIF(HO$16:IH$16,HW30)+COUNTIF(HO$19:IH$19,HW30)+COUNTIF(HO$22:IH$22,HW30)+COUNTIF(HO$25:IH$25,HW30))/設定!$J21+IFERROR((COUNTIF(HO$6:IH$7,処理!$L14)+COUNTIF(HO$10:IH$10,処理!$L14)+COUNTIF(HO$13:IH$13,処理!$L14)+COUNTIF(HO$16:IH$16,処理!$L14)+COUNTIF(HO$19:IH$19,処理!$L14)+COUNTIF(HO$22:IH$22,処理!$L14)+COUNTIF(HO$25:IH$25,処理!$L14))/処理!$M14,0))","v":""},{"$f":"IF(LEN(HW30)=0,\"\",SUM(HF30,HY30))","v":""},{"$f":"$O$30","v":""},null,{"$f":"IF(LEN(IA30)=0,\"\",(COUNTIF(HO$6:IH$7,IA30)+COUNTIF(HO$10:IH$10,IA30)+COUNTIF(HO$13:IH$13,IA30)+COUNTIF(HO$16:IH$16,IA30)+COUNTIF(HO$19:IH$19,IA30)+COUNTIF(HO$22:IH$22,IA30)+COUNTIF(HO$25:IH$25,IA30))/設定!$M21+IFERROR((COUNTIF(HO$6:IH$7,処理!$L20)+COUNTIF(HO$10:IH$10,処理!$L20)+COUNTIF(HO$13:IH$13,処理!$L20)+COUNTIF(HO$16:IH$16,処理!$L20)+COUNTIF(HO$19:IH$19,処理!$L20)+COUNTIF(HO$22:IH$22,処理!$L20)+COUNTIF(HO$25:IH$25,処理!$L20))/処理!$M20,0))","v":""},{"$f":"IF(LEN(IA30)=0,\"\",SUM(HJ30,IC30))","v":""},"授業合計",null,{"$f":"SUM(HQ30:HQ35,HU30:HU35,HY30:HY35,IC30:IC35)","v":0},{"$f":"IF(LEN(IE30)=0,\"\",SUM(HN30,IG30))","v":0},{"$f":"$C$30","v":""},null,{"$f":"IF(LEN(II30)=0,\"\",(COUNTIF(II$6:JB$7,II30)+COUNTIF(II$10:JB$10,II30)+COUNTIF(II$13:JB$13,II30)+COUNTIF(II$16:JB$16,II30)+COUNTIF(II$19:JB$19,II30)+COUNTIF(II$22:JB$22,II30)+COUNTIF(II$25:JB$25,II30))/設定!$D21+IFERROR((COUNTIF(II$6:JB$7,処理!$L2)+COUNTIF(II$10:JB$10,処理!$L2)+COUNTIF(II$13:JB$13,処理!$L2)+COUNTIF(II$16:JB$16,処理!$L2)+COUNTIF(II$19:JB$19,処理!$L2)+COUNTIF(II$22:JB$22,処理!$L2)+COUNTIF(II$25:JB$25,処理!$L2))/処理!$M2,0))","v":""},{"$f":"IF(LEN(II30)=0,\"\",SUM(HR30,IK30))","v":""},{"$f":"$G$30","v":""},null,{"$f":"IF(LEN(IM30)=0,\"\",(COUNTIF(II$6:JB$7,IM30)+COUNTIF(II$10:JB$10,IM30)+COUNTIF(II$13:JB$13,IM30)+COUNTIF(II$16:JB$16,IM30)+COUNTIF(II$19:JB$19,IM30)+COUNTIF(II$22:JB$22,IM30)+COUNTIF(II$25:JB$25,IM30))/設定!$G21+IFERROR((COUNTIF(II$6:JB$7,処理!$L8)+COUNTIF(II$10:JB$10,処理!$L8)+COUNTIF(II$13:JB$13,処理!$L8)+COUNTIF(II$16:JB$16,処理!$L8)+COUNTIF(II$19:JB$19,処理!$L8)+COUNTIF(II$22:JB$22,処理!$L8)+COUNTIF(II$25:JB$25,処理!$L8))/処理!$M8,0))","v":""},{"$f":"IF(LEN(IM30)=0,\"\",SUM(HV30,IO30))","v":""},{"$f":"$K$30","v":""},null,{"$f":"IF(LEN(IQ30)=0,\"\",(COUNTIF(II$6:JB$7,IQ30)+COUNTIF(II$10:JB$10,IQ30)+COUNTIF(II$13:JB$13,IQ30)+COUNTIF(II$16:JB$16,IQ30)+COUNTIF(II$19:JB$19,IQ30)+COUNTIF(II$22:JB$22,IQ30)+COUNTIF(II$25:JB$25,IQ30))/設定!$J21+IFERROR((COUNTIF(II$6:JB$7,処理!$L14)+COUNTIF(II$10:JB$10,処理!$L14)+COUNTIF(II$13:JB$13,処理!$L14)+COUNTIF(II$16:JB$16,処理!$L14)+COUNTIF(II$19:JB$19,処理!$L14)+COUNTIF(II$22:JB$22,処理!$L14)+COUNTIF(II$25:JB$25,処理!$L14))/処理!$M14,0))","v":""},{"$f":"IF(LEN(IQ30)=0,\"\",SUM(HZ30,IS30))","v":""},{"$f":"$O$30","v":""},null,{"$f":"IF(LEN(IU30)=0,\"\",(COUNTIF(II$6:JB$7,IU30)+COUNTIF(II$10:JB$10,IU30)+COUNTIF(II$13:JB$13,IU30)+COUNTIF(II$16:JB$16,IU30)+COUNTIF(II$19:JB$19,IU30)+COUNTIF(II$22:JB$22,IU30)+COUNTIF(II$25:JB$25,IU30))/設定!$M21+IFERROR((COUNTIF(II$6:JB$7,処理!$L20)+COUNTIF(II$10:JB$10,処理!$L20)+COUNTIF(II$13:JB$13,処理!$L20)+COUNTIF(II$16:JB$16,処理!$L20)+COUNTIF(II$19:JB$19,処理!$L20)+COUNTIF(II$22:JB$22,処理!$L20)+COUNTIF(II$25:JB$25,処理!$L20))/処理!$M20,0))","v":""},{"$f":"IF(LEN(IU30)=0,\"\",SUM(ID30,IW30))","v":""},"授業合計",null,{"$f":"SUM(IK30:IK35,IO30:IO35,IS30:IS35,IW30:IW35)","v":0},{"$f":"IF(LEN(IY30)=0,\"\",SUM(IH30,JA30))","v":0}]
[null,null,{"$f":"IF(COUNTIF(処理!$J$2:$J$25,1)>0,処理!H3,\"\")","v":""},null,{"$f":"IF(LEN(C31)=0,\"\",(COUNTIF(C$6:V$7,C31)+COUNTIF(C$10:V$10,C31)+COUNTIF(C$13:V$13,C31)+COUNTIF(C$16:V$16,C31)+COUNTIF(C$19:V$19,C31)+COUNTIF(C$22:V$22,C31)+COUNTIF(C$25:V$25,C31))/設定!$D22+IFERROR((COUNTIF(C$6:V$7,処理!$L3)+COUNTIF(C$10:V$10,処理!$L3)+COUNTIF(C$13:V$13,処理!$L3)+COUNTIF(C$16:V$16,処理!$L3)+COUNTIF(C$19:V$19,処理!$L3)+COUNTIF(C$22:V$22,処理!$L3)+COUNTIF(C$25:V$25,処理!$L3))/処理!$M3,0))","v":""},{"$f":"E31","v":""},{"$f":"IF(COUNTIF(処理!$J$2:$J$25,7)>0,処理!H9,\"\")","v":""},null,{"$f":"IF(LEN(G31)=0,\"\",(COUNTIF(C$6:V$7,G31)+COUNTIF(C$10:V$10,G31)+COUNTIF(C$13:V$13,G31)+COUNTIF(C$16:V$16,G31)+COUNTIF(C$19:V$19,G31)+COUNTIF(C$22:V$22,G31)+COUNTIF(C$25:V$25,G31))/設定!$G22+IFERROR((COUNTIF(C$6:V$7,処理!$L9)+COUNTIF(C$10:V$10,処理!$L9)+COUNTIF(C$13:V$13,処理!$L9)+COUNTIF(C$16:V$16,処理!$L9)+COUNTIF(C$19:V$19,処理!$L9)+COUNTIF(C$22:V$22,処理!$L9)+COUNTIF(C$25:V$25,処理!$L9))/処理!$M9,0))","v":""},{"$f":"I31","v":""},{"$f":"IF(COUNTIF(処理!$J$2:$J$25,13)>0,処理!H15,\"\")","v":""},null,{"$f":"IF(LEN(K31)=0,\"\",(COUNTIF(C$6:V$7,K31)+COUNTIF(C$10:V$10,K31)+COUNTIF(C$13:V$13,K31)+COUNTIF(C$16:V$16,K31)+COUNTIF(C$19:V$19,K31)+COUNTIF(C$22:V$22,K31)+COUNTIF(C$25:V$25,K31))/設定!$J22+IFERROR((COUNTIF(C$6:V$7,処理!$L15)+COUNTIF(C$10:V$10,処理!$L15)+COUNTIF(C$13:V$13,処理!$L15)+COUNTIF(C$16:V$16,処理!$L15)+COUNTIF(C$19:V$19,処理!$L15)+COUNTIF(C$22:V$22,処理!$L15)+COUNTIF(C$25:V$25,処理!$L15))/処理!$M15,0))","v":""},{"$f":"M31","v":""},{"$f":"IF(COUNTIF(処理!$J$2:$J$25,19)>0,処理!H21,\"\")","v":""},null,{"$f":"IF(LEN(O31)=0,\"\",(COUNTIF(C$6:V$7,O31)+COUNTIF(C$10:V$10,O31)+COUNTIF(C$13:V$13,O31)+COUNTIF(C$16:V$16,O31)+COUNTIF(C$19:V$19,O31)+COUNTIF(C$22:V$22,O31)+COUNTIF(C$25:V$25,O31))/設定!$M22+IFERROR((COUNTIF(C$6:V$7,処理!$L21)+COUNTIF(C$10:V$10,処理!$L21)+COUNTIF(C$13:V$13,処理!$L21)+COUNTIF(C$16:V$16,処理!$L21)+COUNTIF(C$19:V$19,処理!$L21)+COUNTIF(C$22:V$22,処理!$L21)+COUNTIF(C$25:V$25,処理!$L21))/処理!$M21,0))","v":""},{"$f":"Q31","v":""},{"$f":"処理!H27&\"\"","v":""},null,{"$f":"IF(LEN(S31)=0,\"\",COUNTIF(C$6:V$7,S31)+COUNTIF(C$10:V$10,S31)+COUNTIF(C$13:V$13,S31)+COUNTIF(C$16:V$16,S31)+COUNTIF(C$19:V$19,S31)+COUNTIF(C$22:V$22,S31)+COUNTIF(C$25:V$25,S31))","v":""},{"$f":"U31","v":""},{"$f":"$C$31","v":""},null,{"$f":"IF(LEN(W31)=0,\"\",(COUNTIF(W$6:AP$7,W31)+COUNTIF(W$10:AP$10,W31)+COUNTIF(W$13:AP$13,W31)+COUNTIF(W$16:AP$16,W31)+COUNTIF(W$19:AP$19,W31)+COUNTIF(W$22:AP$22,W31)+COUNTIF(W$25:AP$25,W31))/設定!$D22+IFERROR((COUNTIF(W$6:AP$7,処理!$L3)+COUNTIF(W$10:AP$10,処理!$L3)+COUNTIF(W$13:AP$13,処理!$L3)+COUNTIF(W$16:AP$16,処理!$L3)+COUNTIF(W$19:AP$19,処理!$L3)+COUNTIF(W$22:AP$22,処理!$L3)+COUNTIF(W$25:AP$25,処理!$L3))/処理!$M3,0))","v":""},{"$f":"IF(LEN(W31)=0,\"\",SUM(F31,Y31))","v":""},{"$f":"$G$31","v":""},null,{"$f":"IF(LEN(AA31)=0,\"\",(COUNTIF(W$6:AP$7,AA31)+COUNTIF(W$10:AP$10,AA31)+COUNTIF(W$13:AP$13,AA31)+COUNTIF(W$16:AP$16,AA31)+COUNTIF(W$19:AP$19,AA31)+COUNTIF(W$22:AP$22,AA31)+COUNTIF(W$25:AP$25,AA31))/設定!$G22+IFERROR((COUNTIF(W$6:AP$7,処理!$L9)+COUNTIF(W$10:AP$10,処理!$L9)+COUNTIF(W$13:AP$13,処理!$L9)+COUNTIF(W$16:AP$16,処理!$L9)+COUNTIF(W$19:AP$19,処理!$L9)+COUNTIF(W$22:AP$22,処理!$L9)+COUNTIF(W$25:AP$25,処理!$L9))/処理!$M9,0))","v":""},"",{"$f":"$K$31","v":""},null,{"$f":"IF(LEN(AE31)=0,\"\",(COUNTIF(W$6:AP$7,AE31)+COUNTIF(W$10:AP$10,AE31)+COUNTIF(W$13:AP$13,AE31)+COUNTIF(W$16:AP$16,AE31)+COUNTIF(W$19:AP$19,AE31)+COUNTIF(W$22:AP$22,AE31)+COUNTIF(W$25:AP$25,AE31))/設定!$J22+IFERROR((COUNTIF(W$6:AP$7,処理!$L15)+COUNTIF(W$10:AP$10,処理!$L15)+COUNTIF(W$13:AP$13,処理!$L15)+COUNTIF(W$16:AP$16,処理!$L15)+COUNTIF(W$19:AP$19,処理!$L15)+COUNTIF(W$22:AP$22,処理!$L15)+COUNTIF(W$25:AP$25,処理!$L15))/処理!$M15,0))","v":""},"",{"$f":"$O$31","v":""},null,{"$f":"IF(LEN(AI31)=0,\"\",(COUNTIF(W$6:AP$7,AI31)+COUNTIF(W$10:AP$10,AI31)+COUNTIF(W$13:AP$13,AI31)+COUNTIF(W$16:AP$16,AI31)+COUNTIF(W$19:AP$19,AI31)+COUNTIF(W$22:AP$22,AI31)+COUNTIF(W$25:AP$25,AI31))/設定!$M22+IFERROR((COUNTIF(W$6:AP$7,処理!$L21)+COUNTIF(W$10:AP$10,処理!$L21)+COUNTIF(W$13:AP$13,処理!$L21)+COUNTIF(W$16:AP$16,処理!$L21)+COUNTIF(W$19:AP$19,処理!$L21)+COUNTIF(W$22:AP$22,処理!$L21)+COUNTIF(W$25:AP$25,処理!$L21))/処理!$M21,0))","v":""},"",{"$f":"$S$31","v":""},null,{"$f":"IF(LEN(AM31)=0,\"\",COUNTIF(W$6:AP$7,AM31)+COUNTIF(W$10:AP$10,AM31)+COUNTIF(W$13:AP$13,AM31)+COUNTIF(W$16:AP$16,AM31)+COUNTIF(W$19:AP$19,AM31)+COUNTIF(W$22:AP$22,AM31)+COUNTIF(W$25:AP$25,AM31))","v":""},"",{"$f":"$C$31","v":""},null,{"$f":"IF(LEN(AQ31)=0,\"\",(COUNTIF(AQ$6:BJ$7,AQ31)+COUNTIF(AQ$10:BJ$10,AQ31)+COUNTIF(AQ$13:BJ$13,AQ31)+COUNTIF(AQ$16:BJ$16,AQ31)+COUNTIF(AQ$19:BJ$19,AQ31)+COUNTIF(AQ$22:BJ$22,AQ31)+COUNTIF(AQ$25:BJ$25,AQ31))/設定!$D22+IFERROR((COUNTIF(AQ$6:BJ$7,処理!$L3)+COUNTIF(AQ$10:BJ$10,処理!$L3)+COUNTIF(AQ$13:BJ$13,処理!$L3)+COUNTIF(AQ$16:BJ$16,処理!$L3)+COUNTIF(AQ$19:BJ$19,処理!$L3)+COUNTIF(AQ$22:BJ$22,処理!$L3)+COUNTIF(AQ$25:BJ$25,処理!$L3))/処理!$M3,0))","v":""},{"$f":"IF(LEN(AQ31)=0,\"\",SUM(Z31,AS31))","v":""},{"$f":"$G$31","v":""},null,{"$f":"IF(LEN(AU31)=0,\"\",(COUNTIF(AQ$6:BJ$7,AU31)+COUNTIF(AQ$10:BJ$10,AU31)+COUNTIF(AQ$13:BJ$13,AU31)+COUNTIF(AQ$16:BJ$16,AU31)+COUNTIF(AQ$19:BJ$19,AU31)+COUNTIF(AQ$22:BJ$22,AU31)+COUNTIF(AQ$25:BJ$25,AU31))/設定!$G22+IFERROR((COUNTIF(AQ$6:BJ$7,処理!$L9)+COUNTIF(AQ$10:BJ$10,処理!$L9)+COUNTIF(AQ$13:BJ$13,処理!$L9)+COUNTIF(AQ$16:BJ$16,処理!$L9)+COUNTIF(AQ$19:BJ$19,処理!$L9)+COUNTIF(AQ$22:BJ$22,処理!$L9)+COUNTIF(AQ$25:BJ$25,処理!$L9))/処理!$M9,0))","v":""},"",{"$f":"$K$31","v":""},null,{"$f":"IF(LEN(AY31)=0,\"\",(COUNTIF(AQ$6:BJ$7,AY31)+COUNTIF(AQ$10:BJ$10,AY31)+COUNTIF(AQ$13:BJ$13,AY31)+COUNTIF(AQ$16:BJ$16,AY31)+COUNTIF(AQ$19:BJ$19,AY31)+COUNTIF(AQ$22:BJ$22,AY31)+COUNTIF(AQ$25:BJ$25,AY31))/設定!$J22+IFERROR((COUNTIF(AQ$6:BJ$7,処理!$L15)+COUNTIF(AQ$10:BJ$10,処理!$L15)+COUNTIF(AQ$13:BJ$13,処理!$L15)+COUNTIF(AQ$16:BJ$16,処理!$L15)+COUNTIF(AQ$19:BJ$19,処理!$L15)+COUNTIF(AQ$22:BJ$22,処理!$L15)+COUNTIF(AQ$25:BJ$25,処理!$L15))/処理!$M15,0))","v":""},"",{"$f":"$O$31","v":""},null,{"$f":"IF(LEN(BC31)=0,\"\",(COUNTIF(AQ$6:BJ$7,BC31)+COUNTIF(AQ$10:BJ$10,BC31)+COUNTIF(AQ$13:BJ$13,BC31)+COUNTIF(AQ$16:BJ$16,BC31)+COUNTIF(AQ$19:BJ$19,BC31)+COUNTIF(AQ$22:BJ$22,BC31)+COUNTIF(AQ$25:BJ$25,BC31))/設定!$M22+IFERROR((COUNTIF(AQ$6:BJ$7,処理!$L21)+COUNTIF(AQ$10:BJ$10,処理!$L21)+COUNTIF(AQ$13:BJ$13,処理!$L21)+COUNTIF(AQ$16:BJ$16,処理!$L21)+COUNTIF(AQ$19:BJ$19,処理!$L21)+COUNTIF(AQ$22:BJ$22,処理!$L21)+COUNTIF(AQ$25:BJ$25,処理!$L21))/処理!$M21,0))","v":""},"",{"$f":"$S$31","v":""},null,{"$f":"IF(LEN(BG31)=0,\"\",COUNTIF(AQ$6:BJ$7,BG31)+COUNTIF(AQ$10:BJ$10,BG31)+COUNTIF(AQ$13:BJ$13,BG31)+COUNTIF(AQ$16:BJ$16,BG31)+COUNTIF(AQ$19:BJ$19,BG31)+COUNTIF(AQ$22:BJ$22,BG31)+COUNTIF(AQ$25:BJ$25,BG31))","v":""},"",{"$f":"$C$31","v":""},null,{"$f":"IF(LEN(BK31)=0,\"\",(COUNTIF(BK$6:CD$7,BK31)+COUNTIF(BK$10:CD$10,BK31)+COUNTIF(BK$13:CD$13,BK31)+COUNTIF(BK$16:CD$16,BK31)+COUNTIF(BK$19:CD$19,BK31)+COUNTIF(BK$22:CD$22,BK31)+COUNTIF(BK$25:CD$25,BK31))/設定!$D22+IFERROR((COUNTIF(BK$6:CD$7,処理!$L3)+COUNTIF(BK$10:CD$10,処理!$L3)+COUNTIF(BK$13:CD$13,処理!$L3)+COUNTIF(BK$16:CD$16,処理!$L3)+COUNTIF(BK$19:CD$19,処理!$L3)+COUNTIF(BK$22:CD$22,処理!$L3)+COUNTIF(BK$25:CD$25,処理!$L3))/処理!$M3,0))","v":""},{"$f":"IF(LEN(BK31)=0,\"\",SUM(AT31,BM31))","v":""},{"$f":"$G$31","v":""},null,{"$f":"IF(LEN(BO31)=0,\"\",(COUNTIF(BK$6:CD$7,BO31)+COUNTIF(BK$10:CD$10,BO31)+COUNTIF(BK$13:CD$13,BO31)+COUNTIF(BK$16:CD$16,BO31)+COUNTIF(BK$19:CD$19,BO31)+COUNTIF(BK$22:CD$22,BO31)+COUNTIF(BK$25:CD$25,BO31))/設定!$G22+IFERROR((COUNTIF(BK$6:CD$7,処理!$L9)+COUNTIF(BK$10:CD$10,処理!$L9)+COUNTIF(BK$13:CD$13,処理!$L9)+COUNTIF(BK$16:CD$16,処理!$L9)+COUNTIF(BK$19:CD$19,処理!$L9)+COUNTIF(BK$22:CD$22,処理!$L9)+COUNTIF(BK$25:CD$25,処理!$L9))/処理!$M9,0))","v":""},"",{"$f":"$K$31","v":""},null,{"$f":"IF(LEN(BS31)=0,\"\",(COUNTIF(BK$6:CD$7,BS31)+COUNTIF(BK$10:CD$10,BS31)+COUNTIF(BK$13:CD$13,BS31)+COUNTIF(BK$16:CD$16,BS31)+COUNTIF(BK$19:CD$19,BS31)+COUNTIF(BK$22:CD$22,BS31)+COUNTIF(BK$25:CD$25,BS31))/設定!$J22+IFERROR((COUNTIF(BK$6:CD$7,処理!$L15)+COUNTIF(BK$10:CD$10,処理!$L15)+COUNTIF(BK$13:CD$13,処理!$L15)+COUNTIF(BK$16:CD$16,処理!$L15)+COUNTIF(BK$19:CD$19,処理!$L15)+COUNTIF(BK$22:CD$22,処理!$L15)+COUNTIF(BK$25:CD$25,処理!$L15))/処理!$M15,0))","v":""},"",{"$f":"$O$31","v":""},null,{"$f":"IF(LEN(BW31)=0,\"\",(COUNTIF(BK$6:CD$7,BW31)+COUNTIF(BK$10:CD$10,BW31)+COUNTIF(BK$13:CD$13,BW31)+COUNTIF(BK$16:CD$16,BW31)+COUNTIF(BK$19:CD$19,BW31)+COUNTIF(BK$22:CD$22,BW31)+COUNTIF(BK$25:CD$25,BW31))/設定!$M22+IFERROR((COUNTIF(BK$6:CD$7,処理!$L21)+COUNTIF(BK$10:CD$10,処理!$L21)+COUNTIF(BK$13:CD$13,処理!$L21)+COUNTIF(BK$16:CD$16,処理!$L21)+COUNTIF(BK$19:CD$19,処理!$L21)+COUNTIF(BK$22:CD$22,処理!$L21)+COUNTIF(BK$25:CD$25,処理!$L21))/処理!$M21,0))","v":""},"",{"$f":"$S$31","v":""},null,{"$f":"IF(LEN(CA31)=0,\"\",COUNTIF(BK$6:CD$7,CA31)+COUNTIF(BK$10:CD$10,CA31)+COUNTIF(BK$13:CD$13,CA31)+COUNTIF(BK$16:CD$16,CA31)+COUNTIF(BK$19:CD$19,CA31)+COUNTIF(BK$22:CD$22,CA31)+COUNTIF(BK$25:CD$25,CA31))","v":""},"",{"$f":"$C$31","v":""},null,{"$f":"IF(LEN(CE31)=0,\"\",(COUNTIF(CE$6:CX$7,CE31)+COUNTIF(CE$10:CX$10,CE31)+COUNTIF(CE$13:CX$13,CE31)+COUNTIF(CE$16:CX$16,CE31)+COUNTIF(CE$19:CX$19,CE31)+COUNTIF(CE$22:CX$22,CE31)+COUNTIF(CE$25:CX$25,CE31))/設定!$D22+IFERROR((COUNTIF(CE$6:CX$7,処理!$L3)+COUNTIF(CE$10:CX$10,処理!$L3)+COUNTIF(CE$13:CX$13,処理!$L3)+COUNTIF(CE$16:CX$16,処理!$L3)+COUNTIF(CE$19:CX$19,処理!$L3)+COUNTIF(CE$22:CX$22,処理!$L3)+COUNTIF(CE$25:CX$25,処理!$L3))/処理!$M3,0))","v":""},{"$f":"IF(LEN(CE31)=0,\"\",SUM(BN31,CG31))","v":""},{"$f":"$G$31","v":""},null,{"$f":"IF(LEN(CI31)=0,\"\",(COUNTIF(CE$6:CX$7,CI31)+COUNTIF(CE$10:CX$10,CI31)+COUNTIF(CE$13:CX$13,CI31)+COUNTIF(CE$16:CX$16,CI31)+COUNTIF(CE$19:CX$19,CI31)+COUNTIF(CE$22:CX$22,CI31)+COUNTIF(CE$25:CX$25,CI31))/設定!$G22+IFERROR((COUNTIF(CE$6:CX$7,処理!$L9)+COUNTIF(CE$10:CX$10,処理!$L9)+COUNTIF(CE$13:CX$13,処理!$L9)+COUNTIF(CE$16:CX$16,処理!$L9)+COUNTIF(CE$19:CX$19,処理!$L9)+COUNTIF(CE$22:CX$22,処理!$L9)+COUNTIF(CE$25:CX$25,処理!$L9))/処理!$M9,0))","v":""},"",{"$f":"$K$31","v":""},null,{"$f":"IF(LEN(CM31)=0,\"\",(COUNTIF(CE$6:CX$7,CM31)+COUNTIF(CE$10:CX$10,CM31)+COUNTIF(CE$13:CX$13,CM31)+COUNTIF(CE$16:CX$16,CM31)+COUNTIF(CE$19:CX$19,CM31)+COUNTIF(CE$22:CX$22,CM31)+COUNTIF(CE$25:CX$25,CM31))/設定!$J22+IFERROR((COUNTIF(CE$6:CX$7,処理!$L15)+COUNTIF(CE$10:CX$10,処理!$L15)+COUNTIF(CE$13:CX$13,処理!$L15)+COUNTIF(CE$16:CX$16,処理!$L15)+COUNTIF(CE$19:CX$19,処理!$L15)+COUNTIF(CE$22:CX$22,処理!$L15)+COUNTIF(CE$25:CX$25,処理!$L15))/処理!$M15,0))","v":""},"",{"$f":"$O$31","v":""},null,{"$f":"IF(LEN(CQ31)=0,\"\",(COUNTIF(CE$6:CX$7,CQ31)+COUNTIF(CE$10:CX$10,CQ31)+COUNTIF(CE$13:CX$13,CQ31)+COUNTIF(CE$16:CX$16,CQ31)+COUNTIF(CE$19:CX$19,CQ31)+COUNTIF(CE$22:CX$22,CQ31)+COUNTIF(CE$25:CX$25,CQ31))/設定!$M22+IFERROR((COUNTIF(CE$6:CX$7,処理!$L21)+COUNTIF(CE$10:CX$10,処理!$L21)+COUNTIF(CE$13:CX$13,処理!$L21)+COUNTIF(CE$16:CX$16,処理!$L21)+COUNTIF(CE$19:CX$19,処理!$L21)+COUNTIF(CE$22:CX$22,処理!$L21)+COUNTIF(CE$25:CX$25,処理!$L21))/処理!$M21,0))","v":""},"",{"$f":"$S$31","v":""},null,{"$f":"IF(LEN(CU31)=0,\"\",COUNTIF(CE$6:CX$7,CU31)+COUNTIF(CE$10:CX$10,CU31)+COUNTIF(CE$13:CX$13,CU31)+COUNTIF(CE$16:CX$16,CU31)+COUNTIF(CE$19:CX$19,CU31)+COUNTIF(CE$22:CX$22,CU31)+COUNTIF(CE$25:CX$25,CU31))","v":""},"",{"$f":"$C$31","v":""},null,{"$f":"IF(LEN(CY31)=0,\"\",(COUNTIF(CY$6:DR$7,CY31)+COUNTIF(CY$10:DR$10,CY31)+COUNTIF(CY$13:DR$13,CY31)+COUNTIF(CY$16:DR$16,CY31)+COUNTIF(CY$19:DR$19,CY31)+COUNTIF(CY$22:DR$22,CY31)+COUNTIF(CY$25:DR$25,CY31))/設定!$D22+IFERROR((COUNTIF(CY$6:DR$7,処理!$L3)+COUNTIF(CY$10:DR$10,処理!$L3)+COUNTIF(CY$13:DR$13,処理!$L3)+COUNTIF(CY$16:DR$16,処理!$L3)+COUNTIF(CY$19:DR$19,処理!$L3)+COUNTIF(CY$22:DR$22,処理!$L3)+COUNTIF(CY$25:DR$25,処理!$L3))/処理!$M3,0))","v":""},{"$f":"IF(LEN(CY31)=0,\"\",SUM(CH31,DA31))","v":""},{"$f":"$G$31","v":""},null,{"$f":"IF(LEN(DC31)=0,\"\",(COUNTIF(CY$6:DR$7,DC31)+COUNTIF(CY$10:DR$10,DC31)+COUNTIF(CY$13:DR$13,DC31)+COUNTIF(CY$16:DR$16,DC31)+COUNTIF(CY$19:DR$19,DC31)+COUNTIF(CY$22:DR$22,DC31)+COUNTIF(CY$25:DR$25,DC31))/設定!$G22+IFERROR((COUNTIF(CY$6:DR$7,処理!$L9)+COUNTIF(CY$10:DR$10,処理!$L9)+COUNTIF(CY$13:DR$13,処理!$L9)+COUNTIF(CY$16:DR$16,処理!$L9)+COUNTIF(CY$19:DR$19,処理!$L9)+COUNTIF(CY$22:DR$22,処理!$L9)+COUNTIF(CY$25:DR$25,処理!$L9))/処理!$M9,0))","v":""},"",{"$f":"$K$31","v":""},null,{"$f":"IF(LEN(DG31)=0,\"\",(COUNTIF(CY$6:DR$7,DG31)+COUNTIF(CY$10:DR$10,DG31)+COUNTIF(CY$13:DR$13,DG31)+COUNTIF(CY$16:DR$16,DG31)+COUNTIF(CY$19:DR$19,DG31)+COUNTIF(CY$22:DR$22,DG31)+COUNTIF(CY$25:DR$25,DG31))/設定!$J22+IFERROR((COUNTIF(CY$6:DR$7,処理!$L15)+COUNTIF(CY$10:DR$10,処理!$L15)+COUNTIF(CY$13:DR$13,処理!$L15)+COUNTIF(CY$16:DR$16,処理!$L15)+COUNTIF(CY$19:DR$19,処理!$L15)+COUNTIF(CY$22:DR$22,処理!$L15)+COUNTIF(CY$25:DR$25,処理!$L15))/処理!$M15,0))","v":""},"",{"$f":"$O$31","v":""},null,{"$f":"IF(LEN(DK31)=0,\"\",(COUNTIF(CY$6:DR$7,DK31)+COUNTIF(CY$10:DR$10,DK31)+COUNTIF(CY$13:DR$13,DK31)+COUNTIF(CY$16:DR$16,DK31)+COUNTIF(CY$19:DR$19,DK31)+COUNTIF(CY$22:DR$22,DK31)+COUNTIF(CY$25:DR$25,DK31))/設定!$M22+IFERROR((COUNTIF(CY$6:DR$7,処理!$L21)+COUNTIF(CY$10:DR$10,処理!$L21)+COUNTIF(CY$13:DR$13,処理!$L21)+COUNTIF(CY$16:DR$16,処理!$L21)+COUNTIF(CY$19:DR$19,処理!$L21)+COUNTIF(CY$22:DR$22,処理!$L21)+COUNTIF(CY$25:DR$25,処理!$L21))/処理!$M21,0))","v":""},"",{"$f":"$S$31","v":""},null,{"$f":"IF(LEN(DO31)=0,\"\",COUNTIF(CY$6:DR$7,DO31)+COUNTIF(CY$10:DR$10,DO31)+COUNTIF(CY$13:DR$13,DO31)+COUNTIF(CY$16:DR$16,DO31)+COUNTIF(CY$19:DR$19,DO31)+COUNTIF(CY$22:DR$22,DO31)+COUNTIF(CY$25:DR$25,DO31))","v":""},"",{"$f":"$C$31","v":""},null,{"$f":"IF(LEN(DS31)=0,\"\",(COUNTIF(DS$6:EL$7,DS31)+COUNTIF(DS$10:EL$10,DS31)+COUNTIF(DS$13:EL$13,DS31)+COUNTIF(DS$16:EL$16,DS31)+COUNTIF(DS$19:EL$19,DS31)+COUNTIF(DS$22:EL$22,DS31)+COUNTIF(DS$25:EL$25,DS31))/設定!$D22+IFERROR((COUNTIF(DS$6:EL$7,処理!$L3)+COUNTIF(DS$10:EL$10,処理!$L3)+COUNTIF(DS$13:EL$13,処理!$L3)+COUNTIF(DS$16:EL$16,処理!$L3)+COUNTIF(DS$19:EL$19,処理!$L3)+COUNTIF(DS$22:EL$22,処理!$L3)+COUNTIF(DS$25:EL$25,処理!$L3))/処理!$M3,0))","v":""},{"$f":"IF(LEN(DS31)=0,\"\",SUM(DB31,DU31))","v":""},{"$f":"$G$31","v":""},null,{"$f":"IF(LEN(DW31)=0,\"\",(COUNTIF(DS$6:EL$7,DW31)+COUNTIF(DS$10:EL$10,DW31)+COUNTIF(DS$13:EL$13,DW31)+COUNTIF(DS$16:EL$16,DW31)+COUNTIF(DS$19:EL$19,DW31)+COUNTIF(DS$22:EL$22,DW31)+COUNTIF(DS$25:EL$25,DW31))/設定!$G22+IFERROR((COUNTIF(DS$6:EL$7,処理!$L9)+COUNTIF(DS$10:EL$10,処理!$L9)+COUNTIF(DS$13:EL$13,処理!$L9)+COUNTIF(DS$16:EL$16,処理!$L9)+COUNTIF(DS$19:EL$19,処理!$L9)+COUNTIF(DS$22:EL$22,処理!$L9)+COUNTIF(DS$25:EL$25,処理!$L9))/処理!$M9,0))","v":""},"",{"$f":"$K$31","v":""},null,{"$f":"IF(LEN(EA31)=0,\"\",(COUNTIF(DS$6:EL$7,EA31)+COUNTIF(DS$10:EL$10,EA31)+COUNTIF(DS$13:EL$13,EA31)+COUNTIF(DS$16:EL$16,EA31)+COUNTIF(DS$19:EL$19,EA31)+COUNTIF(DS$22:EL$22,EA31)+COUNTIF(DS$25:EL$25,EA31))/設定!$J22+IFERROR((COUNTIF(DS$6:EL$7,処理!$L15)+COUNTIF(DS$10:EL$10,処理!$L15)+COUNTIF(DS$13:EL$13,処理!$L15)+COUNTIF(DS$16:EL$16,処理!$L15)+COUNTIF(DS$19:EL$19,処理!$L15)+COUNTIF(DS$22:EL$22,処理!$L15)+COUNTIF(DS$25:EL$25,処理!$L15))/処理!$M15,0))","v":""},"",{"$f":"$O$31","v":""},null,{"$f":"IF(LEN(EE31)=0,\"\",(COUNTIF(DS$6:EL$7,EE31)+COUNTIF(DS$10:EL$10,EE31)+COUNTIF(DS$13:EL$13,EE31)+COUNTIF(DS$16:EL$16,EE31)+COUNTIF(DS$19:EL$19,EE31)+COUNTIF(DS$22:EL$22,EE31)+COUNTIF(DS$25:EL$25,EE31))/設定!$M22+IFERROR((COUNTIF(DS$6:EL$7,処理!$L21)+COUNTIF(DS$10:EL$10,処理!$L21)+COUNTIF(DS$13:EL$13,処理!$L21)+COUNTIF(DS$16:EL$16,処理!$L21)+COUNTIF(DS$19:EL$19,処理!$L21)+COUNTIF(DS$22:EL$22,処理!$L21)+COUNTIF(DS$25:EL$25,処理!$L21))/処理!$M21,0))","v":""},"",{"$f":"$S$31","v":""},null,{"$f":"IF(LEN(EI31)=0,\"\",COUNTIF(DS$6:EL$7,EI31)+COUNTIF(DS$10:EL$10,EI31)+COUNTIF(DS$13:EL$13,EI31)+COUNTIF(DS$16:EL$16,EI31)+COUNTIF(DS$19:EL$19,EI31)+COUNTIF(DS$22:EL$22,EI31)+COUNTIF(DS$25:EL$25,EI31))","v":""},"",{"$f":"$C$31","v":""},null,{"$f":"IF(LEN(EM31)=0,\"\",(COUNTIF(EM$6:FF$7,EM31)+COUNTIF(EM$10:FF$10,EM31)+COUNTIF(EM$13:FF$13,EM31)+COUNTIF(EM$16:FF$16,EM31)+COUNTIF(EM$19:FF$19,EM31)+COUNTIF(EM$22:FF$22,EM31)+COUNTIF(EM$25:FF$25,EM31))/設定!$D22+IFERROR((COUNTIF(EM$6:FF$7,処理!$L3)+COUNTIF(EM$10:FF$10,処理!$L3)+COUNTIF(EM$13:FF$13,処理!$L3)+COUNTIF(EM$16:FF$16,処理!$L3)+COUNTIF(EM$19:FF$19,処理!$L3)+COUNTIF(EM$22:FF$22,処理!$L3)+COUNTIF(EM$25:FF$25,処理!$L3))/処理!$M3,0))","v":""},{"$f":"IF(LEN(EM31)=0,\"\",SUM(DV31,EO31))","v":""},{"$f":"$G$31","v":""},null,{"$f":"IF(LEN(EQ31)=0,\"\",(COUNTIF(EM$6:FF$7,EQ31)+COUNTIF(EM$10:FF$10,EQ31)+COUNTIF(EM$13:FF$13,EQ31)+COUNTIF(EM$16:FF$16,EQ31)+COUNTIF(EM$19:FF$19,EQ31)+COUNTIF(EM$22:FF$22,EQ31)+COUNTIF(EM$25:FF$25,EQ31))/設定!$G22+IFERROR((COUNTIF(EM$6:FF$7,処理!$L9)+COUNTIF(EM$10:FF$10,処理!$L9)+COUNTIF(EM$13:FF$13,処理!$L9)+COUNTIF(EM$16:FF$16,処理!$L9)+COUNTIF(EM$19:FF$19,処理!$L9)+COUNTIF(EM$22:FF$22,処理!$L9)+COUNTIF(EM$25:FF$25,処理!$L9))/処理!$M9,0))","v":""},"",{"$f":"$K$31","v":""},null,{"$f":"IF(LEN(EU31)=0,\"\",(COUNTIF(EM$6:FF$7,EU31)+COUNTIF(EM$10:FF$10,EU31)+COUNTIF(EM$13:FF$13,EU31)+COUNTIF(EM$16:FF$16,EU31)+COUNTIF(EM$19:FF$19,EU31)+COUNTIF(EM$22:FF$22,EU31)+COUNTIF(EM$25:FF$25,EU31))/設定!$J22+IFERROR((COUNTIF(EM$6:FF$7,処理!$L15)+COUNTIF(EM$10:FF$10,処理!$L15)+COUNTIF(EM$13:FF$13,処理!$L15)+COUNTIF(EM$16:FF$16,処理!$L15)+COUNTIF(EM$19:FF$19,処理!$L15)+COUNTIF(EM$22:FF$22,処理!$L15)+COUNTIF(EM$25:FF$25,処理!$L15))/処理!$M15,0))","v":""},"",{"$f":"$O$31","v":""},null,{"$f":"IF(LEN(EY31)=0,\"\",(COUNTIF(EM$6:FF$7,EY31)+COUNTIF(EM$10:FF$10,EY31)+COUNTIF(EM$13:FF$13,EY31)+COUNTIF(EM$16:FF$16,EY31)+COUNTIF(EM$19:FF$19,EY31)+COUNTIF(EM$22:FF$22,EY31)+COUNTIF(EM$25:FF$25,EY31))/設定!$M22+IFERROR((COUNTIF(EM$6:FF$7,処理!$L21)+COUNTIF(EM$10:FF$10,処理!$L21)+COUNTIF(EM$13:FF$13,処理!$L21)+COUNTIF(EM$16:FF$16,処理!$L21)+COUNTIF(EM$19:FF$19,処理!$L21)+COUNTIF(EM$22:FF$22,処理!$L21)+COUNTIF(EM$25:FF$25,処理!$L21))/処理!$M21,0))","v":""},"",{"$f":"$S$31","v":""},null,{"$f":"IF(LEN(FC31)=0,\"\",COUNTIF(EM$6:FF$7,FC31)+COUNTIF(EM$10:FF$10,FC31)+COUNTIF(EM$13:FF$13,FC31)+COUNTIF(EM$16:FF$16,FC31)+COUNTIF(EM$19:FF$19,FC31)+COUNTIF(EM$22:FF$22,FC31)+COUNTIF(EM$25:FF$25,FC31))","v":""},"",{"$f":"$C$31","v":""},null,{"$f":"IF(LEN(FG31)=0,\"\",(COUNTIF(FG$6:FZ$7,FG31)+COUNTIF(FG$10:FZ$10,FG31)+COUNTIF(FG$13:FZ$13,FG31)+COUNTIF(FG$16:FZ$16,FG31)+COUNTIF(FG$19:FZ$19,FG31)+COUNTIF(FG$22:FZ$22,FG31)+COUNTIF(FG$25:FZ$25,FG31))/設定!$D22+IFERROR((COUNTIF(FG$6:FZ$7,処理!$L3)+COUNTIF(FG$10:FZ$10,処理!$L3)+COUNTIF(FG$13:FZ$13,処理!$L3)+COUNTIF(FG$16:FZ$16,処理!$L3)+COUNTIF(FG$19:FZ$19,処理!$L3)+COUNTIF(FG$22:FZ$22,処理!$L3)+COUNTIF(FG$25:FZ$25,処理!$L3))/処理!$M3,0))","v":""},{"$f":"IF(LEN(FG31)=0,\"\",SUM(EP31,FI31))","v":""},{"$f":"$G$31","v":""},null,{"$f":"IF(LEN(FK31)=0,\"\",(COUNTIF(FG$6:FZ$7,FK31)+COUNTIF(FG$10:FZ$10,FK31)+COUNTIF(FG$13:FZ$13,FK31)+COUNTIF(FG$16:FZ$16,FK31)+COUNTIF(FG$19:FZ$19,FK31)+COUNTIF(FG$22:FZ$22,FK31)+COUNTIF(FG$25:FZ$25,FK31))/設定!$G22+IFERROR((COUNTIF(FG$6:FZ$7,処理!$L9)+COUNTIF(FG$10:FZ$10,処理!$L9)+COUNTIF(FG$13:FZ$13,処理!$L9)+COUNTIF(FG$16:FZ$16,処理!$L9)+COUNTIF(FG$19:FZ$19,処理!$L9)+COUNTIF(FG$22:FZ$22,処理!$L9)+COUNTIF(FG$25:FZ$25,処理!$L9))/処理!$M9,0))","v":""},"",{"$f":"$K$31","v":""},null,{"$f":"IF(LEN(FO31)=0,\"\",(COUNTIF(FG$6:FZ$7,FO31)+COUNTIF(FG$10:FZ$10,FO31)+COUNTIF(FG$13:FZ$13,FO31)+COUNTIF(FG$16:FZ$16,FO31)+COUNTIF(FG$19:FZ$19,FO31)+COUNTIF(FG$22:FZ$22,FO31)+COUNTIF(FG$25:FZ$25,FO31))/設定!$J22+IFERROR((COUNTIF(FG$6:FZ$7,処理!$L15)+COUNTIF(FG$10:FZ$10,処理!$L15)+COUNTIF(FG$13:FZ$13,処理!$L15)+COUNTIF(FG$16:FZ$16,処理!$L15)+COUNTIF(FG$19:FZ$19,処理!$L15)+COUNTIF(FG$22:FZ$22,処理!$L15)+COUNTIF(FG$25:FZ$25,処理!$L15))/処理!$M15,0))","v":""},"",{"$f":"$O$31","v":""},null,{"$f":"IF(LEN(FS31)=0,\"\",(COUNTIF(FG$6:FZ$7,FS31)+COUNTIF(FG$10:FZ$10,FS31)+COUNTIF(FG$13:FZ$13,FS31)+COUNTIF(FG$16:FZ$16,FS31)+COUNTIF(FG$19:FZ$19,FS31)+COUNTIF(FG$22:FZ$22,FS31)+COUNTIF(FG$25:FZ$25,FS31))/設定!$M22+IFERROR((COUNTIF(FG$6:FZ$7,処理!$L21)+COUNTIF(FG$10:FZ$10,処理!$L21)+COUNTIF(FG$13:FZ$13,処理!$L21)+COUNTIF(FG$16:FZ$16,処理!$L21)+COUNTIF(FG$19:FZ$19,処理!$L21)+COUNTIF(FG$22:FZ$22,処理!$L21)+COUNTIF(FG$25:FZ$25,処理!$L21))/処理!$M21,0))","v":""},"",{"$f":"$S$31","v":""},null,{"$f":"IF(LEN(FW31)=0,\"\",COUNTIF(FG$6:FZ$7,FW31)+COUNTIF(FG$10:FZ$10,FW31)+COUNTIF(FG$13:FZ$13,FW31)+COUNTIF(FG$16:FZ$16,FW31)+COUNTIF(FG$19:FZ$19,FW31)+COUNTIF(FG$22:FZ$22,FW31)+COUNTIF(FG$25:FZ$25,FW31))","v":""},"",{"$f":"$C$31","v":""},null,{"$f":"IF(LEN(GA31)=0,\"\",(COUNTIF(GA$6:GT$7,GA31)+COUNTIF(GA$10:GT$10,GA31)+COUNTIF(GA$13:GT$13,GA31)+COUNTIF(GA$16:GT$16,GA31)+COUNTIF(GA$19:GT$19,GA31)+COUNTIF(GA$22:GT$22,GA31)+COUNTIF(GA$25:GT$25,GA31))/設定!$D22+IFERROR((COUNTIF(GA$6:GT$7,処理!$L3)+COUNTIF(GA$10:GT$10,処理!$L3)+COUNTIF(GA$13:GT$13,処理!$L3)+COUNTIF(GA$16:GT$16,処理!$L3)+COUNTIF(GA$19:GT$19,処理!$L3)+COUNTIF(GA$22:GT$22,処理!$L3)+COUNTIF(GA$25:GT$25,処理!$L3))/処理!$M3,0))","v":""},{"$f":"IF(LEN(GA31)=0,\"\",SUM(FJ31,GC31))","v":""},{"$f":"$G$31","v":""},null,{"$f":"IF(LEN(GE31)=0,\"\",(COUNTIF(GA$6:GT$7,GE31)+COUNTIF(GA$10:GT$10,GE31)+COUNTIF(GA$13:GT$13,GE31)+COUNTIF(GA$16:GT$16,GE31)+COUNTIF(GA$19:GT$19,GE31)+COUNTIF(GA$22:GT$22,GE31)+COUNTIF(GA$25:GT$25,GE31))/設定!$G22+IFERROR((COUNTIF(GA$6:GT$7,処理!$L9)+COUNTIF(GA$10:GT$10,処理!$L9)+COUNTIF(GA$13:GT$13,処理!$L9)+COUNTIF(GA$16:GT$16,処理!$L9)+COUNTIF(GA$19:GT$19,処理!$L9)+COUNTIF(GA$22:GT$22,処理!$L9)+COUNTIF(GA$25:GT$25,処理!$L9))/処理!$M9,0))","v":""},"",{"$f":"$K$31","v":""},null,{"$f":"IF(LEN(GI31)=0,\"\",(COUNTIF(GA$6:GT$7,GI31)+COUNTIF(GA$10:GT$10,GI31)+COUNTIF(GA$13:GT$13,GI31)+COUNTIF(GA$16:GT$16,GI31)+COUNTIF(GA$19:GT$19,GI31)+COUNTIF(GA$22:GT$22,GI31)+COUNTIF(GA$25:GT$25,GI31))/設定!$J22+IFERROR((COUNTIF(GA$6:GT$7,処理!$L15)+COUNTIF(GA$10:GT$10,処理!$L15)+COUNTIF(GA$13:GT$13,処理!$L15)+COUNTIF(GA$16:GT$16,処理!$L15)+COUNTIF(GA$19:GT$19,処理!$L15)+COUNTIF(GA$22:GT$22,処理!$L15)+COUNTIF(GA$25:GT$25,処理!$L15))/処理!$M15,0))","v":""},"",{"$f":"$O$31","v":""},null,{"$f":"IF(LEN(GM31)=0,\"\",(COUNTIF(GA$6:GT$7,GM31)+COUNTIF(GA$10:GT$10,GM31)+COUNTIF(GA$13:GT$13,GM31)+COUNTIF(GA$16:GT$16,GM31)+COUNTIF(GA$19:GT$19,GM31)+COUNTIF(GA$22:GT$22,GM31)+COUNTIF(GA$25:GT$25,GM31))/設定!$M22+IFERROR((COUNTIF(GA$6:GT$7,処理!$L21)+COUNTIF(GA$10:GT$10,処理!$L21)+COUNTIF(GA$13:GT$13,処理!$L21)+COUNTIF(GA$16:GT$16,処理!$L21)+COUNTIF(GA$19:GT$19,処理!$L21)+COUNTIF(GA$22:GT$22,処理!$L21)+COUNTIF(GA$25:GT$25,処理!$L21))/処理!$M21,0))","v":""},"",{"$f":"$S$31","v":""},null,{"$f":"IF(LEN(GQ31)=0,\"\",COUNTIF(GA$6:GT$7,GQ31)+COUNTIF(GA$10:GT$10,GQ31)+COUNTIF(GA$13:GT$13,GQ31)+COUNTIF(GA$16:GT$16,GQ31)+COUNTIF(GA$19:GT$19,GQ31)+COUNTIF(GA$22:GT$22,GQ31)+COUNTIF(GA$25:GT$25,GQ31))","v":""},"",{"$f":"$C$31","v":""},null,{"$f":"IF(LEN(GU31)=0,\"\",(COUNTIF(GU$6:HN$7,GU31)+COUNTIF(GU$10:HN$10,GU31)+COUNTIF(GU$13:HN$13,GU31)+COUNTIF(GU$16:HN$16,GU31)+COUNTIF(GU$19:HN$19,GU31)+COUNTIF(GU$22:HN$22,GU31)+COUNTIF(GU$25:HN$25,GU31))/設定!$D22+IFERROR((COUNTIF(GU$6:HN$7,処理!$L3)+COUNTIF(GU$10:HN$10,処理!$L3)+COUNTIF(GU$13:HN$13,処理!$L3)+COUNTIF(GU$16:HN$16,処理!$L3)+COUNTIF(GU$19:HN$19,処理!$L3)+COUNTIF(GU$22:HN$22,処理!$L3)+COUNTIF(GU$25:HN$25,処理!$L3))/処理!$M3,0))","v":""},{"$f":"IF(LEN(GU31)=0,\"\",SUM(GD31,GW31))","v":""},{"$f":"$G$31","v":""},null,{"$f":"IF(LEN(GY31)=0,\"\",(COUNTIF(GU$6:HN$7,GY31)+COUNTIF(GU$10:HN$10,GY31)+COUNTIF(GU$13:HN$13,GY31)+COUNTIF(GU$16:HN$16,GY31)+COUNTIF(GU$19:HN$19,GY31)+COUNTIF(GU$22:HN$22,GY31)+COUNTIF(GU$25:HN$25,GY31))/設定!$G22+IFERROR((COUNTIF(GU$6:HN$7,処理!$L9)+COUNTIF(GU$10:HN$10,処理!$L9)+COUNTIF(GU$13:HN$13,処理!$L9)+COUNTIF(GU$16:HN$16,処理!$L9)+COUNTIF(GU$19:HN$19,処理!$L9)+COUNTIF(GU$22:HN$22,処理!$L9)+COUNTIF(GU$25:HN$25,処理!$L9))/処理!$M9,0))","v":""},"",{"$f":"$K$31","v":""},null,{"$f":"IF(LEN(HC31)=0,\"\",(COUNTIF(GU$6:HN$7,HC31)+COUNTIF(GU$10:HN$10,HC31)+COUNTIF(GU$13:HN$13,HC31)+COUNTIF(GU$16:HN$16,HC31)+COUNTIF(GU$19:HN$19,HC31)+COUNTIF(GU$22:HN$22,HC31)+COUNTIF(GU$25:HN$25,HC31))/設定!$J22+IFERROR((COUNTIF(GU$6:HN$7,処理!$L15)+COUNTIF(GU$10:HN$10,処理!$L15)+COUNTIF(GU$13:HN$13,処理!$L15)+COUNTIF(GU$16:HN$16,処理!$L15)+COUNTIF(GU$19:HN$19,処理!$L15)+COUNTIF(GU$22:HN$22,処理!$L15)+COUNTIF(GU$25:HN$25,処理!$L15))/処理!$M15,0))","v":""},"",{"$f":"$O$31","v":""},null,{"$f":"IF(LEN(HG31)=0,\"\",(COUNTIF(GU$6:HN$7,HG31)+COUNTIF(GU$10:HN$10,HG31)+COUNTIF(GU$13:HN$13,HG31)+COUNTIF(GU$16:HN$16,HG31)+COUNTIF(GU$19:HN$19,HG31)+COUNTIF(GU$22:HN$22,HG31)+COUNTIF(GU$25:HN$25,HG31))/設定!$M22+IFERROR((COUNTIF(GU$6:HN$7,処理!$L21)+COUNTIF(GU$10:HN$10,処理!$L21)+COUNTIF(GU$13:HN$13,処理!$L21)+COUNTIF(GU$16:HN$16,処理!$L21)+COUNTIF(GU$19:HN$19,処理!$L21)+COUNTIF(GU$22:HN$22,処理!$L21)+COUNTIF(GU$25:HN$25,処理!$L21))/処理!$M21,0))","v":""},"",{"$f":"$S$31","v":""},null,{"$f":"IF(LEN(HK31)=0,\"\",COUNTIF(GU$6:HN$7,HK31)+COUNTIF(GU$10:HN$10,HK31)+COUNTIF(GU$13:HN$13,HK31)+COUNTIF(GU$16:HN$16,HK31)+COUNTIF(GU$19:HN$19,HK31)+COUNTIF(GU$22:HN$22,HK31)+COUNTIF(GU$25:HN$25,HK31))","v":""},"",{"$f":"$C$31","v":""},null,{"$f":"IF(LEN(HO31)=0,\"\",(COUNTIF(HO$6:IH$7,HO31)+COUNTIF(HO$10:IH$10,HO31)+COUNTIF(HO$13:IH$13,HO31)+COUNTIF(HO$16:IH$16,HO31)+COUNTIF(HO$19:IH$19,HO31)+COUNTIF(HO$22:IH$22,HO31)+COUNTIF(HO$25:IH$25,HO31))/設定!$D22+IFERROR((COUNTIF(HO$6:IH$7,処理!$L3)+COUNTIF(HO$10:IH$10,処理!$L3)+COUNTIF(HO$13:IH$13,処理!$L3)+COUNTIF(HO$16:IH$16,処理!$L3)+COUNTIF(HO$19:IH$19,処理!$L3)+COUNTIF(HO$22:IH$22,処理!$L3)+COUNTIF(HO$25:IH$25,処理!$L3))/処理!$M3,0))","v":""},{"$f":"IF(LEN(HO31)=0,\"\",SUM(GX31,HQ31))","v":""},{"$f":"$G$31","v":""},null,{"$f":"IF(LEN(HS31)=0,\"\",(COUNTIF(HO$6:IH$7,HS31)+COUNTIF(HO$10:IH$10,HS31)+COUNTIF(HO$13:IH$13,HS31)+COUNTIF(HO$16:IH$16,HS31)+COUNTIF(HO$19:IH$19,HS31)+COUNTIF(HO$22:IH$22,HS31)+COUNTIF(HO$25:IH$25,HS31))/設定!$G22+IFERROR((COUNTIF(HO$6:IH$7,処理!$L9)+COUNTIF(HO$10:IH$10,処理!$L9)+COUNTIF(HO$13:IH$13,処理!$L9)+COUNTIF(HO$16:IH$16,処理!$L9)+COUNTIF(HO$19:IH$19,処理!$L9)+COUNTIF(HO$22:IH$22,処理!$L9)+COUNTIF(HO$25:IH$25,処理!$L9))/処理!$M9,0))","v":""},"",{"$f":"$K$31","v":""},null,{"$f":"IF(LEN(HW31)=0,\"\",(COUNTIF(HO$6:IH$7,HW31)+COUNTIF(HO$10:IH$10,HW31)+COUNTIF(HO$13:IH$13,HW31)+COUNTIF(HO$16:IH$16,HW31)+COUNTIF(HO$19:IH$19,HW31)+COUNTIF(HO$22:IH$22,HW31)+COUNTIF(HO$25:IH$25,HW31))/設定!$J22+IFERROR((COUNTIF(HO$6:IH$7,処理!$L15)+COUNTIF(HO$10:IH$10,処理!$L15)+COUNTIF(HO$13:IH$13,処理!$L15)+COUNTIF(HO$16:IH$16,処理!$L15)+COUNTIF(HO$19:IH$19,処理!$L15)+COUNTIF(HO$22:IH$22,処理!$L15)+COUNTIF(HO$25:IH$25,処理!$L15))/処理!$M15,0))","v":""},"",{"$f":"$O$31","v":""},null,{"$f":"IF(LEN(IA31)=0,\"\",(COUNTIF(HO$6:IH$7,IA31)+COUNTIF(HO$10:IH$10,IA31)+COUNTIF(HO$13:IH$13,IA31)+COUNTIF(HO$16:IH$16,IA31)+COUNTIF(HO$19:IH$19,IA31)+COUNTIF(HO$22:IH$22,IA31)+COUNTIF(HO$25:IH$25,IA31))/設定!$M22+IFERROR((COUNTIF(HO$6:IH$7,処理!$L21)+COUNTIF(HO$10:IH$10,処理!$L21)+COUNTIF(HO$13:IH$13,処理!$L21)+COUNTIF(HO$16:IH$16,処理!$L21)+COUNTIF(HO$19:IH$19,処理!$L21)+COUNTIF(HO$22:IH$22,処理!$L21)+COUNTIF(HO$25:IH$25,処理!$L21))/処理!$M21,0))","v":""},"",{"$f":"$S$31","v":""},null,{"$f":"IF(LEN(IE31)=0,\"\",COUNTIF(HO$6:IH$7,IE31)+COUNTIF(HO$10:IH$10,IE31)+COUNTIF(HO$13:IH$13,IE31)+COUNTIF(HO$16:IH$16,IE31)+COUNTIF(HO$19:IH$19,IE31)+COUNTIF(HO$22:IH$22,IE31)+COUNTIF(HO$25:IH$25,IE31))","v":""},"",{"$f":"$C$31","v":""},null,{"$f":"IF(LEN(II31)=0,\"\",(COUNTIF(II$6:JB$7,II31)+COUNTIF(II$10:JB$10,II31)+COUNTIF(II$13:JB$13,II31)+COUNTIF(II$16:JB$16,II31)+COUNTIF(II$19:JB$19,II31)+COUNTIF(II$22:JB$22,II31)+COUNTIF(II$25:JB$25,II31))/設定!$D22+IFERROR((COUNTIF(II$6:JB$7,処理!$L3)+COUNTIF(II$10:JB$10,処理!$L3)+COUNTIF(II$13:JB$13,処理!$L3)+COUNTIF(II$16:JB$16,処理!$L3)+COUNTIF(II$19:JB$19,処理!$L3)+COUNTIF(II$22:JB$22,処理!$L3)+COUNTIF(II$25:JB$25,処理!$L3))/処理!$M3,0))","v":""},{"$f":"IF(LEN(II31)=0,\"\",SUM(HR31,IK31))","v":""},{"$f":"$G$31","v":""},null,{"$f":"IF(LEN(IM31)=0,\"\",(COUNTIF(II$6:JB$7,IM31)+COUNTIF(II$10:JB$10,IM31)+COUNTIF(II$13:JB$13,IM31)+COUNTIF(II$16:JB$16,IM31)+COUNTIF(II$19:JB$19,IM31)+COUNTIF(II$22:JB$22,IM31)+COUNTIF(II$25:JB$25,IM31))/設定!$G22+IFERROR((COUNTIF(II$6:JB$7,処理!$L9)+COUNTIF(II$10:JB$10,処理!$L9)+COUNTIF(II$13:JB$13,処理!$L9)+COUNTIF(II$16:JB$16,処理!$L9)+COUNTIF(II$19:JB$19,処理!$L9)+COUNTIF(II$22:JB$22,処理!$L9)+COUNTIF(II$25:JB$25,処理!$L9))/処理!$M9,0))","v":""},"",{"$f":"$K$31","v":""},null,{"$f":"IF(LEN(IQ31)=0,\"\",(COUNTIF(II$6:JB$7,IQ31)+COUNTIF(II$10:JB$10,IQ31)+COUNTIF(II$13:JB$13,IQ31)+COUNTIF(II$16:JB$16,IQ31)+COUNTIF(II$19:JB$19,IQ31)+COUNTIF(II$22:JB$22,IQ31)+COUNTIF(II$25:JB$25,IQ31))/設定!$J22+IFERROR((COUNTIF(II$6:JB$7,処理!$L15)+COUNTIF(II$10:JB$10,処理!$L15)+COUNTIF(II$13:JB$13,処理!$L15)+COUNTIF(II$16:JB$16,処理!$L15)+COUNTIF(II$19:JB$19,処理!$L15)+COUNTIF(II$22:JB$22,処理!$L15)+COUNTIF(II$25:JB$25,処理!$L15))/処理!$M15,0))","v":""},"",{"$f":"$O$31","v":""},null,{"$f":"IF(LEN(IU31)=0,\"\",(COUNTIF(II$6:JB$7,IU31)+COUNTIF(II$10:JB$10,IU31)+COUNTIF(II$13:JB$13,IU31)+COUNTIF(II$16:JB$16,IU31)+COUNTIF(II$19:JB$19,IU31)+COUNTIF(II$22:JB$22,IU31)+COUNTIF(II$25:JB$25,IU31))/設定!$M22+IFERROR((COUNTIF(II$6:JB$7,処理!$L21)+COUNTIF(II$10:JB$10,処理!$L21)+COUNTIF(II$13:JB$13,処理!$L21)+COUNTIF(II$16:JB$16,処理!$L21)+COUNTIF(II$19:JB$19,処理!$L21)+COUNTIF(II$22:JB$22,処理!$L21)+COUNTIF(II$25:JB$25,処理!$L21))/処理!$M21,0))","v":""},"",{"$f":"$S$31","v":""},null,{"$f":"IF(LEN(IY31)=0,\"\",COUNTIF(II$6:JB$7,IY31)+COUNTIF(II$10:JB$10,IY31)+COUNTIF(II$13:JB$13,IY31)+COUNTIF(II$16:JB$16,IY31)+COUNTIF(II$19:JB$19,IY31)+COUNTIF(II$22:JB$22,IY31)+COUNTIF(II$25:JB$25,IY31))","v":""},""]
[null,null,{"$f":"IF(COUNTIF(処理!$J$2:$J$25,2)>0,処理!H4,\"\")","v":""},null,{"$f":"IF(LEN(C32)=0,\"\",(COUNTIF(C$6:V$7,C32)+COUNTIF(C$10:V$10,C32)+COUNTIF(C$13:V$13,C32)+COUNTIF(C$16:V$16,C32)+COUNTIF(C$19:V$19,C32)+COUNTIF(C$22:V$22,C32)+COUNTIF(C$25:V$25,C32))/設定!$D23+IFERROR((COUNTIF(C$6:V$7,処理!$L4)+COUNTIF(C$10:V$10,処理!$L4)+COUNTIF(C$13:V$13,処理!$L4)+COUNTIF(C$16:V$16,処理!$L4)+COUNTIF(C$19:V$19,処理!$L4)+COUNTIF(C$22:V$22,処理!$L4)+COUNTIF(C$25:V$25,処理!$L4))/処理!$M4,0))","v":""},"",{"$f":"IF(COUNTIF(処理!$J$2:$J$25,8)>0,処理!H10,\"\")","v":""},null,{"$f":"IF(LEN(G32)=0,\"\",(COUNTIF(C$6:V$7,G32)+COUNTIF(C$10:V$10,G32)+COUNTIF(C$13:V$13,G32)+COUNTIF(C$16:V$16,G32)+COUNTIF(C$19:V$19,G32)+COUNTIF(C$22:V$22,G32)+COUNTIF(C$25:V$25,G32))/設定!$G23+IFERROR((COUNTIF(C$6:V$7,処理!$L10)+COUNTIF(C$10:V$10,処理!$L10)+COUNTIF(C$13:V$13,処理!$L10)+COUNTIF(C$16:V$16,処理!$L10)+COUNTIF(C$19:V$19,処理!$L10)+COUNTIF(C$22:V$22,処理!$L10)+COUNTIF(C$25:V$25,処理!$L10))/処理!$M10,0))","v":""},"",{"$f":"IF(COUNTIF(処理!$J$2:$J$25,14)>0,処理!H16,\"\")","v":""},null,{"$f":"IF(LEN(K32)=0,\"\",(COUNTIF(C$6:V$7,K32)+COUNTIF(C$10:V$10,K32)+COUNTIF(C$13:V$13,K32)+COUNTIF(C$16:V$16,K32)+COUNTIF(C$19:V$19,K32)+COUNTIF(C$22:V$22,K32)+COUNTIF(C$25:V$25,K32))/設定!$J23+IFERROR((COUNTIF(C$6:V$7,処理!$L16)+COUNTIF(C$10:V$10,処理!$L16)+COUNTIF(C$13:V$13,処理!$L16)+COUNTIF(C$16:V$16,処理!$L16)+COUNTIF(C$19:V$19,処理!$L16)+COUNTIF(C$22:V$22,処理!$L16)+COUNTIF(C$25:V$25,処理!$L16))/処理!$M16,0))","v":""},"",{"$f":"IF(COUNTIF(処理!$J$2:$J$25,20)>0,処理!H22,\"\")","v":""},null,{"$f":"IF(LEN(O32)=0,\"\",(COUNTIF(C$6:V$7,O32)+COUNTIF(C$10:V$10,O32)+COUNTIF(C$13:V$13,O32)+COUNTIF(C$16:V$16,O32)+COUNTIF(C$19:V$19,O32)+COUNTIF(C$22:V$22,O32)+COUNTIF(C$25:V$25,O32))/設定!$M23+IFERROR((COUNTIF(C$6:V$7,処理!$L22)+COUNTIF(C$10:V$10,処理!$L22)+COUNTIF(C$13:V$13,処理!$L22)+COUNTIF(C$16:V$16,処理!$L22)+COUNTIF(C$19:V$19,処理!$L22)+COUNTIF(C$22:V$22,処理!$L22)+COUNTIF(C$25:V$25,処理!$L22))/処理!$M22,0))","v":""},"",{"$f":"処理!H28&\"\"","v":""},null,{"$f":"IF(LEN(S32)=0,\"\",COUNTIF(C$6:V$7,S32)+COUNTIF(C$10:V$10,S32)+COUNTIF(C$13:V$13,S32)+COUNTIF(C$16:V$16,S32)+COUNTIF(C$19:V$19,S32)+COUNTIF(C$22:V$22,S32)+COUNTIF(C$25:V$25,S32))","v":""},"",{"$f":"$C$32","v":""},null,{"$f":"IF(LEN(W32)=0,\"\",(COUNTIF(W$6:AP$7,W32)+COUNTIF(W$10:AP$10,W32)+COUNTIF(W$13:AP$13,W32)+COUNTIF(W$16:AP$16,W32)+COUNTIF(W$19:AP$19,W32)+COUNTIF(W$22:AP$22,W32)+COUNTIF(W$25:AP$25,W32))/設定!$D23+IFERROR((COUNTIF(W$6:AP$7,処理!$L4)+COUNTIF(W$10:AP$10,処理!$L4)+COUNTIF(W$13:AP$13,処理!$L4)+COUNTIF(W$16:AP$16,処理!$L4)+COUNTIF(W$19:AP$19,処理!$L4)+COUNTIF(W$22:AP$22,処理!$L4)+COUNTIF(W$25:AP$25,処理!$L4))/処理!$M4,0))","v":""},"",{"$f":"$G$32","v":""},null,{"$f":"IF(LEN(AA32)=0,\"\",(COUNTIF(W$6:AP$7,AA32)+COUNTIF(W$10:AP$10,AA32)+COUNTIF(W$13:AP$13,AA32)+COUNTIF(W$16:AP$16,AA32)+COUNTIF(W$19:AP$19,AA32)+COUNTIF(W$22:AP$22,AA32)+COUNTIF(W$25:AP$25,AA32))/設定!$G23+IFERROR((COUNTIF(W$6:AP$7,処理!$L10)+COUNTIF(W$10:AP$10,処理!$L10)+COUNTIF(W$13:AP$13,処理!$L10)+COUNTIF(W$16:AP$16,処理!$L10)+COUNTIF(W$19:AP$19,処理!$L10)+COUNTIF(W$22:AP$22,処理!$L10)+COUNTIF(W$25:AP$25,処理!$L10))/処理!$M10,0))","v":""},"",{"$f":"$K$32","v":""},null,{"$f":"IF(LEN(AE32)=0,\"\",(COUNTIF(W$6:AP$7,AE32)+COUNTIF(W$10:AP$10,AE32)+COUNTIF(W$13:AP$13,AE32)+COUNTIF(W$16:AP$16,AE32)+COUNTIF(W$19:AP$19,AE32)+COUNTIF(W$22:AP$22,AE32)+COUNTIF(W$25:AP$25,AE32))/設定!$J23+IFERROR((COUNTIF(W$6:AP$7,処理!$L16)+COUNTIF(W$10:AP$10,処理!$L16)+COUNTIF(W$13:AP$13,処理!$L16)+COUNTIF(W$16:AP$16,処理!$L16)+COUNTIF(W$19:AP$19,処理!$L16)+COUNTIF(W$22:AP$22,処理!$L16)+COUNTIF(W$25:AP$25,処理!$L16))/処理!$M16,0))","v":""},"",{"$f":"$O$32","v":""},null,{"$f":"IF(LEN(AI32)=0,\"\",(COUNTIF(W$6:AP$7,AI32)+COUNTIF(W$10:AP$10,AI32)+COUNTIF(W$13:AP$13,AI32)+COUNTIF(W$16:AP$16,AI32)+COUNTIF(W$19:AP$19,AI32)+COUNTIF(W$22:AP$22,AI32)+COUNTIF(W$25:AP$25,AI32))/設定!$M23+IFERROR((COUNTIF(W$6:AP$7,処理!$L22)+COUNTIF(W$10:AP$10,処理!$L22)+COUNTIF(W$13:AP$13,処理!$L22)+COUNTIF(W$16:AP$16,処理!$L22)+COUNTIF(W$19:AP$19,処理!$L22)+COUNTIF(W$22:AP$22,処理!$L22)+COUNTIF(W$25:AP$25,処理!$L22))/処理!$M22,0))","v":""},"",{"$f":"$S$32","v":""},null,{"$f":"IF(LEN(AM32)=0,\"\",COUNTIF(W$6:AP$7,AM32)+COUNTIF(W$10:AP$10,AM32)+COUNTIF(W$13:AP$13,AM32)+COUNTIF(W$16:AP$16,AM32)+COUNTIF(W$19:AP$19,AM32)+COUNTIF(W$22:AP$22,AM32)+COUNTIF(W$25:AP$25,AM32))","v":""},"",{"$f":"$C$32","v":""},null,{"$f":"IF(LEN(AQ32)=0,\"\",(COUNTIF(AQ$6:BJ$7,AQ32)+COUNTIF(AQ$10:BJ$10,AQ32)+COUNTIF(AQ$13:BJ$13,AQ32)+COUNTIF(AQ$16:BJ$16,AQ32)+COUNTIF(AQ$19:BJ$19,AQ32)+COUNTIF(AQ$22:BJ$22,AQ32)+COUNTIF(AQ$25:BJ$25,AQ32))/設定!$D23+IFERROR((COUNTIF(AQ$6:BJ$7,処理!$L4)+COUNTIF(AQ$10:BJ$10,処理!$L4)+COUNTIF(AQ$13:BJ$13,処理!$L4)+COUNTIF(AQ$16:BJ$16,処理!$L4)+COUNTIF(AQ$19:BJ$19,処理!$L4)+COUNTIF(AQ$22:BJ$22,処理!$L4)+COUNTIF(AQ$25:BJ$25,処理!$L4))/処理!$M4,0))","v":""},"",{"$f":"$G$32","v":""},null,{"$f":"IF(LEN(AU32)=0,\"\",(COUNTIF(AQ$6:BJ$7,AU32)+COUNTIF(AQ$10:BJ$10,AU32)+COUNTIF(AQ$13:BJ$13,AU32)+COUNTIF(AQ$16:BJ$16,AU32)+COUNTIF(AQ$19:BJ$19,AU32)+COUNTIF(AQ$22:BJ$22,AU32)+COUNTIF(AQ$25:BJ$25,AU32))/設定!$G23+IFERROR((COUNTIF(AQ$6:BJ$7,処理!$L10)+COUNTIF(AQ$10:BJ$10,処理!$L10)+COUNTIF(AQ$13:BJ$13,処理!$L10)+COUNTIF(AQ$16:BJ$16,処理!$L10)+COUNTIF(AQ$19:BJ$19,処理!$L10)+COUNTIF(AQ$22:BJ$22,処理!$L10)+COUNTIF(AQ$25:BJ$25,処理!$L10))/処理!$M10,0))","v":""},"",{"$f":"$K$32","v":""},null,{"$f":"IF(LEN(AY32)=0,\"\",(COUNTIF(AQ$6:BJ$7,AY32)+COUNTIF(AQ$10:BJ$10,AY32)+COUNTIF(AQ$13:BJ$13,AY32)+COUNTIF(AQ$16:BJ$16,AY32)+COUNTIF(AQ$19:BJ$19,AY32)+COUNTIF(AQ$22:BJ$22,AY32)+COUNTIF(AQ$25:BJ$25,AY32))/設定!$J23+IFERROR((COUNTIF(AQ$6:BJ$7,処理!$L16)+COUNTIF(AQ$10:BJ$10,処理!$L16)+COUNTIF(AQ$13:BJ$13,処理!$L16)+COUNTIF(AQ$16:BJ$16,処理!$L16)+COUNTIF(AQ$19:BJ$19,処理!$L16)+COUNTIF(AQ$22:BJ$22,処理!$L16)+COUNTIF(AQ$25:BJ$25,処理!$L16))/処理!$M16,0))","v":""},"",{"$f":"$O$32","v":""},null,{"$f":"IF(LEN(BC32)=0,\"\",(COUNTIF(AQ$6:BJ$7,BC32)+COUNTIF(AQ$10:BJ$10,BC32)+COUNTIF(AQ$13:BJ$13,BC32)+COUNTIF(AQ$16:BJ$16,BC32)+COUNTIF(AQ$19:BJ$19,BC32)+COUNTIF(AQ$22:BJ$22,BC32)+COUNTIF(AQ$25:BJ$25,BC32))/設定!$M23+IFERROR((COUNTIF(AQ$6:BJ$7,処理!$L22)+COUNTIF(AQ$10:BJ$10,処理!$L22)+COUNTIF(AQ$13:BJ$13,処理!$L22)+COUNTIF(AQ$16:BJ$16,処理!$L22)+COUNTIF(AQ$19:BJ$19,処理!$L22)+COUNTIF(AQ$22:BJ$22,処理!$L22)+COUNTIF(AQ$25:BJ$25,処理!$L22))/処理!$M22,0))","v":""},"",{"$f":"$S$32","v":""},null,{"$f":"IF(LEN(BG32)=0,\"\",COUNTIF(AQ$6:BJ$7,BG32)+COUNTIF(AQ$10:BJ$10,BG32)+COUNTIF(AQ$13:BJ$13,BG32)+COUNTIF(AQ$16:BJ$16,BG32)+COUNTIF(AQ$19:BJ$19,BG32)+COUNTIF(AQ$22:BJ$22,BG32)+COUNTIF(AQ$25:BJ$25,BG32))","v":""},"",{"$f":"$C$32","v":""},null,{"$f":"IF(LEN(BK32)=0,\"\",(COUNTIF(BK$6:CD$7,BK32)+COUNTIF(BK$10:CD$10,BK32)+COUNTIF(BK$13:CD$13,BK32)+COUNTIF(BK$16:CD$16,BK32)+COUNTIF(BK$19:CD$19,BK32)+COUNTIF(BK$22:CD$22,BK32)+COUNTIF(BK$25:CD$25,BK32))/設定!$D23+IFERROR((COUNTIF(BK$6:CD$7,処理!$L4)+COUNTIF(BK$10:CD$10,処理!$L4)+COUNTIF(BK$13:CD$13,処理!$L4)+COUNTIF(BK$16:CD$16,処理!$L4)+COUNTIF(BK$19:CD$19,処理!$L4)+COUNTIF(BK$22:CD$22,処理!$L4)+COUNTIF(BK$25:CD$25,処理!$L4))/処理!$M4,0))","v":""},"",{"$f":"$G$32","v":""},null,{"$f":"IF(LEN(BO32)=0,\"\",(COUNTIF(BK$6:CD$7,BO32)+COUNTIF(BK$10:CD$10,BO32)+COUNTIF(BK$13:CD$13,BO32)+COUNTIF(BK$16:CD$16,BO32)+COUNTIF(BK$19:CD$19,BO32)+COUNTIF(BK$22:CD$22,BO32)+COUNTIF(BK$25:CD$25,BO32))/設定!$G23+IFERROR((COUNTIF(BK$6:CD$7,処理!$L10)+COUNTIF(BK$10:CD$10,処理!$L10)+COUNTIF(BK$13:CD$13,処理!$L10)+COUNTIF(BK$16:CD$16,処理!$L10)+COUNTIF(BK$19:CD$19,処理!$L10)+COUNTIF(BK$22:CD$22,処理!$L10)+COUNTIF(BK$25:CD$25,処理!$L10))/処理!$M10,0))","v":""},"",{"$f":"$K$32","v":""},null,{"$f":"IF(LEN(BS32)=0,\"\",(COUNTIF(BK$6:CD$7,BS32)+COUNTIF(BK$10:CD$10,BS32)+COUNTIF(BK$13:CD$13,BS32)+COUNTIF(BK$16:CD$16,BS32)+COUNTIF(BK$19:CD$19,BS32)+COUNTIF(BK$22:CD$22,BS32)+COUNTIF(BK$25:CD$25,BS32))/設定!$J23+IFERROR((COUNTIF(BK$6:CD$7,処理!$L16)+COUNTIF(BK$10:CD$10,処理!$L16)+COUNTIF(BK$13:CD$13,処理!$L16)+COUNTIF(BK$16:CD$16,処理!$L16)+COUNTIF(BK$19:CD$19,処理!$L16)+COUNTIF(BK$22:CD$22,処理!$L16)+COUNTIF(BK$25:CD$25,処理!$L16))/処理!$M16,0))","v":""},"",{"$f":"$O$32","v":""},null,{"$f":"IF(LEN(BW32)=0,\"\",(COUNTIF(BK$6:CD$7,BW32)+COUNTIF(BK$10:CD$10,BW32)+COUNTIF(BK$13:CD$13,BW32)+COUNTIF(BK$16:CD$16,BW32)+COUNTIF(BK$19:CD$19,BW32)+COUNTIF(BK$22:CD$22,BW32)+COUNTIF(BK$25:CD$25,BW32))/設定!$M23+IFERROR((COUNTIF(BK$6:CD$7,処理!$L22)+COUNTIF(BK$10:CD$10,処理!$L22)+COUNTIF(BK$13:CD$13,処理!$L22)+COUNTIF(BK$16:CD$16,処理!$L22)+COUNTIF(BK$19:CD$19,処理!$L22)+COUNTIF(BK$22:CD$22,処理!$L22)+COUNTIF(BK$25:CD$25,処理!$L22))/処理!$M22,0))","v":""},"",{"$f":"$S$32","v":""},null,{"$f":"IF(LEN(CA32)=0,\"\",COUNTIF(BK$6:CD$7,CA32)+COUNTIF(BK$10:CD$10,CA32)+COUNTIF(BK$13:CD$13,CA32)+COUNTIF(BK$16:CD$16,CA32)+COUNTIF(BK$19:CD$19,CA32)+COUNTIF(BK$22:CD$22,CA32)+COUNTIF(BK$25:CD$25,CA32))","v":""},"",{"$f":"$C$32","v":""},null,{"$f":"IF(LEN(CE32)=0,\"\",(COUNTIF(CE$6:CX$7,CE32)+COUNTIF(CE$10:CX$10,CE32)+COUNTIF(CE$13:CX$13,CE32)+COUNTIF(CE$16:CX$16,CE32)+COUNTIF(CE$19:CX$19,CE32)+COUNTIF(CE$22:CX$22,CE32)+COUNTIF(CE$25:CX$25,CE32))/設定!$D23+IFERROR((COUNTIF(CE$6:CX$7,処理!$L4)+COUNTIF(CE$10:CX$10,処理!$L4)+COUNTIF(CE$13:CX$13,処理!$L4)+COUNTIF(CE$16:CX$16,処理!$L4)+COUNTIF(CE$19:CX$19,処理!$L4)+COUNTIF(CE$22:CX$22,処理!$L4)+COUNTIF(CE$25:CX$25,処理!$L4))/処理!$M4,0))","v":""},"",{"$f":"$G$32","v":""},null,{"$f":"IF(LEN(CI32)=0,\"\",(COUNTIF(CE$6:CX$7,CI32)+COUNTIF(CE$10:CX$10,CI32)+COUNTIF(CE$13:CX$13,CI32)+COUNTIF(CE$16:CX$16,CI32)+COUNTIF(CE$19:CX$19,CI32)+COUNTIF(CE$22:CX$22,CI32)+COUNTIF(CE$25:CX$25,CI32))/設定!$G23+IFERROR((COUNTIF(CE$6:CX$7,処理!$L10)+COUNTIF(CE$10:CX$10,処理!$L10)+COUNTIF(CE$13:CX$13,処理!$L10)+COUNTIF(CE$16:CX$16,処理!$L10)+COUNTIF(CE$19:CX$19,処理!$L10)+COUNTIF(CE$22:CX$22,処理!$L10)+COUNTIF(CE$25:CX$25,処理!$L10))/処理!$M10,0))","v":""},"",{"$f":"$K$32","v":""},null,{"$f":"IF(LEN(CM32)=0,\"\",(COUNTIF(CE$6:CX$7,CM32)+COUNTIF(CE$10:CX$10,CM32)+COUNTIF(CE$13:CX$13,CM32)+COUNTIF(CE$16:CX$16,CM32)+COUNTIF(CE$19:CX$19,CM32)+COUNTIF(CE$22:CX$22,CM32)+COUNTIF(CE$25:CX$25,CM32))/設定!$J23+IFERROR((COUNTIF(CE$6:CX$7,処理!$L16)+COUNTIF(CE$10:CX$10,処理!$L16)+COUNTIF(CE$13:CX$13,処理!$L16)+COUNTIF(CE$16:CX$16,処理!$L16)+COUNTIF(CE$19:CX$19,処理!$L16)+COUNTIF(CE$22:CX$22,処理!$L16)+COUNTIF(CE$25:CX$25,処理!$L16))/処理!$M16,0))","v":""},"",{"$f":"$O$32","v":""},null,{"$f":"IF(LEN(CQ32)=0,\"\",(COUNTIF(CE$6:CX$7,CQ32)+COUNTIF(CE$10:CX$10,CQ32)+COUNTIF(CE$13:CX$13,CQ32)+COUNTIF(CE$16:CX$16,CQ32)+COUNTIF(CE$19:CX$19,CQ32)+COUNTIF(CE$22:CX$22,CQ32)+COUNTIF(CE$25:CX$25,CQ32))/設定!$M23+IFERROR((COUNTIF(CE$6:CX$7,処理!$L22)+COUNTIF(CE$10:CX$10,処理!$L22)+COUNTIF(CE$13:CX$13,処理!$L22)+COUNTIF(CE$16:CX$16,処理!$L22)+COUNTIF(CE$19:CX$19,処理!$L22)+COUNTIF(CE$22:CX$22,処理!$L22)+COUNTIF(CE$25:CX$25,処理!$L22))/処理!$M22,0))","v":""},"",{"$f":"$S$32","v":""},null,{"$f":"IF(LEN(CU32)=0,\"\",COUNTIF(CE$6:CX$7,CU32)+COUNTIF(CE$10:CX$10,CU32)+COUNTIF(CE$13:CX$13,CU32)+COUNTIF(CE$16:CX$16,CU32)+COUNTIF(CE$19:CX$19,CU32)+COUNTIF(CE$22:CX$22,CU32)+COUNTIF(CE$25:CX$25,CU32))","v":""},"",{"$f":"$C$32","v":""},null,{"$f":"IF(LEN(CY32)=0,\"\",(COUNTIF(CY$6:DR$7,CY32)+COUNTIF(CY$10:DR$10,CY32)+COUNTIF(CY$13:DR$13,CY32)+COUNTIF(CY$16:DR$16,CY32)+COUNTIF(CY$19:DR$19,CY32)+COUNTIF(CY$22:DR$22,CY32)+COUNTIF(CY$25:DR$25,CY32))/設定!$D23+IFERROR((COUNTIF(CY$6:DR$7,処理!$L4)+COUNTIF(CY$10:DR$10,処理!$L4)+COUNTIF(CY$13:DR$13,処理!$L4)+COUNTIF(CY$16:DR$16,処理!$L4)+COUNTIF(CY$19:DR$19,処理!$L4)+COUNTIF(CY$22:DR$22,処理!$L4)+COUNTIF(CY$25:DR$25,処理!$L4))/処理!$M4,0))","v":""},"",{"$f":"$G$32","v":""},null,{"$f":"IF(LEN(DC32)=0,\"\",(COUNTIF(CY$6:DR$7,DC32)+COUNTIF(CY$10:DR$10,DC32)+COUNTIF(CY$13:DR$13,DC32)+COUNTIF(CY$16:DR$16,DC32)+COUNTIF(CY$19:DR$19,DC32)+COUNTIF(CY$22:DR$22,DC32)+COUNTIF(CY$25:DR$25,DC32))/設定!$G23+IFERROR((COUNTIF(CY$6:DR$7,処理!$L10)+COUNTIF(CY$10:DR$10,処理!$L10)+COUNTIF(CY$13:DR$13,処理!$L10)+COUNTIF(CY$16:DR$16,処理!$L10)+COUNTIF(CY$19:DR$19,処理!$L10)+COUNTIF(CY$22:DR$22,処理!$L10)+COUNTIF(CY$25:DR$25,処理!$L10))/処理!$M10,0))","v":""},"",{"$f":"$K$32","v":""},null,{"$f":"IF(LEN(DG32)=0,\"\",(COUNTIF(CY$6:DR$7,DG32)+COUNTIF(CY$10:DR$10,DG32)+COUNTIF(CY$13:DR$13,DG32)+COUNTIF(CY$16:DR$16,DG32)+COUNTIF(CY$19:DR$19,DG32)+COUNTIF(CY$22:DR$22,DG32)+COUNTIF(CY$25:DR$25,DG32))/設定!$J23+IFERROR((COUNTIF(CY$6:DR$7,処理!$L16)+COUNTIF(CY$10:DR$10,処理!$L16)+COUNTIF(CY$13:DR$13,処理!$L16)+COUNTIF(CY$16:DR$16,処理!$L16)+COUNTIF(CY$19:DR$19,処理!$L16)+COUNTIF(CY$22:DR$22,処理!$L16)+COUNTIF(CY$25:DR$25,処理!$L16))/処理!$M16,0))","v":""},"",{"$f":"$O$32","v":""},null,{"$f":"IF(LEN(DK32)=0,\"\",(COUNTIF(CY$6:DR$7,DK32)+COUNTIF(CY$10:DR$10,DK32)+COUNTIF(CY$13:DR$13,DK32)+COUNTIF(CY$16:DR$16,DK32)+COUNTIF(CY$19:DR$19,DK32)+COUNTIF(CY$22:DR$22,DK32)+COUNTIF(CY$25:DR$25,DK32))/設定!$M23+IFERROR((COUNTIF(CY$6:DR$7,処理!$L22)+COUNTIF(CY$10:DR$10,処理!$L22)+COUNTIF(CY$13:DR$13,処理!$L22)+COUNTIF(CY$16:DR$16,処理!$L22)+COUNTIF(CY$19:DR$19,処理!$L22)+COUNTIF(CY$22:DR$22,処理!$L22)+COUNTIF(CY$25:DR$25,処理!$L22))/処理!$M22,0))","v":""},"",{"$f":"$S$32","v":""},null,{"$f":"IF(LEN(DO32)=0,\"\",COUNTIF(CY$6:DR$7,DO32)+COUNTIF(CY$10:DR$10,DO32)+COUNTIF(CY$13:DR$13,DO32)+COUNTIF(CY$16:DR$16,DO32)+COUNTIF(CY$19:DR$19,DO32)+COUNTIF(CY$22:DR$22,DO32)+COUNTIF(CY$25:DR$25,DO32))","v":""},"",{"$f":"$C$32","v":""},null,{"$f":"IF(LEN(DS32)=0,\"\",(COUNTIF(DS$6:EL$7,DS32)+COUNTIF(DS$10:EL$10,DS32)+COUNTIF(DS$13:EL$13,DS32)+COUNTIF(DS$16:EL$16,DS32)+COUNTIF(DS$19:EL$19,DS32)+COUNTIF(DS$22:EL$22,DS32)+COUNTIF(DS$25:EL$25,DS32))/設定!$D23+IFERROR((COUNTIF(DS$6:EL$7,処理!$L4)+COUNTIF(DS$10:EL$10,処理!$L4)+COUNTIF(DS$13:EL$13,処理!$L4)+COUNTIF(DS$16:EL$16,処理!$L4)+COUNTIF(DS$19:EL$19,処理!$L4)+COUNTIF(DS$22:EL$22,処理!$L4)+COUNTIF(DS$25:EL$25,処理!$L4))/処理!$M4,0))","v":""},"",{"$f":"$G$32","v":""},null,{"$f":"IF(LEN(DW32)=0,\"\",(COUNTIF(DS$6:EL$7,DW32)+COUNTIF(DS$10:EL$10,DW32)+COUNTIF(DS$13:EL$13,DW32)+COUNTIF(DS$16:EL$16,DW32)+COUNTIF(DS$19:EL$19,DW32)+COUNTIF(DS$22:EL$22,DW32)+COUNTIF(DS$25:EL$25,DW32))/設定!$G23+IFERROR((COUNTIF(DS$6:EL$7,処理!$L10)+COUNTIF(DS$10:EL$10,処理!$L10)+COUNTIF(DS$13:EL$13,処理!$L10)+COUNTIF(DS$16:EL$16,処理!$L10)+COUNTIF(DS$19:EL$19,処理!$L10)+COUNTIF(DS$22:EL$22,処理!$L10)+COUNTIF(DS$25:EL$25,処理!$L10))/処理!$M10,0))","v":""},"",{"$f":"$K$32","v":""},null,{"$f":"IF(LEN(EA32)=0,\"\",(COUNTIF(DS$6:EL$7,EA32)+COUNTIF(DS$10:EL$10,EA32)+COUNTIF(DS$13:EL$13,EA32)+COUNTIF(DS$16:EL$16,EA32)+COUNTIF(DS$19:EL$19,EA32)+COUNTIF(DS$22:EL$22,EA32)+COUNTIF(DS$25:EL$25,EA32))/設定!$J23+IFERROR((COUNTIF(DS$6:EL$7,処理!$L16)+COUNTIF(DS$10:EL$10,処理!$L16)+COUNTIF(DS$13:EL$13,処理!$L16)+COUNTIF(DS$16:EL$16,処理!$L16)+COUNTIF(DS$19:EL$19,処理!$L16)+COUNTIF(DS$22:EL$22,処理!$L16)+COUNTIF(DS$25:EL$25,処理!$L16))/処理!$M16,0))","v":""},"",{"$f":"$O$32","v":""},null,{"$f":"IF(LEN(EE32)=0,\"\",(COUNTIF(DS$6:EL$7,EE32)+COUNTIF(DS$10:EL$10,EE32)+COUNTIF(DS$13:EL$13,EE32)+COUNTIF(DS$16:EL$16,EE32)+COUNTIF(DS$19:EL$19,EE32)+COUNTIF(DS$22:EL$22,EE32)+COUNTIF(DS$25:EL$25,EE32))/設定!$M23+IFERROR((COUNTIF(DS$6:EL$7,処理!$L22)+COUNTIF(DS$10:EL$10,処理!$L22)+COUNTIF(DS$13:EL$13,処理!$L22)+COUNTIF(DS$16:EL$16,処理!$L22)+COUNTIF(DS$19:EL$19,処理!$L22)+COUNTIF(DS$22:EL$22,処理!$L22)+COUNTIF(DS$25:EL$25,処理!$L22))/処理!$M22,0))","v":""},"",{"$f":"$S$32","v":""},null,{"$f":"IF(LEN(EI32)=0,\"\",COUNTIF(DS$6:EL$7,EI32)+COUNTIF(DS$10:EL$10,EI32)+COUNTIF(DS$13:EL$13,EI32)+COUNTIF(DS$16:EL$16,EI32)+COUNTIF(DS$19:EL$19,EI32)+COUNTIF(DS$22:EL$22,EI32)+COUNTIF(DS$25:EL$25,EI32))","v":""},"",{"$f":"$C$32","v":""},null,{"$f":"IF(LEN(EM32)=0,\"\",(COUNTIF(EM$6:FF$7,EM32)+COUNTIF(EM$10:FF$10,EM32)+COUNTIF(EM$13:FF$13,EM32)+COUNTIF(EM$16:FF$16,EM32)+COUNTIF(EM$19:FF$19,EM32)+COUNTIF(EM$22:FF$22,EM32)+COUNTIF(EM$25:FF$25,EM32))/設定!$D23+IFERROR((COUNTIF(EM$6:FF$7,処理!$L4)+COUNTIF(EM$10:FF$10,処理!$L4)+COUNTIF(EM$13:FF$13,処理!$L4)+COUNTIF(EM$16:FF$16,処理!$L4)+COUNTIF(EM$19:FF$19,処理!$L4)+COUNTIF(EM$22:FF$22,処理!$L4)+COUNTIF(EM$25:FF$25,処理!$L4))/処理!$M4,0))","v":""},"",{"$f":"$G$32","v":""},null,{"$f":"IF(LEN(EQ32)=0,\"\",(COUNTIF(EM$6:FF$7,EQ32)+COUNTIF(EM$10:FF$10,EQ32)+COUNTIF(EM$13:FF$13,EQ32)+COUNTIF(EM$16:FF$16,EQ32)+COUNTIF(EM$19:FF$19,EQ32)+COUNTIF(EM$22:FF$22,EQ32)+COUNTIF(EM$25:FF$25,EQ32))/設定!$G23+IFERROR((COUNTIF(EM$6:FF$7,処理!$L10)+COUNTIF(EM$10:FF$10,処理!$L10)+COUNTIF(EM$13:FF$13,処理!$L10)+COUNTIF(EM$16:FF$16,処理!$L10)+COUNTIF(EM$19:FF$19,処理!$L10)+COUNTIF(EM$22:FF$22,処理!$L10)+COUNTIF(EM$25:FF$25,処理!$L10))/処理!$M10,0))","v":""},"",{"$f":"$K$32","v":""},null,{"$f":"IF(LEN(EU32)=0,\"\",(COUNTIF(EM$6:FF$7,EU32)+COUNTIF(EM$10:FF$10,EU32)+COUNTIF(EM$13:FF$13,EU32)+COUNTIF(EM$16:FF$16,EU32)+COUNTIF(EM$19:FF$19,EU32)+COUNTIF(EM$22:FF$22,EU32)+COUNTIF(EM$25:FF$25,EU32))/設定!$J23+IFERROR((COUNTIF(EM$6:FF$7,処理!$L16)+COUNTIF(EM$10:FF$10,処理!$L16)+COUNTIF(EM$13:FF$13,処理!$L16)+COUNTIF(EM$16:FF$16,処理!$L16)+COUNTIF(EM$19:FF$19,処理!$L16)+COUNTIF(EM$22:FF$22,処理!$L16)+COUNTIF(EM$25:FF$25,処理!$L16))/処理!$M16,0))","v":""},"",{"$f":"$O$32","v":""},null,{"$f":"IF(LEN(EY32)=0,\"\",(COUNTIF(EM$6:FF$7,EY32)+COUNTIF(EM$10:FF$10,EY32)+COUNTIF(EM$13:FF$13,EY32)+COUNTIF(EM$16:FF$16,EY32)+COUNTIF(EM$19:FF$19,EY32)+COUNTIF(EM$22:FF$22,EY32)+COUNTIF(EM$25:FF$25,EY32))/設定!$M23+IFERROR((COUNTIF(EM$6:FF$7,処理!$L22)+COUNTIF(EM$10:FF$10,処理!$L22)+COUNTIF(EM$13:FF$13,処理!$L22)+COUNTIF(EM$16:FF$16,処理!$L22)+COUNTIF(EM$19:FF$19,処理!$L22)+COUNTIF(EM$22:FF$22,処理!$L22)+COUNTIF(EM$25:FF$25,処理!$L22))/処理!$M22,0))","v":""},"",{"$f":"$S$32","v":""},null,{"$f":"IF(LEN(FC32)=0,\"\",COUNTIF(EM$6:FF$7,FC32)+COUNTIF(EM$10:FF$10,FC32)+COUNTIF(EM$13:FF$13,FC32)+COUNTIF(EM$16:FF$16,FC32)+COUNTIF(EM$19:FF$19,FC32)+COUNTIF(EM$22:FF$22,FC32)+COUNTIF(EM$25:FF$25,FC32))","v":""},"",{"$f":"$C$32","v":""},null,{"$f":"IF(LEN(FG32)=0,\"\",(COUNTIF(FG$6:FZ$7,FG32)+COUNTIF(FG$10:FZ$10,FG32)+COUNTIF(FG$13:FZ$13,FG32)+COUNTIF(FG$16:FZ$16,FG32)+COUNTIF(FG$19:FZ$19,FG32)+COUNTIF(FG$22:FZ$22,FG32)+COUNTIF(FG$25:FZ$25,FG32))/設定!$D23+IFERROR((COUNTIF(FG$6:FZ$7,処理!$L4)+COUNTIF(FG$10:FZ$10,処理!$L4)+COUNTIF(FG$13:FZ$13,処理!$L4)+COUNTIF(FG$16:FZ$16,処理!$L4)+COUNTIF(FG$19:FZ$19,処理!$L4)+COUNTIF(FG$22:FZ$22,処理!$L4)+COUNTIF(FG$25:FZ$25,処理!$L4))/処理!$M4,0))","v":""},"",{"$f":"$G$32","v":""},null,{"$f":"IF(LEN(FK32)=0,\"\",(COUNTIF(FG$6:FZ$7,FK32)+COUNTIF(FG$10:FZ$10,FK32)+COUNTIF(FG$13:FZ$13,FK32)+COUNTIF(FG$16:FZ$16,FK32)+COUNTIF(FG$19:FZ$19,FK32)+COUNTIF(FG$22:FZ$22,FK32)+COUNTIF(FG$25:FZ$25,FK32))/設定!$G23+IFERROR((COUNTIF(FG$6:FZ$7,処理!$L10)+COUNTIF(FG$10:FZ$10,処理!$L10)+COUNTIF(FG$13:FZ$13,処理!$L10)+COUNTIF(FG$16:FZ$16,処理!$L10)+COUNTIF(FG$19:FZ$19,処理!$L10)+COUNTIF(FG$22:FZ$22,処理!$L10)+COUNTIF(FG$25:FZ$25,処理!$L10))/処理!$M10,0))","v":""},"",{"$f":"$K$32","v":""},null,{"$f":"IF(LEN(FO32)=0,\"\",(COUNTIF(FG$6:FZ$7,FO32)+COUNTIF(FG$10:FZ$10,FO32)+COUNTIF(FG$13:FZ$13,FO32)+COUNTIF(FG$16:FZ$16,FO32)+COUNTIF(FG$19:FZ$19,FO32)+COUNTIF(FG$22:FZ$22,FO32)+COUNTIF(FG$25:FZ$25,FO32))/設定!$J23+IFERROR((COUNTIF(FG$6:FZ$7,処理!$L16)+COUNTIF(FG$10:FZ$10,処理!$L16)+COUNTIF(FG$13:FZ$13,処理!$L16)+COUNTIF(FG$16:FZ$16,処理!$L16)+COUNTIF(FG$19:FZ$19,処理!$L16)+COUNTIF(FG$22:FZ$22,処理!$L16)+COUNTIF(FG$25:FZ$25,処理!$L16))/処理!$M16,0))","v":""},"",{"$f":"$O$32","v":""},null,{"$f":"IF(LEN(FS32)=0,\"\",(COUNTIF(FG$6:FZ$7,FS32)+COUNTIF(FG$10:FZ$10,FS32)+COUNTIF(FG$13:FZ$13,FS32)+COUNTIF(FG$16:FZ$16,FS32)+COUNTIF(FG$19:FZ$19,FS32)+COUNTIF(FG$22:FZ$22,FS32)+COUNTIF(FG$25:FZ$25,FS32))/設定!$M23+IFERROR((COUNTIF(FG$6:FZ$7,処理!$L22)+COUNTIF(FG$10:FZ$10,処理!$L22)+COUNTIF(FG$13:FZ$13,処理!$L22)+COUNTIF(FG$16:FZ$16,処理!$L22)+COUNTIF(FG$19:FZ$19,処理!$L22)+COUNTIF(FG$22:FZ$22,処理!$L22)+COUNTIF(FG$25:FZ$25,処理!$L22))/処理!$M22,0))","v":""},"",{"$f":"$S$32","v":""},null,{"$f":"IF(LEN(FW32)=0,\"\",COUNTIF(FG$6:FZ$7,FW32)+COUNTIF(FG$10:FZ$10,FW32)+COUNTIF(FG$13:FZ$13,FW32)+COUNTIF(FG$16:FZ$16,FW32)+COUNTIF(FG$19:FZ$19,FW32)+COUNTIF(FG$22:FZ$22,FW32)+COUNTIF(FG$25:FZ$25,FW32))","v":""},"",{"$f":"$C$32","v":""},null,{"$f":"IF(LEN(GA32)=0,\"\",(COUNTIF(GA$6:GT$7,GA32)+COUNTIF(GA$10:GT$10,GA32)+COUNTIF(GA$13:GT$13,GA32)+COUNTIF(GA$16:GT$16,GA32)+COUNTIF(GA$19:GT$19,GA32)+COUNTIF(GA$22:GT$22,GA32)+COUNTIF(GA$25:GT$25,GA32))/設定!$D23+IFERROR((COUNTIF(GA$6:GT$7,処理!$L4)+COUNTIF(GA$10:GT$10,処理!$L4)+COUNTIF(GA$13:GT$13,処理!$L4)+COUNTIF(GA$16:GT$16,処理!$L4)+COUNTIF(GA$19:GT$19,処理!$L4)+COUNTIF(GA$22:GT$22,処理!$L4)+COUNTIF(GA$25:GT$25,処理!$L4))/処理!$M4,0))","v":""},"",{"$f":"$G$32","v":""},null,{"$f":"IF(LEN(GE32)=0,\"\",(COUNTIF(GA$6:GT$7,GE32)+COUNTIF(GA$10:GT$10,GE32)+COUNTIF(GA$13:GT$13,GE32)+COUNTIF(GA$16:GT$16,GE32)+COUNTIF(GA$19:GT$19,GE32)+COUNTIF(GA$22:GT$22,GE32)+COUNTIF(GA$25:GT$25,GE32))/設定!$G23+IFERROR((COUNTIF(GA$6:GT$7,処理!$L10)+COUNTIF(GA$10:GT$10,処理!$L10)+COUNTIF(GA$13:GT$13,処理!$L10)+COUNTIF(GA$16:GT$16,処理!$L10)+COUNTIF(GA$19:GT$19,処理!$L10)+COUNTIF(GA$22:GT$22,処理!$L10)+COUNTIF(GA$25:GT$25,処理!$L10))/処理!$M10,0))","v":""},"",{"$f":"$K$32","v":""},null,{"$f":"IF(LEN(GI32)=0,\"\",(COUNTIF(GA$6:GT$7,GI32)+COUNTIF(GA$10:GT$10,GI32)+COUNTIF(GA$13:GT$13,GI32)+COUNTIF(GA$16:GT$16,GI32)+COUNTIF(GA$19:GT$19,GI32)+COUNTIF(GA$22:GT$22,GI32)+COUNTIF(GA$25:GT$25,GI32))/設定!$J23+IFERROR((COUNTIF(GA$6:GT$7,処理!$L16)+COUNTIF(GA$10:GT$10,処理!$L16)+COUNTIF(GA$13:GT$13,処理!$L16)+COUNTIF(GA$16:GT$16,処理!$L16)+COUNTIF(GA$19:GT$19,処理!$L16)+COUNTIF(GA$22:GT$22,処理!$L16)+COUNTIF(GA$25:GT$25,処理!$L16))/処理!$M16,0))","v":""},"",{"$f":"$O$32","v":""},null,{"$f":"IF(LEN(GM32)=0,\"\",(COUNTIF(GA$6:GT$7,GM32)+COUNTIF(GA$10:GT$10,GM32)+COUNTIF(GA$13:GT$13,GM32)+COUNTIF(GA$16:GT$16,GM32)+COUNTIF(GA$19:GT$19,GM32)+COUNTIF(GA$22:GT$22,GM32)+COUNTIF(GA$25:GT$25,GM32))/設定!$M23+IFERROR((COUNTIF(GA$6:GT$7,処理!$L22)+COUNTIF(GA$10:GT$10,処理!$L22)+COUNTIF(GA$13:GT$13,処理!$L22)+COUNTIF(GA$16:GT$16,処理!$L22)+COUNTIF(GA$19:GT$19,処理!$L22)+COUNTIF(GA$22:GT$22,処理!$L22)+COUNTIF(GA$25:GT$25,処理!$L22))/処理!$M22,0))","v":""},"",{"$f":"$S$32","v":""},null,{"$f":"IF(LEN(GQ32)=0,\"\",COUNTIF(GA$6:GT$7,GQ32)+COUNTIF(GA$10:GT$10,GQ32)+COUNTIF(GA$13:GT$13,GQ32)+COUNTIF(GA$16:GT$16,GQ32)+COUNTIF(GA$19:GT$19,GQ32)+COUNTIF(GA$22:GT$22,GQ32)+COUNTIF(GA$25:GT$25,GQ32))","v":""},"",{"$f":"$C$32","v":""},null,{"$f":"IF(LEN(GU32)=0,\"\",(COUNTIF(GU$6:HN$7,GU32)+COUNTIF(GU$10:HN$10,GU32)+COUNTIF(GU$13:HN$13,GU32)+COUNTIF(GU$16:HN$16,GU32)+COUNTIF(GU$19:HN$19,GU32)+COUNTIF(GU$22:HN$22,GU32)+COUNTIF(GU$25:HN$25,GU32))/設定!$D23+IFERROR((COUNTIF(GU$6:HN$7,処理!$L4)+COUNTIF(GU$10:HN$10,処理!$L4)+COUNTIF(GU$13:HN$13,処理!$L4)+COUNTIF(GU$16:HN$16,処理!$L4)+COUNTIF(GU$19:HN$19,処理!$L4)+COUNTIF(GU$22:HN$22,処理!$L4)+COUNTIF(GU$25:HN$25,処理!$L4))/処理!$M4,0))","v":""},"",{"$f":"$G$32","v":""},null,{"$f":"IF(LEN(GY32)=0,\"\",(COUNTIF(GU$6:HN$7,GY32)+COUNTIF(GU$10:HN$10,GY32)+COUNTIF(GU$13:HN$13,GY32)+COUNTIF(GU$16:HN$16,GY32)+COUNTIF(GU$19:HN$19,GY32)+COUNTIF(GU$22:HN$22,GY32)+COUNTIF(GU$25:HN$25,GY32))/設定!$G23+IFERROR((COUNTIF(GU$6:HN$7,処理!$L10)+COUNTIF(GU$10:HN$10,処理!$L10)+COUNTIF(GU$13:HN$13,処理!$L10)+COUNTIF(GU$16:HN$16,処理!$L10)+COUNTIF(GU$19:HN$19,処理!$L10)+COUNTIF(GU$22:HN$22,処理!$L10)+COUNTIF(GU$25:HN$25,処理!$L10))/処理!$M10,0))","v":""},"",{"$f":"$K$32","v":""},null,{"$f":"IF(LEN(HC32)=0,\"\",(COUNTIF(GU$6:HN$7,HC32)+COUNTIF(GU$10:HN$10,HC32)+COUNTIF(GU$13:HN$13,HC32)+COUNTIF(GU$16:HN$16,HC32)+COUNTIF(GU$19:HN$19,HC32)+COUNTIF(GU$22:HN$22,HC32)+COUNTIF(GU$25:HN$25,HC32))/設定!$J23+IFERROR((COUNTIF(GU$6:HN$7,処理!$L16)+COUNTIF(GU$10:HN$10,処理!$L16)+COUNTIF(GU$13:HN$13,処理!$L16)+COUNTIF(GU$16:HN$16,処理!$L16)+COUNTIF(GU$19:HN$19,処理!$L16)+COUNTIF(GU$22:HN$22,処理!$L16)+COUNTIF(GU$25:HN$25,処理!$L16))/処理!$M16,0))","v":""},"",{"$f":"$O$32","v":""},null,{"$f":"IF(LEN(HG32)=0,\"\",(COUNTIF(GU$6:HN$7,HG32)+COUNTIF(GU$10:HN$10,HG32)+COUNTIF(GU$13:HN$13,HG32)+COUNTIF(GU$16:HN$16,HG32)+COUNTIF(GU$19:HN$19,HG32)+COUNTIF(GU$22:HN$22,HG32)+COUNTIF(GU$25:HN$25,HG32))/設定!$M23+IFERROR((COUNTIF(GU$6:HN$7,処理!$L22)+COUNTIF(GU$10:HN$10,処理!$L22)+COUNTIF(GU$13:HN$13,処理!$L22)+COUNTIF(GU$16:HN$16,処理!$L22)+COUNTIF(GU$19:HN$19,処理!$L22)+COUNTIF(GU$22:HN$22,処理!$L22)+COUNTIF(GU$25:HN$25,処理!$L22))/処理!$M22,0))","v":""},"",{"$f":"$S$32","v":""},null,{"$f":"IF(LEN(HK32)=0,\"\",COUNTIF(GU$6:HN$7,HK32)+COUNTIF(GU$10:HN$10,HK32)+COUNTIF(GU$13:HN$13,HK32)+COUNTIF(GU$16:HN$16,HK32)+COUNTIF(GU$19:HN$19,HK32)+COUNTIF(GU$22:HN$22,HK32)+COUNTIF(GU$25:HN$25,HK32))","v":""},"",{"$f":"$C$32","v":""},null,{"$f":"IF(LEN(HO32)=0,\"\",(COUNTIF(HO$6:IH$7,HO32)+COUNTIF(HO$10:IH$10,HO32)+COUNTIF(HO$13:IH$13,HO32)+COUNTIF(HO$16:IH$16,HO32)+COUNTIF(HO$19:IH$19,HO32)+COUNTIF(HO$22:IH$22,HO32)+COUNTIF(HO$25:IH$25,HO32))/設定!$D23+IFERROR((COUNTIF(HO$6:IH$7,処理!$L4)+COUNTIF(HO$10:IH$10,処理!$L4)+COUNTIF(HO$13:IH$13,処理!$L4)+COUNTIF(HO$16:IH$16,処理!$L4)+COUNTIF(HO$19:IH$19,処理!$L4)+COUNTIF(HO$22:IH$22,処理!$L4)+COUNTIF(HO$25:IH$25,処理!$L4))/処理!$M4,0))","v":""},"",{"$f":"$G$32","v":""},null,{"$f":"IF(LEN(HS32)=0,\"\",(COUNTIF(HO$6:IH$7,HS32)+COUNTIF(HO$10:IH$10,HS32)+COUNTIF(HO$13:IH$13,HS32)+COUNTIF(HO$16:IH$16,HS32)+COUNTIF(HO$19:IH$19,HS32)+COUNTIF(HO$22:IH$22,HS32)+COUNTIF(HO$25:IH$25,HS32))/設定!$G23+IFERROR((COUNTIF(HO$6:IH$7,処理!$L10)+COUNTIF(HO$10:IH$10,処理!$L10)+COUNTIF(HO$13:IH$13,処理!$L10)+COUNTIF(HO$16:IH$16,処理!$L10)+COUNTIF(HO$19:IH$19,処理!$L10)+COUNTIF(HO$22:IH$22,処理!$L10)+COUNTIF(HO$25:IH$25,処理!$L10))/処理!$M10,0))","v":""},"",{"$f":"$K$32","v":""},null,{"$f":"IF(LEN(HW32)=0,\"\",(COUNTIF(HO$6:IH$7,HW32)+COUNTIF(HO$10:IH$10,HW32)+COUNTIF(HO$13:IH$13,HW32)+COUNTIF(HO$16:IH$16,HW32)+COUNTIF(HO$19:IH$19,HW32)+COUNTIF(HO$22:IH$22,HW32)+COUNTIF(HO$25:IH$25,HW32))/設定!$J23+IFERROR((COUNTIF(HO$6:IH$7,処理!$L16)+COUNTIF(HO$10:IH$10,処理!$L16)+COUNTIF(HO$13:IH$13,処理!$L16)+COUNTIF(HO$16:IH$16,処理!$L16)+COUNTIF(HO$19:IH$19,処理!$L16)+COUNTIF(HO$22:IH$22,処理!$L16)+COUNTIF(HO$25:IH$25,処理!$L16))/処理!$M16,0))","v":""},"",{"$f":"$O$32","v":""},null,{"$f":"IF(LEN(IA32)=0,\"\",(COUNTIF(HO$6:IH$7,IA32)+COUNTIF(HO$10:IH$10,IA32)+COUNTIF(HO$13:IH$13,IA32)+COUNTIF(HO$16:IH$16,IA32)+COUNTIF(HO$19:IH$19,IA32)+COUNTIF(HO$22:IH$22,IA32)+COUNTIF(HO$25:IH$25,IA32))/設定!$M23+IFERROR((COUNTIF(HO$6:IH$7,処理!$L22)+COUNTIF(HO$10:IH$10,処理!$L22)+COUNTIF(HO$13:IH$13,処理!$L22)+COUNTIF(HO$16:IH$16,処理!$L22)+COUNTIF(HO$19:IH$19,処理!$L22)+COUNTIF(HO$22:IH$22,処理!$L22)+COUNTIF(HO$25:IH$25,処理!$L22))/処理!$M22,0))","v":""},"",{"$f":"$S$32","v":""},null,{"$f":"IF(LEN(IE32)=0,\"\",COUNTIF(HO$6:IH$7,IE32)+COUNTIF(HO$10:IH$10,IE32)+COUNTIF(HO$13:IH$13,IE32)+COUNTIF(HO$16:IH$16,IE32)+COUNTIF(HO$19:IH$19,IE32)+COUNTIF(HO$22:IH$22,IE32)+COUNTIF(HO$25:IH$25,IE32))","v":""},"",{"$f":"$C$32","v":""},null,{"$f":"IF(LEN(II32)=0,\"\",(COUNTIF(II$6:JB$7,II32)+COUNTIF(II$10:JB$10,II32)+COUNTIF(II$13:JB$13,II32)+COUNTIF(II$16:JB$16,II32)+COUNTIF(II$19:JB$19,II32)+COUNTIF(II$22:JB$22,II32)+COUNTIF(II$25:JB$25,II32))/設定!$D23+IFERROR((COUNTIF(II$6:JB$7,処理!$L4)+COUNTIF(II$10:JB$10,処理!$L4)+COUNTIF(II$13:JB$13,処理!$L4)+COUNTIF(II$16:JB$16,処理!$L4)+COUNTIF(II$19:JB$19,処理!$L4)+COUNTIF(II$22:JB$22,処理!$L4)+COUNTIF(II$25:JB$25,処理!$L4))/処理!$M4,0))","v":""},"",{"$f":"$G$32","v":""},null,{"$f":"IF(LEN(IM32)=0,\"\",(COUNTIF(II$6:JB$7,IM32)+COUNTIF(II$10:JB$10,IM32)+COUNTIF(II$13:JB$13,IM32)+COUNTIF(II$16:JB$16,IM32)+COUNTIF(II$19:JB$19,IM32)+COUNTIF(II$22:JB$22,IM32)+COUNTIF(II$25:JB$25,IM32))/設定!$G23+IFERROR((COUNTIF(II$6:JB$7,処理!$L10)+COUNTIF(II$10:JB$10,処理!$L10)+COUNTIF(II$13:JB$13,処理!$L10)+COUNTIF(II$16:JB$16,処理!$L10)+COUNTIF(II$19:JB$19,処理!$L10)+COUNTIF(II$22:JB$22,処理!$L10)+COUNTIF(II$25:JB$25,処理!$L10))/処理!$M10,0))","v":""},"",{"$f":"$K$32","v":""},null,{"$f":"IF(LEN(IQ32)=0,\"\",(COUNTIF(II$6:JB$7,IQ32)+COUNTIF(II$10:JB$10,IQ32)+COUNTIF(II$13:JB$13,IQ32)+COUNTIF(II$16:JB$16,IQ32)+COUNTIF(II$19:JB$19,IQ32)+COUNTIF(II$22:JB$22,IQ32)+COUNTIF(II$25:JB$25,IQ32))/設定!$J23+IFERROR((COUNTIF(II$6:JB$7,処理!$L16)+COUNTIF(II$10:JB$10,処理!$L16)+COUNTIF(II$13:JB$13,処理!$L16)+COUNTIF(II$16:JB$16,処理!$L16)+COUNTIF(II$19:JB$19,処理!$L16)+COUNTIF(II$22:JB$22,処理!$L16)+COUNTIF(II$25:JB$25,処理!$L16))/処理!$M16,0))","v":""},"",{"$f":"$O$32","v":""},null,{"$f":"IF(LEN(IU32)=0,\"\",(COUNTIF(II$6:JB$7,IU32)+COUNTIF(II$10:JB$10,IU32)+COUNTIF(II$13:JB$13,IU32)+COUNTIF(II$16:JB$16,IU32)+COUNTIF(II$19:JB$19,IU32)+COUNTIF(II$22:JB$22,IU32)+COUNTIF(II$25:JB$25,IU32))/設定!$M23+IFERROR((COUNTIF(II$6:JB$7,処理!$L22)+COUNTIF(II$10:JB$10,処理!$L22)+COUNTIF(II$13:JB$13,処理!$L22)+COUNTIF(II$16:JB$16,処理!$L22)+COUNTIF(II$19:JB$19,処理!$L22)+COUNTIF(II$22:JB$22,処理!$L22)+COUNTIF(II$25:JB$25,処理!$L22))/処理!$M22,0))","v":""},"",{"$f":"$S$32","v":""},null,{"$f":"IF(LEN(IY32)=0,\"\",COUNTIF(II$6:JB$7,IY32)+COUNTIF(II$10:JB$10,IY32)+COUNTIF(II$13:JB$13,IY32)+COUNTIF(II$16:JB$16,IY32)+COUNTIF(II$19:JB$19,IY32)+COUNTIF(II$22:JB$22,IY32)+COUNTIF(II$25:JB$25,IY32))","v":""},""]
[null,null,{"$f":"IF(COUNTIF(処理!$J$2:$J$25,3)>0,処理!H5,\"\")","v":""},null,{"$f":"IF(LEN(C33)=0,\"\",(COUNTIF(C$6:V$7,C33)+COUNTIF(C$10:V$10,C33)+COUNTIF(C$13:V$13,C33)+COUNTIF(C$16:V$16,C33)+COUNTIF(C$19:V$19,C33)+COUNTIF(C$22:V$22,C33)+COUNTIF(C$25:V$25,C33))/設定!$D24+IFERROR((COUNTIF(C$6:V$7,処理!$L5)+COUNTIF(C$10:V$10,処理!$L5)+COUNTIF(C$13:V$13,処理!$L5)+COUNTIF(C$16:V$16,処理!$L5)+COUNTIF(C$19:V$19,処理!$L5)+COUNTIF(C$22:V$22,処理!$L5)+COUNTIF(C$25:V$25,処理!$L5))/処理!$M5,0))","v":""},"",{"$f":"IF(COUNTIF(処理!$J$2:$J$25,9)>0,処理!H11,\"\")","v":""},null,{"$f":"IF(LEN(G33)=0,\"\",(COUNTIF(C$6:V$7,G33)+COUNTIF(C$10:V$10,G33)+COUNTIF(C$13:V$13,G33)+COUNTIF(C$16:V$16,G33)+COUNTIF(C$19:V$19,G33)+COUNTIF(C$22:V$22,G33)+COUNTIF(C$25:V$25,G33))/設定!$G24+IFERROR((COUNTIF(C$6:V$7,処理!$L11)+COUNTIF(C$10:V$10,処理!$L11)+COUNTIF(C$13:V$13,処理!$L11)+COUNTIF(C$16:V$16,処理!$L11)+COUNTIF(C$19:V$19,処理!$L11)+COUNTIF(C$22:V$22,処理!$L11)+COUNTIF(C$25:V$25,処理!$L11))/処理!$M11,0))","v":""},"",{"$f":"IF(COUNTIF(処理!$J$2:$J$25,15)>0,処理!H17,\"\")","v":""},null,{"$f":"IF(LEN(K33)=0,\"\",(COUNTIF(C$6:V$7,K33)+COUNTIF(C$10:V$10,K33)+COUNTIF(C$13:V$13,K33)+COUNTIF(C$16:V$16,K33)+COUNTIF(C$19:V$19,K33)+COUNTIF(C$22:V$22,K33)+COUNTIF(C$25:V$25,K33))/設定!$J24+IFERROR((COUNTIF(C$6:V$7,処理!$L17)+COUNTIF(C$10:V$10,処理!$L17)+COUNTIF(C$13:V$13,処理!$L17)+COUNTIF(C$16:V$16,処理!$L17)+COUNTIF(C$19:V$19,処理!$L17)+COUNTIF(C$22:V$22,処理!$L17)+COUNTIF(C$25:V$25,処理!$L17))/処理!$M17,0))","v":""},"",{"$f":"IF(COUNTIF(処理!$J$2:$J$25,21)>0,処理!H23,\"\")","v":""},null,{"$f":"IF(LEN(O33)=0,\"\",(COUNTIF(C$6:V$7,O33)+COUNTIF(C$10:V$10,O33)+COUNTIF(C$13:V$13,O33)+COUNTIF(C$16:V$16,O33)+COUNTIF(C$19:V$19,O33)+COUNTIF(C$22:V$22,O33)+COUNTIF(C$25:V$25,O33))/設定!$M24+IFERROR((COUNTIF(C$6:V$7,処理!$L23)+COUNTIF(C$10:V$10,処理!$L23)+COUNTIF(C$13:V$13,処理!$L23)+COUNTIF(C$16:V$16,処理!$L23)+COUNTIF(C$19:V$19,処理!$L23)+COUNTIF(C$22:V$22,処理!$L23)+COUNTIF(C$25:V$25,処理!$L23))/処理!$M23,0))","v":""},"",{"$f":"処理!H29&\"\"","v":""},null,"","",{"$f":"$C$33","v":""},null,{"$f":"IF(LEN(W33)=0,\"\",(COUNTIF(W$6:AP$7,W33)+COUNTIF(W$10:AP$10,W33)+COUNTIF(W$13:AP$13,W33)+COUNTIF(W$16:AP$16,W33)+COUNTIF(W$19:AP$19,W33)+COUNTIF(W$22:AP$22,W33)+COUNTIF(W$25:AP$25,W33))/設定!$D24+IFERROR((COUNTIF(W$6:AP$7,処理!$L5)+COUNTIF(W$10:AP$10,処理!$L5)+COUNTIF(W$13:AP$13,処理!$L5)+COUNTIF(W$16:AP$16,処理!$L5)+COUNTIF(W$19:AP$19,処理!$L5)+COUNTIF(W$22:AP$22,処理!$L5)+COUNTIF(W$25:AP$25,処理!$L5))/処理!$M5,0))","v":""},"",{"$f":"$G$33","v":""},null,{"$f":"IF(LEN(AA33)=0,\"\",(COUNTIF(W$6:AP$7,AA33)+COUNTIF(W$10:AP$10,AA33)+COUNTIF(W$13:AP$13,AA33)+COUNTIF(W$16:AP$16,AA33)+COUNTIF(W$19:AP$19,AA33)+COUNTIF(W$22:AP$22,AA33)+COUNTIF(W$25:AP$25,AA33))/設定!$G24+IFERROR((COUNTIF(W$6:AP$7,処理!$L11)+COUNTIF(W$10:AP$10,処理!$L11)+COUNTIF(W$13:AP$13,処理!$L11)+COUNTIF(W$16:AP$16,処理!$L11)+COUNTIF(W$19:AP$19,処理!$L11)+COUNTIF(W$22:AP$22,処理!$L11)+COUNTIF(W$25:AP$25,処理!$L11))/処理!$M11,0))","v":""},"",{"$f":"$K$33","v":""},null,{"$f":"IF(LEN(AE33)=0,\"\",(COUNTIF(W$6:AP$7,AE33)+COUNTIF(W$10:AP$10,AE33)+COUNTIF(W$13:AP$13,AE33)+COUNTIF(W$16:AP$16,AE33)+COUNTIF(W$19:AP$19,AE33)+COUNTIF(W$22:AP$22,AE33)+COUNTIF(W$25:AP$25,AE33))/設定!$J24+IFERROR((COUNTIF(W$6:AP$7,処理!$L17)+COUNTIF(W$10:AP$10,処理!$L17)+COUNTIF(W$13:AP$13,処理!$L17)+COUNTIF(W$16:AP$16,処理!$L17)+COUNTIF(W$19:AP$19,処理!$L17)+COUNTIF(W$22:AP$22,処理!$L17)+COUNTIF(W$25:AP$25,処理!$L17))/処理!$M17,0))","v":""},"",{"$f":"$O$33","v":""},null,{"$f":"IF(LEN(AI33)=0,\"\",(COUNTIF(W$6:AP$7,AI33)+COUNTIF(W$10:AP$10,AI33)+COUNTIF(W$13:AP$13,AI33)+COUNTIF(W$16:AP$16,AI33)+COUNTIF(W$19:AP$19,AI33)+COUNTIF(W$22:AP$22,AI33)+COUNTIF(W$25:AP$25,AI33))/設定!$M24+IFERROR((COUNTIF(W$6:AP$7,処理!$L23)+COUNTIF(W$10:AP$10,処理!$L23)+COUNTIF(W$13:AP$13,処理!$L23)+COUNTIF(W$16:AP$16,処理!$L23)+COUNTIF(W$19:AP$19,処理!$L23)+COUNTIF(W$22:AP$22,処理!$L23)+COUNTIF(W$25:AP$25,処理!$L23))/処理!$M23,0))","v":""},"",{"$f":"$S$33","v":""},null,"","",{"$f":"$C$33","v":""},null,{"$f":"IF(LEN(AQ33)=0,\"\",(COUNTIF(AQ$6:BJ$7,AQ33)+COUNTIF(AQ$10:BJ$10,AQ33)+COUNTIF(AQ$13:BJ$13,AQ33)+COUNTIF(AQ$16:BJ$16,AQ33)+COUNTIF(AQ$19:BJ$19,AQ33)+COUNTIF(AQ$22:BJ$22,AQ33)+COUNTIF(AQ$25:BJ$25,AQ33))/設定!$D24+IFERROR((COUNTIF(AQ$6:BJ$7,処理!$L5)+COUNTIF(AQ$10:BJ$10,処理!$L5)+COUNTIF(AQ$13:BJ$13,処理!$L5)+COUNTIF(AQ$16:BJ$16,処理!$L5)+COUNTIF(AQ$19:BJ$19,処理!$L5)+COUNTIF(AQ$22:BJ$22,処理!$L5)+COUNTIF(AQ$25:BJ$25,処理!$L5))/処理!$M5,0))","v":""},"",{"$f":"$G$33","v":""},null,{"$f":"IF(LEN(AU33)=0,\"\",(COUNTIF(AQ$6:BJ$7,AU33)+COUNTIF(AQ$10:BJ$10,AU33)+COUNTIF(AQ$13:BJ$13,AU33)+COUNTIF(AQ$16:BJ$16,AU33)+COUNTIF(AQ$19:BJ$19,AU33)+COUNTIF(AQ$22:BJ$22,AU33)+COUNTIF(AQ$25:BJ$25,AU33))/設定!$G24+IFERROR((COUNTIF(AQ$6:BJ$7,処理!$L11)+COUNTIF(AQ$10:BJ$10,処理!$L11)+COUNTIF(AQ$13:BJ$13,処理!$L11)+COUNTIF(AQ$16:BJ$16,処理!$L11)+COUNTIF(AQ$19:BJ$19,処理!$L11)+COUNTIF(AQ$22:BJ$22,処理!$L11)+COUNTIF(AQ$25:BJ$25,処理!$L11))/処理!$M11,0))","v":""},"",{"$f":"$K$33","v":""},null,{"$f":"IF(LEN(AY33)=0,\"\",(COUNTIF(AQ$6:BJ$7,AY33)+COUNTIF(AQ$10:BJ$10,AY33)+COUNTIF(AQ$13:BJ$13,AY33)+COUNTIF(AQ$16:BJ$16,AY33)+COUNTIF(AQ$19:BJ$19,AY33)+COUNTIF(AQ$22:BJ$22,AY33)+COUNTIF(AQ$25:BJ$25,AY33))/設定!$J24+IFERROR((COUNTIF(AQ$6:BJ$7,処理!$L17)+COUNTIF(AQ$10:BJ$10,処理!$L17)+COUNTIF(AQ$13:BJ$13,処理!$L17)+COUNTIF(AQ$16:BJ$16,処理!$L17)+COUNTIF(AQ$19:BJ$19,処理!$L17)+COUNTIF(AQ$22:BJ$22,処理!$L17)+COUNTIF(AQ$25:BJ$25,処理!$L17))/処理!$M17,0))","v":""},"",{"$f":"$O$33","v":""},null,{"$f":"IF(LEN(BC33)=0,\"\",(COUNTIF(AQ$6:BJ$7,BC33)+COUNTIF(AQ$10:BJ$10,BC33)+COUNTIF(AQ$13:BJ$13,BC33)+COUNTIF(AQ$16:BJ$16,BC33)+COUNTIF(AQ$19:BJ$19,BC33)+COUNTIF(AQ$22:BJ$22,BC33)+COUNTIF(AQ$25:BJ$25,BC33))/設定!$M24+IFERROR((COUNTIF(AQ$6:BJ$7,処理!$L23)+COUNTIF(AQ$10:BJ$10,処理!$L23)+COUNTIF(AQ$13:BJ$13,処理!$L23)+COUNTIF(AQ$16:BJ$16,処理!$L23)+COUNTIF(AQ$19:BJ$19,処理!$L23)+COUNTIF(AQ$22:BJ$22,処理!$L23)+COUNTIF(AQ$25:BJ$25,処理!$L23))/処理!$M23,0))","v":""},"",{"$f":"$S$33","v":""},null,"","",{"$f":"$C$33","v":""},null,{"$f":"IF(LEN(BK33)=0,\"\",(COUNTIF(BK$6:CD$7,BK33)+COUNTIF(BK$10:CD$10,BK33)+COUNTIF(BK$13:CD$13,BK33)+COUNTIF(BK$16:CD$16,BK33)+COUNTIF(BK$19:CD$19,BK33)+COUNTIF(BK$22:CD$22,BK33)+COUNTIF(BK$25:CD$25,BK33))/設定!$D24+IFERROR((COUNTIF(BK$6:CD$7,処理!$L5)+COUNTIF(BK$10:CD$10,処理!$L5)+COUNTIF(BK$13:CD$13,処理!$L5)+COUNTIF(BK$16:CD$16,処理!$L5)+COUNTIF(BK$19:CD$19,処理!$L5)+COUNTIF(BK$22:CD$22,処理!$L5)+COUNTIF(BK$25:CD$25,処理!$L5))/処理!$M5,0))","v":""},"",{"$f":"$G$33","v":""},null,{"$f":"IF(LEN(BO33)=0,\"\",(COUNTIF(BK$6:CD$7,BO33)+COUNTIF(BK$10:CD$10,BO33)+COUNTIF(BK$13:CD$13,BO33)+COUNTIF(BK$16:CD$16,BO33)+COUNTIF(BK$19:CD$19,BO33)+COUNTIF(BK$22:CD$22,BO33)+COUNTIF(BK$25:CD$25,BO33))/設定!$G24+IFERROR((COUNTIF(BK$6:CD$7,処理!$L11)+COUNTIF(BK$10:CD$10,処理!$L11)+COUNTIF(BK$13:CD$13,処理!$L11)+COUNTIF(BK$16:CD$16,処理!$L11)+COUNTIF(BK$19:CD$19,処理!$L11)+COUNTIF(BK$22:CD$22,処理!$L11)+COUNTIF(BK$25:CD$25,処理!$L11))/処理!$M11,0))","v":""},"",{"$f":"$K$33","v":""},null,{"$f":"IF(LEN(BS33)=0,\"\",(COUNTIF(BK$6:CD$7,BS33)+COUNTIF(BK$10:CD$10,BS33)+COUNTIF(BK$13:CD$13,BS33)+COUNTIF(BK$16:CD$16,BS33)+COUNTIF(BK$19:CD$19,BS33)+COUNTIF(BK$22:CD$22,BS33)+COUNTIF(BK$25:CD$25,BS33))/設定!$J24+IFERROR((COUNTIF(BK$6:CD$7,処理!$L17)+COUNTIF(BK$10:CD$10,処理!$L17)+COUNTIF(BK$13:CD$13,処理!$L17)+COUNTIF(BK$16:CD$16,処理!$L17)+COUNTIF(BK$19:CD$19,処理!$L17)+COUNTIF(BK$22:CD$22,処理!$L17)+COUNTIF(BK$25:CD$25,処理!$L17))/処理!$M17,0))","v":""},"",{"$f":"$O$33","v":""},null,{"$f":"IF(LEN(BW33)=0,\"\",(COUNTIF(BK$6:CD$7,BW33)+COUNTIF(BK$10:CD$10,BW33)+COUNTIF(BK$13:CD$13,BW33)+COUNTIF(BK$16:CD$16,BW33)+COUNTIF(BK$19:CD$19,BW33)+COUNTIF(BK$22:CD$22,BW33)+COUNTIF(BK$25:CD$25,BW33))/設定!$M24+IFERROR((COUNTIF(BK$6:CD$7,処理!$L23)+COUNTIF(BK$10:CD$10,処理!$L23)+COUNTIF(BK$13:CD$13,処理!$L23)+COUNTIF(BK$16:CD$16,処理!$L23)+COUNTIF(BK$19:CD$19,処理!$L23)+COUNTIF(BK$22:CD$22,処理!$L23)+COUNTIF(BK$25:CD$25,処理!$L23))/処理!$M23,0))","v":""},"",{"$f":"$S$33","v":""},null,"","",{"$f":"$C$33","v":""},null,{"$f":"IF(LEN(CE33)=0,\"\",(COUNTIF(CE$6:CX$7,CE33)+COUNTIF(CE$10:CX$10,CE33)+COUNTIF(CE$13:CX$13,CE33)+COUNTIF(CE$16:CX$16,CE33)+COUNTIF(CE$19:CX$19,CE33)+COUNTIF(CE$22:CX$22,CE33)+COUNTIF(CE$25:CX$25,CE33))/設定!$D24+IFERROR((COUNTIF(CE$6:CX$7,処理!$L5)+COUNTIF(CE$10:CX$10,処理!$L5)+COUNTIF(CE$13:CX$13,処理!$L5)+COUNTIF(CE$16:CX$16,処理!$L5)+COUNTIF(CE$19:CX$19,処理!$L5)+COUNTIF(CE$22:CX$22,処理!$L5)+COUNTIF(CE$25:CX$25,処理!$L5))/処理!$M5,0))","v":""},"",{"$f":"$G$33","v":""},null,{"$f":"IF(LEN(CI33)=0,\"\",(COUNTIF(CE$6:CX$7,CI33)+COUNTIF(CE$10:CX$10,CI33)+COUNTIF(CE$13:CX$13,CI33)+COUNTIF(CE$16:CX$16,CI33)+COUNTIF(CE$19:CX$19,CI33)+COUNTIF(CE$22:CX$22,CI33)+COUNTIF(CE$25:CX$25,CI33))/設定!$G24+IFERROR((COUNTIF(CE$6:CX$7,処理!$L11)+COUNTIF(CE$10:CX$10,処理!$L11)+COUNTIF(CE$13:CX$13,処理!$L11)+COUNTIF(CE$16:CX$16,処理!$L11)+COUNTIF(CE$19:CX$19,処理!$L11)+COUNTIF(CE$22:CX$22,処理!$L11)+COUNTIF(CE$25:CX$25,処理!$L11))/処理!$M11,0))","v":""},"",{"$f":"$K$33","v":""},null,{"$f":"IF(LEN(CM33)=0,\"\",(COUNTIF(CE$6:CX$7,CM33)+COUNTIF(CE$10:CX$10,CM33)+COUNTIF(CE$13:CX$13,CM33)+COUNTIF(CE$16:CX$16,CM33)+COUNTIF(CE$19:CX$19,CM33)+COUNTIF(CE$22:CX$22,CM33)+COUNTIF(CE$25:CX$25,CM33))/設定!$J24+IFERROR((COUNTIF(CE$6:CX$7,処理!$L17)+COUNTIF(CE$10:CX$10,処理!$L17)+COUNTIF(CE$13:CX$13,処理!$L17)+COUNTIF(CE$16:CX$16,処理!$L17)+COUNTIF(CE$19:CX$19,処理!$L17)+COUNTIF(CE$22:CX$22,処理!$L17)+COUNTIF(CE$25:CX$25,処理!$L17))/処理!$M17,0))","v":""},"",{"$f":"$O$33","v":""},null,{"$f":"IF(LEN(CQ33)=0,\"\",(COUNTIF(CE$6:CX$7,CQ33)+COUNTIF(CE$10:CX$10,CQ33)+COUNTIF(CE$13:CX$13,CQ33)+COUNTIF(CE$16:CX$16,CQ33)+COUNTIF(CE$19:CX$19,CQ33)+COUNTIF(CE$22:CX$22,CQ33)+COUNTIF(CE$25:CX$25,CQ33))/設定!$M24+IFERROR((COUNTIF(CE$6:CX$7,処理!$L23)+COUNTIF(CE$10:CX$10,処理!$L23)+COUNTIF(CE$13:CX$13,処理!$L23)+COUNTIF(CE$16:CX$16,処理!$L23)+COUNTIF(CE$19:CX$19,処理!$L23)+COUNTIF(CE$22:CX$22,処理!$L23)+COUNTIF(CE$25:CX$25,処理!$L23))/処理!$M23,0))","v":""},"",{"$f":"$S$33","v":""},null,"","",{"$f":"$C$33","v":""},null,{"$f":"IF(LEN(CY33)=0,\"\",(COUNTIF(CY$6:DR$7,CY33)+COUNTIF(CY$10:DR$10,CY33)+COUNTIF(CY$13:DR$13,CY33)+COUNTIF(CY$16:DR$16,CY33)+COUNTIF(CY$19:DR$19,CY33)+COUNTIF(CY$22:DR$22,CY33)+COUNTIF(CY$25:DR$25,CY33))/設定!$D24+IFERROR((COUNTIF(CY$6:DR$7,処理!$L5)+COUNTIF(CY$10:DR$10,処理!$L5)+COUNTIF(CY$13:DR$13,処理!$L5)+COUNTIF(CY$16:DR$16,処理!$L5)+COUNTIF(CY$19:DR$19,処理!$L5)+COUNTIF(CY$22:DR$22,処理!$L5)+COUNTIF(CY$25:DR$25,処理!$L5))/処理!$M5,0))","v":""},"",{"$f":"$G$33","v":""},null,{"$f":"IF(LEN(DC33)=0,\"\",(COUNTIF(CY$6:DR$7,DC33)+COUNTIF(CY$10:DR$10,DC33)+COUNTIF(CY$13:DR$13,DC33)+COUNTIF(CY$16:DR$16,DC33)+COUNTIF(CY$19:DR$19,DC33)+COUNTIF(CY$22:DR$22,DC33)+COUNTIF(CY$25:DR$25,DC33))/設定!$G24+IFERROR((COUNTIF(CY$6:DR$7,処理!$L11)+COUNTIF(CY$10:DR$10,処理!$L11)+COUNTIF(CY$13:DR$13,処理!$L11)+COUNTIF(CY$16:DR$16,処理!$L11)+COUNTIF(CY$19:DR$19,処理!$L11)+COUNTIF(CY$22:DR$22,処理!$L11)+COUNTIF(CY$25:DR$25,処理!$L11))/処理!$M11,0))","v":""},"",{"$f":"$K$33","v":""},null,{"$f":"IF(LEN(DG33)=0,\"\",(COUNTIF(CY$6:DR$7,DG33)+COUNTIF(CY$10:DR$10,DG33)+COUNTIF(CY$13:DR$13,DG33)+COUNTIF(CY$16:DR$16,DG33)+COUNTIF(CY$19:DR$19,DG33)+COUNTIF(CY$22:DR$22,DG33)+COUNTIF(CY$25:DR$25,DG33))/設定!$J24+IFERROR((COUNTIF(CY$6:DR$7,処理!$L17)+COUNTIF(CY$10:DR$10,処理!$L17)+COUNTIF(CY$13:DR$13,処理!$L17)+COUNTIF(CY$16:DR$16,処理!$L17)+COUNTIF(CY$19:DR$19,処理!$L17)+COUNTIF(CY$22:DR$22,処理!$L17)+COUNTIF(CY$25:DR$25,処理!$L17))/処理!$M17,0))","v":""},"",{"$f":"$O$33","v":""},null,{"$f":"IF(LEN(DK33)=0,\"\",(COUNTIF(CY$6:DR$7,DK33)+COUNTIF(CY$10:DR$10,DK33)+COUNTIF(CY$13:DR$13,DK33)+COUNTIF(CY$16:DR$16,DK33)+COUNTIF(CY$19:DR$19,DK33)+COUNTIF(CY$22:DR$22,DK33)+COUNTIF(CY$25:DR$25,DK33))/設定!$M24+IFERROR((COUNTIF(CY$6:DR$7,処理!$L23)+COUNTIF(CY$10:DR$10,処理!$L23)+COUNTIF(CY$13:DR$13,処理!$L23)+COUNTIF(CY$16:DR$16,処理!$L23)+COUNTIF(CY$19:DR$19,処理!$L23)+COUNTIF(CY$22:DR$22,処理!$L23)+COUNTIF(CY$25:DR$25,処理!$L23))/処理!$M23,0))","v":""},"",{"$f":"$S$33","v":""},null,"","",{"$f":"$C$33","v":""},null,{"$f":"IF(LEN(DS33)=0,\"\",(COUNTIF(DS$6:EL$7,DS33)+COUNTIF(DS$10:EL$10,DS33)+COUNTIF(DS$13:EL$13,DS33)+COUNTIF(DS$16:EL$16,DS33)+COUNTIF(DS$19:EL$19,DS33)+COUNTIF(DS$22:EL$22,DS33)+COUNTIF(DS$25:EL$25,DS33))/設定!$D24+IFERROR((COUNTIF(DS$6:EL$7,処理!$L5)+COUNTIF(DS$10:EL$10,処理!$L5)+COUNTIF(DS$13:EL$13,処理!$L5)+COUNTIF(DS$16:EL$16,処理!$L5)+COUNTIF(DS$19:EL$19,処理!$L5)+COUNTIF(DS$22:EL$22,処理!$L5)+COUNTIF(DS$25:EL$25,処理!$L5))/処理!$M5,0))","v":""},"",{"$f":"$G$33","v":""},null,{"$f":"IF(LEN(DW33)=0,\"\",(COUNTIF(DS$6:EL$7,DW33)+COUNTIF(DS$10:EL$10,DW33)+COUNTIF(DS$13:EL$13,DW33)+COUNTIF(DS$16:EL$16,DW33)+COUNTIF(DS$19:EL$19,DW33)+COUNTIF(DS$22:EL$22,DW33)+COUNTIF(DS$25:EL$25,DW33))/設定!$G24+IFERROR((COUNTIF(DS$6:EL$7,処理!$L11)+COUNTIF(DS$10:EL$10,処理!$L11)+COUNTIF(DS$13:EL$13,処理!$L11)+COUNTIF(DS$16:EL$16,処理!$L11)+COUNTIF(DS$19:EL$19,処理!$L11)+COUNTIF(DS$22:EL$22,処理!$L11)+COUNTIF(DS$25:EL$25,処理!$L11))/処理!$M11,0))","v":""},"",{"$f":"$K$33","v":""},null,{"$f":"IF(LEN(EA33)=0,\"\",(COUNTIF(DS$6:EL$7,EA33)+COUNTIF(DS$10:EL$10,EA33)+COUNTIF(DS$13:EL$13,EA33)+COUNTIF(DS$16:EL$16,EA33)+COUNTIF(DS$19:EL$19,EA33)+COUNTIF(DS$22:EL$22,EA33)+COUNTIF(DS$25:EL$25,EA33))/設定!$J24+IFERROR((COUNTIF(DS$6:EL$7,処理!$L17)+COUNTIF(DS$10:EL$10,処理!$L17)+COUNTIF(DS$13:EL$13,処理!$L17)+COUNTIF(DS$16:EL$16,処理!$L17)+COUNTIF(DS$19:EL$19,処理!$L17)+COUNTIF(DS$22:EL$22,処理!$L17)+COUNTIF(DS$25:EL$25,処理!$L17))/処理!$M17,0))","v":""},"",{"$f":"$O$33","v":""},null,{"$f":"IF(LEN(EE33)=0,\"\",(COUNTIF(DS$6:EL$7,EE33)+COUNTIF(DS$10:EL$10,EE33)+COUNTIF(DS$13:EL$13,EE33)+COUNTIF(DS$16:EL$16,EE33)+COUNTIF(DS$19:EL$19,EE33)+COUNTIF(DS$22:EL$22,EE33)+COUNTIF(DS$25:EL$25,EE33))/設定!$M24+IFERROR((COUNTIF(DS$6:EL$7,処理!$L23)+COUNTIF(DS$10:EL$10,処理!$L23)+COUNTIF(DS$13:EL$13,処理!$L23)+COUNTIF(DS$16:EL$16,処理!$L23)+COUNTIF(DS$19:EL$19,処理!$L23)+COUNTIF(DS$22:EL$22,処理!$L23)+COUNTIF(DS$25:EL$25,処理!$L23))/処理!$M23,0))","v":""},"",{"$f":"$S$33","v":""},null,"","",{"$f":"$C$33","v":""},null,{"$f":"IF(LEN(EM33)=0,\"\",(COUNTIF(EM$6:FF$7,EM33)+COUNTIF(EM$10:FF$10,EM33)+COUNTIF(EM$13:FF$13,EM33)+COUNTIF(EM$16:FF$16,EM33)+COUNTIF(EM$19:FF$19,EM33)+COUNTIF(EM$22:FF$22,EM33)+COUNTIF(EM$25:FF$25,EM33))/設定!$D24+IFERROR((COUNTIF(EM$6:FF$7,処理!$L5)+COUNTIF(EM$10:FF$10,処理!$L5)+COUNTIF(EM$13:FF$13,処理!$L5)+COUNTIF(EM$16:FF$16,処理!$L5)+COUNTIF(EM$19:FF$19,処理!$L5)+COUNTIF(EM$22:FF$22,処理!$L5)+COUNTIF(EM$25:FF$25,処理!$L5))/処理!$M5,0))","v":""},"",{"$f":"$G$33","v":""},null,{"$f":"IF(LEN(EQ33)=0,\"\",(COUNTIF(EM$6:FF$7,EQ33)+COUNTIF(EM$10:FF$10,EQ33)+COUNTIF(EM$13:FF$13,EQ33)+COUNTIF(EM$16:FF$16,EQ33)+COUNTIF(EM$19:FF$19,EQ33)+COUNTIF(EM$22:FF$22,EQ33)+COUNTIF(EM$25:FF$25,EQ33))/設定!$G24+IFERROR((COUNTIF(EM$6:FF$7,処理!$L11)+COUNTIF(EM$10:FF$10,処理!$L11)+COUNTIF(EM$13:FF$13,処理!$L11)+COUNTIF(EM$16:FF$16,処理!$L11)+COUNTIF(EM$19:FF$19,処理!$L11)+COUNTIF(EM$22:FF$22,処理!$L11)+COUNTIF(EM$25:FF$25,処理!$L11))/処理!$M11,0))","v":""},"",{"$f":"$K$33","v":""},null,{"$f":"IF(LEN(EU33)=0,\"\",(COUNTIF(EM$6:FF$7,EU33)+COUNTIF(EM$10:FF$10,EU33)+COUNTIF(EM$13:FF$13,EU33)+COUNTIF(EM$16:FF$16,EU33)+COUNTIF(EM$19:FF$19,EU33)+COUNTIF(EM$22:FF$22,EU33)+COUNTIF(EM$25:FF$25,EU33))/設定!$J24+IFERROR((COUNTIF(EM$6:FF$7,処理!$L17)+COUNTIF(EM$10:FF$10,処理!$L17)+COUNTIF(EM$13:FF$13,処理!$L17)+COUNTIF(EM$16:FF$16,処理!$L17)+COUNTIF(EM$19:FF$19,処理!$L17)+COUNTIF(EM$22:FF$22,処理!$L17)+COUNTIF(EM$25:FF$25,処理!$L17))/処理!$M17,0))","v":""},"",{"$f":"$O$33","v":""},null,{"$f":"IF(LEN(EY33)=0,\"\",(COUNTIF(EM$6:FF$7,EY33)+COUNTIF(EM$10:FF$10,EY33)+COUNTIF(EM$13:FF$13,EY33)+COUNTIF(EM$16:FF$16,EY33)+COUNTIF(EM$19:FF$19,EY33)+COUNTIF(EM$22:FF$22,EY33)+COUNTIF(EM$25:FF$25,EY33))/設定!$M24+IFERROR((COUNTIF(EM$6:FF$7,処理!$L23)+COUNTIF(EM$10:FF$10,処理!$L23)+COUNTIF(EM$13:FF$13,処理!$L23)+COUNTIF(EM$16:FF$16,処理!$L23)+COUNTIF(EM$19:FF$19,処理!$L23)+COUNTIF(EM$22:FF$22,処理!$L23)+COUNTIF(EM$25:FF$25,処理!$L23))/処理!$M23,0))","v":""},"",{"$f":"$S$33","v":""},null,"","",{"$f":"$C$33","v":""},null,{"$f":"IF(LEN(FG33)=0,\"\",(COUNTIF(FG$6:FZ$7,FG33)+COUNTIF(FG$10:FZ$10,FG33)+COUNTIF(FG$13:FZ$13,FG33)+COUNTIF(FG$16:FZ$16,FG33)+COUNTIF(FG$19:FZ$19,FG33)+COUNTIF(FG$22:FZ$22,FG33)+COUNTIF(FG$25:FZ$25,FG33))/設定!$D24+IFERROR((COUNTIF(FG$6:FZ$7,処理!$L5)+COUNTIF(FG$10:FZ$10,処理!$L5)+COUNTIF(FG$13:FZ$13,処理!$L5)+COUNTIF(FG$16:FZ$16,処理!$L5)+COUNTIF(FG$19:FZ$19,処理!$L5)+COUNTIF(FG$22:FZ$22,処理!$L5)+COUNTIF(FG$25:FZ$25,処理!$L5))/処理!$M5,0))","v":""},"",{"$f":"$G$33","v":""},null,{"$f":"IF(LEN(FK33)=0,\"\",(COUNTIF(FG$6:FZ$7,FK33)+COUNTIF(FG$10:FZ$10,FK33)+COUNTIF(FG$13:FZ$13,FK33)+COUNTIF(FG$16:FZ$16,FK33)+COUNTIF(FG$19:FZ$19,FK33)+COUNTIF(FG$22:FZ$22,FK33)+COUNTIF(FG$25:FZ$25,FK33))/設定!$G24+IFERROR((COUNTIF(FG$6:FZ$7,処理!$L11)+COUNTIF(FG$10:FZ$10,処理!$L11)+COUNTIF(FG$13:FZ$13,処理!$L11)+COUNTIF(FG$16:FZ$16,処理!$L11)+COUNTIF(FG$19:FZ$19,処理!$L11)+COUNTIF(FG$22:FZ$22,処理!$L11)+COUNTIF(FG$25:FZ$25,処理!$L11))/処理!$M11,0))","v":""},"",{"$f":"$K$33","v":""},null,{"$f":"IF(LEN(FO33)=0,\"\",(COUNTIF(FG$6:FZ$7,FO33)+COUNTIF(FG$10:FZ$10,FO33)+COUNTIF(FG$13:FZ$13,FO33)+COUNTIF(FG$16:FZ$16,FO33)+COUNTIF(FG$19:FZ$19,FO33)+COUNTIF(FG$22:FZ$22,FO33)+COUNTIF(FG$25:FZ$25,FO33))/設定!$J24+IFERROR((COUNTIF(FG$6:FZ$7,処理!$L17)+COUNTIF(FG$10:FZ$10,処理!$L17)+COUNTIF(FG$13:FZ$13,処理!$L17)+COUNTIF(FG$16:FZ$16,処理!$L17)+COUNTIF(FG$19:FZ$19,処理!$L17)+COUNTIF(FG$22:FZ$22,処理!$L17)+COUNTIF(FG$25:FZ$25,処理!$L17))/処理!$M17,0))","v":""},"",{"$f":"$O$33","v":""},null,{"$f":"IF(LEN(FS33)=0,\"\",(COUNTIF(FG$6:FZ$7,FS33)+COUNTIF(FG$10:FZ$10,FS33)+COUNTIF(FG$13:FZ$13,FS33)+COUNTIF(FG$16:FZ$16,FS33)+COUNTIF(FG$19:FZ$19,FS33)+COUNTIF(FG$22:FZ$22,FS33)+COUNTIF(FG$25:FZ$25,FS33))/設定!$M24+IFERROR((COUNTIF(FG$6:FZ$7,処理!$L23)+COUNTIF(FG$10:FZ$10,処理!$L23)+COUNTIF(FG$13:FZ$13,処理!$L23)+COUNTIF(FG$16:FZ$16,処理!$L23)+COUNTIF(FG$19:FZ$19,処理!$L23)+COUNTIF(FG$22:FZ$22,処理!$L23)+COUNTIF(FG$25:FZ$25,処理!$L23))/処理!$M23,0))","v":""},"",{"$f":"$S$33","v":""},null,"","",{"$f":"$C$33","v":""},null,{"$f":"IF(LEN(GA33)=0,\"\",(COUNTIF(GA$6:GT$7,GA33)+COUNTIF(GA$10:GT$10,GA33)+COUNTIF(GA$13:GT$13,GA33)+COUNTIF(GA$16:GT$16,GA33)+COUNTIF(GA$19:GT$19,GA33)+COUNTIF(GA$22:GT$22,GA33)+COUNTIF(GA$25:GT$25,GA33))/設定!$D24+IFERROR((COUNTIF(GA$6:GT$7,処理!$L5)+COUNTIF(GA$10:GT$10,処理!$L5)+COUNTIF(GA$13:GT$13,処理!$L5)+COUNTIF(GA$16:GT$16,処理!$L5)+COUNTIF(GA$19:GT$19,処理!$L5)+COUNTIF(GA$22:GT$22,処理!$L5)+COUNTIF(GA$25:GT$25,処理!$L5))/処理!$M5,0))","v":""},"",{"$f":"$G$33","v":""},null,{"$f":"IF(LEN(GE33)=0,\"\",(COUNTIF(GA$6:GT$7,GE33)+COUNTIF(GA$10:GT$10,GE33)+COUNTIF(GA$13:GT$13,GE33)+COUNTIF(GA$16:GT$16,GE33)+COUNTIF(GA$19:GT$19,GE33)+COUNTIF(GA$22:GT$22,GE33)+COUNTIF(GA$25:GT$25,GE33))/設定!$G24+IFERROR((COUNTIF(GA$6:GT$7,処理!$L11)+COUNTIF(GA$10:GT$10,処理!$L11)+COUNTIF(GA$13:GT$13,処理!$L11)+COUNTIF(GA$16:GT$16,処理!$L11)+COUNTIF(GA$19:GT$19,処理!$L11)+COUNTIF(GA$22:GT$22,処理!$L11)+COUNTIF(GA$25:GT$25,処理!$L11))/処理!$M11,0))","v":""},"",{"$f":"$K$33","v":""},null,{"$f":"IF(LEN(GI33)=0,\"\",(COUNTIF(GA$6:GT$7,GI33)+COUNTIF(GA$10:GT$10,GI33)+COUNTIF(GA$13:GT$13,GI33)+COUNTIF(GA$16:GT$16,GI33)+COUNTIF(GA$19:GT$19,GI33)+COUNTIF(GA$22:GT$22,GI33)+COUNTIF(GA$25:GT$25,GI33))/設定!$J24+IFERROR((COUNTIF(GA$6:GT$7,処理!$L17)+COUNTIF(GA$10:GT$10,処理!$L17)+COUNTIF(GA$13:GT$13,処理!$L17)+COUNTIF(GA$16:GT$16,処理!$L17)+COUNTIF(GA$19:GT$19,処理!$L17)+COUNTIF(GA$22:GT$22,処理!$L17)+COUNTIF(GA$25:GT$25,処理!$L17))/処理!$M17,0))","v":""},"",{"$f":"$O$33","v":""},null,{"$f":"IF(LEN(GM33)=0,\"\",(COUNTIF(GA$6:GT$7,GM33)+COUNTIF(GA$10:GT$10,GM33)+COUNTIF(GA$13:GT$13,GM33)+COUNTIF(GA$16:GT$16,GM33)+COUNTIF(GA$19:GT$19,GM33)+COUNTIF(GA$22:GT$22,GM33)+COUNTIF(GA$25:GT$25,GM33))/設定!$M24+IFERROR((COUNTIF(GA$6:GT$7,処理!$L23)+COUNTIF(GA$10:GT$10,処理!$L23)+COUNTIF(GA$13:GT$13,処理!$L23)+COUNTIF(GA$16:GT$16,処理!$L23)+COUNTIF(GA$19:GT$19,処理!$L23)+COUNTIF(GA$22:GT$22,処理!$L23)+COUNTIF(GA$25:GT$25,処理!$L23))/処理!$M23,0))","v":""},"",{"$f":"$S$33","v":""},null,"","",{"$f":"$C$33","v":""},null,{"$f":"IF(LEN(GU33)=0,\"\",(COUNTIF(GU$6:HN$7,GU33)+COUNTIF(GU$10:HN$10,GU33)+COUNTIF(GU$13:HN$13,GU33)+COUNTIF(GU$16:HN$16,GU33)+COUNTIF(GU$19:HN$19,GU33)+COUNTIF(GU$22:HN$22,GU33)+COUNTIF(GU$25:HN$25,GU33))/設定!$D24+IFERROR((COUNTIF(GU$6:HN$7,処理!$L5)+COUNTIF(GU$10:HN$10,処理!$L5)+COUNTIF(GU$13:HN$13,処理!$L5)+COUNTIF(GU$16:HN$16,処理!$L5)+COUNTIF(GU$19:HN$19,処理!$L5)+COUNTIF(GU$22:HN$22,処理!$L5)+COUNTIF(GU$25:HN$25,処理!$L5))/処理!$M5,0))","v":""},"",{"$f":"$G$33","v":""},null,{"$f":"IF(LEN(GY33)=0,\"\",(COUNTIF(GU$6:HN$7,GY33)+COUNTIF(GU$10:HN$10,GY33)+COUNTIF(GU$13:HN$13,GY33)+COUNTIF(GU$16:HN$16,GY33)+COUNTIF(GU$19:HN$19,GY33)+COUNTIF(GU$22:HN$22,GY33)+COUNTIF(GU$25:HN$25,GY33))/設定!$G24+IFERROR((COUNTIF(GU$6:HN$7,処理!$L11)+COUNTIF(GU$10:HN$10,処理!$L11)+COUNTIF(GU$13:HN$13,処理!$L11)+COUNTIF(GU$16:HN$16,処理!$L11)+COUNTIF(GU$19:HN$19,処理!$L11)+COUNTIF(GU$22:HN$22,処理!$L11)+COUNTIF(GU$25:HN$25,処理!$L11))/処理!$M11,0))","v":""},"",{"$f":"$K$33","v":""},null,{"$f":"IF(LEN(HC33)=0,\"\",(COUNTIF(GU$6:HN$7,HC33)+COUNTIF(GU$10:HN$10,HC33)+COUNTIF(GU$13:HN$13,HC33)+COUNTIF(GU$16:HN$16,HC33)+COUNTIF(GU$19:HN$19,HC33)+COUNTIF(GU$22:HN$22,HC33)+COUNTIF(GU$25:HN$25,HC33))/設定!$J24+IFERROR((COUNTIF(GU$6:HN$7,処理!$L17)+COUNTIF(GU$10:HN$10,処理!$L17)+COUNTIF(GU$13:HN$13,処理!$L17)+COUNTIF(GU$16:HN$16,処理!$L17)+COUNTIF(GU$19:HN$19,処理!$L17)+COUNTIF(GU$22:HN$22,処理!$L17)+COUNTIF(GU$25:HN$25,処理!$L17))/処理!$M17,0))","v":""},"",{"$f":"$O$33","v":""},null,{"$f":"IF(LEN(HG33)=0,\"\",(COUNTIF(GU$6:HN$7,HG33)+COUNTIF(GU$10:HN$10,HG33)+COUNTIF(GU$13:HN$13,HG33)+COUNTIF(GU$16:HN$16,HG33)+COUNTIF(GU$19:HN$19,HG33)+COUNTIF(GU$22:HN$22,HG33)+COUNTIF(GU$25:HN$25,HG33))/設定!$M24+IFERROR((COUNTIF(GU$6:HN$7,処理!$L23)+COUNTIF(GU$10:HN$10,処理!$L23)+COUNTIF(GU$13:HN$13,処理!$L23)+COUNTIF(GU$16:HN$16,処理!$L23)+COUNTIF(GU$19:HN$19,処理!$L23)+COUNTIF(GU$22:HN$22,処理!$L23)+COUNTIF(GU$25:HN$25,処理!$L23))/処理!$M23,0))","v":""},"",{"$f":"$S$33","v":""},null,"","",{"$f":"$C$33","v":""},null,{"$f":"IF(LEN(HO33)=0,\"\",(COUNTIF(HO$6:IH$7,HO33)+COUNTIF(HO$10:IH$10,HO33)+COUNTIF(HO$13:IH$13,HO33)+COUNTIF(HO$16:IH$16,HO33)+COUNTIF(HO$19:IH$19,HO33)+COUNTIF(HO$22:IH$22,HO33)+COUNTIF(HO$25:IH$25,HO33))/設定!$D24+IFERROR((COUNTIF(HO$6:IH$7,処理!$L5)+COUNTIF(HO$10:IH$10,処理!$L5)+COUNTIF(HO$13:IH$13,処理!$L5)+COUNTIF(HO$16:IH$16,処理!$L5)+COUNTIF(HO$19:IH$19,処理!$L5)+COUNTIF(HO$22:IH$22,処理!$L5)+COUNTIF(HO$25:IH$25,処理!$L5))/処理!$M5,0))","v":""},"",{"$f":"$G$33","v":""},null,{"$f":"IF(LEN(HS33)=0,\"\",(COUNTIF(HO$6:IH$7,HS33)+COUNTIF(HO$10:IH$10,HS33)+COUNTIF(HO$13:IH$13,HS33)+COUNTIF(HO$16:IH$16,HS33)+COUNTIF(HO$19:IH$19,HS33)+COUNTIF(HO$22:IH$22,HS33)+COUNTIF(HO$25:IH$25,HS33))/設定!$G24+IFERROR((COUNTIF(HO$6:IH$7,処理!$L11)+COUNTIF(HO$10:IH$10,処理!$L11)+COUNTIF(HO$13:IH$13,処理!$L11)+COUNTIF(HO$16:IH$16,処理!$L11)+COUNTIF(HO$19:IH$19,処理!$L11)+COUNTIF(HO$22:IH$22,処理!$L11)+COUNTIF(HO$25:IH$25,処理!$L11))/処理!$M11,0))","v":""},"",{"$f":"$K$33","v":""},null,{"$f":"IF(LEN(HW33)=0,\"\",(COUNTIF(HO$6:IH$7,HW33)+COUNTIF(HO$10:IH$10,HW33)+COUNTIF(HO$13:IH$13,HW33)+COUNTIF(HO$16:IH$16,HW33)+COUNTIF(HO$19:IH$19,HW33)+COUNTIF(HO$22:IH$22,HW33)+COUNTIF(HO$25:IH$25,HW33))/設定!$J24+IFERROR((COUNTIF(HO$6:IH$7,処理!$L17)+COUNTIF(HO$10:IH$10,処理!$L17)+COUNTIF(HO$13:IH$13,処理!$L17)+COUNTIF(HO$16:IH$16,処理!$L17)+COUNTIF(HO$19:IH$19,処理!$L17)+COUNTIF(HO$22:IH$22,処理!$L17)+COUNTIF(HO$25:IH$25,処理!$L17))/処理!$M17,0))","v":""},"",{"$f":"$O$33","v":""},null,{"$f":"IF(LEN(IA33)=0,\"\",(COUNTIF(HO$6:IH$7,IA33)+COUNTIF(HO$10:IH$10,IA33)+COUNTIF(HO$13:IH$13,IA33)+COUNTIF(HO$16:IH$16,IA33)+COUNTIF(HO$19:IH$19,IA33)+COUNTIF(HO$22:IH$22,IA33)+COUNTIF(HO$25:IH$25,IA33))/設定!$M24+IFERROR((COUNTIF(HO$6:IH$7,処理!$L23)+COUNTIF(HO$10:IH$10,処理!$L23)+COUNTIF(HO$13:IH$13,処理!$L23)+COUNTIF(HO$16:IH$16,処理!$L23)+COUNTIF(HO$19:IH$19,処理!$L23)+COUNTIF(HO$22:IH$22,処理!$L23)+COUNTIF(HO$25:IH$25,処理!$L23))/処理!$M23,0))","v":""},"",{"$f":"$S$33","v":""},null,"","",{"$f":"$C$33","v":""},null,{"$f":"IF(LEN(II33)=0,\"\",(COUNTIF(II$6:JB$7,II33)+COUNTIF(II$10:JB$10,II33)+COUNTIF(II$13:JB$13,II33)+COUNTIF(II$16:JB$16,II33)+COUNTIF(II$19:JB$19,II33)+COUNTIF(II$22:JB$22,II33)+COUNTIF(II$25:JB$25,II33))/設定!$D24+IFERROR((COUNTIF(II$6:JB$7,処理!$L5)+COUNTIF(II$10:JB$10,処理!$L5)+COUNTIF(II$13:JB$13,処理!$L5)+COUNTIF(II$16:JB$16,処理!$L5)+COUNTIF(II$19:JB$19,処理!$L5)+COUNTIF(II$22:JB$22,処理!$L5)+COUNTIF(II$25:JB$25,処理!$L5))/処理!$M5,0))","v":""},"",{"$f":"$G$33","v":""},null,{"$f":"IF(LEN(IM33)=0,\"\",(COUNTIF(II$6:JB$7,IM33)+COUNTIF(II$10:JB$10,IM33)+COUNTIF(II$13:JB$13,IM33)+COUNTIF(II$16:JB$16,IM33)+COUNTIF(II$19:JB$19,IM33)+COUNTIF(II$22:JB$22,IM33)+COUNTIF(II$25:JB$25,IM33))/設定!$G24+IFERROR((COUNTIF(II$6:JB$7,処理!$L11)+COUNTIF(II$10:JB$10,処理!$L11)+COUNTIF(II$13:JB$13,処理!$L11)+COUNTIF(II$16:JB$16,処理!$L11)+COUNTIF(II$19:JB$19,処理!$L11)+COUNTIF(II$22:JB$22,処理!$L11)+COUNTIF(II$25:JB$25,処理!$L11))/処理!$M11,0))","v":""},"",{"$f":"$K$33","v":""},null,{"$f":"IF(LEN(IQ33)=0,\"\",(COUNTIF(II$6:JB$7,IQ33)+COUNTIF(II$10:JB$10,IQ33)+COUNTIF(II$13:JB$13,IQ33)+COUNTIF(II$16:JB$16,IQ33)+COUNTIF(II$19:JB$19,IQ33)+COUNTIF(II$22:JB$22,IQ33)+COUNTIF(II$25:JB$25,IQ33))/設定!$J24+IFERROR((COUNTIF(II$6:JB$7,処理!$L17)+COUNTIF(II$10:JB$10,処理!$L17)+COUNTIF(II$13:JB$13,処理!$L17)+COUNTIF(II$16:JB$16,処理!$L17)+COUNTIF(II$19:JB$19,処理!$L17)+COUNTIF(II$22:JB$22,処理!$L17)+COUNTIF(II$25:JB$25,処理!$L17))/処理!$M17,0))","v":""},"",{"$f":"$O$33","v":""},null,{"$f":"IF(LEN(IU33)=0,\"\",(COUNTIF(II$6:JB$7,IU33)+COUNTIF(II$10:JB$10,IU33)+COUNTIF(II$13:JB$13,IU33)+COUNTIF(II$16:JB$16,IU33)+COUNTIF(II$19:JB$19,IU33)+COUNTIF(II$22:JB$22,IU33)+COUNTIF(II$25:JB$25,IU33))/設定!$M24+IFERROR((COUNTIF(II$6:JB$7,処理!$L23)+COUNTIF(II$10:JB$10,処理!$L23)+COUNTIF(II$13:JB$13,処理!$L23)+COUNTIF(II$16:JB$16,処理!$L23)+COUNTIF(II$19:JB$19,処理!$L23)+COUNTIF(II$22:JB$22,処理!$L23)+COUNTIF(II$25:JB$25,処理!$L23))/処理!$M23,0))","v":""},"",{"$f":"$S$33","v":""},null,"",""]
[null,null,{"$f":"IF(COUNTIF(処理!$J$2:$J$25,4)>0,処理!H6,\"\")","v":""},null,{"$f":"IF(LEN(C34)=0,\"\",(COUNTIF(C$6:V$7,C34)+COUNTIF(C$10:V$10,C34)+COUNTIF(C$13:V$13,C34)+COUNTIF(C$16:V$16,C34)+COUNTIF(C$19:V$19,C34)+COUNTIF(C$22:V$22,C34)+COUNTIF(C$25:V$25,C34))/設定!$D25+IFERROR((COUNTIF(C$6:V$7,処理!$L6)+COUNTIF(C$10:V$10,処理!$L6)+COUNTIF(C$13:V$13,処理!$L6)+COUNTIF(C$16:V$16,処理!$L6)+COUNTIF(C$19:V$19,処理!$L6)+COUNTIF(C$22:V$22,処理!$L6)+COUNTIF(C$25:V$25,処理!$L6))/処理!$M6,0))","v":""},"",{"$f":"IF(COUNTIF(処理!$J$2:$J$25,10)>0,処理!H12,\"\")","v":""},null,{"$f":"IF(LEN(G34)=0,\"\",(COUNTIF(C$6:V$7,G34)+COUNTIF(C$10:V$10,G34)+COUNTIF(C$13:V$13,G34)+COUNTIF(C$16:V$16,G34)+COUNTIF(C$19:V$19,G34)+COUNTIF(C$22:V$22,G34)+COUNTIF(C$25:V$25,G34))/設定!$G25+IFERROR((COUNTIF(C$6:V$7,処理!$L12)+COUNTIF(C$10:V$10,処理!$L12)+COUNTIF(C$13:V$13,処理!$L12)+COUNTIF(C$16:V$16,処理!$L12)+COUNTIF(C$19:V$19,処理!$L12)+COUNTIF(C$22:V$22,処理!$L12)+COUNTIF(C$25:V$25,処理!$L12))/処理!$M12,0))","v":""},"",{"$f":"IF(COUNTIF(処理!$J$2:$J$25,16)>0,処理!H18,\"\")","v":""},null,{"$f":"IF(LEN(K34)=0,\"\",(COUNTIF(C$6:V$7,K34)+COUNTIF(C$10:V$10,K34)+COUNTIF(C$13:V$13,K34)+COUNTIF(C$16:V$16,K34)+COUNTIF(C$19:V$19,K34)+COUNTIF(C$22:V$22,K34)+COUNTIF(C$25:V$25,K34))/設定!$J25+IFERROR((COUNTIF(C$6:V$7,処理!$L18)+COUNTIF(C$10:V$10,処理!$L18)+COUNTIF(C$13:V$13,処理!$L18)+COUNTIF(C$16:V$16,処理!$L18)+COUNTIF(C$19:V$19,処理!$L18)+COUNTIF(C$22:V$22,処理!$L18)+COUNTIF(C$25:V$25,処理!$L18))/処理!$M18,0))","v":""},"",{"$f":"IF(COUNTIF(処理!$J$2:$J$25,22)>0,処理!H24,\"\")","v":""},null,{"$f":"IF(LEN(O34)=0,\"\",(COUNTIF(C$6:V$7,O34)+COUNTIF(C$10:V$10,O34)+COUNTIF(C$13:V$13,O34)+COUNTIF(C$16:V$16,O34)+COUNTIF(C$19:V$19,O34)+COUNTIF(C$22:V$22,O34)+COUNTIF(C$25:V$25,O34))/設定!$M25+IFERROR((COUNTIF(C$6:V$7,処理!$L24)+COUNTIF(C$10:V$10,処理!$L24)+COUNTIF(C$13:V$13,処理!$L24)+COUNTIF(C$16:V$16,処理!$L24)+COUNTIF(C$19:V$19,処理!$L24)+COUNTIF(C$22:V$22,処理!$L24)+COUNTIF(C$25:V$25,処理!$L24))/処理!$M24,0))","v":""},"",{"$f":"処理!H30&\"\"","v":""},null,"","",{"$f":"$C$34","v":""},null,{"$f":"IF(LEN(W34)=0,\"\",(COUNTIF(W$6:AP$7,W34)+COUNTIF(W$10:AP$10,W34)+COUNTIF(W$13:AP$13,W34)+COUNTIF(W$16:AP$16,W34)+COUNTIF(W$19:AP$19,W34)+COUNTIF(W$22:AP$22,W34)+COUNTIF(W$25:AP$25,W34))/設定!$D25+IFERROR((COUNTIF(W$6:AP$7,処理!$L6)+COUNTIF(W$10:AP$10,処理!$L6)+COUNTIF(W$13:AP$13,処理!$L6)+COUNTIF(W$16:AP$16,処理!$L6)+COUNTIF(W$19:AP$19,処理!$L6)+COUNTIF(W$22:AP$22,処理!$L6)+COUNTIF(W$25:AP$25,処理!$L6))/処理!$M6,0))","v":""},"",{"$f":"$G$34","v":""},null,{"$f":"IF(LEN(AA34)=0,\"\",(COUNTIF(W$6:AP$7,AA34)+COUNTIF(W$10:AP$10,AA34)+COUNTIF(W$13:AP$13,AA34)+COUNTIF(W$16:AP$16,AA34)+COUNTIF(W$19:AP$19,AA34)+COUNTIF(W$22:AP$22,AA34)+COUNTIF(W$25:AP$25,AA34))/設定!$G25+IFERROR((COUNTIF(W$6:AP$7,処理!$L12)+COUNTIF(W$10:AP$10,処理!$L12)+COUNTIF(W$13:AP$13,処理!$L12)+COUNTIF(W$16:AP$16,処理!$L12)+COUNTIF(W$19:AP$19,処理!$L12)+COUNTIF(W$22:AP$22,処理!$L12)+COUNTIF(W$25:AP$25,処理!$L12))/処理!$M12,0))","v":""},"",{"$f":"$K$34","v":""},null,{"$f":"IF(LEN(AE34)=0,\"\",(COUNTIF(W$6:AP$7,AE34)+COUNTIF(W$10:AP$10,AE34)+COUNTIF(W$13:AP$13,AE34)+COUNTIF(W$16:AP$16,AE34)+COUNTIF(W$19:AP$19,AE34)+COUNTIF(W$22:AP$22,AE34)+COUNTIF(W$25:AP$25,AE34))/設定!$J25+IFERROR((COUNTIF(W$6:AP$7,処理!$L18)+COUNTIF(W$10:AP$10,処理!$L18)+COUNTIF(W$13:AP$13,処理!$L18)+COUNTIF(W$16:AP$16,処理!$L18)+COUNTIF(W$19:AP$19,処理!$L18)+COUNTIF(W$22:AP$22,処理!$L18)+COUNTIF(W$25:AP$25,処理!$L18))/処理!$M18,0))","v":""},"",{"$f":"$O$34","v":""},null,{"$f":"IF(LEN(AI34)=0,\"\",(COUNTIF(W$6:AP$7,AI34)+COUNTIF(W$10:AP$10,AI34)+COUNTIF(W$13:AP$13,AI34)+COUNTIF(W$16:AP$16,AI34)+COUNTIF(W$19:AP$19,AI34)+COUNTIF(W$22:AP$22,AI34)+COUNTIF(W$25:AP$25,AI34))/設定!$M25+IFERROR((COUNTIF(W$6:AP$7,処理!$L24)+COUNTIF(W$10:AP$10,処理!$L24)+COUNTIF(W$13:AP$13,処理!$L24)+COUNTIF(W$16:AP$16,処理!$L24)+COUNTIF(W$19:AP$19,処理!$L24)+COUNTIF(W$22:AP$22,処理!$L24)+COUNTIF(W$25:AP$25,処理!$L24))/処理!$M24,0))","v":""},"",{"$f":"$S$34","v":""},null,"","",{"$f":"$C$34","v":""},null,{"$f":"IF(LEN(AQ34)=0,\"\",(COUNTIF(AQ$6:BJ$7,AQ34)+COUNTIF(AQ$10:BJ$10,AQ34)+COUNTIF(AQ$13:BJ$13,AQ34)+COUNTIF(AQ$16:BJ$16,AQ34)+COUNTIF(AQ$19:BJ$19,AQ34)+COUNTIF(AQ$22:BJ$22,AQ34)+COUNTIF(AQ$25:BJ$25,AQ34))/設定!$D25+IFERROR((COUNTIF(AQ$6:BJ$7,処理!$L6)+COUNTIF(AQ$10:BJ$10,処理!$L6)+COUNTIF(AQ$13:BJ$13,処理!$L6)+COUNTIF(AQ$16:BJ$16,処理!$L6)+COUNTIF(AQ$19:BJ$19,処理!$L6)+COUNTIF(AQ$22:BJ$22,処理!$L6)+COUNTIF(AQ$25:BJ$25,処理!$L6))/処理!$M6,0))","v":""},"",{"$f":"$G$34","v":""},null,{"$f":"IF(LEN(AU34)=0,\"\",(COUNTIF(AQ$6:BJ$7,AU34)+COUNTIF(AQ$10:BJ$10,AU34)+COUNTIF(AQ$13:BJ$13,AU34)+COUNTIF(AQ$16:BJ$16,AU34)+COUNTIF(AQ$19:BJ$19,AU34)+COUNTIF(AQ$22:BJ$22,AU34)+COUNTIF(AQ$25:BJ$25,AU34))/設定!$G25+IFERROR((COUNTIF(AQ$6:BJ$7,処理!$L12)+COUNTIF(AQ$10:BJ$10,処理!$L12)+COUNTIF(AQ$13:BJ$13,処理!$L12)+COUNTIF(AQ$16:BJ$16,処理!$L12)+COUNTIF(AQ$19:BJ$19,処理!$L12)+COUNTIF(AQ$22:BJ$22,処理!$L12)+COUNTIF(AQ$25:BJ$25,処理!$L12))/処理!$M12,0))","v":""},"",{"$f":"$K$34","v":""},null,{"$f":"IF(LEN(AY34)=0,\"\",(COUNTIF(AQ$6:BJ$7,AY34)+COUNTIF(AQ$10:BJ$10,AY34)+COUNTIF(AQ$13:BJ$13,AY34)+COUNTIF(AQ$16:BJ$16,AY34)+COUNTIF(AQ$19:BJ$19,AY34)+COUNTIF(AQ$22:BJ$22,AY34)+COUNTIF(AQ$25:BJ$25,AY34))/設定!$J25+IFERROR((COUNTIF(AQ$6:BJ$7,処理!$L18)+COUNTIF(AQ$10:BJ$10,処理!$L18)+COUNTIF(AQ$13:BJ$13,処理!$L18)+COUNTIF(AQ$16:BJ$16,処理!$L18)+COUNTIF(AQ$19:BJ$19,処理!$L18)+COUNTIF(AQ$22:BJ$22,処理!$L18)+COUNTIF(AQ$25:BJ$25,処理!$L18))/処理!$M18,0))","v":""},"",{"$f":"$O$34","v":""},null,{"$f":"IF(LEN(BC34)=0,\"\",(COUNTIF(AQ$6:BJ$7,BC34)+COUNTIF(AQ$10:BJ$10,BC34)+COUNTIF(AQ$13:BJ$13,BC34)+COUNTIF(AQ$16:BJ$16,BC34)+COUNTIF(AQ$19:BJ$19,BC34)+COUNTIF(AQ$22:BJ$22,BC34)+COUNTIF(AQ$25:BJ$25,BC34))/設定!$M25+IFERROR((COUNTIF(AQ$6:BJ$7,処理!$L24)+COUNTIF(AQ$10:BJ$10,処理!$L24)+COUNTIF(AQ$13:BJ$13,処理!$L24)+COUNTIF(AQ$16:BJ$16,処理!$L24)+COUNTIF(AQ$19:BJ$19,処理!$L24)+COUNTIF(AQ$22:BJ$22,処理!$L24)+COUNTIF(AQ$25:BJ$25,処理!$L24))/処理!$M24,0))","v":""},"",{"$f":"$S$34","v":""},null,"","",{"$f":"$C$34","v":""},null,{"$f":"IF(LEN(BK34)=0,\"\",(COUNTIF(BK$6:CD$7,BK34)+COUNTIF(BK$10:CD$10,BK34)+COUNTIF(BK$13:CD$13,BK34)+COUNTIF(BK$16:CD$16,BK34)+COUNTIF(BK$19:CD$19,BK34)+COUNTIF(BK$22:CD$22,BK34)+COUNTIF(BK$25:CD$25,BK34))/設定!$D25+IFERROR((COUNTIF(BK$6:CD$7,処理!$L6)+COUNTIF(BK$10:CD$10,処理!$L6)+COUNTIF(BK$13:CD$13,処理!$L6)+COUNTIF(BK$16:CD$16,処理!$L6)+COUNTIF(BK$19:CD$19,処理!$L6)+COUNTIF(BK$22:CD$22,処理!$L6)+COUNTIF(BK$25:CD$25,処理!$L6))/処理!$M6,0))","v":""},"",{"$f":"$G$34","v":""},null,{"$f":"IF(LEN(BO34)=0,\"\",(COUNTIF(BK$6:CD$7,BO34)+COUNTIF(BK$10:CD$10,BO34)+COUNTIF(BK$13:CD$13,BO34)+COUNTIF(BK$16:CD$16,BO34)+COUNTIF(BK$19:CD$19,BO34)+COUNTIF(BK$22:CD$22,BO34)+COUNTIF(BK$25:CD$25,BO34))/設定!$G25+IFERROR((COUNTIF(BK$6:CD$7,処理!$L12)+COUNTIF(BK$10:CD$10,処理!$L12)+COUNTIF(BK$13:CD$13,処理!$L12)+COUNTIF(BK$16:CD$16,処理!$L12)+COUNTIF(BK$19:CD$19,処理!$L12)+COUNTIF(BK$22:CD$22,処理!$L12)+COUNTIF(BK$25:CD$25,処理!$L12))/処理!$M12,0))","v":""},"",{"$f":"$K$34","v":""},null,{"$f":"IF(LEN(BS34)=0,\"\",(COUNTIF(BK$6:CD$7,BS34)+COUNTIF(BK$10:CD$10,BS34)+COUNTIF(BK$13:CD$13,BS34)+COUNTIF(BK$16:CD$16,BS34)+COUNTIF(BK$19:CD$19,BS34)+COUNTIF(BK$22:CD$22,BS34)+COUNTIF(BK$25:CD$25,BS34))/設定!$J25+IFERROR((COUNTIF(BK$6:CD$7,処理!$L18)+COUNTIF(BK$10:CD$10,処理!$L18)+COUNTIF(BK$13:CD$13,処理!$L18)+COUNTIF(BK$16:CD$16,処理!$L18)+COUNTIF(BK$19:CD$19,処理!$L18)+COUNTIF(BK$22:CD$22,処理!$L18)+COUNTIF(BK$25:CD$25,処理!$L18))/処理!$M18,0))","v":""},"",{"$f":"$O$34","v":""},null,{"$f":"IF(LEN(BW34)=0,\"\",(COUNTIF(BK$6:CD$7,BW34)+COUNTIF(BK$10:CD$10,BW34)+COUNTIF(BK$13:CD$13,BW34)+COUNTIF(BK$16:CD$16,BW34)+COUNTIF(BK$19:CD$19,BW34)+COUNTIF(BK$22:CD$22,BW34)+COUNTIF(BK$25:CD$25,BW34))/設定!$M25+IFERROR((COUNTIF(BK$6:CD$7,処理!$L24)+COUNTIF(BK$10:CD$10,処理!$L24)+COUNTIF(BK$13:CD$13,処理!$L24)+COUNTIF(BK$16:CD$16,処理!$L24)+COUNTIF(BK$19:CD$19,処理!$L24)+COUNTIF(BK$22:CD$22,処理!$L24)+COUNTIF(BK$25:CD$25,処理!$L24))/処理!$M24,0))","v":""},"",{"$f":"$S$34","v":""},null,"","",{"$f":"$C$34","v":""},null,{"$f":"IF(LEN(CE34)=0,\"\",(COUNTIF(CE$6:CX$7,CE34)+COUNTIF(CE$10:CX$10,CE34)+COUNTIF(CE$13:CX$13,CE34)+COUNTIF(CE$16:CX$16,CE34)+COUNTIF(CE$19:CX$19,CE34)+COUNTIF(CE$22:CX$22,CE34)+COUNTIF(CE$25:CX$25,CE34))/設定!$D25+IFERROR((COUNTIF(CE$6:CX$7,処理!$L6)+COUNTIF(CE$10:CX$10,処理!$L6)+COUNTIF(CE$13:CX$13,処理!$L6)+COUNTIF(CE$16:CX$16,処理!$L6)+COUNTIF(CE$19:CX$19,処理!$L6)+COUNTIF(CE$22:CX$22,処理!$L6)+COUNTIF(CE$25:CX$25,処理!$L6))/処理!$M6,0))","v":""},"",{"$f":"$G$34","v":""},null,{"$f":"IF(LEN(CI34)=0,\"\",(COUNTIF(CE$6:CX$7,CI34)+COUNTIF(CE$10:CX$10,CI34)+COUNTIF(CE$13:CX$13,CI34)+COUNTIF(CE$16:CX$16,CI34)+COUNTIF(CE$19:CX$19,CI34)+COUNTIF(CE$22:CX$22,CI34)+COUNTIF(CE$25:CX$25,CI34))/設定!$G25+IFERROR((COUNTIF(CE$6:CX$7,処理!$L12)+COUNTIF(CE$10:CX$10,処理!$L12)+COUNTIF(CE$13:CX$13,処理!$L12)+COUNTIF(CE$16:CX$16,処理!$L12)+COUNTIF(CE$19:CX$19,処理!$L12)+COUNTIF(CE$22:CX$22,処理!$L12)+COUNTIF(CE$25:CX$25,処理!$L12))/処理!$M12,0))","v":""},"",{"$f":"$K$34","v":""},null,{"$f":"IF(LEN(CM34)=0,\"\",(COUNTIF(CE$6:CX$7,CM34)+COUNTIF(CE$10:CX$10,CM34)+COUNTIF(CE$13:CX$13,CM34)+COUNTIF(CE$16:CX$16,CM34)+COUNTIF(CE$19:CX$19,CM34)+COUNTIF(CE$22:CX$22,CM34)+COUNTIF(CE$25:CX$25,CM34))/設定!$J25+IFERROR((COUNTIF(CE$6:CX$7,処理!$L18)+COUNTIF(CE$10:CX$10,処理!$L18)+COUNTIF(CE$13:CX$13,処理!$L18)+COUNTIF(CE$16:CX$16,処理!$L18)+COUNTIF(CE$19:CX$19,処理!$L18)+COUNTIF(CE$22:CX$22,処理!$L18)+COUNTIF(CE$25:CX$25,処理!$L18))/処理!$M18,0))","v":""},"",{"$f":"$O$34","v":""},null,{"$f":"IF(LEN(CQ34)=0,\"\",(COUNTIF(CE$6:CX$7,CQ34)+COUNTIF(CE$10:CX$10,CQ34)+COUNTIF(CE$13:CX$13,CQ34)+COUNTIF(CE$16:CX$16,CQ34)+COUNTIF(CE$19:CX$19,CQ34)+COUNTIF(CE$22:CX$22,CQ34)+COUNTIF(CE$25:CX$25,CQ34))/設定!$M25+IFERROR((COUNTIF(CE$6:CX$7,処理!$L24)+COUNTIF(CE$10:CX$10,処理!$L24)+COUNTIF(CE$13:CX$13,処理!$L24)+COUNTIF(CE$16:CX$16,処理!$L24)+COUNTIF(CE$19:CX$19,処理!$L24)+COUNTIF(CE$22:CX$22,処理!$L24)+COUNTIF(CE$25:CX$25,処理!$L24))/処理!$M24,0))","v":""},"",{"$f":"$S$34","v":""},null,"","",{"$f":"$C$34","v":""},null,{"$f":"IF(LEN(CY34)=0,\"\",(COUNTIF(CY$6:DR$7,CY34)+COUNTIF(CY$10:DR$10,CY34)+COUNTIF(CY$13:DR$13,CY34)+COUNTIF(CY$16:DR$16,CY34)+COUNTIF(CY$19:DR$19,CY34)+COUNTIF(CY$22:DR$22,CY34)+COUNTIF(CY$25:DR$25,CY34))/設定!$D25+IFERROR((COUNTIF(CY$6:DR$7,処理!$L6)+COUNTIF(CY$10:DR$10,処理!$L6)+COUNTIF(CY$13:DR$13,処理!$L6)+COUNTIF(CY$16:DR$16,処理!$L6)+COUNTIF(CY$19:DR$19,処理!$L6)+COUNTIF(CY$22:DR$22,処理!$L6)+COUNTIF(CY$25:DR$25,処理!$L6))/処理!$M6,0))","v":""},"",{"$f":"$G$34","v":""},null,{"$f":"IF(LEN(DC34)=0,\"\",(COUNTIF(CY$6:DR$7,DC34)+COUNTIF(CY$10:DR$10,DC34)+COUNTIF(CY$13:DR$13,DC34)+COUNTIF(CY$16:DR$16,DC34)+COUNTIF(CY$19:DR$19,DC34)+COUNTIF(CY$22:DR$22,DC34)+COUNTIF(CY$25:DR$25,DC34))/設定!$G25+IFERROR((COUNTIF(CY$6:DR$7,処理!$L12)+COUNTIF(CY$10:DR$10,処理!$L12)+COUNTIF(CY$13:DR$13,処理!$L12)+COUNTIF(CY$16:DR$16,処理!$L12)+COUNTIF(CY$19:DR$19,処理!$L12)+COUNTIF(CY$22:DR$22,処理!$L12)+COUNTIF(CY$25:DR$25,処理!$L12))/処理!$M12,0))","v":""},"",{"$f":"$K$34","v":""},null,{"$f":"IF(LEN(DG34)=0,\"\",(COUNTIF(CY$6:DR$7,DG34)+COUNTIF(CY$10:DR$10,DG34)+COUNTIF(CY$13:DR$13,DG34)+COUNTIF(CY$16:DR$16,DG34)+COUNTIF(CY$19:DR$19,DG34)+COUNTIF(CY$22:DR$22,DG34)+COUNTIF(CY$25:DR$25,DG34))/設定!$J25+IFERROR((COUNTIF(CY$6:DR$7,処理!$L18)+COUNTIF(CY$10:DR$10,処理!$L18)+COUNTIF(CY$13:DR$13,処理!$L18)+COUNTIF(CY$16:DR$16,処理!$L18)+COUNTIF(CY$19:DR$19,処理!$L18)+COUNTIF(CY$22:DR$22,処理!$L18)+COUNTIF(CY$25:DR$25,処理!$L18))/処理!$M18,0))","v":""},"",{"$f":"$O$34","v":""},null,{"$f":"IF(LEN(DK34)=0,\"\",(COUNTIF(CY$6:DR$7,DK34)+COUNTIF(CY$10:DR$10,DK34)+COUNTIF(CY$13:DR$13,DK34)+COUNTIF(CY$16:DR$16,DK34)+COUNTIF(CY$19:DR$19,DK34)+COUNTIF(CY$22:DR$22,DK34)+COUNTIF(CY$25:DR$25,DK34))/設定!$M25+IFERROR((COUNTIF(CY$6:DR$7,処理!$L24)+COUNTIF(CY$10:DR$10,処理!$L24)+COUNTIF(CY$13:DR$13,処理!$L24)+COUNTIF(CY$16:DR$16,処理!$L24)+COUNTIF(CY$19:DR$19,処理!$L24)+COUNTIF(CY$22:DR$22,処理!$L24)+COUNTIF(CY$25:DR$25,処理!$L24))/処理!$M24,0))","v":""},"",{"$f":"$S$34","v":""},null,"","",{"$f":"$C$34","v":""},null,{"$f":"IF(LEN(DS34)=0,\"\",(COUNTIF(DS$6:EL$7,DS34)+COUNTIF(DS$10:EL$10,DS34)+COUNTIF(DS$13:EL$13,DS34)+COUNTIF(DS$16:EL$16,DS34)+COUNTIF(DS$19:EL$19,DS34)+COUNTIF(DS$22:EL$22,DS34)+COUNTIF(DS$25:EL$25,DS34))/設定!$D25+IFERROR((COUNTIF(DS$6:EL$7,処理!$L6)+COUNTIF(DS$10:EL$10,処理!$L6)+COUNTIF(DS$13:EL$13,処理!$L6)+COUNTIF(DS$16:EL$16,処理!$L6)+COUNTIF(DS$19:EL$19,処理!$L6)+COUNTIF(DS$22:EL$22,処理!$L6)+COUNTIF(DS$25:EL$25,処理!$L6))/処理!$M6,0))","v":""},"",{"$f":"$G$34","v":""},null,{"$f":"IF(LEN(DW34)=0,\"\",(COUNTIF(DS$6:EL$7,DW34)+COUNTIF(DS$10:EL$10,DW34)+COUNTIF(DS$13:EL$13,DW34)+COUNTIF(DS$16:EL$16,DW34)+COUNTIF(DS$19:EL$19,DW34)+COUNTIF(DS$22:EL$22,DW34)+COUNTIF(DS$25:EL$25,DW34))/設定!$G25+IFERROR((COUNTIF(DS$6:EL$7,処理!$L12)+COUNTIF(DS$10:EL$10,処理!$L12)+COUNTIF(DS$13:EL$13,処理!$L12)+COUNTIF(DS$16:EL$16,処理!$L12)+COUNTIF(DS$19:EL$19,処理!$L12)+COUNTIF(DS$22:EL$22,処理!$L12)+COUNTIF(DS$25:EL$25,処理!$L12))/処理!$M12,0))","v":""},"",{"$f":"$K$34","v":""},null,{"$f":"IF(LEN(EA34)=0,\"\",(COUNTIF(DS$6:EL$7,EA34)+COUNTIF(DS$10:EL$10,EA34)+COUNTIF(DS$13:EL$13,EA34)+COUNTIF(DS$16:EL$16,EA34)+COUNTIF(DS$19:EL$19,EA34)+COUNTIF(DS$22:EL$22,EA34)+COUNTIF(DS$25:EL$25,EA34))/設定!$J25+IFERROR((COUNTIF(DS$6:EL$7,処理!$L18)+COUNTIF(DS$10:EL$10,処理!$L18)+COUNTIF(DS$13:EL$13,処理!$L18)+COUNTIF(DS$16:EL$16,処理!$L18)+COUNTIF(DS$19:EL$19,処理!$L18)+COUNTIF(DS$22:EL$22,処理!$L18)+COUNTIF(DS$25:EL$25,処理!$L18))/処理!$M18,0))","v":""},"",{"$f":"$O$34","v":""},null,{"$f":"IF(LEN(EE34)=0,\"\",(COUNTIF(DS$6:EL$7,EE34)+COUNTIF(DS$10:EL$10,EE34)+COUNTIF(DS$13:EL$13,EE34)+COUNTIF(DS$16:EL$16,EE34)+COUNTIF(DS$19:EL$19,EE34)+COUNTIF(DS$22:EL$22,EE34)+COUNTIF(DS$25:EL$25,EE34))/設定!$M25+IFERROR((COUNTIF(DS$6:EL$7,処理!$L24)+COUNTIF(DS$10:EL$10,処理!$L24)+COUNTIF(DS$13:EL$13,処理!$L24)+COUNTIF(DS$16:EL$16,処理!$L24)+COUNTIF(DS$19:EL$19,処理!$L24)+COUNTIF(DS$22:EL$22,処理!$L24)+COUNTIF(DS$25:EL$25,処理!$L24))/処理!$M24,0))","v":""},"",{"$f":"$S$34","v":""},null,"","",{"$f":"$C$34","v":""},null,{"$f":"IF(LEN(EM34)=0,\"\",(COUNTIF(EM$6:FF$7,EM34)+COUNTIF(EM$10:FF$10,EM34)+COUNTIF(EM$13:FF$13,EM34)+COUNTIF(EM$16:FF$16,EM34)+COUNTIF(EM$19:FF$19,EM34)+COUNTIF(EM$22:FF$22,EM34)+COUNTIF(EM$25:FF$25,EM34))/設定!$D25+IFERROR((COUNTIF(EM$6:FF$7,処理!$L6)+COUNTIF(EM$10:FF$10,処理!$L6)+COUNTIF(EM$13:FF$13,処理!$L6)+COUNTIF(EM$16:FF$16,処理!$L6)+COUNTIF(EM$19:FF$19,処理!$L6)+COUNTIF(EM$22:FF$22,処理!$L6)+COUNTIF(EM$25:FF$25,処理!$L6))/処理!$M6,0))","v":""},"",{"$f":"$G$34","v":""},null,{"$f":"IF(LEN(EQ34)=0,\"\",(COUNTIF(EM$6:FF$7,EQ34)+COUNTIF(EM$10:FF$10,EQ34)+COUNTIF(EM$13:FF$13,EQ34)+COUNTIF(EM$16:FF$16,EQ34)+COUNTIF(EM$19:FF$19,EQ34)+COUNTIF(EM$22:FF$22,EQ34)+COUNTIF(EM$25:FF$25,EQ34))/設定!$G25+IFERROR((COUNTIF(EM$6:FF$7,処理!$L12)+COUNTIF(EM$10:FF$10,処理!$L12)+COUNTIF(EM$13:FF$13,処理!$L12)+COUNTIF(EM$16:FF$16,処理!$L12)+COUNTIF(EM$19:FF$19,処理!$L12)+COUNTIF(EM$22:FF$22,処理!$L12)+COUNTIF(EM$25:FF$25,処理!$L12))/処理!$M12,0))","v":""},"",{"$f":"$K$34","v":""},null,{"$f":"IF(LEN(EU34)=0,\"\",(COUNTIF(EM$6:FF$7,EU34)+COUNTIF(EM$10:FF$10,EU34)+COUNTIF(EM$13:FF$13,EU34)+COUNTIF(EM$16:FF$16,EU34)+COUNTIF(EM$19:FF$19,EU34)+COUNTIF(EM$22:FF$22,EU34)+COUNTIF(EM$25:FF$25,EU34))/設定!$J25+IFERROR((COUNTIF(EM$6:FF$7,処理!$L18)+COUNTIF(EM$10:FF$10,処理!$L18)+COUNTIF(EM$13:FF$13,処理!$L18)+COUNTIF(EM$16:FF$16,処理!$L18)+COUNTIF(EM$19:FF$19,処理!$L18)+COUNTIF(EM$22:FF$22,処理!$L18)+COUNTIF(EM$25:FF$25,処理!$L18))/処理!$M18,0))","v":""},"",{"$f":"$O$34","v":""},null,{"$f":"IF(LEN(EY34)=0,\"\",(COUNTIF(EM$6:FF$7,EY34)+COUNTIF(EM$10:FF$10,EY34)+COUNTIF(EM$13:FF$13,EY34)+COUNTIF(EM$16:FF$16,EY34)+COUNTIF(EM$19:FF$19,EY34)+COUNTIF(EM$22:FF$22,EY34)+COUNTIF(EM$25:FF$25,EY34))/設定!$M25+IFERROR((COUNTIF(EM$6:FF$7,処理!$L24)+COUNTIF(EM$10:FF$10,処理!$L24)+COUNTIF(EM$13:FF$13,処理!$L24)+COUNTIF(EM$16:FF$16,処理!$L24)+COUNTIF(EM$19:FF$19,処理!$L24)+COUNTIF(EM$22:FF$22,処理!$L24)+COUNTIF(EM$25:FF$25,処理!$L24))/処理!$M24,0))","v":""},"",{"$f":"$S$34","v":""},null,"","",{"$f":"$C$34","v":""},null,{"$f":"IF(LEN(FG34)=0,\"\",(COUNTIF(FG$6:FZ$7,FG34)+COUNTIF(FG$10:FZ$10,FG34)+COUNTIF(FG$13:FZ$13,FG34)+COUNTIF(FG$16:FZ$16,FG34)+COUNTIF(FG$19:FZ$19,FG34)+COUNTIF(FG$22:FZ$22,FG34)+COUNTIF(FG$25:FZ$25,FG34))/設定!$D25+IFERROR((COUNTIF(FG$6:FZ$7,処理!$L6)+COUNTIF(FG$10:FZ$10,処理!$L6)+COUNTIF(FG$13:FZ$13,処理!$L6)+COUNTIF(FG$16:FZ$16,処理!$L6)+COUNTIF(FG$19:FZ$19,処理!$L6)+COUNTIF(FG$22:FZ$22,処理!$L6)+COUNTIF(FG$25:FZ$25,処理!$L6))/処理!$M6,0))","v":""},"",{"$f":"$G$34","v":""},null,{"$f":"IF(LEN(FK34)=0,\"\",(COUNTIF(FG$6:FZ$7,FK34)+COUNTIF(FG$10:FZ$10,FK34)+COUNTIF(FG$13:FZ$13,FK34)+COUNTIF(FG$16:FZ$16,FK34)+COUNTIF(FG$19:FZ$19,FK34)+COUNTIF(FG$22:FZ$22,FK34)+COUNTIF(FG$25:FZ$25,FK34))/設定!$G25+IFERROR((COUNTIF(FG$6:FZ$7,処理!$L12)+COUNTIF(FG$10:FZ$10,処理!$L12)+COUNTIF(FG$13:FZ$13,処理!$L12)+COUNTIF(FG$16:FZ$16,処理!$L12)+COUNTIF(FG$19:FZ$19,処理!$L12)+COUNTIF(FG$22:FZ$22,処理!$L12)+COUNTIF(FG$25:FZ$25,処理!$L12))/処理!$M12,0))","v":""},"",{"$f":"$K$34","v":""},null,{"$f":"IF(LEN(FO34)=0,\"\",(COUNTIF(FG$6:FZ$7,FO34)+COUNTIF(FG$10:FZ$10,FO34)+COUNTIF(FG$13:FZ$13,FO34)+COUNTIF(FG$16:FZ$16,FO34)+COUNTIF(FG$19:FZ$19,FO34)+COUNTIF(FG$22:FZ$22,FO34)+COUNTIF(FG$25:FZ$25,FO34))/設定!$J25+IFERROR((COUNTIF(FG$6:FZ$7,処理!$L18)+COUNTIF(FG$10:FZ$10,処理!$L18)+COUNTIF(FG$13:FZ$13,処理!$L18)+COUNTIF(FG$16:FZ$16,処理!$L18)+COUNTIF(FG$19:FZ$19,処理!$L18)+COUNTIF(FG$22:FZ$22,処理!$L18)+COUNTIF(FG$25:FZ$25,処理!$L18))/処理!$M18,0))","v":""},"",{"$f":"$O$34","v":""},null,{"$f":"IF(LEN(FS34)=0,\"\",(COUNTIF(FG$6:FZ$7,FS34)+COUNTIF(FG$10:FZ$10,FS34)+COUNTIF(FG$13:FZ$13,FS34)+COUNTIF(FG$16:FZ$16,FS34)+COUNTIF(FG$19:FZ$19,FS34)+COUNTIF(FG$22:FZ$22,FS34)+COUNTIF(FG$25:FZ$25,FS34))/設定!$M25+IFERROR((COUNTIF(FG$6:FZ$7,処理!$L24)+COUNTIF(FG$10:FZ$10,処理!$L24)+COUNTIF(FG$13:FZ$13,処理!$L24)+COUNTIF(FG$16:FZ$16,処理!$L24)+COUNTIF(FG$19:FZ$19,処理!$L24)+COUNTIF(FG$22:FZ$22,処理!$L24)+COUNTIF(FG$25:FZ$25,処理!$L24))/処理!$M24,0))","v":""},"",{"$f":"$S$34","v":""},null,"","",{"$f":"$C$34","v":""},null,{"$f":"IF(LEN(GA34)=0,\"\",(COUNTIF(GA$6:GT$7,GA34)+COUNTIF(GA$10:GT$10,GA34)+COUNTIF(GA$13:GT$13,GA34)+COUNTIF(GA$16:GT$16,GA34)+COUNTIF(GA$19:GT$19,GA34)+COUNTIF(GA$22:GT$22,GA34)+COUNTIF(GA$25:GT$25,GA34))/設定!$D25+IFERROR((COUNTIF(GA$6:GT$7,処理!$L6)+COUNTIF(GA$10:GT$10,処理!$L6)+COUNTIF(GA$13:GT$13,処理!$L6)+COUNTIF(GA$16:GT$16,処理!$L6)+COUNTIF(GA$19:GT$19,処理!$L6)+COUNTIF(GA$22:GT$22,処理!$L6)+COUNTIF(GA$25:GT$25,処理!$L6))/処理!$M6,0))","v":""},"",{"$f":"$G$34","v":""},null,{"$f":"IF(LEN(GE34)=0,\"\",(COUNTIF(GA$6:GT$7,GE34)+COUNTIF(GA$10:GT$10,GE34)+COUNTIF(GA$13:GT$13,GE34)+COUNTIF(GA$16:GT$16,GE34)+COUNTIF(GA$19:GT$19,GE34)+COUNTIF(GA$22:GT$22,GE34)+COUNTIF(GA$25:GT$25,GE34))/設定!$G25+IFERROR((COUNTIF(GA$6:GT$7,処理!$L12)+COUNTIF(GA$10:GT$10,処理!$L12)+COUNTIF(GA$13:GT$13,処理!$L12)+COUNTIF(GA$16:GT$16,処理!$L12)+COUNTIF(GA$19:GT$19,処理!$L12)+COUNTIF(GA$22:GT$22,処理!$L12)+COUNTIF(GA$25:GT$25,処理!$L12))/処理!$M12,0))","v":""},"",{"$f":"$K$34","v":""},null,{"$f":"IF(LEN(GI34)=0,\"\",(COUNTIF(GA$6:GT$7,GI34)+COUNTIF(GA$10:GT$10,GI34)+COUNTIF(GA$13:GT$13,GI34)+COUNTIF(GA$16:GT$16,GI34)+COUNTIF(GA$19:GT$19,GI34)+COUNTIF(GA$22:GT$22,GI34)+COUNTIF(GA$25:GT$25,GI34))/設定!$J25+IFERROR((COUNTIF(GA$6:GT$7,処理!$L18)+COUNTIF(GA$10:GT$10,処理!$L18)+COUNTIF(GA$13:GT$13,処理!$L18)+COUNTIF(GA$16:GT$16,処理!$L18)+COUNTIF(GA$19:GT$19,処理!$L18)+COUNTIF(GA$22:GT$22,処理!$L18)+COUNTIF(GA$25:GT$25,処理!$L18))/処理!$M18,0))","v":""},"",{"$f":"$O$34","v":""},null,{"$f":"IF(LEN(GM34)=0,\"\",(COUNTIF(GA$6:GT$7,GM34)+COUNTIF(GA$10:GT$10,GM34)+COUNTIF(GA$13:GT$13,GM34)+COUNTIF(GA$16:GT$16,GM34)+COUNTIF(GA$19:GT$19,GM34)+COUNTIF(GA$22:GT$22,GM34)+COUNTIF(GA$25:GT$25,GM34))/設定!$M25+IFERROR((COUNTIF(GA$6:GT$7,処理!$L24)+COUNTIF(GA$10:GT$10,処理!$L24)+COUNTIF(GA$13:GT$13,処理!$L24)+COUNTIF(GA$16:GT$16,処理!$L24)+COUNTIF(GA$19:GT$19,処理!$L24)+COUNTIF(GA$22:GT$22,処理!$L24)+COUNTIF(GA$25:GT$25,処理!$L24))/処理!$M24,0))","v":""},"",{"$f":"$S$34","v":""},null,"","",{"$f":"$C$34","v":""},null,{"$f":"IF(LEN(GU34)=0,\"\",(COUNTIF(GU$6:HN$7,GU34)+COUNTIF(GU$10:HN$10,GU34)+COUNTIF(GU$13:HN$13,GU34)+COUNTIF(GU$16:HN$16,GU34)+COUNTIF(GU$19:HN$19,GU34)+COUNTIF(GU$22:HN$22,GU34)+COUNTIF(GU$25:HN$25,GU34))/設定!$D25+IFERROR((COUNTIF(GU$6:HN$7,処理!$L6)+COUNTIF(GU$10:HN$10,処理!$L6)+COUNTIF(GU$13:HN$13,処理!$L6)+COUNTIF(GU$16:HN$16,処理!$L6)+COUNTIF(GU$19:HN$19,処理!$L6)+COUNTIF(GU$22:HN$22,処理!$L6)+COUNTIF(GU$25:HN$25,処理!$L6))/処理!$M6,0))","v":""},"",{"$f":"$G$34","v":""},null,{"$f":"IF(LEN(GY34)=0,\"\",(COUNTIF(GU$6:HN$7,GY34)+COUNTIF(GU$10:HN$10,GY34)+COUNTIF(GU$13:HN$13,GY34)+COUNTIF(GU$16:HN$16,GY34)+COUNTIF(GU$19:HN$19,GY34)+COUNTIF(GU$22:HN$22,GY34)+COUNTIF(GU$25:HN$25,GY34))/設定!$G25+IFERROR((COUNTIF(GU$6:HN$7,処理!$L12)+COUNTIF(GU$10:HN$10,処理!$L12)+COUNTIF(GU$13:HN$13,処理!$L12)+COUNTIF(GU$16:HN$16,処理!$L12)+COUNTIF(GU$19:HN$19,処理!$L12)+COUNTIF(GU$22:HN$22,処理!$L12)+COUNTIF(GU$25:HN$25,処理!$L12))/処理!$M12,0))","v":""},"",{"$f":"$K$34","v":""},null,{"$f":"IF(LEN(HC34)=0,\"\",(COUNTIF(GU$6:HN$7,HC34)+COUNTIF(GU$10:HN$10,HC34)+COUNTIF(GU$13:HN$13,HC34)+COUNTIF(GU$16:HN$16,HC34)+COUNTIF(GU$19:HN$19,HC34)+COUNTIF(GU$22:HN$22,HC34)+COUNTIF(GU$25:HN$25,HC34))/設定!$J25+IFERROR((COUNTIF(GU$6:HN$7,処理!$L18)+COUNTIF(GU$10:HN$10,処理!$L18)+COUNTIF(GU$13:HN$13,処理!$L18)+COUNTIF(GU$16:HN$16,処理!$L18)+COUNTIF(GU$19:HN$19,処理!$L18)+COUNTIF(GU$22:HN$22,処理!$L18)+COUNTIF(GU$25:HN$25,処理!$L18))/処理!$M18,0))","v":""},"",{"$f":"$O$34","v":""},null,{"$f":"IF(LEN(HG34)=0,\"\",(COUNTIF(GU$6:HN$7,HG34)+COUNTIF(GU$10:HN$10,HG34)+COUNTIF(GU$13:HN$13,HG34)+COUNTIF(GU$16:HN$16,HG34)+COUNTIF(GU$19:HN$19,HG34)+COUNTIF(GU$22:HN$22,HG34)+COUNTIF(GU$25:HN$25,HG34))/設定!$M25+IFERROR((COUNTIF(GU$6:HN$7,処理!$L24)+COUNTIF(GU$10:HN$10,処理!$L24)+COUNTIF(GU$13:HN$13,処理!$L24)+COUNTIF(GU$16:HN$16,処理!$L24)+COUNTIF(GU$19:HN$19,処理!$L24)+COUNTIF(GU$22:HN$22,処理!$L24)+COUNTIF(GU$25:HN$25,処理!$L24))/処理!$M24,0))","v":""},"",{"$f":"$S$34","v":""},null,"","",{"$f":"$C$34","v":""},null,{"$f":"IF(LEN(HO34)=0,\"\",(COUNTIF(HO$6:IH$7,HO34)+COUNTIF(HO$10:IH$10,HO34)+COUNTIF(HO$13:IH$13,HO34)+COUNTIF(HO$16:IH$16,HO34)+COUNTIF(HO$19:IH$19,HO34)+COUNTIF(HO$22:IH$22,HO34)+COUNTIF(HO$25:IH$25,HO34))/設定!$D25+IFERROR((COUNTIF(HO$6:IH$7,処理!$L6)+COUNTIF(HO$10:IH$10,処理!$L6)+COUNTIF(HO$13:IH$13,処理!$L6)+COUNTIF(HO$16:IH$16,処理!$L6)+COUNTIF(HO$19:IH$19,処理!$L6)+COUNTIF(HO$22:IH$22,処理!$L6)+COUNTIF(HO$25:IH$25,処理!$L6))/処理!$M6,0))","v":""},"",{"$f":"$G$34","v":""},null,{"$f":"IF(LEN(HS34)=0,\"\",(COUNTIF(HO$6:IH$7,HS34)+COUNTIF(HO$10:IH$10,HS34)+COUNTIF(HO$13:IH$13,HS34)+COUNTIF(HO$16:IH$16,HS34)+COUNTIF(HO$19:IH$19,HS34)+COUNTIF(HO$22:IH$22,HS34)+COUNTIF(HO$25:IH$25,HS34))/設定!$G25+IFERROR((COUNTIF(HO$6:IH$7,処理!$L12)+COUNTIF(HO$10:IH$10,処理!$L12)+COUNTIF(HO$13:IH$13,処理!$L12)+COUNTIF(HO$16:IH$16,処理!$L12)+COUNTIF(HO$19:IH$19,処理!$L12)+COUNTIF(HO$22:IH$22,処理!$L12)+COUNTIF(HO$25:IH$25,処理!$L12))/処理!$M12,0))","v":""},"",{"$f":"$K$34","v":""},null,{"$f":"IF(LEN(HW34)=0,\"\",(COUNTIF(HO$6:IH$7,HW34)+COUNTIF(HO$10:IH$10,HW34)+COUNTIF(HO$13:IH$13,HW34)+COUNTIF(HO$16:IH$16,HW34)+COUNTIF(HO$19:IH$19,HW34)+COUNTIF(HO$22:IH$22,HW34)+COUNTIF(HO$25:IH$25,HW34))/設定!$J25+IFERROR((COUNTIF(HO$6:IH$7,処理!$L18)+COUNTIF(HO$10:IH$10,処理!$L18)+COUNTIF(HO$13:IH$13,処理!$L18)+COUNTIF(HO$16:IH$16,処理!$L18)+COUNTIF(HO$19:IH$19,処理!$L18)+COUNTIF(HO$22:IH$22,処理!$L18)+COUNTIF(HO$25:IH$25,処理!$L18))/処理!$M18,0))","v":""},"",{"$f":"$O$34","v":""},null,{"$f":"IF(LEN(IA34)=0,\"\",(COUNTIF(HO$6:IH$7,IA34)+COUNTIF(HO$10:IH$10,IA34)+COUNTIF(HO$13:IH$13,IA34)+COUNTIF(HO$16:IH$16,IA34)+COUNTIF(HO$19:IH$19,IA34)+COUNTIF(HO$22:IH$22,IA34)+COUNTIF(HO$25:IH$25,IA34))/設定!$M25+IFERROR((COUNTIF(HO$6:IH$7,処理!$L24)+COUNTIF(HO$10:IH$10,処理!$L24)+COUNTIF(HO$13:IH$13,処理!$L24)+COUNTIF(HO$16:IH$16,処理!$L24)+COUNTIF(HO$19:IH$19,処理!$L24)+COUNTIF(HO$22:IH$22,処理!$L24)+COUNTIF(HO$25:IH$25,処理!$L24))/処理!$M24,0))","v":""},"",{"$f":"$S$34","v":""},null,"","",{"$f":"$C$34","v":""},null,{"$f":"IF(LEN(II34)=0,\"\",(COUNTIF(II$6:JB$7,II34)+COUNTIF(II$10:JB$10,II34)+COUNTIF(II$13:JB$13,II34)+COUNTIF(II$16:JB$16,II34)+COUNTIF(II$19:JB$19,II34)+COUNTIF(II$22:JB$22,II34)+COUNTIF(II$25:JB$25,II34))/設定!$D25+IFERROR((COUNTIF(II$6:JB$7,処理!$L6)+COUNTIF(II$10:JB$10,処理!$L6)+COUNTIF(II$13:JB$13,処理!$L6)+COUNTIF(II$16:JB$16,処理!$L6)+COUNTIF(II$19:JB$19,処理!$L6)+COUNTIF(II$22:JB$22,処理!$L6)+COUNTIF(II$25:JB$25,処理!$L6))/処理!$M6,0))","v":""},"",{"$f":"$G$34","v":""},null,{"$f":"IF(LEN(IM34)=0,\"\",(COUNTIF(II$6:JB$7,IM34)+COUNTIF(II$10:JB$10,IM34)+COUNTIF(II$13:JB$13,IM34)+COUNTIF(II$16:JB$16,IM34)+COUNTIF(II$19:JB$19,IM34)+COUNTIF(II$22:JB$22,IM34)+COUNTIF(II$25:JB$25,IM34))/設定!$G25+IFERROR((COUNTIF(II$6:JB$7,処理!$L12)+COUNTIF(II$10:JB$10,処理!$L12)+COUNTIF(II$13:JB$13,処理!$L12)+COUNTIF(II$16:JB$16,処理!$L12)+COUNTIF(II$19:JB$19,処理!$L12)+COUNTIF(II$22:JB$22,処理!$L12)+COUNTIF(II$25:JB$25,処理!$L12))/処理!$M12,0))","v":""},"",{"$f":"$K$34","v":""},null,{"$f":"IF(LEN(IQ34)=0,\"\",(COUNTIF(II$6:JB$7,IQ34)+COUNTIF(II$10:JB$10,IQ34)+COUNTIF(II$13:JB$13,IQ34)+COUNTIF(II$16:JB$16,IQ34)+COUNTIF(II$19:JB$19,IQ34)+COUNTIF(II$22:JB$22,IQ34)+COUNTIF(II$25:JB$25,IQ34))/設定!$J25+IFERROR((COUNTIF(II$6:JB$7,処理!$L18)+COUNTIF(II$10:JB$10,処理!$L18)+COUNTIF(II$13:JB$13,処理!$L18)+COUNTIF(II$16:JB$16,処理!$L18)+COUNTIF(II$19:JB$19,処理!$L18)+COUNTIF(II$22:JB$22,処理!$L18)+COUNTIF(II$25:JB$25,処理!$L18))/処理!$M18,0))","v":""},"",{"$f":"$O$34","v":""},null,{"$f":"IF(LEN(IU34)=0,\"\",(COUNTIF(II$6:JB$7,IU34)+COUNTIF(II$10:JB$10,IU34)+COUNTIF(II$13:JB$13,IU34)+COUNTIF(II$16:JB$16,IU34)+COUNTIF(II$19:JB$19,IU34)+COUNTIF(II$22:JB$22,IU34)+COUNTIF(II$25:JB$25,IU34))/設定!$M25+IFERROR((COUNTIF(II$6:JB$7,処理!$L24)+COUNTIF(II$10:JB$10,処理!$L24)+COUNTIF(II$13:JB$13,処理!$L24)+COUNTIF(II$16:JB$16,処理!$L24)+COUNTIF(II$19:JB$19,処理!$L24)+COUNTIF(II$22:JB$22,処理!$L24)+COUNTIF(II$25:JB$25,処理!$L24))/処理!$M24,0))","v":""},"",{"$f":"$S$34","v":""},null,"",""]
[null,null,{"$f":"IF(COUNTIF(処理!$J$2:$J$25,5)>0,処理!H7,\"\")","v":""},null,{"$f":"IF(LEN(C35)=0,\"\",(COUNTIF(C$6:V$7,C35)+COUNTIF(C$10:V$10,C35)+COUNTIF(C$13:V$13,C35)+COUNTIF(C$16:V$16,C35)+COUNTIF(C$19:V$19,C35)+COUNTIF(C$22:V$22,C35)+COUNTIF(C$25:V$25,C35))/設定!$D26+IFERROR((COUNTIF(C$6:V$7,処理!$L7)+COUNTIF(C$10:V$10,処理!$L7)+COUNTIF(C$13:V$13,処理!$L7)+COUNTIF(C$16:V$16,処理!$L7)+COUNTIF(C$19:V$19,処理!$L7)+COUNTIF(C$22:V$22,処理!$L7)+COUNTIF(C$25:V$25,処理!$L7))/処理!$M7,0))","v":""},"",{"$f":"IF(COUNTIF(処理!$J$2:$J$25,11)>0,処理!H13,\"\")","v":""},null,{"$f":"IF(LEN(G35)=0,\"\",(COUNTIF(C$6:V$7,G35)+COUNTIF(C$10:V$10,G35)+COUNTIF(C$13:V$13,G35)+COUNTIF(C$16:V$16,G35)+COUNTIF(C$19:V$19,G35)+COUNTIF(C$22:V$22,G35)+COUNTIF(C$25:V$25,G35))/設定!$G26+IFERROR((COUNTIF(C$6:V$7,処理!$L13)+COUNTIF(C$10:V$10,処理!$L13)+COUNTIF(C$13:V$13,処理!$L13)+COUNTIF(C$16:V$16,処理!$L13)+COUNTIF(C$19:V$19,処理!$L13)+COUNTIF(C$22:V$22,処理!$L13)+COUNTIF(C$25:V$25,処理!$L13))/処理!$M13,0))","v":""},"",{"$f":"IF(COUNTIF(処理!$J$2:$J$25,17)>0,処理!H19,\"\")","v":""},null,{"$f":"IF(LEN(K35)=0,\"\",(COUNTIF(C$6:V$7,K35)+COUNTIF(C$10:V$10,K35)+COUNTIF(C$13:V$13,K35)+COUNTIF(C$16:V$16,K35)+COUNTIF(C$19:V$19,K35)+COUNTIF(C$22:V$22,K35)+COUNTIF(C$25:V$25,K35))/設定!$J26+IFERROR((COUNTIF(C$6:V$7,処理!$L19)+COUNTIF(C$10:V$10,処理!$L19)+COUNTIF(C$13:V$13,処理!$L19)+COUNTIF(C$16:V$16,処理!$L19)+COUNTIF(C$19:V$19,処理!$L19)+COUNTIF(C$22:V$22,処理!$L19)+COUNTIF(C$25:V$25,処理!$L19))/処理!$M19,0))","v":""},"",{"$f":"IF(COUNTIF(処理!$J$2:$J$25,23)>0,処理!H25,\"\")","v":""},null,{"$f":"IF(LEN(O35)=0,\"\",(COUNTIF(C$6:V$7,O35)+COUNTIF(C$10:V$10,O35)+COUNTIF(C$13:V$13,O35)+COUNTIF(C$16:V$16,O35)+COUNTIF(C$19:V$19,O35)+COUNTIF(C$22:V$22,O35)+COUNTIF(C$25:V$25,O35))/設定!$M26+IFERROR((COUNTIF(C$6:V$7,処理!$L25)+COUNTIF(C$10:V$10,処理!$L25)+COUNTIF(C$13:V$13,処理!$L25)+COUNTIF(C$16:V$16,処理!$L25)+COUNTIF(C$19:V$19,処理!$L25)+COUNTIF(C$22:V$22,処理!$L25)+COUNTIF(C$25:V$25,処理!$L25))/処理!$M25,0))","v":""},"",{"$f":"処理!H31&\"\"","v":""},null,"","",{"$f":"$C$35","v":""},null,{"$f":"IF(LEN(W35)=0,\"\",(COUNTIF(W$6:AP$7,W35)+COUNTIF(W$10:AP$10,W35)+COUNTIF(W$13:AP$13,W35)+COUNTIF(W$16:AP$16,W35)+COUNTIF(W$19:AP$19,W35)+COUNTIF(W$22:AP$22,W35)+COUNTIF(W$25:AP$25,W35))/設定!$D26+IFERROR((COUNTIF(W$6:AP$7,処理!$L7)+COUNTIF(W$10:AP$10,処理!$L7)+COUNTIF(W$13:AP$13,処理!$L7)+COUNTIF(W$16:AP$16,処理!$L7)+COUNTIF(W$19:AP$19,処理!$L7)+COUNTIF(W$22:AP$22,処理!$L7)+COUNTIF(W$25:AP$25,処理!$L7))/処理!$M7,0))","v":""},"",{"$f":"$G$35","v":""},null,{"$f":"IF(LEN(AA35)=0,\"\",(COUNTIF(W$6:AP$7,AA35)+COUNTIF(W$10:AP$10,AA35)+COUNTIF(W$13:AP$13,AA35)+COUNTIF(W$16:AP$16,AA35)+COUNTIF(W$19:AP$19,AA35)+COUNTIF(W$22:AP$22,AA35)+COUNTIF(W$25:AP$25,AA35))/設定!$G26+IFERROR((COUNTIF(W$6:AP$7,処理!$L13)+COUNTIF(W$10:AP$10,処理!$L13)+COUNTIF(W$13:AP$13,処理!$L13)+COUNTIF(W$16:AP$16,処理!$L13)+COUNTIF(W$19:AP$19,処理!$L13)+COUNTIF(W$22:AP$22,処理!$L13)+COUNTIF(W$25:AP$25,処理!$L13))/処理!$M13,0))","v":""},"",{"$f":"$K$35","v":""},null,{"$f":"IF(LEN(AE35)=0,\"\",(COUNTIF(W$6:AP$7,AE35)+COUNTIF(W$10:AP$10,AE35)+COUNTIF(W$13:AP$13,AE35)+COUNTIF(W$16:AP$16,AE35)+COUNTIF(W$19:AP$19,AE35)+COUNTIF(W$22:AP$22,AE35)+COUNTIF(W$25:AP$25,AE35))/設定!$J26+IFERROR((COUNTIF(W$6:AP$7,処理!$L19)+COUNTIF(W$10:AP$10,処理!$L19)+COUNTIF(W$13:AP$13,処理!$L19)+COUNTIF(W$16:AP$16,処理!$L19)+COUNTIF(W$19:AP$19,処理!$L19)+COUNTIF(W$22:AP$22,処理!$L19)+COUNTIF(W$25:AP$25,処理!$L19))/処理!$M19,0))","v":""},"",{"$f":"$O$35","v":""},null,{"$f":"IF(LEN(AI35)=0,\"\",(COUNTIF(W$6:AP$7,AI35)+COUNTIF(W$10:AP$10,AI35)+COUNTIF(W$13:AP$13,AI35)+COUNTIF(W$16:AP$16,AI35)+COUNTIF(W$19:AP$19,AI35)+COUNTIF(W$22:AP$22,AI35)+COUNTIF(W$25:AP$25,AI35))/設定!$M26+IFERROR((COUNTIF(W$6:AP$7,処理!$L25)+COUNTIF(W$10:AP$10,処理!$L25)+COUNTIF(W$13:AP$13,処理!$L25)+COUNTIF(W$16:AP$16,処理!$L25)+COUNTIF(W$19:AP$19,処理!$L25)+COUNTIF(W$22:AP$22,処理!$L25)+COUNTIF(W$25:AP$25,処理!$L25))/処理!$M25,0))","v":""},"",{"$f":"$S$35","v":""},null,"","",{"$f":"$C$35","v":""},null,{"$f":"IF(LEN(AQ35)=0,\"\",(COUNTIF(AQ$6:BJ$7,AQ35)+COUNTIF(AQ$10:BJ$10,AQ35)+COUNTIF(AQ$13:BJ$13,AQ35)+COUNTIF(AQ$16:BJ$16,AQ35)+COUNTIF(AQ$19:BJ$19,AQ35)+COUNTIF(AQ$22:BJ$22,AQ35)+COUNTIF(AQ$25:BJ$25,AQ35))/設定!$D26+IFERROR((COUNTIF(AQ$6:BJ$7,処理!$L7)+COUNTIF(AQ$10:BJ$10,処理!$L7)+COUNTIF(AQ$13:BJ$13,処理!$L7)+COUNTIF(AQ$16:BJ$16,処理!$L7)+COUNTIF(AQ$19:BJ$19,処理!$L7)+COUNTIF(AQ$22:BJ$22,処理!$L7)+COUNTIF(AQ$25:BJ$25,処理!$L7))/処理!$M7,0))","v":""},"",{"$f":"$G$35","v":""},null,{"$f":"IF(LEN(AU35)=0,\"\",(COUNTIF(AQ$6:BJ$7,AU35)+COUNTIF(AQ$10:BJ$10,AU35)+COUNTIF(AQ$13:BJ$13,AU35)+COUNTIF(AQ$16:BJ$16,AU35)+COUNTIF(AQ$19:BJ$19,AU35)+COUNTIF(AQ$22:BJ$22,AU35)+COUNTIF(AQ$25:BJ$25,AU35))/設定!$G26+IFERROR((COUNTIF(AQ$6:BJ$7,処理!$L13)+COUNTIF(AQ$10:BJ$10,処理!$L13)+COUNTIF(AQ$13:BJ$13,処理!$L13)+COUNTIF(AQ$16:BJ$16,処理!$L13)+COUNTIF(AQ$19:BJ$19,処理!$L13)+COUNTIF(AQ$22:BJ$22,処理!$L13)+COUNTIF(AQ$25:BJ$25,処理!$L13))/処理!$M13,0))","v":""},"",{"$f":"$K$35","v":""},null,{"$f":"IF(LEN(AY35)=0,\"\",(COUNTIF(AQ$6:BJ$7,AY35)+COUNTIF(AQ$10:BJ$10,AY35)+COUNTIF(AQ$13:BJ$13,AY35)+COUNTIF(AQ$16:BJ$16,AY35)+COUNTIF(AQ$19:BJ$19,AY35)+COUNTIF(AQ$22:BJ$22,AY35)+COUNTIF(AQ$25:BJ$25,AY35))/設定!$J26+IFERROR((COUNTIF(AQ$6:BJ$7,処理!$L19)+COUNTIF(AQ$10:BJ$10,処理!$L19)+COUNTIF(AQ$13:BJ$13,処理!$L19)+COUNTIF(AQ$16:BJ$16,処理!$L19)+COUNTIF(AQ$19:BJ$19,処理!$L19)+COUNTIF(AQ$22:BJ$22,処理!$L19)+COUNTIF(AQ$25:BJ$25,処理!$L19))/処理!$M19,0))","v":""},"",{"$f":"$O$35","v":""},null,{"$f":"IF(LEN(BC35)=0,\"\",(COUNTIF(AQ$6:BJ$7,BC35)+COUNTIF(AQ$10:BJ$10,BC35)+COUNTIF(AQ$13:BJ$13,BC35)+COUNTIF(AQ$16:BJ$16,BC35)+COUNTIF(AQ$19:BJ$19,BC35)+COUNTIF(AQ$22:BJ$22,BC35)+COUNTIF(AQ$25:BJ$25,BC35))/設定!$M26+IFERROR((COUNTIF(AQ$6:BJ$7,処理!$L25)+COUNTIF(AQ$10:BJ$10,処理!$L25)+COUNTIF(AQ$13:BJ$13,処理!$L25)+COUNTIF(AQ$16:BJ$16,処理!$L25)+COUNTIF(AQ$19:BJ$19,処理!$L25)+COUNTIF(AQ$22:BJ$22,処理!$L25)+COUNTIF(AQ$25:BJ$25,処理!$L25))/処理!$M25,0))","v":""},"",{"$f":"$S$35","v":""},null,"","",{"$f":"$C$35","v":""},null,{"$f":"IF(LEN(BK35)=0,\"\",(COUNTIF(BK$6:CD$7,BK35)+COUNTIF(BK$10:CD$10,BK35)+COUNTIF(BK$13:CD$13,BK35)+COUNTIF(BK$16:CD$16,BK35)+COUNTIF(BK$19:CD$19,BK35)+COUNTIF(BK$22:CD$22,BK35)+COUNTIF(BK$25:CD$25,BK35))/設定!$D26+IFERROR((COUNTIF(BK$6:CD$7,処理!$L7)+COUNTIF(BK$10:CD$10,処理!$L7)+COUNTIF(BK$13:CD$13,処理!$L7)+COUNTIF(BK$16:CD$16,処理!$L7)+COUNTIF(BK$19:CD$19,処理!$L7)+COUNTIF(BK$22:CD$22,処理!$L7)+COUNTIF(BK$25:CD$25,処理!$L7))/処理!$M7,0))","v":""},"",{"$f":"$G$35","v":""},null,{"$f":"IF(LEN(BO35)=0,\"\",(COUNTIF(BK$6:CD$7,BO35)+COUNTIF(BK$10:CD$10,BO35)+COUNTIF(BK$13:CD$13,BO35)+COUNTIF(BK$16:CD$16,BO35)+COUNTIF(BK$19:CD$19,BO35)+COUNTIF(BK$22:CD$22,BO35)+COUNTIF(BK$25:CD$25,BO35))/設定!$G26+IFERROR((COUNTIF(BK$6:CD$7,処理!$L13)+COUNTIF(BK$10:CD$10,処理!$L13)+COUNTIF(BK$13:CD$13,処理!$L13)+COUNTIF(BK$16:CD$16,処理!$L13)+COUNTIF(BK$19:CD$19,処理!$L13)+COUNTIF(BK$22:CD$22,処理!$L13)+COUNTIF(BK$25:CD$25,処理!$L13))/処理!$M13,0))","v":""},"",{"$f":"$K$35","v":""},null,{"$f":"IF(LEN(BS35)=0,\"\",(COUNTIF(BK$6:CD$7,BS35)+COUNTIF(BK$10:CD$10,BS35)+COUNTIF(BK$13:CD$13,BS35)+COUNTIF(BK$16:CD$16,BS35)+COUNTIF(BK$19:CD$19,BS35)+COUNTIF(BK$22:CD$22,BS35)+COUNTIF(BK$25:CD$25,BS35))/設定!$J26+IFERROR((COUNTIF(BK$6:CD$7,処理!$L19)+COUNTIF(BK$10:CD$10,処理!$L19)+COUNTIF(BK$13:CD$13,処理!$L19)+COUNTIF(BK$16:CD$16,処理!$L19)+COUNTIF(BK$19:CD$19,処理!$L19)+COUNTIF(BK$22:CD$22,処理!$L19)+COUNTIF(BK$25:CD$25,処理!$L19))/処理!$M19,0))","v":""},"",{"$f":"$O$35","v":""},null,{"$f":"IF(LEN(BW35)=0,\"\",(COUNTIF(BK$6:CD$7,BW35)+COUNTIF(BK$10:CD$10,BW35)+COUNTIF(BK$13:CD$13,BW35)+COUNTIF(BK$16:CD$16,BW35)+COUNTIF(BK$19:CD$19,BW35)+COUNTIF(BK$22:CD$22,BW35)+COUNTIF(BK$25:CD$25,BW35))/設定!$M26+IFERROR((COUNTIF(BK$6:CD$7,処理!$L25)+COUNTIF(BK$10:CD$10,処理!$L25)+COUNTIF(BK$13:CD$13,処理!$L25)+COUNTIF(BK$16:CD$16,処理!$L25)+COUNTIF(BK$19:CD$19,処理!$L25)+COUNTIF(BK$22:CD$22,処理!$L25)+COUNTIF(BK$25:CD$25,処理!$L25))/処理!$M25,0))","v":""},"",{"$f":"$S$35","v":""},null,"","",{"$f":"$C$35","v":""},null,{"$f":"IF(LEN(CE35)=0,\"\",(COUNTIF(CE$6:CX$7,CE35)+COUNTIF(CE$10:CX$10,CE35)+COUNTIF(CE$13:CX$13,CE35)+COUNTIF(CE$16:CX$16,CE35)+COUNTIF(CE$19:CX$19,CE35)+COUNTIF(CE$22:CX$22,CE35)+COUNTIF(CE$25:CX$25,CE35))/設定!$D26+IFERROR((COUNTIF(CE$6:CX$7,処理!$L7)+COUNTIF(CE$10:CX$10,処理!$L7)+COUNTIF(CE$13:CX$13,処理!$L7)+COUNTIF(CE$16:CX$16,処理!$L7)+COUNTIF(CE$19:CX$19,処理!$L7)+COUNTIF(CE$22:CX$22,処理!$L7)+COUNTIF(CE$25:CX$25,処理!$L7))/処理!$M7,0))","v":""},"",{"$f":"$G$35","v":""},null,{"$f":"IF(LEN(CI35)=0,\"\",(COUNTIF(CE$6:CX$7,CI35)+COUNTIF(CE$10:CX$10,CI35)+COUNTIF(CE$13:CX$13,CI35)+COUNTIF(CE$16:CX$16,CI35)+COUNTIF(CE$19:CX$19,CI35)+COUNTIF(CE$22:CX$22,CI35)+COUNTIF(CE$25:CX$25,CI35))/設定!$G26+IFERROR((COUNTIF(CE$6:CX$7,処理!$L13)+COUNTIF(CE$10:CX$10,処理!$L13)+COUNTIF(CE$13:CX$13,処理!$L13)+COUNTIF(CE$16:CX$16,処理!$L13)+COUNTIF(CE$19:CX$19,処理!$L13)+COUNTIF(CE$22:CX$22,処理!$L13)+COUNTIF(CE$25:CX$25,処理!$L13))/処理!$M13,0))","v":""},"",{"$f":"$K$35","v":""},null,{"$f":"IF(LEN(CM35)=0,\"\",(COUNTIF(CE$6:CX$7,CM35)+COUNTIF(CE$10:CX$10,CM35)+COUNTIF(CE$13:CX$13,CM35)+COUNTIF(CE$16:CX$16,CM35)+COUNTIF(CE$19:CX$19,CM35)+COUNTIF(CE$22:CX$22,CM35)+COUNTIF(CE$25:CX$25,CM35))/設定!$J26+IFERROR((COUNTIF(CE$6:CX$7,処理!$L19)+COUNTIF(CE$10:CX$10,処理!$L19)+COUNTIF(CE$13:CX$13,処理!$L19)+COUNTIF(CE$16:CX$16,処理!$L19)+COUNTIF(CE$19:CX$19,処理!$L19)+COUNTIF(CE$22:CX$22,処理!$L19)+COUNTIF(CE$25:CX$25,処理!$L19))/処理!$M19,0))","v":""},"",{"$f":"$O$35","v":""},null,{"$f":"IF(LEN(CQ35)=0,\"\",(COUNTIF(CE$6:CX$7,CQ35)+COUNTIF(CE$10:CX$10,CQ35)+COUNTIF(CE$13:CX$13,CQ35)+COUNTIF(CE$16:CX$16,CQ35)+COUNTIF(CE$19:CX$19,CQ35)+COUNTIF(CE$22:CX$22,CQ35)+COUNTIF(CE$25:CX$25,CQ35))/設定!$M26+IFERROR((COUNTIF(CE$6:CX$7,処理!$L25)+COUNTIF(CE$10:CX$10,処理!$L25)+COUNTIF(CE$13:CX$13,処理!$L25)+COUNTIF(CE$16:CX$16,処理!$L25)+COUNTIF(CE$19:CX$19,処理!$L25)+COUNTIF(CE$22:CX$22,処理!$L25)+COUNTIF(CE$25:CX$25,処理!$L25))/処理!$M25,0))","v":""},"",{"$f":"$S$35","v":""},null,"","",{"$f":"$C$35","v":""},null,{"$f":"IF(LEN(CY35)=0,\"\",(COUNTIF(CY$6:DR$7,CY35)+COUNTIF(CY$10:DR$10,CY35)+COUNTIF(CY$13:DR$13,CY35)+COUNTIF(CY$16:DR$16,CY35)+COUNTIF(CY$19:DR$19,CY35)+COUNTIF(CY$22:DR$22,CY35)+COUNTIF(CY$25:DR$25,CY35))/設定!$D26+IFERROR((COUNTIF(CY$6:DR$7,処理!$L7)+COUNTIF(CY$10:DR$10,処理!$L7)+COUNTIF(CY$13:DR$13,処理!$L7)+COUNTIF(CY$16:DR$16,処理!$L7)+COUNTIF(CY$19:DR$19,処理!$L7)+COUNTIF(CY$22:DR$22,処理!$L7)+COUNTIF(CY$25:DR$25,処理!$L7))/処理!$M7,0))","v":""},"",{"$f":"$G$35","v":""},null,{"$f":"IF(LEN(DC35)=0,\"\",(COUNTIF(CY$6:DR$7,DC35)+COUNTIF(CY$10:DR$10,DC35)+COUNTIF(CY$13:DR$13,DC35)+COUNTIF(CY$16:DR$16,DC35)+COUNTIF(CY$19:DR$19,DC35)+COUNTIF(CY$22:DR$22,DC35)+COUNTIF(CY$25:DR$25,DC35))/設定!$G26+IFERROR((COUNTIF(CY$6:DR$7,処理!$L13)+COUNTIF(CY$10:DR$10,処理!$L13)+COUNTIF(CY$13:DR$13,処理!$L13)+COUNTIF(CY$16:DR$16,処理!$L13)+COUNTIF(CY$19:DR$19,処理!$L13)+COUNTIF(CY$22:DR$22,処理!$L13)+COUNTIF(CY$25:DR$25,処理!$L13))/処理!$M13,0))","v":""},"",{"$f":"$K$35","v":""},null,{"$f":"IF(LEN(DG35)=0,\"\",(COUNTIF(CY$6:DR$7,DG35)+COUNTIF(CY$10:DR$10,DG35)+COUNTIF(CY$13:DR$13,DG35)+COUNTIF(CY$16:DR$16,DG35)+COUNTIF(CY$19:DR$19,DG35)+COUNTIF(CY$22:DR$22,DG35)+COUNTIF(CY$25:DR$25,DG35))/設定!$J26+IFERROR((COUNTIF(CY$6:DR$7,処理!$L19)+COUNTIF(CY$10:DR$10,処理!$L19)+COUNTIF(CY$13:DR$13,処理!$L19)+COUNTIF(CY$16:DR$16,処理!$L19)+COUNTIF(CY$19:DR$19,処理!$L19)+COUNTIF(CY$22:DR$22,処理!$L19)+COUNTIF(CY$25:DR$25,処理!$L19))/処理!$M19,0))","v":""},"",{"$f":"$O$35","v":""},null,{"$f":"IF(LEN(DK35)=0,\"\",(COUNTIF(CY$6:DR$7,DK35)+COUNTIF(CY$10:DR$10,DK35)+COUNTIF(CY$13:DR$13,DK35)+COUNTIF(CY$16:DR$16,DK35)+COUNTIF(CY$19:DR$19,DK35)+COUNTIF(CY$22:DR$22,DK35)+COUNTIF(CY$25:DR$25,DK35))/設定!$M26+IFERROR((COUNTIF(CY$6:DR$7,処理!$L25)+COUNTIF(CY$10:DR$10,処理!$L25)+COUNTIF(CY$13:DR$13,処理!$L25)+COUNTIF(CY$16:DR$16,処理!$L25)+COUNTIF(CY$19:DR$19,処理!$L25)+COUNTIF(CY$22:DR$22,処理!$L25)+COUNTIF(CY$25:DR$25,処理!$L25))/処理!$M25,0))","v":""},"",{"$f":"$S$35","v":""},null,"","",{"$f":"$C$35","v":""},null,{"$f":"IF(LEN(DS35)=0,\"\",(COUNTIF(DS$6:EL$7,DS35)+COUNTIF(DS$10:EL$10,DS35)+COUNTIF(DS$13:EL$13,DS35)+COUNTIF(DS$16:EL$16,DS35)+COUNTIF(DS$19:EL$19,DS35)+COUNTIF(DS$22:EL$22,DS35)+COUNTIF(DS$25:EL$25,DS35))/設定!$D26+IFERROR((COUNTIF(DS$6:EL$7,処理!$L7)+COUNTIF(DS$10:EL$10,処理!$L7)+COUNTIF(DS$13:EL$13,処理!$L7)+COUNTIF(DS$16:EL$16,処理!$L7)+COUNTIF(DS$19:EL$19,処理!$L7)+COUNTIF(DS$22:EL$22,処理!$L7)+COUNTIF(DS$25:EL$25,処理!$L7))/処理!$M7,0))","v":""},"",{"$f":"$G$35","v":""},null,{"$f":"IF(LEN(DW35)=0,\"\",(COUNTIF(DS$6:EL$7,DW35)+COUNTIF(DS$10:EL$10,DW35)+COUNTIF(DS$13:EL$13,DW35)+COUNTIF(DS$16:EL$16,DW35)+COUNTIF(DS$19:EL$19,DW35)+COUNTIF(DS$22:EL$22,DW35)+COUNTIF(DS$25:EL$25,DW35))/設定!$G26+IFERROR((COUNTIF(DS$6:EL$7,処理!$L13)+COUNTIF(DS$10:EL$10,処理!$L13)+COUNTIF(DS$13:EL$13,処理!$L13)+COUNTIF(DS$16:EL$16,処理!$L13)+COUNTIF(DS$19:EL$19,処理!$L13)+COUNTIF(DS$22:EL$22,処理!$L13)+COUNTIF(DS$25:EL$25,処理!$L13))/処理!$M13,0))","v":""},"",{"$f":"$K$35","v":""},null,{"$f":"IF(LEN(EA35)=0,\"\",(COUNTIF(DS$6:EL$7,EA35)+COUNTIF(DS$10:EL$10,EA35)+COUNTIF(DS$13:EL$13,EA35)+COUNTIF(DS$16:EL$16,EA35)+COUNTIF(DS$19:EL$19,EA35)+COUNTIF(DS$22:EL$22,EA35)+COUNTIF(DS$25:EL$25,EA35))/設定!$J26+IFERROR((COUNTIF(DS$6:EL$7,処理!$L19)+COUNTIF(DS$10:EL$10,処理!$L19)+COUNTIF(DS$13:EL$13,処理!$L19)+COUNTIF(DS$16:EL$16,処理!$L19)+COUNTIF(DS$19:EL$19,処理!$L19)+COUNTIF(DS$22:EL$22,処理!$L19)+COUNTIF(DS$25:EL$25,処理!$L19))/処理!$M19,0))","v":""},"",{"$f":"$O$35","v":""},null,{"$f":"IF(LEN(EE35)=0,\"\",(COUNTIF(DS$6:EL$7,EE35)+COUNTIF(DS$10:EL$10,EE35)+COUNTIF(DS$13:EL$13,EE35)+COUNTIF(DS$16:EL$16,EE35)+COUNTIF(DS$19:EL$19,EE35)+COUNTIF(DS$22:EL$22,EE35)+COUNTIF(DS$25:EL$25,EE35))/設定!$M26+IFERROR((COUNTIF(DS$6:EL$7,処理!$L25)+COUNTIF(DS$10:EL$10,処理!$L25)+COUNTIF(DS$13:EL$13,処理!$L25)+COUNTIF(DS$16:EL$16,処理!$L25)+COUNTIF(DS$19:EL$19,処理!$L25)+COUNTIF(DS$22:EL$22,処理!$L25)+COUNTIF(DS$25:EL$25,処理!$L25))/処理!$M25,0))","v":""},"",{"$f":"$S$35","v":""},null,"","",{"$f":"$C$35","v":""},null,{"$f":"IF(LEN(EM35)=0,\"\",(COUNTIF(EM$6:FF$7,EM35)+COUNTIF(EM$10:FF$10,EM35)+COUNTIF(EM$13:FF$13,EM35)+COUNTIF(EM$16:FF$16,EM35)+COUNTIF(EM$19:FF$19,EM35)+COUNTIF(EM$22:FF$22,EM35)+COUNTIF(EM$25:FF$25,EM35))/設定!$D26+IFERROR((COUNTIF(EM$6:FF$7,処理!$L7)+COUNTIF(EM$10:FF$10,処理!$L7)+COUNTIF(EM$13:FF$13,処理!$L7)+COUNTIF(EM$16:FF$16,処理!$L7)+COUNTIF(EM$19:FF$19,処理!$L7)+COUNTIF(EM$22:FF$22,処理!$L7)+COUNTIF(EM$25:FF$25,処理!$L7))/処理!$M7,0))","v":""},"",{"$f":"$G$35","v":""},null,{"$f":"IF(LEN(EQ35)=0,\"\",(COUNTIF(EM$6:FF$7,EQ35)+COUNTIF(EM$10:FF$10,EQ35)+COUNTIF(EM$13:FF$13,EQ35)+COUNTIF(EM$16:FF$16,EQ35)+COUNTIF(EM$19:FF$19,EQ35)+COUNTIF(EM$22:FF$22,EQ35)+COUNTIF(EM$25:FF$25,EQ35))/設定!$G26+IFERROR((COUNTIF(EM$6:FF$7,処理!$L13)+COUNTIF(EM$10:FF$10,処理!$L13)+COUNTIF(EM$13:FF$13,処理!$L13)+COUNTIF(EM$16:FF$16,処理!$L13)+COUNTIF(EM$19:FF$19,処理!$L13)+COUNTIF(EM$22:FF$22,処理!$L13)+COUNTIF(EM$25:FF$25,処理!$L13))/処理!$M13,0))","v":""},"",{"$f":"$K$35","v":""},null,{"$f":"IF(LEN(EU35)=0,\"\",(COUNTIF(EM$6:FF$7,EU35)+COUNTIF(EM$10:FF$10,EU35)+COUNTIF(EM$13:FF$13,EU35)+COUNTIF(EM$16:FF$16,EU35)+COUNTIF(EM$19:FF$19,EU35)+COUNTIF(EM$22:FF$22,EU35)+COUNTIF(EM$25:FF$25,EU35))/設定!$J26+IFERROR((COUNTIF(EM$6:FF$7,処理!$L19)+COUNTIF(EM$10:FF$10,処理!$L19)+COUNTIF(EM$13:FF$13,処理!$L19)+COUNTIF(EM$16:FF$16,処理!$L19)+COUNTIF(EM$19:FF$19,処理!$L19)+COUNTIF(EM$22:FF$22,処理!$L19)+COUNTIF(EM$25:FF$25,処理!$L19))/処理!$M19,0))","v":""},"",{"$f":"$O$35","v":""},null,{"$f":"IF(LEN(EY35)=0,\"\",(COUNTIF(EM$6:FF$7,EY35)+COUNTIF(EM$10:FF$10,EY35)+COUNTIF(EM$13:FF$13,EY35)+COUNTIF(EM$16:FF$16,EY35)+COUNTIF(EM$19:FF$19,EY35)+COUNTIF(EM$22:FF$22,EY35)+COUNTIF(EM$25:FF$25,EY35))/設定!$M26+IFERROR((COUNTIF(EM$6:FF$7,処理!$L25)+COUNTIF(EM$10:FF$10,処理!$L25)+COUNTIF(EM$13:FF$13,処理!$L25)+COUNTIF(EM$16:FF$16,処理!$L25)+COUNTIF(EM$19:FF$19,処理!$L25)+COUNTIF(EM$22:FF$22,処理!$L25)+COUNTIF(EM$25:FF$25,処理!$L25))/処理!$M25,0))","v":""},"",{"$f":"$S$35","v":""},null,"","",{"$f":"$C$35","v":""},null,{"$f":"IF(LEN(FG35)=0,\"\",(COUNTIF(FG$6:FZ$7,FG35)+COUNTIF(FG$10:FZ$10,FG35)+COUNTIF(FG$13:FZ$13,FG35)+COUNTIF(FG$16:FZ$16,FG35)+COUNTIF(FG$19:FZ$19,FG35)+COUNTIF(FG$22:FZ$22,FG35)+COUNTIF(FG$25:FZ$25,FG35))/設定!$D26+IFERROR((COUNTIF(FG$6:FZ$7,処理!$L7)+COUNTIF(FG$10:FZ$10,処理!$L7)+COUNTIF(FG$13:FZ$13,処理!$L7)+COUNTIF(FG$16:FZ$16,処理!$L7)+COUNTIF(FG$19:FZ$19,処理!$L7)+COUNTIF(FG$22:FZ$22,処理!$L7)+COUNTIF(FG$25:FZ$25,処理!$L7))/処理!$M7,0))","v":""},"",{"$f":"$G$35","v":""},null,{"$f":"IF(LEN(FK35)=0,\"\",(COUNTIF(FG$6:FZ$7,FK35)+COUNTIF(FG$10:FZ$10,FK35)+COUNTIF(FG$13:FZ$13,FK35)+COUNTIF(FG$16:FZ$16,FK35)+COUNTIF(FG$19:FZ$19,FK35)+COUNTIF(FG$22:FZ$22,FK35)+COUNTIF(FG$25:FZ$25,FK35))/設定!$G26+IFERROR((COUNTIF(FG$6:FZ$7,処理!$L13)+COUNTIF(FG$10:FZ$10,処理!$L13)+COUNTIF(FG$13:FZ$13,処理!$L13)+COUNTIF(FG$16:FZ$16,処理!$L13)+COUNTIF(FG$19:FZ$19,処理!$L13)+COUNTIF(FG$22:FZ$22,処理!$L13)+COUNTIF(FG$25:FZ$25,処理!$L13))/処理!$M13,0))","v":""},"",{"$f":"$K$35","v":""},null,{"$f":"IF(LEN(FO35)=0,\"\",(COUNTIF(FG$6:FZ$7,FO35)+COUNTIF(FG$10:FZ$10,FO35)+COUNTIF(FG$13:FZ$13,FO35)+COUNTIF(FG$16:FZ$16,FO35)+COUNTIF(FG$19:FZ$19,FO35)+COUNTIF(FG$22:FZ$22,FO35)+COUNTIF(FG$25:FZ$25,FO35))/設定!$J26+IFERROR((COUNTIF(FG$6:FZ$7,処理!$L19)+COUNTIF(FG$10:FZ$10,処理!$L19)+COUNTIF(FG$13:FZ$13,処理!$L19)+COUNTIF(FG$16:FZ$16,処理!$L19)+COUNTIF(FG$19:FZ$19,処理!$L19)+COUNTIF(FG$22:FZ$22,処理!$L19)+COUNTIF(FG$25:FZ$25,処理!$L19))/処理!$M19,0))","v":""},"",{"$f":"$O$35","v":""},null,{"$f":"IF(LEN(FS35)=0,\"\",(COUNTIF(FG$6:FZ$7,FS35)+COUNTIF(FG$10:FZ$10,FS35)+COUNTIF(FG$13:FZ$13,FS35)+COUNTIF(FG$16:FZ$16,FS35)+COUNTIF(FG$19:FZ$19,FS35)+COUNTIF(FG$22:FZ$22,FS35)+COUNTIF(FG$25:FZ$25,FS35))/設定!$M26+IFERROR((COUNTIF(FG$6:FZ$7,処理!$L25)+COUNTIF(FG$10:FZ$10,処理!$L25)+COUNTIF(FG$13:FZ$13,処理!$L25)+COUNTIF(FG$16:FZ$16,処理!$L25)+COUNTIF(FG$19:FZ$19,処理!$L25)+COUNTIF(FG$22:FZ$22,処理!$L25)+COUNTIF(FG$25:FZ$25,処理!$L25))/処理!$M25,0))","v":""},"",{"$f":"$S$35","v":""},null,"","",{"$f":"$C$35","v":""},null,{"$f":"IF(LEN(GA35)=0,\"\",(COUNTIF(GA$6:GT$7,GA35)+COUNTIF(GA$10:GT$10,GA35)+COUNTIF(GA$13:GT$13,GA35)+COUNTIF(GA$16:GT$16,GA35)+COUNTIF(GA$19:GT$19,GA35)+COUNTIF(GA$22:GT$22,GA35)+COUNTIF(GA$25:GT$25,GA35))/設定!$D26+IFERROR((COUNTIF(GA$6:GT$7,処理!$L7)+COUNTIF(GA$10:GT$10,処理!$L7)+COUNTIF(GA$13:GT$13,処理!$L7)+COUNTIF(GA$16:GT$16,処理!$L7)+COUNTIF(GA$19:GT$19,処理!$L7)+COUNTIF(GA$22:GT$22,処理!$L7)+COUNTIF(GA$25:GT$25,処理!$L7))/処理!$M7,0))","v":""},"",{"$f":"$G$35","v":""},null,{"$f":"IF(LEN(GE35)=0,\"\",(COUNTIF(GA$6:GT$7,GE35)+COUNTIF(GA$10:GT$10,GE35)+COUNTIF(GA$13:GT$13,GE35)+COUNTIF(GA$16:GT$16,GE35)+COUNTIF(GA$19:GT$19,GE35)+COUNTIF(GA$22:GT$22,GE35)+COUNTIF(GA$25:GT$25,GE35))/設定!$G26+IFERROR((COUNTIF(GA$6:GT$7,処理!$L13)+COUNTIF(GA$10:GT$10,処理!$L13)+COUNTIF(GA$13:GT$13,処理!$L13)+COUNTIF(GA$16:GT$16,処理!$L13)+COUNTIF(GA$19:GT$19,処理!$L13)+COUNTIF(GA$22:GT$22,処理!$L13)+COUNTIF(GA$25:GT$25,処理!$L13))/処理!$M13,0))","v":""},"",{"$f":"$K$35","v":""},null,{"$f":"IF(LEN(GI35)=0,\"\",(COUNTIF(GA$6:GT$7,GI35)+COUNTIF(GA$10:GT$10,GI35)+COUNTIF(GA$13:GT$13,GI35)+COUNTIF(GA$16:GT$16,GI35)+COUNTIF(GA$19:GT$19,GI35)+COUNTIF(GA$22:GT$22,GI35)+COUNTIF(GA$25:GT$25,GI35))/設定!$J26+IFERROR((COUNTIF(GA$6:GT$7,処理!$L19)+COUNTIF(GA$10:GT$10,処理!$L19)+COUNTIF(GA$13:GT$13,処理!$L19)+COUNTIF(GA$16:GT$16,処理!$L19)+COUNTIF(GA$19:GT$19,処理!$L19)+COUNTIF(GA$22:GT$22,処理!$L19)+COUNTIF(GA$25:GT$25,処理!$L19))/処理!$M19,0))","v":""},"",{"$f":"$O$35","v":""},null,{"$f":"IF(LEN(GM35)=0,\"\",(COUNTIF(GA$6:GT$7,GM35)+COUNTIF(GA$10:GT$10,GM35)+COUNTIF(GA$13:GT$13,GM35)+COUNTIF(GA$16:GT$16,GM35)+COUNTIF(GA$19:GT$19,GM35)+COUNTIF(GA$22:GT$22,GM35)+COUNTIF(GA$25:GT$25,GM35))/設定!$M26+IFERROR((COUNTIF(GA$6:GT$7,処理!$L25)+COUNTIF(GA$10:GT$10,処理!$L25)+COUNTIF(GA$13:GT$13,処理!$L25)+COUNTIF(GA$16:GT$16,処理!$L25)+COUNTIF(GA$19:GT$19,処理!$L25)+COUNTIF(GA$22:GT$22,処理!$L25)+COUNTIF(GA$25:GT$25,処理!$L25))/処理!$M25,0))","v":""},"",{"$f":"$S$35","v":""},null,"","",{"$f":"$C$35","v":""},null,{"$f":"IF(LEN(GU35)=0,\"\",(COUNTIF(GU$6:HN$7,GU35)+COUNTIF(GU$10:HN$10,GU35)+COUNTIF(GU$13:HN$13,GU35)+COUNTIF(GU$16:HN$16,GU35)+COUNTIF(GU$19:HN$19,GU35)+COUNTIF(GU$22:HN$22,GU35)+COUNTIF(GU$25:HN$25,GU35))/設定!$D26+IFERROR((COUNTIF(GU$6:HN$7,処理!$L7)+COUNTIF(GU$10:HN$10,処理!$L7)+COUNTIF(GU$13:HN$13,処理!$L7)+COUNTIF(GU$16:HN$16,処理!$L7)+COUNTIF(GU$19:HN$19,処理!$L7)+COUNTIF(GU$22:HN$22,処理!$L7)+COUNTIF(GU$25:HN$25,処理!$L7))/処理!$M7,0))","v":""},"",{"$f":"$G$35","v":""},null,{"$f":"IF(LEN(GY35)=0,\"\",(COUNTIF(GU$6:HN$7,GY35)+COUNTIF(GU$10:HN$10,GY35)+COUNTIF(GU$13:HN$13,GY35)+COUNTIF(GU$16:HN$16,GY35)+COUNTIF(GU$19:HN$19,GY35)+COUNTIF(GU$22:HN$22,GY35)+COUNTIF(GU$25:HN$25,GY35))/設定!$G26+IFERROR((COUNTIF(GU$6:HN$7,処理!$L13)+COUNTIF(GU$10:HN$10,処理!$L13)+COUNTIF(GU$13:HN$13,処理!$L13)+COUNTIF(GU$16:HN$16,処理!$L13)+COUNTIF(GU$19:HN$19,処理!$L13)+COUNTIF(GU$22:HN$22,処理!$L13)+COUNTIF(GU$25:HN$25,処理!$L13))/処理!$M13,0))","v":""},"",{"$f":"$K$35","v":""},null,{"$f":"IF(LEN(HC35)=0,\"\",(COUNTIF(GU$6:HN$7,HC35)+COUNTIF(GU$10:HN$10,HC35)+COUNTIF(GU$13:HN$13,HC35)+COUNTIF(GU$16:HN$16,HC35)+COUNTIF(GU$19:HN$19,HC35)+COUNTIF(GU$22:HN$22,HC35)+COUNTIF(GU$25:HN$25,HC35))/設定!$J26+IFERROR((COUNTIF(GU$6:HN$7,処理!$L19)+COUNTIF(GU$10:HN$10,処理!$L19)+COUNTIF(GU$13:HN$13,処理!$L19)+COUNTIF(GU$16:HN$16,処理!$L19)+COUNTIF(GU$19:HN$19,処理!$L19)+COUNTIF(GU$22:HN$22,処理!$L19)+COUNTIF(GU$25:HN$25,処理!$L19))/処理!$M19,0))","v":""},"",{"$f":"$O$35","v":""},null,{"$f":"IF(LEN(HG35)=0,\"\",(COUNTIF(GU$6:HN$7,HG35)+COUNTIF(GU$10:HN$10,HG35)+COUNTIF(GU$13:HN$13,HG35)+COUNTIF(GU$16:HN$16,HG35)+COUNTIF(GU$19:HN$19,HG35)+COUNTIF(GU$22:HN$22,HG35)+COUNTIF(GU$25:HN$25,HG35))/設定!$M26+IFERROR((COUNTIF(GU$6:HN$7,処理!$L25)+COUNTIF(GU$10:HN$10,処理!$L25)+COUNTIF(GU$13:HN$13,処理!$L25)+COUNTIF(GU$16:HN$16,処理!$L25)+COUNTIF(GU$19:HN$19,処理!$L25)+COUNTIF(GU$22:HN$22,処理!$L25)+COUNTIF(GU$25:HN$25,処理!$L25))/処理!$M25,0))","v":""},"",{"$f":"$S$35","v":""},null,"","",{"$f":"$C$35","v":""},null,{"$f":"IF(LEN(HO35)=0,\"\",(COUNTIF(HO$6:IH$7,HO35)+COUNTIF(HO$10:IH$10,HO35)+COUNTIF(HO$13:IH$13,HO35)+COUNTIF(HO$16:IH$16,HO35)+COUNTIF(HO$19:IH$19,HO35)+COUNTIF(HO$22:IH$22,HO35)+COUNTIF(HO$25:IH$25,HO35))/設定!$D26+IFERROR((COUNTIF(HO$6:IH$7,処理!$L7)+COUNTIF(HO$10:IH$10,処理!$L7)+COUNTIF(HO$13:IH$13,処理!$L7)+COUNTIF(HO$16:IH$16,処理!$L7)+COUNTIF(HO$19:IH$19,処理!$L7)+COUNTIF(HO$22:IH$22,処理!$L7)+COUNTIF(HO$25:IH$25,処理!$L7))/処理!$M7,0))","v":""},"",{"$f":"$G$35","v":""},null,{"$f":"IF(LEN(HS35)=0,\"\",(COUNTIF(HO$6:IH$7,HS35)+COUNTIF(HO$10:IH$10,HS35)+COUNTIF(HO$13:IH$13,HS35)+COUNTIF(HO$16:IH$16,HS35)+COUNTIF(HO$19:IH$19,HS35)+COUNTIF(HO$22:IH$22,HS35)+COUNTIF(HO$25:IH$25,HS35))/設定!$G26+IFERROR((COUNTIF(HO$6:IH$7,処理!$L13)+COUNTIF(HO$10:IH$10,処理!$L13)+COUNTIF(HO$13:IH$13,処理!$L13)+COUNTIF(HO$16:IH$16,処理!$L13)+COUNTIF(HO$19:IH$19,処理!$L13)+COUNTIF(HO$22:IH$22,処理!$L13)+COUNTIF(HO$25:IH$25,処理!$L13))/処理!$M13,0))","v":""},"",{"$f":"$K$35","v":""},null,{"$f":"IF(LEN(HW35)=0,\"\",(COUNTIF(HO$6:IH$7,HW35)+COUNTIF(HO$10:IH$10,HW35)+COUNTIF(HO$13:IH$13,HW35)+COUNTIF(HO$16:IH$16,HW35)+COUNTIF(HO$19:IH$19,HW35)+COUNTIF(HO$22:IH$22,HW35)+COUNTIF(HO$25:IH$25,HW35))/設定!$J26+IFERROR((COUNTIF(HO$6:IH$7,処理!$L19)+COUNTIF(HO$10:IH$10,処理!$L19)+COUNTIF(HO$13:IH$13,処理!$L19)+COUNTIF(HO$16:IH$16,処理!$L19)+COUNTIF(HO$19:IH$19,処理!$L19)+COUNTIF(HO$22:IH$22,処理!$L19)+COUNTIF(HO$25:IH$25,処理!$L19))/処理!$M19,0))","v":""},"",{"$f":"$O$35","v":""},null,{"$f":"IF(LEN(IA35)=0,\"\",(COUNTIF(HO$6:IH$7,IA35)+COUNTIF(HO$10:IH$10,IA35)+COUNTIF(HO$13:IH$13,IA35)+COUNTIF(HO$16:IH$16,IA35)+COUNTIF(HO$19:IH$19,IA35)+COUNTIF(HO$22:IH$22,IA35)+COUNTIF(HO$25:IH$25,IA35))/設定!$M26+IFERROR((COUNTIF(HO$6:IH$7,処理!$L25)+COUNTIF(HO$10:IH$10,処理!$L25)+COUNTIF(HO$13:IH$13,処理!$L25)+COUNTIF(HO$16:IH$16,処理!$L25)+COUNTIF(HO$19:IH$19,処理!$L25)+COUNTIF(HO$22:IH$22,処理!$L25)+COUNTIF(HO$25:IH$25,処理!$L25))/処理!$M25,0))","v":""},"",{"$f":"$S$35","v":""},null,"","",{"$f":"$C$35","v":""},null,{"$f":"IF(LEN(II35)=0,\"\",(COUNTIF(II$6:JB$7,II35)+COUNTIF(II$10:JB$10,II35)+COUNTIF(II$13:JB$13,II35)+COUNTIF(II$16:JB$16,II35)+COUNTIF(II$19:JB$19,II35)+COUNTIF(II$22:JB$22,II35)+COUNTIF(II$25:JB$25,II35))/設定!$D26+IFERROR((COUNTIF(II$6:JB$7,処理!$L7)+COUNTIF(II$10:JB$10,処理!$L7)+COUNTIF(II$13:JB$13,処理!$L7)+COUNTIF(II$16:JB$16,処理!$L7)+COUNTIF(II$19:JB$19,処理!$L7)+COUNTIF(II$22:JB$22,処理!$L7)+COUNTIF(II$25:JB$25,処理!$L7))/処理!$M7,0))","v":""},"",{"$f":"$G$35","v":""},null,{"$f":"IF(LEN(IM35)=0,\"\",(COUNTIF(II$6:JB$7,IM35)+COUNTIF(II$10:JB$10,IM35)+COUNTIF(II$13:JB$13,IM35)+COUNTIF(II$16:JB$16,IM35)+COUNTIF(II$19:JB$19,IM35)+COUNTIF(II$22:JB$22,IM35)+COUNTIF(II$25:JB$25,IM35))/設定!$G26+IFERROR((COUNTIF(II$6:JB$7,処理!$L13)+COUNTIF(II$10:JB$10,処理!$L13)+COUNTIF(II$13:JB$13,処理!$L13)+COUNTIF(II$16:JB$16,処理!$L13)+COUNTIF(II$19:JB$19,処理!$L13)+COUNTIF(II$22:JB$22,処理!$L13)+COUNTIF(II$25:JB$25,処理!$L13))/処理!$M13,0))","v":""},"",{"$f":"$K$35","v":""},null,{"$f":"IF(LEN(IQ35)=0,\"\",(COUNTIF(II$6:JB$7,IQ35)+COUNTIF(II$10:JB$10,IQ35)+COUNTIF(II$13:JB$13,IQ35)+COUNTIF(II$16:JB$16,IQ35)+COUNTIF(II$19:JB$19,IQ35)+COUNTIF(II$22:JB$22,IQ35)+COUNTIF(II$25:JB$25,IQ35))/設定!$J26+IFERROR((COUNTIF(II$6:JB$7,処理!$L19)+COUNTIF(II$10:JB$10,処理!$L19)+COUNTIF(II$13:JB$13,処理!$L19)+COUNTIF(II$16:JB$16,処理!$L19)+COUNTIF(II$19:JB$19,処理!$L19)+COUNTIF(II$22:JB$22,処理!$L19)+COUNTIF(II$25:JB$25,処理!$L19))/処理!$M19,0))","v":""},"",{"$f":"$O$35","v":""},null,{"$f":"IF(LEN(IU35)=0,\"\",(COUNTIF(II$6:JB$7,IU35)+COUNTIF(II$10:JB$10,IU35)+COUNTIF(II$13:JB$13,IU35)+COUNTIF(II$16:JB$16,IU35)+COUNTIF(II$19:JB$19,IU35)+COUNTIF(II$22:JB$22,IU35)+COUNTIF(II$25:JB$25,IU35))/設定!$M26+IFERROR((COUNTIF(II$6:JB$7,処理!$L25)+COUNTIF(II$10:JB$10,処理!$L25)+COUNTIF(II$13:JB$13,処理!$L25)+COUNTIF(II$16:JB$16,処理!$L25)+COUNTIF(II$19:JB$19,処理!$L25)+COUNTIF(II$22:JB$22,処理!$L25)+COUNTIF(II$25:JB$25,処理!$L25))/処理!$M25,0))","v":""},"",{"$f":"$S$35","v":""},null,"",""]

{"sheet":"集計表","index":5,"n_rows":46,"n_cols":22,"rows_kept":46,"cut":false,"hidden":true,"merged":[[2,14,2,21],[0,0,0,6],[0,8,0,12],[2,11,3,11],[1,10,1,12],[2,12,3,12],[1,0,3,0],[1,1,1,9],[2,1,2,3],[2,4,2,6],[2,7,2,9],[2,10,3,10]]}
[{"$f":"DBCS(TEXT(DATE(設定!B4,4,1),\"ggge年度　時間数集計表\"))","v":"明治３３年度　時間数集計表"}]
["時 間\n教 科\n等","時　　　間　　　数",null,null,null,null,null,null,null,null,{"$f":"IF(I29=0,IF(F29=0,\"１学期まで\",\"２学期まで\"),\"年間\")","v":"１学期まで"}]
[null,"１学期",null,null,"２学期",null,null,"３学期",null,null,"標準\n時間数","実施\n時間数","±",null,"標準授業時数"]
[null,"標 準","実 施","±","標 準","実 施","±","標 準","実 施","±",null,null,null,null,null,null,"１年","２年","３年","４年","５年","６年"]
[{"$f":"処理!K2","v":""},null,{"$f":"IF(LEN($A5)=0,\"\",INDEX('１学期'!$LN$30:$MD$35,MOD(SMALL(処理!$J$2:$J$25,ROW()-4),6)+1,4*QUOTIENT(SMALL(処理!$J$2:$J$25,ROW()-4),6)+1))","v":""},{"$f":"IF(LEN($B5)=0,\"\",C5-B5)","v":""},null,{"$f":"IF(LEN($A5)=0,\"\",INDEX('２学期'!$MH$30:$MX$35,MOD(SMALL(処理!$J$2:$J$25,ROW()-4),6)+1,4*QUOTIENT(SMALL(処理!$J$2:$J$25,ROW()-4),6)+1))","v":""},{"$f":"IF(LEN($E5)=0,\"\",F5-E5)","v":""},null,{"$f":"IF(LEN($A5)=0,\"\",INDEX('３学期'!$IL$30:$JB$35,MOD(SMALL(処理!$J$2:$J$25,ROW()-4),6)+1,4*QUOTIENT(SMALL(処理!$J$2:$J$25,ROW()-4),6)+1))","v":""},{"$f":"IF(LEN($H5)=0,\"\",I5-H5)","v":""},{"$f":"IF(COUNT(B5,E5,H5)=0,\"\",IF($I$29=0,IF($F$29=0,B5,SUM(B5,E5)),SUM(B5,E5,H5)))","v":""},{"$f":"IF(LEN($A5)=0,\"\",SUM(C5,F5,I5))","v":""},{"$f":"IF(LEN($K5)=0,\"\",L5-K5)","v":""},null,"国語","１学期",93,96,75,75,53,51]
[{"$f":"処理!K3","v":""},null,{"$f":"IF(LEN($A6)=0,\"\",INDEX('１学期'!$LN$30:$MD$35,MOD(SMALL(処理!$J$2:$J$25,ROW()-4),6)+1,4*QUOTIENT(SMALL(処理!$J$2:$J$25,ROW()-4),6)+1))","v":""},{"$f":"IF(LEN($B6)=0,\"\",C6-B6)","v":""},null,{"$f":"IF(LEN($A6)=0,\"\",INDEX('２学期'!$MH$30:$MX$35,MOD(SMALL(処理!$J$2:$J$25,ROW()-4),6)+1,4*QUOTIENT(SMALL(処理!$J$2:$J$25,ROW()-4),6)+1))","v":""},"",null,{"$f":"IF(LEN($A6)=0,\"\",INDEX('３学期'!$IL$30:$JB$35,MOD(SMALL(処理!$J$2:$J$25,ROW()-4),6)+1,4*QUOTIENT(SMALL(処理!$J$2:$J$25,ROW()-4),6)+1))","v":""},{"$f":"IF(LEN($H6)=0,\"\",I6-H6)","v":""},{"$f":"IF(COUNT(B6,E6,H6)=0,\"\",IF($I$29=0,IF($F$29=0,B6,SUM(B6,E6)),SUM(B6,E6,H6)))","v":""},{"$f":"IF(LEN($A6)=0,\"\",SUM(C6,F6,I6))","v":""},{"$f":"IF(LEN($K6)=0,\"\",L6-K6)","v":""},null,null,"２学期",107,112,83,86,55,56]
[{"$f":"処理!K4","v":""},null,{"$f":"IF(LEN($A7)=0,\"\",INDEX('１学期'!$LN$30:$MD$35,MOD(SMALL(処理!$J$2:$J$25,ROW()-4),6)+1,4*QUOTIENT(SMALL(処理!$J$2:$J$25,ROW()-4),6)+1))","v":""},"",null,{"$f":"IF(LEN($A7)=0,\"\",INDEX('２学期'!$MH$30:$MX$35,MOD(SMALL(処理!$J$2:$J$25,ROW()-4),6)+1,4*QUOTIENT(SMALL(処理!$J$2:$J$25,ROW()-4),6)+1))","v":""},"",null,{"$f":"IF(LEN($A7)=0,\"\",INDEX('３学期'!$IL$30:$JB$35,MOD(SMALL(処理!$J$2:$J$25,ROW()-4),6)+1,4*QUOTIENT(SMALL(処理!$J$2:$J$25,ROW()-4),6)+1))","v":""},"","","","",null,null,"３学期",72,72,57,54,37,38]
[{"$f":"処理!K5","v":""},null,{"$f":"IF(LEN($A8)=0,\"\",INDEX('１学期'!$LN$30:$MD$35,MOD(SMALL(処理!$J$2:$J$25,ROW()-4),6)+1,4*QUOTIENT(SMALL(処理!$J$2:$J$25,ROW()-4),6)+1))","v":""},"",null,{"$f":"IF(LEN($A8)=0,\"\",INDEX('２学期'!$MH$30:$MX$35,MOD(SMALL(処理!$J$2:$J$25,ROW()-4),6)+1,4*QUOTIENT(SMALL(処理!$J$2:$J$25,ROW()-4),6)+1))","v":""},"",null,{"$f":"IF(LEN($A8)=0,\"\",INDEX('３学期'!$IL$30:$JB$35,MOD(SMALL(処理!$J$2:$J$25,ROW()-4),6)+1,4*QUOTIENT(SMALL(処理!$J$2:$J$25,ROW()-4),6)+1))","v":""},"","","","",null,"書写","１学期",12,12,11,11,11,11]
[{"$f":"処理!K6","v":""},null,{"$f":"IF(LEN($A9)=0,\"\",INDEX('１学期'!$LN$30:$MD$35,MOD(SMALL(処理!$J$2:$J$25,ROW()-4),6)+1,4*QUOTIENT(SMALL(処理!$J$2:$J$25,ROW()-4),6)+1))","v":""},"",null,{"$f":"IF(LEN($A9)=0,\"\",INDEX('２学期'!$MH$30:$MX$35,MOD(SMALL(処理!$J$2:$J$25,ROW()-4),6)+1,4*QUOTIENT(SMALL(処理!$J$2:$J$25,ROW()-4),6)+1))","v":""},"",null,{"$f":"IF(LEN($A9)=0,\"\",INDEX('３学期'!$IL$30:$JB$35,MOD(SMALL(処理!$J$2:$J$25,ROW()-4),6)+1,4*QUOTIENT(SMALL(処理!$J$2:$J$25,ROW()-4),6)+1))","v":""},"","","","",null,null,"２学期",14,13,13,12,12,13]
[{"$f":"処理!K7","v":""},null,{"$f":"IF(LEN($A10)=0,\"\",INDEX('１学期'!$LN$30:$MD$35,MOD(SMALL(処理!$J$2:$J$25,ROW()-4),6)+1,4*QUOTIENT(SMALL(処理!$J$2:$J$25,ROW()-4),6)+1))","v":""},"",null,{"$f":"IF(LEN($A10)=0,\"\",INDEX('２学期'!$MH$30:$MX$35,MOD(SMALL(処理!$J$2:$J$25,ROW()-4),6)+1,4*QUOTIENT(SMALL(処理!$J$2:$J$25,ROW()-4),6)+1))","v":""},"",null,{"$f":"IF(LEN($A10)=0,\"\",INDEX('３学期'!$IL$30:$JB$35,MOD(SMALL(処理!$J$2:$J$25,ROW()-4),6)+1,4*QUOTIENT(SMALL(処理!$J$2:$J$25,ROW()-4),6)+1))","v":""},"","","","",null,null,"３学期",8,10,6,7,7,6]
[{"$f":"処理!K8","v":""},null,{"$f":"IF(LEN($A11)=0,\"\",INDEX('１学期'!$LN$30:$MD$35,MOD(SMALL(処理!$J$2:$J$25,ROW()-4),6)+1,4*QUOTIENT(SMALL(処理!$J$2:$J$25,ROW()-4),6)+1))","v":""},"",null,{"$f":"IF(LEN($A11)=0,\"\",INDEX('２学期'!$MH$30:$MX$35,MOD(SMALL(処理!$J$2:$J$25,ROW()-4),6)+1,4*QUOTIENT(SMALL(処理!$J$2:$J$25,ROW()-4),6)+1))","v":""},"",null,{"$f":"IF(LEN($A11)=0,\"\",INDEX('３学期'!$IL$30:$JB$35,MOD(SMALL(処理!$J$2:$J$25,ROW()-4),6)+1,4*QUOTIENT(SMALL(処理!$J$2:$J$25,ROW()-4),6)+1))","v":""},"","","","",null,"社会","１学期",null,null,26,30,35,36]
[{"$f":"処理!K9","v":""},null,{"$f":"IF(LEN($A12)=0,\"\",INDEX('１学期'!$LN$30:$MD$35,MOD(SMALL(処理!$J$2:$J$25,ROW()-4),6)+1,4*QUOTIENT(SMALL(処理!$J$2:$J$25,ROW()-4),6)+1))","v":""},"",null,{"$f":"IF(LEN($A12)=0,\"\",INDEX('２学期'!$MH$30:$MX$35,MOD(SMALL(処理!$J$2:$J$25,ROW()-4),6)+1,4*QUOTIENT(SMALL(処理!$J$2:$J$25,ROW()-4),6)+1))","v":""},"",null,{"$f":"IF(LEN($A12)=0,\"\",INDEX('３学期'!$IL$30:$JB$35,MOD(SMALL(処理!$J$2:$J$25,ROW()-4),6)+1,4*QUOTIENT(SMALL(処理!$J$2:$J$25,ROW()-4),6)+1))","v":""},"","","","",null,null,"２学期",null,null,28,35,40,41]
[{"$f":"処理!K10","v":""},null,{"$f":"IF(LEN($A13)=0,\"\",INDEX('１学期'!$LN$30:$MD$35,MOD(SMALL(処理!$J$2:$J$25,ROW()-4),6)+1,4*QUOTIENT(SMALL(処理!$J$2:$J$25,ROW()-4),6)+1))","v":""},"",null,{"$f":"IF(LEN($A13)=0,\"\",INDEX('２学期'!$MH$30:$MX$35,MOD(SMALL(処理!$J$2:$J$25,ROW()-4),6)+1,4*QUOTIENT(SMALL(処理!$J$2:$J$25,ROW()-4),6)+1))","v":""},"",null,{"$f":"IF(LEN($A13)=0,\"\",INDEX('３学期'!$IL$30:$JB$35,MOD(SMALL(処理!$J$2:$J$25,ROW()-4),6)+1,4*QUOTIENT(SMALL(処理!$J$2:$J$25,ROW()-4),6)+1))","v":""},"","","","",null,null,"３学期",null,null,16,25,25,28]
[{"$f":"処理!K11","v":""},null,{"$f":"IF(LEN($A14)=0,\"\",INDEX('１学期'!$LN$30:$MD$35,MOD(SMALL(処理!$J$2:$J$25,ROW()-4),6)+1,4*QUOTIENT(SMALL(処理!$J$2:$J$25,ROW()-4),6)+1))","v":""},"",null,{"$f":"IF(LEN($A14)=0,\"\",INDEX('２学期'!$MH$30:$MX$35,MOD(SMALL(処理!$J$2:$J$25,ROW()-4),6)+1,4*QUOTIENT(SMALL(処理!$J$2:$J$25,ROW()-4),6)+1))","v":""},"",null,{"$f":"IF(LEN($A14)=0,\"\",INDEX('３学期'!$IL$30:$JB$35,MOD(SMALL(処理!$J$2:$J$25,ROW()-4),6)+1,4*QUOTIENT(SMALL(処理!$J$2:$J$25,ROW()-4),6)+1))","v":""},"","","","",null,"算数","１学期",48,60,60,60,60,60]
[{"$f":"処理!K12","v":""},null,{"$f":"IF(LEN($A15)=0,\"\",INDEX('１学期'!$LN$30:$MD$35,MOD(SMALL(処理!$J$2:$J$25,ROW()-4),6)+1,4*QUOTIENT(SMALL(処理!$J$2:$J$25,ROW()-4),6)+1))","v":""},"",null,{"$f":"IF(LEN($A15)=0,\"\",INDEX('２学期'!$MH$30:$MX$35,MOD(SMALL(処理!$J$2:$J$25,ROW()-4),6)+1,4*QUOTIENT(SMALL(処理!$J$2:$J$25,ROW()-4),6)+1))","v":""},"",null,{"$f":"IF(LEN($A15)=0,\"\",INDEX('３学期'!$IL$30:$JB$35,MOD(SMALL(処理!$J$2:$J$25,ROW()-4),6)+1,4*QUOTIENT(SMALL(処理!$J$2:$J$25,ROW()-4),6)+1))","v":""},"","","","",null,null,"２学期",56,70,70,70,70,70]
[{"$f":"処理!K13","v":""},null,{"$f":"IF(LEN($A16)=0,\"\",INDEX('１学期'!$LN$30:$MD$35,MOD(SMALL(処理!$J$2:$J$25,ROW()-4),6)+1,4*QUOTIENT(SMALL(処理!$J$2:$J$25,ROW()-4),6)+1))","v":""},"",null,{"$f":"IF(LEN($A16)=0,\"\",INDEX('２学期'!$MH$30:$MX$35,MOD(SMALL(処理!$J$2:$J$25,ROW()-4),6)+1,4*QUOTIENT(SMALL(処理!$J$2:$J$25,ROW()-4),6)+1))","v":""},"",null,{"$f":"IF(LEN($A16)=0,\"\",INDEX('３学期'!$IL$30:$JB$35,MOD(SMALL(処理!$J$2:$J$25,ROW()-4),6)+1,4*QUOTIENT(SMALL(処理!$J$2:$J$25,ROW()-4),6)+1))","v":""},"","","","",null,null,"３学期",32,45,45,45,45,45]
[{"$f":"処理!K14","v":""},null,{"$f":"IF(LEN($A17)=0,\"\",INDEX('１学期'!$LN$30:$MD$35,MOD(SMALL(処理!$J$2:$J$25,ROW()-4),6)+1,4*QUOTIENT(SMALL(処理!$J$2:$J$25,ROW()-4),6)+1))","v":""},"",null,{"$f":"IF(LEN($A17)=0,\"\",INDEX('２学期'!$MH$30:$MX$35,MOD(SMALL(処理!$J$2:$J$25,ROW()-4),6)+1,4*QUOTIENT(SMALL(処理!$J$2:$J$25,ROW()-4),6)+1))","v":""},"",null,{"$f":"IF(LEN($A17)=0,\"\",INDEX('３学期'!$IL$30:$JB$35,MOD(SMALL(処理!$J$2:$J$25,ROW()-4),6)+1,4*QUOTIENT(SMALL(処理!$J$2:$J$25,ROW()-4),6)+1))","v":""},"","","","",null,"理科","１学期",null,null,34,39,39,39]
[{"$f":"処理!K15","v":""},null,{"$f":"IF(LEN($A18)=0,\"\",INDEX('１学期'!$LN$30:$MD$35,MOD(SMALL(処理!$J$2:$J$25,ROW()-4),6)+1,4*QUOTIENT(SMALL(処理!$J$2:$J$25,ROW()-4),6)+1))","v":""},"",null,{"$f":"IF(LEN($A18)=0,\"\",INDEX('２学期'!$MH$30:$MX$35,MOD(SMALL(処理!$J$2:$J$25,ROW()-4),6)+1,4*QUOTIENT(SMALL(処理!$J$2:$J$25,ROW()-4),6)+1))","v":""},"",null,{"$f":"IF(LEN($A18)=0,\"\",INDEX('３学期'!$IL$30:$JB$35,MOD(SMALL(処理!$J$2:$J$25,ROW()-4),6)+1,4*QUOTIENT(SMALL(処理!$J$2:$J$25,ROW()-4),6)+1))","v":""},"","","","",null,null,"２学期",null,null,33,39,39,39]
[{"$f":"処理!K16","v":""},null,{"$f":"IF(LEN($A19)=0,\"\",INDEX('１学期'!$LN$30:$MD$35,MOD(SMALL(処理!$J$2:$J$25,ROW()-4),6)+1,4*QUOTIENT(SMALL(処理!$J$2:$J$25,ROW()-4),6)+1))","v":""},"",null,{"$f":"IF(LEN($A19)=0,\"\",INDEX('２学期'!$MH$30:$MX$35,MOD(SMALL(処理!$J$2:$J$25,ROW()-4),6)+1,4*QUOTIENT(SMALL(処理!$J$2:$J$25,ROW()-4),6)+1))","v":""},"",null,{"$f":"IF(LEN($A19)=0,\"\",INDEX('３学期'!$IL$30:$JB$35,MOD(SMALL(処理!$J$2:$J$25,ROW()-4),6)+1,4*QUOTIENT(SMALL(処理!$J$2:$J$25,ROW()-4),6)+1))","v":""},"","","","",null,null,"３学期",null,null,23,27,27,27]
[{"$f":"処理!K17","v":""},null,{"$f":"IF(LEN($A20)=0,\"\",INDEX('１学期'!$LN$30:$MD$35,MOD(SMALL(処理!$J$2:$J$25,ROW()-4),6)+1,4*QUOTIENT(SMALL(処理!$J$2:$J$25,ROW()-4),6)+1))","v":""},"",null,{"$f":"IF(LEN($A20)=0,\"\",INDEX('２学期'!$MH$30:$MX$35,MOD(SMALL(処理!$J$2:$J$25,ROW()-4),6)+1,4*QUOTIENT(SMALL(処理!$J$2:$J$25,ROW()-4),6)+1))","v":""},"",null,{"$f":"IF(LEN($A20)=0,\"\",INDEX('３学期'!$IL$30:$JB$35,MOD(SMALL(処理!$J$2:$J$25,ROW()-4),6)+1,4*QUOTIENT(SMALL(処理!$J$2:$J$25,ROW()-4),6)+1))","v":""},"","","","",null,"生活","１学期",36,36]
[{"$f":"処理!K18","v":""},null,{"$f":"IF(LEN($A21)=0,\"\",INDEX('１学期'!$LN$30:$MD$35,MOD(SMALL(処理!$J$2:$J$25,ROW()-4),6)+1,4*QUOTIENT(SMALL(処理!$J$2:$J$25,ROW()-4),6)+1))","v":""},"",null,{"$f":"IF(LEN($A21)=0,\"\",INDEX('２学期'!$MH$30:$MX$35,MOD(SMALL(処理!$J$2:$J$25,ROW()-4),6)+1,4*QUOTIENT(SMALL(処理!$J$2:$J$25,ROW()-4),6)+1))","v":""},"",null,{"$f":"IF(LEN($A21)=0,\"\",INDEX('３学期'!$IL$30:$JB$35,MOD(SMALL(処理!$J$2:$J$25,ROW()-4),6)+1,4*QUOTIENT(SMALL(処理!$J$2:$J$25,ROW()-4),6)+1))","v":""},"","","","",null,null,"２学期",41,42]
[{"$f":"処理!K19","v":""},null,{"$f":"IF(LEN($A22)=0,\"\",INDEX('１学期'!$LN$30:$MD$35,MOD(SMALL(処理!$J$2:$J$25,ROW()-4),6)+1,4*QUOTIENT(SMALL(処理!$J$2:$J$25,ROW()-4),6)+1))","v":""},"",null,{"$f":"IF(LEN($A22)=0,\"\",INDEX('２学期'!$MH$30:$MX$35,MOD(SMALL(処理!$J$2:$J$25,ROW()-4),6)+1,4*QUOTIENT(SMALL(処理!$J$2:$J$25,ROW()-4),6)+1))","v":""},"",null,{"$f":"IF(LEN($A22)=0,\"\",INDEX('３学期'!$IL$30:$JB$35,MOD(SMALL(処理!$J$2:$J$25,ROW()-4),6)+1,4*QUOTIENT(SMALL(処理!$J$2:$J$25,ROW()-4),6)+1))","v":""},"","","","",null,null,"３学期",25,27]
[{"$f":"処理!K20","v":""},null,{"$f":"IF(LEN($A23)=0,\"\",INDEX('１学期'!$LN$30:$MD$35,MOD(SMALL(処理!$J$2:$J$25,ROW()-4),6)+1,4*QUOTIENT(SMALL(処理!$J$2:$J$25,ROW()-4),6)+1))","v":""},"",null,{"$f":"IF(LEN($A23)=0,\"\",INDEX('２学期'!$MH$30:$MX$35,MOD(SMALL(処理!$J$2:$J$25,ROW()-4),6)+1,4*QUOTIENT(SMALL(処理!$J$2:$J$25,ROW()-4),6)+1))","v":""},"",null,{"$f":"IF(LEN($A23)=0,\"\",INDEX('３学期'!$IL$30:$JB$35,MOD(SMALL(処理!$J$2:$J$25,ROW()-4),6)+1,4*QUOTIENT(SMALL(処理!$J$2:$J$25,ROW()-4),6)+1))","v":""},"","","","",null,"音楽","１学期",25,24,20,20,19,16]
[{"$f":"処理!K21","v":""},null,{"$f":"IF(LEN($A24)=0,\"\",INDEX('１学期'!$LN$30:$MD$35,MOD(SMALL(処理!$J$2:$J$25,ROW()-4),6)+1,4*QUOTIENT(SMALL(処理!$J$2:$J$25,ROW()-4),6)+1))","v":""},"",null,{"$f":"IF(LEN($A24)=0,\"\",INDEX('２学期'!$MH$30:$MX$35,MOD(SMALL(処理!$J$2:$J$25,ROW()-4),6)+1,4*QUOTIENT(SMALL(処理!$J$2:$J$25,ROW()-4),6)+1))","v":""},"",null,{"$f":"IF(LEN($A24)=0,\"\",INDEX('３学期'!$IL$30:$JB$35,MOD(SMALL(処理!$J$2:$J$25,ROW()-4),6)+1,4*QUOTIENT(SMALL(処理!$J$2:$J$25,ROW()-4),6)+1))","v":""},"","","","",null,null,"２学期",26,29,24,24,17,20]
[{"$f":"処理!K22","v":""},null,{"$f":"IF(LEN($A25)=0,\"\",INDEX('１学期'!$LN$30:$MD$35,MOD(SMALL(処理!$J$2:$J$25,ROW()-4),6)+1,4*QUOTIENT(SMALL(処理!$J$2:$J$25,ROW()-4),6)+1))","v":""},"",null,{"$f":"IF(LEN($A25)=0,\"\",INDEX('２学期'!$MH$30:$MX$35,MOD(SMALL(処理!$J$2:$J$25,ROW()-4),6)+1,4*QUOTIENT(SMALL(処理!$J$2:$J$25,ROW()-4),6)+1))","v":""},"",null,{"$f":"IF(LEN($A25)=0,\"\",INDEX('３学期'!$IL$30:$JB$35,MOD(SMALL(処理!$J$2:$J$25,ROW()-4),6)+1,4*QUOTIENT(SMALL(処理!$J$2:$J$25,ROW()-4),6)+1))","v":""},"","","","",null,null,"３学期",17,17,16,16,14,14]
[{"$f":"処理!K23","v":""},null,{"$f":"IF(LEN($A26)=0,\"\",INDEX('１学期'!$LN$30:$MD$35,MOD(SMALL(処理!$J$2:$J$25,ROW()-4),6)+1,4*QUOTIENT(SMALL(処理!$J$2:$J$25,ROW()-4),6)+1))","v":""},"",null,{"$f":"IF(LEN($A26)=0,\"\",INDEX('２学期'!$MH$30:$MX$35,MOD(SMALL(処理!$J$2:$J$25,ROW()-4),6)+1,4*QUOTIENT(SMALL(処理!$J$2:$J$25,ROW()-4),6)+1))","v":""},"",null,{"$f":"IF(LEN($A26)=0,\"\",INDEX('３学期'!$IL$30:$JB$35,MOD(SMALL(処理!$J$2:$J$25,ROW()-4),6)+1,4*QUOTIENT(SMALL(処理!$J$2:$J$25,ROW()-4),6)+1))","v":""},"","","","",null,"図工","１学期",20,23,21,21,17,17]
[{"$f":"処理!K24","v":""},null,{"$f":"IF(LEN($A27)=0,\"\",INDEX('１学期'!$LN$30:$MD$35,MOD(SMALL(処理!$J$2:$J$25,ROW()-4),6)+1,4*QUOTIENT(SMALL(処理!$J$2:$J$25,ROW()-4),6)+1))","v":""},"",null,{"$f":"IF(LEN($A27)=0,\"\",INDEX('２学期'!$MH$30:$MX$35,MOD(SMALL(処理!$J$2:$J$25,ROW()-4),6)+1,4*QUOTIENT(SMALL(処理!$J$2:$J$25,ROW()-4),6)+1))","v":""},{"$f":"IF(LEN($E27)=0,\"\",F27-E27)","v":""},null,{"$f":"IF(LEN($A27)=0,\"\",INDEX('３学期'!$IL$30:$JB$35,MOD(SMALL(処理!$J$2:$J$25,ROW()-4),6)+1,4*QUOTIENT(SMALL(処理!$J$2:$J$25,ROW()-4),6)+1))","v":""},"","","","",null,null,"２学期",27,28,24,24,20,20]
[{"$f":"処理!K25","v":""},null,{"$f":"IF(LEN($A28)=0,\"\",INDEX('１学期'!$LN$30:$MD$35,MOD(SMALL(処理!$J$2:$J$25,ROW()-4),6)+1,4*QUOTIENT(SMALL(処理!$J$2:$J$25,ROW()-4),6)+1))","v":""},"",null,{"$f":"IF(LEN($A28)=0,\"\",INDEX('２学期'!$MH$30:$MX$35,MOD(SMALL(処理!$J$2:$J$25,ROW()-4),6)+1,4*QUOTIENT(SMALL(処理!$J$2:$J$25,ROW()-4),6)+1))","v":""},"",null,{"$f":"IF(LEN($A28)=0,\"\",INDEX('３学期'!$IL$30:$JB$35,MOD(SMALL(処理!$J$2:$J$25,ROW()-4),6)+1,4*QUOTIENT(SMALL(処理!$J$2:$J$25,ROW()-4),6)+1))","v":""},"","","","",null,null,"３学期",21,19,15,15,13,13]
["計",{"$f":"SUM(B5:B28)","v":0},{"$f":"SUM(C5:C28)","v":0},{"$f":"C29-B29","v":0},{"$f":"SUM(E5:E28)","v":0},{"$f":"SUM(F5:F28)","v":0},{"$f":"F29-E29","v":0},{"$f":"SUM(H5:H28)","v":0},{"$f":"SUM(I5:I28)","v":0},{"$f":"I29-H29","v":0},{"$f":"SUM(K5:K28)","v":0},{"$f":"SUM(L5:L28)","v":0},{"$f":"L29-K29","v":0},null,"家庭","１学期",null,null,null,null,21,21]
[{"$f":"設定!N22&\"\"","v":""},null,{"$f":"'１学期'!MD31","v":""},{"$f":"IF(LEN($B30)=0,\"\",C30-B30)","v":""},null,{"$f":"'２学期'!MX31","v":""},{"$f":"IF(LEN($E30)=0,\"\",F30-E30)","v":""},null,{"$f":"'３学期'!JB31","v":""},{"$f":"IF(LEN($H30)=0,\"\",I30-H30)","v":""},{"$f":"IF(COUNT(B30,E30,H30)=0,\"\",SUM(B30,E30,H30))","v":""},{"$f":"IF(COUNT(C30,F30,I30)=0,\"\",SUM(C30,F30,I30))","v":""},"",null,null,"２学期",null,null,null,null,26,25]
[{"$f":"設定!N23&\"\"","v":""},null,{"$f":"'１学期'!MD32","v":""},"",null,{"$f":"'２学期'!MX32","v":""},"",null,{"$f":"'３学期'!JB32","v":""},"","","","",null,null,"３学期",null,null,null,null,13,9]
[{"$f":"設定!N24&\"\"","v":""},null,{"$f":"'１学期'!MD33","v":""},"",null,{"$f":"'２学期'!MX33","v":""},"",null,{"$f":"'３学期'!JB33","v":""},"","","","",null,"体育","１学期",33,36,36,36,30,31]
[{"$f":"設定!N25&\"\"","v":""},null,{"$f":"'１学期'!MD34","v":""},"",null,{"$f":"'２学期'!MX34","v":""},"",null,{"$f":"'３学期'!JB34","v":""},"","","","",null,null,"２学期",42,42,42,42,37,36]
[{"$f":"設定!N26&\"\"","v":""},null,{"$f":"'１学期'!MD35","v":""},"",null,{"$f":"'２学期'!MX35","v":""},"",null,{"$f":"'３学期'!JB35","v":""},"","","","",null,null,"３学期",27,27,27,27,23,23]
[null,null,null,null,null,null,null,null,null,null,null,null,null,null,"道徳","１学期",11,12,12,12,12,12]
[null,null,null,null,null,null,null,null,null,null,null,null,null,null,null,"２学期",14,14,14,14,14,14]
[null,null,null,null,null,null,null,null,null,null,null,null,null,null,null,"３学期",9,9,9,9,9,9]
[null,null,null,null,null,null,null,null,null,null,null,null,null,null,"学活","１学期",11,12,12,12,12,12]
[null,null,null,null,null,null,null,null,null,null,null,null,null,null,null,"２学期",14,14,14,14,14,14]
[null,null,null,null,null,null,null,null,null,null,null,null,null,null,null,"３学期",9,9,9,9,9,9]
[null,null,null,null,null,null,null,null,null,null,null,null,null,null,"総合","１学期",null,null,24,24,24,24]
[null,null,null,null,null,null,null,null,null,null,null,null,null,null,null,"２学期",null,null,28,28,28,28]
[null,null,null,null,null,null,null,null,null,null,null,null,null,null,null,"３学期",null,null,18,18,18,18]
[null,null,null,null,null,null,null,null,null,null,null,null,null,null,"外国語","１学期",null,null,12,13,26,26]
[null,null,null,null,null,null,null,null,null,null,null,null,null,null,null,"２学期",null,null,13,13,26,26]
[null,null,null,null,null,null,null,null,null,null,null,null,null,null,null,"３学期",null,null,10,9,18,18]

{"sheet":"更新履歴","index":6,"n_rows":13,"n_cols":3,"rows_kept":13,"cut":false,"hidden":true,"merged":[]}
["更新履歴"]
["バージョン","日付","更新内容"]
["1.1.0","2025-01-17","・＜日案シート＞の備考の１行目に曜日を入力すると、その曜日の時"]
[null,null,"　間割が複写できるようにしました。"]
[null,null,"・＜日案シート＞の【授業読込】ボタンを押すと、授業の単元と内容"]
[null,null,"　の候補Noを自動で読み込めるようにしました。"]
[null,null,"・＜日案シート＞の単元や内容の欄に教科名を入力しても時間数集計"]
[null,null,"　に反映されないようにしました。"]
[null,null,"・＜日案シート＞のその他の授業も、授業Noを入力したら単元と内"]
[null,null,"　容を取り込めるようにしました。"]
[null,null,"・＜単元・内容シート＞の【非表示】ボタンを押すと、入力されてい"]
[null,null,"　ない教科を一括で非表示できるようにしました。"]
[null,null,"・軽微な修正を行いました。"]

{"sheet":"有効化","index":7,"n_rows":12,"n_cols":3,"rows_kept":12,"cut":false,"hidden":false,"merged":[]}
[]
[]
[]
[]
[null,"【コンテンツの有効化】を押して，マクロを有効にしてください。"]
[null,null,"※一度マクロを有効化していただくと、以後このメッセージは表示されなくなります。"]
[null,null,"※EXCELの設定によっては、再びセキュリティの警告が出ることがあります。"]
[null,null,"　その際は、必ず【コンテンツの有効化】を押すようにしてください。"]
[null,null,"　ソフトが破損する恐れがあります。"]
[null,null,"※他のEXCELファイルを開いてからこのソフトを開くと、【コンテンツの有効化】ボタン"]
[null,null,"　が表示されないことがあります。"]
[null,null,"　その際は、他のEXCELファイルを閉じてから、このソフトを開くようにしてください。"]

{"sheet":"取説","index":8,"n_rows":177,"n_cols":30,"rows_kept":177,"cut":false,"hidden":true,"merged":[[162,1,164,5],[163,6,163,17],[143,2,148,2],[143,8,143,9],[154,5,156,5],[165,29,166,32],[165,25,166,28],[165,21,166,24],[163,21,164,24],[163,25,164,28],[163,29,164,32],[165,1,166,5],[164,6,164,9],[164,10,164,13],[164,14,164,17],[165,6,166,9],[165,10,166,13],[165,14,166,17],[154,11,154,12],[152,6,152,12],[114,6,114,12],[126,6,126,12],[127,6,127,12],[140,3,140,9],[141,3,141,9],[162,21,162,32],[162,6,162,17],[129,5,134,5],[43,0,43,13],[82,7,82,8],[82,9,82,15],[151,6,151,12],[81,7,81,8],[79,7,80,32],[108,1,110,1],[102,1,103,3],[102,4,102,12],[103,4,103,12],[81,2,81,6],[82,2,82,6],[81,9,81,15],[116,5,121,5],[113,6,113,12],[81,16,81,32],[82,16,82,32],[36,11,36,12],[37,5,37,8],[37,9,37,10],[58,0,58,13],[46,8,47,12],[48,8,49,12],[62,1,67,1],[75,0,75,13],[37,11,37,12],[38,5,38,8],[38,9,38,10],[38,11,38,12],[50,6,52,7],[32,0,32,13],[7,4,7,12],[24,1,24,3],[25,1,25,3],[25,4,25,6],[26,1,26,3],[26,4,26,6],[24,4,24,6],[24,7,24,8],[22,0,22,13],[10,0,10,13],[15,0,15,13],[25,7,25,8],[26,7,26,8],[7,1,8,3],[8,4,8,12],[36,5,36,8],[36,9,36,10],[34,11,34,12],[34,9,34,10],[34,5,34,8],[35,5,35,8],[35,9,35,10],[35,11,35,12]]}
["＜取扱説明書、使用上の注意＞"]
[]
["＜はじめに＞"]
["※ このソフトはファイル名を変更しても使用可能です。好きな名前に変えてお使いください。"]
[]
["Ａ．＜設定＞シート"]
[null,null,null,null,null,null,null,null,null,null,null,null,null,null,1,"入学式の日にち"]
[null,null,null,null,"2023-05-22",null,null,null,null,null,null,null,null,null,null,"※","西暦を基に２・３学期の日案を作成します。始業式"]
[null,null,null,null,"月",null,null,null,null,null,null,null,null,null,null,null,"が入る週を第１週としています。"]
[null,null,null,null,null,null,null,null,null,null,null,null,null,null,null,"※","入学式の日にちを基に１学期の日案を作成します。"]
["＜○学期＞シートより",null,null,null,null,null,null,null,null,null,null,null,null,null,null,null,"入学式が入る週を第１週としています。"]
[null,null,null,null,null,null,null,null,null,null,null,null,null,null,2,"主幹教諭の有無"]
[null,"○学期",null,null,null,null,null,null,null,null,null,null,null,null,null,"※","「いる」と入力すると、日案上部に主幹教諭の押印"]
[null,"  第○週",null,null,null,null,"校長　　教頭　　…",null,null,null,null,null,null,null,null,null,"場所が現れます。"]
[]
["＜○学期＞シートより"]
[null,null,null,null,null,null,null,null,null,null,null,null,null,null,3,"追加したい授業名・その他名"]
[null,"※国語、書写、社会、算数、理科、…",null,null,null,null,null,null,null,null,null,null,null,null,null,"※","追加した授業、その他は４　持ち授業の登録、＜単"]
[null,"学活",null,null,null,"道徳",null,null,null,null,null,null,null,null,null,null,"元・内容＞シートに追加されます。単元や内容を直"]
[null,null,null,null,null,null,null,null,null,null,null,null,null,null,null,null,"接入力して日案の作成に使用することができます。"]
[null,null,null,null,null,null,null,null,null,null,null,null,null,null,null,"※","国語、書写、社会、算数、理科、生活、音楽、図工、"]
[null,null,null,null,null,null,null,null,null,null,null,null,null,null,null,null,"家庭、体育、外国語はすでに設定されているので入"]
["＜設定＞シートより",null,null,null,null,null,null,null,null,null,null,null,null,null,null,null,"力の必要はありません。"]
[null,null,null,null,null,null,null,null,null,null,null,null,null,null,4,"持ち授業の登録"]
[null,"授業",null,null,"クラス",null,null,"回数",null,null,null,null,null,null,null,"※","ここで作られたコマは６　時間割、日案の授業枠で"]
[null,"国語",null,null,"1-1",null,null,1,null,"→1-1国語",null,null,null,null,null,null,"使用します。"]
[null,"国語",null,null,"3-2",null,null,3,null,"→3-2帯国語",null,null,null,null,null,"※","この表と日案の時間数集計が同じ配置になります。"]
[null,null,null,null,null,null,null,null,null,null,null,null,null,null,null,"※","通常授業と同名教科の帯授業を行う場合は、それぞ"]
[null,null,null,null,null,null,null,null,null,null,null,null,null,null,null,null,"れ入力してください。"]
[null,null,null,null,null,null,null,null,null,null,null,null,null,null,null,"※","その他の枠に入力したものについては、時間数集計"]
[null,null,null,null,null,null,null,null,null,null,null,null,null,null,null,null,"表の授業数に合計されず、個々に集計されます。行"]
[null,null,null,null,null,null,null,null,null,null,null,null,null,null,null,null,"事や委員会など、授業時間数に換算したくないもの"]
["＜設定＞シートより",null,null,null,null,null,null,null,null,null,null,null,null,null,null,null,"については「その他」に入力してください。"]
[null,null,null,null,null,null,null,null,null,null,null,null,null,null,5,"帯授業との合算"]
[null,null,null,null,null,"授業",null,null,null,"実施",null,"累計",null,null,null,"※","「する」と入力すると、帯授業の授業時間と通常授"]
[null,null,null,null,"「しない」","1-1国語",null,null,null,2,null,5,null,null,null,null,"業の同教科の授業時間を合算します。"]
[null,null,null,null,null,"1-1帯国語",null,null,null,0.3,null,2.7,null,null,null,"※","帯授業ごとに合算する、しないを設定することはで"]
[null,null,null,null,null,null,null,null,null,null,null,null,null,null,null,null,"きません。帯授業ごとに帯授業分のみの時数を集計"]
[null,null,null,null,"「する」","1-1国語",null,null,null,2.2999999999999998,null,7.7,null,null,null,null,"したい場合は以下のように設定してください。"]
[null,null,null,null,null,null,null,null,null,null,null,null,null,null,null,null,"①","５　帯授業との合算で、「する」と入力"]
[null,null,null,null,null,null,null,null,null,null,null,null,null,null,null,null,"②","３　追加したい授業名・その他名で、帯授業分"]
[null,null,null,null,null,null,null,null,null,null,null,null,null,null,null,null,null,"のみで集計したい帯授業の授業名を通常授業と"]
[null,null,null,null,null,null,null,null,null,null,null,null,null,null,null,null,null,"は別の授業名で登録"]
["＜○学期＞シートより",null,null,null,null,null,null,null,null,null,null,null,null,null,null,null,"③","４　持ち授業の登録で、各々登録"]
[null,null,null,null,null,null,null,null,null,null,null,null,null,null,6,"時間割"]
[null,null,null,null,null,null,null,null,null,null,null,null,null,null,null,"※","時間割を入力しなくてもこのソフトを利用すること"]
[null,null,null,null,null,null,null,null,"5/",null,null,null,null,null,null,null,"はできますが、入力しておくと＜○学期＞シート内"]
[null,null,null,null,null,null,null,null,null,null,null,null,null,null,null,null,"にある【時間割複写】ボタンを使用することができ"]
[null,null,null,null,null,null,null,null,"月",null,null,null,null,null,null,null,"るようになります。"]
[null,null,null,null,null,null,null,null,null,null,null,null,null,null,null,"※","授業時間ではないところに「×」と入力すると、日"]
[null,null,null,null,null,null,"前",null,null,null,null,null,null,null,null,null,"案の該当時間の枠が灰色になります。また、「なし」"]
[null,null,null,null,null,null,null,null,null,null,null,null,null,null,null,null,"と入力すると、日案の該当時間の枠内は灰色になら"]
[null,null,null,null,null,null,null,null,null,null,null,null,null,null,null,null,"ず、授業枠に「なし」と表示されます。どちらも必"]
[null,null,null,null,null,null,null,null,null,null,null,null,null,null,null,null,"要ない場合は、何も入力しないでください。"]
[null,null,null,null,null,null,null,null,null,null,null,null,null,null,null,"※","隔週で授業が入れ替わる場合は、どちらかを入れて"]
[null,null,null,null,null,null,null,null,null,null,null,null,null,null,null,null,"おき、入力していない方の授業を日案上の授業枠に"]
[null,null,null,null,null,null,null,null,null,null,null,null,null,null,null,null,"手入力してください。"]
[null,null,null,null,null,null,null,null,null,null,null,null,null,null,null,"※","年度の途中で時間割を変えても、これまでに入力さ"]
["＜○学期＞シートより",null,null,null,null,null,null,null,null,null,null,null,null,null,null,null,"れた日案の授業は変更されません。"]
[null,null,null,null,null,null,null,null,null,null,null,null,null,null,7,"知多カリデータ呼び込み"]
[null,null,"４で入力した授業等",null,null,null,null,null,null,null,null,null,null,null,null,"※","知多カリデータを取り込まなくてもこのソフトを利"]
[null,null,null,null,null,"↓",null,null,null,null,null,null,null,null,null,null,"用することはできますが、取り込んでおくと＜○学"]
[null,1,null,null,null,null,null,null,null,null,"←授業No",null,null,null,null,null,"期＞シート内で単元名と内容を自動で表示すること"]
[null,null,null,null,null,null,null,null,null,null,"←単元名",null,null,null,null,null,"ができるようになります。"]
[null,null,null,null,null,null,null,null,null,null,null,null,null,null,null,"※","知多カリデータを取り込む場合は、事前に知多教育"]
[null,null,null,null,null,null,null,null,null,null,"←内容",null,null,null,null,null,"事務所ＨＰより最新の知多カリデータをダウンロー"]
[null,null,null,null,null,null,null,null,null,null,null,null,null,null,null,null,"ドしておいてください。"]
[null,null,null,null,null,null,null,null,null,null,null,null,null,null,null,"※","全ての教科の知多カリデータを取り込むこともでき"]
[null,null,null,null,null,null,null,null,null,null,null,null,null,null,null,null,"ますが、その分ファイルサイズが大きくなるので注"]
[null,null,null,null,null,null,null,null,null,null,null,null,null,null,null,null,"意してください。"]
[null,null,null,null,null,null,null,null,null,null,null,null,null,null,null,"※","＜単元・内容＞にすでに知多カリデータが入ってい"]
[null,null,null,null,null,null,null,null,null,null,null,null,null,null,null,null,"る状態で知多カリデータを取り込む場合、追加で取"]
[null,null,null,null,null,null,null,null,null,null,null,null,null,null,null,null,"り込むか、入力されているデータを消去して取り込"]
[null,null,null,null,null,null,null,null,null,null,null,null,null,null,null,null,"むかを選ぶことができます。"]
[null,null,null,null,null,null,null,null,null,null,null,null,null,null,null,"※","旧教科書を使用する場合は、その教科書が使われて"]
["＜○学期＞シートより",null,null,null,null,null,null,null,null,null,null,null,null,null,null,null,"いた年度の知多カリデータも取り込んでください。"]
[]
["Ｂ．＜単元・内容＞シート"]
[]
[null,null,null,null,null,null,null,"国語"]
[]
[null,null,"No",null,null,null,null,"学年",null,"単元名",null,null,null,null,null,null,"内容"]
[null,null,1,null,null,null,null,1,null,"つづけよう①",null,null,null,null,null,null,"詩を楽しんだり想像を広げたりして読む。"]
[]
[null,"①","各教科、その他の学年、単元名、内容を入力します。"]
[null,null,"※","Ａは国語、書写、社会、算数、理科、生活、音楽、図工、家庭、体育、外国語と＜設定＞シ"]
[null,null,null,"ートの３で入力した教科名、その他名が入っています。"]
[null,null,"※","＜設定＞シートの７で取り込んだ知多カリデータに、新たに追加したり、入力されているも"]
[null,null,null,"のを訂正したりすることができます。"]
[null,null,"※","＜設定＞シートの３で入力した教科、その他にも各々で単元名、内容を入力して日案に反映"]
[null,null,null,"させることができます。"]
[null,null,"※","Ｂの【知多ｶﾘ消去】ボタンを押し、「国語から外国語まで」「全て」のどちらかを選ぶこと"]
[null,null,null,"で、知多カリデータを一括消去することができます。消去した知多カリデータは戻らないの"]
[null,null,null,"で注意してください。"]
[null,null,"※","Ｃの【非表示】ボタンを押すと、国語から外国語までは学年、単元名、内容のいずれも入力"]
[null,null,null,"されていない教科、その他はＡに何も入力されていない教科を非表示にすることができます。"]
[null,null,null,"また、【非表示】ボタンを押すと、【非表示】ボタンが【全表示】ボタンに変わりますので、"]
[null,null,null,"【全表示】ボタンを押すと、全ての教科を表示することができます。"]
[]
["Ｃ．＜○学期＞シート"]
[null,null,null,null,null,null,null,null,null,null,null,null,null,null,1,"日にち"]
[null,null,null,null,null,null,null,null,null,null,null,null,null,null,null,"①","週休日に行事等がある場合は、週休日の振り替えら"]
[null,null,null,null,"2023-05-22",null,null,null,null,null,null,null,null,null,null,null,"れた日の欄に、行事等のある日にちを入力して使う"]
[null,null,null,null,"月",null,null,null,null,null,null,null,null,null,null,null,"ことができます。"]
[null,null,null,null,null,null,null,null,null,null,null,null,null,null,null,null,"※","曜日は自動で変更されます。曜日が正しく出な"]
[null,null,null,null,null,null,null,null,null,null,null,null,null,null,null,null,null,"い場合は、日にちを西暦から入力してください。"]
[null,null,null,null,null,null,null,null,null,null,null,null,null,null,2,"備考"]
[null,null,null,null,null,null,null,null,null,null,null,null,null,null,null,"①","３行とも自由に入力ができます。"]
[null,"備考","休日",null,null,null,null,null,null,null,null,null,null,null,null,null,"※","１行目に「休日」と入力すると、その日の枠が"]
[null,null,null,null,null,null,null,null,null,null,null,null,null,null,null,null,null,"桃色になります。"]
[null,null,null,null,null,null,null,null,null,null,null,null,null,null,null,null,"※","１行目に「月」から「金」と入力すると、その"]
[null,null,null,null,null,null,null,null,null,null,null,null,null,null,null,null,null,"日の枠に入力した曜日の授業が入ります。"]
[null,null,null,null,null,null,null,null,null,null,null,null,null,null,3,"行う授業"]
[null,null,null,null,null,null,"2023-05-22",null,null,null,null,null,null,null,null,"①","その時間に行う授業等を入力します。"]
[null,null,null,null,null,null,"月",null,null,null,null,null,null,null,null,null,"※","①にカーソルを合わせると、＜設定＞シートの"]
[null,null,null,null,null,"前",null,null,null,null,null,null,null,null,null,null,null,"４で入力した授業等がリストから選べます。"]
[null,null,null,null,null,1,null,null,null,null,null,null,null,null,null,null,"※","「×」を入力すると、その授業枠が灰色になり"]
[null,null,null,null,null,null,null,null,null,null,null,null,null,null,null,null,null,"ます。"]
[null,null,null,null,null,null,null,null,null,null,null,null,null,null,null,null,"※","Ａの【時間割複写】ボタンを押すと、カーソル"]
[null,null,null,null,null,null,null,null,null,null,null,null,null,null,"　",null,null,"が置かれた週の該当曜日に＜設定＞シートの６"]
[null,null,null,null,null,null,null,null,null,null,null,null,null,null,null,null,null,"で入力した時間割を複写します。"]
[null,null,null,null,null,null,null,null,null,null,null,null,null,null,null,null,"※","２　備考の１行目に「休日」と入力された日に"]
[null,null,null,null,null,null,null,null,null,null,null,null,null,null,null,null,null,"は時間割は複写されません。"]
[null,null,null,null,null,null,null,null,null,null,null,null,null,null,null,null,"※","①に入力した後に＜設定＞シートの時間割を変"]
[null,null,null,null,null,null,null,null,null,null,null,null,null,null,null,null,null,"えても、入力された授業は変わりません。"]
[null,null,null,null,null,null,null,null,null,null,null,null,null,null,4,"授業No"]
[null,null,null,null,null,null,"2023-05-22",null,null,null,null,null,null,null,null,"①","＜単元・内容＞シートで割り振った授業Noを入力"]
[null,null,null,null,null,null,"月",null,null,null,null,null,null,null,null,null,"します。"]
[null,null,null,null,null,"前",null,null,null,null,null,null,null,null,null,null,"※","Ａには＜単元・内容＞シートで割り振られた授"]
[null,null,null,null,null,1,"6-1国語",null,null,null,null,null,null,null,null,null,null,"業の単元名、Ｂには授業の内容が自動で表示さ"]
[null,null,null,null,null,null,null,null,null,null,null,null,null,null,null,null,null,"れます。"]
[null,null,null,null,null,null,null,null,null,null,null,null,null,null,null,null,"※","①にカーソルを合わせると、その時間の授業No"]
[null,null,null,null,null,null,null,null,null,null,null,null,null,null,null,null,null,"の候補がリストに出ます。"]
[null,null,null,null,null,null,null,null,null,null,null,null,null,null,null,null,"※","①に必ず授業Noを入力しなくてはいけない訳で"]
[null,null,null,null,null,null,null,null,null,null,null,null,null,null,null,null,null,"はありません。Ａ、Ｂには直接単元名、内容を"]
[null,null,null,null,null,null,null,null,null,null,null,null,null,null,null,null,null,"入力することができます。"]
[null,null,null,null,null,null,null,null,null,null,null,null,null,null,null,null,"※","Ｃの【授業読込】ボタンを押すと、３　行う授"]
[null,null,null,null,null,null,null,null,null,null,null,null,null,null,null,null,null,"業で入力された時間割に自動で候補の授業Noを"]
[null,null,null,null,null,null,null,null,null,null,null,null,null,null,null,null,null,"読み込みます。"]
[null,null,null,null,null,null,null,null,null,null,null,null,null,null,5,"授業の単元名、内容"]
[null,null,null,"2023-05-22",null,null,null,null,null,null,null,null,null,null,null,"①","その授業の単元名を入力し、文字サイズを調整しま"]
[null,null,null,"月",null,null,null,null,null,null,null,null,null,null,null,null,"す。"]
[null,null,"前",null,null,null,null,null,null,null,null,null,null,null,null,"②","その授業の内容を入力し、文字サイズを調整します。"]
[null,null,1,"6-1国語",null,null,null,null,32,null,null,null,null,null,null,null,"※","４　授業Noで自動入力された単元名、内容も"]
[null,null,null,"本は友達",null,null,null,null,null,null,null,null,null,null,null,null,null,"直接変更することができます。"]
[null,null,null,"書いた文章を読み合っ",null,null,null,null,null,null,null,null,null,null,null,null,"※","単元名、内容の文字サイズを自動で調整する機"]
[null,null,null,"て，感じたことや考え",null,null,null,null,null,null,null,null,null,null,null,null,null,"能が付いていますが、ＰＣ、プリンタなどの環"]
[null,null,null,"たことを伝え合う。",null,null,null,null,null,null,null,null,null,null,null,null,null,"境によってうまく調整できないことがあります。"]
[null,null,null,null,null,null,null,null,null,null,null,null,null,null,null,null,null,"必要であれば文字サイズの調整をしてください。"]
[]
[null,null,null,null,null,null,null,null,null,null,null,null,null,null,6,"日案の印刷"]
[null,null,null,null,null,null,"2023-05-22",null,null,null,null,null,null,null,null,"①","全ての項目の入力が終わったら、日案の印刷をしま"]
[null,null,null,null,null,null,"月",null,null,null,null,null,null,null,null,null,"す。"]
[null,null,null,null,null,"前",null,null,null,null,null,null,null,null,null,null,"※","Ａの【選択頁印刷】ボタンを押すと、カーソル"]
[null,null,null,null,null,1,"6-1国語",null,null,null,null,32,null,null,null,null,null,"が置かれた週のページのみ印刷することができ"]
[null,null,null,null,null,null,"本は友達",null,null,null,null,null,null,null,null,null,null,"ます。"]
[null,null,null,null,null,null,"書いた文章を読み合っ"]
[]
[]
["Ｄ．＜集計表＞シート"]
[]
[]
[null,"時　間\n教　科\n等",null,null,null,null,"時　　　　　",null,null,null,null,null,null,null,null,null,null,null,null,null,null,"１学期まで"]
[null,null,null,null,null,null,"１　　学　　期",null,null,null,null,null,null,null,null,null,null,null,null,null,null,"標準\n時間数",null,null,null,"実施\n時間数",null,null,null,"±"]
[null,null,null,null,null,null,"標　準",null,null,null,"実　施",null,null,null,"±",null,null,null,null,"…"]
[null,"6-1国語",null,null,null,null,null,null,null,null,49]
[]
[]
[]
[null,"①","各教科の標準時間数を入力します。"]
[null,null,"※","枠外にある【標準授業時数自動入力】ボタンを押すと、枠外の標準授業時数の表から該当す"]
[null,null,null,"る時数を自動入力します。"]
[null,null,"※","枠外の標準授業時数の表は変更可能です。"]
[null,null,"※","Ａ、Ｂ、Ｃは自動で入力されます。"]
[null,null,"※","Ｄは＜２学期＞シートの入力が確認されたら「２学期まで」に、＜３学期＞シートの入力が"]
[null,null,null,"確認されたら「年間」に自動で変更されます。"]
[null,null,"※","Ｅには職員名など、自由に文字を入力することができます。"]

{"sheet":"処理","index":9,"n_rows":1921,"n_cols":17,"rows_kept":1921,"cut":false,"hidden":true,"merged":[[0,5,0,10],[0,11,0,12]]}
["入学式曜日",{"$f":"MOD(WEEKDAY(DATE(設定!B4,4,設定!D4),12),7)","v":5},null,null,"教科Ｌ","時間割Ｌ",null,null,null,null,null,"帯",null,null,"No.",{"$f":"IF(COUNTIF(O2:O1921,1)=0,1,\"\")","v":1},"リスト"]
["9/1曜日",{"$f":"IF(MOD(WEEKDAY(DATE(設定!B4,9,1),12),7)<5,MOD(WEEKDAY(DATE(設定!B4,9,1),12),7),MOD(WEEKDAY(DATE(設定!B4,9,1),12),7)-7)","v":-2},null,null,"国語",{"$f":"IF(LEN(設定!B21)=0,\"\",0)","v":""},{"$f":"IF(LEN(F2)=0,\"\",設定!B21)","v":""},{"$f":"IF(LEN(F2)=0,\"\",ASC(設定!C21)&IF(設定!D21>1,\"帯\",\"\")&G2)","v":""},{"$f":"IFERROR(INDEX($H$2:$H$31,SMALL($F$2:$F$31,1)+1)&\"\",\"×\")","v":"×"},{"$f":"IF(設定!$C$32=\"しない\",F2,IF(LEN(F2)=0,\"\",IF(ISERROR(FIND(\"帯\",H2)),F2,IF(COUNTIF($H$2:$H$32,SUBSTITUTE(H2,\"帯\",\"\"))>0,\"\",F2))))","v":""},{"$f":"IFERROR(INDEX($H$2:$H$31,SMALL($J$2:$J$25,1)+1)&\"\",\"\")","v":""},{"$f":"IF(LEN(J2)=0,\"\",IF(設定!D21>1,\"\",IF(COUNTIF($H$2:$H$25,ASC(設定!C21)&\"帯\"&G2)>0,ASC(設定!C21)&\"帯\"&G2,\"\")))","v":""},{"$f":"IF(LEN(L2)=0,\"\",IF(設定!$C$32=\"しない\",\"\",INDEX(設定!$B$21:$O$26,MOD(INDEX($F$2:$F$25,MATCH(L2,$H$2:$H$25,0)),6)+1,3*QUOTIENT(INDEX($F$2:$F$25,MATCH(L2,$H$2:$H$25,0)),6)+3)))","v":""},null,{"$f":"IF(2<=$B$10,IF(LEN('１学期'!C6)=0,\"\",IF('１学期'!C6=$B$8,IF(LEN('１学期'!F6)=0,\"\",'１学期'!F6),\"\")),\"\")","v":""},{"$f":"IF(LEN(O2)=0,\"\",IF(COUNTIF(O2:$O$1921,O2+1)>0,\"\",O2+1))","v":""},{"$f":"IFERROR(SMALL($P$1:$P$1921,1),\"\")","v":1}]
["1/7曜日",{"$f":"IF(MOD(WEEKDAY(DATE(設定!B4+1,1,7),12),7)<5,MOD(WEEKDAY(DATE(設定!B4+1,1,7),12),7),MOD(WEEKDAY(DATE(設定!B4+1,1,7),12),7)-7)","v":0},null,null,"書写",{"$f":"IF(LEN(設定!B22)=0,\"\",1)","v":""},{"$f":"IF(LEN(F3)=0,\"\",設定!B22)","v":""},{"$f":"IF(LEN(F3)=0,\"\",ASC(設定!C22)&IF(設定!D22>1,\"帯\",\"\")&G3)","v":""},{"$f":"IFERROR(INDEX($H$2:$H$31,SMALL($F$2:$F$31,2)+1)&\"\",IF(COUNTIF($I$2:I2,\"×\")=0,\"×\",\"なし\"))","v":"なし"},{"$f":"IF(設定!$C$32=\"しない\",F3,IF(LEN(F3)=0,\"\",IF(ISERROR(FIND(\"帯\",H3)),F3,IF(COUNTIF($H$2:$H$32,SUBSTITUTE(H3,\"帯\",\"\"))>0,\"\",F3))))","v":""},{"$f":"IFERROR(INDEX($H$2:$H$31,SMALL($J$2:$J$25,2)+1)&\"\",\"\")","v":""},{"$f":"IF(LEN(J3)=0,\"\",IF(設定!D22>1,\"\",IF(COUNTIF($H$2:$H$25,ASC(設定!C22)&\"帯\"&G3)>0,ASC(設定!C22)&\"帯\"&G3,\"\")))","v":""},{"$f":"IF(LEN(L3)=0,\"\",IF(設定!$C$32=\"しない\",\"\",INDEX(設定!$B$21:$O$26,MOD(INDEX($F$2:$F$25,MATCH(L3,$H$2:$H$25,0)),6)+1,3*QUOTIENT(INDEX($F$2:$F$25,MATCH(L3,$H$2:$H$25,0)),6)+3)))","v":""},null,{"$f":"IF(3<=$B$10,IF(LEN('１学期'!C7)=0,\"\",IF('１学期'!C7=$B$8,IF(LEN('１学期'!F7)=0,\"\",'１学期'!F7),\"\")),\"\")","v":""},{"$f":"IF(LEN(O3)=0,\"\",IF(COUNTIF(O3:$O$1921,O3+1)>0,\"\",O3+1))","v":""},{"$f":"IFERROR(SMALL($P$1:$P$1921,2),\"\")","v":""}]
["日にち","2023-04-08",{"$f":"TEXT(B4,\"aaa\")","v":"土"},null,"社会",{"$f":"IF(LEN(設定!B23)=0,\"\",2)","v":""},{"$f":"IF(LEN(F4)=0,\"\",設定!B23)","v":""},{"$f":"IF(LEN(F4)=0,\"\",ASC(設定!C23)&IF(設定!D23>1,\"帯\",\"\")&G4)","v":""},{"$f":"IFERROR(INDEX($H$2:$H$31,SMALL($F$2:$F$31,3)+1)&\"\",IF(COUNTIF($I$2:I3,\"×\")=0,\"×\",IF(COUNTIF($I$2:I3,\"なし\")=0,\"なし\",\"\")))","v":""},{"$f":"IF(設定!$C$32=\"しない\",F4,IF(LEN(F4)=0,\"\",IF(ISERROR(FIND(\"帯\",H4)),F4,IF(COUNTIF($H$2:$H$32,SUBSTITUTE(H4,\"帯\",\"\"))>0,\"\",F4))))","v":""},{"$f":"IFERROR(INDEX($H$2:$H$31,SMALL($J$2:$J$25,3)+1)&\"\",\"\")","v":""},{"$f":"IF(LEN(J4)=0,\"\",IF(設定!D23>1,\"\",IF(COUNTIF($H$2:$H$25,ASC(設定!C23)&\"帯\"&G4)>0,ASC(設定!C23)&\"帯\"&G4,\"\")))","v":""},{"$f":"IF(LEN(L4)=0,\"\",IF(設定!$C$32=\"しない\",\"\",INDEX(設定!$B$21:$O$26,MOD(INDEX($F$2:$F$25,MATCH(L4,$H$2:$H$25,0)),6)+1,3*QUOTIENT(INDEX($F$2:$F$25,MATCH(L4,$H$2:$H$25,0)),6)+3)))","v":""},null,{"$f":"IF(4<=$B$10,IF(LEN('１学期'!C10)=0,\"\",IF('１学期'!C10=$B$8,IF(LEN('１学期'!F10)=0,\"\",'１学期'!F10),\"\")),\"\")","v":""},{"$f":"IF(LEN(O4)=0,\"\",IF(COUNTIF(O4:$O$1921,O4+1)>0,\"\",O4+1))","v":""},{"$f":"IFERROR(SMALL($P$1:$P$1921,3),\"\")","v":""}]
["授業No",1,null,null,"算数",{"$f":"IF(LEN(設定!B24)=0,\"\",3)","v":""},{"$f":"IF(LEN(F5)=0,\"\",設定!B24)","v":""},{"$f":"IF(LEN(F5)=0,\"\",ASC(設定!C24)&IF(設定!D24>1,\"帯\",\"\")&G5)","v":""},{"$f":"IFERROR(INDEX($H$2:$H$31,SMALL($F$2:$F$31,4)+1)&\"\",IF(COUNTIF($I$2:I4,\"×\")=0,\"×\",IF(COUNTIF($I$2:I4,\"なし\")=0,\"なし\",\"\")))","v":""},{"$f":"IF(設定!$C$32=\"しない\",F5,IF(LEN(F5)=0,\"\",IF(ISERROR(FIND(\"帯\",H5)),F5,IF(COUNTIF($H$2:$H$32,SUBSTITUTE(H5,\"帯\",\"\"))>0,\"\",F5))))","v":""},{"$f":"IFERROR(INDEX($H$2:$H$31,SMALL($J$2:$J$25,4)+1)&\"\",\"\")","v":""},{"$f":"IF(LEN(J5)=0,\"\",IF(設定!D24>1,\"\",IF(COUNTIF($H$2:$H$25,ASC(設定!C24)&\"帯\"&G5)>0,ASC(設定!C24)&\"帯\"&G5,\"\")))","v":""},{"$f":"IF(LEN(L5)=0,\"\",IF(設定!$C$32=\"しない\",\"\",INDEX(設定!$B$21:$O$26,MOD(INDEX($F$2:$F$25,MATCH(L5,$H$2:$H$25,0)),6)+1,3*QUOTIENT(INDEX($F$2:$F$25,MATCH(L5,$H$2:$H$25,0)),6)+3)))","v":""},null,{"$f":"IF(5<=$B$10,IF(LEN('１学期'!C13)=0,\"\",IF('１学期'!C13=$B$8,IF(LEN('１学期'!F13)=0,\"\",'１学期'!F13),\"\")),\"\")","v":""},{"$f":"IF(LEN(O5)=0,\"\",IF(COUNTIF(O5:$O$1921,O5+1)>0,\"\",O5+1))","v":""},{"$f":"IFERROR(SMALL($P$1:$P$1921,4),\"\")","v":""}]
["授業単元",{"$f":"IFERROR(IF(LEN(B5)=0,\"\",INDEX(単元・内容!$B$3:$BR$1402,B5,MATCH(INDEX($G$2:$G$25,MATCH(B8,$H$2:$H$25,0)),単元・内容!$B$1:$BR$1,0)+1)&\"\"),\"\")","v":""},{"$f":"INDEX($G$2:$G$31,MATCH(B8,$H$2:$H$31,0))","v":{"$error":"#N/A"}},{"$f":"IF(LENB(B6)<=18,9,IF(LENB(B6)<=20,8,IF(LENB(B6)<=48,7,IF(LENB(B6)<=56,6,5))))","v":9},"理科",{"$f":"IF(LEN(設定!B25)=0,\"\",4)","v":""},{"$f":"IF(LEN(F6)=0,\"\",設定!B25)","v":""},{"$f":"IF(LEN(F6)=0,\"\",ASC(設定!C25)&IF(設定!D25>1,\"帯\",\"\")&G6)","v":""},{"$f":"IFERROR(INDEX($H$2:$H$31,SMALL($F$2:$F$31,5)+1)&\"\",IF(COUNTIF($I$2:I5,\"×\")=0,\"×\",IF(COUNTIF($I$2:I5,\"なし\")=0,\"なし\",\"\")))","v":""},{"$f":"IF(設定!$C$32=\"しない\",F6,IF(LEN(F6)=0,\"\",IF(ISERROR(FIND(\"帯\",H6)),F6,IF(COUNTIF($H$2:$H$32,SUBSTITUTE(H6,\"帯\",\"\"))>0,\"\",F6))))","v":""},{"$f":"IFERROR(INDEX($H$2:$H$31,SMALL($J$2:$J$25,5)+1)&\"\",\"\")","v":""},{"$f":"IF(LEN(J6)=0,\"\",IF(設定!D25>1,\"\",IF(COUNTIF($H$2:$H$25,ASC(設定!C25)&\"帯\"&G6)>0,ASC(設定!C25)&\"帯\"&G6,\"\")))","v":""},{"$f":"IF(LEN(L6)=0,\"\",IF(設定!$C$32=\"しない\",\"\",INDEX(設定!$B$21:$O$26,MOD(INDEX($F$2:$F$25,MATCH(L6,$H$2:$H$25,0)),6)+1,3*QUOTIENT(INDEX($F$2:$F$25,MATCH(L6,$H$2:$H$25,0)),6)+3)))","v":""},null,{"$f":"IF(6<=$B$10,IF(LEN('１学期'!C16)=0,\"\",IF('１学期'!C16=$B$8,IF(LEN('１学期'!F16)=0,\"\",'１学期'!F16),\"\")),\"\")","v":""},{"$f":"IF(LEN(O6)=0,\"\",IF(COUNTIF(O6:$O$1921,O6+1)>0,\"\",O6+1))","v":""},{"$f":"IFERROR(SMALL($P$1:$P$1921,5),\"\")","v":""}]
["授業内容",{"$f":"IFERROR(IF(LEN(B5)=0,\"\",INDEX(単元・内容!$B$3:$BR$1402,B5,MATCH(INDEX($G$2:$G$25,MATCH(B8,$H$2:$H$25,0)),単元・内容!$B$1:$BR$1,0)+2)&\"\"),\"\")","v":""},{"$f":"IF(ISERROR(FIND(\"★\",B7)),B7,LEFT(B7,FIND(\"★\",B7)-1))","v":""},{"$f":"IF(LENB(C7)<=108,9,IF(LENB(C7)<=140,8,IF(LENB(C7)<=168,7,IF(LENB(C7)<=224,6,5))))","v":9},"生活",{"$f":"IF(LEN(設定!B26)=0,\"\",5)","v":""},{"$f":"IF(LEN(F7)=0,\"\",設定!B26)","v":""},{"$f":"IF(LEN(F7)=0,\"\",ASC(設定!C26)&IF(設定!D26>1,\"帯\",\"\")&G7)","v":""},{"$f":"IFERROR(INDEX($H$2:$H$31,SMALL($F$2:$F$31,6)+1)&\"\",IF(COUNTIF($I$2:I6,\"×\")=0,\"×\",IF(COUNTIF($I$2:I6,\"なし\")=0,\"なし\",\"\")))","v":""},{"$f":"IF(設定!$C$32=\"しない\",F7,IF(LEN(F7)=0,\"\",IF(ISERROR(FIND(\"帯\",H7)),F7,IF(COUNTIF($H$2:$H$32,SUBSTITUTE(H7,\"帯\",\"\"))>0,\"\",F7))))","v":""},{"$f":"IFERROR(INDEX($H$2:$H$31,SMALL($J$2:$J$25,6)+1)&\"\",\"\")","v":""},{"$f":"IF(LEN(J7)=0,\"\",IF(設定!D26>1,\"\",IF(COUNTIF($H$2:$H$25,ASC(設定!C26)&\"帯\"&G7)>0,ASC(設定!C26)&\"帯\"&G7,\"\")))","v":""},{"$f":"IF(LEN(L7)=0,\"\",IF(設定!$C$32=\"しない\",\"\",INDEX(設定!$B$21:$O$26,MOD(INDEX($F$2:$F$25,MATCH(L7,$H$2:$H$25,0)),6)+1,3*QUOTIENT(INDEX($F$2:$F$25,MATCH(L7,$H$2:$H$25,0)),6)+3)))","v":""},null,{"$f":"IF(7<=$B$10,IF(LEN('１学期'!C19)=0,\"\",IF('１学期'!C19=$B$8,IF(LEN('１学期'!F19)=0,\"\",'１学期'!F19),\"\")),\"\")","v":""},{"$f":"IF(LEN(O7)=0,\"\",IF(COUNTIF(O7:$O$1921,O7+1)>0,\"\",O7+1))","v":""},{"$f":"IFERROR(SMALL($P$1:$P$1921,6),\"\")","v":""}]
["授業",null,"１学期",null,"音楽",{"$f":"IF(LEN(設定!E21)=0,\"\",6)","v":""},{"$f":"IF(LEN(F8)=0,\"\",設定!E21)","v":""},{"$f":"IF(LEN(F8)=0,\"\",ASC(設定!F21)&IF(設定!G21>1,\"帯\",\"\")&G8)","v":""},{"$f":"IFERROR(INDEX($H$2:$H$31,SMALL($F$2:$F$31,7)+1)&\"\",IF(COUNTIF($I$2:I7,\"×\")=0,\"×\",IF(COUNTIF($I$2:I7,\"なし\")=0,\"なし\",\"\")))","v":""},{"$f":"IF(設定!$C$32=\"しない\",F8,IF(LEN(F8)=0,\"\",IF(ISERROR(FIND(\"帯\",H8)),F8,IF(COUNTIF($H$2:$H$32,SUBSTITUTE(H8,\"帯\",\"\"))>0,\"\",F8))))","v":""},{"$f":"IFERROR(INDEX($H$2:$H$31,SMALL($J$2:$J$25,7)+1)&\"\",\"\")","v":""},{"$f":"IF(LEN(J8)=0,\"\",IF(設定!D27>1,\"\",IF(COUNTIF($H$2:$H$25,ASC(設定!C27)&\"帯\"&G8)>0,ASC(設定!C27)&\"帯\"&G8,\"\")))","v":""},{"$f":"IF(LEN(L8)=0,\"\",IF(設定!$C$32=\"しない\",\"\",INDEX(設定!$B$21:$O$26,MOD(INDEX($F$2:$F$25,MATCH(L8,$H$2:$H$25,0)),6)+1,3*QUOTIENT(INDEX($F$2:$F$25,MATCH(L8,$H$2:$H$25,0)),6)+3)))","v":""},null,{"$f":"IF(8<=$B$10,IF(LEN('１学期'!C22)=0,\"\",IF('１学期'!C22=$B$8,IF(LEN('１学期'!F22)=0,\"\",'１学期'!F22),\"\")),\"\")","v":""},{"$f":"IF(LEN(O8)=0,\"\",IF(COUNTIF(O8:$O$1921,O8+1)>0,\"\",O8+1))","v":""},{"$f":"IFERROR(SMALL($P$1:$P$1921,7),\"\")","v":""}]
["選択セル",6,6,null,"図工",{"$f":"IF(LEN(設定!E22)=0,\"\",7)","v":""},{"$f":"IF(LEN(F9)=0,\"\",設定!E22)","v":""},{"$f":"IF(LEN(F9)=0,\"\",ASC(設定!F22)&IF(設定!G22>1,\"帯\",\"\")&G9)","v":""},{"$f":"IFERROR(INDEX($H$2:$H$31,SMALL($F$2:$F$31,8)+1)&\"\",IF(COUNTIF($I$2:I8,\"×\")=0,\"×\",IF(COUNTIF($I$2:I8,\"なし\")=0,\"なし\",\"\")))","v":""},{"$f":"IF(設定!$C$32=\"しない\",F9,IF(LEN(F9)=0,\"\",IF(ISERROR(FIND(\"帯\",H9)),F9,IF(COUNTIF($H$2:$H$32,SUBSTITUTE(H9,\"帯\",\"\"))>0,\"\",F9))))","v":""},{"$f":"IFERROR(INDEX($H$2:$H$31,SMALL($J$2:$J$25,8)+1)&\"\",\"\")","v":""},{"$f":"IF(LEN(J9)=0,\"\",IF(設定!D29>1,\"\",IF(COUNTIF($H$2:$H$25,ASC(設定!C29)&\"帯\"&G9)>0,ASC(設定!C29)&\"帯\"&G9,\"\")))","v":""},{"$f":"IF(LEN(L9)=0,\"\",IF(設定!$C$32=\"しない\",\"\",INDEX(設定!$B$21:$O$26,MOD(INDEX($F$2:$F$25,MATCH(L9,$H$2:$H$25,0)),6)+1,3*QUOTIENT(INDEX($F$2:$F$25,MATCH(L9,$H$2:$H$25,0)),6)+3)))","v":""},null,{"$f":"IF(9<=$B$10,IF(LEN('１学期'!C25)=0,\"\",IF('１学期'!C25=$B$8,IF(LEN('１学期'!F25)=0,\"\",'１学期'!F25),\"\")),\"\")","v":""},{"$f":"IF(LEN(O9)=0,\"\",IF(COUNTIF(O9:$O$1921,O9+1)>0,\"\",O9+1))","v":""},{"$f":"IFERROR(SMALL($P$1:$P$1921,8),\"\")","v":""}]
["範囲",{"$f":"QUOTIENT(B9,3)+QUOTIENT(C9-6,4)*8+CHOOSE(VALUE(LEFT(C8)),0,680,1400)","v":2},null,null,"家庭",{"$f":"IF(LEN(設定!E23)=0,\"\",8)","v":""},{"$f":"IF(LEN(F10)=0,\"\",設定!E23)","v":""},{"$f":"IF(LEN(F10)=0,\"\",ASC(設定!F23)&IF(設定!G23>1,\"帯\",\"\")&G10)","v":""},{"$f":"IFERROR(INDEX($H$2:$H$31,SMALL($F$2:$F$31,9)+1)&\"\",IF(COUNTIF($I$2:I9,\"×\")=0,\"×\",IF(COUNTIF($I$2:I9,\"なし\")=0,\"なし\",\"\")))","v":""},{"$f":"IF(設定!$C$32=\"しない\",F10,IF(LEN(F10)=0,\"\",IF(ISERROR(FIND(\"帯\",H10)),F10,IF(COUNTIF($H$2:$H$32,SUBSTITUTE(H10,\"帯\",\"\"))>0,\"\",F10))))","v":""},{"$f":"IFERROR(INDEX($H$2:$H$31,SMALL($J$2:$J$25,9)+1)&\"\",\"\")","v":""},{"$f":"IF(LEN(J10)=0,\"\",IF(設定!D31>1,\"\",IF(COUNTIF($H$2:$H$25,ASC(設定!C31)&\"帯\"&G10)>0,ASC(設定!C31)&\"帯\"&G10,\"\")))","v":""},{"$f":"IF(LEN(L10)=0,\"\",IF(設定!$C$32=\"しない\",\"\",INDEX(設定!$B$21:$O$26,MOD(INDEX($F$2:$F$25,MATCH(L10,$H$2:$H$25,0)),6)+1,3*QUOTIENT(INDEX($F$2:$F$25,MATCH(L10,$H$2:$H$25,0)),6)+3)))","v":""},null,{"$f":"IF(10<=$B$10,IF(LEN('１学期'!G6)=0,\"\",IF('１学期'!G6=$B$8,IF(LEN('１学期'!J6)=0,\"\",'１学期'!J6),\"\")),\"\")","v":""},{"$f":"IF(LEN(O10)=0,\"\",IF(COUNTIF(O10:$O$1921,O10+1)>0,\"\",O10+1))","v":""},{"$f":"IFERROR(SMALL($P$1:$P$1921,9),\"\")","v":""}]
["教科",1,null,null,"体育",{"$f":"IF(LEN(設定!E24)=0,\"\",9)","v":""},{"$f":"IF(LEN(F11)=0,\"\",設定!E24)","v":""},{"$f":"IF(LEN(F11)=0,\"\",ASC(設定!F24)&IF(設定!G24>1,\"帯\",\"\")&G11)","v":""},{"$f":"IFERROR(INDEX($H$2:$H$31,SMALL($F$2:$F$31,10)+1)&\"\",IF(COUNTIF($I$2:I10,\"×\")=0,\"×\",IF(COUNTIF($I$2:I10,\"なし\")=0,\"なし\",\"\")))","v":""},{"$f":"IF(設定!$C$32=\"しない\",F11,IF(LEN(F11)=0,\"\",IF(ISERROR(FIND(\"帯\",H11)),F11,IF(COUNTIF($H$2:$H$32,SUBSTITUTE(H11,\"帯\",\"\"))>0,\"\",F11))))","v":""},{"$f":"IFERROR(INDEX($H$2:$H$31,SMALL($J$2:$J$25,10)+1)&\"\",\"\")","v":""},{"$f":"IF(LEN(J11)=0,\"\",IF(設定!D32>1,\"\",IF(COUNTIF($H$2:$H$25,ASC(設定!C32)&\"帯\"&G11)>0,ASC(設定!C32)&\"帯\"&G11,\"\")))","v":""},{"$f":"IF(LEN(L11)=0,\"\",IF(設定!$C$32=\"しない\",\"\",INDEX(設定!$B$21:$O$26,MOD(INDEX($F$2:$F$25,MATCH(L11,$H$2:$H$25,0)),6)+1,3*QUOTIENT(INDEX($F$2:$F$25,MATCH(L11,$H$2:$H$25,0)),6)+3)))","v":""},null,{"$f":"IF(11<=$B$10,IF(LEN('１学期'!G7)=0,\"\",IF('１学期'!G7=$B$8,IF(LEN('１学期'!J7)=0,\"\",'１学期'!J7),\"\")),\"\")","v":""},{"$f":"IF(LEN(O11)=0,\"\",IF(COUNTIF(O11:$O$1921,O11+1)>0,\"\",O11+1))","v":""},{"$f":"IFERROR(SMALL($P$1:$P$1921,10),\"\")","v":""}]
["貼付先セル",{"$f":"ADDRESS(COUNT(INDEX(単元・内容!B3:AH1402,0,3*B11-2))+3,B11*3,4)&\":\"&ADDRESS(COUNT(INDEX(単元・内容!B3:AH1402,0,3*B11-2))+302,B11*3+1,4)","v":"C3:D302"},{"$f":"ADDRESS(COUNT(INDEX(単元・内容!B3:AH1402,0,3*B11-2))+3,B11*3-1,4)&\":\"&ADDRESS(COUNTA(INDEX(単元・内容!B3:AH1402,0,3*B11-1))+2,B11*3-1,4)","v":"B3:B2"},null,"外国語",{"$f":"IF(LEN(設定!E25)=0,\"\",10)","v":""},{"$f":"IF(LEN(F12)=0,\"\",設定!E25)","v":""},{"$f":"IF(LEN(F12)=0,\"\",ASC(設定!F25)&IF(設定!G25>1,\"帯\",\"\")&G12)","v":""},{"$f":"IFERROR(INDEX($H$2:$H$31,SMALL($F$2:$F$31,11)+1)&\"\",IF(COUNTIF($I$2:I11,\"×\")=0,\"×\",IF(COUNTIF($I$2:I11,\"なし\")=0,\"なし\",\"\")))","v":""},{"$f":"IF(設定!$C$32=\"しない\",F12,IF(LEN(F12)=0,\"\",IF(ISERROR(FIND(\"帯\",H12)),F12,IF(COUNTIF($H$2:$H$32,SUBSTITUTE(H12,\"帯\",\"\"))>0,\"\",F12))))","v":""},{"$f":"IFERROR(INDEX($H$2:$H$31,SMALL($J$2:$J$25,11)+1)&\"\",\"\")","v":""},{"$f":"IF(LEN(J12)=0,\"\",IF(設定!D33>1,\"\",IF(COUNTIF($H$2:$H$25,ASC(設定!C33)&\"帯\"&G12)>0,ASC(設定!C33)&\"帯\"&G12,\"\")))","v":""},{"$f":"IF(LEN(L12)=0,\"\",IF(設定!$C$32=\"しない\",\"\",INDEX(設定!$B$21:$O$26,MOD(INDEX($F$2:$F$25,MATCH(L12,$H$2:$H$25,0)),6)+1,3*QUOTIENT(INDEX($F$2:$F$25,MATCH(L12,$H$2:$H$25,0)),6)+3)))","v":""},null,{"$f":"IF(12<=$B$10,IF(LEN('１学期'!G10)=0,\"\",IF('１学期'!G10=$B$8,IF(LEN('１学期'!J10)=0,\"\",'１学期'!J10),\"\")),\"\")","v":""},{"$f":"IF(LEN(O12)=0,\"\",IF(COUNTIF(O12:$O$1921,O12+1)>0,\"\",O12+1))","v":""},{"$f":"IFERROR(SMALL($P$1:$P$1921,11),\"\")","v":""}]
["貼付元セル",{"$f":"ADDRESS(3,B11*2,4)&\":\"&ADDRESS(302,B11*2+1,4)","v":"B3:C302"},null,null,{"$f":"設定!B12&\"\"","v":""},{"$f":"IF(LEN(設定!E26)=0,\"\",11)","v":""},{"$f":"IF(LEN(F13)=0,\"\",設定!E26)","v":""},{"$f":"IF(LEN(F13)=0,\"\",ASC(設定!F26)&IF(設定!G26>1,\"帯\",\"\")&G13)","v":""},{"$f":"IFERROR(INDEX($H$2:$H$31,SMALL($F$2:$F$31,12)+1)&\"\",IF(COUNTIF($I$2:I12,\"×\")=0,\"×\",IF(COUNTIF($I$2:I12,\"なし\")=0,\"なし\",\"\")))","v":""},{"$f":"IF(設定!$C$32=\"しない\",F13,IF(LEN(F13)=0,\"\",IF(ISERROR(FIND(\"帯\",H13)),F13,IF(COUNTIF($H$2:$H$32,SUBSTITUTE(H13,\"帯\",\"\"))>0,\"\",F13))))","v":""},{"$f":"IFERROR(INDEX($H$2:$H$31,SMALL($J$2:$J$25,12)+1)&\"\",\"\")","v":""},{"$f":"IF(LEN(J13)=0,\"\",IF(設定!D34>1,\"\",IF(COUNTIF($H$2:$H$25,ASC(設定!C34)&\"帯\"&G13)>0,ASC(設定!C34)&\"帯\"&G13,\"\")))","v":""},{"$f":"IF(LEN(L13)=0,\"\",IF(設定!$C$32=\"しない\",\"\",INDEX(設定!$B$21:$O$26,MOD(INDEX($F$2:$F$25,MATCH(L13,$H$2:$H$25,0)),6)+1,3*QUOTIENT(INDEX($F$2:$F$25,MATCH(L13,$H$2:$H$25,0)),6)+3)))","v":""},null,{"$f":"IF(13<=$B$10,IF(LEN('１学期'!G13)=0,\"\",IF('１学期'!G13=$B$8,IF(LEN('１学期'!J13)=0,\"\",'１学期'!J13),\"\")),\"\")","v":""},{"$f":"IF(LEN(O13)=0,\"\",IF(COUNTIF(O13:$O$1921,O13+1)>0,\"\",O13+1))","v":""},{"$f":"IFERROR(SMALL($P$1:$P$1921,12),\"\")","v":""}]
["知多ｶﾘﾃﾞｰﾀ",{"$f":"IF(COUNTA(単元・内容!B3:AH1402)>0,\"○\",\"\")","v":""},null,null,{"$f":"設定!C12&\"\"","v":""},{"$f":"IF(LEN(設定!H21)=0,\"\",12)","v":""},{"$f":"IF(LEN(F14)=0,\"\",設定!H21)","v":""},{"$f":"IF(LEN(F14)=0,\"\",ASC(設定!I21)&IF(設定!J21>1,\"帯\",\"\")&G14)","v":""},{"$f":"IFERROR(INDEX($H$2:$H$31,SMALL($F$2:$F$31,13)+1)&\"\",IF(COUNTIF($I$2:I13,\"×\")=0,\"×\",IF(COUNTIF($I$2:I13,\"なし\")=0,\"なし\",\"\")))","v":""},{"$f":"IF(設定!$C$32=\"しない\",F14,IF(LEN(F14)=0,\"\",IF(ISERROR(FIND(\"帯\",H14)),F14,IF(COUNTIF($H$2:$H$32,SUBSTITUTE(H14,\"帯\",\"\"))>0,\"\",F14))))","v":""},{"$f":"IFERROR(INDEX($H$2:$H$31,SMALL($J$2:$J$25,13)+1)&\"\",\"\")","v":""},{"$f":"IF(LEN(J14)=0,\"\",IF(設定!D35>1,\"\",IF(COUNTIF($H$2:$H$25,ASC(設定!C35)&\"帯\"&G14)>0,ASC(設定!C35)&\"帯\"&G14,\"\")))","v":""},{"$f":"IF(LEN(L14)=0,\"\",IF(設定!$C$32=\"しない\",\"\",INDEX(設定!$B$21:$O$26,MOD(INDEX($F$2:$F$25,MATCH(L14,$H$2:$H$25,0)),6)+1,3*QUOTIENT(INDEX($F$2:$F$25,MATCH(L14,$H$2:$H$25,0)),6)+3)))","v":""},null,{"$f":"IF(14<=$B$10,IF(LEN('１学期'!G16)=0,\"\",IF('１学期'!G16=$B$8,IF(LEN('１学期'!J16)=0,\"\",'１学期'!J16),\"\")),\"\")","v":""},{"$f":"IF(LEN(O14)=0,\"\",IF(COUNTIF(O14:$O$1921,O14+1)>0,\"\",O14+1))","v":""},{"$f":"IFERROR(SMALL($P$1:$P$1921,13),\"\")","v":""}]
["保存時ｼｰﾄ","設定",null,null,{"$f":"設定!D12&\"\"","v":""},{"$f":"IF(LEN(設定!H22)=0,\"\",13)","v":""},{"$f":"IF(LEN(F15)=0,\"\",設定!H22)","v":""},{"$f":"IF(LEN(F15)=0,\"\",ASC(設定!I22)&IF(設定!J22>1,\"帯\",\"\")&G15)","v":""},{"$f":"IFERROR(INDEX($H$2:$H$31,SMALL($F$2:$F$31,14)+1)&\"\",IF(COUNTIF($I$2:I14,\"×\")=0,\"×\",IF(COUNTIF($I$2:I14,\"なし\")=0,\"なし\",\"\")))","v":""},{"$f":"IF(設定!$C$32=\"しない\",F15,IF(LEN(F15)=0,\"\",IF(ISERROR(FIND(\"帯\",H15)),F15,IF(COUNTIF($H$2:$H$32,SUBSTITUTE(H15,\"帯\",\"\"))>0,\"\",F15))))","v":""},{"$f":"IFERROR(INDEX($H$2:$H$31,SMALL($J$2:$J$25,14)+1)&\"\",\"\")","v":""},{"$f":"IF(LEN(J15)=0,\"\",IF(設定!D36>1,\"\",IF(COUNTIF($H$2:$H$25,ASC(設定!C36)&\"帯\"&G15)>0,ASC(設定!C36)&\"帯\"&G15,\"\")))","v":""},{"$f":"IF(LEN(L15)=0,\"\",IF(設定!$C$32=\"しない\",\"\",INDEX(設定!$B$21:$O$26,MOD(INDEX($F$2:$F$25,MATCH(L15,$H$2:$H$25,0)),6)+1,3*QUOTIENT(INDEX($F$2:$F$25,MATCH(L15,$H$2:$H$25,0)),6)+3)))","v":""},null,{"$f":"IF(15<=$B$10,IF(LEN('１学期'!G19)=0,\"\",IF('１学期'!G19=$B$8,IF(LEN('１学期'!J19)=0,\"\",'１学期'!J19),\"\")),\"\")","v":""},{"$f":"IF(LEN(O15)=0,\"\",IF(COUNTIF(O15:$O$1921,O15+1)>0,\"\",O15+1))","v":""},{"$f":"IFERROR(SMALL($P$1:$P$1921,14),\"\")","v":""}]
["単元サイズ",60,{"$f":"IF(B16<=108,9,IF(B16<=140,8,IF(B16<=168,7,IF(B16<=224,6,5))))","v":9},null,{"$f":"設定!E12&\"\"","v":""},{"$f":"IF(LEN(設定!H23)=0,\"\",14)","v":""},{"$f":"IF(LEN(F16)=0,\"\",設定!H23)","v":""},{"$f":"IF(LEN(F16)=0,\"\",ASC(設定!I23)&IF(設定!J23>1,\"帯\",\"\")&G16)","v":""},{"$f":"IFERROR(INDEX($H$2:$H$31,SMALL($F$2:$F$31,15)+1)&\"\",IF(COUNTIF($I$2:I15,\"×\")=0,\"×\",IF(COUNTIF($I$2:I15,\"なし\")=0,\"なし\",\"\")))","v":""},{"$f":"IF(設定!$C$32=\"しない\",F16,IF(LEN(F16)=0,\"\",IF(ISERROR(FIND(\"帯\",H16)),F16,IF(COUNTIF($H$2:$H$32,SUBSTITUTE(H16,\"帯\",\"\"))>0,\"\",F16))))","v":""},{"$f":"IFERROR(INDEX($H$2:$H$31,SMALL($J$2:$J$25,15)+1)&\"\",\"\")","v":""},{"$f":"IF(LEN(J16)=0,\"\",IF(設定!D37>1,\"\",IF(COUNTIF($H$2:$H$25,ASC(設定!C37)&\"帯\"&G16)>0,ASC(設定!C37)&\"帯\"&G16,\"\")))","v":""},{"$f":"IF(LEN(L16)=0,\"\",IF(設定!$C$32=\"しない\",\"\",INDEX(設定!$B$21:$O$26,MOD(INDEX($F$2:$F$25,MATCH(L16,$H$2:$H$25,0)),6)+1,3*QUOTIENT(INDEX($F$2:$F$25,MATCH(L16,$H$2:$H$25,0)),6)+3)))","v":""},null,{"$f":"IF(16<=$B$10,IF(LEN('１学期'!G22)=0,\"\",IF('１学期'!G22=$B$8,IF(LEN('１学期'!J22)=0,\"\",'１学期'!J22),\"\")),\"\")","v":""},{"$f":"IF(LEN(O16)=0,\"\",IF(COUNTIF(O16:$O$1921,O16+1)>0,\"\",O16+1))","v":""},{"$f":"IFERROR(SMALL($P$1:$P$1921,15),\"\")","v":""}]
["内容サイズ",178,{"$f":"IF(B17<=108,9,IF(B17<=140,8,IF(B17<=168,7,IF(B17<=224,6,5))))","v":6},null,{"$f":"設定!F12&\"\"","v":""},{"$f":"IF(LEN(設定!H24)=0,\"\",15)","v":""},{"$f":"IF(LEN(F17)=0,\"\",設定!H24)","v":""},{"$f":"IF(LEN(F17)=0,\"\",ASC(設定!I24)&IF(設定!J24>1,\"帯\",\"\")&G17)","v":""},{"$f":"IFERROR(INDEX($H$2:$H$31,SMALL($F$2:$F$31,16)+1)&\"\",IF(COUNTIF($I$2:I16,\"×\")=0,\"×\",IF(COUNTIF($I$2:I16,\"なし\")=0,\"なし\",\"\")))","v":""},{"$f":"IF(設定!$C$32=\"しない\",F17,IF(LEN(F17)=0,\"\",IF(ISERROR(FIND(\"帯\",H17)),F17,IF(COUNTIF($H$2:$H$32,SUBSTITUTE(H17,\"帯\",\"\"))>0,\"\",F17))))","v":""},{"$f":"IFERROR(INDEX($H$2:$H$31,SMALL($J$2:$J$25,16)+1)&\"\",\"\")","v":""},{"$f":"IF(LEN(J17)=0,\"\",IF(設定!D38>1,\"\",IF(COUNTIF($H$2:$H$25,ASC(設定!C38)&\"帯\"&G17)>0,ASC(設定!C38)&\"帯\"&G17,\"\")))","v":""},{"$f":"IF(LEN(L17)=0,\"\",IF(設定!$C$32=\"しない\",\"\",INDEX(設定!$B$21:$O$26,MOD(INDEX($F$2:$F$25,MATCH(L17,$H$2:$H$25,0)),6)+1,3*QUOTIENT(INDEX($F$2:$F$25,MATCH(L17,$H$2:$H$25,0)),6)+3)))","v":""},null,{"$f":"IF(17<=$B$10,IF(LEN('１学期'!G25)=0,\"\",IF('１学期'!G25=$B$8,IF(LEN('１学期'!J25)=0,\"\",'１学期'!J25),\"\")),\"\")","v":""},{"$f":"IF(LEN(O17)=0,\"\",IF(COUNTIF(O17:$O$1921,O17+1)>0,\"\",O17+1))","v":""},{"$f":"IFERROR(SMALL($P$1:$P$1921,16),\"\")","v":""}]
["曜日",null,{"$f":"IF(B18=\"月\",3,IF(B18=\"火\",4,IF(B18=\"水\",5,IF(B18=\"木\",6,IF(B18=\"金\",7,IF(B18=\"休日\",8,\"\"))))))","v":""},null,{"$f":"設定!G12&\"\"","v":""},{"$f":"IF(LEN(設定!H25)=0,\"\",16)","v":""},{"$f":"IF(LEN(F18)=0,\"\",設定!H25)","v":""},{"$f":"IF(LEN(F18)=0,\"\",ASC(設定!I25)&IF(設定!J25>1,\"帯\",\"\")&G18)","v":""},{"$f":"IFERROR(INDEX($H$2:$H$31,SMALL($F$2:$F$31,17)+1)&\"\",IF(COUNTIF($I$2:I17,\"×\")=0,\"×\",IF(COUNTIF($I$2:I17,\"なし\")=0,\"なし\",\"\")))","v":""},{"$f":"IF(設定!$C$32=\"しない\",F18,IF(LEN(F18)=0,\"\",IF(ISERROR(FIND(\"帯\",H18)),F18,IF(COUNTIF($H$2:$H$32,SUBSTITUTE(H18,\"帯\",\"\"))>0,\"\",F18))))","v":""},{"$f":"IFERROR(INDEX($H$2:$H$31,SMALL($J$2:$J$25,17)+1)&\"\",\"\")","v":""},{"$f":"IF(LEN(J18)=0,\"\",IF(設定!D39>1,\"\",IF(COUNTIF($H$2:$H$25,ASC(設定!C39)&\"帯\"&G18)>0,ASC(設定!C39)&\"帯\"&G18,\"\")))","v":""},{"$f":"IF(LEN(L18)=0,\"\",IF(設定!$C$32=\"しない\",\"\",INDEX(設定!$B$21:$O$26,MOD(INDEX($F$2:$F$25,MATCH(L18,$H$2:$H$25,0)),6)+1,3*QUOTIENT(INDEX($F$2:$F$25,MATCH(L18,$H$2:$H$25,0)),6)+3)))","v":""},null,{"$f":"IF(18<=$B$10,IF(LEN('１学期'!K6)=0,\"\",IF('１学期'!K6=$B$8,IF(LEN('１学期'!N6)=0,\"\",'１学期'!N6),\"\")),\"\")","v":""},{"$f":"IF(LEN(O18)=0,\"\",IF(COUNTIF(O18:$O$1921,O18+1)>0,\"\",O18+1))","v":""},{"$f":"IFERROR(SMALL($P$1:$P$1921,17),\"\")","v":""}]
["次授業",{"$f":"IF(C19=0,\"\",IF(COUNT(O2:O1921)=0,1,IF(D19>C19,\"\",D19)))","v":{"$error":"#N/A"}},{"$f":"MAX(INDEX((LEN(INDEX(単元・内容!B3:BO1402,0,MATCH(C6,単元・内容!B1:BM1,0)))>0)*ROW(1:1400),0))","v":{"$error":"#N/A"}},{"$f":"_xlfn.MINIFS(P1:P1921,P1:P1921,\">\"&INDEX(O1:O1921,MAX(INDEX((LEN(O2:O1921)>0)*ROW(2:1921),0))))","v":0},{"$f":"設定!H12&\"\"","v":""},{"$f":"IF(LEN(設定!H26)=0,\"\",17)","v":""},{"$f":"IF(LEN(F19)=0,\"\",設定!H26)","v":""},{"$f":"IF(LEN(F19)=0,\"\",ASC(設定!I26)&IF(設定!J26>1,\"帯\",\"\")&G19)","v":""},{"$f":"IFERROR(INDEX($H$2:$H$31,SMALL($F$2:$F$31,18)+1)&\"\",IF(COUNTIF($I$2:I18,\"×\")=0,\"×\",IF(COUNTIF($I$2:I18,\"なし\")=0,\"なし\",\"\")))","v":""},{"$f":"IF(設定!$C$32=\"しない\",F19,IF(LEN(F19)=0,\"\",IF(ISERROR(FIND(\"帯\",H19)),F19,IF(COUNTIF($H$2:$H$32,SUBSTITUTE(H19,\"帯\",\"\"))>0,\"\",F19))))","v":""},{"$f":"IFERROR(INDEX($H$2:$H$31,SMALL($J$2:$J$25,18)+1)&\"\",\"\")","v":""},{"$f":"IF(LEN(J19)=0,\"\",IF(設定!D40>1,\"\",IF(COUNTIF($H$2:$H$25,ASC(設定!C40)&\"帯\"&G19)>0,ASC(設定!C40)&\"帯\"&G19,\"\")))","v":""},{"$f":"IF(LEN(L19)=0,\"\",IF(設定!$C$32=\"しない\",\"\",INDEX(設定!$B$21:$O$26,MOD(INDEX($F$2:$F$25,MATCH(L19,$H$2:$H$25,0)),6)+1,3*QUOTIENT(INDEX($F$2:$F$25,MATCH(L19,$H$2:$H$25,0)),6)+3)))","v":""},null,{"$f":"IF(19<=$B$10,IF(LEN('１学期'!K7)=0,\"\",IF('１学期'!K7=$B$8,IF(LEN('１学期'!N7)=0,\"\",'１学期'!N7),\"\")),\"\")","v":""},{"$f":"IF(LEN(O19)=0,\"\",IF(COUNTIF(O19:$O$1921,O19+1)>0,\"\",O19+1))","v":""},{"$f":"IFERROR(SMALL($P$1:$P$1921,18),\"\")","v":""}]
["非表示",0,11,{"$f":"COUNTIF(INDEX(単元・内容!$B$3:$AH$1402,0,3*C20-2),\"\")+COUNTIF(INDEX(単元・内容!$B$3:$AH$1402,0,3*C20-1),\"\")+COUNTIF(INDEX(単元・内容!$B$3:$AH$1402,0,3*C20),\"\")","v":4200},{"$f":"設定!I12&\"\"","v":""},{"$f":"IF(LEN(設定!K21)=0,\"\",18)","v":""},{"$f":"IF(LEN(F20)=0,\"\",設定!K21)","v":""},{"$f":"IF(LEN(F20)=0,\"\",ASC(設定!L21)&IF(設定!M21>1,\"帯\",\"\")&G20)","v":""},{"$f":"IFERROR(INDEX($H$2:$H$31,SMALL($F$2:$F$31,19)+1)&\"\",IF(COUNTIF($I$2:I19,\"×\")=0,\"×\",IF(COUNTIF($I$2:I19,\"なし\")=0,\"なし\",\"\")))","v":""},{"$f":"IF(設定!$C$32=\"しない\",F20,IF(LEN(F20)=0,\"\",IF(ISERROR(FIND(\"帯\",H20)),F20,IF(COUNTIF($H$2:$H$32,SUBSTITUTE(H20,\"帯\",\"\"))>0,\"\",F20))))","v":""},{"$f":"IFERROR(INDEX($H$2:$H$31,SMALL($J$2:$J$25,19)+1)&\"\",\"\")","v":""},{"$f":"IF(LEN(J20)=0,\"\",IF(設定!D41>1,\"\",IF(COUNTIF($H$2:$H$25,ASC(設定!C41)&\"帯\"&G20)>0,ASC(設定!C41)&\"帯\"&G20,\"\")))","v":""},{"$f":"IF(LEN(L20)=0,\"\",IF(設定!$C$32=\"しない\",\"\",INDEX(設定!$B$21:$O$26,MOD(INDEX($F$2:$F$25,MATCH(L20,$H$2:$H$25,0)),6)+1,3*QUOTIENT(INDEX($F$2:$F$25,MATCH(L20,$H$2:$H$25,0)),6)+3)))","v":""},null,{"$f":"IF(20<=$B$10,IF(LEN('１学期'!K10)=0,\"\",IF('１学期'!K10=$B$8,IF(LEN('１学期'!N10)=0,\"\",'１学期'!N10),\"\")),\"\")","v":""},{"$f":"IF(LEN(O20)=0,\"\",IF(COUNTIF(O20:$O$1921,O20+1)>0,\"\",O20+1))","v":""},{"$f":"IFERROR(SMALL($P$1:$P$1921,19),\"\")","v":""}]
[null,null,null,null,{"$f":"設定!J12&\"\"","v":""},{"$f":"IF(LEN(設定!K22)=0,\"\",19)","v":""},{"$f":"IF(LEN(F21)=0,\"\",設定!K22)","v":""},{"$f":"IF(LEN(F21)=0,\"\",ASC(設定!L22)&IF(設定!M22>1,\"帯\",\"\")&G21)","v":""},{"$f":"IFERROR(INDEX($H$2:$H$31,SMALL($F$2:$F$31,20)+1)&\"\",IF(COUNTIF($I$2:I20,\"×\")=0,\"×\",IF(COUNTIF($I$2:I20,\"なし\")=0,\"なし\",\"\")))","v":""},{"$f":"IF(設定!$C$32=\"しない\",F21,IF(LEN(F21)=0,\"\",IF(ISERROR(FIND(\"帯\",H21)),F21,IF(COUNTIF($H$2:$H$32,SUBSTITUTE(H21,\"帯\",\"\"))>0,\"\",F21))))","v":""},{"$f":"IFERROR(INDEX($H$2:$H$31,SMALL($J$2:$J$25,20)+1)&\"\",\"\")","v":""},{"$f":"IF(LEN(J21)=0,\"\",IF(設定!D42>1,\"\",IF(COUNTIF($H$2:$H$25,ASC(設定!C42)&\"帯\"&G21)>0,ASC(設定!C42)&\"帯\"&G21,\"\")))","v":""},{"$f":"IF(LEN(L21)=0,\"\",IF(設定!$C$32=\"しない\",\"\",INDEX(設定!$B$21:$O$26,MOD(INDEX($F$2:$F$25,MATCH(L21,$H$2:$H$25,0)),6)+1,3*QUOTIENT(INDEX($F$2:$F$25,MATCH(L21,$H$2:$H$25,0)),6)+3)))","v":""},null,{"$f":"IF(21<=$B$10,IF(LEN('１学期'!K13)=0,\"\",IF('１学期'!K13=$B$8,IF(LEN('１学期'!N13)=0,\"\",'１学期'!N13),\"\")),\"\")","v":""},{"$f":"IF(LEN(O21)=0,\"\",IF(COUNTIF(O21:$O$1921,O21+1)>0,\"\",O21+1))","v":""},{"$f":"IFERROR(SMALL($P$1:$P$1921,20),\"\")","v":""}]
[null,null,null,null,{"$f":"設定!K12&\"\"","v":""},{"$f":"IF(LEN(設定!K23)=0,\"\",20)","v":""},{"$f":"IF(LEN(F22)=0,\"\",設定!K23)","v":""},{"$f":"IF(LEN(F22)=0,\"\",ASC(設定!L23)&IF(設定!M23>1,\"帯\",\"\")&G22)","v":""},{"$f":"IFERROR(INDEX($H$2:$H$31,SMALL($F$2:$F$31,21)+1)&\"\",IF(COUNTIF($I$2:I21,\"×\")=0,\"×\",IF(COUNTIF($I$2:I21,\"なし\")=0,\"なし\",\"\")))","v":""},{"$f":"IF(設定!$C$32=\"しない\",F22,IF(LEN(F22)=0,\"\",IF(ISERROR(FIND(\"帯\",H22)),F22,IF(COUNTIF($H$2:$H$32,SUBSTITUTE(H22,\"帯\",\"\"))>0,\"\",F22))))","v":""},{"$f":"IFERROR(INDEX($H$2:$H$31,SMALL($J$2:$J$25,21)+1)&\"\",\"\")","v":""},{"$f":"IF(LEN(J22)=0,\"\",IF(設定!D43>1,\"\",IF(COUNTIF($H$2:$H$25,ASC(設定!C43)&\"帯\"&G22)>0,ASC(設定!C43)&\"帯\"&G22,\"\")))","v":""},{"$f":"IF(LEN(L22)=0,\"\",IF(設定!$C$32=\"しない\",\"\",INDEX(設定!$B$21:$O$26,MOD(INDEX($F$2:$F$25,MATCH(L22,$H$2:$H$25,0)),6)+1,3*QUOTIENT(INDEX($F$2:$F$25,MATCH(L22,$H$2:$H$25,0)),6)+3)))","v":""},null,{"$f":"IF(22<=$B$10,IF(LEN('１学期'!K16)=0,\"\",IF('１学期'!K16=$B$8,IF(LEN('１学期'!N16)=0,\"\",'１学期'!N16),\"\")),\"\")","v":""},{"$f":"IF(LEN(O22)=0,\"\",IF(COUNTIF(O22:$O$1921,O22+1)>0,\"\",O22+1))","v":""},{"$f":"IFERROR(SMALL($P$1:$P$1921,21),\"\")","v":""}]
[null,null,null,null,{"$f":"設定!L12&\"\"","v":""},{"$f":"IF(LEN(設定!K24)=0,\"\",21)","v":""},{"$f":"IF(LEN(F23)=0,\"\",設定!K24)","v":""},{"$f":"IF(LEN(F23)=0,\"\",ASC(設定!L24)&IF(設定!M24>1,\"帯\",\"\")&G23)","v":""},{"$f":"IFERROR(INDEX($H$2:$H$31,SMALL($F$2:$F$31,22)+1)&\"\",IF(COUNTIF($I$2:I22,\"×\")=0,\"×\",IF(COUNTIF($I$2:I22,\"なし\")=0,\"なし\",\"\")))","v":""},{"$f":"IF(設定!$C$32=\"しない\",F23,IF(LEN(F23)=0,\"\",IF(ISERROR(FIND(\"帯\",H23)),F23,IF(COUNTIF($H$2:$H$32,SUBSTITUTE(H23,\"帯\",\"\"))>0,\"\",F23))))","v":""},{"$f":"IFERROR(INDEX($H$2:$H$31,SMALL($J$2:$J$25,22)+1)&\"\",\"\")","v":""},{"$f":"IF(LEN(J23)=0,\"\",IF(設定!D44>1,\"\",IF(COUNTIF($H$2:$H$25,ASC(設定!C44)&\"帯\"&G23)>0,ASC(設定!C44)&\"帯\"&G23,\"\")))","v":""},{"$f":"IF(LEN(L23)=0,\"\",IF(設定!$C$32=\"しない\",\"\",INDEX(設定!$B$21:$O$26,MOD(INDEX($F$2:$F$25,MATCH(L23,$H$2:$H$25,0)),6)+1,3*QUOTIENT(INDEX($F$2:$F$25,MATCH(L23,$H$2:$H$25,0)),6)+3)))","v":""},null,{"$f":"IF(23<=$B$10,IF(LEN('１学期'!K19)=0,\"\",IF('１学期'!K19=$B$8,IF(LEN('１学期'!N19)=0,\"\",'１学期'!N19),\"\")),\"\")","v":""},{"$f":"IF(LEN(O23)=0,\"\",IF(COUNTIF(O23:$O$1921,O23+1)>0,\"\",O23+1))","v":""},{"$f":"IFERROR(SMALL($P$1:$P$1921,22),\"\")","v":""}]
[null,null,null,null,{"$f":"設定!M12&\"\"","v":""},{"$f":"IF(LEN(設定!K25)=0,\"\",22)","v":""},{"$f":"IF(LEN(F24)=0,\"\",設定!K25)","v":""},{"$f":"IF(LEN(F24)=0,\"\",ASC(設定!L25)&IF(設定!M25>1,\"帯\",\"\")&G24)","v":""},{"$f":"IFERROR(INDEX($H$2:$H$31,SMALL($F$2:$F$31,23)+1)&\"\",IF(COUNTIF($I$2:I23,\"×\")=0,\"×\",IF(COUNTIF($I$2:I23,\"なし\")=0,\"なし\",\"\")))","v":""},{"$f":"IF(設定!$C$32=\"しない\",F24,IF(LEN(F24)=0,\"\",IF(ISERROR(FIND(\"帯\",H24)),F24,IF(COUNTIF($H$2:$H$32,SUBSTITUTE(H24,\"帯\",\"\"))>0,\"\",F24))))","v":""},{"$f":"IFERROR(INDEX($H$2:$H$31,SMALL($J$2:$J$25,23)+1)&\"\",\"\")","v":""},{"$f":"IF(LEN(J24)=0,\"\",IF(設定!D46>1,\"\",IF(COUNTIF($H$2:$H$25,ASC(設定!C46)&\"帯\"&G24)>0,ASC(設定!C46)&\"帯\"&G24,\"\")))","v":""},{"$f":"IF(LEN(L24)=0,\"\",IF(設定!$C$32=\"しない\",\"\",INDEX(設定!$B$21:$O$26,MOD(INDEX($F$2:$F$25,MATCH(L24,$H$2:$H$25,0)),6)+1,3*QUOTIENT(INDEX($F$2:$F$25,MATCH(L24,$H$2:$H$25,0)),6)+3)))","v":""},null,{"$f":"IF(24<=$B$10,IF(LEN('１学期'!K22)=0,\"\",IF('１学期'!K22=$B$8,IF(LEN('１学期'!N22)=0,\"\",'１学期'!N22),\"\")),\"\")","v":""},{"$f":"IF(LEN(O24)=0,\"\",IF(COUNTIF(O24:$O$1921,O24+1)>0,\"\",O24+1))","v":""},{"$f":"IFERROR(SMALL($P$1:$P$1921,23),\"\")","v":""}]
[null,null,null,null,null,{"$f":"IF(LEN(設定!K26)=0,\"\",23)","v":""},{"$f":"IF(LEN(F25)=0,\"\",設定!K26)","v":""},{"$f":"IF(LEN(F25)=0,\"\",ASC(設定!L26)&IF(設定!M26>1,\"帯\",\"\")&G25)","v":""},{"$f":"IFERROR(INDEX($H$2:$H$31,SMALL($F$2:$F$31,24)+1)&\"\",IF(COUNTIF($I$2:I24,\"×\")=0,\"×\",IF(COUNTIF($I$2:I24,\"なし\")=0,\"なし\",\"\")))","v":""},{"$f":"IF(設定!$C$32=\"しない\",F25,IF(LEN(F25)=0,\"\",IF(ISERROR(FIND(\"帯\",H25)),F25,IF(COUNTIF($H$2:$H$32,SUBSTITUTE(H25,\"帯\",\"\"))>0,\"\",F25))))","v":""},{"$f":"IFERROR(INDEX($H$2:$H$31,SMALL($J$2:$J$25,24)+1)&\"\",\"\")","v":""},{"$f":"IF(LEN(J25)=0,\"\",IF(設定!#REF!>1,\"\",IF(COUNTIF($H$2:$H$25,ASC(設定!#REF!)&\"帯\"&G25)>0,ASC(設定!#REF!)&\"帯\"&G25,\"\")))","v":""},{"$f":"IF(LEN(L25)=0,\"\",IF(設定!$C$32=\"しない\",\"\",INDEX(設定!$B$21:$O$26,MOD(INDEX($F$2:$F$25,MATCH(L25,$H$2:$H$25,0)),6)+1,3*QUOTIENT(INDEX($F$2:$F$25,MATCH(L25,$H$2:$H$25,0)),6)+3)))","v":""},null,{"$f":"IF(25<=$B$10,IF(LEN('１学期'!K25)=0,\"\",IF('１学期'!K25=$B$8,IF(LEN('１学期'!N25)=0,\"\",'１学期'!N25),\"\")),\"\")","v":""},{"$f":"IF(LEN(O25)=0,\"\",IF(COUNTIF(O25:$O$1921,O25+1)>0,\"\",O25+1))","v":""},{"$f":"IFERROR(SMALL($P$1:$P$1921,24),\"\")","v":""}]
[null,null,null,null,null,null,null,null,{"$f":"IFERROR(INDEX($H$2:$H$31,SMALL($F$2:$F$31,25)+1)&\"\",IF(COUNTIF($I$2:I25,\"×\")=0,\"×\",IF(COUNTIF($I$2:I25,\"なし\")=0,\"なし\",\"\")))","v":""},null,null,null,null,null,{"$f":"IF(26<=$B$10,IF(LEN('１学期'!O6)=0,\"\",IF('１学期'!O6=$B$8,IF(LEN('１学期'!R6)=0,\"\",'１学期'!R6),\"\")),\"\")","v":""},{"$f":"IF(LEN(O26)=0,\"\",IF(COUNTIF(O26:$O$1921,O26+1)>0,\"\",O26+1))","v":""},{"$f":"IFERROR(SMALL($P$1:$P$1921,25),\"\")","v":""}]
[null,null,null,null,null,{"$f":"IF(LEN(設定!N22)=0,\"\",25)","v":""},{"$f":"IF(LEN(F27)=0,\"\",設定!N22)","v":""},{"$f":"G27","v":""},{"$f":"IFERROR(INDEX($H$2:$H$31,SMALL($F$2:$F$31,26)+1)&\"\",IF(COUNTIF($I$2:I26,\"×\")=0,\"×\",IF(COUNTIF($I$2:I26,\"なし\")=0,\"なし\",\"\")))","v":""},null,null,null,null,null,{"$f":"IF(27<=$B$10,IF(LEN('１学期'!O7)=0,\"\",IF('１学期'!O7=$B$8,IF(LEN('１学期'!R7)=0,\"\",'１学期'!R7),\"\")),\"\")","v":""},{"$f":"IF(LEN(O27)=0,\"\",IF(COUNTIF(O27:$O$1921,O27+1)>0,\"\",O27+1))","v":""},{"$f":"IFERROR(SMALL($P$1:$P$1921,26),\"\")","v":""}]
[null,null,null,null,null,{"$f":"IF(LEN(設定!N23)=0,\"\",26)","v":""},{"$f":"IF(LEN(F28)=0,\"\",設定!N23)","v":""},{"$f":"G28","v":""},{"$f":"IFERROR(INDEX($H$2:$H$31,SMALL($F$2:$F$31,27)+1)&\"\",IF(COUNTIF($I$2:I27,\"×\")=0,\"×\",IF(COUNTIF($I$2:I27,\"なし\")=0,\"なし\",\"\")))","v":""},null,null,null,null,null,{"$f":"IF(28<=$B$10,IF(LEN('１学期'!O10)=0,\"\",IF('１学期'!O10=$B$8,IF(LEN('１学期'!R10)=0,\"\",'１学期'!R10),\"\")),\"\")","v":""},{"$f":"IF(LEN(O28)=0,\"\",IF(COUNTIF(O28:$O$1921,O28+1)>0,\"\",O28+1))","v":""},{"$f":"IFERROR(SMALL($P$1:$P$1921,27),\"\")","v":""}]
[null,null,null,null,null,{"$f":"IF(LEN(設定!N24)=0,\"\",27)","v":""},{"$f":"IF(LEN(F29)=0,\"\",設定!N24)","v":""},"",{"$f":"IFERROR(INDEX($H$2:$H$31,SMALL($F$2:$F$31,28)+1)&\"\",IF(COUNTIF($I$2:I28,\"×\")=0,\"×\",IF(COUNTIF($I$2:I28,\"なし\")=0,\"なし\",\"\")))","v":""},null,null,null,null,null,{"$f":"IF(29<=$B$10,IF(LEN('１学期'!O13)=0,\"\",IF('１学期'!O13=$B$8,IF(LEN('１学期'!R13)=0,\"\",'１学期'!R13),\"\")),\"\")","v":""},{"$f":"IF(LEN(O29)=0,\"\",IF(COUNTIF(O29:$O$1921,O29+1)>0,\"\",O29+1))","v":""},{"$f":"IFERROR(SMALL($P$1:$P$1921,28),\"\")","v":""}]
[null,null,null,null,null,{"$f":"IF(LEN(設定!N25)=0,\"\",28)","v":""},{"$f":"IF(LEN(F30)=0,\"\",設定!N25)","v":""},"",{"$f":"IFERROR(INDEX($H$2:$H$31,SMALL($F$2:$F$31,29)+1)&\"\",IF(COUNTIF($I$2:I29,\"×\")=0,\"×\",IF(COUNTIF($I$2:I29,\"なし\")=0,\"なし\",\"\")))","v":""},null,null,null,null,null,{"$f":"IF(30<=$B$10,IF(LEN('１学期'!O16)=0,\"\",IF('１学期'!O16=$B$8,IF(LEN('１学期'!R16)=0,\"\",'１学期'!R16),\"\")),\"\")","v":""},{"$f":"IF(LEN(O30)=0,\"\",IF(COUNTIF(O30:$O$1921,O30+1)>0,\"\",O30+1))","v":""},{"$f":"IFERROR(SMALL($P$1:$P$1921,29),\"\")","v":""}]
[null,null,null,null,null,{"$f":"IF(LEN(設定!N26)=0,\"\",29)","v":""},{"$f":"IF(LEN(F31)=0,\"\",設定!N26)","v":""},"",{"$f":"IFERROR(INDEX($H$2:$H$31,SMALL($F$2:$F$31,30)+1)&\"\",IF(COUNTIF($I$2:I30,\"×\")=0,\"×\",IF(COUNTIF($I$2:I30,\"なし\")=0,\"なし\",\"\")))","v":""},null,null,null,null,null,{"$f":"IF(31<=$B$10,IF(LEN('１学期'!O19)=0,\"\",IF('１学期'!O19=$B$8,IF(LEN('１学期'!R19)=0,\"\",'１学期'!R19),\"\")),\"\")","v":""},{"$f":"IF(LEN(O31)=0,\"\",IF(COUNTIF(O31:$O$1921,O31+1)>0,\"\",O31+1))","v":""},{"$f":"IFERROR(SMALL($P$1:$P$1921,30),\"\")","v":""}]
[null,null,null,null,null,null,null,null,{"$f":"IFERROR(INDEX($H$2:$H$31,SMALL($F$2:$F$31,30)+1)&\"\",IF(COUNTIF($I$2:I31,\"×\")=0,\"×\",IF(COUNTIF($I$2:I31,\"なし\")=0,\"なし\",\"\")))","v":""},null,null,null,null,null,{"$f":"IF(32<=$B$10,IF(LEN('１学期'!O22)=0,\"\",IF('１学期'!O22=$B$8,IF(LEN('１学期'!R22)=0,\"\",'１学期'!R22),\"\")),\"\")","v":""},{"$f":"IF(LEN(O32)=0,\"\",IF(COUNTIF(O32:$O$1921,O32+1)>0,\"\",O32+1))","v":""},{"$f":"IFERROR(SMALL($P$1:$P$1921,31),\"\")","v":""}]
[null,null,null,null,null,null,null,null,null,null,null,null,null,null,{"$f":"IF(33<=$B$10,IF(LEN('１学期'!O25)=0,\"\",IF('１学期'!O25=$B$8,IF(LEN('１学期'!R25)=0,\"\",'１学期'!R25),\"\")),\"\")","v":""},{"$f":"IF(LEN(O33)=0,\"\",IF(COUNTIF(O33:$O$1921,O33+1)>0,\"\",O33+1))","v":""},{"$f":"IFERROR(SMALL($P$1:$P$1921,32),\"\")","v":""}]
[null,null,null,null,null,null,null,null,null,null,null,null,null,null,{"$f":"IF(34<=$B$10,IF(LEN('１学期'!S6)=0,\"\",IF('１学期'!S6=$B$8,IF(LEN('１学期'!V6)=0,\"\",'１学期'!V6),\"\")),\"\")","v":""},{"$f":"IF(LEN(O34)=0,\"\",IF(COUNTIF(O34:$O$1921,O34+1)>0,\"\",O34+1))","v":""},{"$f":"IFERROR(SMALL($P$1:$P$1921,33),\"\")","v":""}]
[null,null,null,null,null,null,null,null,null,null,null,null,null,null,{"$f":"IF(35<=$B$10,IF(LEN('１学期'!S7)=0,\"\",IF('１学期'!S7=$B$8,IF(LEN('１学期'!V7)=0,\"\",'１学期'!V7),\"\")),\"\")","v":""},{"$f":"IF(LEN(O35)=0,\"\",IF(COUNTIF(O35:$O$1921,O35+1)>0,\"\",O35+1))","v":""},{"$f":"IFERROR(SMALL($P$1:$P$1921,34),\"\")","v":""}]
[null,null,null,null,null,null,null,null,null,null,null,null,null,null,{"$f":"IF(36<=$B$10,IF(LEN('１学期'!S10)=0,\"\",IF('１学期'!S10=$B$8,IF(LEN('１学期'!V10)=0,\"\",'１学期'!V10),\"\")),\"\")","v":""},{"$f":"IF(LEN(O36)=0,\"\",IF(COUNTIF(O36:$O$1921,O36+1)>0,\"\",O36+1))","v":""},{"$f":"IFERROR(SMALL($P$1:$P$1921,35),\"\")","v":""}]
[null,null,null,null,null,null,null,null,null,null,null,null,null,null,{"$f":"IF(37<=$B$10,IF(LEN('１学期'!S13)=0,\"\",IF('１学期'!S13=$B$8,IF(LEN('１学期'!V13)=0,\"\",'１学期'!V13),\"\")),\"\")","v":""},{"$f":"IF(LEN(O37)=0,\"\",IF(COUNTIF(O37:$O$1921,O37+1)>0,\"\",O37+1))","v":""},{"$f":"IFERROR(SMALL($P$1:$P$1921,36),\"\")","v":""}]
[null,null,null,null,null,null,null,null,null,null,null,null,null,null,{"$f":"IF(38<=$B$10,IF(LEN('１学期'!S16)=0,\"\",IF('１学期'!S16=$B$8,IF(LEN('１学期'!V16)=0,\"\",'１学期'!V16),\"\")),\"\")","v":""},{"$f":"IF(LEN(O38)=0,\"\",IF(COUNTIF(O38:$O$1921,O38+1)>0,\"\",O38+1))","v":""},{"$f":"IFERROR(SMALL($P$1:$P$1921,37),\"\")","v":""}]
[null,null,null,null,null,null,null,null,null,null,null,null,null,null,{"$f":"IF(39<=$B$10,IF(LEN('１学期'!S19)=0,\"\",IF('１学期'!S19=$B$8,IF(LEN('１学期'!V19)=0,\"\",'１学期'!V19),\"\")),\"\")","v":""},{"$f":"IF(LEN(O39)=0,\"\",IF(COUNTIF(O39:$O$1921,O39+1)>0,\"\",O39+1))","v":""},{"$f":"IFERROR(SMALL($P$1:$P$1921,38),\"\")","v":""}]
[null,null,null,null,null,null,null,null,null,null,null,null,null,null,{"$f":"IF(40<=$B$10,IF(LEN('１学期'!S22)=0,\"\",IF('１学期'!S22=$B$8,IF(LEN('１学期'!V22)=0,\"\",'１学期'!V22),\"\")),\"\")","v":""},{"$f":"IF(LEN(O40)=0,\"\",IF(COUNTIF(O40:$O$1921,O40+1)>0,\"\",O40+1))","v":""},{"$f":"IFERROR(SMALL($P$1:$P$1921,39),\"\")","v":""}]
[null,null,null,null,null,null,null,null,null,null,null,null,null,null,{"$f":"IF(41<=$B$10,IF(LEN('１学期'!S25)=0,\"\",IF('１学期'!S25=$B$8,IF(LEN('１学期'!V25)=0,\"\",'１学期'!V25),\"\")),\"\")","v":""},{"$f":"IF(LEN(O41)=0,\"\",IF(COUNTIF(O41:$O$1921,O41+1)>0,\"\",O41+1))","v":""},{"$f":"IFERROR(SMALL($P$1:$P$1921,40),\"\")","v":""}]
[null,null,null,null,null,null,null,null,null,null,null,null,null,null,{"$f":"IF(42<=$B$10,IF(LEN('１学期'!W6)=0,\"\",IF('１学期'!W6=$B$8,IF(LEN('１学期'!Z6)=0,\"\",'１学期'!Z6),\"\")),\"\")","v":""},{"$f":"IF(LEN(O42)=0,\"\",IF(COUNTIF(O42:$O$1921,O42+1)>0,\"\",O42+1))","v":""},{"$f":"IFERROR(SMALL($P$1:$P$1921,41),\"\")","v":""}]
[null,null,null,null,null,null,null,null,null,null,null,null,null,null,{"$f":"IF(43<=$B$10,IF(LEN('１学期'!W7)=0,\"\",IF('１学期'!W7=$B$8,IF(LEN('１学期'!Z7)=0,\"\",'１学期'!Z7),\"\")),\"\")","v":""},{"$f":"IF(LEN(O43)=0,\"\",IF(COUNTIF(O43:$O$1921,O43+1)>0,\"\",O43+1))","v":""},{"$f":"IFERROR(SMALL($P$1:$P$1921,42),\"\")","v":""}]
[null,null,null,null,null,null,null,null,null,null,null,null,null,null,{"$f":"IF(44<=$B$10,IF(LEN('１学期'!W10)=0,\"\",IF('１学期'!W10=$B$8,IF(LEN('１学期'!Z10)=0,\"\",'１学期'!Z10),\"\")),\"\")","v":""},{"$f":"IF(LEN(O44)=0,\"\",IF(COUNTIF(O44:$O$1921,O44+1)>0,\"\",O44+1))","v":""},{"$f":"IFERROR(SMALL($P$1:$P$1921,43),\"\")","v":""}]
[null,null,null,null,null,null,null,null,null,null,null,null,null,null,{"$f":"IF(45<=$B$10,IF(LEN('１学期'!W13)=0,\"\",IF('１学期'!W13=$B$8,IF(LEN('１学期'!Z13)=0,\"\",'１学期'!Z13),\"\")),\"\")","v":""},{"$f":"IF(LEN(O45)=0,\"\",IF(COUNTIF(O45:$O$1921,O45+1)>0,\"\",O45+1))","v":""},{"$f":"IFERROR(SMALL($P$1:$P$1921,44),\"\")","v":""}]
[null,null,null,null,null,null,null,null,null,null,null,null,null,null,{"$f":"IF(46<=$B$10,IF(LEN('１学期'!W16)=0,\"\",IF('１学期'!W16=$B$8,IF(LEN('１学期'!Z16)=0,\"\",'１学期'!Z16),\"\")),\"\")","v":""},{"$f":"IF(LEN(O46)=0,\"\",IF(COUNTIF(O46:$O$1921,O46+1)>0,\"\",O46+1))","v":""},{"$f":"IFERROR(SMALL($P$1:$P$1921,45),\"\")","v":""}]
[null,null,null,null,null,null,null,null,null,null,null,null,null,null,{"$f":"IF(47<=$B$10,IF(LEN('１学期'!W19)=0,\"\",IF('１学期'!W19=$B$8,IF(LEN('１学期'!Z19)=0,\"\",'１学期'!Z19),\"\")),\"\")","v":""},{"$f":"IF(LEN(O47)=0,\"\",IF(COUNTIF(O47:$O$1921,O47+1)>0,\"\",O47+1))","v":""},{"$f":"IFERROR(SMALL($P$1:$P$1921,46),\"\")","v":""}]
[null,null,null,null,null,null,null,null,null,null,null,null,null,null,{"$f":"IF(48<=$B$10,IF(LEN('１学期'!W22)=0,\"\",IF('１学期'!W22=$B$8,IF(LEN('１学期'!Z22)=0,\"\",'１学期'!Z22),\"\")),\"\")","v":""},{"$f":"IF(LEN(O48)=0,\"\",IF(COUNTIF(O48:$O$1921,O48+1)>0,\"\",O48+1))","v":""},{"$f":"IFERROR(SMALL($P$1:$P$1921,47),\"\")","v":""}]
[null,null,null,null,null,null,null,null,null,null,null,null,null,null,{"$f":"IF(49<=$B$10,IF(LEN('１学期'!W25)=0,\"\",IF('１学期'!W25=$B$8,IF(LEN('１学期'!Z25)=0,\"\",'１学期'!Z25),\"\")),\"\")","v":""},{"$f":"IF(LEN(O49)=0,\"\",IF(COUNTIF(O49:$O$1921,O49+1)>0,\"\",O49+1))","v":""},{"$f":"IFERROR(SMALL($P$1:$P$1921,48),\"\")","v":""}]
[null,null,null,null,null,null,null,null,null,null,null,null,null,null,{"$f":"IF(50<=$B$10,IF(LEN('１学期'!AA6)=0,\"\",IF('１学期'!AA6=$B$8,IF(LEN('１学期'!AD6)=0,\"\",'１学期'!AD6),\"\")),\"\")","v":""},{"$f":"IF(LEN(O50)=0,\"\",IF(COUNTIF(O50:$O$1921,O50+1)>0,\"\",O50+1))","v":""},{"$f":"IFERROR(SMALL($P$1:$P$1921,49),\"\")","v":""}]
[null,null,null,null,null,null,null,null,null,null,null,null,null,null,{"$f":"IF(51<=$B$10,IF(LEN('１学期'!AA7)=0,\"\",IF('１学期'!AA7=$B$8,IF(LEN('１学期'!AD7)=0,\"\",'１学期'!AD7),\"\")),\"\")","v":""},{"$f":"IF(LEN(O51)=0,\"\",IF(COUNTIF(O51:$O$1921,O51+1)>0,\"\",O51+1))","v":""},{"$f":"IFERROR(SMALL($P$1:$P$1921,50),\"\")","v":""}]
[null,null,null,null,null,null,null,null,null,null,null,null,null,null,{"$f":"IF(52<=$B$10,IF(LEN('１学期'!AA10)=0,\"\",IF('１学期'!AA10=$B$8,IF(LEN('１学期'!AD10)=0,\"\",'１学期'!AD10),\"\")),\"\")","v":""},{"$f":"IF(LEN(O52)=0,\"\",IF(COUNTIF(O52:$O$1921,O52+1)>0,\"\",O52+1))","v":""},{"$f":"IFERROR(SMALL($P$1:$P$1921,51),\"\")","v":""}]
[null,null,null,null,null,null,null,null,null,null,null,null,null,null,{"$f":"IF(53<=$B$10,IF(LEN('１学期'!AA13)=0,\"\",IF('１学期'!AA13=$B$8,IF(LEN('１学期'!AD13)=0,\"\",'１学期'!AD13),\"\")),\"\")","v":""},{"$f":"IF(LEN(O53)=0,\"\",IF(COUNTIF(O53:$O$1921,O53+1)>0,\"\",O53+1))","v":""},{"$f":"IFERROR(SMALL($P$1:$P$1921,52),\"\")","v":""}]
[null,null,null,null,null,null,null,null,null,null,null,null,null,null,{"$f":"IF(54<=$B$10,IF(LEN('１学期'!AA16)=0,\"\",IF('１学期'!AA16=$B$8,IF(LEN('１学期'!AD16)=0,\"\",'１学期'!AD16),\"\")),\"\")","v":""},{"$f":"IF(LEN(O54)=0,\"\",IF(COUNTIF(O54:$O$1921,O54+1)>0,\"\",O54+1))","v":""},{"$f":"IFERROR(SMALL($P$1:$P$1921,53),\"\")","v":""}]
[null,null,null,null,null,null,null,null,null,null,null,null,null,null,{"$f":"IF(55<=$B$10,IF(LEN('１学期'!AA19)=0,\"\",IF('１学期'!AA19=$B$8,IF(LEN('１学期'!AD19)=0,\"\",'１学期'!AD19),\"\")),\"\")","v":""},{"$f":"IF(LEN(O55)=0,\"\",IF(COUNTIF(O55:$O$1921,O55+1)>0,\"\",O55+1))","v":""},{"$f":"IFERROR(SMALL($P$1:$P$1921,54),\"\")","v":""}]
[null,null,null,null,null,null,null,null,null,null,null,null,null,null,{"$f":"IF(56<=$B$10,IF(LEN('１学期'!AA22)=0,\"\",IF('１学期'!AA22=$B$8,IF(LEN('１学期'!AD22)=0,\"\",'１学期'!AD22),\"\")),\"\")","v":""},{"$f":"IF(LEN(O56)=0,\"\",IF(COUNTIF(O56:$O$1921,O56+1)>0,\"\",O56+1))","v":""},{"$f":"IFERROR(SMALL($P$1:$P$1921,55),\"\")","v":""}]
[null,null,null,null,null,null,null,null,null,null,null,null,null,null,{"$f":"IF(57<=$B$10,IF(LEN('１学期'!AA25)=0,\"\",IF('１学期'!AA25=$B$8,IF(LEN('１学期'!AD25)=0,\"\",'１学期'!AD25),\"\")),\"\")","v":""},{"$f":"IF(LEN(O57)=0,\"\",IF(COUNTIF(O57:$O$1921,O57+1)>0,\"\",O57+1))","v":""},{"$f":"IFERROR(SMALL($P$1:$P$1921,56),\"\")","v":""}]
[null,null,null,null,null,null,null,null,null,null,null,null,null,null,{"$f":"IF(58<=$B$10,IF(LEN('１学期'!AE6)=0,\"\",IF('１学期'!AE6=$B$8,IF(LEN('１学期'!AH6)=0,\"\",'１学期'!AH6),\"\")),\"\")","v":""},{"$f":"IF(LEN(O58)=0,\"\",IF(COUNTIF(O58:$O$1921,O58+1)>0,\"\",O58+1))","v":""},{"$f":"IFERROR(SMALL($P$1:$P$1921,57),\"\")","v":""}]
[null,null,null,null,null,null,null,null,null,null,null,null,null,null,{"$f":"IF(59<=$B$10,IF(LEN('１学期'!AE7)=0,\"\",IF('１学期'!AE7=$B$8,IF(LEN('１学期'!AH7)=0,\"\",'１学期'!AH7),\"\")),\"\")","v":""},{"$f":"IF(LEN(O59)=0,\"\",IF(COUNTIF(O59:$O$1921,O59+1)>0,\"\",O59+1))","v":""},{"$f":"IFERROR(SMALL($P$1:$P$1921,58),\"\")","v":""}]
[null,null,null,null,null,null,null,null,null,null,null,null,null,null,{"$f":"IF(60<=$B$10,IF(LEN('１学期'!AE10)=0,\"\",IF('１学期'!AE10=$B$8,IF(LEN('１学期'!AH10)=0,\"\",'１学期'!AH10),\"\")),\"\")","v":""},{"$f":"IF(LEN(O60)=0,\"\",IF(COUNTIF(O60:$O$1921,O60+1)>0,\"\",O60+1))","v":""},{"$f":"IFERROR(SMALL($P$1:$P$1921,59),\"\")","v":""}]
[null,null,null,null,null,null,null,null,null,null,null,null,null,null,{"$f":"IF(61<=$B$10,IF(LEN('１学期'!AE13)=0,\"\",IF('１学期'!AE13=$B$8,IF(LEN('１学期'!AH13)=0,\"\",'１学期'!AH13),\"\")),\"\")","v":""},{"$f":"IF(LEN(O61)=0,\"\",IF(COUNTIF(O61:$O$1921,O61+1)>0,\"\",O61+1))","v":""},{"$f":"IFERROR(SMALL($P$1:$P$1921,60),\"\")","v":""}]
[null,null,null,null,null,null,null,null,null,null,null,null,null,null,{"$f":"IF(62<=$B$10,IF(LEN('１学期'!AE16)=0,\"\",IF('１学期'!AE16=$B$8,IF(LEN('１学期'!AH16)=0,\"\",'１学期'!AH16),\"\")),\"\")","v":""},{"$f":"IF(LEN(O62)=0,\"\",IF(COUNTIF(O62:$O$1921,O62+1)>0,\"\",O62+1))","v":""},{"$f":"IFERROR(SMALL($P$1:$P$1921,61),\"\")","v":""}]
[null,null,null,null,null,null,null,null,null,null,null,null,null,null,{"$f":"IF(63<=$B$10,IF(LEN('１学期'!AE19)=0,\"\",IF('１学期'!AE19=$B$8,IF(LEN('１学期'!AH19)=0,\"\",'１学期'!AH19),\"\")),\"\")","v":""},{"$f":"IF(LEN(O63)=0,\"\",IF(COUNTIF(O63:$O$1921,O63+1)>0,\"\",O63+1))","v":""},{"$f":"IFERROR(SMALL($P$1:$P$1921,62),\"\")","v":""}]
[null,null,null,null,null,null,null,null,null,null,null,null,null,null,{"$f":"IF(64<=$B$10,IF(LEN('１学期'!AE22)=0,\"\",IF('１学期'!AE22=$B$8,IF(LEN('１学期'!AH22)=0,\"\",'１学期'!AH22),\"\")),\"\")","v":""},{"$f":"IF(LEN(O64)=0,\"\",IF(COUNTIF(O64:$O$1921,O64+1)>0,\"\",O64+1))","v":""},{"$f":"IFERROR(SMALL($P$1:$P$1921,63),\"\")","v":""}]
[null,null,null,null,null,null,null,null,null,null,null,null,null,null,{"$f":"IF(65<=$B$10,IF(LEN('１学期'!AE25)=0,\"\",IF('１学期'!AE25=$B$8,IF(LEN('１学期'!AH25)=0,\"\",'１学期'!AH25),\"\")),\"\")","v":""},{"$f":"IF(LEN(O65)=0,\"\",IF(COUNTIF(O65:$O$1921,O65+1)>0,\"\",O65+1))","v":""},{"$f":"IFERROR(SMALL($P$1:$P$1921,64),\"\")","v":""}]
[null,null,null,null,null,null,null,null,null,null,null,null,null,null,{"$f":"IF(66<=$B$10,IF(LEN('１学期'!AI6)=0,\"\",IF('１学期'!AI6=$B$8,IF(LEN('１学期'!AL6)=0,\"\",'１学期'!AL6),\"\")),\"\")","v":""},{"$f":"IF(LEN(O66)=0,\"\",IF(COUNTIF(O66:$O$1921,O66+1)>0,\"\",O66+1))","v":""},{"$f":"IFERROR(SMALL($P$1:$P$1921,65),\"\")","v":""}]
[null,null,null,null,null,null,null,null,null,null,null,null,null,null,{"$f":"IF(67<=$B$10,IF(LEN('１学期'!AI7)=0,\"\",IF('１学期'!AI7=$B$8,IF(LEN('１学期'!AL7)=0,\"\",'１学期'!AL7),\"\")),\"\")","v":""},{"$f":"IF(LEN(O67)=0,\"\",IF(COUNTIF(O67:$O$1921,O67+1)>0,\"\",O67+1))","v":""},{"$f":"IFERROR(SMALL($P$1:$P$1921,66),\"\")","v":""}]
[null,null,null,null,null,null,null,null,null,null,null,null,null,null,{"$f":"IF(68<=$B$10,IF(LEN('１学期'!AI10)=0,\"\",IF('１学期'!AI10=$B$8,IF(LEN('１学期'!AL10)=0,\"\",'１学期'!AL10),\"\")),\"\")","v":""},{"$f":"IF(LEN(O68)=0,\"\",IF(COUNTIF(O68:$O$1921,O68+1)>0,\"\",O68+1))","v":""},{"$f":"IFERROR(SMALL($P$1:$P$1921,67),\"\")","v":""}]
[null,null,null,null,null,null,null,null,null,null,null,null,null,null,{"$f":"IF(69<=$B$10,IF(LEN('１学期'!AI13)=0,\"\",IF('１学期'!AI13=$B$8,IF(LEN('１学期'!AL13)=0,\"\",'１学期'!AL13),\"\")),\"\")","v":""},{"$f":"IF(LEN(O69)=0,\"\",IF(COUNTIF(O69:$O$1921,O69+1)>0,\"\",O69+1))","v":""},{"$f":"IFERROR(SMALL($P$1:$P$1921,68),\"\")","v":""}]
[null,null,null,null,null,null,null,null,null,null,null,null,null,null,{"$f":"IF(70<=$B$10,IF(LEN('１学期'!AI16)=0,\"\",IF('１学期'!AI16=$B$8,IF(LEN('１学期'!AL16)=0,\"\",'１学期'!AL16),\"\")),\"\")","v":""},{"$f":"IF(LEN(O70)=0,\"\",IF(COUNTIF(O70:$O$1921,O70+1)>0,\"\",O70+1))","v":""},{"$f":"IFERROR(SMALL($P$1:$P$1921,69),\"\")","v":""}]
[null,null,null,null,null,null,null,null,null,null,null,null,null,null,{"$f":"IF(71<=$B$10,IF(LEN('１学期'!AI19)=0,\"\",IF('１学期'!AI19=$B$8,IF(LEN('１学期'!AL19)=0,\"\",'１学期'!AL19),\"\")),\"\")","v":""},{"$f":"IF(LEN(O71)=0,\"\",IF(COUNTIF(O71:$O$1921,O71+1)>0,\"\",O71+1))","v":""},{"$f":"IFERROR(SMALL($P$1:$P$1921,70),\"\")","v":""}]
[null,null,null,null,null,null,null,null,null,null,null,null,null,null,{"$f":"IF(72<=$B$10,IF(LEN('１学期'!AI22)=0,\"\",IF('１学期'!AI22=$B$8,IF(LEN('１学期'!AL22)=0,\"\",'１学期'!AL22),\"\")),\"\")","v":""},{"$f":"IF(LEN(O72)=0,\"\",IF(COUNTIF(O72:$O$1921,O72+1)>0,\"\",O72+1))","v":""},{"$f":"IFERROR(SMALL($P$1:$P$1921,71),\"\")","v":""}]
[null,null,null,null,null,null,null,null,null,null,null,null,null,null,{"$f":"IF(73<=$B$10,IF(LEN('１学期'!AI25)=0,\"\",IF('１学期'!AI25=$B$8,IF(LEN('１学期'!AL25)=0,\"\",'１学期'!AL25),\"\")),\"\")","v":""},{"$f":"IF(LEN(O73)=0,\"\",IF(COUNTIF(O73:$O$1921,O73+1)>0,\"\",O73+1))","v":""},{"$f":"IFERROR(SMALL($P$1:$P$1921,72),\"\")","v":""}]
[null,null,null,null,null,null,null,null,null,null,null,null,null,null,{"$f":"IF(74<=$B$10,IF(LEN('１学期'!AM6)=0,\"\",IF('１学期'!AM6=$B$8,IF(LEN('１学期'!AP6)=0,\"\",'１学期'!AP6),\"\")),\"\")","v":""},{"$f":"IF(LEN(O74)=0,\"\",IF(COUNTIF(O74:$O$1921,O74+1)>0,\"\",O74+1))","v":""},{"$f":"IFERROR(SMALL($P$1:$P$1921,73),\"\")","v":""}]
[null,null,null,null,null,null,null,null,null,null,null,null,null,null,{"$f":"IF(75<=$B$10,IF(LEN('１学期'!AM7)=0,\"\",IF('１学期'!AM7=$B$8,IF(LEN('１学期'!AP7)=0,\"\",'１学期'!AP7),\"\")),\"\")","v":""},{"$f":"IF(LEN(O75)=0,\"\",IF(COUNTIF(O75:$O$1921,O75+1)>0,\"\",O75+1))","v":""},{"$f":"IFERROR(SMALL($P$1:$P$1921,74),\"\")","v":""}]
[null,null,null,null,null,null,null,null,null,null,null,null,null,null,{"$f":"IF(76<=$B$10,IF(LEN('１学期'!AM10)=0,\"\",IF('１学期'!AM10=$B$8,IF(LEN('１学期'!AP10)=0,\"\",'１学期'!AP10),\"\")),\"\")","v":""},{"$f":"IF(LEN(O76)=0,\"\",IF(COUNTIF(O76:$O$1921,O76+1)>0,\"\",O76+1))","v":""},{"$f":"IFERROR(SMALL($P$1:$P$1921,75),\"\")","v":""}]
[null,null,null,null,null,null,null,null,null,null,null,null,null,null,{"$f":"IF(77<=$B$10,IF(LEN('１学期'!AM13)=0,\"\",IF('１学期'!AM13=$B$8,IF(LEN('１学期'!AP13)=0,\"\",'１学期'!AP13),\"\")),\"\")","v":""},{"$f":"IF(LEN(O77)=0,\"\",IF(COUNTIF(O77:$O$1921,O77+1)>0,\"\",O77+1))","v":""},{"$f":"IFERROR(SMALL($P$1:$P$1921,76),\"\")","v":""}]
[null,null,null,null,null,null,null,null,null,null,null,null,null,null,{"$f":"IF(78<=$B$10,IF(LEN('１学期'!AM16)=0,\"\",IF('１学期'!AM16=$B$8,IF(LEN('１学期'!AP16)=0,\"\",'１学期'!AP16),\"\")),\"\")","v":""},{"$f":"IF(LEN(O78)=0,\"\",IF(COUNTIF(O78:$O$1921,O78+1)>0,\"\",O78+1))","v":""},{"$f":"IFERROR(SMALL($P$1:$P$1921,77),\"\")","v":""}]
[null,null,null,null,null,null,null,null,null,null,null,null,null,null,{"$f":"IF(79<=$B$10,IF(LEN('１学期'!AM19)=0,\"\",IF('１学期'!AM19=$B$8,IF(LEN('１学期'!AP19)=0,\"\",'１学期'!AP19),\"\")),\"\")","v":""},{"$f":"IF(LEN(O79)=0,\"\",IF(COUNTIF(O79:$O$1921,O79+1)>0,\"\",O79+1))","v":""},{"$f":"IFERROR(SMALL($P$1:$P$1921,78),\"\")","v":""}]
[null,null,null,null,null,null,null,null,null,null,null,null,null,null,{"$f":"IF(80<=$B$10,IF(LEN('１学期'!AM22)=0,\"\",IF('１学期'!AM22=$B$8,IF(LEN('１学期'!AP22)=0,\"\",'１学期'!AP22),\"\")),\"\")","v":""},{"$f":"IF(LEN(O80)=0,\"\",IF(COUNTIF(O80:$O$1921,O80+1)>0,\"\",O80+1))","v":""},{"$f":"IFERROR(SMALL($P$1:$P$1921,79),\"\")","v":""}]
[null,null,null,null,null,null,null,null,null,null,null,null,null,null,{"$f":"IF(81<=$B$10,IF(LEN('１学期'!AM25)=0,\"\",IF('１学期'!AM25=$B$8,IF(LEN('１学期'!AP25)=0,\"\",'１学期'!AP25),\"\")),\"\")","v":""},{"$f":"IF(LEN(O81)=0,\"\",IF(COUNTIF(O81:$O$1921,O81+1)>0,\"\",O81+1))","v":""},{"$f":"IFERROR(SMALL($P$1:$P$1921,80),\"\")","v":""}]
[null,null,null,null,null,null,null,null,null,null,null,null,null,null,{"$f":"IF(82<=$B$10,IF(LEN('１学期'!AQ6)=0,\"\",IF('１学期'!AQ6=$B$8,IF(LEN('１学期'!AT6)=0,\"\",'１学期'!AT6),\"\")),\"\")","v":""},{"$f":"IF(LEN(O82)=0,\"\",IF(COUNTIF(O82:$O$1921,O82+1)>0,\"\",O82+1))","v":""},{"$f":"IFERROR(SMALL($P$1:$P$1921,81),\"\")","v":""}]
[null,null,null,null,null,null,null,null,null,null,null,null,null,null,{"$f":"IF(83<=$B$10,IF(LEN('１学期'!AQ7)=0,\"\",IF('１学期'!AQ7=$B$8,IF(LEN('１学期'!AT7)=0,\"\",'１学期'!AT7),\"\")),\"\")","v":""},{"$f":"IF(LEN(O83)=0,\"\",IF(COUNTIF(O83:$O$1921,O83+1)>0,\"\",O83+1))","v":""},{"$f":"IFERROR(SMALL($P$1:$P$1921,82),\"\")","v":""}]
[null,null,null,null,null,null,null,null,null,null,null,null,null,null,{"$f":"IF(84<=$B$10,IF(LEN('１学期'!AQ10)=0,\"\",IF('１学期'!AQ10=$B$8,IF(LEN('１学期'!AT10)=0,\"\",'１学期'!AT10),\"\")),\"\")","v":""},{"$f":"IF(LEN(O84)=0,\"\",IF(COUNTIF(O84:$O$1921,O84+1)>0,\"\",O84+1))","v":""},{"$f":"IFERROR(SMALL($P$1:$P$1921,83),\"\")","v":""}]
[null,null,null,null,null,null,null,null,null,null,null,null,null,null,{"$f":"IF(85<=$B$10,IF(LEN('１学期'!AQ13)=0,\"\",IF('１学期'!AQ13=$B$8,IF(LEN('１学期'!AT13)=0,\"\",'１学期'!AT13),\"\")),\"\")","v":""},{"$f":"IF(LEN(O85)=0,\"\",IF(COUNTIF(O85:$O$1921,O85+1)>0,\"\",O85+1))","v":""},{"$f":"IFERROR(SMALL($P$1:$P$1921,84),\"\")","v":""}]
[null,null,null,null,null,null,null,null,null,null,null,null,null,null,{"$f":"IF(86<=$B$10,IF(LEN('１学期'!AQ16)=0,\"\",IF('１学期'!AQ16=$B$8,IF(LEN('１学期'!AT16)=0,\"\",'１学期'!AT16),\"\")),\"\")","v":""},{"$f":"IF(LEN(O86)=0,\"\",IF(COUNTIF(O86:$O$1921,O86+1)>0,\"\",O86+1))","v":""},{"$f":"IFERROR(SMALL($P$1:$P$1921,85),\"\")","v":""}]
[null,null,null,null,null,null,null,null,null,null,null,null,null,null,{"$f":"IF(87<=$B$10,IF(LEN('１学期'!AQ19)=0,\"\",IF('１学期'!AQ19=$B$8,IF(LEN('１学期'!AT19)=0,\"\",'１学期'!AT19),\"\")),\"\")","v":""},{"$f":"IF(LEN(O87)=0,\"\",IF(COUNTIF(O87:$O$1921,O87+1)>0,\"\",O87+1))","v":""},{"$f":"IFERROR(SMALL($P$1:$P$1921,86),\"\")","v":""}]
[null,null,null,null,null,null,null,null,null,null,null,null,null,null,{"$f":"IF(88<=$B$10,IF(LEN('１学期'!AQ22)=0,\"\",IF('１学期'!AQ22=$B$8,IF(LEN('１学期'!AT22)=0,\"\",'１学期'!AT22),\"\")),\"\")","v":""},{"$f":"IF(LEN(O88)=0,\"\",IF(COUNTIF(O88:$O$1921,O88+1)>0,\"\",O88+1))","v":""},{"$f":"IFERROR(SMALL($P$1:$P$1921,87),\"\")","v":""}]
[null,null,null,null,null,null,null,null,null,null,null,null,null,null,{"$f":"IF(89<=$B$10,IF(LEN('１学期'!AQ25)=0,\"\",IF('１学期'!AQ25=$B$8,IF(LEN('１学期'!AT25)=0,\"\",'１学期'!AT25),\"\")),\"\")","v":""},{"$f":"IF(LEN(O89)=0,\"\",IF(COUNTIF(O89:$O$1921,O89+1)>0,\"\",O89+1))","v":""},{"$f":"IFERROR(SMALL($P$1:$P$1921,88),\"\")","v":""}]
[null,null,null,null,null,null,null,null,null,null,null,null,null,null,{"$f":"IF(90<=$B$10,IF(LEN('１学期'!AU6)=0,\"\",IF('１学期'!AU6=$B$8,IF(LEN('１学期'!AX6)=0,\"\",'１学期'!AX6),\"\")),\"\")","v":""},{"$f":"IF(LEN(O90)=0,\"\",IF(COUNTIF(O90:$O$1921,O90+1)>0,\"\",O90+1))","v":""},{"$f":"IFERROR(SMALL($P$1:$P$1921,89),\"\")","v":""}]
[null,null,null,null,null,null,null,null,null,null,null,null,null,null,{"$f":"IF(91<=$B$10,IF(LEN('１学期'!AU7)=0,\"\",IF('１学期'!AU7=$B$8,IF(LEN('１学期'!AX7)=0,\"\",'１学期'!AX7),\"\")),\"\")","v":""},{"$f":"IF(LEN(O91)=0,\"\",IF(COUNTIF(O91:$O$1921,O91+1)>0,\"\",O91+1))","v":""},{"$f":"IFERROR(SMALL($P$1:$P$1921,90),\"\")","v":""}]
[null,null,null,null,null,null,null,null,null,null,null,null,null,null,{"$f":"IF(92<=$B$10,IF(LEN('１学期'!AU10)=0,\"\",IF('１学期'!AU10=$B$8,IF(LEN('１学期'!AX10)=0,\"\",'１学期'!AX10),\"\")),\"\")","v":""},{"$f":"IF(LEN(O92)=0,\"\",IF(COUNTIF(O92:$O$1921,O92+1)>0,\"\",O92+1))","v":""},{"$f":"IFERROR(SMALL($P$1:$P$1921,91),\"\")","v":""}]
[null,null,null,null,null,null,null,null,null,null,null,null,null,null,{"$f":"IF(93<=$B$10,IF(LEN('１学期'!AU13)=0,\"\",IF('１学期'!AU13=$B$8,IF(LEN('１学期'!AX13)=0,\"\",'１学期'!AX13),\"\")),\"\")","v":""},{"$f":"IF(LEN(O93)=0,\"\",IF(COUNTIF(O93:$O$1921,O93+1)>0,\"\",O93+1))","v":""},{"$f":"IFERROR(SMALL($P$1:$P$1921,92),\"\")","v":""}]
[null,null,null,null,null,null,null,null,null,null,null,null,null,null,{"$f":"IF(94<=$B$10,IF(LEN('１学期'!AU16)=0,\"\",IF('１学期'!AU16=$B$8,IF(LEN('１学期'!AX16)=0,\"\",'１学期'!AX16),\"\")),\"\")","v":""},{"$f":"IF(LEN(O94)=0,\"\",IF(COUNTIF(O94:$O$1921,O94+1)>0,\"\",O94+1))","v":""},{"$f":"IFERROR(SMALL($P$1:$P$1921,93),\"\")","v":""}]
[null,null,null,null,null,null,null,null,null,null,null,null,null,null,{"$f":"IF(95<=$B$10,IF(LEN('１学期'!AU19)=0,\"\",IF('１学期'!AU19=$B$8,IF(LEN('１学期'!AX19)=0,\"\",'１学期'!AX19),\"\")),\"\")","v":""},{"$f":"IF(LEN(O95)=0,\"\",IF(COUNTIF(O95:$O$1921,O95+1)>0,\"\",O95+1))","v":""},{"$f":"IFERROR(SMALL($P$1:$P$1921,94),\"\")","v":""}]
[null,null,null,null,null,null,null,null,null,null,null,null,null,null,{"$f":"IF(96<=$B$10,IF(LEN('１学期'!AU22)=0,\"\",IF('１学期'!AU22=$B$8,IF(LEN('１学期'!AX22)=0,\"\",'１学期'!AX22),\"\")),\"\")","v":""},{"$f":"IF(LEN(O96)=0,\"\",IF(COUNTIF(O96:$O$1921,O96+1)>0,\"\",O96+1))","v":""},{"$f":"IFERROR(SMALL($P$1:$P$1921,95),\"\")","v":""}]
[null,null,null,null,null,null,null,null,null,null,null,null,null,null,{"$f":"IF(97<=$B$10,IF(LEN('１学期'!AU25)=0,\"\",IF('１学期'!AU25=$B$8,IF(LEN('１学期'!AX25)=0,\"\",'１学期'!AX25),\"\")),\"\")","v":""},{"$f":"IF(LEN(O97)=0,\"\",IF(COUNTIF(O97:$O$1921,O97+1)>0,\"\",O97+1))","v":""},{"$f":"IFERROR(SMALL($P$1:$P$1921,96),\"\")","v":""}]
[null,null,null,null,null,null,null,null,null,null,null,null,null,null,{"$f":"IF(98<=$B$10,IF(LEN('１学期'!AY6)=0,\"\",IF('１学期'!AY6=$B$8,IF(LEN('１学期'!BB6)=0,\"\",'１学期'!BB6),\"\")),\"\")","v":""},{"$f":"IF(LEN(O98)=0,\"\",IF(COUNTIF(O98:$O$1921,O98+1)>0,\"\",O98+1))","v":""},{"$f":"IFERROR(SMALL($P$1:$P$1921,97),\"\")","v":""}]
[null,null,null,null,null,null,null,null,null,null,null,null,null,null,{"$f":"IF(99<=$B$10,IF(LEN('１学期'!AY7)=0,\"\",IF('１学期'!AY7=$B$8,IF(LEN('１学期'!BB7)=0,\"\",'１学期'!BB7),\"\")),\"\")","v":""},{"$f":"IF(LEN(O99)=0,\"\",IF(COUNTIF(O99:$O$1921,O99+1)>0,\"\",O99+1))","v":""},{"$f":"IFERROR(SMALL($P$1:$P$1921,98),\"\")","v":""}]
[null,null,null,null,null,null,null,null,null,null,null,null,null,null,{"$f":"IF(100<=$B$10,IF(LEN('１学期'!AY10)=0,\"\",IF('１学期'!AY10=$B$8,IF(LEN('１学期'!BB10)=0,\"\",'１学期'!BB10),\"\")),\"\")","v":""},{"$f":"IF(LEN(O100)=0,\"\",IF(COUNTIF(O100:$O$1921,O100+1)>0,\"\",O100+1))","v":""},{"$f":"IFERROR(SMALL($P$1:$P$1921,99),\"\")","v":""}]
[null,null,null,null,null,null,null,null,null,null,null,null,null,null,{"$f":"IF(101<=$B$10,IF(LEN('１学期'!AY13)=0,\"\",IF('１学期'!AY13=$B$8,IF(LEN('１学期'!BB13)=0,\"\",'１学期'!BB13),\"\")),\"\")","v":""},{"$f":"IF(LEN(O101)=0,\"\",IF(COUNTIF(O101:$O$1921,O101+1)>0,\"\",O101+1))","v":""},{"$f":"IFERROR(SMALL($P$1:$P$1921,100),\"\")","v":""}]
[null,null,null,null,null,null,null,null,null,null,null,null,null,null,{"$f":"IF(102<=$B$10,IF(LEN('１学期'!AY16)=0,\"\",IF('１学期'!AY16=$B$8,IF(LEN('１学期'!BB16)=0,\"\",'１学期'!BB16),\"\")),\"\")","v":""},{"$f":"IF(LEN(O102)=0,\"\",IF(COUNTIF(O102:$O$1921,O102+1)>0,\"\",O102+1))","v":""},{"$f":"IFERROR(SMALL($P$1:$P$1921,101),\"\")","v":""}]
[null,null,null,null,null,null,null,null,null,null,null,null,null,null,{"$f":"IF(103<=$B$10,IF(LEN('１学期'!AY19)=0,\"\",IF('１学期'!AY19=$B$8,IF(LEN('１学期'!BB19)=0,\"\",'１学期'!BB19),\"\")),\"\")","v":""},{"$f":"IF(LEN(O103)=0,\"\",IF(COUNTIF(O103:$O$1921,O103+1)>0,\"\",O103+1))","v":""},{"$f":"IFERROR(SMALL($P$1:$P$1921,102),\"\")","v":""}]
[null,null,null,null,null,null,null,null,null,null,null,null,null,null,{"$f":"IF(104<=$B$10,IF(LEN('１学期'!AY22)=0,\"\",IF('１学期'!AY22=$B$8,IF(LEN('１学期'!BB22)=0,\"\",'１学期'!BB22),\"\")),\"\")","v":""},{"$f":"IF(LEN(O104)=0,\"\",IF(COUNTIF(O104:$O$1921,O104+1)>0,\"\",O104+1))","v":""},{"$f":"IFERROR(SMALL($P$1:$P$1921,103),\"\")","v":""}]
[null,null,null,null,null,null,null,null,null,null,null,null,null,null,{"$f":"IF(105<=$B$10,IF(LEN('１学期'!AY25)=0,\"\",IF('１学期'!AY25=$B$8,IF(LEN('１学期'!BB25)=0,\"\",'１学期'!BB25),\"\")),\"\")","v":""},{"$f":"IF(LEN(O105)=0,\"\",IF(COUNTIF(O105:$O$1921,O105+1)>0,\"\",O105+1))","v":""},{"$f":"IFERROR(SMALL($P$1:$P$1921,104),\"\")","v":""}]
[null,null,null,null,null,null,null,null,null,null,null,null,null,null,{"$f":"IF(106<=$B$10,IF(LEN('１学期'!BC6)=0,\"\",IF('１学期'!BC6=$B$8,IF(LEN('１学期'!BF6)=0,\"\",'１学期'!BF6),\"\")),\"\")","v":""},{"$f":"IF(LEN(O106)=0,\"\",IF(COUNTIF(O106:$O$1921,O106+1)>0,\"\",O106+1))","v":""},{"$f":"IFERROR(SMALL($P$1:$P$1921,105),\"\")","v":""}]
[null,null,null,null,null,null,null,null,null,null,null,null,null,null,{"$f":"IF(107<=$B$10,IF(LEN('１学期'!BC7)=0,\"\",IF('１学期'!BC7=$B$8,IF(LEN('１学期'!BF7)=0,\"\",'１学期'!BF7),\"\")),\"\")","v":""},{"$f":"IF(LEN(O107)=0,\"\",IF(COUNTIF(O107:$O$1921,O107+1)>0,\"\",O107+1))","v":""},{"$f":"IFERROR(SMALL($P$1:$P$1921,106),\"\")","v":""}]
[null,null,null,null,null,null,null,null,null,null,null,null,null,null,{"$f":"IF(108<=$B$10,IF(LEN('１学期'!BC10)=0,\"\",IF('１学期'!BC10=$B$8,IF(LEN('１学期'!BF10)=0,\"\",'１学期'!BF10),\"\")),\"\")","v":""},{"$f":"IF(LEN(O108)=0,\"\",IF(COUNTIF(O108:$O$1921,O108+1)>0,\"\",O108+1))","v":""},{"$f":"IFERROR(SMALL($P$1:$P$1921,107),\"\")","v":""}]
[null,null,null,null,null,null,null,null,null,null,null,null,null,null,{"$f":"IF(109<=$B$10,IF(LEN('１学期'!BC13)=0,\"\",IF('１学期'!BC13=$B$8,IF(LEN('１学期'!BF13)=0,\"\",'１学期'!BF13),\"\")),\"\")","v":""},{"$f":"IF(LEN(O109)=0,\"\",IF(COUNTIF(O109:$O$1921,O109+1)>0,\"\",O109+1))","v":""},{"$f":"IFERROR(SMALL($P$1:$P$1921,108),\"\")","v":""}]
[null,null,null,null,null,null,null,null,null,null,null,null,null,null,{"$f":"IF(110<=$B$10,IF(LEN('１学期'!BC16)=0,\"\",IF('１学期'!BC16=$B$8,IF(LEN('１学期'!BF16)=0,\"\",'１学期'!BF16),\"\")),\"\")","v":""},{"$f":"IF(LEN(O110)=0,\"\",IF(COUNTIF(O110:$O$1921,O110+1)>0,\"\",O110+1))","v":""},{"$f":"IFERROR(SMALL($P$1:$P$1921,109),\"\")","v":""}]
[null,null,null,null,null,null,null,null,null,null,null,null,null,null,{"$f":"IF(111<=$B$10,IF(LEN('１学期'!BC19)=0,\"\",IF('１学期'!BC19=$B$8,IF(LEN('１学期'!BF19)=0,\"\",'１学期'!BF19),\"\")),\"\")","v":""},{"$f":"IF(LEN(O111)=0,\"\",IF(COUNTIF(O111:$O$1921,O111+1)>0,\"\",O111+1))","v":""},{"$f":"IFERROR(SMALL($P$1:$P$1921,110),\"\")","v":""}]
[null,null,null,null,null,null,null,null,null,null,null,null,null,null,{"$f":"IF(112<=$B$10,IF(LEN('１学期'!BC22)=0,\"\",IF('１学期'!BC22=$B$8,IF(LEN('１学期'!BF22)=0,\"\",'１学期'!BF22),\"\")),\"\")","v":""},{"$f":"IF(LEN(O112)=0,\"\",IF(COUNTIF(O112:$O$1921,O112+1)>0,\"\",O112+1))","v":""},{"$f":"IFERROR(SMALL($P$1:$P$1921,111),\"\")","v":""}]
[null,null,null,null,null,null,null,null,null,null,null,null,null,null,{"$f":"IF(113<=$B$10,IF(LEN('１学期'!BC25)=0,\"\",IF('１学期'!BC25=$B$8,IF(LEN('１学期'!BF25)=0,\"\",'１学期'!BF25),\"\")),\"\")","v":""},{"$f":"IF(LEN(O113)=0,\"\",IF(COUNTIF(O113:$O$1921,O113+1)>0,\"\",O113+1))","v":""},{"$f":"IFERROR(SMALL($P$1:$P$1921,112),\"\")","v":""}]
[null,null,null,null,null,null,null,null,null,null,null,null,null,null,{"$f":"IF(114<=$B$10,IF(LEN('１学期'!BG6)=0,\"\",IF('１学期'!BG6=$B$8,IF(LEN('１学期'!BJ6)=0,\"\",'１学期'!BJ6),\"\")),\"\")","v":""},{"$f":"IF(LEN(O114)=0,\"\",IF(COUNTIF(O114:$O$1921,O114+1)>0,\"\",O114+1))","v":""},{"$f":"IFERROR(SMALL($P$1:$P$1921,113),\"\")","v":""}]
[null,null,null,null,null,null,null,null,null,null,null,null,null,null,{"$f":"IF(115<=$B$10,IF(LEN('１学期'!BG7)=0,\"\",IF('１学期'!BG7=$B$8,IF(LEN('１学期'!BJ7)=0,\"\",'１学期'!BJ7),\"\")),\"\")","v":""},{"$f":"IF(LEN(O115)=0,\"\",IF(COUNTIF(O115:$O$1921,O115+1)>0,\"\",O115+1))","v":""},{"$f":"IFERROR(SMALL($P$1:$P$1921,114),\"\")","v":""}]
[null,null,null,null,null,null,null,null,null,null,null,null,null,null,{"$f":"IF(116<=$B$10,IF(LEN('１学期'!BG10)=0,\"\",IF('１学期'!BG10=$B$8,IF(LEN('１学期'!BJ10)=0,\"\",'１学期'!BJ10),\"\")),\"\")","v":""},{"$f":"IF(LEN(O116)=0,\"\",IF(COUNTIF(O116:$O$1921,O116+1)>0,\"\",O116+1))","v":""},{"$f":"IFERROR(SMALL($P$1:$P$1921,115),\"\")","v":""}]
[null,null,null,null,null,null,null,null,null,null,null,null,null,null,{"$f":"IF(117<=$B$10,IF(LEN('１学期'!BG13)=0,\"\",IF('１学期'!BG13=$B$8,IF(LEN('１学期'!BJ13)=0,\"\",'１学期'!BJ13),\"\")),\"\")","v":""},{"$f":"IF(LEN(O117)=0,\"\",IF(COUNTIF(O117:$O$1921,O117+1)>0,\"\",O117+1))","v":""},{"$f":"IFERROR(SMALL($P$1:$P$1921,116),\"\")","v":""}]
[null,null,null,null,null,null,null,null,null,null,null,null,null,null,{"$f":"IF(118<=$B$10,IF(LEN('１学期'!BG16)=0,\"\",IF('１学期'!BG16=$B$8,IF(LEN('１学期'!BJ16)=0,\"\",'１学期'!BJ16),\"\")),\"\")","v":""},{"$f":"IF(LEN(O118)=0,\"\",IF(COUNTIF(O118:$O$1921,O118+1)>0,\"\",O118+1))","v":""},{"$f":"IFERROR(SMALL($P$1:$P$1921,117),\"\")","v":""}]
[null,null,null,null,null,null,null,null,null,null,null,null,null,null,{"$f":"IF(119<=$B$10,IF(LEN('１学期'!BG19)=0,\"\",IF('１学期'!BG19=$B$8,IF(LEN('１学期'!BJ19)=0,\"\",'１学期'!BJ19),\"\")),\"\")","v":""},{"$f":"IF(LEN(O119)=0,\"\",IF(COUNTIF(O119:$O$1921,O119+1)>0,\"\",O119+1))","v":""},{"$f":"IFERROR(SMALL($P$1:$P$1921,118),\"\")","v":""}]
[null,null,null,null,null,null,null,null,null,null,null,null,null,null,{"$f":"IF(120<=$B$10,IF(LEN('１学期'!BG22)=0,\"\",IF('１学期'!BG22=$B$8,IF(LEN('１学期'!BJ22)=0,\"\",'１学期'!BJ22),\"\")),\"\")","v":""},{"$f":"IF(LEN(O120)=0,\"\",IF(COUNTIF(O120:$O$1921,O120+1)>0,\"\",O120+1))","v":""},{"$f":"IFERROR(SMALL($P$1:$P$1921,119),\"\")","v":""}]
[null,null,null,null,null,null,null,null,null,null,null,null,null,null,{"$f":"IF(121<=$B$10,IF(LEN('１学期'!BG25)=0,\"\",IF('１学期'!BG25=$B$8,IF(LEN('１学期'!BJ25)=0,\"\",'１学期'!BJ25),\"\")),\"\")","v":""},{"$f":"IF(LEN(O121)=0,\"\",IF(COUNTIF(O121:$O$1921,O121+1)>0,\"\",O121+1))","v":""},{"$f":"IFERROR(SMALL($P$1:$P$1921,120),\"\")","v":""}]
[null,null,null,null,null,null,null,null,null,null,null,null,null,null,{"$f":"IF(122<=$B$10,IF(LEN('１学期'!BK6)=0,\"\",IF('１学期'!BK6=$B$8,IF(LEN('１学期'!BN6)=0,\"\",'１学期'!BN6),\"\")),\"\")","v":""},{"$f":"IF(LEN(O122)=0,\"\",IF(COUNTIF(O122:$O$1921,O122+1)>0,\"\",O122+1))","v":""},{"$f":"IFERROR(SMALL($P$1:$P$1921,121),\"\")","v":""}]
[null,null,null,null,null,null,null,null,null,null,null,null,null,null,{"$f":"IF(123<=$B$10,IF(LEN('１学期'!BK7)=0,\"\",IF('１学期'!BK7=$B$8,IF(LEN('１学期'!BN7)=0,\"\",'１学期'!BN7),\"\")),\"\")","v":""},{"$f":"IF(LEN(O123)=0,\"\",IF(COUNTIF(O123:$O$1921,O123+1)>0,\"\",O123+1))","v":""},{"$f":"IFERROR(SMALL($P$1:$P$1921,122),\"\")","v":""}]
[null,null,null,null,null,null,null,null,null,null,null,null,null,null,{"$f":"IF(124<=$B$10,IF(LEN('１学期'!BK10)=0,\"\",IF('１学期'!BK10=$B$8,IF(LEN('１学期'!BN10)=0,\"\",'１学期'!BN10),\"\")),\"\")","v":""},{"$f":"IF(LEN(O124)=0,\"\",IF(COUNTIF(O124:$O$1921,O124+1)>0,\"\",O124+1))","v":""},{"$f":"IFERROR(SMALL($P$1:$P$1921,123),\"\")","v":""}]
[null,null,null,null,null,null,null,null,null,null,null,null,null,null,{"$f":"IF(125<=$B$10,IF(LEN('１学期'!BK13)=0,\"\",IF('１学期'!BK13=$B$8,IF(LEN('１学期'!BN13)=0,\"\",'１学期'!BN13),\"\")),\"\")","v":""},{"$f":"IF(LEN(O125)=0,\"\",IF(COUNTIF(O125:$O$1921,O125+1)>0,\"\",O125+1))","v":""},{"$f":"IFERROR(SMALL($P$1:$P$1921,124),\"\")","v":""}]
[null,null,null,null,null,null,null,null,null,null,null,null,null,null,{"$f":"IF(126<=$B$10,IF(LEN('１学期'!BK16)=0,\"\",IF('１学期'!BK16=$B$8,IF(LEN('１学期'!BN16)=0,\"\",'１学期'!BN16),\"\")),\"\")","v":""},{"$f":"IF(LEN(O126)=0,\"\",IF(COUNTIF(O126:$O$1921,O126+1)>0,\"\",O126+1))","v":""},{"$f":"IFERROR(SMALL($P$1:$P$1921,125),\"\")","v":""}]
[null,null,null,null,null,null,null,null,null,null,null,null,null,null,{"$f":"IF(127<=$B$10,IF(LEN('１学期'!BK19)=0,\"\",IF('１学期'!BK19=$B$8,IF(LEN('１学期'!BN19)=0,\"\",'１学期'!BN19),\"\")),\"\")","v":""},{"$f":"IF(LEN(O127)=0,\"\",IF(COUNTIF(O127:$O$1921,O127+1)>0,\"\",O127+1))","v":""},{"$f":"IFERROR(SMALL($P$1:$P$1921,126),\"\")","v":""}]
[null,null,null,null,null,null,null,null,null,null,null,null,null,null,{"$f":"IF(128<=$B$10,IF(LEN('１学期'!BK22)=0,\"\",IF('１学期'!BK22=$B$8,IF(LEN('１学期'!BN22)=0,\"\",'１学期'!BN22),\"\")),\"\")","v":""},{"$f":"IF(LEN(O128)=0,\"\",IF(COUNTIF(O128:$O$1921,O128+1)>0,\"\",O128+1))","v":""},{"$f":"IFERROR(SMALL($P$1:$P$1921,127),\"\")","v":""}]
[null,null,null,null,null,null,null,null,null,null,null,null,null,null,{"$f":"IF(129<=$B$10,IF(LEN('１学期'!BK25)=0,\"\",IF('１学期'!BK25=$B$8,IF(LEN('１学期'!BN25)=0,\"\",'１学期'!BN25),\"\")),\"\")","v":""},{"$f":"IF(LEN(O129)=0,\"\",IF(COUNTIF(O129:$O$1921,O129+1)>0,\"\",O129+1))","v":""},{"$f":"IFERROR(SMALL($P$1:$P$1921,128),\"\")","v":""}]
[null,null,null,null,null,null,null,null,null,null,null,null,null,null,{"$f":"IF(130<=$B$10,IF(LEN('１学期'!BO6)=0,\"\",IF('１学期'!BO6=$B$8,IF(LEN('１学期'!BR6)=0,\"\",'１学期'!BR6),\"\")),\"\")","v":""},{"$f":"IF(LEN(O130)=0,\"\",IF(COUNTIF(O130:$O$1921,O130+1)>0,\"\",O130+1))","v":""},{"$f":"IFERROR(SMALL($P$1:$P$1921,129),\"\")","v":""}]
[null,null,null,null,null,null,null,null,null,null,null,null,null,null,{"$f":"IF(131<=$B$10,IF(LEN('１学期'!BO7)=0,\"\",IF('１学期'!BO7=$B$8,IF(LEN('１学期'!BR7)=0,\"\",'１学期'!BR7),\"\")),\"\")","v":""},{"$f":"IF(LEN(O131)=0,\"\",IF(COUNTIF(O131:$O$1921,O131+1)>0,\"\",O131+1))","v":""},{"$f":"IFERROR(SMALL($P$1:$P$1921,130),\"\")","v":""}]
[null,null,null,null,null,null,null,null,null,null,null,null,null,null,{"$f":"IF(132<=$B$10,IF(LEN('１学期'!BO10)=0,\"\",IF('１学期'!BO10=$B$8,IF(LEN('１学期'!BR10)=0,\"\",'１学期'!BR10),\"\")),\"\")","v":""},{"$f":"IF(LEN(O132)=0,\"\",IF(COUNTIF(O132:$O$1921,O132+1)>0,\"\",O132+1))","v":""},{"$f":"IFERROR(SMALL($P$1:$P$1921,131),\"\")","v":""}]
[null,null,null,null,null,null,null,null,null,null,null,null,null,null,{"$f":"IF(133<=$B$10,IF(LEN('１学期'!BO13)=0,\"\",IF('１学期'!BO13=$B$8,IF(LEN('１学期'!BR13)=0,\"\",'１学期'!BR13),\"\")),\"\")","v":""},{"$f":"IF(LEN(O133)=0,\"\",IF(COUNTIF(O133:$O$1921,O133+1)>0,\"\",O133+1))","v":""},{"$f":"IFERROR(SMALL($P$1:$P$1921,132),\"\")","v":""}]
[null,null,null,null,null,null,null,null,null,null,null,null,null,null,{"$f":"IF(134<=$B$10,IF(LEN('１学期'!BO16)=0,\"\",IF('１学期'!BO16=$B$8,IF(LEN('１学期'!BR16)=0,\"\",'１学期'!BR16),\"\")),\"\")","v":""},{"$f":"IF(LEN(O134)=0,\"\",IF(COUNTIF(O134:$O$1921,O134+1)>0,\"\",O134+1))","v":""},{"$f":"IFERROR(SMALL($P$1:$P$1921,133),\"\")","v":""}]
[null,null,null,null,null,null,null,null,null,null,null,null,null,null,{"$f":"IF(135<=$B$10,IF(LEN('１学期'!BO19)=0,\"\",IF('１学期'!BO19=$B$8,IF(LEN('１学期'!BR19)=0,\"\",'１学期'!BR19),\"\")),\"\")","v":""},{"$f":"IF(LEN(O135)=0,\"\",IF(COUNTIF(O135:$O$1921,O135+1)>0,\"\",O135+1))","v":""},{"$f":"IFERROR(SMALL($P$1:$P$1921,134),\"\")","v":""}]
[null,null,null,null,null,null,null,null,null,null,null,null,null,null,{"$f":"IF(136<=$B$10,IF(LEN('１学期'!BO22)=0,\"\",IF('１学期'!BO22=$B$8,IF(LEN('１学期'!BR22)=0,\"\",'１学期'!BR22),\"\")),\"\")","v":""},{"$f":"IF(LEN(O136)=0,\"\",IF(COUNTIF(O136:$O$1921,O136+1)>0,\"\",O136+1))","v":""},{"$f":"IFERROR(SMALL($P$1:$P$1921,135),\"\")","v":""}]
[null,null,null,null,null,null,null,null,null,null,null,null,null,null,{"$f":"IF(137<=$B$10,IF(LEN('１学期'!BO25)=0,\"\",IF('１学期'!BO25=$B$8,IF(LEN('１学期'!BR25)=0,\"\",'１学期'!BR25),\"\")),\"\")","v":""},{"$f":"IF(LEN(O137)=0,\"\",IF(COUNTIF(O137:$O$1921,O137+1)>0,\"\",O137+1))","v":""},{"$f":"IFERROR(SMALL($P$1:$P$1921,136),\"\")","v":""}]
[null,null,null,null,null,null,null,null,null,null,null,null,null,null,{"$f":"IF(138<=$B$10,IF(LEN('１学期'!BS6)=0,\"\",IF('１学期'!BS6=$B$8,IF(LEN('１学期'!BV6)=0,\"\",'１学期'!BV6),\"\")),\"\")","v":""},{"$f":"IF(LEN(O138)=0,\"\",IF(COUNTIF(O138:$O$1921,O138+1)>0,\"\",O138+1))","v":""},{"$f":"IFERROR(SMALL($P$1:$P$1921,137),\"\")","v":""}]
[null,null,null,null,null,null,null,null,null,null,null,null,null,null,{"$f":"IF(139<=$B$10,IF(LEN('１学期'!BS7)=0,\"\",IF('１学期'!BS7=$B$8,IF(LEN('１学期'!BV7)=0,\"\",'１学期'!BV7),\"\")),\"\")","v":""},{"$f":"IF(LEN(O139)=0,\"\",IF(COUNTIF(O139:$O$1921,O139+1)>0,\"\",O139+1))","v":""},{"$f":"IFERROR(SMALL($P$1:$P$1921,138),\"\")","v":""}]
[null,null,null,null,null,null,null,null,null,null,null,null,null,null,{"$f":"IF(140<=$B$10,IF(LEN('１学期'!BS10)=0,\"\",IF('１学期'!BS10=$B$8,IF(LEN('１学期'!BV10)=0,\"\",'１学期'!BV10),\"\")),\"\")","v":""},{"$f":"IF(LEN(O140)=0,\"\",IF(COUNTIF(O140:$O$1921,O140+1)>0,\"\",O140+1))","v":""},{"$f":"IFERROR(SMALL($P$1:$P$1921,139),\"\")","v":""}]
[null,null,null,null,null,null,null,null,null,null,null,null,null,null,{"$f":"IF(141<=$B$10,IF(LEN('１学期'!BS13)=0,\"\",IF('１学期'!BS13=$B$8,IF(LEN('１学期'!BV13)=0,\"\",'１学期'!BV13),\"\")),\"\")","v":""},{"$f":"IF(LEN(O141)=0,\"\",IF(COUNTIF(O141:$O$1921,O141+1)>0,\"\",O141+1))","v":""},{"$f":"IFERROR(SMALL($P$1:$P$1921,140),\"\")","v":""}]
[null,null,null,null,null,null,null,null,null,null,null,null,null,null,{"$f":"IF(142<=$B$10,IF(LEN('１学期'!BS16)=0,\"\",IF('１学期'!BS16=$B$8,IF(LEN('１学期'!BV16)=0,\"\",'１学期'!BV16),\"\")),\"\")","v":""},{"$f":"IF(LEN(O142)=0,\"\",IF(COUNTIF(O142:$O$1921,O142+1)>0,\"\",O142+1))","v":""},{"$f":"IFERROR(SMALL($P$1:$P$1921,141),\"\")","v":""}]
[null,null,null,null,null,null,null,null,null,null,null,null,null,null,{"$f":"IF(143<=$B$10,IF(LEN('１学期'!BS19)=0,\"\",IF('１学期'!BS19=$B$8,IF(LEN('１学期'!BV19)=0,\"\",'１学期'!BV19),\"\")),\"\")","v":""},{"$f":"IF(LEN(O143)=0,\"\",IF(COUNTIF(O143:$O$1921,O143+1)>0,\"\",O143+1))","v":""},{"$f":"IFERROR(SMALL($P$1:$P$1921,142),\"\")","v":""}]
[null,null,null,null,null,null,null,null,null,null,null,null,null,null,{"$f":"IF(144<=$B$10,IF(LEN('１学期'!BS22)=0,\"\",IF('１学期'!BS22=$B$8,IF(LEN('１学期'!BV22)=0,\"\",'１学期'!BV22),\"\")),\"\")","v":""},{"$f":"IF(LEN(O144)=0,\"\",IF(COUNTIF(O144:$O$1921,O144+1)>0,\"\",O144+1))","v":""},{"$f":"IFERROR(SMALL($P$1:$P$1921,143),\"\")","v":""}]
[null,null,null,null,null,null,null,null,null,null,null,null,null,null,{"$f":"IF(145<=$B$10,IF(LEN('１学期'!BS25)=0,\"\",IF('１学期'!BS25=$B$8,IF(LEN('１学期'!BV25)=0,\"\",'１学期'!BV25),\"\")),\"\")","v":""},{"$f":"IF(LEN(O145)=0,\"\",IF(COUNTIF(O145:$O$1921,O145+1)>0,\"\",O145+1))","v":""},{"$f":"IFERROR(SMALL($P$1:$P$1921,144),\"\")","v":""}]
[null,null,null,null,null,null,null,null,null,null,null,null,null,null,{"$f":"IF(146<=$B$10,IF(LEN('１学期'!BW6)=0,\"\",IF('１学期'!BW6=$B$8,IF(LEN('１学期'!BZ6)=0,\"\",'１学期'!BZ6),\"\")),\"\")","v":""},{"$f":"IF(LEN(O146)=0,\"\",IF(COUNTIF(O146:$O$1921,O146+1)>0,\"\",O146+1))","v":""},{"$f":"IFERROR(SMALL($P$1:$P$1921,145),\"\")","v":""}]
[null,null,null,null,null,null,null,null,null,null,null,null,null,null,{"$f":"IF(147<=$B$10,IF(LEN('１学期'!BW7)=0,\"\",IF('１学期'!BW7=$B$8,IF(LEN('１学期'!BZ7)=0,\"\",'１学期'!BZ7),\"\")),\"\")","v":""},{"$f":"IF(LEN(O147)=0,\"\",IF(COUNTIF(O147:$O$1921,O147+1)>0,\"\",O147+1))","v":""},{"$f":"IFERROR(SMALL($P$1:$P$1921,146),\"\")","v":""}]
[null,null,null,null,null,null,null,null,null,null,null,null,null,null,{"$f":"IF(148<=$B$10,IF(LEN('１学期'!BW10)=0,\"\",IF('１学期'!BW10=$B$8,IF(LEN('１学期'!BZ10)=0,\"\",'１学期'!BZ10),\"\")),\"\")","v":""},{"$f":"IF(LEN(O148)=0,\"\",IF(COUNTIF(O148:$O$1921,O148+1)>0,\"\",O148+1))","v":""},{"$f":"IFERROR(SMALL($P$1:$P$1921,147),\"\")","v":""}]
[null,null,null,null,null,null,null,null,null,null,null,null,null,null,{"$f":"IF(149<=$B$10,IF(LEN('１学期'!BW13)=0,\"\",IF('１学期'!BW13=$B$8,IF(LEN('１学期'!BZ13)=0,\"\",'１学期'!BZ13),\"\")),\"\")","v":""},{"$f":"IF(LEN(O149)=0,\"\",IF(COUNTIF(O149:$O$1921,O149+1)>0,\"\",O149+1))","v":""},{"$f":"IFERROR(SMALL($P$1:$P$1921,148),\"\")","v":""}]
[null,null,null,null,null,null,null,null,null,null,null,null,null,null,{"$f":"IF(150<=$B$10,IF(LEN('１学期'!BW16)=0,\"\",IF('１学期'!BW16=$B$8,IF(LEN('１学期'!BZ16)=0,\"\",'１学期'!BZ16),\"\")),\"\")","v":""},{"$f":"IF(LEN(O150)=0,\"\",IF(COUNTIF(O150:$O$1921,O150+1)>0,\"\",O150+1))","v":""},{"$f":"IFERROR(SMALL($P$1:$P$1921,149),\"\")","v":""}]
[null,null,null,null,null,null,null,null,null,null,null,null,null,null,{"$f":"IF(151<=$B$10,IF(LEN('１学期'!BW19)=0,\"\",IF('１学期'!BW19=$B$8,IF(LEN('１学期'!BZ19)=0,\"\",'１学期'!BZ19),\"\")),\"\")","v":""},{"$f":"IF(LEN(O151)=0,\"\",IF(COUNTIF(O151:$O$1921,O151+1)>0,\"\",O151+1))","v":""},{"$f":"IFERROR(SMALL($P$1:$P$1921,150),\"\")","v":""}]
[null,null,null,null,null,null,null,null,null,null,null,null,null,null,{"$f":"IF(152<=$B$10,IF(LEN('１学期'!BW22)=0,\"\",IF('１学期'!BW22=$B$8,IF(LEN('１学期'!BZ22)=0,\"\",'１学期'!BZ22),\"\")),\"\")","v":""},{"$f":"IF(LEN(O152)=0,\"\",IF(COUNTIF(O152:$O$1921,O152+1)>0,\"\",O152+1))","v":""},{"$f":"IFERROR(SMALL($P$1:$P$1921,151),\"\")","v":""}]
[null,null,null,null,null,null,null,null,null,null,null,null,null,null,{"$f":"IF(153<=$B$10,IF(LEN('１学期'!BW25)=0,\"\",IF('１学期'!BW25=$B$8,IF(LEN('１学期'!BZ25)=0,\"\",'１学期'!BZ25),\"\")),\"\")","v":""},{"$f":"IF(LEN(O153)=0,\"\",IF(COUNTIF(O153:$O$1921,O153+1)>0,\"\",O153+1))","v":""},{"$f":"IFERROR(SMALL($P$1:$P$1921,152),\"\")","v":""}]
[null,null,null,null,null,null,null,null,null,null,null,null,null,null,{"$f":"IF(154<=$B$10,IF(LEN('１学期'!CA6)=0,\"\",IF('１学期'!CA6=$B$8,IF(LEN('１学期'!CD6)=0,\"\",'１学期'!CD6),\"\")),\"\")","v":""},{"$f":"IF(LEN(O154)=0,\"\",IF(COUNTIF(O154:$O$1921,O154+1)>0,\"\",O154+1))","v":""},{"$f":"IFERROR(SMALL($P$1:$P$1921,153),\"\")","v":""}]
[null,null,null,null,null,null,null,null,null,null,null,null,null,null,{"$f":"IF(155<=$B$10,IF(LEN('１学期'!CA7)=0,\"\",IF('１学期'!CA7=$B$8,IF(LEN('１学期'!CD7)=0,\"\",'１学期'!CD7),\"\")),\"\")","v":""},{"$f":"IF(LEN(O155)=0,\"\",IF(COUNTIF(O155:$O$1921,O155+1)>0,\"\",O155+1))","v":""},{"$f":"IFERROR(SMALL($P$1:$P$1921,154),\"\")","v":""}]
[null,null,null,null,null,null,null,null,null,null,null,null,null,null,{"$f":"IF(156<=$B$10,IF(LEN('１学期'!CA10)=0,\"\",IF('１学期'!CA10=$B$8,IF(LEN('１学期'!CD10)=0,\"\",'１学期'!CD10),\"\")),\"\")","v":""},{"$f":"IF(LEN(O156)=0,\"\",IF(COUNTIF(O156:$O$1921,O156+1)>0,\"\",O156+1))","v":""},{"$f":"IFERROR(SMALL($P$1:$P$1921,155),\"\")","v":""}]
[null,null,null,null,null,null,null,null,null,null,null,null,null,null,{"$f":"IF(157<=$B$10,IF(LEN('１学期'!CA13)=0,\"\",IF('１学期'!CA13=$B$8,IF(LEN('１学期'!CD13)=0,\"\",'１学期'!CD13),\"\")),\"\")","v":""},{"$f":"IF(LEN(O157)=0,\"\",IF(COUNTIF(O157:$O$1921,O157+1)>0,\"\",O157+1))","v":""},{"$f":"IFERROR(SMALL($P$1:$P$1921,156),\"\")","v":""}]
[null,null,null,null,null,null,null,null,null,null,null,null,null,null,{"$f":"IF(158<=$B$10,IF(LEN('１学期'!CA16)=0,\"\",IF('１学期'!CA16=$B$8,IF(LEN('１学期'!CD16)=0,\"\",'１学期'!CD16),\"\")),\"\")","v":""},{"$f":"IF(LEN(O158)=0,\"\",IF(COUNTIF(O158:$O$1921,O158+1)>0,\"\",O158+1))","v":""},{"$f":"IFERROR(SMALL($P$1:$P$1921,157),\"\")","v":""}]
[null,null,null,null,null,null,null,null,null,null,null,null,null,null,{"$f":"IF(159<=$B$10,IF(LEN('１学期'!CA19)=0,\"\",IF('１学期'!CA19=$B$8,IF(LEN('１学期'!CD19)=0,\"\",'１学期'!CD19),\"\")),\"\")","v":""},{"$f":"IF(LEN(O159)=0,\"\",IF(COUNTIF(O159:$O$1921,O159+1)>0,\"\",O159+1))","v":""},{"$f":"IFERROR(SMALL($P$1:$P$1921,158),\"\")","v":""}]
[null,null,null,null,null,null,null,null,null,null,null,null,null,null,{"$f":"IF(160<=$B$10,IF(LEN('１学期'!CA22)=0,\"\",IF('１学期'!CA22=$B$8,IF(LEN('１学期'!CD22)=0,\"\",'１学期'!CD22),\"\")),\"\")","v":""},{"$f":"IF(LEN(O160)=0,\"\",IF(COUNTIF(O160:$O$1921,O160+1)>0,\"\",O160+1))","v":""},{"$f":"IFERROR(SMALL($P$1:$P$1921,159),\"\")","v":""}]
[null,null,null,null,null,null,null,null,null,null,null,null,null,null,{"$f":"IF(161<=$B$10,IF(LEN('１学期'!CA25)=0,\"\",IF('１学期'!CA25=$B$8,IF(LEN('１学期'!CD25)=0,\"\",'１学期'!CD25),\"\")),\"\")","v":""},{"$f":"IF(LEN(O161)=0,\"\",IF(COUNTIF(O161:$O$1921,O161+1)>0,\"\",O161+1))","v":""},{"$f":"IFERROR(SMALL($P$1:$P$1921,160),\"\")","v":""}]
[null,null,null,null,null,null,null,null,null,null,null,null,null,null,{"$f":"IF(162<=$B$10,IF(LEN('１学期'!CE6)=0,\"\",IF('１学期'!CE6=$B$8,IF(LEN('１学期'!CH6)=0,\"\",'１学期'!CH6),\"\")),\"\")","v":""},{"$f":"IF(LEN(O162)=0,\"\",IF(COUNTIF(O162:$O$1921,O162+1)>0,\"\",O162+1))","v":""},{"$f":"IFERROR(SMALL($P$1:$P$1921,161),\"\")","v":""}]
[null,null,null,null,null,null,null,null,null,null,null,null,null,null,{"$f":"IF(163<=$B$10,IF(LEN('１学期'!CE7)=0,\"\",IF('１学期'!CE7=$B$8,IF(LEN('１学期'!CH7)=0,\"\",'１学期'!CH7),\"\")),\"\")","v":""},{"$f":"IF(LEN(O163)=0,\"\",IF(COUNTIF(O163:$O$1921,O163+1)>0,\"\",O163+1))","v":""},{"$f":"IFERROR(SMALL($P$1:$P$1921,162),\"\")","v":""}]
[null,null,null,null,null,null,null,null,null,null,null,null,null,null,{"$f":"IF(164<=$B$10,IF(LEN('１学期'!CE10)=0,\"\",IF('１学期'!CE10=$B$8,IF(LEN('１学期'!CH10)=0,\"\",'１学期'!CH10),\"\")),\"\")","v":""},{"$f":"IF(LEN(O164)=0,\"\",IF(COUNTIF(O164:$O$1921,O164+1)>0,\"\",O164+1))","v":""},{"$f":"IFERROR(SMALL($P$1:$P$1921,163),\"\")","v":""}]
[null,null,null,null,null,null,null,null,null,null,null,null,null,null,{"$f":"IF(165<=$B$10,IF(LEN('１学期'!CE13)=0,\"\",IF('１学期'!CE13=$B$8,IF(LEN('１学期'!CH13)=0,\"\",'１学期'!CH13),\"\")),\"\")","v":""},{"$f":"IF(LEN(O165)=0,\"\",IF(COUNTIF(O165:$O$1921,O165+1)>0,\"\",O165+1))","v":""},{"$f":"IFERROR(SMALL($P$1:$P$1921,164),\"\")","v":""}]
[null,null,null,null,null,null,null,null,null,null,null,null,null,null,{"$f":"IF(166<=$B$10,IF(LEN('１学期'!CE16)=0,\"\",IF('１学期'!CE16=$B$8,IF(LEN('１学期'!CH16)=0,\"\",'１学期'!CH16),\"\")),\"\")","v":""},{"$f":"IF(LEN(O166)=0,\"\",IF(COUNTIF(O166:$O$1921,O166+1)>0,\"\",O166+1))","v":""},{"$f":"IFERROR(SMALL($P$1:$P$1921,165),\"\")","v":""}]
[null,null,null,null,null,null,null,null,null,null,null,null,null,null,{"$f":"IF(167<=$B$10,IF(LEN('１学期'!CE19)=0,\"\",IF('１学期'!CE19=$B$8,IF(LEN('１学期'!CH19)=0,\"\",'１学期'!CH19),\"\")),\"\")","v":""},{"$f":"IF(LEN(O167)=0,\"\",IF(COUNTIF(O167:$O$1921,O167+1)>0,\"\",O167+1))","v":""},{"$f":"IFERROR(SMALL($P$1:$P$1921,166),\"\")","v":""}]
[null,null,null,null,null,null,null,null,null,null,null,null,null,null,{"$f":"IF(168<=$B$10,IF(LEN('１学期'!CE22)=0,\"\",IF('１学期'!CE22=$B$8,IF(LEN('１学期'!CH22)=0,\"\",'１学期'!CH22),\"\")),\"\")","v":""},{"$f":"IF(LEN(O168)=0,\"\",IF(COUNTIF(O168:$O$1921,O168+1)>0,\"\",O168+1))","v":""},{"$f":"IFERROR(SMALL($P$1:$P$1921,167),\"\")","v":""}]
[null,null,null,null,null,null,null,null,null,null,null,null,null,null,{"$f":"IF(169<=$B$10,IF(LEN('１学期'!CE25)=0,\"\",IF('１学期'!CE25=$B$8,IF(LEN('１学期'!CH25)=0,\"\",'１学期'!CH25),\"\")),\"\")","v":""},{"$f":"IF(LEN(O169)=0,\"\",IF(COUNTIF(O169:$O$1921,O169+1)>0,\"\",O169+1))","v":""},{"$f":"IFERROR(SMALL($P$1:$P$1921,168),\"\")","v":""}]
[null,null,null,null,null,null,null,null,null,null,null,null,null,null,{"$f":"IF(170<=$B$10,IF(LEN('１学期'!CI6)=0,\"\",IF('１学期'!CI6=$B$8,IF(LEN('１学期'!CL6)=0,\"\",'１学期'!CL6),\"\")),\"\")","v":""},{"$f":"IF(LEN(O170)=0,\"\",IF(COUNTIF(O170:$O$1921,O170+1)>0,\"\",O170+1))","v":""},{"$f":"IFERROR(SMALL($P$1:$P$1921,169),\"\")","v":""}]
[null,null,null,null,null,null,null,null,null,null,null,null,null,null,{"$f":"IF(171<=$B$10,IF(LEN('１学期'!CI7)=0,\"\",IF('１学期'!CI7=$B$8,IF(LEN('１学期'!CL7)=0,\"\",'１学期'!CL7),\"\")),\"\")","v":""},{"$f":"IF(LEN(O171)=0,\"\",IF(COUNTIF(O171:$O$1921,O171+1)>0,\"\",O171+1))","v":""},{"$f":"IFERROR(SMALL($P$1:$P$1921,170),\"\")","v":""}]
[null,null,null,null,null,null,null,null,null,null,null,null,null,null,{"$f":"IF(172<=$B$10,IF(LEN('１学期'!CI10)=0,\"\",IF('１学期'!CI10=$B$8,IF(LEN('１学期'!CL10)=0,\"\",'１学期'!CL10),\"\")),\"\")","v":""},{"$f":"IF(LEN(O172)=0,\"\",IF(COUNTIF(O172:$O$1921,O172+1)>0,\"\",O172+1))","v":""},{"$f":"IFERROR(SMALL($P$1:$P$1921,171),\"\")","v":""}]
[null,null,null,null,null,null,null,null,null,null,null,null,null,null,{"$f":"IF(173<=$B$10,IF(LEN('１学期'!CI13)=0,\"\",IF('１学期'!CI13=$B$8,IF(LEN('１学期'!CL13)=0,\"\",'１学期'!CL13),\"\")),\"\")","v":""},{"$f":"IF(LEN(O173)=0,\"\",IF(COUNTIF(O173:$O$1921,O173+1)>0,\"\",O173+1))","v":""},{"$f":"IFERROR(SMALL($P$1:$P$1921,172),\"\")","v":""}]
[null,null,null,null,null,null,null,null,null,null,null,null,null,null,{"$f":"IF(174<=$B$10,IF(LEN('１学期'!CI16)=0,\"\",IF('１学期'!CI16=$B$8,IF(LEN('１学期'!CL16)=0,\"\",'１学期'!CL16),\"\")),\"\")","v":""},{"$f":"IF(LEN(O174)=0,\"\",IF(COUNTIF(O174:$O$1921,O174+1)>0,\"\",O174+1))","v":""},{"$f":"IFERROR(SMALL($P$1:$P$1921,173),\"\")","v":""}]
[null,null,null,null,null,null,null,null,null,null,null,null,null,null,{"$f":"IF(175<=$B$10,IF(LEN('１学期'!CI19)=0,\"\",IF('１学期'!CI19=$B$8,IF(LEN('１学期'!CL19)=0,\"\",'１学期'!CL19),\"\")),\"\")","v":""},{"$f":"IF(LEN(O175)=0,\"\",IF(COUNTIF(O175:$O$1921,O175+1)>0,\"\",O175+1))","v":""},{"$f":"IFERROR(SMALL($P$1:$P$1921,174),\"\")","v":""}]
[null,null,null,null,null,null,null,null,null,null,null,null,null,null,{"$f":"IF(176<=$B$10,IF(LEN('１学期'!CI22)=0,\"\",IF('１学期'!CI22=$B$8,IF(LEN('１学期'!CL22)=0,\"\",'１学期'!CL22),\"\")),\"\")","v":""},{"$f":"IF(LEN(O176)=0,\"\",IF(COUNTIF(O176:$O$1921,O176+1)>0,\"\",O176+1))","v":""},{"$f":"IFERROR(SMALL($P$1:$P$1921,175),\"\")","v":""}]
[null,null,null,null,null,null,null,null,null,null,null,null,null,null,{"$f":"IF(177<=$B$10,IF(LEN('１学期'!CI25)=0,\"\",IF('１学期'!CI25=$B$8,IF(LEN('１学期'!CL25)=0,\"\",'１学期'!CL25),\"\")),\"\")","v":""},{"$f":"IF(LEN(O177)=0,\"\",IF(COUNTIF(O177:$O$1921,O177+1)>0,\"\",O177+1))","v":""},{"$f":"IFERROR(SMALL($P$1:$P$1921,176),\"\")","v":""}]
[null,null,null,null,null,null,null,null,null,null,null,null,null,null,{"$f":"IF(178<=$B$10,IF(LEN('１学期'!CM6)=0,\"\",IF('１学期'!CM6=$B$8,IF(LEN('１学期'!CP6)=0,\"\",'１学期'!CP6),\"\")),\"\")","v":""},{"$f":"IF(LEN(O178)=0,\"\",IF(COUNTIF(O178:$O$1921,O178+1)>0,\"\",O178+1))","v":""},{"$f":"IFERROR(SMALL($P$1:$P$1921,177),\"\")","v":""}]
[null,null,null,null,null,null,null,null,null,null,null,null,null,null,{"$f":"IF(179<=$B$10,IF(LEN('１学期'!CM7)=0,\"\",IF('１学期'!CM7=$B$8,IF(LEN('１学期'!CP7)=0,\"\",'１学期'!CP7),\"\")),\"\")","v":""},{"$f":"IF(LEN(O179)=0,\"\",IF(COUNTIF(O179:$O$1921,O179+1)>0,\"\",O179+1))","v":""},{"$f":"IFERROR(SMALL($P$1:$P$1921,178),\"\")","v":""}]
[null,null,null,null,null,null,null,null,null,null,null,null,null,null,{"$f":"IF(180<=$B$10,IF(LEN('１学期'!CM10)=0,\"\",IF('１学期'!CM10=$B$8,IF(LEN('１学期'!CP10)=0,\"\",'１学期'!CP10),\"\")),\"\")","v":""},{"$f":"IF(LEN(O180)=0,\"\",IF(COUNTIF(O180:$O$1921,O180+1)>0,\"\",O180+1))","v":""},{"$f":"IFERROR(SMALL($P$1:$P$1921,179),\"\")","v":""}]
[null,null,null,null,null,null,null,null,null,null,null,null,null,null,{"$f":"IF(181<=$B$10,IF(LEN('１学期'!CM13)=0,\"\",IF('１学期'!CM13=$B$8,IF(LEN('１学期'!CP13)=0,\"\",'１学期'!CP13),\"\")),\"\")","v":""},{"$f":"IF(LEN(O181)=0,\"\",IF(COUNTIF(O181:$O$1921,O181+1)>0,\"\",O181+1))","v":""},{"$f":"IFERROR(SMALL($P$1:$P$1921,180),\"\")","v":""}]
[null,null,null,null,null,null,null,null,null,null,null,null,null,null,{"$f":"IF(182<=$B$10,IF(LEN('１学期'!CM16)=0,\"\",IF('１学期'!CM16=$B$8,IF(LEN('１学期'!CP16)=0,\"\",'１学期'!CP16),\"\")),\"\")","v":""},{"$f":"IF(LEN(O182)=0,\"\",IF(COUNTIF(O182:$O$1921,O182+1)>0,\"\",O182+1))","v":""},{"$f":"IFERROR(SMALL($P$1:$P$1921,181),\"\")","v":""}]
[null,null,null,null,null,null,null,null,null,null,null,null,null,null,{"$f":"IF(183<=$B$10,IF(LEN('１学期'!CM19)=0,\"\",IF('１学期'!CM19=$B$8,IF(LEN('１学期'!CP19)=0,\"\",'１学期'!CP19),\"\")),\"\")","v":""},{"$f":"IF(LEN(O183)=0,\"\",IF(COUNTIF(O183:$O$1921,O183+1)>0,\"\",O183+1))","v":""},{"$f":"IFERROR(SMALL($P$1:$P$1921,182),\"\")","v":""}]
[null,null,null,null,null,null,null,null,null,null,null,null,null,null,{"$f":"IF(184<=$B$10,IF(LEN('１学期'!CM22)=0,\"\",IF('１学期'!CM22=$B$8,IF(LEN('１学期'!CP22)=0,\"\",'１学期'!CP22),\"\")),\"\")","v":""},{"$f":"IF(LEN(O184)=0,\"\",IF(COUNTIF(O184:$O$1921,O184+1)>0,\"\",O184+1))","v":""},{"$f":"IFERROR(SMALL($P$1:$P$1921,183),\"\")","v":""}]
[null,null,null,null,null,null,null,null,null,null,null,null,null,null,{"$f":"IF(185<=$B$10,IF(LEN('１学期'!CM25)=0,\"\",IF('１学期'!CM25=$B$8,IF(LEN('１学期'!CP25)=0,\"\",'１学期'!CP25),\"\")),\"\")","v":""},{"$f":"IF(LEN(O185)=0,\"\",IF(COUNTIF(O185:$O$1921,O185+1)>0,\"\",O185+1))","v":""},{"$f":"IFERROR(SMALL($P$1:$P$1921,184),\"\")","v":""}]
[null,null,null,null,null,null,null,null,null,null,null,null,null,null,{"$f":"IF(186<=$B$10,IF(LEN('１学期'!CQ6)=0,\"\",IF('１学期'!CQ6=$B$8,IF(LEN('１学期'!CT6)=0,\"\",'１学期'!CT6),\"\")),\"\")","v":""},{"$f":"IF(LEN(O186)=0,\"\",IF(COUNTIF(O186:$O$1921,O186+1)>0,\"\",O186+1))","v":""},{"$f":"IFERROR(SMALL($P$1:$P$1921,185),\"\")","v":""}]
[null,null,null,null,null,null,null,null,null,null,null,null,null,null,{"$f":"IF(187<=$B$10,IF(LEN('１学期'!CQ7)=0,\"\",IF('１学期'!CQ7=$B$8,IF(LEN('１学期'!CT7)=0,\"\",'１学期'!CT7),\"\")),\"\")","v":""},{"$f":"IF(LEN(O187)=0,\"\",IF(COUNTIF(O187:$O$1921,O187+1)>0,\"\",O187+1))","v":""},{"$f":"IFERROR(SMALL($P$1:$P$1921,186),\"\")","v":""}]
[null,null,null,null,null,null,null,null,null,null,null,null,null,null,{"$f":"IF(188<=$B$10,IF(LEN('１学期'!CQ10)=0,\"\",IF('１学期'!CQ10=$B$8,IF(LEN('１学期'!CT10)=0,\"\",'１学期'!CT10),\"\")),\"\")","v":""},{"$f":"IF(LEN(O188)=0,\"\",IF(COUNTIF(O188:$O$1921,O188+1)>0,\"\",O188+1))","v":""},{"$f":"IFERROR(SMALL($P$1:$P$1921,187),\"\")","v":""}]
[null,null,null,null,null,null,null,null,null,null,null,null,null,null,{"$f":"IF(189<=$B$10,IF(LEN('１学期'!CQ13)=0,\"\",IF('１学期'!CQ13=$B$8,IF(LEN('１学期'!CT13)=0,\"\",'１学期'!CT13),\"\")),\"\")","v":""},{"$f":"IF(LEN(O189)=0,\"\",IF(COUNTIF(O189:$O$1921,O189+1)>0,\"\",O189+1))","v":""},{"$f":"IFERROR(SMALL($P$1:$P$1921,188),\"\")","v":""}]
[null,null,null,null,null,null,null,null,null,null,null,null,null,null,{"$f":"IF(190<=$B$10,IF(LEN('１学期'!CQ16)=0,\"\",IF('１学期'!CQ16=$B$8,IF(LEN('１学期'!CT16)=0,\"\",'１学期'!CT16),\"\")),\"\")","v":""},{"$f":"IF(LEN(O190)=0,\"\",IF(COUNTIF(O190:$O$1921,O190+1)>0,\"\",O190+1))","v":""},{"$f":"IFERROR(SMALL($P$1:$P$1921,189),\"\")","v":""}]
[null,null,null,null,null,null,null,null,null,null,null,null,null,null,{"$f":"IF(191<=$B$10,IF(LEN('１学期'!CQ19)=0,\"\",IF('１学期'!CQ19=$B$8,IF(LEN('１学期'!CT19)=0,\"\",'１学期'!CT19),\"\")),\"\")","v":""},{"$f":"IF(LEN(O191)=0,\"\",IF(COUNTIF(O191:$O$1921,O191+1)>0,\"\",O191+1))","v":""},{"$f":"IFERROR(SMALL($P$1:$P$1921,190),\"\")","v":""}]
[null,null,null,null,null,null,null,null,null,null,null,null,null,null,{"$f":"IF(192<=$B$10,IF(LEN('１学期'!CQ22)=0,\"\",IF('１学期'!CQ22=$B$8,IF(LEN('１学期'!CT22)=0,\"\",'１学期'!CT22),\"\")),\"\")","v":""},{"$f":"IF(LEN(O192)=0,\"\",IF(COUNTIF(O192:$O$1921,O192+1)>0,\"\",O192+1))","v":""},{"$f":"IFERROR(SMALL($P$1:$P$1921,191),\"\")","v":""}]
[null,null,null,null,null,null,null,null,null,null,null,null,null,null,{"$f":"IF(193<=$B$10,IF(LEN('１学期'!CQ25)=0,\"\",IF('１学期'!CQ25=$B$8,IF(LEN('１学期'!CT25)=0,\"\",'１学期'!CT25),\"\")),\"\")","v":""},{"$f":"IF(LEN(O193)=0,\"\",IF(COUNTIF(O193:$O$1921,O193+1)>0,\"\",O193+1))","v":""},{"$f":"IFERROR(SMALL($P$1:$P$1921,192),\"\")","v":""}]
[null,null,null,null,null,null,null,null,null,null,null,null,null,null,{"$f":"IF(194<=$B$10,IF(LEN('１学期'!CU6)=0,\"\",IF('１学期'!CU6=$B$8,IF(LEN('１学期'!CX6)=0,\"\",'１学期'!CX6),\"\")),\"\")","v":""},{"$f":"IF(LEN(O194)=0,\"\",IF(COUNTIF(O194:$O$1921,O194+1)>0,\"\",O194+1))","v":""},{"$f":"IFERROR(SMALL($P$1:$P$1921,193),\"\")","v":""}]
[null,null,null,null,null,null,null,null,null,null,null,null,null,null,{"$f":"IF(195<=$B$10,IF(LEN('１学期'!CU7)=0,\"\",IF('１学期'!CU7=$B$8,IF(LEN('１学期'!CX7)=0,\"\",'１学期'!CX7),\"\")),\"\")","v":""},{"$f":"IF(LEN(O195)=0,\"\",IF(COUNTIF(O195:$O$1921,O195+1)>0,\"\",O195+1))","v":""},{"$f":"IFERROR(SMALL($P$1:$P$1921,194),\"\")","v":""}]
[null,null,null,null,null,null,null,null,null,null,null,null,null,null,{"$f":"IF(196<=$B$10,IF(LEN('１学期'!CU10)=0,\"\",IF('１学期'!CU10=$B$8,IF(LEN('１学期'!CX10)=0,\"\",'１学期'!CX10),\"\")),\"\")","v":""},{"$f":"IF(LEN(O196)=0,\"\",IF(COUNTIF(O196:$O$1921,O196+1)>0,\"\",O196+1))","v":""},{"$f":"IFERROR(SMALL($P$1:$P$1921,195),\"\")","v":""}]
[null,null,null,null,null,null,null,null,null,null,null,null,null,null,{"$f":"IF(197<=$B$10,IF(LEN('１学期'!CU13)=0,\"\",IF('１学期'!CU13=$B$8,IF(LEN('１学期'!CX13)=0,\"\",'１学期'!CX13),\"\")),\"\")","v":""},{"$f":"IF(LEN(O197)=0,\"\",IF(COUNTIF(O197:$O$1921,O197+1)>0,\"\",O197+1))","v":""},{"$f":"IFERROR(SMALL($P$1:$P$1921,196),\"\")","v":""}]
[null,null,null,null,null,null,null,null,null,null,null,null,null,null,{"$f":"IF(198<=$B$10,IF(LEN('１学期'!CU16)=0,\"\",IF('１学期'!CU16=$B$8,IF(LEN('１学期'!CX16)=0,\"\",'１学期'!CX16),\"\")),\"\")","v":""},{"$f":"IF(LEN(O198)=0,\"\",IF(COUNTIF(O198:$O$1921,O198+1)>0,\"\",O198+1))","v":""},{"$f":"IFERROR(SMALL($P$1:$P$1921,197),\"\")","v":""}]
[null,null,null,null,null,null,null,null,null,null,null,null,null,null,{"$f":"IF(199<=$B$10,IF(LEN('１学期'!CU19)=0,\"\",IF('１学期'!CU19=$B$8,IF(LEN('１学期'!CX19)=0,\"\",'１学期'!CX19),\"\")),\"\")","v":""},{"$f":"IF(LEN(O199)=0,\"\",IF(COUNTIF(O199:$O$1921,O199+1)>0,\"\",O199+1))","v":""},{"$f":"IFERROR(SMALL($P$1:$P$1921,198),\"\")","v":""}]
[null,null,null,null,null,null,null,null,null,null,null,null,null,null,{"$f":"IF(200<=$B$10,IF(LEN('１学期'!CU22)=0,\"\",IF('１学期'!CU22=$B$8,IF(LEN('１学期'!CX22)=0,\"\",'１学期'!CX22),\"\")),\"\")","v":""},{"$f":"IF(LEN(O200)=0,\"\",IF(COUNTIF(O200:$O$1921,O200+1)>0,\"\",O200+1))","v":""},{"$f":"IFERROR(SMALL($P$1:$P$1921,199),\"\")","v":""}]
[null,null,null,null,null,null,null,null,null,null,null,null,null,null,{"$f":"IF(201<=$B$10,IF(LEN('１学期'!CU25)=0,\"\",IF('１学期'!CU25=$B$8,IF(LEN('１学期'!CX25)=0,\"\",'１学期'!CX25),\"\")),\"\")","v":""},{"$f":"IF(LEN(O201)=0,\"\",IF(COUNTIF(O201:$O$1921,O201+1)>0,\"\",O201+1))","v":""},{"$f":"IFERROR(SMALL($P$1:$P$1921,200),\"\")","v":""}]
[null,null,null,null,null,null,null,null,null,null,null,null,null,null,{"$f":"IF(202<=$B$10,IF(LEN('１学期'!CY6)=0,\"\",IF('１学期'!CY6=$B$8,IF(LEN('１学期'!DB6)=0,\"\",'１学期'!DB6),\"\")),\"\")","v":""},{"$f":"IF(LEN(O202)=0,\"\",IF(COUNTIF(O202:$O$1921,O202+1)>0,\"\",O202+1))","v":""},{"$f":"IFERROR(SMALL($P$1:$P$1921,201),\"\")","v":""}]
[null,null,null,null,null,null,null,null,null,null,null,null,null,null,{"$f":"IF(203<=$B$10,IF(LEN('１学期'!CY7)=0,\"\",IF('１学期'!CY7=$B$8,IF(LEN('１学期'!DB7)=0,\"\",'１学期'!DB7),\"\")),\"\")","v":""},{"$f":"IF(LEN(O203)=0,\"\",IF(COUNTIF(O203:$O$1921,O203+1)>0,\"\",O203+1))","v":""},{"$f":"IFERROR(SMALL($P$1:$P$1921,202),\"\")","v":""}]
[null,null,null,null,null,null,null,null,null,null,null,null,null,null,{"$f":"IF(204<=$B$10,IF(LEN('１学期'!CY10)=0,\"\",IF('１学期'!CY10=$B$8,IF(LEN('１学期'!DB10)=0,\"\",'１学期'!DB10),\"\")),\"\")","v":""},{"$f":"IF(LEN(O204)=0,\"\",IF(COUNTIF(O204:$O$1921,O204+1)>0,\"\",O204+1))","v":""},{"$f":"IFERROR(SMALL($P$1:$P$1921,203),\"\")","v":""}]
[null,null,null,null,null,null,null,null,null,null,null,null,null,null,{"$f":"IF(205<=$B$10,IF(LEN('１学期'!CY13)=0,\"\",IF('１学期'!CY13=$B$8,IF(LEN('１学期'!DB13)=0,\"\",'１学期'!DB13),\"\")),\"\")","v":""},{"$f":"IF(LEN(O205)=0,\"\",IF(COUNTIF(O205:$O$1921,O205+1)>0,\"\",O205+1))","v":""},{"$f":"IFERROR(SMALL($P$1:$P$1921,204),\"\")","v":""}]
[null,null,null,null,null,null,null,null,null,null,null,null,null,null,{"$f":"IF(206<=$B$10,IF(LEN('１学期'!CY16)=0,\"\",IF('１学期'!CY16=$B$8,IF(LEN('１学期'!DB16)=0,\"\",'１学期'!DB16),\"\")),\"\")","v":""},{"$f":"IF(LEN(O206)=0,\"\",IF(COUNTIF(O206:$O$1921,O206+1)>0,\"\",O206+1))","v":""},{"$f":"IFERROR(SMALL($P$1:$P$1921,205),\"\")","v":""}]
[null,null,null,null,null,null,null,null,null,null,null,null,null,null,{"$f":"IF(207<=$B$10,IF(LEN('１学期'!CY19)=0,\"\",IF('１学期'!CY19=$B$8,IF(LEN('１学期'!DB19)=0,\"\",'１学期'!DB19),\"\")),\"\")","v":""},{"$f":"IF(LEN(O207)=0,\"\",IF(COUNTIF(O207:$O$1921,O207+1)>0,\"\",O207+1))","v":""},{"$f":"IFERROR(SMALL($P$1:$P$1921,206),\"\")","v":""}]
[null,null,null,null,null,null,null,null,null,null,null,null,null,null,{"$f":"IF(208<=$B$10,IF(LEN('１学期'!CY22)=0,\"\",IF('１学期'!CY22=$B$8,IF(LEN('１学期'!DB22)=0,\"\",'１学期'!DB22),\"\")),\"\")","v":""},{"$f":"IF(LEN(O208)=0,\"\",IF(COUNTIF(O208:$O$1921,O208+1)>0,\"\",O208+1))","v":""},{"$f":"IFERROR(SMALL($P$1:$P$1921,207),\"\")","v":""}]
[null,null,null,null,null,null,null,null,null,null,null,null,null,null,{"$f":"IF(209<=$B$10,IF(LEN('１学期'!CY25)=0,\"\",IF('１学期'!CY25=$B$8,IF(LEN('１学期'!DB25)=0,\"\",'１学期'!DB25),\"\")),\"\")","v":""},{"$f":"IF(LEN(O209)=0,\"\",IF(COUNTIF(O209:$O$1921,O209+1)>0,\"\",O209+1))","v":""},{"$f":"IFERROR(SMALL($P$1:$P$1921,208),\"\")","v":""}]
[null,null,null,null,null,null,null,null,null,null,null,null,null,null,{"$f":"IF(210<=$B$10,IF(LEN('１学期'!DC6)=0,\"\",IF('１学期'!DC6=$B$8,IF(LEN('１学期'!DF6)=0,\"\",'１学期'!DF6),\"\")),\"\")","v":""},{"$f":"IF(LEN(O210)=0,\"\",IF(COUNTIF(O210:$O$1921,O210+1)>0,\"\",O210+1))","v":""},{"$f":"IFERROR(SMALL($P$1:$P$1921,209),\"\")","v":""}]
[null,null,null,null,null,null,null,null,null,null,null,null,null,null,{"$f":"IF(211<=$B$10,IF(LEN('１学期'!DC7)=0,\"\",IF('１学期'!DC7=$B$8,IF(LEN('１学期'!DF7)=0,\"\",'１学期'!DF7),\"\")),\"\")","v":""},{"$f":"IF(LEN(O211)=0,\"\",IF(COUNTIF(O211:$O$1921,O211+1)>0,\"\",O211+1))","v":""},{"$f":"IFERROR(SMALL($P$1:$P$1921,210),\"\")","v":""}]
[null,null,null,null,null,null,null,null,null,null,null,null,null,null,{"$f":"IF(212<=$B$10,IF(LEN('１学期'!DC10)=0,\"\",IF('１学期'!DC10=$B$8,IF(LEN('１学期'!DF10)=0,\"\",'１学期'!DF10),\"\")),\"\")","v":""},{"$f":"IF(LEN(O212)=0,\"\",IF(COUNTIF(O212:$O$1921,O212+1)>0,\"\",O212+1))","v":""},{"$f":"IFERROR(SMALL($P$1:$P$1921,211),\"\")","v":""}]
[null,null,null,null,null,null,null,null,null,null,null,null,null,null,{"$f":"IF(213<=$B$10,IF(LEN('１学期'!DC13)=0,\"\",IF('１学期'!DC13=$B$8,IF(LEN('１学期'!DF13)=0,\"\",'１学期'!DF13),\"\")),\"\")","v":""},{"$f":"IF(LEN(O213)=0,\"\",IF(COUNTIF(O213:$O$1921,O213+1)>0,\"\",O213+1))","v":""},{"$f":"IFERROR(SMALL($P$1:$P$1921,212),\"\")","v":""}]
[null,null,null,null,null,null,null,null,null,null,null,null,null,null,{"$f":"IF(214<=$B$10,IF(LEN('１学期'!DC16)=0,\"\",IF('１学期'!DC16=$B$8,IF(LEN('１学期'!DF16)=0,\"\",'１学期'!DF16),\"\")),\"\")","v":""},{"$f":"IF(LEN(O214)=0,\"\",IF(COUNTIF(O214:$O$1921,O214+1)>0,\"\",O214+1))","v":""},{"$f":"IFERROR(SMALL($P$1:$P$1921,213),\"\")","v":""}]
[null,null,null,null,null,null,null,null,null,null,null,null,null,null,{"$f":"IF(215<=$B$10,IF(LEN('１学期'!DC19)=0,\"\",IF('１学期'!DC19=$B$8,IF(LEN('１学期'!DF19)=0,\"\",'１学期'!DF19),\"\")),\"\")","v":""},{"$f":"IF(LEN(O215)=0,\"\",IF(COUNTIF(O215:$O$1921,O215+1)>0,\"\",O215+1))","v":""},{"$f":"IFERROR(SMALL($P$1:$P$1921,214),\"\")","v":""}]
[null,null,null,null,null,null,null,null,null,null,null,null,null,null,{"$f":"IF(216<=$B$10,IF(LEN('１学期'!DC22)=0,\"\",IF('１学期'!DC22=$B$8,IF(LEN('１学期'!DF22)=0,\"\",'１学期'!DF22),\"\")),\"\")","v":""},{"$f":"IF(LEN(O216)=0,\"\",IF(COUNTIF(O216:$O$1921,O216+1)>0,\"\",O216+1))","v":""},{"$f":"IFERROR(SMALL($P$1:$P$1921,215),\"\")","v":""}]
[null,null,null,null,null,null,null,null,null,null,null,null,null,null,{"$f":"IF(217<=$B$10,IF(LEN('１学期'!DC25)=0,\"\",IF('１学期'!DC25=$B$8,IF(LEN('１学期'!DF25)=0,\"\",'１学期'!DF25),\"\")),\"\")","v":""},{"$f":"IF(LEN(O217)=0,\"\",IF(COUNTIF(O217:$O$1921,O217+1)>0,\"\",O217+1))","v":""},{"$f":"IFERROR(SMALL($P$1:$P$1921,216),\"\")","v":""}]
[null,null,null,null,null,null,null,null,null,null,null,null,null,null,{"$f":"IF(218<=$B$10,IF(LEN('１学期'!DG6)=0,\"\",IF('１学期'!DG6=$B$8,IF(LEN('１学期'!DJ6)=0,\"\",'１学期'!DJ6),\"\")),\"\")","v":""},{"$f":"IF(LEN(O218)=0,\"\",IF(COUNTIF(O218:$O$1921,O218+1)>0,\"\",O218+1))","v":""},{"$f":"IFERROR(SMALL($P$1:$P$1921,217),\"\")","v":""}]
[null,null,null,null,null,null,null,null,null,null,null,null,null,null,{"$f":"IF(219<=$B$10,IF(LEN('１学期'!DG7)=0,\"\",IF('１学期'!DG7=$B$8,IF(LEN('１学期'!DJ7)=0,\"\",'１学期'!DJ7),\"\")),\"\")","v":""},{"$f":"IF(LEN(O219)=0,\"\",IF(COUNTIF(O219:$O$1921,O219+1)>0,\"\",O219+1))","v":""},{"$f":"IFERROR(SMALL($P$1:$P$1921,218),\"\")","v":""}]
[null,null,null,null,null,null,null,null,null,null,null,null,null,null,{"$f":"IF(220<=$B$10,IF(LEN('１学期'!DG10)=0,\"\",IF('１学期'!DG10=$B$8,IF(LEN('１学期'!DJ10)=0,\"\",'１学期'!DJ10),\"\")),\"\")","v":""},{"$f":"IF(LEN(O220)=0,\"\",IF(COUNTIF(O220:$O$1921,O220+1)>0,\"\",O220+1))","v":""},{"$f":"IFERROR(SMALL($P$1:$P$1921,219),\"\")","v":""}]
[null,null,null,null,null,null,null,null,null,null,null,null,null,null,{"$f":"IF(221<=$B$10,IF(LEN('１学期'!DG13)=0,\"\",IF('１学期'!DG13=$B$8,IF(LEN('１学期'!DJ13)=0,\"\",'１学期'!DJ13),\"\")),\"\")","v":""},{"$f":"IF(LEN(O221)=0,\"\",IF(COUNTIF(O221:$O$1921,O221+1)>0,\"\",O221+1))","v":""},{"$f":"IFERROR(SMALL($P$1:$P$1921,220),\"\")","v":""}]
[null,null,null,null,null,null,null,null,null,null,null,null,null,null,{"$f":"IF(222<=$B$10,IF(LEN('１学期'!DG16)=0,\"\",IF('１学期'!DG16=$B$8,IF(LEN('１学期'!DJ16)=0,\"\",'１学期'!DJ16),\"\")),\"\")","v":""},{"$f":"IF(LEN(O222)=0,\"\",IF(COUNTIF(O222:$O$1921,O222+1)>0,\"\",O222+1))","v":""},{"$f":"IFERROR(SMALL($P$1:$P$1921,221),\"\")","v":""}]
[null,null,null,null,null,null,null,null,null,null,null,null,null,null,{"$f":"IF(223<=$B$10,IF(LEN('１学期'!DG19)=0,\"\",IF('１学期'!DG19=$B$8,IF(LEN('１学期'!DJ19)=0,\"\",'１学期'!DJ19),\"\")),\"\")","v":""},{"$f":"IF(LEN(O223)=0,\"\",IF(COUNTIF(O223:$O$1921,O223+1)>0,\"\",O223+1))","v":""},{"$f":"IFERROR(SMALL($P$1:$P$1921,222),\"\")","v":""}]
[null,null,null,null,null,null,null,null,null,null,null,null,null,null,{"$f":"IF(224<=$B$10,IF(LEN('１学期'!DG22)=0,\"\",IF('１学期'!DG22=$B$8,IF(LEN('１学期'!DJ22)=0,\"\",'１学期'!DJ22),\"\")),\"\")","v":""},{"$f":"IF(LEN(O224)=0,\"\",IF(COUNTIF(O224:$O$1921,O224+1)>0,\"\",O224+1))","v":""},{"$f":"IFERROR(SMALL($P$1:$P$1921,223),\"\")","v":""}]
[null,null,null,null,null,null,null,null,null,null,null,null,null,null,{"$f":"IF(225<=$B$10,IF(LEN('１学期'!DG25)=0,\"\",IF('１学期'!DG25=$B$8,IF(LEN('１学期'!DJ25)=0,\"\",'１学期'!DJ25),\"\")),\"\")","v":""},{"$f":"IF(LEN(O225)=0,\"\",IF(COUNTIF(O225:$O$1921,O225+1)>0,\"\",O225+1))","v":""},{"$f":"IFERROR(SMALL($P$1:$P$1921,224),\"\")","v":""}]
[null,null,null,null,null,null,null,null,null,null,null,null,null,null,{"$f":"IF(226<=$B$10,IF(LEN('１学期'!DK6)=0,\"\",IF('１学期'!DK6=$B$8,IF(LEN('１学期'!DN6)=0,\"\",'１学期'!DN6),\"\")),\"\")","v":""},{"$f":"IF(LEN(O226)=0,\"\",IF(COUNTIF(O226:$O$1921,O226+1)>0,\"\",O226+1))","v":""},{"$f":"IFERROR(SMALL($P$1:$P$1921,225),\"\")","v":""}]
[null,null,null,null,null,null,null,null,null,null,null,null,null,null,{"$f":"IF(227<=$B$10,IF(LEN('１学期'!DK7)=0,\"\",IF('１学期'!DK7=$B$8,IF(LEN('１学期'!DN7)=0,\"\",'１学期'!DN7),\"\")),\"\")","v":""},{"$f":"IF(LEN(O227)=0,\"\",IF(COUNTIF(O227:$O$1921,O227+1)>0,\"\",O227+1))","v":""},{"$f":"IFERROR(SMALL($P$1:$P$1921,226),\"\")","v":""}]
[null,null,null,null,null,null,null,null,null,null,null,null,null,null,{"$f":"IF(228<=$B$10,IF(LEN('１学期'!DK10)=0,\"\",IF('１学期'!DK10=$B$8,IF(LEN('１学期'!DN10)=0,\"\",'１学期'!DN10),\"\")),\"\")","v":""},{"$f":"IF(LEN(O228)=0,\"\",IF(COUNTIF(O228:$O$1921,O228+1)>0,\"\",O228+1))","v":""},{"$f":"IFERROR(SMALL($P$1:$P$1921,227),\"\")","v":""}]
[null,null,null,null,null,null,null,null,null,null,null,null,null,null,{"$f":"IF(229<=$B$10,IF(LEN('１学期'!DK13)=0,\"\",IF('１学期'!DK13=$B$8,IF(LEN('１学期'!DN13)=0,\"\",'１学期'!DN13),\"\")),\"\")","v":""},{"$f":"IF(LEN(O229)=0,\"\",IF(COUNTIF(O229:$O$1921,O229+1)>0,\"\",O229+1))","v":""},{"$f":"IFERROR(SMALL($P$1:$P$1921,228),\"\")","v":""}]
[null,null,null,null,null,null,null,null,null,null,null,null,null,null,{"$f":"IF(230<=$B$10,IF(LEN('１学期'!DK16)=0,\"\",IF('１学期'!DK16=$B$8,IF(LEN('１学期'!DN16)=0,\"\",'１学期'!DN16),\"\")),\"\")","v":""},{"$f":"IF(LEN(O230)=0,\"\",IF(COUNTIF(O230:$O$1921,O230+1)>0,\"\",O230+1))","v":""},{"$f":"IFERROR(SMALL($P$1:$P$1921,229),\"\")","v":""}]
[null,null,null,null,null,null,null,null,null,null,null,null,null,null,{"$f":"IF(231<=$B$10,IF(LEN('１学期'!DK19)=0,\"\",IF('１学期'!DK19=$B$8,IF(LEN('１学期'!DN19)=0,\"\",'１学期'!DN19),\"\")),\"\")","v":""},{"$f":"IF(LEN(O231)=0,\"\",IF(COUNTIF(O231:$O$1921,O231+1)>0,\"\",O231+1))","v":""},{"$f":"IFERROR(SMALL($P$1:$P$1921,230),\"\")","v":""}]
[null,null,null,null,null,null,null,null,null,null,null,null,null,null,{"$f":"IF(232<=$B$10,IF(LEN('１学期'!DK22)=0,\"\",IF('１学期'!DK22=$B$8,IF(LEN('１学期'!DN22)=0,\"\",'１学期'!DN22),\"\")),\"\")","v":""},{"$f":"IF(LEN(O232)=0,\"\",IF(COUNTIF(O232:$O$1921,O232+1)>0,\"\",O232+1))","v":""},{"$f":"IFERROR(SMALL($P$1:$P$1921,231),\"\")","v":""}]
[null,null,null,null,null,null,null,null,null,null,null,null,null,null,{"$f":"IF(233<=$B$10,IF(LEN('１学期'!DK25)=0,\"\",IF('１学期'!DK25=$B$8,IF(LEN('１学期'!DN25)=0,\"\",'１学期'!DN25),\"\")),\"\")","v":""},{"$f":"IF(LEN(O233)=0,\"\",IF(COUNTIF(O233:$O$1921,O233+1)>0,\"\",O233+1))","v":""},{"$f":"IFERROR(SMALL($P$1:$P$1921,232),\"\")","v":""}]
[null,null,null,null,null,null,null,null,null,null,null,null,null,null,{"$f":"IF(234<=$B$10,IF(LEN('１学期'!DO6)=0,\"\",IF('１学期'!DO6=$B$8,IF(LEN('１学期'!DR6)=0,\"\",'１学期'!DR6),\"\")),\"\")","v":""},{"$f":"IF(LEN(O234)=0,\"\",IF(COUNTIF(O234:$O$1921,O234+1)>0,\"\",O234+1))","v":""},{"$f":"IFERROR(SMALL($P$1:$P$1921,233),\"\")","v":""}]
[null,null,null,null,null,null,null,null,null,null,null,null,null,null,{"$f":"IF(235<=$B$10,IF(LEN('１学期'!DO7)=0,\"\",IF('１学期'!DO7=$B$8,IF(LEN('１学期'!DR7)=0,\"\",'１学期'!DR7),\"\")),\"\")","v":""},{"$f":"IF(LEN(O235)=0,\"\",IF(COUNTIF(O235:$O$1921,O235+1)>0,\"\",O235+1))","v":""},{"$f":"IFERROR(SMALL($P$1:$P$1921,234),\"\")","v":""}]
[null,null,null,null,null,null,null,null,null,null,null,null,null,null,{"$f":"IF(236<=$B$10,IF(LEN('１学期'!DO10)=0,\"\",IF('１学期'!DO10=$B$8,IF(LEN('１学期'!DR10)=0,\"\",'１学期'!DR10),\"\")),\"\")","v":""},{"$f":"IF(LEN(O236)=0,\"\",IF(COUNTIF(O236:$O$1921,O236+1)>0,\"\",O236+1))","v":""},{"$f":"IFERROR(SMALL($P$1:$P$1921,235),\"\")","v":""}]
[null,null,null,null,null,null,null,null,null,null,null,null,null,null,{"$f":"IF(237<=$B$10,IF(LEN('１学期'!DO13)=0,\"\",IF('１学期'!DO13=$B$8,IF(LEN('１学期'!DR13)=0,\"\",'１学期'!DR13),\"\")),\"\")","v":""},{"$f":"IF(LEN(O237)=0,\"\",IF(COUNTIF(O237:$O$1921,O237+1)>0,\"\",O237+1))","v":""},{"$f":"IFERROR(SMALL($P$1:$P$1921,236),\"\")","v":""}]
[null,null,null,null,null,null,null,null,null,null,null,null,null,null,{"$f":"IF(238<=$B$10,IF(LEN('１学期'!DO16)=0,\"\",IF('１学期'!DO16=$B$8,IF(LEN('１学期'!DR16)=0,\"\",'１学期'!DR16),\"\")),\"\")","v":""},{"$f":"IF(LEN(O238)=0,\"\",IF(COUNTIF(O238:$O$1921,O238+1)>0,\"\",O238+1))","v":""},{"$f":"IFERROR(SMALL($P$1:$P$1921,237),\"\")","v":""}]
[null,null,null,null,null,null,null,null,null,null,null,null,null,null,{"$f":"IF(239<=$B$10,IF(LEN('１学期'!DO19)=0,\"\",IF('１学期'!DO19=$B$8,IF(LEN('１学期'!DR19)=0,\"\",'１学期'!DR19),\"\")),\"\")","v":""},{"$f":"IF(LEN(O239)=0,\"\",IF(COUNTIF(O239:$O$1921,O239+1)>0,\"\",O239+1))","v":""},{"$f":"IFERROR(SMALL($P$1:$P$1921,238),\"\")","v":""}]
[null,null,null,null,null,null,null,null,null,null,null,null,null,null,{"$f":"IF(240<=$B$10,IF(LEN('１学期'!DO22)=0,\"\",IF('１学期'!DO22=$B$8,IF(LEN('１学期'!DR22)=0,\"\",'１学期'!DR22),\"\")),\"\")","v":""},{"$f":"IF(LEN(O240)=0,\"\",IF(COUNTIF(O240:$O$1921,O240+1)>0,\"\",O240+1))","v":""},{"$f":"IFERROR(SMALL($P$1:$P$1921,239),\"\")","v":""}]
[null,null,null,null,null,null,null,null,null,null,null,null,null,null,{"$f":"IF(241<=$B$10,IF(LEN('１学期'!DO25)=0,\"\",IF('１学期'!DO25=$B$8,IF(LEN('１学期'!DR25)=0,\"\",'１学期'!DR25),\"\")),\"\")","v":""},{"$f":"IF(LEN(O241)=0,\"\",IF(COUNTIF(O241:$O$1921,O241+1)>0,\"\",O241+1))","v":""},{"$f":"IFERROR(SMALL($P$1:$P$1921,240),\"\")","v":""}]
[null,null,null,null,null,null,null,null,null,null,null,null,null,null,{"$f":"IF(242<=$B$10,IF(LEN('１学期'!DS6)=0,\"\",IF('１学期'!DS6=$B$8,IF(LEN('１学期'!DV6)=0,\"\",'１学期'!DV6),\"\")),\"\")","v":""},{"$f":"IF(LEN(O242)=0,\"\",IF(COUNTIF(O242:$O$1921,O242+1)>0,\"\",O242+1))","v":""},{"$f":"IFERROR(SMALL($P$1:$P$1921,241),\"\")","v":""}]
[null,null,null,null,null,null,null,null,null,null,null,null,null,null,{"$f":"IF(243<=$B$10,IF(LEN('１学期'!DS7)=0,\"\",IF('１学期'!DS7=$B$8,IF(LEN('１学期'!DV7)=0,\"\",'１学期'!DV7),\"\")),\"\")","v":""},{"$f":"IF(LEN(O243)=0,\"\",IF(COUNTIF(O243:$O$1921,O243+1)>0,\"\",O243+1))","v":""},{"$f":"IFERROR(SMALL($P$1:$P$1921,242),\"\")","v":""}]
[null,null,null,null,null,null,null,null,null,null,null,null,null,null,{"$f":"IF(244<=$B$10,IF(LEN('１学期'!DS10)=0,\"\",IF('１学期'!DS10=$B$8,IF(LEN('１学期'!DV10)=0,\"\",'１学期'!DV10),\"\")),\"\")","v":""},{"$f":"IF(LEN(O244)=0,\"\",IF(COUNTIF(O244:$O$1921,O244+1)>0,\"\",O244+1))","v":""},{"$f":"IFERROR(SMALL($P$1:$P$1921,243),\"\")","v":""}]
[null,null,null,null,null,null,null,null,null,null,null,null,null,null,{"$f":"IF(245<=$B$10,IF(LEN('１学期'!DS13)=0,\"\",IF('１学期'!DS13=$B$8,IF(LEN('１学期'!DV13)=0,\"\",'１学期'!DV13),\"\")),\"\")","v":""},{"$f":"IF(LEN(O245)=0,\"\",IF(COUNTIF(O245:$O$1921,O245+1)>0,\"\",O245+1))","v":""},{"$f":"IFERROR(SMALL($P$1:$P$1921,244),\"\")","v":""}]
[null,null,null,null,null,null,null,null,null,null,null,null,null,null,{"$f":"IF(246<=$B$10,IF(LEN('１学期'!DS16)=0,\"\",IF('１学期'!DS16=$B$8,IF(LEN('１学期'!DV16)=0,\"\",'１学期'!DV16),\"\")),\"\")","v":""},{"$f":"IF(LEN(O246)=0,\"\",IF(COUNTIF(O246:$O$1921,O246+1)>0,\"\",O246+1))","v":""},{"$f":"IFERROR(SMALL($P$1:$P$1921,245),\"\")","v":""}]
[null,null,null,null,null,null,null,null,null,null,null,null,null,null,{"$f":"IF(247<=$B$10,IF(LEN('１学期'!DS19)=0,\"\",IF('１学期'!DS19=$B$8,IF(LEN('１学期'!DV19)=0,\"\",'１学期'!DV19),\"\")),\"\")","v":""},{"$f":"IF(LEN(O247)=0,\"\",IF(COUNTIF(O247:$O$1921,O247+1)>0,\"\",O247+1))","v":""},{"$f":"IFERROR(SMALL($P$1:$P$1921,246),\"\")","v":""}]
[null,null,null,null,null,null,null,null,null,null,null,null,null,null,{"$f":"IF(248<=$B$10,IF(LEN('１学期'!DS22)=0,\"\",IF('１学期'!DS22=$B$8,IF(LEN('１学期'!DV22)=0,\"\",'１学期'!DV22),\"\")),\"\")","v":""},{"$f":"IF(LEN(O248)=0,\"\",IF(COUNTIF(O248:$O$1921,O248+1)>0,\"\",O248+1))","v":""},{"$f":"IFERROR(SMALL($P$1:$P$1921,247),\"\")","v":""}]
[null,null,null,null,null,null,null,null,null,null,null,null,null,null,{"$f":"IF(249<=$B$10,IF(LEN('１学期'!DS25)=0,\"\",IF('１学期'!DS25=$B$8,IF(LEN('１学期'!DV25)=0,\"\",'１学期'!DV25),\"\")),\"\")","v":""},{"$f":"IF(LEN(O249)=0,\"\",IF(COUNTIF(O249:$O$1921,O249+1)>0,\"\",O249+1))","v":""},{"$f":"IFERROR(SMALL($P$1:$P$1921,248),\"\")","v":""}]
[null,null,null,null,null,null,null,null,null,null,null,null,null,null,{"$f":"IF(250<=$B$10,IF(LEN('１学期'!DW6)=0,\"\",IF('１学期'!DW6=$B$8,IF(LEN('１学期'!DZ6)=0,\"\",'１学期'!DZ6),\"\")),\"\")","v":""},{"$f":"IF(LEN(O250)=0,\"\",IF(COUNTIF(O250:$O$1921,O250+1)>0,\"\",O250+1))","v":""},{"$f":"IFERROR(SMALL($P$1:$P$1921,249),\"\")","v":""}]
[null,null,null,null,null,null,null,null,null,null,null,null,null,null,{"$f":"IF(251<=$B$10,IF(LEN('１学期'!DW7)=0,\"\",IF('１学期'!DW7=$B$8,IF(LEN('１学期'!DZ7)=0,\"\",'１学期'!DZ7),\"\")),\"\")","v":""},{"$f":"IF(LEN(O251)=0,\"\",IF(COUNTIF(O251:$O$1921,O251+1)>0,\"\",O251+1))","v":""},{"$f":"IFERROR(SMALL($P$1:$P$1921,250),\"\")","v":""}]
[null,null,null,null,null,null,null,null,null,null,null,null,null,null,{"$f":"IF(252<=$B$10,IF(LEN('１学期'!DW10)=0,\"\",IF('１学期'!DW10=$B$8,IF(LEN('１学期'!DZ10)=0,\"\",'１学期'!DZ10),\"\")),\"\")","v":""},{"$f":"IF(LEN(O252)=0,\"\",IF(COUNTIF(O252:$O$1921,O252+1)>0,\"\",O252+1))","v":""},{"$f":"IFERROR(SMALL($P$1:$P$1921,251),\"\")","v":""}]
[null,null,null,null,null,null,null,null,null,null,null,null,null,null,{"$f":"IF(253<=$B$10,IF(LEN('１学期'!DW13)=0,\"\",IF('１学期'!DW13=$B$8,IF(LEN('１学期'!DZ13)=0,\"\",'１学期'!DZ13),\"\")),\"\")","v":""},{"$f":"IF(LEN(O253)=0,\"\",IF(COUNTIF(O253:$O$1921,O253+1)>0,\"\",O253+1))","v":""},{"$f":"IFERROR(SMALL($P$1:$P$1921,252),\"\")","v":""}]
[null,null,null,null,null,null,null,null,null,null,null,null,null,null,{"$f":"IF(254<=$B$10,IF(LEN('１学期'!DW16)=0,\"\",IF('１学期'!DW16=$B$8,IF(LEN('１学期'!DZ16)=0,\"\",'１学期'!DZ16),\"\")),\"\")","v":""},{"$f":"IF(LEN(O254)=0,\"\",IF(COUNTIF(O254:$O$1921,O254+1)>0,\"\",O254+1))","v":""},{"$f":"IFERROR(SMALL($P$1:$P$1921,253),\"\")","v":""}]
[null,null,null,null,null,null,null,null,null,null,null,null,null,null,{"$f":"IF(255<=$B$10,IF(LEN('１学期'!DW19)=0,\"\",IF('１学期'!DW19=$B$8,IF(LEN('１学期'!DZ19)=0,\"\",'１学期'!DZ19),\"\")),\"\")","v":""},{"$f":"IF(LEN(O255)=0,\"\",IF(COUNTIF(O255:$O$1921,O255+1)>0,\"\",O255+1))","v":""},{"$f":"IFERROR(SMALL($P$1:$P$1921,254),\"\")","v":""}]
[null,null,null,null,null,null,null,null,null,null,null,null,null,null,{"$f":"IF(256<=$B$10,IF(LEN('１学期'!DW22)=0,\"\",IF('１学期'!DW22=$B$8,IF(LEN('１学期'!DZ22)=0,\"\",'１学期'!DZ22),\"\")),\"\")","v":""},{"$f":"IF(LEN(O256)=0,\"\",IF(COUNTIF(O256:$O$1921,O256+1)>0,\"\",O256+1))","v":""},{"$f":"IFERROR(SMALL($P$1:$P$1921,255),\"\")","v":""}]
[null,null,null,null,null,null,null,null,null,null,null,null,null,null,{"$f":"IF(257<=$B$10,IF(LEN('１学期'!DW25)=0,\"\",IF('１学期'!DW25=$B$8,IF(LEN('１学期'!DZ25)=0,\"\",'１学期'!DZ25),\"\")),\"\")","v":""},{"$f":"IF(LEN(O257)=0,\"\",IF(COUNTIF(O257:$O$1921,O257+1)>0,\"\",O257+1))","v":""},{"$f":"IFERROR(SMALL($P$1:$P$1921,256),\"\")","v":""}]
[null,null,null,null,null,null,null,null,null,null,null,null,null,null,{"$f":"IF(258<=$B$10,IF(LEN('１学期'!EA6)=0,\"\",IF('１学期'!EA6=$B$8,IF(LEN('１学期'!ED6)=0,\"\",'１学期'!ED6),\"\")),\"\")","v":""},{"$f":"IF(LEN(O258)=0,\"\",IF(COUNTIF(O258:$O$1921,O258+1)>0,\"\",O258+1))","v":""},{"$f":"IFERROR(SMALL($P$1:$P$1921,257),\"\")","v":""}]
[null,null,null,null,null,null,null,null,null,null,null,null,null,null,{"$f":"IF(259<=$B$10,IF(LEN('１学期'!EA7)=0,\"\",IF('１学期'!EA7=$B$8,IF(LEN('１学期'!ED7)=0,\"\",'１学期'!ED7),\"\")),\"\")","v":""},{"$f":"IF(LEN(O259)=0,\"\",IF(COUNTIF(O259:$O$1921,O259+1)>0,\"\",O259+1))","v":""},{"$f":"IFERROR(SMALL($P$1:$P$1921,258),\"\")","v":""}]
[null,null,null,null,null,null,null,null,null,null,null,null,null,null,{"$f":"IF(260<=$B$10,IF(LEN('１学期'!EA10)=0,\"\",IF('１学期'!EA10=$B$8,IF(LEN('１学期'!ED10)=0,\"\",'１学期'!ED10),\"\")),\"\")","v":""},{"$f":"IF(LEN(O260)=0,\"\",IF(COUNTIF(O260:$O$1921,O260+1)>0,\"\",O260+1))","v":""},{"$f":"IFERROR(SMALL($P$1:$P$1921,259),\"\")","v":""}]
[null,null,null,null,null,null,null,null,null,null,null,null,null,null,{"$f":"IF(261<=$B$10,IF(LEN('１学期'!EA13)=0,\"\",IF('１学期'!EA13=$B$8,IF(LEN('１学期'!ED13)=0,\"\",'１学期'!ED13),\"\")),\"\")","v":""},{"$f":"IF(LEN(O261)=0,\"\",IF(COUNTIF(O261:$O$1921,O261+1)>0,\"\",O261+1))","v":""},{"$f":"IFERROR(SMALL($P$1:$P$1921,260),\"\")","v":""}]
[null,null,null,null,null,null,null,null,null,null,null,null,null,null,{"$f":"IF(262<=$B$10,IF(LEN('１学期'!EA16)=0,\"\",IF('１学期'!EA16=$B$8,IF(LEN('１学期'!ED16)=0,\"\",'１学期'!ED16),\"\")),\"\")","v":""},{"$f":"IF(LEN(O262)=0,\"\",IF(COUNTIF(O262:$O$1921,O262+1)>0,\"\",O262+1))","v":""},{"$f":"IFERROR(SMALL($P$1:$P$1921,261),\"\")","v":""}]
[null,null,null,null,null,null,null,null,null,null,null,null,null,null,{"$f":"IF(263<=$B$10,IF(LEN('１学期'!EA19)=0,\"\",IF('１学期'!EA19=$B$8,IF(LEN('１学期'!ED19)=0,\"\",'１学期'!ED19),\"\")),\"\")","v":""},{"$f":"IF(LEN(O263)=0,\"\",IF(COUNTIF(O263:$O$1921,O263+1)>0,\"\",O263+1))","v":""},{"$f":"IFERROR(SMALL($P$1:$P$1921,262),\"\")","v":""}]
[null,null,null,null,null,null,null,null,null,null,null,null,null,null,{"$f":"IF(264<=$B$10,IF(LEN('１学期'!EA22)=0,\"\",IF('１学期'!EA22=$B$8,IF(LEN('１学期'!ED22)=0,\"\",'１学期'!ED22),\"\")),\"\")","v":""},{"$f":"IF(LEN(O264)=0,\"\",IF(COUNTIF(O264:$O$1921,O264+1)>0,\"\",O264+1))","v":""},{"$f":"IFERROR(SMALL($P$1:$P$1921,263),\"\")","v":""}]
[null,null,null,null,null,null,null,null,null,null,null,null,null,null,{"$f":"IF(265<=$B$10,IF(LEN('１学期'!EA25)=0,\"\",IF('１学期'!EA25=$B$8,IF(LEN('１学期'!ED25)=0,\"\",'１学期'!ED25),\"\")),\"\")","v":""},{"$f":"IF(LEN(O265)=0,\"\",IF(COUNTIF(O265:$O$1921,O265+1)>0,\"\",O265+1))","v":""},{"$f":"IFERROR(SMALL($P$1:$P$1921,264),\"\")","v":""}]
[null,null,null,null,null,null,null,null,null,null,null,null,null,null,{"$f":"IF(266<=$B$10,IF(LEN('１学期'!EE6)=0,\"\",IF('１学期'!EE6=$B$8,IF(LEN('１学期'!EH6)=0,\"\",'１学期'!EH6),\"\")),\"\")","v":""},{"$f":"IF(LEN(O266)=0,\"\",IF(COUNTIF(O266:$O$1921,O266+1)>0,\"\",O266+1))","v":""},{"$f":"IFERROR(SMALL($P$1:$P$1921,265),\"\")","v":""}]
[null,null,null,null,null,null,null,null,null,null,null,null,null,null,{"$f":"IF(267<=$B$10,IF(LEN('１学期'!EE7)=0,\"\",IF('１学期'!EE7=$B$8,IF(LEN('１学期'!EH7)=0,\"\",'１学期'!EH7),\"\")),\"\")","v":""},{"$f":"IF(LEN(O267)=0,\"\",IF(COUNTIF(O267:$O$1921,O267+1)>0,\"\",O267+1))","v":""},{"$f":"IFERROR(SMALL($P$1:$P$1921,266),\"\")","v":""}]
[null,null,null,null,null,null,null,null,null,null,null,null,null,null,{"$f":"IF(268<=$B$10,IF(LEN('１学期'!EE10)=0,\"\",IF('１学期'!EE10=$B$8,IF(LEN('１学期'!EH10)=0,\"\",'１学期'!EH10),\"\")),\"\")","v":""},{"$f":"IF(LEN(O268)=0,\"\",IF(COUNTIF(O268:$O$1921,O268+1)>0,\"\",O268+1))","v":""},{"$f":"IFERROR(SMALL($P$1:$P$1921,267),\"\")","v":""}]
[null,null,null,null,null,null,null,null,null,null,null,null,null,null,{"$f":"IF(269<=$B$10,IF(LEN('１学期'!EE13)=0,\"\",IF('１学期'!EE13=$B$8,IF(LEN('１学期'!EH13)=0,\"\",'１学期'!EH13),\"\")),\"\")","v":""},{"$f":"IF(LEN(O269)=0,\"\",IF(COUNTIF(O269:$O$1921,O269+1)>0,\"\",O269+1))","v":""},{"$f":"IFERROR(SMALL($P$1:$P$1921,268),\"\")","v":""}]
[null,null,null,null,null,null,null,null,null,null,null,null,null,null,{"$f":"IF(270<=$B$10,IF(LEN('１学期'!EE16)=0,\"\",IF('１学期'!EE16=$B$8,IF(LEN('１学期'!EH16)=0,\"\",'１学期'!EH16),\"\")),\"\")","v":""},{"$f":"IF(LEN(O270)=0,\"\",IF(COUNTIF(O270:$O$1921,O270+1)>0,\"\",O270+1))","v":""},{"$f":"IFERROR(SMALL($P$1:$P$1921,269),\"\")","v":""}]
[null,null,null,null,null,null,null,null,null,null,null,null,null,null,{"$f":"IF(271<=$B$10,IF(LEN('１学期'!EE19)=0,\"\",IF('１学期'!EE19=$B$8,IF(LEN('１学期'!EH19)=0,\"\",'１学期'!EH19),\"\")),\"\")","v":""},{"$f":"IF(LEN(O271)=0,\"\",IF(COUNTIF(O271:$O$1921,O271+1)>0,\"\",O271+1))","v":""},{"$f":"IFERROR(SMALL($P$1:$P$1921,270),\"\")","v":""}]
[null,null,null,null,null,null,null,null,null,null,null,null,null,null,{"$f":"IF(272<=$B$10,IF(LEN('１学期'!EE22)=0,\"\",IF('１学期'!EE22=$B$8,IF(LEN('１学期'!EH22)=0,\"\",'１学期'!EH22),\"\")),\"\")","v":""},{"$f":"IF(LEN(O272)=0,\"\",IF(COUNTIF(O272:$O$1921,O272+1)>0,\"\",O272+1))","v":""},{"$f":"IFERROR(SMALL($P$1:$P$1921,271),\"\")","v":""}]
[null,null,null,null,null,null,null,null,null,null,null,null,null,null,{"$f":"IF(273<=$B$10,IF(LEN('１学期'!EE25)=0,\"\",IF('１学期'!EE25=$B$8,IF(LEN('１学期'!EH25)=0,\"\",'１学期'!EH25),\"\")),\"\")","v":""},{"$f":"IF(LEN(O273)=0,\"\",IF(COUNTIF(O273:$O$1921,O273+1)>0,\"\",O273+1))","v":""},{"$f":"IFERROR(SMALL($P$1:$P$1921,272),\"\")","v":""}]
[null,null,null,null,null,null,null,null,null,null,null,null,null,null,{"$f":"IF(274<=$B$10,IF(LEN('１学期'!EI6)=0,\"\",IF('１学期'!EI6=$B$8,IF(LEN('１学期'!EL6)=0,\"\",'１学期'!EL6),\"\")),\"\")","v":""},{"$f":"IF(LEN(O274)=0,\"\",IF(COUNTIF(O274:$O$1921,O274+1)>0,\"\",O274+1))","v":""},{"$f":"IFERROR(SMALL($P$1:$P$1921,273),\"\")","v":""}]
[null,null,null,null,null,null,null,null,null,null,null,null,null,null,{"$f":"IF(275<=$B$10,IF(LEN('１学期'!EI7)=0,\"\",IF('１学期'!EI7=$B$8,IF(LEN('１学期'!EL7)=0,\"\",'１学期'!EL7),\"\")),\"\")","v":""},{"$f":"IF(LEN(O275)=0,\"\",IF(COUNTIF(O275:$O$1921,O275+1)>0,\"\",O275+1))","v":""},{"$f":"IFERROR(SMALL($P$1:$P$1921,274),\"\")","v":""}]
[null,null,null,null,null,null,null,null,null,null,null,null,null,null,{"$f":"IF(276<=$B$10,IF(LEN('１学期'!EI10)=0,\"\",IF('１学期'!EI10=$B$8,IF(LEN('１学期'!EL10)=0,\"\",'１学期'!EL10),\"\")),\"\")","v":""},{"$f":"IF(LEN(O276)=0,\"\",IF(COUNTIF(O276:$O$1921,O276+1)>0,\"\",O276+1))","v":""},{"$f":"IFERROR(SMALL($P$1:$P$1921,275),\"\")","v":""}]
[null,null,null,null,null,null,null,null,null,null,null,null,null,null,{"$f":"IF(277<=$B$10,IF(LEN('１学期'!EI13)=0,\"\",IF('１学期'!EI13=$B$8,IF(LEN('１学期'!EL13)=0,\"\",'１学期'!EL13),\"\")),\"\")","v":""},{"$f":"IF(LEN(O277)=0,\"\",IF(COUNTIF(O277:$O$1921,O277+1)>0,\"\",O277+1))","v":""},{"$f":"IFERROR(SMALL($P$1:$P$1921,276),\"\")","v":""}]
[null,null,null,null,null,null,null,null,null,null,null,null,null,null,{"$f":"IF(278<=$B$10,IF(LEN('１学期'!EI16)=0,\"\",IF('１学期'!EI16=$B$8,IF(LEN('１学期'!EL16)=0,\"\",'１学期'!EL16),\"\")),\"\")","v":""},{"$f":"IF(LEN(O278)=0,\"\",IF(COUNTIF(O278:$O$1921,O278+1)>0,\"\",O278+1))","v":""},{"$f":"IFERROR(SMALL($P$1:$P$1921,277),\"\")","v":""}]
[null,null,null,null,null,null,null,null,null,null,null,null,null,null,{"$f":"IF(279<=$B$10,IF(LEN('１学期'!EI19)=0,\"\",IF('１学期'!EI19=$B$8,IF(LEN('１学期'!EL19)=0,\"\",'１学期'!EL19),\"\")),\"\")","v":""},{"$f":"IF(LEN(O279)=0,\"\",IF(COUNTIF(O279:$O$1921,O279+1)>0,\"\",O279+1))","v":""},{"$f":"IFERROR(SMALL($P$1:$P$1921,278),\"\")","v":""}]
[null,null,null,null,null,null,null,null,null,null,null,null,null,null,{"$f":"IF(280<=$B$10,IF(LEN('１学期'!EI22)=0,\"\",IF('１学期'!EI22=$B$8,IF(LEN('１学期'!EL22)=0,\"\",'１学期'!EL22),\"\")),\"\")","v":""},{"$f":"IF(LEN(O280)=0,\"\",IF(COUNTIF(O280:$O$1921,O280+1)>0,\"\",O280+1))","v":""},{"$f":"IFERROR(SMALL($P$1:$P$1921,279),\"\")","v":""}]
[null,null,null,null,null,null,null,null,null,null,null,null,null,null,{"$f":"IF(281<=$B$10,IF(LEN('１学期'!EI25)=0,\"\",IF('１学期'!EI25=$B$8,IF(LEN('１学期'!EL25)=0,\"\",'１学期'!EL25),\"\")),\"\")","v":""},{"$f":"IF(LEN(O281)=0,\"\",IF(COUNTIF(O281:$O$1921,O281+1)>0,\"\",O281+1))","v":""},{"$f":"IFERROR(SMALL($P$1:$P$1921,280),\"\")","v":""}]
[null,null,null,null,null,null,null,null,null,null,null,null,null,null,{"$f":"IF(282<=$B$10,IF(LEN('１学期'!EM6)=0,\"\",IF('１学期'!EM6=$B$8,IF(LEN('１学期'!EP6)=0,\"\",'１学期'!EP6),\"\")),\"\")","v":""},{"$f":"IF(LEN(O282)=0,\"\",IF(COUNTIF(O282:$O$1921,O282+1)>0,\"\",O282+1))","v":""},{"$f":"IFERROR(SMALL($P$1:$P$1921,281),\"\")","v":""}]
[null,null,null,null,null,null,null,null,null,null,null,null,null,null,{"$f":"IF(283<=$B$10,IF(LEN('１学期'!EM7)=0,\"\",IF('１学期'!EM7=$B$8,IF(LEN('１学期'!EP7)=0,\"\",'１学期'!EP7),\"\")),\"\")","v":""},{"$f":"IF(LEN(O283)=0,\"\",IF(COUNTIF(O283:$O$1921,O283+1)>0,\"\",O283+1))","v":""},{"$f":"IFERROR(SMALL($P$1:$P$1921,282),\"\")","v":""}]
[null,null,null,null,null,null,null,null,null,null,null,null,null,null,{"$f":"IF(284<=$B$10,IF(LEN('１学期'!EM10)=0,\"\",IF('１学期'!EM10=$B$8,IF(LEN('１学期'!EP10)=0,\"\",'１学期'!EP10),\"\")),\"\")","v":""},{"$f":"IF(LEN(O284)=0,\"\",IF(COUNTIF(O284:$O$1921,O284+1)>0,\"\",O284+1))","v":""},{"$f":"IFERROR(SMALL($P$1:$P$1921,283),\"\")","v":""}]
[null,null,null,null,null,null,null,null,null,null,null,null,null,null,{"$f":"IF(285<=$B$10,IF(LEN('１学期'!EM13)=0,\"\",IF('１学期'!EM13=$B$8,IF(LEN('１学期'!EP13)=0,\"\",'１学期'!EP13),\"\")),\"\")","v":""},{"$f":"IF(LEN(O285)=0,\"\",IF(COUNTIF(O285:$O$1921,O285+1)>0,\"\",O285+1))","v":""},{"$f":"IFERROR(SMALL($P$1:$P$1921,284),\"\")","v":""}]
[null,null,null,null,null,null,null,null,null,null,null,null,null,null,{"$f":"IF(286<=$B$10,IF(LEN('１学期'!EM16)=0,\"\",IF('１学期'!EM16=$B$8,IF(LEN('１学期'!EP16)=0,\"\",'１学期'!EP16),\"\")),\"\")","v":""},{"$f":"IF(LEN(O286)=0,\"\",IF(COUNTIF(O286:$O$1921,O286+1)>0,\"\",O286+1))","v":""},{"$f":"IFERROR(SMALL($P$1:$P$1921,285),\"\")","v":""}]
[null,null,null,null,null,null,null,null,null,null,null,null,null,null,{"$f":"IF(287<=$B$10,IF(LEN('１学期'!EM19)=0,\"\",IF('１学期'!EM19=$B$8,IF(LEN('１学期'!EP19)=0,\"\",'１学期'!EP19),\"\")),\"\")","v":""},{"$f":"IF(LEN(O287)=0,\"\",IF(COUNTIF(O287:$O$1921,O287+1)>0,\"\",O287+1))","v":""},{"$f":"IFERROR(SMALL($P$1:$P$1921,286),\"\")","v":""}]
[null,null,null,null,null,null,null,null,null,null,null,null,null,null,{"$f":"IF(288<=$B$10,IF(LEN('１学期'!EM22)=0,\"\",IF('１学期'!EM22=$B$8,IF(LEN('１学期'!EP22)=0,\"\",'１学期'!EP22),\"\")),\"\")","v":""},{"$f":"IF(LEN(O288)=0,\"\",IF(COUNTIF(O288:$O$1921,O288+1)>0,\"\",O288+1))","v":""},{"$f":"IFERROR(SMALL($P$1:$P$1921,287),\"\")","v":""}]
[null,null,null,null,null,null,null,null,null,null,null,null,null,null,{"$f":"IF(289<=$B$10,IF(LEN('１学期'!EM25)=0,\"\",IF('１学期'!EM25=$B$8,IF(LEN('１学期'!EP25)=0,\"\",'１学期'!EP25),\"\")),\"\")","v":""},{"$f":"IF(LEN(O289)=0,\"\",IF(COUNTIF(O289:$O$1921,O289+1)>0,\"\",O289+1))","v":""},{"$f":"IFERROR(SMALL($P$1:$P$1921,288),\"\")","v":""}]
[null,null,null,null,null,null,null,null,null,null,null,null,null,null,{"$f":"IF(290<=$B$10,IF(LEN('１学期'!EQ6)=0,\"\",IF('１学期'!EQ6=$B$8,IF(LEN('１学期'!ET6)=0,\"\",'１学期'!ET6),\"\")),\"\")","v":""},{"$f":"IF(LEN(O290)=0,\"\",IF(COUNTIF(O290:$O$1921,O290+1)>0,\"\",O290+1))","v":""},{"$f":"IFERROR(SMALL($P$1:$P$1921,289),\"\")","v":""}]
[null,null,null,null,null,null,null,null,null,null,null,null,null,null,{"$f":"IF(291<=$B$10,IF(LEN('１学期'!EQ7)=0,\"\",IF('１学期'!EQ7=$B$8,IF(LEN('１学期'!ET7)=0,\"\",'１学期'!ET7),\"\")),\"\")","v":""},{"$f":"IF(LEN(O291)=0,\"\",IF(COUNTIF(O291:$O$1921,O291+1)>0,\"\",O291+1))","v":""},{"$f":"IFERROR(SMALL($P$1:$P$1921,290),\"\")","v":""}]
[null,null,null,null,null,null,null,null,null,null,null,null,null,null,{"$f":"IF(292<=$B$10,IF(LEN('１学期'!EQ10)=0,\"\",IF('１学期'!EQ10=$B$8,IF(LEN('１学期'!ET10)=0,\"\",'１学期'!ET10),\"\")),\"\")","v":""},{"$f":"IF(LEN(O292)=0,\"\",IF(COUNTIF(O292:$O$1921,O292+1)>0,\"\",O292+1))","v":""},{"$f":"IFERROR(SMALL($P$1:$P$1921,291),\"\")","v":""}]
[null,null,null,null,null,null,null,null,null,null,null,null,null,null,{"$f":"IF(293<=$B$10,IF(LEN('１学期'!EQ13)=0,\"\",IF('１学期'!EQ13=$B$8,IF(LEN('１学期'!ET13)=0,\"\",'１学期'!ET13),\"\")),\"\")","v":""},{"$f":"IF(LEN(O293)=0,\"\",IF(COUNTIF(O293:$O$1921,O293+1)>0,\"\",O293+1))","v":""},{"$f":"IFERROR(SMALL($P$1:$P$1921,292),\"\")","v":""}]
[null,null,null,null,null,null,null,null,null,null,null,null,null,null,{"$f":"IF(294<=$B$10,IF(LEN('１学期'!EQ16)=0,\"\",IF('１学期'!EQ16=$B$8,IF(LEN('１学期'!ET16)=0,\"\",'１学期'!ET16),\"\")),\"\")","v":""},{"$f":"IF(LEN(O294)=0,\"\",IF(COUNTIF(O294:$O$1921,O294+1)>0,\"\",O294+1))","v":""},{"$f":"IFERROR(SMALL($P$1:$P$1921,293),\"\")","v":""}]
[null,null,null,null,null,null,null,null,null,null,null,null,null,null,{"$f":"IF(295<=$B$10,IF(LEN('１学期'!EQ19)=0,\"\",IF('１学期'!EQ19=$B$8,IF(LEN('１学期'!ET19)=0,\"\",'１学期'!ET19),\"\")),\"\")","v":""},{"$f":"IF(LEN(O295)=0,\"\",IF(COUNTIF(O295:$O$1921,O295+1)>0,\"\",O295+1))","v":""},{"$f":"IFERROR(SMALL($P$1:$P$1921,294),\"\")","v":""}]
[null,null,null,null,null,null,null,null,null,null,null,null,null,null,{"$f":"IF(296<=$B$10,IF(LEN('１学期'!EQ22)=0,\"\",IF('１学期'!EQ22=$B$8,IF(LEN('１学期'!ET22)=0,\"\",'１学期'!ET22),\"\")),\"\")","v":""},{"$f":"IF(LEN(O296)=0,\"\",IF(COUNTIF(O296:$O$1921,O296+1)>0,\"\",O296+1))","v":""},{"$f":"IFERROR(SMALL($P$1:$P$1921,295),\"\")","v":""}]
[null,null,null,null,null,null,null,null,null,null,null,null,null,null,{"$f":"IF(297<=$B$10,IF(LEN('１学期'!EQ25)=0,\"\",IF('１学期'!EQ25=$B$8,IF(LEN('１学期'!ET25)=0,\"\",'１学期'!ET25),\"\")),\"\")","v":""},{"$f":"IF(LEN(O297)=0,\"\",IF(COUNTIF(O297:$O$1921,O297+1)>0,\"\",O297+1))","v":""},{"$f":"IFERROR(SMALL($P$1:$P$1921,296),\"\")","v":""}]
[null,null,null,null,null,null,null,null,null,null,null,null,null,null,{"$f":"IF(298<=$B$10,IF(LEN('１学期'!EU6)=0,\"\",IF('１学期'!EU6=$B$8,IF(LEN('１学期'!EX6)=0,\"\",'１学期'!EX6),\"\")),\"\")","v":""},{"$f":"IF(LEN(O298)=0,\"\",IF(COUNTIF(O298:$O$1921,O298+1)>0,\"\",O298+1))","v":""},{"$f":"IFERROR(SMALL($P$1:$P$1921,297),\"\")","v":""}]
[null,null,null,null,null,null,null,null,null,null,null,null,null,null,{"$f":"IF(299<=$B$10,IF(LEN('１学期'!EU7)=0,\"\",IF('１学期'!EU7=$B$8,IF(LEN('１学期'!EX7)=0,\"\",'１学期'!EX7),\"\")),\"\")","v":""},{"$f":"IF(LEN(O299)=0,\"\",IF(COUNTIF(O299:$O$1921,O299+1)>0,\"\",O299+1))","v":""},{"$f":"IFERROR(SMALL($P$1:$P$1921,298),\"\")","v":""}]
[null,null,null,null,null,null,null,null,null,null,null,null,null,null,{"$f":"IF(300<=$B$10,IF(LEN('１学期'!EU10)=0,\"\",IF('１学期'!EU10=$B$8,IF(LEN('１学期'!EX10)=0,\"\",'１学期'!EX10),\"\")),\"\")","v":""},{"$f":"IF(LEN(O300)=0,\"\",IF(COUNTIF(O300:$O$1921,O300+1)>0,\"\",O300+1))","v":""},{"$f":"IFERROR(SMALL($P$1:$P$1921,299),\"\")","v":""}]
[null,null,null,null,null,null,null,null,null,null,null,null,null,null,{"$f":"IF(301<=$B$10,IF(LEN('１学期'!EU13)=0,\"\",IF('１学期'!EU13=$B$8,IF(LEN('１学期'!EX13)=0,\"\",'１学期'!EX13),\"\")),\"\")","v":""},{"$f":"IF(LEN(O301)=0,\"\",IF(COUNTIF(O301:$O$1921,O301+1)>0,\"\",O301+1))","v":""},{"$f":"IFERROR(SMALL($P$1:$P$1921,300),\"\")","v":""}]
[null,null,null,null,null,null,null,null,null,null,null,null,null,null,{"$f":"IF(302<=$B$10,IF(LEN('１学期'!EU16)=0,\"\",IF('１学期'!EU16=$B$8,IF(LEN('１学期'!EX16)=0,\"\",'１学期'!EX16),\"\")),\"\")","v":""},{"$f":"IF(LEN(O302)=0,\"\",IF(COUNTIF(O302:$O$1921,O302+1)>0,\"\",O302+1))","v":""},{"$f":"IFERROR(SMALL($P$1:$P$1921,301),\"\")","v":""}]
[null,null,null,null,null,null,null,null,null,null,null,null,null,null,{"$f":"IF(303<=$B$10,IF(LEN('１学期'!EU19)=0,\"\",IF('１学期'!EU19=$B$8,IF(LEN('１学期'!EX19)=0,\"\",'１学期'!EX19),\"\")),\"\")","v":""},{"$f":"IF(LEN(O303)=0,\"\",IF(COUNTIF(O303:$O$1921,O303+1)>0,\"\",O303+1))","v":""},{"$f":"IFERROR(SMALL($P$1:$P$1921,302),\"\")","v":""}]
[null,null,null,null,null,null,null,null,null,null,null,null,null,null,{"$f":"IF(304<=$B$10,IF(LEN('１学期'!EU22)=0,\"\",IF('１学期'!EU22=$B$8,IF(LEN('１学期'!EX22)=0,\"\",'１学期'!EX22),\"\")),\"\")","v":""},{"$f":"IF(LEN(O304)=0,\"\",IF(COUNTIF(O304:$O$1921,O304+1)>0,\"\",O304+1))","v":""},{"$f":"IFERROR(SMALL($P$1:$P$1921,303),\"\")","v":""}]
[null,null,null,null,null,null,null,null,null,null,null,null,null,null,{"$f":"IF(305<=$B$10,IF(LEN('１学期'!EU25)=0,\"\",IF('１学期'!EU25=$B$8,IF(LEN('１学期'!EX25)=0,\"\",'１学期'!EX25),\"\")),\"\")","v":""},{"$f":"IF(LEN(O305)=0,\"\",IF(COUNTIF(O305:$O$1921,O305+1)>0,\"\",O305+1))","v":""},{"$f":"IFERROR(SMALL($P$1:$P$1921,304),\"\")","v":""}]
[null,null,null,null,null,null,null,null,null,null,null,null,null,null,{"$f":"IF(306<=$B$10,IF(LEN('１学期'!EY6)=0,\"\",IF('１学期'!EY6=$B$8,IF(LEN('１学期'!FB6)=0,\"\",'１学期'!FB6),\"\")),\"\")","v":""},{"$f":"IF(LEN(O306)=0,\"\",IF(COUNTIF(O306:$O$1921,O306+1)>0,\"\",O306+1))","v":""},{"$f":"IFERROR(SMALL($P$1:$P$1921,305),\"\")","v":""}]
[null,null,null,null,null,null,null,null,null,null,null,null,null,null,{"$f":"IF(307<=$B$10,IF(LEN('１学期'!EY7)=0,\"\",IF('１学期'!EY7=$B$8,IF(LEN('１学期'!FB7)=0,\"\",'１学期'!FB7),\"\")),\"\")","v":""},{"$f":"IF(LEN(O307)=0,\"\",IF(COUNTIF(O307:$O$1921,O307+1)>0,\"\",O307+1))","v":""},{"$f":"IFERROR(SMALL($P$1:$P$1921,306),\"\")","v":""}]
[null,null,null,null,null,null,null,null,null,null,null,null,null,null,{"$f":"IF(308<=$B$10,IF(LEN('１学期'!EY10)=0,\"\",IF('１学期'!EY10=$B$8,IF(LEN('１学期'!FB10)=0,\"\",'１学期'!FB10),\"\")),\"\")","v":""},{"$f":"IF(LEN(O308)=0,\"\",IF(COUNTIF(O308:$O$1921,O308+1)>0,\"\",O308+1))","v":""},{"$f":"IFERROR(SMALL($P$1:$P$1921,307),\"\")","v":""}]
[null,null,null,null,null,null,null,null,null,null,null,null,null,null,{"$f":"IF(309<=$B$10,IF(LEN('１学期'!EY13)=0,\"\",IF('１学期'!EY13=$B$8,IF(LEN('１学期'!FB13)=0,\"\",'１学期'!FB13),\"\")),\"\")","v":""},{"$f":"IF(LEN(O309)=0,\"\",IF(COUNTIF(O309:$O$1921,O309+1)>0,\"\",O309+1))","v":""},{"$f":"IFERROR(SMALL($P$1:$P$1921,308),\"\")","v":""}]
[null,null,null,null,null,null,null,null,null,null,null,null,null,null,{"$f":"IF(310<=$B$10,IF(LEN('１学期'!EY16)=0,\"\",IF('１学期'!EY16=$B$8,IF(LEN('１学期'!FB16)=0,\"\",'１学期'!FB16),\"\")),\"\")","v":""},{"$f":"IF(LEN(O310)=0,\"\",IF(COUNTIF(O310:$O$1921,O310+1)>0,\"\",O310+1))","v":""},{"$f":"IFERROR(SMALL($P$1:$P$1921,309),\"\")","v":""}]
[null,null,null,null,null,null,null,null,null,null,null,null,null,null,{"$f":"IF(311<=$B$10,IF(LEN('１学期'!EY19)=0,\"\",IF('１学期'!EY19=$B$8,IF(LEN('１学期'!FB19)=0,\"\",'１学期'!FB19),\"\")),\"\")","v":""},{"$f":"IF(LEN(O311)=0,\"\",IF(COUNTIF(O311:$O$1921,O311+1)>0,\"\",O311+1))","v":""},{"$f":"IFERROR(SMALL($P$1:$P$1921,310),\"\")","v":""}]
[null,null,null,null,null,null,null,null,null,null,null,null,null,null,{"$f":"IF(312<=$B$10,IF(LEN('１学期'!EY22)=0,\"\",IF('１学期'!EY22=$B$8,IF(LEN('１学期'!FB22)=0,\"\",'１学期'!FB22),\"\")),\"\")","v":""},{"$f":"IF(LEN(O312)=0,\"\",IF(COUNTIF(O312:$O$1921,O312+1)>0,\"\",O312+1))","v":""},{"$f":"IFERROR(SMALL($P$1:$P$1921,311),\"\")","v":""}]
[null,null,null,null,null,null,null,null,null,null,null,null,null,null,{"$f":"IF(313<=$B$10,IF(LEN('１学期'!EY25)=0,\"\",IF('１学期'!EY25=$B$8,IF(LEN('１学期'!FB25)=0,\"\",'１学期'!FB25),\"\")),\"\")","v":""},{"$f":"IF(LEN(O313)=0,\"\",IF(COUNTIF(O313:$O$1921,O313+1)>0,\"\",O313+1))","v":""},{"$f":"IFERROR(SMALL($P$1:$P$1921,312),\"\")","v":""}]
[null,null,null,null,null,null,null,null,null,null,null,null,null,null,{"$f":"IF(314<=$B$10,IF(LEN('１学期'!FC6)=0,\"\",IF('１学期'!FC6=$B$8,IF(LEN('１学期'!FF6)=0,\"\",'１学期'!FF6),\"\")),\"\")","v":""},{"$f":"IF(LEN(O314)=0,\"\",IF(COUNTIF(O314:$O$1921,O314+1)>0,\"\",O314+1))","v":""},{"$f":"IFERROR(SMALL($P$1:$P$1921,313),\"\")","v":""}]
[null,null,null,null,null,null,null,null,null,null,null,null,null,null,{"$f":"IF(315<=$B$10,IF(LEN('１学期'!FC7)=0,\"\",IF('１学期'!FC7=$B$8,IF(LEN('１学期'!FF7)=0,\"\",'１学期'!FF7),\"\")),\"\")","v":""},{"$f":"IF(LEN(O315)=0,\"\",IF(COUNTIF(O315:$O$1921,O315+1)>0,\"\",O315+1))","v":""},{"$f":"IFERROR(SMALL($P$1:$P$1921,314),\"\")","v":""}]
[null,null,null,null,null,null,null,null,null,null,null,null,null,null,{"$f":"IF(316<=$B$10,IF(LEN('１学期'!FC10)=0,\"\",IF('１学期'!FC10=$B$8,IF(LEN('１学期'!FF10)=0,\"\",'１学期'!FF10),\"\")),\"\")","v":""},{"$f":"IF(LEN(O316)=0,\"\",IF(COUNTIF(O316:$O$1921,O316+1)>0,\"\",O316+1))","v":""},{"$f":"IFERROR(SMALL($P$1:$P$1921,315),\"\")","v":""}]
[null,null,null,null,null,null,null,null,null,null,null,null,null,null,{"$f":"IF(317<=$B$10,IF(LEN('１学期'!FC13)=0,\"\",IF('１学期'!FC13=$B$8,IF(LEN('１学期'!FF13)=0,\"\",'１学期'!FF13),\"\")),\"\")","v":""},{"$f":"IF(LEN(O317)=0,\"\",IF(COUNTIF(O317:$O$1921,O317+1)>0,\"\",O317+1))","v":""},{"$f":"IFERROR(SMALL($P$1:$P$1921,316),\"\")","v":""}]
[null,null,null,null,null,null,null,null,null,null,null,null,null,null,{"$f":"IF(318<=$B$10,IF(LEN('１学期'!FC16)=0,\"\",IF('１学期'!FC16=$B$8,IF(LEN('１学期'!FF16)=0,\"\",'１学期'!FF16),\"\")),\"\")","v":""},{"$f":"IF(LEN(O318)=0,\"\",IF(COUNTIF(O318:$O$1921,O318+1)>0,\"\",O318+1))","v":""},{"$f":"IFERROR(SMALL($P$1:$P$1921,317),\"\")","v":""}]
[null,null,null,null,null,null,null,null,null,null,null,null,null,null,{"$f":"IF(319<=$B$10,IF(LEN('１学期'!FC19)=0,\"\",IF('１学期'!FC19=$B$8,IF(LEN('１学期'!FF19)=0,\"\",'１学期'!FF19),\"\")),\"\")","v":""},{"$f":"IF(LEN(O319)=0,\"\",IF(COUNTIF(O319:$O$1921,O319+1)>0,\"\",O319+1))","v":""},{"$f":"IFERROR(SMALL($P$1:$P$1921,318),\"\")","v":""}]
[null,null,null,null,null,null,null,null,null,null,null,null,null,null,{"$f":"IF(320<=$B$10,IF(LEN('１学期'!FC22)=0,\"\",IF('１学期'!FC22=$B$8,IF(LEN('１学期'!FF22)=0,\"\",'１学期'!FF22),\"\")),\"\")","v":""},{"$f":"IF(LEN(O320)=0,\"\",IF(COUNTIF(O320:$O$1921,O320+1)>0,\"\",O320+1))","v":""},{"$f":"IFERROR(SMALL($P$1:$P$1921,319),\"\")","v":""}]
[null,null,null,null,null,null,null,null,null,null,null,null,null,null,{"$f":"IF(321<=$B$10,IF(LEN('１学期'!FC25)=0,\"\",IF('１学期'!FC25=$B$8,IF(LEN('１学期'!FF25)=0,\"\",'１学期'!FF25),\"\")),\"\")","v":""},{"$f":"IF(LEN(O321)=0,\"\",IF(COUNTIF(O321:$O$1921,O321+1)>0,\"\",O321+1))","v":""},{"$f":"IFERROR(SMALL($P$1:$P$1921,320),\"\")","v":""}]
[null,null,null,null,null,null,null,null,null,null,null,null,null,null,{"$f":"IF(322<=$B$10,IF(LEN('１学期'!FG6)=0,\"\",IF('１学期'!FG6=$B$8,IF(LEN('１学期'!FJ6)=0,\"\",'１学期'!FJ6),\"\")),\"\")","v":""},{"$f":"IF(LEN(O322)=0,\"\",IF(COUNTIF(O322:$O$1921,O322+1)>0,\"\",O322+1))","v":""},{"$f":"IFERROR(SMALL($P$1:$P$1921,321),\"\")","v":""}]
[null,null,null,null,null,null,null,null,null,null,null,null,null,null,{"$f":"IF(323<=$B$10,IF(LEN('１学期'!FG7)=0,\"\",IF('１学期'!FG7=$B$8,IF(LEN('１学期'!FJ7)=0,\"\",'１学期'!FJ7),\"\")),\"\")","v":""},{"$f":"IF(LEN(O323)=0,\"\",IF(COUNTIF(O323:$O$1921,O323+1)>0,\"\",O323+1))","v":""},{"$f":"IFERROR(SMALL($P$1:$P$1921,322),\"\")","v":""}]
[null,null,null,null,null,null,null,null,null,null,null,null,null,null,{"$f":"IF(324<=$B$10,IF(LEN('１学期'!FG10)=0,\"\",IF('１学期'!FG10=$B$8,IF(LEN('１学期'!FJ10)=0,\"\",'１学期'!FJ10),\"\")),\"\")","v":""},{"$f":"IF(LEN(O324)=0,\"\",IF(COUNTIF(O324:$O$1921,O324+1)>0,\"\",O324+1))","v":""},{"$f":"IFERROR(SMALL($P$1:$P$1921,323),\"\")","v":""}]
[null,null,null,null,null,null,null,null,null,null,null,null,null,null,{"$f":"IF(325<=$B$10,IF(LEN('１学期'!FG13)=0,\"\",IF('１学期'!FG13=$B$8,IF(LEN('１学期'!FJ13)=0,\"\",'１学期'!FJ13),\"\")),\"\")","v":""},{"$f":"IF(LEN(O325)=0,\"\",IF(COUNTIF(O325:$O$1921,O325+1)>0,\"\",O325+1))","v":""},{"$f":"IFERROR(SMALL($P$1:$P$1921,324),\"\")","v":""}]
[null,null,null,null,null,null,null,null,null,null,null,null,null,null,{"$f":"IF(326<=$B$10,IF(LEN('１学期'!FG16)=0,\"\",IF('１学期'!FG16=$B$8,IF(LEN('１学期'!FJ16)=0,\"\",'１学期'!FJ16),\"\")),\"\")","v":""},{"$f":"IF(LEN(O326)=0,\"\",IF(COUNTIF(O326:$O$1921,O326+1)>0,\"\",O326+1))","v":""},{"$f":"IFERROR(SMALL($P$1:$P$1921,325),\"\")","v":""}]
[null,null,null,null,null,null,null,null,null,null,null,null,null,null,{"$f":"IF(327<=$B$10,IF(LEN('１学期'!FG19)=0,\"\",IF('１学期'!FG19=$B$8,IF(LEN('１学期'!FJ19)=0,\"\",'１学期'!FJ19),\"\")),\"\")","v":""},{"$f":"IF(LEN(O327)=0,\"\",IF(COUNTIF(O327:$O$1921,O327+1)>0,\"\",O327+1))","v":""},{"$f":"IFERROR(SMALL($P$1:$P$1921,326),\"\")","v":""}]
[null,null,null,null,null,null,null,null,null,null,null,null,null,null,{"$f":"IF(328<=$B$10,IF(LEN('１学期'!FG22)=0,\"\",IF('１学期'!FG22=$B$8,IF(LEN('１学期'!FJ22)=0,\"\",'１学期'!FJ22),\"\")),\"\")","v":""},{"$f":"IF(LEN(O328)=0,\"\",IF(COUNTIF(O328:$O$1921,O328+1)>0,\"\",O328+1))","v":""},{"$f":"IFERROR(SMALL($P$1:$P$1921,327),\"\")","v":""}]
[null,null,null,null,null,null,null,null,null,null,null,null,null,null,{"$f":"IF(329<=$B$10,IF(LEN('１学期'!FG25)=0,\"\",IF('１学期'!FG25=$B$8,IF(LEN('１学期'!FJ25)=0,\"\",'１学期'!FJ25),\"\")),\"\")","v":""},{"$f":"IF(LEN(O329)=0,\"\",IF(COUNTIF(O329:$O$1921,O329+1)>0,\"\",O329+1))","v":""},{"$f":"IFERROR(SMALL($P$1:$P$1921,328),\"\")","v":""}]
[null,null,null,null,null,null,null,null,null,null,null,null,null,null,{"$f":"IF(330<=$B$10,IF(LEN('１学期'!FK6)=0,\"\",IF('１学期'!FK6=$B$8,IF(LEN('１学期'!FN6)=0,\"\",'１学期'!FN6),\"\")),\"\")","v":""},{"$f":"IF(LEN(O330)=0,\"\",IF(COUNTIF(O330:$O$1921,O330+1)>0,\"\",O330+1))","v":""},{"$f":"IFERROR(SMALL($P$1:$P$1921,329),\"\")","v":""}]
[null,null,null,null,null,null,null,null,null,null,null,null,null,null,{"$f":"IF(331<=$B$10,IF(LEN('１学期'!FK7)=0,\"\",IF('１学期'!FK7=$B$8,IF(LEN('１学期'!FN7)=0,\"\",'１学期'!FN7),\"\")),\"\")","v":""},{"$f":"IF(LEN(O331)=0,\"\",IF(COUNTIF(O331:$O$1921,O331+1)>0,\"\",O331+1))","v":""},{"$f":"IFERROR(SMALL($P$1:$P$1921,330),\"\")","v":""}]
[null,null,null,null,null,null,null,null,null,null,null,null,null,null,{"$f":"IF(332<=$B$10,IF(LEN('１学期'!FK10)=0,\"\",IF('１学期'!FK10=$B$8,IF(LEN('１学期'!FN10)=0,\"\",'１学期'!FN10),\"\")),\"\")","v":""},{"$f":"IF(LEN(O332)=0,\"\",IF(COUNTIF(O332:$O$1921,O332+1)>0,\"\",O332+1))","v":""},{"$f":"IFERROR(SMALL($P$1:$P$1921,331),\"\")","v":""}]
[null,null,null,null,null,null,null,null,null,null,null,null,null,null,{"$f":"IF(333<=$B$10,IF(LEN('１学期'!FK13)=0,\"\",IF('１学期'!FK13=$B$8,IF(LEN('１学期'!FN13)=0,\"\",'１学期'!FN13),\"\")),\"\")","v":""},{"$f":"IF(LEN(O333)=0,\"\",IF(COUNTIF(O333:$O$1921,O333+1)>0,\"\",O333+1))","v":""},{"$f":"IFERROR(SMALL($P$1:$P$1921,332),\"\")","v":""}]
[null,null,null,null,null,null,null,null,null,null,null,null,null,null,{"$f":"IF(334<=$B$10,IF(LEN('１学期'!FK16)=0,\"\",IF('１学期'!FK16=$B$8,IF(LEN('１学期'!FN16)=0,\"\",'１学期'!FN16),\"\")),\"\")","v":""},{"$f":"IF(LEN(O334)=0,\"\",IF(COUNTIF(O334:$O$1921,O334+1)>0,\"\",O334+1))","v":""},{"$f":"IFERROR(SMALL($P$1:$P$1921,333),\"\")","v":""}]
[null,null,null,null,null,null,null,null,null,null,null,null,null,null,{"$f":"IF(335<=$B$10,IF(LEN('１学期'!FK19)=0,\"\",IF('１学期'!FK19=$B$8,IF(LEN('１学期'!FN19)=0,\"\",'１学期'!FN19),\"\")),\"\")","v":""},{"$f":"IF(LEN(O335)=0,\"\",IF(COUNTIF(O335:$O$1921,O335+1)>0,\"\",O335+1))","v":""},{"$f":"IFERROR(SMALL($P$1:$P$1921,334),\"\")","v":""}]
[null,null,null,null,null,null,null,null,null,null,null,null,null,null,{"$f":"IF(336<=$B$10,IF(LEN('１学期'!FK22)=0,\"\",IF('１学期'!FK22=$B$8,IF(LEN('１学期'!FN22)=0,\"\",'１学期'!FN22),\"\")),\"\")","v":""},{"$f":"IF(LEN(O336)=0,\"\",IF(COUNTIF(O336:$O$1921,O336+1)>0,\"\",O336+1))","v":""},{"$f":"IFERROR(SMALL($P$1:$P$1921,335),\"\")","v":""}]
[null,null,null,null,null,null,null,null,null,null,null,null,null,null,{"$f":"IF(337<=$B$10,IF(LEN('１学期'!FK25)=0,\"\",IF('１学期'!FK25=$B$8,IF(LEN('１学期'!FN25)=0,\"\",'１学期'!FN25),\"\")),\"\")","v":""},{"$f":"IF(LEN(O337)=0,\"\",IF(COUNTIF(O337:$O$1921,O337+1)>0,\"\",O337+1))","v":""},{"$f":"IFERROR(SMALL($P$1:$P$1921,336),\"\")","v":""}]
[null,null,null,null,null,null,null,null,null,null,null,null,null,null,{"$f":"IF(338<=$B$10,IF(LEN('１学期'!FO6)=0,\"\",IF('１学期'!FO6=$B$8,IF(LEN('１学期'!FR6)=0,\"\",'１学期'!FR6),\"\")),\"\")","v":""},{"$f":"IF(LEN(O338)=0,\"\",IF(COUNTIF(O338:$O$1921,O338+1)>0,\"\",O338+1))","v":""},{"$f":"IFERROR(SMALL($P$1:$P$1921,337),\"\")","v":""}]
[null,null,null,null,null,null,null,null,null,null,null,null,null,null,{"$f":"IF(339<=$B$10,IF(LEN('１学期'!FO7)=0,\"\",IF('１学期'!FO7=$B$8,IF(LEN('１学期'!FR7)=0,\"\",'１学期'!FR7),\"\")),\"\")","v":""},{"$f":"IF(LEN(O339)=0,\"\",IF(COUNTIF(O339:$O$1921,O339+1)>0,\"\",O339+1))","v":""},{"$f":"IFERROR(SMALL($P$1:$P$1921,338),\"\")","v":""}]
[null,null,null,null,null,null,null,null,null,null,null,null,null,null,{"$f":"IF(340<=$B$10,IF(LEN('１学期'!FO10)=0,\"\",IF('１学期'!FO10=$B$8,IF(LEN('１学期'!FR10)=0,\"\",'１学期'!FR10),\"\")),\"\")","v":""},{"$f":"IF(LEN(O340)=0,\"\",IF(COUNTIF(O340:$O$1921,O340+1)>0,\"\",O340+1))","v":""},{"$f":"IFERROR(SMALL($P$1:$P$1921,339),\"\")","v":""}]
[null,null,null,null,null,null,null,null,null,null,null,null,null,null,{"$f":"IF(341<=$B$10,IF(LEN('１学期'!FO13)=0,\"\",IF('１学期'!FO13=$B$8,IF(LEN('１学期'!FR13)=0,\"\",'１学期'!FR13),\"\")),\"\")","v":""},{"$f":"IF(LEN(O341)=0,\"\",IF(COUNTIF(O341:$O$1921,O341+1)>0,\"\",O341+1))","v":""},{"$f":"IFERROR(SMALL($P$1:$P$1921,340),\"\")","v":""}]
[null,null,null,null,null,null,null,null,null,null,null,null,null,null,{"$f":"IF(342<=$B$10,IF(LEN('１学期'!FO16)=0,\"\",IF('１学期'!FO16=$B$8,IF(LEN('１学期'!FR16)=0,\"\",'１学期'!FR16),\"\")),\"\")","v":""},{"$f":"IF(LEN(O342)=0,\"\",IF(COUNTIF(O342:$O$1921,O342+1)>0,\"\",O342+1))","v":""},{"$f":"IFERROR(SMALL($P$1:$P$1921,341),\"\")","v":""}]
[null,null,null,null,null,null,null,null,null,null,null,null,null,null,{"$f":"IF(343<=$B$10,IF(LEN('１学期'!FO19)=0,\"\",IF('１学期'!FO19=$B$8,IF(LEN('１学期'!FR19)=0,\"\",'１学期'!FR19),\"\")),\"\")","v":""},{"$f":"IF(LEN(O343)=0,\"\",IF(COUNTIF(O343:$O$1921,O343+1)>0,\"\",O343+1))","v":""},{"$f":"IFERROR(SMALL($P$1:$P$1921,342),\"\")","v":""}]
[null,null,null,null,null,null,null,null,null,null,null,null,null,null,{"$f":"IF(344<=$B$10,IF(LEN('１学期'!FO22)=0,\"\",IF('１学期'!FO22=$B$8,IF(LEN('１学期'!FR22)=0,\"\",'１学期'!FR22),\"\")),\"\")","v":""},{"$f":"IF(LEN(O344)=0,\"\",IF(COUNTIF(O344:$O$1921,O344+1)>0,\"\",O344+1))","v":""},{"$f":"IFERROR(SMALL($P$1:$P$1921,343),\"\")","v":""}]
[null,null,null,null,null,null,null,null,null,null,null,null,null,null,{"$f":"IF(345<=$B$10,IF(LEN('１学期'!FO25)=0,\"\",IF('１学期'!FO25=$B$8,IF(LEN('１学期'!FR25)=0,\"\",'１学期'!FR25),\"\")),\"\")","v":""},{"$f":"IF(LEN(O345)=0,\"\",IF(COUNTIF(O345:$O$1921,O345+1)>0,\"\",O345+1))","v":""},{"$f":"IFERROR(SMALL($P$1:$P$1921,344),\"\")","v":""}]
[null,null,null,null,null,null,null,null,null,null,null,null,null,null,{"$f":"IF(346<=$B$10,IF(LEN('１学期'!FS6)=0,\"\",IF('１学期'!FS6=$B$8,IF(LEN('１学期'!FV6)=0,\"\",'１学期'!FV6),\"\")),\"\")","v":""},{"$f":"IF(LEN(O346)=0,\"\",IF(COUNTIF(O346:$O$1921,O346+1)>0,\"\",O346+1))","v":""},{"$f":"IFERROR(SMALL($P$1:$P$1921,345),\"\")","v":""}]
[null,null,null,null,null,null,null,null,null,null,null,null,null,null,{"$f":"IF(347<=$B$10,IF(LEN('１学期'!FS7)=0,\"\",IF('１学期'!FS7=$B$8,IF(LEN('１学期'!FV7)=0,\"\",'１学期'!FV7),\"\")),\"\")","v":""},{"$f":"IF(LEN(O347)=0,\"\",IF(COUNTIF(O347:$O$1921,O347+1)>0,\"\",O347+1))","v":""},{"$f":"IFERROR(SMALL($P$1:$P$1921,346),\"\")","v":""}]
[null,null,null,null,null,null,null,null,null,null,null,null,null,null,{"$f":"IF(348<=$B$10,IF(LEN('１学期'!FS10)=0,\"\",IF('１学期'!FS10=$B$8,IF(LEN('１学期'!FV10)=0,\"\",'１学期'!FV10),\"\")),\"\")","v":""},{"$f":"IF(LEN(O348)=0,\"\",IF(COUNTIF(O348:$O$1921,O348+1)>0,\"\",O348+1))","v":""},{"$f":"IFERROR(SMALL($P$1:$P$1921,347),\"\")","v":""}]
[null,null,null,null,null,null,null,null,null,null,null,null,null,null,{"$f":"IF(349<=$B$10,IF(LEN('１学期'!FS13)=0,\"\",IF('１学期'!FS13=$B$8,IF(LEN('１学期'!FV13)=0,\"\",'１学期'!FV13),\"\")),\"\")","v":""},{"$f":"IF(LEN(O349)=0,\"\",IF(COUNTIF(O349:$O$1921,O349+1)>0,\"\",O349+1))","v":""},{"$f":"IFERROR(SMALL($P$1:$P$1921,348),\"\")","v":""}]
[null,null,null,null,null,null,null,null,null,null,null,null,null,null,{"$f":"IF(350<=$B$10,IF(LEN('１学期'!FS16)=0,\"\",IF('１学期'!FS16=$B$8,IF(LEN('１学期'!FV16)=0,\"\",'１学期'!FV16),\"\")),\"\")","v":""},{"$f":"IF(LEN(O350)=0,\"\",IF(COUNTIF(O350:$O$1921,O350+1)>0,\"\",O350+1))","v":""},{"$f":"IFERROR(SMALL($P$1:$P$1921,349),\"\")","v":""}]
[null,null,null,null,null,null,null,null,null,null,null,null,null,null,{"$f":"IF(351<=$B$10,IF(LEN('１学期'!FS19)=0,\"\",IF('１学期'!FS19=$B$8,IF(LEN('１学期'!FV19)=0,\"\",'１学期'!FV19),\"\")),\"\")","v":""},{"$f":"IF(LEN(O351)=0,\"\",IF(COUNTIF(O351:$O$1921,O351+1)>0,\"\",O351+1))","v":""},{"$f":"IFERROR(SMALL($P$1:$P$1921,350),\"\")","v":""}]
[null,null,null,null,null,null,null,null,null,null,null,null,null,null,{"$f":"IF(352<=$B$10,IF(LEN('１学期'!FS22)=0,\"\",IF('１学期'!FS22=$B$8,IF(LEN('１学期'!FV22)=0,\"\",'１学期'!FV22),\"\")),\"\")","v":""},{"$f":"IF(LEN(O352)=0,\"\",IF(COUNTIF(O352:$O$1921,O352+1)>0,\"\",O352+1))","v":""},{"$f":"IFERROR(SMALL($P$1:$P$1921,351),\"\")","v":""}]
[null,null,null,null,null,null,null,null,null,null,null,null,null,null,{"$f":"IF(353<=$B$10,IF(LEN('１学期'!FS25)=0,\"\",IF('１学期'!FS25=$B$8,IF(LEN('１学期'!FV25)=0,\"\",'１学期'!FV25),\"\")),\"\")","v":""},{"$f":"IF(LEN(O353)=0,\"\",IF(COUNTIF(O353:$O$1921,O353+1)>0,\"\",O353+1))","v":""},{"$f":"IFERROR(SMALL($P$1:$P$1921,352),\"\")","v":""}]
[null,null,null,null,null,null,null,null,null,null,null,null,null,null,{"$f":"IF(354<=$B$10,IF(LEN('１学期'!FW6)=0,\"\",IF('１学期'!FW6=$B$8,IF(LEN('１学期'!FZ6)=0,\"\",'１学期'!FZ6),\"\")),\"\")","v":""},{"$f":"IF(LEN(O354)=0,\"\",IF(COUNTIF(O354:$O$1921,O354+1)>0,\"\",O354+1))","v":""},{"$f":"IFERROR(SMALL($P$1:$P$1921,353),\"\")","v":""}]
[null,null,null,null,null,null,null,null,null,null,null,null,null,null,{"$f":"IF(355<=$B$10,IF(LEN('１学期'!FW7)=0,\"\",IF('１学期'!FW7=$B$8,IF(LEN('１学期'!FZ7)=0,\"\",'１学期'!FZ7),\"\")),\"\")","v":""},{"$f":"IF(LEN(O355)=0,\"\",IF(COUNTIF(O355:$O$1921,O355+1)>0,\"\",O355+1))","v":""},{"$f":"IFERROR(SMALL($P$1:$P$1921,354),\"\")","v":""}]
[null,null,null,null,null,null,null,null,null,null,null,null,null,null,{"$f":"IF(356<=$B$10,IF(LEN('１学期'!FW10)=0,\"\",IF('１学期'!FW10=$B$8,IF(LEN('１学期'!FZ10)=0,\"\",'１学期'!FZ10),\"\")),\"\")","v":""},{"$f":"IF(LEN(O356)=0,\"\",IF(COUNTIF(O356:$O$1921,O356+1)>0,\"\",O356+1))","v":""},{"$f":"IFERROR(SMALL($P$1:$P$1921,355),\"\")","v":""}]
[null,null,null,null,null,null,null,null,null,null,null,null,null,null,{"$f":"IF(357<=$B$10,IF(LEN('１学期'!FW13)=0,\"\",IF('１学期'!FW13=$B$8,IF(LEN('１学期'!FZ13)=0,\"\",'１学期'!FZ13),\"\")),\"\")","v":""},{"$f":"IF(LEN(O357)=0,\"\",IF(COUNTIF(O357:$O$1921,O357+1)>0,\"\",O357+1))","v":""},{"$f":"IFERROR(SMALL($P$1:$P$1921,356),\"\")","v":""}]
[null,null,null,null,null,null,null,null,null,null,null,null,null,null,{"$f":"IF(358<=$B$10,IF(LEN('１学期'!FW16)=0,\"\",IF('１学期'!FW16=$B$8,IF(LEN('１学期'!FZ16)=0,\"\",'１学期'!FZ16),\"\")),\"\")","v":""},{"$f":"IF(LEN(O358)=0,\"\",IF(COUNTIF(O358:$O$1921,O358+1)>0,\"\",O358+1))","v":""},{"$f":"IFERROR(SMALL($P$1:$P$1921,357),\"\")","v":""}]
[null,null,null,null,null,null,null,null,null,null,null,null,null,null,{"$f":"IF(359<=$B$10,IF(LEN('１学期'!FW19)=0,\"\",IF('１学期'!FW19=$B$8,IF(LEN('１学期'!FZ19)=0,\"\",'１学期'!FZ19),\"\")),\"\")","v":""},{"$f":"IF(LEN(O359)=0,\"\",IF(COUNTIF(O359:$O$1921,O359+1)>0,\"\",O359+1))","v":""},{"$f":"IFERROR(SMALL($P$1:$P$1921,358),\"\")","v":""}]
[null,null,null,null,null,null,null,null,null,null,null,null,null,null,{"$f":"IF(360<=$B$10,IF(LEN('１学期'!FW22)=0,\"\",IF('１学期'!FW22=$B$8,IF(LEN('１学期'!FZ22)=0,\"\",'１学期'!FZ22),\"\")),\"\")","v":""},{"$f":"IF(LEN(O360)=0,\"\",IF(COUNTIF(O360:$O$1921,O360+1)>0,\"\",O360+1))","v":""},{"$f":"IFERROR(SMALL($P$1:$P$1921,359),\"\")","v":""}]
[null,null,null,null,null,null,null,null,null,null,null,null,null,null,{"$f":"IF(361<=$B$10,IF(LEN('１学期'!FW25)=0,\"\",IF('１学期'!FW25=$B$8,IF(LEN('１学期'!FZ25)=0,\"\",'１学期'!FZ25),\"\")),\"\")","v":""},{"$f":"IF(LEN(O361)=0,\"\",IF(COUNTIF(O361:$O$1921,O361+1)>0,\"\",O361+1))","v":""},{"$f":"IFERROR(SMALL($P$1:$P$1921,360),\"\")","v":""}]
[null,null,null,null,null,null,null,null,null,null,null,null,null,null,{"$f":"IF(362<=$B$10,IF(LEN('１学期'!GA6)=0,\"\",IF('１学期'!GA6=$B$8,IF(LEN('１学期'!GD6)=0,\"\",'１学期'!GD6),\"\")),\"\")","v":""},{"$f":"IF(LEN(O362)=0,\"\",IF(COUNTIF(O362:$O$1921,O362+1)>0,\"\",O362+1))","v":""},{"$f":"IFERROR(SMALL($P$1:$P$1921,361),\"\")","v":""}]
[null,null,null,null,null,null,null,null,null,null,null,null,null,null,{"$f":"IF(363<=$B$10,IF(LEN('１学期'!GA7)=0,\"\",IF('１学期'!GA7=$B$8,IF(LEN('１学期'!GD7)=0,\"\",'１学期'!GD7),\"\")),\"\")","v":""},{"$f":"IF(LEN(O363)=0,\"\",IF(COUNTIF(O363:$O$1921,O363+1)>0,\"\",O363+1))","v":""},{"$f":"IFERROR(SMALL($P$1:$P$1921,362),\"\")","v":""}]
[null,null,null,null,null,null,null,null,null,null,null,null,null,null,{"$f":"IF(364<=$B$10,IF(LEN('１学期'!GA10)=0,\"\",IF('１学期'!GA10=$B$8,IF(LEN('１学期'!GD10)=0,\"\",'１学期'!GD10),\"\")),\"\")","v":""},{"$f":"IF(LEN(O364)=0,\"\",IF(COUNTIF(O364:$O$1921,O364+1)>0,\"\",O364+1))","v":""},{"$f":"IFERROR(SMALL($P$1:$P$1921,363),\"\")","v":""}]
[null,null,null,null,null,null,null,null,null,null,null,null,null,null,{"$f":"IF(365<=$B$10,IF(LEN('１学期'!GA13)=0,\"\",IF('１学期'!GA13=$B$8,IF(LEN('１学期'!GD13)=0,\"\",'１学期'!GD13),\"\")),\"\")","v":""},{"$f":"IF(LEN(O365)=0,\"\",IF(COUNTIF(O365:$O$1921,O365+1)>0,\"\",O365+1))","v":""},{"$f":"IFERROR(SMALL($P$1:$P$1921,364),\"\")","v":""}]
[null,null,null,null,null,null,null,null,null,null,null,null,null,null,{"$f":"IF(366<=$B$10,IF(LEN('１学期'!GA16)=0,\"\",IF('１学期'!GA16=$B$8,IF(LEN('１学期'!GD16)=0,\"\",'１学期'!GD16),\"\")),\"\")","v":""},{"$f":"IF(LEN(O366)=0,\"\",IF(COUNTIF(O366:$O$1921,O366+1)>0,\"\",O366+1))","v":""},{"$f":"IFERROR(SMALL($P$1:$P$1921,365),\"\")","v":""}]
[null,null,null,null,null,null,null,null,null,null,null,null,null,null,{"$f":"IF(367<=$B$10,IF(LEN('１学期'!GA19)=0,\"\",IF('１学期'!GA19=$B$8,IF(LEN('１学期'!GD19)=0,\"\",'１学期'!GD19),\"\")),\"\")","v":""},{"$f":"IF(LEN(O367)=0,\"\",IF(COUNTIF(O367:$O$1921,O367+1)>0,\"\",O367+1))","v":""},{"$f":"IFERROR(SMALL($P$1:$P$1921,366),\"\")","v":""}]
[null,null,null,null,null,null,null,null,null,null,null,null,null,null,{"$f":"IF(368<=$B$10,IF(LEN('１学期'!GA22)=0,\"\",IF('１学期'!GA22=$B$8,IF(LEN('１学期'!GD22)=0,\"\",'１学期'!GD22),\"\")),\"\")","v":""},{"$f":"IF(LEN(O368)=0,\"\",IF(COUNTIF(O368:$O$1921,O368+1)>0,\"\",O368+1))","v":""},{"$f":"IFERROR(SMALL($P$1:$P$1921,367),\"\")","v":""}]
[null,null,null,null,null,null,null,null,null,null,null,null,null,null,{"$f":"IF(369<=$B$10,IF(LEN('１学期'!GA25)=0,\"\",IF('１学期'!GA25=$B$8,IF(LEN('１学期'!GD25)=0,\"\",'１学期'!GD25),\"\")),\"\")","v":""},{"$f":"IF(LEN(O369)=0,\"\",IF(COUNTIF(O369:$O$1921,O369+1)>0,\"\",O369+1))","v":""},{"$f":"IFERROR(SMALL($P$1:$P$1921,368),\"\")","v":""}]
[null,null,null,null,null,null,null,null,null,null,null,null,null,null,{"$f":"IF(370<=$B$10,IF(LEN('１学期'!GE6)=0,\"\",IF('１学期'!GE6=$B$8,IF(LEN('１学期'!GH6)=0,\"\",'１学期'!GH6),\"\")),\"\")","v":""},{"$f":"IF(LEN(O370)=0,\"\",IF(COUNTIF(O370:$O$1921,O370+1)>0,\"\",O370+1))","v":""},{"$f":"IFERROR(SMALL($P$1:$P$1921,369),\"\")","v":""}]
[null,null,null,null,null,null,null,null,null,null,null,null,null,null,{"$f":"IF(371<=$B$10,IF(LEN('１学期'!GE7)=0,\"\",IF('１学期'!GE7=$B$8,IF(LEN('１学期'!GH7)=0,\"\",'１学期'!GH7),\"\")),\"\")","v":""},{"$f":"IF(LEN(O371)=0,\"\",IF(COUNTIF(O371:$O$1921,O371+1)>0,\"\",O371+1))","v":""},{"$f":"IFERROR(SMALL($P$1:$P$1921,370),\"\")","v":""}]
[null,null,null,null,null,null,null,null,null,null,null,null,null,null,{"$f":"IF(372<=$B$10,IF(LEN('１学期'!GE10)=0,\"\",IF('１学期'!GE10=$B$8,IF(LEN('１学期'!GH10)=0,\"\",'１学期'!GH10),\"\")),\"\")","v":""},{"$f":"IF(LEN(O372)=0,\"\",IF(COUNTIF(O372:$O$1921,O372+1)>0,\"\",O372+1))","v":""},{"$f":"IFERROR(SMALL($P$1:$P$1921,371),\"\")","v":""}]
[null,null,null,null,null,null,null,null,null,null,null,null,null,null,{"$f":"IF(373<=$B$10,IF(LEN('１学期'!GE13)=0,\"\",IF('１学期'!GE13=$B$8,IF(LEN('１学期'!GH13)=0,\"\",'１学期'!GH13),\"\")),\"\")","v":""},{"$f":"IF(LEN(O373)=0,\"\",IF(COUNTIF(O373:$O$1921,O373+1)>0,\"\",O373+1))","v":""},{"$f":"IFERROR(SMALL($P$1:$P$1921,372),\"\")","v":""}]
[null,null,null,null,null,null,null,null,null,null,null,null,null,null,{"$f":"IF(374<=$B$10,IF(LEN('１学期'!GE16)=0,\"\",IF('１学期'!GE16=$B$8,IF(LEN('１学期'!GH16)=0,\"\",'１学期'!GH16),\"\")),\"\")","v":""},{"$f":"IF(LEN(O374)=0,\"\",IF(COUNTIF(O374:$O$1921,O374+1)>0,\"\",O374+1))","v":""},{"$f":"IFERROR(SMALL($P$1:$P$1921,373),\"\")","v":""}]
[null,null,null,null,null,null,null,null,null,null,null,null,null,null,{"$f":"IF(375<=$B$10,IF(LEN('１学期'!GE19)=0,\"\",IF('１学期'!GE19=$B$8,IF(LEN('１学期'!GH19)=0,\"\",'１学期'!GH19),\"\")),\"\")","v":""},{"$f":"IF(LEN(O375)=0,\"\",IF(COUNTIF(O375:$O$1921,O375+1)>0,\"\",O375+1))","v":""},{"$f":"IFERROR(SMALL($P$1:$P$1921,374),\"\")","v":""}]
[null,null,null,null,null,null,null,null,null,null,null,null,null,null,{"$f":"IF(376<=$B$10,IF(LEN('１学期'!GE22)=0,\"\",IF('１学期'!GE22=$B$8,IF(LEN('１学期'!GH22)=0,\"\",'１学期'!GH22),\"\")),\"\")","v":""},{"$f":"IF(LEN(O376)=0,\"\",IF(COUNTIF(O376:$O$1921,O376+1)>0,\"\",O376+1))","v":""},{"$f":"IFERROR(SMALL($P$1:$P$1921,375),\"\")","v":""}]
[null,null,null,null,null,null,null,null,null,null,null,null,null,null,{"$f":"IF(377<=$B$10,IF(LEN('１学期'!GE25)=0,\"\",IF('１学期'!GE25=$B$8,IF(LEN('１学期'!GH25)=0,\"\",'１学期'!GH25),\"\")),\"\")","v":""},{"$f":"IF(LEN(O377)=0,\"\",IF(COUNTIF(O377:$O$1921,O377+1)>0,\"\",O377+1))","v":""},{"$f":"IFERROR(SMALL($P$1:$P$1921,376),\"\")","v":""}]
[null,null,null,null,null,null,null,null,null,null,null,null,null,null,{"$f":"IF(378<=$B$10,IF(LEN('１学期'!GI6)=0,\"\",IF('１学期'!GI6=$B$8,IF(LEN('１学期'!GL6)=0,\"\",'１学期'!GL6),\"\")),\"\")","v":""},{"$f":"IF(LEN(O378)=0,\"\",IF(COUNTIF(O378:$O$1921,O378+1)>0,\"\",O378+1))","v":""},{"$f":"IFERROR(SMALL($P$1:$P$1921,377),\"\")","v":""}]
[null,null,null,null,null,null,null,null,null,null,null,null,null,null,{"$f":"IF(379<=$B$10,IF(LEN('１学期'!GI7)=0,\"\",IF('１学期'!GI7=$B$8,IF(LEN('１学期'!GL7)=0,\"\",'１学期'!GL7),\"\")),\"\")","v":""},{"$f":"IF(LEN(O379)=0,\"\",IF(COUNTIF(O379:$O$1921,O379+1)>0,\"\",O379+1))","v":""},{"$f":"IFERROR(SMALL($P$1:$P$1921,378),\"\")","v":""}]
[null,null,null,null,null,null,null,null,null,null,null,null,null,null,{"$f":"IF(380<=$B$10,IF(LEN('１学期'!GI10)=0,\"\",IF('１学期'!GI10=$B$8,IF(LEN('１学期'!GL10)=0,\"\",'１学期'!GL10),\"\")),\"\")","v":""},{"$f":"IF(LEN(O380)=0,\"\",IF(COUNTIF(O380:$O$1921,O380+1)>0,\"\",O380+1))","v":""},{"$f":"IFERROR(SMALL($P$1:$P$1921,379),\"\")","v":""}]
[null,null,null,null,null,null,null,null,null,null,null,null,null,null,{"$f":"IF(381<=$B$10,IF(LEN('１学期'!GI13)=0,\"\",IF('１学期'!GI13=$B$8,IF(LEN('１学期'!GL13)=0,\"\",'１学期'!GL13),\"\")),\"\")","v":""},{"$f":"IF(LEN(O381)=0,\"\",IF(COUNTIF(O381:$O$1921,O381+1)>0,\"\",O381+1))","v":""},{"$f":"IFERROR(SMALL($P$1:$P$1921,380),\"\")","v":""}]
[null,null,null,null,null,null,null,null,null,null,null,null,null,null,{"$f":"IF(382<=$B$10,IF(LEN('１学期'!GI16)=0,\"\",IF('１学期'!GI16=$B$8,IF(LEN('１学期'!GL16)=0,\"\",'１学期'!GL16),\"\")),\"\")","v":""},{"$f":"IF(LEN(O382)=0,\"\",IF(COUNTIF(O382:$O$1921,O382+1)>0,\"\",O382+1))","v":""},{"$f":"IFERROR(SMALL($P$1:$P$1921,381),\"\")","v":""}]
[null,null,null,null,null,null,null,null,null,null,null,null,null,null,{"$f":"IF(383<=$B$10,IF(LEN('１学期'!GI19)=0,\"\",IF('１学期'!GI19=$B$8,IF(LEN('１学期'!GL19)=0,\"\",'１学期'!GL19),\"\")),\"\")","v":""},{"$f":"IF(LEN(O383)=0,\"\",IF(COUNTIF(O383:$O$1921,O383+1)>0,\"\",O383+1))","v":""},{"$f":"IFERROR(SMALL($P$1:$P$1921,382),\"\")","v":""}]
[null,null,null,null,null,null,null,null,null,null,null,null,null,null,{"$f":"IF(384<=$B$10,IF(LEN('１学期'!GI22)=0,\"\",IF('１学期'!GI22=$B$8,IF(LEN('１学期'!GL22)=0,\"\",'１学期'!GL22),\"\")),\"\")","v":""},{"$f":"IF(LEN(O384)=0,\"\",IF(COUNTIF(O384:$O$1921,O384+1)>0,\"\",O384+1))","v":""},{"$f":"IFERROR(SMALL($P$1:$P$1921,383),\"\")","v":""}]
[null,null,null,null,null,null,null,null,null,null,null,null,null,null,{"$f":"IF(385<=$B$10,IF(LEN('１学期'!GI25)=0,\"\",IF('１学期'!GI25=$B$8,IF(LEN('１学期'!GL25)=0,\"\",'１学期'!GL25),\"\")),\"\")","v":""},{"$f":"IF(LEN(O385)=0,\"\",IF(COUNTIF(O385:$O$1921,O385+1)>0,\"\",O385+1))","v":""},{"$f":"IFERROR(SMALL($P$1:$P$1921,384),\"\")","v":""}]
[null,null,null,null,null,null,null,null,null,null,null,null,null,null,{"$f":"IF(386<=$B$10,IF(LEN('１学期'!GM6)=0,\"\",IF('１学期'!GM6=$B$8,IF(LEN('１学期'!GP6)=0,\"\",'１学期'!GP6),\"\")),\"\")","v":""},{"$f":"IF(LEN(O386)=0,\"\",IF(COUNTIF(O386:$O$1921,O386+1)>0,\"\",O386+1))","v":""},{"$f":"IFERROR(SMALL($P$1:$P$1921,385),\"\")","v":""}]
[null,null,null,null,null,null,null,null,null,null,null,null,null,null,{"$f":"IF(387<=$B$10,IF(LEN('１学期'!GM7)=0,\"\",IF('１学期'!GM7=$B$8,IF(LEN('１学期'!GP7)=0,\"\",'１学期'!GP7),\"\")),\"\")","v":""},{"$f":"IF(LEN(O387)=0,\"\",IF(COUNTIF(O387:$O$1921,O387+1)>0,\"\",O387+1))","v":""},{"$f":"IFERROR(SMALL($P$1:$P$1921,386),\"\")","v":""}]
[null,null,null,null,null,null,null,null,null,null,null,null,null,null,{"$f":"IF(388<=$B$10,IF(LEN('１学期'!GM10)=0,\"\",IF('１学期'!GM10=$B$8,IF(LEN('１学期'!GP10)=0,\"\",'１学期'!GP10),\"\")),\"\")","v":""},{"$f":"IF(LEN(O388)=0,\"\",IF(COUNTIF(O388:$O$1921,O388+1)>0,\"\",O388+1))","v":""},{"$f":"IFERROR(SMALL($P$1:$P$1921,387),\"\")","v":""}]
[null,null,null,null,null,null,null,null,null,null,null,null,null,null,{"$f":"IF(389<=$B$10,IF(LEN('１学期'!GM13)=0,\"\",IF('１学期'!GM13=$B$8,IF(LEN('１学期'!GP13)=0,\"\",'１学期'!GP13),\"\")),\"\")","v":""},{"$f":"IF(LEN(O389)=0,\"\",IF(COUNTIF(O389:$O$1921,O389+1)>0,\"\",O389+1))","v":""},{"$f":"IFERROR(SMALL($P$1:$P$1921,388),\"\")","v":""}]
[null,null,null,null,null,null,null,null,null,null,null,null,null,null,{"$f":"IF(390<=$B$10,IF(LEN('１学期'!GM16)=0,\"\",IF('１学期'!GM16=$B$8,IF(LEN('１学期'!GP16)=0,\"\",'１学期'!GP16),\"\")),\"\")","v":""},{"$f":"IF(LEN(O390)=0,\"\",IF(COUNTIF(O390:$O$1921,O390+1)>0,\"\",O390+1))","v":""},{"$f":"IFERROR(SMALL($P$1:$P$1921,389),\"\")","v":""}]
[null,null,null,null,null,null,null,null,null,null,null,null,null,null,{"$f":"IF(391<=$B$10,IF(LEN('１学期'!GM19)=0,\"\",IF('１学期'!GM19=$B$8,IF(LEN('１学期'!GP19)=0,\"\",'１学期'!GP19),\"\")),\"\")","v":""},{"$f":"IF(LEN(O391)=0,\"\",IF(COUNTIF(O391:$O$1921,O391+1)>0,\"\",O391+1))","v":""},{"$f":"IFERROR(SMALL($P$1:$P$1921,390),\"\")","v":""}]
[null,null,null,null,null,null,null,null,null,null,null,null,null,null,{"$f":"IF(392<=$B$10,IF(LEN('１学期'!GM22)=0,\"\",IF('１学期'!GM22=$B$8,IF(LEN('１学期'!GP22)=0,\"\",'１学期'!GP22),\"\")),\"\")","v":""},{"$f":"IF(LEN(O392)=0,\"\",IF(COUNTIF(O392:$O$1921,O392+1)>0,\"\",O392+1))","v":""},{"$f":"IFERROR(SMALL($P$1:$P$1921,391),\"\")","v":""}]
[null,null,null,null,null,null,null,null,null,null,null,null,null,null,{"$f":"IF(393<=$B$10,IF(LEN('１学期'!GM25)=0,\"\",IF('１学期'!GM25=$B$8,IF(LEN('１学期'!GP25)=0,\"\",'１学期'!GP25),\"\")),\"\")","v":""},{"$f":"IF(LEN(O393)=0,\"\",IF(COUNTIF(O393:$O$1921,O393+1)>0,\"\",O393+1))","v":""},{"$f":"IFERROR(SMALL($P$1:$P$1921,392),\"\")","v":""}]
[null,null,null,null,null,null,null,null,null,null,null,null,null,null,{"$f":"IF(394<=$B$10,IF(LEN('１学期'!GQ6)=0,\"\",IF('１学期'!GQ6=$B$8,IF(LEN('１学期'!GT6)=0,\"\",'１学期'!GT6),\"\")),\"\")","v":""},{"$f":"IF(LEN(O394)=0,\"\",IF(COUNTIF(O394:$O$1921,O394+1)>0,\"\",O394+1))","v":""},{"$f":"IFERROR(SMALL($P$1:$P$1921,393),\"\")","v":""}]
[null,null,null,null,null,null,null,null,null,null,null,null,null,null,{"$f":"IF(395<=$B$10,IF(LEN('１学期'!GQ7)=0,\"\",IF('１学期'!GQ7=$B$8,IF(LEN('１学期'!GT7)=0,\"\",'１学期'!GT7),\"\")),\"\")","v":""},{"$f":"IF(LEN(O395)=0,\"\",IF(COUNTIF(O395:$O$1921,O395+1)>0,\"\",O395+1))","v":""},{"$f":"IFERROR(SMALL($P$1:$P$1921,394),\"\")","v":""}]
[null,null,null,null,null,null,null,null,null,null,null,null,null,null,{"$f":"IF(396<=$B$10,IF(LEN('１学期'!GQ10)=0,\"\",IF('１学期'!GQ10=$B$8,IF(LEN('１学期'!GT10)=0,\"\",'１学期'!GT10),\"\")),\"\")","v":""},{"$f":"IF(LEN(O396)=0,\"\",IF(COUNTIF(O396:$O$1921,O396+1)>0,\"\",O396+1))","v":""},{"$f":"IFERROR(SMALL($P$1:$P$1921,395),\"\")","v":""}]
[null,null,null,null,null,null,null,null,null,null,null,null,null,null,{"$f":"IF(397<=$B$10,IF(LEN('１学期'!GQ13)=0,\"\",IF('１学期'!GQ13=$B$8,IF(LEN('１学期'!GT13)=0,\"\",'１学期'!GT13),\"\")),\"\")","v":""},{"$f":"IF(LEN(O397)=0,\"\",IF(COUNTIF(O397:$O$1921,O397+1)>0,\"\",O397+1))","v":""},{"$f":"IFERROR(SMALL($P$1:$P$1921,396),\"\")","v":""}]
[null,null,null,null,null,null,null,null,null,null,null,null,null,null,{"$f":"IF(398<=$B$10,IF(LEN('１学期'!GQ16)=0,\"\",IF('１学期'!GQ16=$B$8,IF(LEN('１学期'!GT16)=0,\"\",'１学期'!GT16),\"\")),\"\")","v":""},{"$f":"IF(LEN(O398)=0,\"\",IF(COUNTIF(O398:$O$1921,O398+1)>0,\"\",O398+1))","v":""},{"$f":"IFERROR(SMALL($P$1:$P$1921,397),\"\")","v":""}]
[null,null,null,null,null,null,null,null,null,null,null,null,null,null,{"$f":"IF(399<=$B$10,IF(LEN('１学期'!GQ19)=0,\"\",IF('１学期'!GQ19=$B$8,IF(LEN('１学期'!GT19)=0,\"\",'１学期'!GT19),\"\")),\"\")","v":""},{"$f":"IF(LEN(O399)=0,\"\",IF(COUNTIF(O399:$O$1921,O399+1)>0,\"\",O399+1))","v":""},{"$f":"IFERROR(SMALL($P$1:$P$1921,398),\"\")","v":""}]
[null,null,null,null,null,null,null,null,null,null,null,null,null,null,{"$f":"IF(400<=$B$10,IF(LEN('１学期'!GQ22)=0,\"\",IF('１学期'!GQ22=$B$8,IF(LEN('１学期'!GT22)=0,\"\",'１学期'!GT22),\"\")),\"\")","v":""},{"$f":"IF(LEN(O400)=0,\"\",IF(COUNTIF(O400:$O$1921,O400+1)>0,\"\",O400+1))","v":""},{"$f":"IFERROR(SMALL($P$1:$P$1921,399),\"\")","v":""}]
[null,null,null,null,null,null,null,null,null,null,null,null,null,null,{"$f":"IF(401<=$B$10,IF(LEN('１学期'!GQ25)=0,\"\",IF('１学期'!GQ25=$B$8,IF(LEN('１学期'!GT25)=0,\"\",'１学期'!GT25),\"\")),\"\")","v":""},{"$f":"IF(LEN(O401)=0,\"\",IF(COUNTIF(O401:$O$1921,O401+1)>0,\"\",O401+1))","v":""},{"$f":"IFERROR(SMALL($P$1:$P$1921,400),\"\")","v":""}]
[null,null,null,null,null,null,null,null,null,null,null,null,null,null,{"$f":"IF(402<=$B$10,IF(LEN('１学期'!GU6)=0,\"\",IF('１学期'!GU6=$B$8,IF(LEN('１学期'!GX6)=0,\"\",'１学期'!GX6),\"\")),\"\")","v":""},{"$f":"IF(LEN(O402)=0,\"\",IF(COUNTIF(O402:$O$1921,O402+1)>0,\"\",O402+1))","v":""},{"$f":"IFERROR(SMALL($P$1:$P$1921,401),\"\")","v":""}]
[null,null,null,null,null,null,null,null,null,null,null,null,null,null,{"$f":"IF(403<=$B$10,IF(LEN('１学期'!GU7)=0,\"\",IF('１学期'!GU7=$B$8,IF(LEN('１学期'!GX7)=0,\"\",'１学期'!GX7),\"\")),\"\")","v":""},{"$f":"IF(LEN(O403)=0,\"\",IF(COUNTIF(O403:$O$1921,O403+1)>0,\"\",O403+1))","v":""},{"$f":"IFERROR(SMALL($P$1:$P$1921,402),\"\")","v":""}]
[null,null,null,null,null,null,null,null,null,null,null,null,null,null,{"$f":"IF(404<=$B$10,IF(LEN('１学期'!GU10)=0,\"\",IF('１学期'!GU10=$B$8,IF(LEN('１学期'!GX10)=0,\"\",'１学期'!GX10),\"\")),\"\")","v":""},{"$f":"IF(LEN(O404)=0,\"\",IF(COUNTIF(O404:$O$1921,O404+1)>0,\"\",O404+1))","v":""},{"$f":"IFERROR(SMALL($P$1:$P$1921,403),\"\")","v":""}]
[null,null,null,null,null,null,null,null,null,null,null,null,null,null,{"$f":"IF(405<=$B$10,IF(LEN('１学期'!GU13)=0,\"\",IF('１学期'!GU13=$B$8,IF(LEN('１学期'!GX13)=0,\"\",'１学期'!GX13),\"\")),\"\")","v":""},{"$f":"IF(LEN(O405)=0,\"\",IF(COUNTIF(O405:$O$1921,O405+1)>0,\"\",O405+1))","v":""},{"$f":"IFERROR(SMALL($P$1:$P$1921,404),\"\")","v":""}]
[null,null,null,null,null,null,null,null,null,null,null,null,null,null,{"$f":"IF(406<=$B$10,IF(LEN('１学期'!GU16)=0,\"\",IF('１学期'!GU16=$B$8,IF(LEN('１学期'!GX16)=0,\"\",'１学期'!GX16),\"\")),\"\")","v":""},{"$f":"IF(LEN(O406)=0,\"\",IF(COUNTIF(O406:$O$1921,O406+1)>0,\"\",O406+1))","v":""},{"$f":"IFERROR(SMALL($P$1:$P$1921,405),\"\")","v":""}]
[null,null,null,null,null,null,null,null,null,null,null,null,null,null,{"$f":"IF(407<=$B$10,IF(LEN('１学期'!GU19)=0,\"\",IF('１学期'!GU19=$B$8,IF(LEN('１学期'!GX19)=0,\"\",'１学期'!GX19),\"\")),\"\")","v":""},{"$f":"IF(LEN(O407)=0,\"\",IF(COUNTIF(O407:$O$1921,O407+1)>0,\"\",O407+1))","v":""},{"$f":"IFERROR(SMALL($P$1:$P$1921,406),\"\")","v":""}]
[null,null,null,null,null,null,null,null,null,null,null,null,null,null,{"$f":"IF(408<=$B$10,IF(LEN('１学期'!GU22)=0,\"\",IF('１学期'!GU22=$B$8,IF(LEN('１学期'!GX22)=0,\"\",'１学期'!GX22),\"\")),\"\")","v":""},{"$f":"IF(LEN(O408)=0,\"\",IF(COUNTIF(O408:$O$1921,O408+1)>0,\"\",O408+1))","v":""},{"$f":"IFERROR(SMALL($P$1:$P$1921,407),\"\")","v":""}]
[null,null,null,null,null,null,null,null,null,null,null,null,null,null,{"$f":"IF(409<=$B$10,IF(LEN('１学期'!GU25)=0,\"\",IF('１学期'!GU25=$B$8,IF(LEN('１学期'!GX25)=0,\"\",'１学期'!GX25),\"\")),\"\")","v":""},{"$f":"IF(LEN(O409)=0,\"\",IF(COUNTIF(O409:$O$1921,O409+1)>0,\"\",O409+1))","v":""},{"$f":"IFERROR(SMALL($P$1:$P$1921,408),\"\")","v":""}]
[null,null,null,null,null,null,null,null,null,null,null,null,null,null,{"$f":"IF(410<=$B$10,IF(LEN('１学期'!GY6)=0,\"\",IF('１学期'!GY6=$B$8,IF(LEN('１学期'!HB6)=0,\"\",'１学期'!HB6),\"\")),\"\")","v":""},{"$f":"IF(LEN(O410)=0,\"\",IF(COUNTIF(O410:$O$1921,O410+1)>0,\"\",O410+1))","v":""},{"$f":"IFERROR(SMALL($P$1:$P$1921,409),\"\")","v":""}]
[null,null,null,null,null,null,null,null,null,null,null,null,null,null,{"$f":"IF(411<=$B$10,IF(LEN('１学期'!GY7)=0,\"\",IF('１学期'!GY7=$B$8,IF(LEN('１学期'!HB7)=0,\"\",'１学期'!HB7),\"\")),\"\")","v":""},{"$f":"IF(LEN(O411)=0,\"\",IF(COUNTIF(O411:$O$1921,O411+1)>0,\"\",O411+1))","v":""},{"$f":"IFERROR(SMALL($P$1:$P$1921,410),\"\")","v":""}]
[null,null,null,null,null,null,null,null,null,null,null,null,null,null,{"$f":"IF(412<=$B$10,IF(LEN('１学期'!GY10)=0,\"\",IF('１学期'!GY10=$B$8,IF(LEN('１学期'!HB10)=0,\"\",'１学期'!HB10),\"\")),\"\")","v":""},{"$f":"IF(LEN(O412)=0,\"\",IF(COUNTIF(O412:$O$1921,O412+1)>0,\"\",O412+1))","v":""},{"$f":"IFERROR(SMALL($P$1:$P$1921,411),\"\")","v":""}]
[null,null,null,null,null,null,null,null,null,null,null,null,null,null,{"$f":"IF(413<=$B$10,IF(LEN('１学期'!GY13)=0,\"\",IF('１学期'!GY13=$B$8,IF(LEN('１学期'!HB13)=0,\"\",'１学期'!HB13),\"\")),\"\")","v":""},{"$f":"IF(LEN(O413)=0,\"\",IF(COUNTIF(O413:$O$1921,O413+1)>0,\"\",O413+1))","v":""},{"$f":"IFERROR(SMALL($P$1:$P$1921,412),\"\")","v":""}]
[null,null,null,null,null,null,null,null,null,null,null,null,null,null,{"$f":"IF(414<=$B$10,IF(LEN('１学期'!GY16)=0,\"\",IF('１学期'!GY16=$B$8,IF(LEN('１学期'!HB16)=0,\"\",'１学期'!HB16),\"\")),\"\")","v":""},{"$f":"IF(LEN(O414)=0,\"\",IF(COUNTIF(O414:$O$1921,O414+1)>0,\"\",O414+1))","v":""},{"$f":"IFERROR(SMALL($P$1:$P$1921,413),\"\")","v":""}]
[null,null,null,null,null,null,null,null,null,null,null,null,null,null,{"$f":"IF(415<=$B$10,IF(LEN('１学期'!GY19)=0,\"\",IF('１学期'!GY19=$B$8,IF(LEN('１学期'!HB19)=0,\"\",'１学期'!HB19),\"\")),\"\")","v":""},{"$f":"IF(LEN(O415)=0,\"\",IF(COUNTIF(O415:$O$1921,O415+1)>0,\"\",O415+1))","v":""},{"$f":"IFERROR(SMALL($P$1:$P$1921,414),\"\")","v":""}]
[null,null,null,null,null,null,null,null,null,null,null,null,null,null,{"$f":"IF(416<=$B$10,IF(LEN('１学期'!GY22)=0,\"\",IF('１学期'!GY22=$B$8,IF(LEN('１学期'!HB22)=0,\"\",'１学期'!HB22),\"\")),\"\")","v":""},{"$f":"IF(LEN(O416)=0,\"\",IF(COUNTIF(O416:$O$1921,O416+1)>0,\"\",O416+1))","v":""},{"$f":"IFERROR(SMALL($P$1:$P$1921,415),\"\")","v":""}]
[null,null,null,null,null,null,null,null,null,null,null,null,null,null,{"$f":"IF(417<=$B$10,IF(LEN('１学期'!GY25)=0,\"\",IF('１学期'!GY25=$B$8,IF(LEN('１学期'!HB25)=0,\"\",'１学期'!HB25),\"\")),\"\")","v":""},{"$f":"IF(LEN(O417)=0,\"\",IF(COUNTIF(O417:$O$1921,O417+1)>0,\"\",O417+1))","v":""},{"$f":"IFERROR(SMALL($P$1:$P$1921,416),\"\")","v":""}]
[null,null,null,null,null,null,null,null,null,null,null,null,null,null,{"$f":"IF(418<=$B$10,IF(LEN('１学期'!HC6)=0,\"\",IF('１学期'!HC6=$B$8,IF(LEN('１学期'!HF6)=0,\"\",'１学期'!HF6),\"\")),\"\")","v":""},{"$f":"IF(LEN(O418)=0,\"\",IF(COUNTIF(O418:$O$1921,O418+1)>0,\"\",O418+1))","v":""},{"$f":"IFERROR(SMALL($P$1:$P$1921,417),\"\")","v":""}]
[null,null,null,null,null,null,null,null,null,null,null,null,null,null,{"$f":"IF(419<=$B$10,IF(LEN('１学期'!HC7)=0,\"\",IF('１学期'!HC7=$B$8,IF(LEN('１学期'!HF7)=0,\"\",'１学期'!HF7),\"\")),\"\")","v":""},{"$f":"IF(LEN(O419)=0,\"\",IF(COUNTIF(O419:$O$1921,O419+1)>0,\"\",O419+1))","v":""},{"$f":"IFERROR(SMALL($P$1:$P$1921,418),\"\")","v":""}]
[null,null,null,null,null,null,null,null,null,null,null,null,null,null,{"$f":"IF(420<=$B$10,IF(LEN('１学期'!HC10)=0,\"\",IF('１学期'!HC10=$B$8,IF(LEN('１学期'!HF10)=0,\"\",'１学期'!HF10),\"\")),\"\")","v":""},{"$f":"IF(LEN(O420)=0,\"\",IF(COUNTIF(O420:$O$1921,O420+1)>0,\"\",O420+1))","v":""},{"$f":"IFERROR(SMALL($P$1:$P$1921,419),\"\")","v":""}]
[null,null,null,null,null,null,null,null,null,null,null,null,null,null,{"$f":"IF(421<=$B$10,IF(LEN('１学期'!HC13)=0,\"\",IF('１学期'!HC13=$B$8,IF(LEN('１学期'!HF13)=0,\"\",'１学期'!HF13),\"\")),\"\")","v":""},{"$f":"IF(LEN(O421)=0,\"\",IF(COUNTIF(O421:$O$1921,O421+1)>0,\"\",O421+1))","v":""},{"$f":"IFERROR(SMALL($P$1:$P$1921,420),\"\")","v":""}]
[null,null,null,null,null,null,null,null,null,null,null,null,null,null,{"$f":"IF(422<=$B$10,IF(LEN('１学期'!HC16)=0,\"\",IF('１学期'!HC16=$B$8,IF(LEN('１学期'!HF16)=0,\"\",'１学期'!HF16),\"\")),\"\")","v":""},{"$f":"IF(LEN(O422)=0,\"\",IF(COUNTIF(O422:$O$1921,O422+1)>0,\"\",O422+1))","v":""},{"$f":"IFERROR(SMALL($P$1:$P$1921,421),\"\")","v":""}]
[null,null,null,null,null,null,null,null,null,null,null,null,null,null,{"$f":"IF(423<=$B$10,IF(LEN('１学期'!HC19)=0,\"\",IF('１学期'!HC19=$B$8,IF(LEN('１学期'!HF19)=0,\"\",'１学期'!HF19),\"\")),\"\")","v":""},{"$f":"IF(LEN(O423)=0,\"\",IF(COUNTIF(O423:$O$1921,O423+1)>0,\"\",O423+1))","v":""},{"$f":"IFERROR(SMALL($P$1:$P$1921,422),\"\")","v":""}]
[null,null,null,null,null,null,null,null,null,null,null,null,null,null,{"$f":"IF(424<=$B$10,IF(LEN('１学期'!HC22)=0,\"\",IF('１学期'!HC22=$B$8,IF(LEN('１学期'!HF22)=0,\"\",'１学期'!HF22),\"\")),\"\")","v":""},{"$f":"IF(LEN(O424)=0,\"\",IF(COUNTIF(O424:$O$1921,O424+1)>0,\"\",O424+1))","v":""},{"$f":"IFERROR(SMALL($P$1:$P$1921,423),\"\")","v":""}]
[null,null,null,null,null,null,null,null,null,null,null,null,null,null,{"$f":"IF(425<=$B$10,IF(LEN('１学期'!HC25)=0,\"\",IF('１学期'!HC25=$B$8,IF(LEN('１学期'!HF25)=0,\"\",'１学期'!HF25),\"\")),\"\")","v":""},{"$f":"IF(LEN(O425)=0,\"\",IF(COUNTIF(O425:$O$1921,O425+1)>0,\"\",O425+1))","v":""},{"$f":"IFERROR(SMALL($P$1:$P$1921,424),\"\")","v":""}]
[null,null,null,null,null,null,null,null,null,null,null,null,null,null,{"$f":"IF(426<=$B$10,IF(LEN('１学期'!HG6)=0,\"\",IF('１学期'!HG6=$B$8,IF(LEN('１学期'!HJ6)=0,\"\",'１学期'!HJ6),\"\")),\"\")","v":""},{"$f":"IF(LEN(O426)=0,\"\",IF(COUNTIF(O426:$O$1921,O426+1)>0,\"\",O426+1))","v":""},{"$f":"IFERROR(SMALL($P$1:$P$1921,425),\"\")","v":""}]
[null,null,null,null,null,null,null,null,null,null,null,null,null,null,{"$f":"IF(427<=$B$10,IF(LEN('１学期'!HG7)=0,\"\",IF('１学期'!HG7=$B$8,IF(LEN('１学期'!HJ7)=0,\"\",'１学期'!HJ7),\"\")),\"\")","v":""},{"$f":"IF(LEN(O427)=0,\"\",IF(COUNTIF(O427:$O$1921,O427+1)>0,\"\",O427+1))","v":""},{"$f":"IFERROR(SMALL($P$1:$P$1921,426),\"\")","v":""}]
[null,null,null,null,null,null,null,null,null,null,null,null,null,null,{"$f":"IF(428<=$B$10,IF(LEN('１学期'!HG10)=0,\"\",IF('１学期'!HG10=$B$8,IF(LEN('１学期'!HJ10)=0,\"\",'１学期'!HJ10),\"\")),\"\")","v":""},{"$f":"IF(LEN(O428)=0,\"\",IF(COUNTIF(O428:$O$1921,O428+1)>0,\"\",O428+1))","v":""},{"$f":"IFERROR(SMALL($P$1:$P$1921,427),\"\")","v":""}]
[null,null,null,null,null,null,null,null,null,null,null,null,null,null,{"$f":"IF(429<=$B$10,IF(LEN('１学期'!HG13)=0,\"\",IF('１学期'!HG13=$B$8,IF(LEN('１学期'!HJ13)=0,\"\",'１学期'!HJ13),\"\")),\"\")","v":""},{"$f":"IF(LEN(O429)=0,\"\",IF(COUNTIF(O429:$O$1921,O429+1)>0,\"\",O429+1))","v":""},{"$f":"IFERROR(SMALL($P$1:$P$1921,428),\"\")","v":""}]
[null,null,null,null,null,null,null,null,null,null,null,null,null,null,{"$f":"IF(430<=$B$10,IF(LEN('１学期'!HG16)=0,\"\",IF('１学期'!HG16=$B$8,IF(LEN('１学期'!HJ16)=0,\"\",'１学期'!HJ16),\"\")),\"\")","v":""},{"$f":"IF(LEN(O430)=0,\"\",IF(COUNTIF(O430:$O$1921,O430+1)>0,\"\",O430+1))","v":""},{"$f":"IFERROR(SMALL($P$1:$P$1921,429),\"\")","v":""}]
[null,null,null,null,null,null,null,null,null,null,null,null,null,null,{"$f":"IF(431<=$B$10,IF(LEN('１学期'!HG19)=0,\"\",IF('１学期'!HG19=$B$8,IF(LEN('１学期'!HJ19)=0,\"\",'１学期'!HJ19),\"\")),\"\")","v":""},{"$f":"IF(LEN(O431)=0,\"\",IF(COUNTIF(O431:$O$1921,O431+1)>0,\"\",O431+1))","v":""},{"$f":"IFERROR(SMALL($P$1:$P$1921,430),\"\")","v":""}]
[null,null,null,null,null,null,null,null,null,null,null,null,null,null,{"$f":"IF(432<=$B$10,IF(LEN('１学期'!HG22)=0,\"\",IF('１学期'!HG22=$B$8,IF(LEN('１学期'!HJ22)=0,\"\",'１学期'!HJ22),\"\")),\"\")","v":""},{"$f":"IF(LEN(O432)=0,\"\",IF(COUNTIF(O432:$O$1921,O432+1)>0,\"\",O432+1))","v":""},{"$f":"IFERROR(SMALL($P$1:$P$1921,431),\"\")","v":""}]
[null,null,null,null,null,null,null,null,null,null,null,null,null,null,{"$f":"IF(433<=$B$10,IF(LEN('１学期'!HG25)=0,\"\",IF('１学期'!HG25=$B$8,IF(LEN('１学期'!HJ25)=0,\"\",'１学期'!HJ25),\"\")),\"\")","v":""},{"$f":"IF(LEN(O433)=0,\"\",IF(COUNTIF(O433:$O$1921,O433+1)>0,\"\",O433+1))","v":""},{"$f":"IFERROR(SMALL($P$1:$P$1921,432),\"\")","v":""}]
[null,null,null,null,null,null,null,null,null,null,null,null,null,null,{"$f":"IF(434<=$B$10,IF(LEN('１学期'!HK6)=0,\"\",IF('１学期'!HK6=$B$8,IF(LEN('１学期'!HN6)=0,\"\",'１学期'!HN6),\"\")),\"\")","v":""},{"$f":"IF(LEN(O434)=0,\"\",IF(COUNTIF(O434:$O$1921,O434+1)>0,\"\",O434+1))","v":""},{"$f":"IFERROR(SMALL($P$1:$P$1921,433),\"\")","v":""}]
[null,null,null,null,null,null,null,null,null,null,null,null,null,null,{"$f":"IF(435<=$B$10,IF(LEN('１学期'!HK7)=0,\"\",IF('１学期'!HK7=$B$8,IF(LEN('１学期'!HN7)=0,\"\",'１学期'!HN7),\"\")),\"\")","v":""},{"$f":"IF(LEN(O435)=0,\"\",IF(COUNTIF(O435:$O$1921,O435+1)>0,\"\",O435+1))","v":""},{"$f":"IFERROR(SMALL($P$1:$P$1921,434),\"\")","v":""}]
[null,null,null,null,null,null,null,null,null,null,null,null,null,null,{"$f":"IF(436<=$B$10,IF(LEN('１学期'!HK10)=0,\"\",IF('１学期'!HK10=$B$8,IF(LEN('１学期'!HN10)=0,\"\",'１学期'!HN10),\"\")),\"\")","v":""},{"$f":"IF(LEN(O436)=0,\"\",IF(COUNTIF(O436:$O$1921,O436+1)>0,\"\",O436+1))","v":""},{"$f":"IFERROR(SMALL($P$1:$P$1921,435),\"\")","v":""}]
[null,null,null,null,null,null,null,null,null,null,null,null,null,null,{"$f":"IF(437<=$B$10,IF(LEN('１学期'!HK13)=0,\"\",IF('１学期'!HK13=$B$8,IF(LEN('１学期'!HN13)=0,\"\",'１学期'!HN13),\"\")),\"\")","v":""},{"$f":"IF(LEN(O437)=0,\"\",IF(COUNTIF(O437:$O$1921,O437+1)>0,\"\",O437+1))","v":""},{"$f":"IFERROR(SMALL($P$1:$P$1921,436),\"\")","v":""}]
[null,null,null,null,null,null,null,null,null,null,null,null,null,null,{"$f":"IF(438<=$B$10,IF(LEN('１学期'!HK16)=0,\"\",IF('１学期'!HK16=$B$8,IF(LEN('１学期'!HN16)=0,\"\",'１学期'!HN16),\"\")),\"\")","v":""},{"$f":"IF(LEN(O438)=0,\"\",IF(COUNTIF(O438:$O$1921,O438+1)>0,\"\",O438+1))","v":""},{"$f":"IFERROR(SMALL($P$1:$P$1921,437),\"\")","v":""}]
[null,null,null,null,null,null,null,null,null,null,null,null,null,null,{"$f":"IF(439<=$B$10,IF(LEN('１学期'!HK19)=0,\"\",IF('１学期'!HK19=$B$8,IF(LEN('１学期'!HN19)=0,\"\",'１学期'!HN19),\"\")),\"\")","v":""},{"$f":"IF(LEN(O439)=0,\"\",IF(COUNTIF(O439:$O$1921,O439+1)>0,\"\",O439+1))","v":""},{"$f":"IFERROR(SMALL($P$1:$P$1921,438),\"\")","v":""}]
[null,null,null,null,null,null,null,null,null,null,null,null,null,null,{"$f":"IF(440<=$B$10,IF(LEN('１学期'!HK22)=0,\"\",IF('１学期'!HK22=$B$8,IF(LEN('１学期'!HN22)=0,\"\",'１学期'!HN22),\"\")),\"\")","v":""},{"$f":"IF(LEN(O440)=0,\"\",IF(COUNTIF(O440:$O$1921,O440+1)>0,\"\",O440+1))","v":""},{"$f":"IFERROR(SMALL($P$1:$P$1921,439),\"\")","v":""}]
[null,null,null,null,null,null,null,null,null,null,null,null,null,null,{"$f":"IF(441<=$B$10,IF(LEN('１学期'!HK25)=0,\"\",IF('１学期'!HK25=$B$8,IF(LEN('１学期'!HN25)=0,\"\",'１学期'!HN25),\"\")),\"\")","v":""},{"$f":"IF(LEN(O441)=0,\"\",IF(COUNTIF(O441:$O$1921,O441+1)>0,\"\",O441+1))","v":""},{"$f":"IFERROR(SMALL($P$1:$P$1921,440),\"\")","v":""}]
[null,null,null,null,null,null,null,null,null,null,null,null,null,null,{"$f":"IF(442<=$B$10,IF(LEN('１学期'!HO6)=0,\"\",IF('１学期'!HO6=$B$8,IF(LEN('１学期'!HR6)=0,\"\",'１学期'!HR6),\"\")),\"\")","v":""},{"$f":"IF(LEN(O442)=0,\"\",IF(COUNTIF(O442:$O$1921,O442+1)>0,\"\",O442+1))","v":""},{"$f":"IFERROR(SMALL($P$1:$P$1921,441),\"\")","v":""}]
[null,null,null,null,null,null,null,null,null,null,null,null,null,null,{"$f":"IF(443<=$B$10,IF(LEN('１学期'!HO7)=0,\"\",IF('１学期'!HO7=$B$8,IF(LEN('１学期'!HR7)=0,\"\",'１学期'!HR7),\"\")),\"\")","v":""},{"$f":"IF(LEN(O443)=0,\"\",IF(COUNTIF(O443:$O$1921,O443+1)>0,\"\",O443+1))","v":""},{"$f":"IFERROR(SMALL($P$1:$P$1921,442),\"\")","v":""}]
[null,null,null,null,null,null,null,null,null,null,null,null,null,null,{"$f":"IF(444<=$B$10,IF(LEN('１学期'!HO10)=0,\"\",IF('１学期'!HO10=$B$8,IF(LEN('１学期'!HR10)=0,\"\",'１学期'!HR10),\"\")),\"\")","v":""},{"$f":"IF(LEN(O444)=0,\"\",IF(COUNTIF(O444:$O$1921,O444+1)>0,\"\",O444+1))","v":""},{"$f":"IFERROR(SMALL($P$1:$P$1921,443),\"\")","v":""}]
[null,null,null,null,null,null,null,null,null,null,null,null,null,null,{"$f":"IF(445<=$B$10,IF(LEN('１学期'!HO13)=0,\"\",IF('１学期'!HO13=$B$8,IF(LEN('１学期'!HR13)=0,\"\",'１学期'!HR13),\"\")),\"\")","v":""},{"$f":"IF(LEN(O445)=0,\"\",IF(COUNTIF(O445:$O$1921,O445+1)>0,\"\",O445+1))","v":""},{"$f":"IFERROR(SMALL($P$1:$P$1921,444),\"\")","v":""}]
[null,null,null,null,null,null,null,null,null,null,null,null,null,null,{"$f":"IF(446<=$B$10,IF(LEN('１学期'!HO16)=0,\"\",IF('１学期'!HO16=$B$8,IF(LEN('１学期'!HR16)=0,\"\",'１学期'!HR16),\"\")),\"\")","v":""},{"$f":"IF(LEN(O446)=0,\"\",IF(COUNTIF(O446:$O$1921,O446+1)>0,\"\",O446+1))","v":""},{"$f":"IFERROR(SMALL($P$1:$P$1921,445),\"\")","v":""}]
[null,null,null,null,null,null,null,null,null,null,null,null,null,null,{"$f":"IF(447<=$B$10,IF(LEN('１学期'!HO19)=0,\"\",IF('１学期'!HO19=$B$8,IF(LEN('１学期'!HR19)=0,\"\",'１学期'!HR19),\"\")),\"\")","v":""},{"$f":"IF(LEN(O447)=0,\"\",IF(COUNTIF(O447:$O$1921,O447+1)>0,\"\",O447+1))","v":""},{"$f":"IFERROR(SMALL($P$1:$P$1921,446),\"\")","v":""}]
[null,null,null,null,null,null,null,null,null,null,null,null,null,null,{"$f":"IF(448<=$B$10,IF(LEN('１学期'!HO22)=0,\"\",IF('１学期'!HO22=$B$8,IF(LEN('１学期'!HR22)=0,\"\",'１学期'!HR22),\"\")),\"\")","v":""},{"$f":"IF(LEN(O448)=0,\"\",IF(COUNTIF(O448:$O$1921,O448+1)>0,\"\",O448+1))","v":""},{"$f":"IFERROR(SMALL($P$1:$P$1921,447),\"\")","v":""}]
[null,null,null,null,null,null,null,null,null,null,null,null,null,null,{"$f":"IF(449<=$B$10,IF(LEN('１学期'!HO25)=0,\"\",IF('１学期'!HO25=$B$8,IF(LEN('１学期'!HR25)=0,\"\",'１学期'!HR25),\"\")),\"\")","v":""},{"$f":"IF(LEN(O449)=0,\"\",IF(COUNTIF(O449:$O$1921,O449+1)>0,\"\",O449+1))","v":""},{"$f":"IFERROR(SMALL($P$1:$P$1921,448),\"\")","v":""}]
[null,null,null,null,null,null,null,null,null,null,null,null,null,null,{"$f":"IF(450<=$B$10,IF(LEN('１学期'!HS6)=0,\"\",IF('１学期'!HS6=$B$8,IF(LEN('１学期'!HV6)=0,\"\",'１学期'!HV6),\"\")),\"\")","v":""},{"$f":"IF(LEN(O450)=0,\"\",IF(COUNTIF(O450:$O$1921,O450+1)>0,\"\",O450+1))","v":""},{"$f":"IFERROR(SMALL($P$1:$P$1921,449),\"\")","v":""}]
[null,null,null,null,null,null,null,null,null,null,null,null,null,null,{"$f":"IF(451<=$B$10,IF(LEN('１学期'!HS7)=0,\"\",IF('１学期'!HS7=$B$8,IF(LEN('１学期'!HV7)=0,\"\",'１学期'!HV7),\"\")),\"\")","v":""},{"$f":"IF(LEN(O451)=0,\"\",IF(COUNTIF(O451:$O$1921,O451+1)>0,\"\",O451+1))","v":""},{"$f":"IFERROR(SMALL($P$1:$P$1921,450),\"\")","v":""}]
[null,null,null,null,null,null,null,null,null,null,null,null,null,null,{"$f":"IF(452<=$B$10,IF(LEN('１学期'!HS10)=0,\"\",IF('１学期'!HS10=$B$8,IF(LEN('１学期'!HV10)=0,\"\",'１学期'!HV10),\"\")),\"\")","v":""},{"$f":"IF(LEN(O452)=0,\"\",IF(COUNTIF(O452:$O$1921,O452+1)>0,\"\",O452+1))","v":""},{"$f":"IFERROR(SMALL($P$1:$P$1921,451),\"\")","v":""}]
[null,null,null,null,null,null,null,null,null,null,null,null,null,null,{"$f":"IF(453<=$B$10,IF(LEN('１学期'!HS13)=0,\"\",IF('１学期'!HS13=$B$8,IF(LEN('１学期'!HV13)=0,\"\",'１学期'!HV13),\"\")),\"\")","v":""},{"$f":"IF(LEN(O453)=0,\"\",IF(COUNTIF(O453:$O$1921,O453+1)>0,\"\",O453+1))","v":""},{"$f":"IFERROR(SMALL($P$1:$P$1921,452),\"\")","v":""}]
[null,null,null,null,null,null,null,null,null,null,null,null,null,null,{"$f":"IF(454<=$B$10,IF(LEN('１学期'!HS16)=0,\"\",IF('１学期'!HS16=$B$8,IF(LEN('１学期'!HV16)=0,\"\",'１学期'!HV16),\"\")),\"\")","v":""},{"$f":"IF(LEN(O454)=0,\"\",IF(COUNTIF(O454:$O$1921,O454+1)>0,\"\",O454+1))","v":""},{"$f":"IFERROR(SMALL($P$1:$P$1921,453),\"\")","v":""}]
[null,null,null,null,null,null,null,null,null,null,null,null,null,null,{"$f":"IF(455<=$B$10,IF(LEN('１学期'!HS19)=0,\"\",IF('１学期'!HS19=$B$8,IF(LEN('１学期'!HV19)=0,\"\",'１学期'!HV19),\"\")),\"\")","v":""},{"$f":"IF(LEN(O455)=0,\"\",IF(COUNTIF(O455:$O$1921,O455+1)>0,\"\",O455+1))","v":""},{"$f":"IFERROR(SMALL($P$1:$P$1921,454),\"\")","v":""}]
[null,null,null,null,null,null,null,null,null,null,null,null,null,null,{"$f":"IF(456<=$B$10,IF(LEN('１学期'!HS22)=0,\"\",IF('１学期'!HS22=$B$8,IF(LEN('１学期'!HV22)=0,\"\",'１学期'!HV22),\"\")),\"\")","v":""},{"$f":"IF(LEN(O456)=0,\"\",IF(COUNTIF(O456:$O$1921,O456+1)>0,\"\",O456+1))","v":""},{"$f":"IFERROR(SMALL($P$1:$P$1921,455),\"\")","v":""}]
[null,null,null,null,null,null,null,null,null,null,null,null,null,null,{"$f":"IF(457<=$B$10,IF(LEN('１学期'!HS25)=0,\"\",IF('１学期'!HS25=$B$8,IF(LEN('１学期'!HV25)=0,\"\",'１学期'!HV25),\"\")),\"\")","v":""},{"$f":"IF(LEN(O457)=0,\"\",IF(COUNTIF(O457:$O$1921,O457+1)>0,\"\",O457+1))","v":""},{"$f":"IFERROR(SMALL($P$1:$P$1921,456),\"\")","v":""}]
[null,null,null,null,null,null,null,null,null,null,null,null,null,null,{"$f":"IF(458<=$B$10,IF(LEN('１学期'!HW6)=0,\"\",IF('１学期'!HW6=$B$8,IF(LEN('１学期'!HZ6)=0,\"\",'１学期'!HZ6),\"\")),\"\")","v":""},{"$f":"IF(LEN(O458)=0,\"\",IF(COUNTIF(O458:$O$1921,O458+1)>0,\"\",O458+1))","v":""},{"$f":"IFERROR(SMALL($P$1:$P$1921,457),\"\")","v":""}]
[null,null,null,null,null,null,null,null,null,null,null,null,null,null,{"$f":"IF(459<=$B$10,IF(LEN('１学期'!HW7)=0,\"\",IF('１学期'!HW7=$B$8,IF(LEN('１学期'!HZ7)=0,\"\",'１学期'!HZ7),\"\")),\"\")","v":""},{"$f":"IF(LEN(O459)=0,\"\",IF(COUNTIF(O459:$O$1921,O459+1)>0,\"\",O459+1))","v":""},{"$f":"IFERROR(SMALL($P$1:$P$1921,458),\"\")","v":""}]
[null,null,null,null,null,null,null,null,null,null,null,null,null,null,{"$f":"IF(460<=$B$10,IF(LEN('１学期'!HW10)=0,\"\",IF('１学期'!HW10=$B$8,IF(LEN('１学期'!HZ10)=0,\"\",'１学期'!HZ10),\"\")),\"\")","v":""},{"$f":"IF(LEN(O460)=0,\"\",IF(COUNTIF(O460:$O$1921,O460+1)>0,\"\",O460+1))","v":""},{"$f":"IFERROR(SMALL($P$1:$P$1921,459),\"\")","v":""}]
[null,null,null,null,null,null,null,null,null,null,null,null,null,null,{"$f":"IF(461<=$B$10,IF(LEN('１学期'!HW13)=0,\"\",IF('１学期'!HW13=$B$8,IF(LEN('１学期'!HZ13)=0,\"\",'１学期'!HZ13),\"\")),\"\")","v":""},{"$f":"IF(LEN(O461)=0,\"\",IF(COUNTIF(O461:$O$1921,O461+1)>0,\"\",O461+1))","v":""},{"$f":"IFERROR(SMALL($P$1:$P$1921,460),\"\")","v":""}]
[null,null,null,null,null,null,null,null,null,null,null,null,null,null,{"$f":"IF(462<=$B$10,IF(LEN('１学期'!HW16)=0,\"\",IF('１学期'!HW16=$B$8,IF(LEN('１学期'!HZ16)=0,\"\",'１学期'!HZ16),\"\")),\"\")","v":""},{"$f":"IF(LEN(O462)=0,\"\",IF(COUNTIF(O462:$O$1921,O462+1)>0,\"\",O462+1))","v":""},{"$f":"IFERROR(SMALL($P$1:$P$1921,461),\"\")","v":""}]
[null,null,null,null,null,null,null,null,null,null,null,null,null,null,{"$f":"IF(463<=$B$10,IF(LEN('１学期'!HW19)=0,\"\",IF('１学期'!HW19=$B$8,IF(LEN('１学期'!HZ19)=0,\"\",'１学期'!HZ19),\"\")),\"\")","v":""},{"$f":"IF(LEN(O463)=0,\"\",IF(COUNTIF(O463:$O$1921,O463+1)>0,\"\",O463+1))","v":""},{"$f":"IFERROR(SMALL($P$1:$P$1921,462),\"\")","v":""}]
[null,null,null,null,null,null,null,null,null,null,null,null,null,null,{"$f":"IF(464<=$B$10,IF(LEN('１学期'!HW22)=0,\"\",IF('１学期'!HW22=$B$8,IF(LEN('１学期'!HZ22)=0,\"\",'１学期'!HZ22),\"\")),\"\")","v":""},{"$f":"IF(LEN(O464)=0,\"\",IF(COUNTIF(O464:$O$1921,O464+1)>0,\"\",O464+1))","v":""},{"$f":"IFERROR(SMALL($P$1:$P$1921,463),\"\")","v":""}]
[null,null,null,null,null,null,null,null,null,null,null,null,null,null,{"$f":"IF(465<=$B$10,IF(LEN('１学期'!HW25)=0,\"\",IF('１学期'!HW25=$B$8,IF(LEN('１学期'!HZ25)=0,\"\",'１学期'!HZ25),\"\")),\"\")","v":""},{"$f":"IF(LEN(O465)=0,\"\",IF(COUNTIF(O465:$O$1921,O465+1)>0,\"\",O465+1))","v":""},{"$f":"IFERROR(SMALL($P$1:$P$1921,464),\"\")","v":""}]
[null,null,null,null,null,null,null,null,null,null,null,null,null,null,{"$f":"IF(466<=$B$10,IF(LEN('１学期'!IA6)=0,\"\",IF('１学期'!IA6=$B$8,IF(LEN('１学期'!ID6)=0,\"\",'１学期'!ID6),\"\")),\"\")","v":""},{"$f":"IF(LEN(O466)=0,\"\",IF(COUNTIF(O466:$O$1921,O466+1)>0,\"\",O466+1))","v":""},{"$f":"IFERROR(SMALL($P$1:$P$1921,465),\"\")","v":""}]
[null,null,null,null,null,null,null,null,null,null,null,null,null,null,{"$f":"IF(467<=$B$10,IF(LEN('１学期'!IA7)=0,\"\",IF('１学期'!IA7=$B$8,IF(LEN('１学期'!ID7)=0,\"\",'１学期'!ID7),\"\")),\"\")","v":""},{"$f":"IF(LEN(O467)=0,\"\",IF(COUNTIF(O467:$O$1921,O467+1)>0,\"\",O467+1))","v":""},{"$f":"IFERROR(SMALL($P$1:$P$1921,466),\"\")","v":""}]
[null,null,null,null,null,null,null,null,null,null,null,null,null,null,{"$f":"IF(468<=$B$10,IF(LEN('１学期'!IA10)=0,\"\",IF('１学期'!IA10=$B$8,IF(LEN('１学期'!ID10)=0,\"\",'１学期'!ID10),\"\")),\"\")","v":""},{"$f":"IF(LEN(O468)=0,\"\",IF(COUNTIF(O468:$O$1921,O468+1)>0,\"\",O468+1))","v":""},{"$f":"IFERROR(SMALL($P$1:$P$1921,467),\"\")","v":""}]
[null,null,null,null,null,null,null,null,null,null,null,null,null,null,{"$f":"IF(469<=$B$10,IF(LEN('１学期'!IA13)=0,\"\",IF('１学期'!IA13=$B$8,IF(LEN('１学期'!ID13)=0,\"\",'１学期'!ID13),\"\")),\"\")","v":""},{"$f":"IF(LEN(O469)=0,\"\",IF(COUNTIF(O469:$O$1921,O469+1)>0,\"\",O469+1))","v":""},{"$f":"IFERROR(SMALL($P$1:$P$1921,468),\"\")","v":""}]
[null,null,null,null,null,null,null,null,null,null,null,null,null,null,{"$f":"IF(470<=$B$10,IF(LEN('１学期'!IA16)=0,\"\",IF('１学期'!IA16=$B$8,IF(LEN('１学期'!ID16)=0,\"\",'１学期'!ID16),\"\")),\"\")","v":""},{"$f":"IF(LEN(O470)=0,\"\",IF(COUNTIF(O470:$O$1921,O470+1)>0,\"\",O470+1))","v":""},{"$f":"IFERROR(SMALL($P$1:$P$1921,469),\"\")","v":""}]
[null,null,null,null,null,null,null,null,null,null,null,null,null,null,{"$f":"IF(471<=$B$10,IF(LEN('１学期'!IA19)=0,\"\",IF('１学期'!IA19=$B$8,IF(LEN('１学期'!ID19)=0,\"\",'１学期'!ID19),\"\")),\"\")","v":""},{"$f":"IF(LEN(O471)=0,\"\",IF(COUNTIF(O471:$O$1921,O471+1)>0,\"\",O471+1))","v":""},{"$f":"IFERROR(SMALL($P$1:$P$1921,470),\"\")","v":""}]
[null,null,null,null,null,null,null,null,null,null,null,null,null,null,{"$f":"IF(472<=$B$10,IF(LEN('１学期'!IA22)=0,\"\",IF('１学期'!IA22=$B$8,IF(LEN('１学期'!ID22)=0,\"\",'１学期'!ID22),\"\")),\"\")","v":""},{"$f":"IF(LEN(O472)=0,\"\",IF(COUNTIF(O472:$O$1921,O472+1)>0,\"\",O472+1))","v":""},{"$f":"IFERROR(SMALL($P$1:$P$1921,471),\"\")","v":""}]
[null,null,null,null,null,null,null,null,null,null,null,null,null,null,{"$f":"IF(473<=$B$10,IF(LEN('１学期'!IA25)=0,\"\",IF('１学期'!IA25=$B$8,IF(LEN('１学期'!ID25)=0,\"\",'１学期'!ID25),\"\")),\"\")","v":""},{"$f":"IF(LEN(O473)=0,\"\",IF(COUNTIF(O473:$O$1921,O473+1)>0,\"\",O473+1))","v":""},{"$f":"IFERROR(SMALL($P$1:$P$1921,472),\"\")","v":""}]
[null,null,null,null,null,null,null,null,null,null,null,null,null,null,{"$f":"IF(474<=$B$10,IF(LEN('１学期'!IE6)=0,\"\",IF('１学期'!IE6=$B$8,IF(LEN('１学期'!IH6)=0,\"\",'１学期'!IH6),\"\")),\"\")","v":""},{"$f":"IF(LEN(O474)=0,\"\",IF(COUNTIF(O474:$O$1921,O474+1)>0,\"\",O474+1))","v":""},{"$f":"IFERROR(SMALL($P$1:$P$1921,473),\"\")","v":""}]
[null,null,null,null,null,null,null,null,null,null,null,null,null,null,{"$f":"IF(475<=$B$10,IF(LEN('１学期'!IE7)=0,\"\",IF('１学期'!IE7=$B$8,IF(LEN('１学期'!IH7)=0,\"\",'１学期'!IH7),\"\")),\"\")","v":""},{"$f":"IF(LEN(O475)=0,\"\",IF(COUNTIF(O475:$O$1921,O475+1)>0,\"\",O475+1))","v":""},{"$f":"IFERROR(SMALL($P$1:$P$1921,474),\"\")","v":""}]
[null,null,null,null,null,null,null,null,null,null,null,null,null,null,{"$f":"IF(476<=$B$10,IF(LEN('１学期'!IE10)=0,\"\",IF('１学期'!IE10=$B$8,IF(LEN('１学期'!IH10)=0,\"\",'１学期'!IH10),\"\")),\"\")","v":""},{"$f":"IF(LEN(O476)=0,\"\",IF(COUNTIF(O476:$O$1921,O476+1)>0,\"\",O476+1))","v":""},{"$f":"IFERROR(SMALL($P$1:$P$1921,475),\"\")","v":""}]
[null,null,null,null,null,null,null,null,null,null,null,null,null,null,{"$f":"IF(477<=$B$10,IF(LEN('１学期'!IE13)=0,\"\",IF('１学期'!IE13=$B$8,IF(LEN('１学期'!IH13)=0,\"\",'１学期'!IH13),\"\")),\"\")","v":""},{"$f":"IF(LEN(O477)=0,\"\",IF(COUNTIF(O477:$O$1921,O477+1)>0,\"\",O477+1))","v":""},{"$f":"IFERROR(SMALL($P$1:$P$1921,476),\"\")","v":""}]
[null,null,null,null,null,null,null,null,null,null,null,null,null,null,{"$f":"IF(478<=$B$10,IF(LEN('１学期'!IE16)=0,\"\",IF('１学期'!IE16=$B$8,IF(LEN('１学期'!IH16)=0,\"\",'１学期'!IH16),\"\")),\"\")","v":""},{"$f":"IF(LEN(O478)=0,\"\",IF(COUNTIF(O478:$O$1921,O478+1)>0,\"\",O478+1))","v":""},{"$f":"IFERROR(SMALL($P$1:$P$1921,477),\"\")","v":""}]
[null,null,null,null,null,null,null,null,null,null,null,null,null,null,{"$f":"IF(479<=$B$10,IF(LEN('１学期'!IE19)=0,\"\",IF('１学期'!IE19=$B$8,IF(LEN('１学期'!IH19)=0,\"\",'１学期'!IH19),\"\")),\"\")","v":""},{"$f":"IF(LEN(O479)=0,\"\",IF(COUNTIF(O479:$O$1921,O479+1)>0,\"\",O479+1))","v":""},{"$f":"IFERROR(SMALL($P$1:$P$1921,478),\"\")","v":""}]
[null,null,null,null,null,null,null,null,null,null,null,null,null,null,{"$f":"IF(480<=$B$10,IF(LEN('１学期'!IE22)=0,\"\",IF('１学期'!IE22=$B$8,IF(LEN('１学期'!IH22)=0,\"\",'１学期'!IH22),\"\")),\"\")","v":""},{"$f":"IF(LEN(O480)=0,\"\",IF(COUNTIF(O480:$O$1921,O480+1)>0,\"\",O480+1))","v":""},{"$f":"IFERROR(SMALL($P$1:$P$1921,479),\"\")","v":""}]
[null,null,null,null,null,null,null,null,null,null,null,null,null,null,{"$f":"IF(481<=$B$10,IF(LEN('１学期'!IE25)=0,\"\",IF('１学期'!IE25=$B$8,IF(LEN('１学期'!IH25)=0,\"\",'１学期'!IH25),\"\")),\"\")","v":""},{"$f":"IF(LEN(O481)=0,\"\",IF(COUNTIF(O481:$O$1921,O481+1)>0,\"\",O481+1))","v":""},{"$f":"IFERROR(SMALL($P$1:$P$1921,480),\"\")","v":""}]
[null,null,null,null,null,null,null,null,null,null,null,null,null,null,{"$f":"IF(482<=$B$10,IF(LEN('１学期'!II6)=0,\"\",IF('１学期'!II6=$B$8,IF(LEN('１学期'!IL6)=0,\"\",'１学期'!IL6),\"\")),\"\")","v":""},{"$f":"IF(LEN(O482)=0,\"\",IF(COUNTIF(O482:$O$1921,O482+1)>0,\"\",O482+1))","v":""},{"$f":"IFERROR(SMALL($P$1:$P$1921,481),\"\")","v":""}]
[null,null,null,null,null,null,null,null,null,null,null,null,null,null,{"$f":"IF(483<=$B$10,IF(LEN('１学期'!II7)=0,\"\",IF('１学期'!II7=$B$8,IF(LEN('１学期'!IL7)=0,\"\",'１学期'!IL7),\"\")),\"\")","v":""},{"$f":"IF(LEN(O483)=0,\"\",IF(COUNTIF(O483:$O$1921,O483+1)>0,\"\",O483+1))","v":""},{"$f":"IFERROR(SMALL($P$1:$P$1921,482),\"\")","v":""}]
[null,null,null,null,null,null,null,null,null,null,null,null,null,null,{"$f":"IF(484<=$B$10,IF(LEN('１学期'!II10)=0,\"\",IF('１学期'!II10=$B$8,IF(LEN('１学期'!IL10)=0,\"\",'１学期'!IL10),\"\")),\"\")","v":""},{"$f":"IF(LEN(O484)=0,\"\",IF(COUNTIF(O484:$O$1921,O484+1)>0,\"\",O484+1))","v":""},{"$f":"IFERROR(SMALL($P$1:$P$1921,483),\"\")","v":""}]
[null,null,null,null,null,null,null,null,null,null,null,null,null,null,{"$f":"IF(485<=$B$10,IF(LEN('１学期'!II13)=0,\"\",IF('１学期'!II13=$B$8,IF(LEN('１学期'!IL13)=0,\"\",'１学期'!IL13),\"\")),\"\")","v":""},{"$f":"IF(LEN(O485)=0,\"\",IF(COUNTIF(O485:$O$1921,O485+1)>0,\"\",O485+1))","v":""},{"$f":"IFERROR(SMALL($P$1:$P$1921,484),\"\")","v":""}]
[null,null,null,null,null,null,null,null,null,null,null,null,null,null,{"$f":"IF(486<=$B$10,IF(LEN('１学期'!II16)=0,\"\",IF('１学期'!II16=$B$8,IF(LEN('１学期'!IL16)=0,\"\",'１学期'!IL16),\"\")),\"\")","v":""},{"$f":"IF(LEN(O486)=0,\"\",IF(COUNTIF(O486:$O$1921,O486+1)>0,\"\",O486+1))","v":""},{"$f":"IFERROR(SMALL($P$1:$P$1921,485),\"\")","v":""}]
[null,null,null,null,null,null,null,null,null,null,null,null,null,null,{"$f":"IF(487<=$B$10,IF(LEN('１学期'!II19)=0,\"\",IF('１学期'!II19=$B$8,IF(LEN('１学期'!IL19)=0,\"\",'１学期'!IL19),\"\")),\"\")","v":""},{"$f":"IF(LEN(O487)=0,\"\",IF(COUNTIF(O487:$O$1921,O487+1)>0,\"\",O487+1))","v":""},{"$f":"IFERROR(SMALL($P$1:$P$1921,486),\"\")","v":""}]
[null,null,null,null,null,null,null,null,null,null,null,null,null,null,{"$f":"IF(488<=$B$10,IF(LEN('１学期'!II22)=0,\"\",IF('１学期'!II22=$B$8,IF(LEN('１学期'!IL22)=0,\"\",'１学期'!IL22),\"\")),\"\")","v":""},{"$f":"IF(LEN(O488)=0,\"\",IF(COUNTIF(O488:$O$1921,O488+1)>0,\"\",O488+1))","v":""},{"$f":"IFERROR(SMALL($P$1:$P$1921,487),\"\")","v":""}]
[null,null,null,null,null,null,null,null,null,null,null,null,null,null,{"$f":"IF(489<=$B$10,IF(LEN('１学期'!II25)=0,\"\",IF('１学期'!II25=$B$8,IF(LEN('１学期'!IL25)=0,\"\",'１学期'!IL25),\"\")),\"\")","v":""},{"$f":"IF(LEN(O489)=0,\"\",IF(COUNTIF(O489:$O$1921,O489+1)>0,\"\",O489+1))","v":""},{"$f":"IFERROR(SMALL($P$1:$P$1921,488),\"\")","v":""}]
[null,null,null,null,null,null,null,null,null,null,null,null,null,null,{"$f":"IF(490<=$B$10,IF(LEN('１学期'!IM6)=0,\"\",IF('１学期'!IM6=$B$8,IF(LEN('１学期'!IP6)=0,\"\",'１学期'!IP6),\"\")),\"\")","v":""},{"$f":"IF(LEN(O490)=0,\"\",IF(COUNTIF(O490:$O$1921,O490+1)>0,\"\",O490+1))","v":""},{"$f":"IFERROR(SMALL($P$1:$P$1921,489),\"\")","v":""}]
[null,null,null,null,null,null,null,null,null,null,null,null,null,null,{"$f":"IF(491<=$B$10,IF(LEN('１学期'!IM7)=0,\"\",IF('１学期'!IM7=$B$8,IF(LEN('１学期'!IP7)=0,\"\",'１学期'!IP7),\"\")),\"\")","v":""},{"$f":"IF(LEN(O491)=0,\"\",IF(COUNTIF(O491:$O$1921,O491+1)>0,\"\",O491+1))","v":""},{"$f":"IFERROR(SMALL($P$1:$P$1921,490),\"\")","v":""}]
[null,null,null,null,null,null,null,null,null,null,null,null,null,null,{"$f":"IF(492<=$B$10,IF(LEN('１学期'!IM10)=0,\"\",IF('１学期'!IM10=$B$8,IF(LEN('１学期'!IP10)=0,\"\",'１学期'!IP10),\"\")),\"\")","v":""},{"$f":"IF(LEN(O492)=0,\"\",IF(COUNTIF(O492:$O$1921,O492+1)>0,\"\",O492+1))","v":""},{"$f":"IFERROR(SMALL($P$1:$P$1921,491),\"\")","v":""}]
[null,null,null,null,null,null,null,null,null,null,null,null,null,null,{"$f":"IF(493<=$B$10,IF(LEN('１学期'!IM13)=0,\"\",IF('１学期'!IM13=$B$8,IF(LEN('１学期'!IP13)=0,\"\",'１学期'!IP13),\"\")),\"\")","v":""},{"$f":"IF(LEN(O493)=0,\"\",IF(COUNTIF(O493:$O$1921,O493+1)>0,\"\",O493+1))","v":""},{"$f":"IFERROR(SMALL($P$1:$P$1921,492),\"\")","v":""}]
[null,null,null,null,null,null,null,null,null,null,null,null,null,null,{"$f":"IF(494<=$B$10,IF(LEN('１学期'!IM16)=0,\"\",IF('１学期'!IM16=$B$8,IF(LEN('１学期'!IP16)=0,\"\",'１学期'!IP16),\"\")),\"\")","v":""},{"$f":"IF(LEN(O494)=0,\"\",IF(COUNTIF(O494:$O$1921,O494+1)>0,\"\",O494+1))","v":""},{"$f":"IFERROR(SMALL($P$1:$P$1921,493),\"\")","v":""}]
[null,null,null,null,null,null,null,null,null,null,null,null,null,null,{"$f":"IF(495<=$B$10,IF(LEN('１学期'!IM19)=0,\"\",IF('１学期'!IM19=$B$8,IF(LEN('１学期'!IP19)=0,\"\",'１学期'!IP19),\"\")),\"\")","v":""},{"$f":"IF(LEN(O495)=0,\"\",IF(COUNTIF(O495:$O$1921,O495+1)>0,\"\",O495+1))","v":""},{"$f":"IFERROR(SMALL($P$1:$P$1921,494),\"\")","v":""}]
[null,null,null,null,null,null,null,null,null,null,null,null,null,null,{"$f":"IF(496<=$B$10,IF(LEN('１学期'!IM22)=0,\"\",IF('１学期'!IM22=$B$8,IF(LEN('１学期'!IP22)=0,\"\",'１学期'!IP22),\"\")),\"\")","v":""},{"$f":"IF(LEN(O496)=0,\"\",IF(COUNTIF(O496:$O$1921,O496+1)>0,\"\",O496+1))","v":""},{"$f":"IFERROR(SMALL($P$1:$P$1921,495),\"\")","v":""}]
[null,null,null,null,null,null,null,null,null,null,null,null,null,null,{"$f":"IF(497<=$B$10,IF(LEN('１学期'!IM25)=0,\"\",IF('１学期'!IM25=$B$8,IF(LEN('１学期'!IP25)=0,\"\",'１学期'!IP25),\"\")),\"\")","v":""},{"$f":"IF(LEN(O497)=0,\"\",IF(COUNTIF(O497:$O$1921,O497+1)>0,\"\",O497+1))","v":""},{"$f":"IFERROR(SMALL($P$1:$P$1921,496),\"\")","v":""}]
[null,null,null,null,null,null,null,null,null,null,null,null,null,null,{"$f":"IF(498<=$B$10,IF(LEN('１学期'!IQ6)=0,\"\",IF('１学期'!IQ6=$B$8,IF(LEN('１学期'!IT6)=0,\"\",'１学期'!IT6),\"\")),\"\")","v":""},{"$f":"IF(LEN(O498)=0,\"\",IF(COUNTIF(O498:$O$1921,O498+1)>0,\"\",O498+1))","v":""},{"$f":"IFERROR(SMALL($P$1:$P$1921,497),\"\")","v":""}]
[null,null,null,null,null,null,null,null,null,null,null,null,null,null,{"$f":"IF(499<=$B$10,IF(LEN('１学期'!IQ7)=0,\"\",IF('１学期'!IQ7=$B$8,IF(LEN('１学期'!IT7)=0,\"\",'１学期'!IT7),\"\")),\"\")","v":""},{"$f":"IF(LEN(O499)=0,\"\",IF(COUNTIF(O499:$O$1921,O499+1)>0,\"\",O499+1))","v":""},{"$f":"IFERROR(SMALL($P$1:$P$1921,498),\"\")","v":""}]
[null,null,null,null,null,null,null,null,null,null,null,null,null,null,{"$f":"IF(500<=$B$10,IF(LEN('１学期'!IQ10)=0,\"\",IF('１学期'!IQ10=$B$8,IF(LEN('１学期'!IT10)=0,\"\",'１学期'!IT10),\"\")),\"\")","v":""},{"$f":"IF(LEN(O500)=0,\"\",IF(COUNTIF(O500:$O$1921,O500+1)>0,\"\",O500+1))","v":""},{"$f":"IFERROR(SMALL($P$1:$P$1921,499),\"\")","v":""}]
[null,null,null,null,null,null,null,null,null,null,null,null,null,null,{"$f":"IF(501<=$B$10,IF(LEN('１学期'!IQ13)=0,\"\",IF('１学期'!IQ13=$B$8,IF(LEN('１学期'!IT13)=0,\"\",'１学期'!IT13),\"\")),\"\")","v":""},{"$f":"IF(LEN(O501)=0,\"\",IF(COUNTIF(O501:$O$1921,O501+1)>0,\"\",O501+1))","v":""},{"$f":"IFERROR(SMALL($P$1:$P$1921,500),\"\")","v":""}]
[null,null,null,null,null,null,null,null,null,null,null,null,null,null,{"$f":"IF(502<=$B$10,IF(LEN('１学期'!IQ16)=0,\"\",IF('１学期'!IQ16=$B$8,IF(LEN('１学期'!IT16)=0,\"\",'１学期'!IT16),\"\")),\"\")","v":""},{"$f":"IF(LEN(O502)=0,\"\",IF(COUNTIF(O502:$O$1921,O502+1)>0,\"\",O502+1))","v":""},{"$f":"IFERROR(SMALL($P$1:$P$1921,501),\"\")","v":""}]
[null,null,null,null,null,null,null,null,null,null,null,null,null,null,{"$f":"IF(503<=$B$10,IF(LEN('１学期'!IQ19)=0,\"\",IF('１学期'!IQ19=$B$8,IF(LEN('１学期'!IT19)=0,\"\",'１学期'!IT19),\"\")),\"\")","v":""},{"$f":"IF(LEN(O503)=0,\"\",IF(COUNTIF(O503:$O$1921,O503+1)>0,\"\",O503+1))","v":""},{"$f":"IFERROR(SMALL($P$1:$P$1921,502),\"\")","v":""}]
[null,null,null,null,null,null,null,null,null,null,null,null,null,null,{"$f":"IF(504<=$B$10,IF(LEN('１学期'!IQ22)=0,\"\",IF('１学期'!IQ22=$B$8,IF(LEN('１学期'!IT22)=0,\"\",'１学期'!IT22),\"\")),\"\")","v":""},{"$f":"IF(LEN(O504)=0,\"\",IF(COUNTIF(O504:$O$1921,O504+1)>0,\"\",O504+1))","v":""},{"$f":"IFERROR(SMALL($P$1:$P$1921,503),\"\")","v":""}]
[null,null,null,null,null,null,null,null,null,null,null,null,null,null,{"$f":"IF(505<=$B$10,IF(LEN('１学期'!IQ25)=0,\"\",IF('１学期'!IQ25=$B$8,IF(LEN('１学期'!IT25)=0,\"\",'１学期'!IT25),\"\")),\"\")","v":""},{"$f":"IF(LEN(O505)=0,\"\",IF(COUNTIF(O505:$O$1921,O505+1)>0,\"\",O505+1))","v":""},{"$f":"IFERROR(SMALL($P$1:$P$1921,504),\"\")","v":""}]
[null,null,null,null,null,null,null,null,null,null,null,null,null,null,{"$f":"IF(506<=$B$10,IF(LEN('１学期'!IU6)=0,\"\",IF('１学期'!IU6=$B$8,IF(LEN('１学期'!IX6)=0,\"\",'１学期'!IX6),\"\")),\"\")","v":""},{"$f":"IF(LEN(O506)=0,\"\",IF(COUNTIF(O506:$O$1921,O506+1)>0,\"\",O506+1))","v":""},{"$f":"IFERROR(SMALL($P$1:$P$1921,505),\"\")","v":""}]
[null,null,null,null,null,null,null,null,null,null,null,null,null,null,{"$f":"IF(507<=$B$10,IF(LEN('１学期'!IU7)=0,\"\",IF('１学期'!IU7=$B$8,IF(LEN('１学期'!IX7)=0,\"\",'１学期'!IX7),\"\")),\"\")","v":""},{"$f":"IF(LEN(O507)=0,\"\",IF(COUNTIF(O507:$O$1921,O507+1)>0,\"\",O507+1))","v":""},{"$f":"IFERROR(SMALL($P$1:$P$1921,506),\"\")","v":""}]
[null,null,null,null,null,null,null,null,null,null,null,null,null,null,{"$f":"IF(508<=$B$10,IF(LEN('１学期'!IU10)=0,\"\",IF('１学期'!IU10=$B$8,IF(LEN('１学期'!IX10)=0,\"\",'１学期'!IX10),\"\")),\"\")","v":""},{"$f":"IF(LEN(O508)=0,\"\",IF(COUNTIF(O508:$O$1921,O508+1)>0,\"\",O508+1))","v":""},{"$f":"IFERROR(SMALL($P$1:$P$1921,507),\"\")","v":""}]
[null,null,null,null,null,null,null,null,null,null,null,null,null,null,{"$f":"IF(509<=$B$10,IF(LEN('１学期'!IU13)=0,\"\",IF('１学期'!IU13=$B$8,IF(LEN('１学期'!IX13)=0,\"\",'１学期'!IX13),\"\")),\"\")","v":""},{"$f":"IF(LEN(O509)=0,\"\",IF(COUNTIF(O509:$O$1921,O509+1)>0,\"\",O509+1))","v":""},{"$f":"IFERROR(SMALL($P$1:$P$1921,508),\"\")","v":""}]
[null,null,null,null,null,null,null,null,null,null,null,null,null,null,{"$f":"IF(510<=$B$10,IF(LEN('１学期'!IU16)=0,\"\",IF('１学期'!IU16=$B$8,IF(LEN('１学期'!IX16)=0,\"\",'１学期'!IX16),\"\")),\"\")","v":""},{"$f":"IF(LEN(O510)=0,\"\",IF(COUNTIF(O510:$O$1921,O510+1)>0,\"\",O510+1))","v":""},{"$f":"IFERROR(SMALL($P$1:$P$1921,509),\"\")","v":""}]
[null,null,null,null,null,null,null,null,null,null,null,null,null,null,{"$f":"IF(511<=$B$10,IF(LEN('１学期'!IU19)=0,\"\",IF('１学期'!IU19=$B$8,IF(LEN('１学期'!IX19)=0,\"\",'１学期'!IX19),\"\")),\"\")","v":""},{"$f":"IF(LEN(O511)=0,\"\",IF(COUNTIF(O511:$O$1921,O511+1)>0,\"\",O511+1))","v":""},{"$f":"IFERROR(SMALL($P$1:$P$1921,510),\"\")","v":""}]
[null,null,null,null,null,null,null,null,null,null,null,null,null,null,{"$f":"IF(512<=$B$10,IF(LEN('１学期'!IU22)=0,\"\",IF('１学期'!IU22=$B$8,IF(LEN('１学期'!IX22)=0,\"\",'１学期'!IX22),\"\")),\"\")","v":""},{"$f":"IF(LEN(O512)=0,\"\",IF(COUNTIF(O512:$O$1921,O512+1)>0,\"\",O512+1))","v":""},{"$f":"IFERROR(SMALL($P$1:$P$1921,511),\"\")","v":""}]
[null,null,null,null,null,null,null,null,null,null,null,null,null,null,{"$f":"IF(513<=$B$10,IF(LEN('１学期'!IU25)=0,\"\",IF('１学期'!IU25=$B$8,IF(LEN('１学期'!IX25)=0,\"\",'１学期'!IX25),\"\")),\"\")","v":""},{"$f":"IF(LEN(O513)=0,\"\",IF(COUNTIF(O513:$O$1921,O513+1)>0,\"\",O513+1))","v":""},{"$f":"IFERROR(SMALL($P$1:$P$1921,512),\"\")","v":""}]
[null,null,null,null,null,null,null,null,null,null,null,null,null,null,{"$f":"IF(514<=$B$10,IF(LEN('１学期'!IY6)=0,\"\",IF('１学期'!IY6=$B$8,IF(LEN('１学期'!JB6)=0,\"\",'１学期'!JB6),\"\")),\"\")","v":""},{"$f":"IF(LEN(O514)=0,\"\",IF(COUNTIF(O514:$O$1921,O514+1)>0,\"\",O514+1))","v":""},{"$f":"IFERROR(SMALL($P$1:$P$1921,513),\"\")","v":""}]
[null,null,null,null,null,null,null,null,null,null,null,null,null,null,{"$f":"IF(515<=$B$10,IF(LEN('１学期'!IY7)=0,\"\",IF('１学期'!IY7=$B$8,IF(LEN('１学期'!JB7)=0,\"\",'１学期'!JB7),\"\")),\"\")","v":""},{"$f":"IF(LEN(O515)=0,\"\",IF(COUNTIF(O515:$O$1921,O515+1)>0,\"\",O515+1))","v":""},{"$f":"IFERROR(SMALL($P$1:$P$1921,514),\"\")","v":""}]
[null,null,null,null,null,null,null,null,null,null,null,null,null,null,{"$f":"IF(516<=$B$10,IF(LEN('１学期'!IY10)=0,\"\",IF('１学期'!IY10=$B$8,IF(LEN('１学期'!JB10)=0,\"\",'１学期'!JB10),\"\")),\"\")","v":""},{"$f":"IF(LEN(O516)=0,\"\",IF(COUNTIF(O516:$O$1921,O516+1)>0,\"\",O516+1))","v":""},{"$f":"IFERROR(SMALL($P$1:$P$1921,515),\"\")","v":""}]
[null,null,null,null,null,null,null,null,null,null,null,null,null,null,{"$f":"IF(517<=$B$10,IF(LEN('１学期'!IY13)=0,\"\",IF('１学期'!IY13=$B$8,IF(LEN('１学期'!JB13)=0,\"\",'１学期'!JB13),\"\")),\"\")","v":""},{"$f":"IF(LEN(O517)=0,\"\",IF(COUNTIF(O517:$O$1921,O517+1)>0,\"\",O517+1))","v":""},{"$f":"IFERROR(SMALL($P$1:$P$1921,516),\"\")","v":""}]
[null,null,null,null,null,null,null,null,null,null,null,null,null,null,{"$f":"IF(518<=$B$10,IF(LEN('１学期'!IY16)=0,\"\",IF('１学期'!IY16=$B$8,IF(LEN('１学期'!JB16)=0,\"\",'１学期'!JB16),\"\")),\"\")","v":""},{"$f":"IF(LEN(O518)=0,\"\",IF(COUNTIF(O518:$O$1921,O518+1)>0,\"\",O518+1))","v":""},{"$f":"IFERROR(SMALL($P$1:$P$1921,517),\"\")","v":""}]
[null,null,null,null,null,null,null,null,null,null,null,null,null,null,{"$f":"IF(519<=$B$10,IF(LEN('１学期'!IY19)=0,\"\",IF('１学期'!IY19=$B$8,IF(LEN('１学期'!JB19)=0,\"\",'１学期'!JB19),\"\")),\"\")","v":""},{"$f":"IF(LEN(O519)=0,\"\",IF(COUNTIF(O519:$O$1921,O519+1)>0,\"\",O519+1))","v":""},{"$f":"IFERROR(SMALL($P$1:$P$1921,518),\"\")","v":""}]
[null,null,null,null,null,null,null,null,null,null,null,null,null,null,{"$f":"IF(520<=$B$10,IF(LEN('１学期'!IY22)=0,\"\",IF('１学期'!IY22=$B$8,IF(LEN('１学期'!JB22)=0,\"\",'１学期'!JB22),\"\")),\"\")","v":""},{"$f":"IF(LEN(O520)=0,\"\",IF(COUNTIF(O520:$O$1921,O520+1)>0,\"\",O520+1))","v":""},{"$f":"IFERROR(SMALL($P$1:$P$1921,519),\"\")","v":""}]
[null,null,null,null,null,null,null,null,null,null,null,null,null,null,{"$f":"IF(521<=$B$10,IF(LEN('１学期'!IY25)=0,\"\",IF('１学期'!IY25=$B$8,IF(LEN('１学期'!JB25)=0,\"\",'１学期'!JB25),\"\")),\"\")","v":""},{"$f":"IF(LEN(O521)=0,\"\",IF(COUNTIF(O521:$O$1921,O521+1)>0,\"\",O521+1))","v":""},{"$f":"IFERROR(SMALL($P$1:$P$1921,520),\"\")","v":""}]
[null,null,null,null,null,null,null,null,null,null,null,null,null,null,{"$f":"IF(522<=$B$10,IF(LEN('１学期'!JC6)=0,\"\",IF('１学期'!JC6=$B$8,IF(LEN('１学期'!JF6)=0,\"\",'１学期'!JF6),\"\")),\"\")","v":""},{"$f":"IF(LEN(O522)=0,\"\",IF(COUNTIF(O522:$O$1921,O522+1)>0,\"\",O522+1))","v":""},{"$f":"IFERROR(SMALL($P$1:$P$1921,521),\"\")","v":""}]
[null,null,null,null,null,null,null,null,null,null,null,null,null,null,{"$f":"IF(523<=$B$10,IF(LEN('１学期'!JC7)=0,\"\",IF('１学期'!JC7=$B$8,IF(LEN('１学期'!JF7)=0,\"\",'１学期'!JF7),\"\")),\"\")","v":""},{"$f":"IF(LEN(O523)=0,\"\",IF(COUNTIF(O523:$O$1921,O523+1)>0,\"\",O523+1))","v":""},{"$f":"IFERROR(SMALL($P$1:$P$1921,522),\"\")","v":""}]
[null,null,null,null,null,null,null,null,null,null,null,null,null,null,{"$f":"IF(524<=$B$10,IF(LEN('１学期'!JC10)=0,\"\",IF('１学期'!JC10=$B$8,IF(LEN('１学期'!JF10)=0,\"\",'１学期'!JF10),\"\")),\"\")","v":""},{"$f":"IF(LEN(O524)=0,\"\",IF(COUNTIF(O524:$O$1921,O524+1)>0,\"\",O524+1))","v":""},{"$f":"IFERROR(SMALL($P$1:$P$1921,523),\"\")","v":""}]
[null,null,null,null,null,null,null,null,null,null,null,null,null,null,{"$f":"IF(525<=$B$10,IF(LEN('１学期'!JC13)=0,\"\",IF('１学期'!JC13=$B$8,IF(LEN('１学期'!JF13)=0,\"\",'１学期'!JF13),\"\")),\"\")","v":""},{"$f":"IF(LEN(O525)=0,\"\",IF(COUNTIF(O525:$O$1921,O525+1)>0,\"\",O525+1))","v":""},{"$f":"IFERROR(SMALL($P$1:$P$1921,524),\"\")","v":""}]
[null,null,null,null,null,null,null,null,null,null,null,null,null,null,{"$f":"IF(526<=$B$10,IF(LEN('１学期'!JC16)=0,\"\",IF('１学期'!JC16=$B$8,IF(LEN('１学期'!JF16)=0,\"\",'１学期'!JF16),\"\")),\"\")","v":""},{"$f":"IF(LEN(O526)=0,\"\",IF(COUNTIF(O526:$O$1921,O526+1)>0,\"\",O526+1))","v":""},{"$f":"IFERROR(SMALL($P$1:$P$1921,525),\"\")","v":""}]
[null,null,null,null,null,null,null,null,null,null,null,null,null,null,{"$f":"IF(527<=$B$10,IF(LEN('１学期'!JC19)=0,\"\",IF('１学期'!JC19=$B$8,IF(LEN('１学期'!JF19)=0,\"\",'１学期'!JF19),\"\")),\"\")","v":""},{"$f":"IF(LEN(O527)=0,\"\",IF(COUNTIF(O527:$O$1921,O527+1)>0,\"\",O527+1))","v":""},{"$f":"IFERROR(SMALL($P$1:$P$1921,526),\"\")","v":""}]
[null,null,null,null,null,null,null,null,null,null,null,null,null,null,{"$f":"IF(528<=$B$10,IF(LEN('１学期'!JC22)=0,\"\",IF('１学期'!JC22=$B$8,IF(LEN('１学期'!JF22)=0,\"\",'１学期'!JF22),\"\")),\"\")","v":""},{"$f":"IF(LEN(O528)=0,\"\",IF(COUNTIF(O528:$O$1921,O528+1)>0,\"\",O528+1))","v":""},{"$f":"IFERROR(SMALL($P$1:$P$1921,527),\"\")","v":""}]
[null,null,null,null,null,null,null,null,null,null,null,null,null,null,{"$f":"IF(529<=$B$10,IF(LEN('１学期'!JC25)=0,\"\",IF('１学期'!JC25=$B$8,IF(LEN('１学期'!JF25)=0,\"\",'１学期'!JF25),\"\")),\"\")","v":""},{"$f":"IF(LEN(O529)=0,\"\",IF(COUNTIF(O529:$O$1921,O529+1)>0,\"\",O529+1))","v":""},{"$f":"IFERROR(SMALL($P$1:$P$1921,528),\"\")","v":""}]
[null,null,null,null,null,null,null,null,null,null,null,null,null,null,{"$f":"IF(530<=$B$10,IF(LEN('１学期'!JG6)=0,\"\",IF('１学期'!JG6=$B$8,IF(LEN('１学期'!JJ6)=0,\"\",'１学期'!JJ6),\"\")),\"\")","v":""},{"$f":"IF(LEN(O530)=0,\"\",IF(COUNTIF(O530:$O$1921,O530+1)>0,\"\",O530+1))","v":""},{"$f":"IFERROR(SMALL($P$1:$P$1921,529),\"\")","v":""}]
[null,null,null,null,null,null,null,null,null,null,null,null,null,null,{"$f":"IF(531<=$B$10,IF(LEN('１学期'!JG7)=0,\"\",IF('１学期'!JG7=$B$8,IF(LEN('１学期'!JJ7)=0,\"\",'１学期'!JJ7),\"\")),\"\")","v":""},{"$f":"IF(LEN(O531)=0,\"\",IF(COUNTIF(O531:$O$1921,O531+1)>0,\"\",O531+1))","v":""},{"$f":"IFERROR(SMALL($P$1:$P$1921,530),\"\")","v":""}]
[null,null,null,null,null,null,null,null,null,null,null,null,null,null,{"$f":"IF(532<=$B$10,IF(LEN('１学期'!JG10)=0,\"\",IF('１学期'!JG10=$B$8,IF(LEN('１学期'!JJ10)=0,\"\",'１学期'!JJ10),\"\")),\"\")","v":""},{"$f":"IF(LEN(O532)=0,\"\",IF(COUNTIF(O532:$O$1921,O532+1)>0,\"\",O532+1))","v":""},{"$f":"IFERROR(SMALL($P$1:$P$1921,531),\"\")","v":""}]
[null,null,null,null,null,null,null,null,null,null,null,null,null,null,{"$f":"IF(533<=$B$10,IF(LEN('１学期'!JG13)=0,\"\",IF('１学期'!JG13=$B$8,IF(LEN('１学期'!JJ13)=0,\"\",'１学期'!JJ13),\"\")),\"\")","v":""},{"$f":"IF(LEN(O533)=0,\"\",IF(COUNTIF(O533:$O$1921,O533+1)>0,\"\",O533+1))","v":""},{"$f":"IFERROR(SMALL($P$1:$P$1921,532),\"\")","v":""}]
[null,null,null,null,null,null,null,null,null,null,null,null,null,null,{"$f":"IF(534<=$B$10,IF(LEN('１学期'!JG16)=0,\"\",IF('１学期'!JG16=$B$8,IF(LEN('１学期'!JJ16)=0,\"\",'１学期'!JJ16),\"\")),\"\")","v":""},{"$f":"IF(LEN(O534)=0,\"\",IF(COUNTIF(O534:$O$1921,O534+1)>0,\"\",O534+1))","v":""},{"$f":"IFERROR(SMALL($P$1:$P$1921,533),\"\")","v":""}]
[null,null,null,null,null,null,null,null,null,null,null,null,null,null,{"$f":"IF(535<=$B$10,IF(LEN('１学期'!JG19)=0,\"\",IF('１学期'!JG19=$B$8,IF(LEN('１学期'!JJ19)=0,\"\",'１学期'!JJ19),\"\")),\"\")","v":""},{"$f":"IF(LEN(O535)=0,\"\",IF(COUNTIF(O535:$O$1921,O535+1)>0,\"\",O535+1))","v":""},{"$f":"IFERROR(SMALL($P$1:$P$1921,534),\"\")","v":""}]
[null,null,null,null,null,null,null,null,null,null,null,null,null,null,{"$f":"IF(536<=$B$10,IF(LEN('１学期'!JG22)=0,\"\",IF('１学期'!JG22=$B$8,IF(LEN('１学期'!JJ22)=0,\"\",'１学期'!JJ22),\"\")),\"\")","v":""},{"$f":"IF(LEN(O536)=0,\"\",IF(COUNTIF(O536:$O$1921,O536+1)>0,\"\",O536+1))","v":""},{"$f":"IFERROR(SMALL($P$1:$P$1921,535),\"\")","v":""}]
[null,null,null,null,null,null,null,null,null,null,null,null,null,null,{"$f":"IF(537<=$B$10,IF(LEN('１学期'!JG25)=0,\"\",IF('１学期'!JG25=$B$8,IF(LEN('１学期'!JJ25)=0,\"\",'１学期'!JJ25),\"\")),\"\")","v":""},{"$f":"IF(LEN(O537)=0,\"\",IF(COUNTIF(O537:$O$1921,O537+1)>0,\"\",O537+1))","v":""},{"$f":"IFERROR(SMALL($P$1:$P$1921,536),\"\")","v":""}]
[null,null,null,null,null,null,null,null,null,null,null,null,null,null,{"$f":"IF(538<=$B$10,IF(LEN('１学期'!JK6)=0,\"\",IF('１学期'!JK6=$B$8,IF(LEN('１学期'!JN6)=0,\"\",'１学期'!JN6),\"\")),\"\")","v":""},{"$f":"IF(LEN(O538)=0,\"\",IF(COUNTIF(O538:$O$1921,O538+1)>0,\"\",O538+1))","v":""},{"$f":"IFERROR(SMALL($P$1:$P$1921,537),\"\")","v":""}]
[null,null,null,null,null,null,null,null,null,null,null,null,null,null,{"$f":"IF(539<=$B$10,IF(LEN('１学期'!JK7)=0,\"\",IF('１学期'!JK7=$B$8,IF(LEN('１学期'!JN7)=0,\"\",'１学期'!JN7),\"\")),\"\")","v":""},{"$f":"IF(LEN(O539)=0,\"\",IF(COUNTIF(O539:$O$1921,O539+1)>0,\"\",O539+1))","v":""},{"$f":"IFERROR(SMALL($P$1:$P$1921,538),\"\")","v":""}]
[null,null,null,null,null,null,null,null,null,null,null,null,null,null,{"$f":"IF(540<=$B$10,IF(LEN('１学期'!JK10)=0,\"\",IF('１学期'!JK10=$B$8,IF(LEN('１学期'!JN10)=0,\"\",'１学期'!JN10),\"\")),\"\")","v":""},{"$f":"IF(LEN(O540)=0,\"\",IF(COUNTIF(O540:$O$1921,O540+1)>0,\"\",O540+1))","v":""},{"$f":"IFERROR(SMALL($P$1:$P$1921,539),\"\")","v":""}]
[null,null,null,null,null,null,null,null,null,null,null,null,null,null,{"$f":"IF(541<=$B$10,IF(LEN('１学期'!JK13)=0,\"\",IF('１学期'!JK13=$B$8,IF(LEN('１学期'!JN13)=0,\"\",'１学期'!JN13),\"\")),\"\")","v":""},{"$f":"IF(LEN(O541)=0,\"\",IF(COUNTIF(O541:$O$1921,O541+1)>0,\"\",O541+1))","v":""},{"$f":"IFERROR(SMALL($P$1:$P$1921,540),\"\")","v":""}]
[null,null,null,null,null,null,null,null,null,null,null,null,null,null,{"$f":"IF(542<=$B$10,IF(LEN('１学期'!JK16)=0,\"\",IF('１学期'!JK16=$B$8,IF(LEN('１学期'!JN16)=0,\"\",'１学期'!JN16),\"\")),\"\")","v":""},{"$f":"IF(LEN(O542)=0,\"\",IF(COUNTIF(O542:$O$1921,O542+1)>0,\"\",O542+1))","v":""},{"$f":"IFERROR(SMALL($P$1:$P$1921,541),\"\")","v":""}]
[null,null,null,null,null,null,null,null,null,null,null,null,null,null,{"$f":"IF(543<=$B$10,IF(LEN('１学期'!JK19)=0,\"\",IF('１学期'!JK19=$B$8,IF(LEN('１学期'!JN19)=0,\"\",'１学期'!JN19),\"\")),\"\")","v":""},{"$f":"IF(LEN(O543)=0,\"\",IF(COUNTIF(O543:$O$1921,O543+1)>0,\"\",O543+1))","v":""},{"$f":"IFERROR(SMALL($P$1:$P$1921,542),\"\")","v":""}]
[null,null,null,null,null,null,null,null,null,null,null,null,null,null,{"$f":"IF(544<=$B$10,IF(LEN('１学期'!JK22)=0,\"\",IF('１学期'!JK22=$B$8,IF(LEN('１学期'!JN22)=0,\"\",'１学期'!JN22),\"\")),\"\")","v":""},{"$f":"IF(LEN(O544)=0,\"\",IF(COUNTIF(O544:$O$1921,O544+1)>0,\"\",O544+1))","v":""},{"$f":"IFERROR(SMALL($P$1:$P$1921,543),\"\")","v":""}]
[null,null,null,null,null,null,null,null,null,null,null,null,null,null,{"$f":"IF(545<=$B$10,IF(LEN('１学期'!JK25)=0,\"\",IF('１学期'!JK25=$B$8,IF(LEN('１学期'!JN25)=0,\"\",'１学期'!JN25),\"\")),\"\")","v":""},{"$f":"IF(LEN(O545)=0,\"\",IF(COUNTIF(O545:$O$1921,O545+1)>0,\"\",O545+1))","v":""},{"$f":"IFERROR(SMALL($P$1:$P$1921,544),\"\")","v":""}]
[null,null,null,null,null,null,null,null,null,null,null,null,null,null,{"$f":"IF(546<=$B$10,IF(LEN('１学期'!JO6)=0,\"\",IF('１学期'!JO6=$B$8,IF(LEN('１学期'!JR6)=0,\"\",'１学期'!JR6),\"\")),\"\")","v":""},{"$f":"IF(LEN(O546)=0,\"\",IF(COUNTIF(O546:$O$1921,O546+1)>0,\"\",O546+1))","v":""},{"$f":"IFERROR(SMALL($P$1:$P$1921,545),\"\")","v":""}]
[null,null,null,null,null,null,null,null,null,null,null,null,null,null,{"$f":"IF(547<=$B$10,IF(LEN('１学期'!JO7)=0,\"\",IF('１学期'!JO7=$B$8,IF(LEN('１学期'!JR7)=0,\"\",'１学期'!JR7),\"\")),\"\")","v":""},{"$f":"IF(LEN(O547)=0,\"\",IF(COUNTIF(O547:$O$1921,O547+1)>0,\"\",O547+1))","v":""},{"$f":"IFERROR(SMALL($P$1:$P$1921,546),\"\")","v":""}]
[null,null,null,null,null,null,null,null,null,null,null,null,null,null,{"$f":"IF(548<=$B$10,IF(LEN('１学期'!JO10)=0,\"\",IF('１学期'!JO10=$B$8,IF(LEN('１学期'!JR10)=0,\"\",'１学期'!JR10),\"\")),\"\")","v":""},{"$f":"IF(LEN(O548)=0,\"\",IF(COUNTIF(O548:$O$1921,O548+1)>0,\"\",O548+1))","v":""},{"$f":"IFERROR(SMALL($P$1:$P$1921,547),\"\")","v":""}]
[null,null,null,null,null,null,null,null,null,null,null,null,null,null,{"$f":"IF(549<=$B$10,IF(LEN('１学期'!JO13)=0,\"\",IF('１学期'!JO13=$B$8,IF(LEN('１学期'!JR13)=0,\"\",'１学期'!JR13),\"\")),\"\")","v":""},{"$f":"IF(LEN(O549)=0,\"\",IF(COUNTIF(O549:$O$1921,O549+1)>0,\"\",O549+1))","v":""},{"$f":"IFERROR(SMALL($P$1:$P$1921,548),\"\")","v":""}]
[null,null,null,null,null,null,null,null,null,null,null,null,null,null,{"$f":"IF(550<=$B$10,IF(LEN('１学期'!JO16)=0,\"\",IF('１学期'!JO16=$B$8,IF(LEN('１学期'!JR16)=0,\"\",'１学期'!JR16),\"\")),\"\")","v":""},{"$f":"IF(LEN(O550)=0,\"\",IF(COUNTIF(O550:$O$1921,O550+1)>0,\"\",O550+1))","v":""},{"$f":"IFERROR(SMALL($P$1:$P$1921,549),\"\")","v":""}]
[null,null,null,null,null,null,null,null,null,null,null,null,null,null,{"$f":"IF(551<=$B$10,IF(LEN('１学期'!JO19)=0,\"\",IF('１学期'!JO19=$B$8,IF(LEN('１学期'!JR19)=0,\"\",'１学期'!JR19),\"\")),\"\")","v":""},{"$f":"IF(LEN(O551)=0,\"\",IF(COUNTIF(O551:$O$1921,O551+1)>0,\"\",O551+1))","v":""},{"$f":"IFERROR(SMALL($P$1:$P$1921,550),\"\")","v":""}]
[null,null,null,null,null,null,null,null,null,null,null,null,null,null,{"$f":"IF(552<=$B$10,IF(LEN('１学期'!JO22)=0,\"\",IF('１学期'!JO22=$B$8,IF(LEN('１学期'!JR22)=0,\"\",'１学期'!JR22),\"\")),\"\")","v":""},{"$f":"IF(LEN(O552)=0,\"\",IF(COUNTIF(O552:$O$1921,O552+1)>0,\"\",O552+1))","v":""},{"$f":"IFERROR(SMALL($P$1:$P$1921,551),\"\")","v":""}]
[null,null,null,null,null,null,null,null,null,null,null,null,null,null,{"$f":"IF(553<=$B$10,IF(LEN('１学期'!JO25)=0,\"\",IF('１学期'!JO25=$B$8,IF(LEN('１学期'!JR25)=0,\"\",'１学期'!JR25),\"\")),\"\")","v":""},{"$f":"IF(LEN(O553)=0,\"\",IF(COUNTIF(O553:$O$1921,O553+1)>0,\"\",O553+1))","v":""},{"$f":"IFERROR(SMALL($P$1:$P$1921,552),\"\")","v":""}]
[null,null,null,null,null,null,null,null,null,null,null,null,null,null,{"$f":"IF(554<=$B$10,IF(LEN('１学期'!JS6)=0,\"\",IF('１学期'!JS6=$B$8,IF(LEN('１学期'!JV6)=0,\"\",'１学期'!JV6),\"\")),\"\")","v":""},{"$f":"IF(LEN(O554)=0,\"\",IF(COUNTIF(O554:$O$1921,O554+1)>0,\"\",O554+1))","v":""},{"$f":"IFERROR(SMALL($P$1:$P$1921,553),\"\")","v":""}]
[null,null,null,null,null,null,null,null,null,null,null,null,null,null,{"$f":"IF(555<=$B$10,IF(LEN('１学期'!JS7)=0,\"\",IF('１学期'!JS7=$B$8,IF(LEN('１学期'!JV7)=0,\"\",'１学期'!JV7),\"\")),\"\")","v":""},{"$f":"IF(LEN(O555)=0,\"\",IF(COUNTIF(O555:$O$1921,O555+1)>0,\"\",O555+1))","v":""},{"$f":"IFERROR(SMALL($P$1:$P$1921,554),\"\")","v":""}]
[null,null,null,null,null,null,null,null,null,null,null,null,null,null,{"$f":"IF(556<=$B$10,IF(LEN('１学期'!JS10)=0,\"\",IF('１学期'!JS10=$B$8,IF(LEN('１学期'!JV10)=0,\"\",'１学期'!JV10),\"\")),\"\")","v":""},{"$f":"IF(LEN(O556)=0,\"\",IF(COUNTIF(O556:$O$1921,O556+1)>0,\"\",O556+1))","v":""},{"$f":"IFERROR(SMALL($P$1:$P$1921,555),\"\")","v":""}]
[null,null,null,null,null,null,null,null,null,null,null,null,null,null,{"$f":"IF(557<=$B$10,IF(LEN('１学期'!JS13)=0,\"\",IF('１学期'!JS13=$B$8,IF(LEN('１学期'!JV13)=0,\"\",'１学期'!JV13),\"\")),\"\")","v":""},{"$f":"IF(LEN(O557)=0,\"\",IF(COUNTIF(O557:$O$1921,O557+1)>0,\"\",O557+1))","v":""},{"$f":"IFERROR(SMALL($P$1:$P$1921,556),\"\")","v":""}]
[null,null,null,null,null,null,null,null,null,null,null,null,null,null,{"$f":"IF(558<=$B$10,IF(LEN('１学期'!JS16)=0,\"\",IF('１学期'!JS16=$B$8,IF(LEN('１学期'!JV16)=0,\"\",'１学期'!JV16),\"\")),\"\")","v":""},{"$f":"IF(LEN(O558)=0,\"\",IF(COUNTIF(O558:$O$1921,O558+1)>0,\"\",O558+1))","v":""},{"$f":"IFERROR(SMALL($P$1:$P$1921,557),\"\")","v":""}]
[null,null,null,null,null,null,null,null,null,null,null,null,null,null,{"$f":"IF(559<=$B$10,IF(LEN('１学期'!JS19)=0,\"\",IF('１学期'!JS19=$B$8,IF(LEN('１学期'!JV19)=0,\"\",'１学期'!JV19),\"\")),\"\")","v":""},{"$f":"IF(LEN(O559)=0,\"\",IF(COUNTIF(O559:$O$1921,O559+1)>0,\"\",O559+1))","v":""},{"$f":"IFERROR(SMALL($P$1:$P$1921,558),\"\")","v":""}]
[null,null,null,null,null,null,null,null,null,null,null,null,null,null,{"$f":"IF(560<=$B$10,IF(LEN('１学期'!JS22)=0,\"\",IF('１学期'!JS22=$B$8,IF(LEN('１学期'!JV22)=0,\"\",'１学期'!JV22),\"\")),\"\")","v":""},{"$f":"IF(LEN(O560)=0,\"\",IF(COUNTIF(O560:$O$1921,O560+1)>0,\"\",O560+1))","v":""},{"$f":"IFERROR(SMALL($P$1:$P$1921,559),\"\")","v":""}]
[null,null,null,null,null,null,null,null,null,null,null,null,null,null,{"$f":"IF(561<=$B$10,IF(LEN('１学期'!JS25)=0,\"\",IF('１学期'!JS25=$B$8,IF(LEN('１学期'!JV25)=0,\"\",'１学期'!JV25),\"\")),\"\")","v":""},{"$f":"IF(LEN(O561)=0,\"\",IF(COUNTIF(O561:$O$1921,O561+1)>0,\"\",O561+1))","v":""},{"$f":"IFERROR(SMALL($P$1:$P$1921,560),\"\")","v":""}]
[null,null,null,null,null,null,null,null,null,null,null,null,null,null,{"$f":"IF(562<=$B$10,IF(LEN('１学期'!JW6)=0,\"\",IF('１学期'!JW6=$B$8,IF(LEN('１学期'!JZ6)=0,\"\",'１学期'!JZ6),\"\")),\"\")","v":""},{"$f":"IF(LEN(O562)=0,\"\",IF(COUNTIF(O562:$O$1921,O562+1)>0,\"\",O562+1))","v":""},{"$f":"IFERROR(SMALL($P$1:$P$1921,561),\"\")","v":""}]
[null,null,null,null,null,null,null,null,null,null,null,null,null,null,{"$f":"IF(563<=$B$10,IF(LEN('１学期'!JW7)=0,\"\",IF('１学期'!JW7=$B$8,IF(LEN('１学期'!JZ7)=0,\"\",'１学期'!JZ7),\"\")),\"\")","v":""},{"$f":"IF(LEN(O563)=0,\"\",IF(COUNTIF(O563:$O$1921,O563+1)>0,\"\",O563+1))","v":""},{"$f":"IFERROR(SMALL($P$1:$P$1921,562),\"\")","v":""}]
[null,null,null,null,null,null,null,null,null,null,null,null,null,null,{"$f":"IF(564<=$B$10,IF(LEN('１学期'!JW10)=0,\"\",IF('１学期'!JW10=$B$8,IF(LEN('１学期'!JZ10)=0,\"\",'１学期'!JZ10),\"\")),\"\")","v":""},{"$f":"IF(LEN(O564)=0,\"\",IF(COUNTIF(O564:$O$1921,O564+1)>0,\"\",O564+1))","v":""},{"$f":"IFERROR(SMALL($P$1:$P$1921,563),\"\")","v":""}]
[null,null,null,null,null,null,null,null,null,null,null,null,null,null,{"$f":"IF(565<=$B$10,IF(LEN('１学期'!JW13)=0,\"\",IF('１学期'!JW13=$B$8,IF(LEN('１学期'!JZ13)=0,\"\",'１学期'!JZ13),\"\")),\"\")","v":""},{"$f":"IF(LEN(O565)=0,\"\",IF(COUNTIF(O565:$O$1921,O565+1)>0,\"\",O565+1))","v":""},{"$f":"IFERROR(SMALL($P$1:$P$1921,564),\"\")","v":""}]
[null,null,null,null,null,null,null,null,null,null,null,null,null,null,{"$f":"IF(566<=$B$10,IF(LEN('１学期'!JW16)=0,\"\",IF('１学期'!JW16=$B$8,IF(LEN('１学期'!JZ16)=0,\"\",'１学期'!JZ16),\"\")),\"\")","v":""},{"$f":"IF(LEN(O566)=0,\"\",IF(COUNTIF(O566:$O$1921,O566+1)>0,\"\",O566+1))","v":""},{"$f":"IFERROR(SMALL($P$1:$P$1921,565),\"\")","v":""}]
[null,null,null,null,null,null,null,null,null,null,null,null,null,null,{"$f":"IF(567<=$B$10,IF(LEN('１学期'!JW19)=0,\"\",IF('１学期'!JW19=$B$8,IF(LEN('１学期'!JZ19)=0,\"\",'１学期'!JZ19),\"\")),\"\")","v":""},{"$f":"IF(LEN(O567)=0,\"\",IF(COUNTIF(O567:$O$1921,O567+1)>0,\"\",O567+1))","v":""},{"$f":"IFERROR(SMALL($P$1:$P$1921,566),\"\")","v":""}]
[null,null,null,null,null,null,null,null,null,null,null,null,null,null,{"$f":"IF(568<=$B$10,IF(LEN('１学期'!JW22)=0,\"\",IF('１学期'!JW22=$B$8,IF(LEN('１学期'!JZ22)=0,\"\",'１学期'!JZ22),\"\")),\"\")","v":""},{"$f":"IF(LEN(O568)=0,\"\",IF(COUNTIF(O568:$O$1921,O568+1)>0,\"\",O568+1))","v":""},{"$f":"IFERROR(SMALL($P$1:$P$1921,567),\"\")","v":""}]
[null,null,null,null,null,null,null,null,null,null,null,null,null,null,{"$f":"IF(569<=$B$10,IF(LEN('１学期'!JW25)=0,\"\",IF('１学期'!JW25=$B$8,IF(LEN('１学期'!JZ25)=0,\"\",'１学期'!JZ25),\"\")),\"\")","v":""},{"$f":"IF(LEN(O569)=0,\"\",IF(COUNTIF(O569:$O$1921,O569+1)>0,\"\",O569+1))","v":""},{"$f":"IFERROR(SMALL($P$1:$P$1921,568),\"\")","v":""}]
[null,null,null,null,null,null,null,null,null,null,null,null,null,null,{"$f":"IF(570<=$B$10,IF(LEN('１学期'!KA6)=0,\"\",IF('１学期'!KA6=$B$8,IF(LEN('１学期'!KD6)=0,\"\",'１学期'!KD6),\"\")),\"\")","v":""},{"$f":"IF(LEN(O570)=0,\"\",IF(COUNTIF(O570:$O$1921,O570+1)>0,\"\",O570+1))","v":""},{"$f":"IFERROR(SMALL($P$1:$P$1921,569),\"\")","v":""}]
[null,null,null,null,null,null,null,null,null,null,null,null,null,null,{"$f":"IF(571<=$B$10,IF(LEN('１学期'!KA7)=0,\"\",IF('１学期'!KA7=$B$8,IF(LEN('１学期'!KD7)=0,\"\",'１学期'!KD7),\"\")),\"\")","v":""},{"$f":"IF(LEN(O571)=0,\"\",IF(COUNTIF(O571:$O$1921,O571+1)>0,\"\",O571+1))","v":""},{"$f":"IFERROR(SMALL($P$1:$P$1921,570),\"\")","v":""}]
[null,null,null,null,null,null,null,null,null,null,null,null,null,null,{"$f":"IF(572<=$B$10,IF(LEN('１学期'!KA10)=0,\"\",IF('１学期'!KA10=$B$8,IF(LEN('１学期'!KD10)=0,\"\",'１学期'!KD10),\"\")),\"\")","v":""},{"$f":"IF(LEN(O572)=0,\"\",IF(COUNTIF(O572:$O$1921,O572+1)>0,\"\",O572+1))","v":""},{"$f":"IFERROR(SMALL($P$1:$P$1921,571),\"\")","v":""}]
[null,null,null,null,null,null,null,null,null,null,null,null,null,null,{"$f":"IF(573<=$B$10,IF(LEN('１学期'!KA13)=0,\"\",IF('１学期'!KA13=$B$8,IF(LEN('１学期'!KD13)=0,\"\",'１学期'!KD13),\"\")),\"\")","v":""},{"$f":"IF(LEN(O573)=0,\"\",IF(COUNTIF(O573:$O$1921,O573+1)>0,\"\",O573+1))","v":""},{"$f":"IFERROR(SMALL($P$1:$P$1921,572),\"\")","v":""}]
[null,null,null,null,null,null,null,null,null,null,null,null,null,null,{"$f":"IF(574<=$B$10,IF(LEN('１学期'!KA16)=0,\"\",IF('１学期'!KA16=$B$8,IF(LEN('１学期'!KD16)=0,\"\",'１学期'!KD16),\"\")),\"\")","v":""},{"$f":"IF(LEN(O574)=0,\"\",IF(COUNTIF(O574:$O$1921,O574+1)>0,\"\",O574+1))","v":""},{"$f":"IFERROR(SMALL($P$1:$P$1921,573),\"\")","v":""}]
[null,null,null,null,null,null,null,null,null,null,null,null,null,null,{"$f":"IF(575<=$B$10,IF(LEN('１学期'!KA19)=0,\"\",IF('１学期'!KA19=$B$8,IF(LEN('１学期'!KD19)=0,\"\",'１学期'!KD19),\"\")),\"\")","v":""},{"$f":"IF(LEN(O575)=0,\"\",IF(COUNTIF(O575:$O$1921,O575+1)>0,\"\",O575+1))","v":""},{"$f":"IFERROR(SMALL($P$1:$P$1921,574),\"\")","v":""}]
[null,null,null,null,null,null,null,null,null,null,null,null,null,null,{"$f":"IF(576<=$B$10,IF(LEN('１学期'!KA22)=0,\"\",IF('１学期'!KA22=$B$8,IF(LEN('１学期'!KD22)=0,\"\",'１学期'!KD22),\"\")),\"\")","v":""},{"$f":"IF(LEN(O576)=0,\"\",IF(COUNTIF(O576:$O$1921,O576+1)>0,\"\",O576+1))","v":""},{"$f":"IFERROR(SMALL($P$1:$P$1921,575),\"\")","v":""}]
[null,null,null,null,null,null,null,null,null,null,null,null,null,null,{"$f":"IF(577<=$B$10,IF(LEN('１学期'!KA25)=0,\"\",IF('１学期'!KA25=$B$8,IF(LEN('１学期'!KD25)=0,\"\",'１学期'!KD25),\"\")),\"\")","v":""},{"$f":"IF(LEN(O577)=0,\"\",IF(COUNTIF(O577:$O$1921,O577+1)>0,\"\",O577+1))","v":""},{"$f":"IFERROR(SMALL($P$1:$P$1921,576),\"\")","v":""}]
[null,null,null,null,null,null,null,null,null,null,null,null,null,null,{"$f":"IF(578<=$B$10,IF(LEN('１学期'!KE6)=0,\"\",IF('１学期'!KE6=$B$8,IF(LEN('１学期'!KH6)=0,\"\",'１学期'!KH6),\"\")),\"\")","v":""},{"$f":"IF(LEN(O578)=0,\"\",IF(COUNTIF(O578:$O$1921,O578+1)>0,\"\",O578+1))","v":""},{"$f":"IFERROR(SMALL($P$1:$P$1921,577),\"\")","v":""}]
[null,null,null,null,null,null,null,null,null,null,null,null,null,null,{"$f":"IF(579<=$B$10,IF(LEN('１学期'!KE7)=0,\"\",IF('１学期'!KE7=$B$8,IF(LEN('１学期'!KH7)=0,\"\",'１学期'!KH7),\"\")),\"\")","v":""},{"$f":"IF(LEN(O579)=0,\"\",IF(COUNTIF(O579:$O$1921,O579+1)>0,\"\",O579+1))","v":""},{"$f":"IFERROR(SMALL($P$1:$P$1921,578),\"\")","v":""}]
[null,null,null,null,null,null,null,null,null,null,null,null,null,null,{"$f":"IF(580<=$B$10,IF(LEN('１学期'!KE10)=0,\"\",IF('１学期'!KE10=$B$8,IF(LEN('１学期'!KH10)=0,\"\",'１学期'!KH10),\"\")),\"\")","v":""},{"$f":"IF(LEN(O580)=0,\"\",IF(COUNTIF(O580:$O$1921,O580+1)>0,\"\",O580+1))","v":""},{"$f":"IFERROR(SMALL($P$1:$P$1921,579),\"\")","v":""}]
[null,null,null,null,null,null,null,null,null,null,null,null,null,null,{"$f":"IF(581<=$B$10,IF(LEN('１学期'!KE13)=0,\"\",IF('１学期'!KE13=$B$8,IF(LEN('１学期'!KH13)=0,\"\",'１学期'!KH13),\"\")),\"\")","v":""},{"$f":"IF(LEN(O581)=0,\"\",IF(COUNTIF(O581:$O$1921,O581+1)>0,\"\",O581+1))","v":""},{"$f":"IFERROR(SMALL($P$1:$P$1921,580),\"\")","v":""}]
[null,null,null,null,null,null,null,null,null,null,null,null,null,null,{"$f":"IF(582<=$B$10,IF(LEN('１学期'!KE16)=0,\"\",IF('１学期'!KE16=$B$8,IF(LEN('１学期'!KH16)=0,\"\",'１学期'!KH16),\"\")),\"\")","v":""},{"$f":"IF(LEN(O582)=0,\"\",IF(COUNTIF(O582:$O$1921,O582+1)>0,\"\",O582+1))","v":""},{"$f":"IFERROR(SMALL($P$1:$P$1921,581),\"\")","v":""}]
[null,null,null,null,null,null,null,null,null,null,null,null,null,null,{"$f":"IF(583<=$B$10,IF(LEN('１学期'!KE19)=0,\"\",IF('１学期'!KE19=$B$8,IF(LEN('１学期'!KH19)=0,\"\",'１学期'!KH19),\"\")),\"\")","v":""},{"$f":"IF(LEN(O583)=0,\"\",IF(COUNTIF(O583:$O$1921,O583+1)>0,\"\",O583+1))","v":""},{"$f":"IFERROR(SMALL($P$1:$P$1921,582),\"\")","v":""}]
[null,null,null,null,null,null,null,null,null,null,null,null,null,null,{"$f":"IF(584<=$B$10,IF(LEN('１学期'!KE22)=0,\"\",IF('１学期'!KE22=$B$8,IF(LEN('１学期'!KH22)=0,\"\",'１学期'!KH22),\"\")),\"\")","v":""},{"$f":"IF(LEN(O584)=0,\"\",IF(COUNTIF(O584:$O$1921,O584+1)>0,\"\",O584+1))","v":""},{"$f":"IFERROR(SMALL($P$1:$P$1921,583),\"\")","v":""}]
[null,null,null,null,null,null,null,null,null,null,null,null,null,null,{"$f":"IF(585<=$B$10,IF(LEN('１学期'!KE25)=0,\"\",IF('１学期'!KE25=$B$8,IF(LEN('１学期'!KH25)=0,\"\",'１学期'!KH25),\"\")),\"\")","v":""},{"$f":"IF(LEN(O585)=0,\"\",IF(COUNTIF(O585:$O$1921,O585+1)>0,\"\",O585+1))","v":""},{"$f":"IFERROR(SMALL($P$1:$P$1921,584),\"\")","v":""}]
[null,null,null,null,null,null,null,null,null,null,null,null,null,null,{"$f":"IF(586<=$B$10,IF(LEN('１学期'!KI6)=0,\"\",IF('１学期'!KI6=$B$8,IF(LEN('１学期'!KL6)=0,\"\",'１学期'!KL6),\"\")),\"\")","v":""},{"$f":"IF(LEN(O586)=0,\"\",IF(COUNTIF(O586:$O$1921,O586+1)>0,\"\",O586+1))","v":""},{"$f":"IFERROR(SMALL($P$1:$P$1921,585),\"\")","v":""}]
[null,null,null,null,null,null,null,null,null,null,null,null,null,null,{"$f":"IF(587<=$B$10,IF(LEN('１学期'!KI7)=0,\"\",IF('１学期'!KI7=$B$8,IF(LEN('１学期'!KL7)=0,\"\",'１学期'!KL7),\"\")),\"\")","v":""},{"$f":"IF(LEN(O587)=0,\"\",IF(COUNTIF(O587:$O$1921,O587+1)>0,\"\",O587+1))","v":""},{"$f":"IFERROR(SMALL($P$1:$P$1921,586),\"\")","v":""}]
[null,null,null,null,null,null,null,null,null,null,null,null,null,null,{"$f":"IF(588<=$B$10,IF(LEN('１学期'!KI10)=0,\"\",IF('１学期'!KI10=$B$8,IF(LEN('１学期'!KL10)=0,\"\",'１学期'!KL10),\"\")),\"\")","v":""},{"$f":"IF(LEN(O588)=0,\"\",IF(COUNTIF(O588:$O$1921,O588+1)>0,\"\",O588+1))","v":""},{"$f":"IFERROR(SMALL($P$1:$P$1921,587),\"\")","v":""}]
[null,null,null,null,null,null,null,null,null,null,null,null,null,null,{"$f":"IF(589<=$B$10,IF(LEN('１学期'!KI13)=0,\"\",IF('１学期'!KI13=$B$8,IF(LEN('１学期'!KL13)=0,\"\",'１学期'!KL13),\"\")),\"\")","v":""},{"$f":"IF(LEN(O589)=0,\"\",IF(COUNTIF(O589:$O$1921,O589+1)>0,\"\",O589+1))","v":""},{"$f":"IFERROR(SMALL($P$1:$P$1921,588),\"\")","v":""}]
[null,null,null,null,null,null,null,null,null,null,null,null,null,null,{"$f":"IF(590<=$B$10,IF(LEN('１学期'!KI16)=0,\"\",IF('１学期'!KI16=$B$8,IF(LEN('１学期'!KL16)=0,\"\",'１学期'!KL16),\"\")),\"\")","v":""},{"$f":"IF(LEN(O590)=0,\"\",IF(COUNTIF(O590:$O$1921,O590+1)>0,\"\",O590+1))","v":""},{"$f":"IFERROR(SMALL($P$1:$P$1921,589),\"\")","v":""}]
[null,null,null,null,null,null,null,null,null,null,null,null,null,null,{"$f":"IF(591<=$B$10,IF(LEN('１学期'!KI19)=0,\"\",IF('１学期'!KI19=$B$8,IF(LEN('１学期'!KL19)=0,\"\",'１学期'!KL19),\"\")),\"\")","v":""},{"$f":"IF(LEN(O591)=0,\"\",IF(COUNTIF(O591:$O$1921,O591+1)>0,\"\",O591+1))","v":""},{"$f":"IFERROR(SMALL($P$1:$P$1921,590),\"\")","v":""}]
[null,null,null,null,null,null,null,null,null,null,null,null,null,null,{"$f":"IF(592<=$B$10,IF(LEN('１学期'!KI22)=0,\"\",IF('１学期'!KI22=$B$8,IF(LEN('１学期'!KL22)=0,\"\",'１学期'!KL22),\"\")),\"\")","v":""},{"$f":"IF(LEN(O592)=0,\"\",IF(COUNTIF(O592:$O$1921,O592+1)>0,\"\",O592+1))","v":""},{"$f":"IFERROR(SMALL($P$1:$P$1921,591),\"\")","v":""}]
[null,null,null,null,null,null,null,null,null,null,null,null,null,null,{"$f":"IF(593<=$B$10,IF(LEN('１学期'!KI25)=0,\"\",IF('１学期'!KI25=$B$8,IF(LEN('１学期'!KL25)=0,\"\",'１学期'!KL25),\"\")),\"\")","v":""},{"$f":"IF(LEN(O593)=0,\"\",IF(COUNTIF(O593:$O$1921,O593+1)>0,\"\",O593+1))","v":""},{"$f":"IFERROR(SMALL($P$1:$P$1921,592),\"\")","v":""}]
[null,null,null,null,null,null,null,null,null,null,null,null,null,null,{"$f":"IF(594<=$B$10,IF(LEN('１学期'!KM6)=0,\"\",IF('１学期'!KM6=$B$8,IF(LEN('１学期'!KP6)=0,\"\",'１学期'!KP6),\"\")),\"\")","v":""},{"$f":"IF(LEN(O594)=0,\"\",IF(COUNTIF(O594:$O$1921,O594+1)>0,\"\",O594+1))","v":""},{"$f":"IFERROR(SMALL($P$1:$P$1921,593),\"\")","v":""}]
[null,null,null,null,null,null,null,null,null,null,null,null,null,null,{"$f":"IF(595<=$B$10,IF(LEN('１学期'!KM7)=0,\"\",IF('１学期'!KM7=$B$8,IF(LEN('１学期'!KP7)=0,\"\",'１学期'!KP7),\"\")),\"\")","v":""},{"$f":"IF(LEN(O595)=0,\"\",IF(COUNTIF(O595:$O$1921,O595+1)>0,\"\",O595+1))","v":""},{"$f":"IFERROR(SMALL($P$1:$P$1921,594),\"\")","v":""}]
[null,null,null,null,null,null,null,null,null,null,null,null,null,null,{"$f":"IF(596<=$B$10,IF(LEN('１学期'!KM10)=0,\"\",IF('１学期'!KM10=$B$8,IF(LEN('１学期'!KP10)=0,\"\",'１学期'!KP10),\"\")),\"\")","v":""},{"$f":"IF(LEN(O596)=0,\"\",IF(COUNTIF(O596:$O$1921,O596+1)>0,\"\",O596+1))","v":""},{"$f":"IFERROR(SMALL($P$1:$P$1921,595),\"\")","v":""}]
[null,null,null,null,null,null,null,null,null,null,null,null,null,null,{"$f":"IF(597<=$B$10,IF(LEN('１学期'!KM13)=0,\"\",IF('１学期'!KM13=$B$8,IF(LEN('１学期'!KP13)=0,\"\",'１学期'!KP13),\"\")),\"\")","v":""},{"$f":"IF(LEN(O597)=0,\"\",IF(COUNTIF(O597:$O$1921,O597+1)>0,\"\",O597+1))","v":""},{"$f":"IFERROR(SMALL($P$1:$P$1921,596),\"\")","v":""}]
[null,null,null,null,null,null,null,null,null,null,null,null,null,null,{"$f":"IF(598<=$B$10,IF(LEN('１学期'!KM16)=0,\"\",IF('１学期'!KM16=$B$8,IF(LEN('１学期'!KP16)=0,\"\",'１学期'!KP16),\"\")),\"\")","v":""},{"$f":"IF(LEN(O598)=0,\"\",IF(COUNTIF(O598:$O$1921,O598+1)>0,\"\",O598+1))","v":""},{"$f":"IFERROR(SMALL($P$1:$P$1921,597),\"\")","v":""}]
[null,null,null,null,null,null,null,null,null,null,null,null,null,null,{"$f":"IF(599<=$B$10,IF(LEN('１学期'!KM19)=0,\"\",IF('１学期'!KM19=$B$8,IF(LEN('１学期'!KP19)=0,\"\",'１学期'!KP19),\"\")),\"\")","v":""},{"$f":"IF(LEN(O599)=0,\"\",IF(COUNTIF(O599:$O$1921,O599+1)>0,\"\",O599+1))","v":""},{"$f":"IFERROR(SMALL($P$1:$P$1921,598),\"\")","v":""}]
[null,null,null,null,null,null,null,null,null,null,null,null,null,null,{"$f":"IF(600<=$B$10,IF(LEN('１学期'!KM22)=0,\"\",IF('１学期'!KM22=$B$8,IF(LEN('１学期'!KP22)=0,\"\",'１学期'!KP22),\"\")),\"\")","v":""},{"$f":"IF(LEN(O600)=0,\"\",IF(COUNTIF(O600:$O$1921,O600+1)>0,\"\",O600+1))","v":""},{"$f":"IFERROR(SMALL($P$1:$P$1921,599),\"\")","v":""}]
[null,null,null,null,null,null,null,null,null,null,null,null,null,null,{"$f":"IF(601<=$B$10,IF(LEN('１学期'!KM25)=0,\"\",IF('１学期'!KM25=$B$8,IF(LEN('１学期'!KP25)=0,\"\",'１学期'!KP25),\"\")),\"\")","v":""},{"$f":"IF(LEN(O601)=0,\"\",IF(COUNTIF(O601:$O$1921,O601+1)>0,\"\",O601+1))","v":""},{"$f":"IFERROR(SMALL($P$1:$P$1921,600),\"\")","v":""}]
[null,null,null,null,null,null,null,null,null,null,null,null,null,null,{"$f":"IF(602<=$B$10,IF(LEN('１学期'!KQ6)=0,\"\",IF('１学期'!KQ6=$B$8,IF(LEN('１学期'!KT6)=0,\"\",'１学期'!KT6),\"\")),\"\")","v":""},{"$f":"IF(LEN(O602)=0,\"\",IF(COUNTIF(O602:$O$1921,O602+1)>0,\"\",O602+1))","v":""},{"$f":"IFERROR(SMALL($P$1:$P$1921,601),\"\")","v":""}]
[null,null,null,null,null,null,null,null,null,null,null,null,null,null,{"$f":"IF(603<=$B$10,IF(LEN('１学期'!KQ7)=0,\"\",IF('１学期'!KQ7=$B$8,IF(LEN('１学期'!KT7)=0,\"\",'１学期'!KT7),\"\")),\"\")","v":""},{"$f":"IF(LEN(O603)=0,\"\",IF(COUNTIF(O603:$O$1921,O603+1)>0,\"\",O603+1))","v":""},{"$f":"IFERROR(SMALL($P$1:$P$1921,602),\"\")","v":""}]
[null,null,null,null,null,null,null,null,null,null,null,null,null,null,{"$f":"IF(604<=$B$10,IF(LEN('１学期'!KQ10)=0,\"\",IF('１学期'!KQ10=$B$8,IF(LEN('１学期'!KT10)=0,\"\",'１学期'!KT10),\"\")),\"\")","v":""},{"$f":"IF(LEN(O604)=0,\"\",IF(COUNTIF(O604:$O$1921,O604+1)>0,\"\",O604+1))","v":""},{"$f":"IFERROR(SMALL($P$1:$P$1921,603),\"\")","v":""}]
[null,null,null,null,null,null,null,null,null,null,null,null,null,null,{"$f":"IF(605<=$B$10,IF(LEN('１学期'!KQ13)=0,\"\",IF('１学期'!KQ13=$B$8,IF(LEN('１学期'!KT13)=0,\"\",'１学期'!KT13),\"\")),\"\")","v":""},{"$f":"IF(LEN(O605)=0,\"\",IF(COUNTIF(O605:$O$1921,O605+1)>0,\"\",O605+1))","v":""},{"$f":"IFERROR(SMALL($P$1:$P$1921,604),\"\")","v":""}]
[null,null,null,null,null,null,null,null,null,null,null,null,null,null,{"$f":"IF(606<=$B$10,IF(LEN('１学期'!KQ16)=0,\"\",IF('１学期'!KQ16=$B$8,IF(LEN('１学期'!KT16)=0,\"\",'１学期'!KT16),\"\")),\"\")","v":""},{"$f":"IF(LEN(O606)=0,\"\",IF(COUNTIF(O606:$O$1921,O606+1)>0,\"\",O606+1))","v":""},{"$f":"IFERROR(SMALL($P$1:$P$1921,605),\"\")","v":""}]
[null,null,null,null,null,null,null,null,null,null,null,null,null,null,{"$f":"IF(607<=$B$10,IF(LEN('１学期'!KQ19)=0,\"\",IF('１学期'!KQ19=$B$8,IF(LEN('１学期'!KT19)=0,\"\",'１学期'!KT19),\"\")),\"\")","v":""},{"$f":"IF(LEN(O607)=0,\"\",IF(COUNTIF(O607:$O$1921,O607+1)>0,\"\",O607+1))","v":""},{"$f":"IFERROR(SMALL($P$1:$P$1921,606),\"\")","v":""}]
[null,null,null,null,null,null,null,null,null,null,null,null,null,null,{"$f":"IF(608<=$B$10,IF(LEN('１学期'!KQ22)=0,\"\",IF('１学期'!KQ22=$B$8,IF(LEN('１学期'!KT22)=0,\"\",'１学期'!KT22),\"\")),\"\")","v":""},{"$f":"IF(LEN(O608)=0,\"\",IF(COUNTIF(O608:$O$1921,O608+1)>0,\"\",O608+1))","v":""},{"$f":"IFERROR(SMALL($P$1:$P$1921,607),\"\")","v":""}]
[null,null,null,null,null,null,null,null,null,null,null,null,null,null,{"$f":"IF(609<=$B$10,IF(LEN('１学期'!KQ25)=0,\"\",IF('１学期'!KQ25=$B$8,IF(LEN('１学期'!KT25)=0,\"\",'１学期'!KT25),\"\")),\"\")","v":""},{"$f":"IF(LEN(O609)=0,\"\",IF(COUNTIF(O609:$O$1921,O609+1)>0,\"\",O609+1))","v":""},{"$f":"IFERROR(SMALL($P$1:$P$1921,608),\"\")","v":""}]
[null,null,null,null,null,null,null,null,null,null,null,null,null,null,{"$f":"IF(610<=$B$10,IF(LEN('１学期'!KU6)=0,\"\",IF('１学期'!KU6=$B$8,IF(LEN('１学期'!KX6)=0,\"\",'１学期'!KX6),\"\")),\"\")","v":""},{"$f":"IF(LEN(O610)=0,\"\",IF(COUNTIF(O610:$O$1921,O610+1)>0,\"\",O610+1))","v":""},{"$f":"IFERROR(SMALL($P$1:$P$1921,609),\"\")","v":""}]
[null,null,null,null,null,null,null,null,null,null,null,null,null,null,{"$f":"IF(611<=$B$10,IF(LEN('１学期'!KU7)=0,\"\",IF('１学期'!KU7=$B$8,IF(LEN('１学期'!KX7)=0,\"\",'１学期'!KX7),\"\")),\"\")","v":""},{"$f":"IF(LEN(O611)=0,\"\",IF(COUNTIF(O611:$O$1921,O611+1)>0,\"\",O611+1))","v":""},{"$f":"IFERROR(SMALL($P$1:$P$1921,610),\"\")","v":""}]
[null,null,null,null,null,null,null,null,null,null,null,null,null,null,{"$f":"IF(612<=$B$10,IF(LEN('１学期'!KU10)=0,\"\",IF('１学期'!KU10=$B$8,IF(LEN('１学期'!KX10)=0,\"\",'１学期'!KX10),\"\")),\"\")","v":""},{"$f":"IF(LEN(O612)=0,\"\",IF(COUNTIF(O612:$O$1921,O612+1)>0,\"\",O612+1))","v":""},{"$f":"IFERROR(SMALL($P$1:$P$1921,611),\"\")","v":""}]
[null,null,null,null,null,null,null,null,null,null,null,null,null,null,{"$f":"IF(613<=$B$10,IF(LEN('１学期'!KU13)=0,\"\",IF('１学期'!KU13=$B$8,IF(LEN('１学期'!KX13)=0,\"\",'１学期'!KX13),\"\")),\"\")","v":""},{"$f":"IF(LEN(O613)=0,\"\",IF(COUNTIF(O613:$O$1921,O613+1)>0,\"\",O613+1))","v":""},{"$f":"IFERROR(SMALL($P$1:$P$1921,612),\"\")","v":""}]
[null,null,null,null,null,null,null,null,null,null,null,null,null,null,{"$f":"IF(614<=$B$10,IF(LEN('１学期'!KU16)=0,\"\",IF('１学期'!KU16=$B$8,IF(LEN('１学期'!KX16)=0,\"\",'１学期'!KX16),\"\")),\"\")","v":""},{"$f":"IF(LEN(O614)=0,\"\",IF(COUNTIF(O614:$O$1921,O614+1)>0,\"\",O614+1))","v":""},{"$f":"IFERROR(SMALL($P$1:$P$1921,613),\"\")","v":""}]
[null,null,null,null,null,null,null,null,null,null,null,null,null,null,{"$f":"IF(615<=$B$10,IF(LEN('１学期'!KU19)=0,\"\",IF('１学期'!KU19=$B$8,IF(LEN('１学期'!KX19)=0,\"\",'１学期'!KX19),\"\")),\"\")","v":""},{"$f":"IF(LEN(O615)=0,\"\",IF(COUNTIF(O615:$O$1921,O615+1)>0,\"\",O615+1))","v":""},{"$f":"IFERROR(SMALL($P$1:$P$1921,614),\"\")","v":""}]
[null,null,null,null,null,null,null,null,null,null,null,null,null,null,{"$f":"IF(616<=$B$10,IF(LEN('１学期'!KU22)=0,\"\",IF('１学期'!KU22=$B$8,IF(LEN('１学期'!KX22)=0,\"\",'１学期'!KX22),\"\")),\"\")","v":""},{"$f":"IF(LEN(O616)=0,\"\",IF(COUNTIF(O616:$O$1921,O616+1)>0,\"\",O616+1))","v":""},{"$f":"IFERROR(SMALL($P$1:$P$1921,615),\"\")","v":""}]
[null,null,null,null,null,null,null,null,null,null,null,null,null,null,{"$f":"IF(617<=$B$10,IF(LEN('１学期'!KU25)=0,\"\",IF('１学期'!KU25=$B$8,IF(LEN('１学期'!KX25)=0,\"\",'１学期'!KX25),\"\")),\"\")","v":""},{"$f":"IF(LEN(O617)=0,\"\",IF(COUNTIF(O617:$O$1921,O617+1)>0,\"\",O617+1))","v":""},{"$f":"IFERROR(SMALL($P$1:$P$1921,616),\"\")","v":""}]
[null,null,null,null,null,null,null,null,null,null,null,null,null,null,{"$f":"IF(618<=$B$10,IF(LEN('１学期'!KY6)=0,\"\",IF('１学期'!KY6=$B$8,IF(LEN('１学期'!LB6)=0,\"\",'１学期'!LB6),\"\")),\"\")","v":""},{"$f":"IF(LEN(O618)=0,\"\",IF(COUNTIF(O618:$O$1921,O618+1)>0,\"\",O618+1))","v":""},{"$f":"IFERROR(SMALL($P$1:$P$1921,617),\"\")","v":""}]
[null,null,null,null,null,null,null,null,null,null,null,null,null,null,{"$f":"IF(619<=$B$10,IF(LEN('１学期'!KY7)=0,\"\",IF('１学期'!KY7=$B$8,IF(LEN('１学期'!LB7)=0,\"\",'１学期'!LB7),\"\")),\"\")","v":""},{"$f":"IF(LEN(O619)=0,\"\",IF(COUNTIF(O619:$O$1921,O619+1)>0,\"\",O619+1))","v":""},{"$f":"IFERROR(SMALL($P$1:$P$1921,618),\"\")","v":""}]
[null,null,null,null,null,null,null,null,null,null,null,null,null,null,{"$f":"IF(620<=$B$10,IF(LEN('１学期'!KY10)=0,\"\",IF('１学期'!KY10=$B$8,IF(LEN('１学期'!LB10)=0,\"\",'１学期'!LB10),\"\")),\"\")","v":""},{"$f":"IF(LEN(O620)=0,\"\",IF(COUNTIF(O620:$O$1921,O620+1)>0,\"\",O620+1))","v":""},{"$f":"IFERROR(SMALL($P$1:$P$1921,619),\"\")","v":""}]
[null,null,null,null,null,null,null,null,null,null,null,null,null,null,{"$f":"IF(621<=$B$10,IF(LEN('１学期'!KY13)=0,\"\",IF('１学期'!KY13=$B$8,IF(LEN('１学期'!LB13)=0,\"\",'１学期'!LB13),\"\")),\"\")","v":""},{"$f":"IF(LEN(O621)=0,\"\",IF(COUNTIF(O621:$O$1921,O621+1)>0,\"\",O621+1))","v":""},{"$f":"IFERROR(SMALL($P$1:$P$1921,620),\"\")","v":""}]
[null,null,null,null,null,null,null,null,null,null,null,null,null,null,{"$f":"IF(622<=$B$10,IF(LEN('１学期'!KY16)=0,\"\",IF('１学期'!KY16=$B$8,IF(LEN('１学期'!LB16)=0,\"\",'１学期'!LB16),\"\")),\"\")","v":""},{"$f":"IF(LEN(O622)=0,\"\",IF(COUNTIF(O622:$O$1921,O622+1)>0,\"\",O622+1))","v":""},{"$f":"IFERROR(SMALL($P$1:$P$1921,621),\"\")","v":""}]
[null,null,null,null,null,null,null,null,null,null,null,null,null,null,{"$f":"IF(623<=$B$10,IF(LEN('１学期'!KY19)=0,\"\",IF('１学期'!KY19=$B$8,IF(LEN('１学期'!LB19)=0,\"\",'１学期'!LB19),\"\")),\"\")","v":""},{"$f":"IF(LEN(O623)=0,\"\",IF(COUNTIF(O623:$O$1921,O623+1)>0,\"\",O623+1))","v":""},{"$f":"IFERROR(SMALL($P$1:$P$1921,622),\"\")","v":""}]
[null,null,null,null,null,null,null,null,null,null,null,null,null,null,{"$f":"IF(624<=$B$10,IF(LEN('１学期'!KY22)=0,\"\",IF('１学期'!KY22=$B$8,IF(LEN('１学期'!LB22)=0,\"\",'１学期'!LB22),\"\")),\"\")","v":""},{"$f":"IF(LEN(O624)=0,\"\",IF(COUNTIF(O624:$O$1921,O624+1)>0,\"\",O624+1))","v":""},{"$f":"IFERROR(SMALL($P$1:$P$1921,623),\"\")","v":""}]
[null,null,null,null,null,null,null,null,null,null,null,null,null,null,{"$f":"IF(625<=$B$10,IF(LEN('１学期'!KY25)=0,\"\",IF('１学期'!KY25=$B$8,IF(LEN('１学期'!LB25)=0,\"\",'１学期'!LB25),\"\")),\"\")","v":""},{"$f":"IF(LEN(O625)=0,\"\",IF(COUNTIF(O625:$O$1921,O625+1)>0,\"\",O625+1))","v":""},{"$f":"IFERROR(SMALL($P$1:$P$1921,624),\"\")","v":""}]
[null,null,null,null,null,null,null,null,null,null,null,null,null,null,{"$f":"IF(626<=$B$10,IF(LEN('１学期'!LC6)=0,\"\",IF('１学期'!LC6=$B$8,IF(LEN('１学期'!LF6)=0,\"\",'１学期'!LF6),\"\")),\"\")","v":""},{"$f":"IF(LEN(O626)=0,\"\",IF(COUNTIF(O626:$O$1921,O626+1)>0,\"\",O626+1))","v":""},{"$f":"IFERROR(SMALL($P$1:$P$1921,625),\"\")","v":""}]
[null,null,null,null,null,null,null,null,null,null,null,null,null,null,{"$f":"IF(627<=$B$10,IF(LEN('１学期'!LC7)=0,\"\",IF('１学期'!LC7=$B$8,IF(LEN('１学期'!LF7)=0,\"\",'１学期'!LF7),\"\")),\"\")","v":""},{"$f":"IF(LEN(O627)=0,\"\",IF(COUNTIF(O627:$O$1921,O627+1)>0,\"\",O627+1))","v":""},{"$f":"IFERROR(SMALL($P$1:$P$1921,626),\"\")","v":""}]
[null,null,null,null,null,null,null,null,null,null,null,null,null,null,{"$f":"IF(628<=$B$10,IF(LEN('１学期'!LC10)=0,\"\",IF('１学期'!LC10=$B$8,IF(LEN('１学期'!LF10)=0,\"\",'１学期'!LF10),\"\")),\"\")","v":""},{"$f":"IF(LEN(O628)=0,\"\",IF(COUNTIF(O628:$O$1921,O628+1)>0,\"\",O628+1))","v":""},{"$f":"IFERROR(SMALL($P$1:$P$1921,627),\"\")","v":""}]
[null,null,null,null,null,null,null,null,null,null,null,null,null,null,{"$f":"IF(629<=$B$10,IF(LEN('１学期'!LC13)=0,\"\",IF('１学期'!LC13=$B$8,IF(LEN('１学期'!LF13)=0,\"\",'１学期'!LF13),\"\")),\"\")","v":""},{"$f":"IF(LEN(O629)=0,\"\",IF(COUNTIF(O629:$O$1921,O629+1)>0,\"\",O629+1))","v":""},{"$f":"IFERROR(SMALL($P$1:$P$1921,628),\"\")","v":""}]
[null,null,null,null,null,null,null,null,null,null,null,null,null,null,{"$f":"IF(630<=$B$10,IF(LEN('１学期'!LC16)=0,\"\",IF('１学期'!LC16=$B$8,IF(LEN('１学期'!LF16)=0,\"\",'１学期'!LF16),\"\")),\"\")","v":""},{"$f":"IF(LEN(O630)=0,\"\",IF(COUNTIF(O630:$O$1921,O630+1)>0,\"\",O630+1))","v":""},{"$f":"IFERROR(SMALL($P$1:$P$1921,629),\"\")","v":""}]
[null,null,null,null,null,null,null,null,null,null,null,null,null,null,{"$f":"IF(631<=$B$10,IF(LEN('１学期'!LC19)=0,\"\",IF('１学期'!LC19=$B$8,IF(LEN('１学期'!LF19)=0,\"\",'１学期'!LF19),\"\")),\"\")","v":""},{"$f":"IF(LEN(O631)=0,\"\",IF(COUNTIF(O631:$O$1921,O631+1)>0,\"\",O631+1))","v":""},{"$f":"IFERROR(SMALL($P$1:$P$1921,630),\"\")","v":""}]
[null,null,null,null,null,null,null,null,null,null,null,null,null,null,{"$f":"IF(632<=$B$10,IF(LEN('１学期'!LC22)=0,\"\",IF('１学期'!LC22=$B$8,IF(LEN('１学期'!LF22)=0,\"\",'１学期'!LF22),\"\")),\"\")","v":""},{"$f":"IF(LEN(O632)=0,\"\",IF(COUNTIF(O632:$O$1921,O632+1)>0,\"\",O632+1))","v":""},{"$f":"IFERROR(SMALL($P$1:$P$1921,631),\"\")","v":""}]
[null,null,null,null,null,null,null,null,null,null,null,null,null,null,{"$f":"IF(633<=$B$10,IF(LEN('１学期'!LC25)=0,\"\",IF('１学期'!LC25=$B$8,IF(LEN('１学期'!LF25)=0,\"\",'１学期'!LF25),\"\")),\"\")","v":""},{"$f":"IF(LEN(O633)=0,\"\",IF(COUNTIF(O633:$O$1921,O633+1)>0,\"\",O633+1))","v":""},{"$f":"IFERROR(SMALL($P$1:$P$1921,632),\"\")","v":""}]
[null,null,null,null,null,null,null,null,null,null,null,null,null,null,{"$f":"IF(634<=$B$10,IF(LEN('１学期'!LG6)=0,\"\",IF('１学期'!LG6=$B$8,IF(LEN('１学期'!LJ6)=0,\"\",'１学期'!LJ6),\"\")),\"\")","v":""},{"$f":"IF(LEN(O634)=0,\"\",IF(COUNTIF(O634:$O$1921,O634+1)>0,\"\",O634+1))","v":""},{"$f":"IFERROR(SMALL($P$1:$P$1921,633),\"\")","v":""}]
[null,null,null,null,null,null,null,null,null,null,null,null,null,null,{"$f":"IF(635<=$B$10,IF(LEN('１学期'!LG7)=0,\"\",IF('１学期'!LG7=$B$8,IF(LEN('１学期'!LJ7)=0,\"\",'１学期'!LJ7),\"\")),\"\")","v":""},{"$f":"IF(LEN(O635)=0,\"\",IF(COUNTIF(O635:$O$1921,O635+1)>0,\"\",O635+1))","v":""},{"$f":"IFERROR(SMALL($P$1:$P$1921,634),\"\")","v":""}]
[null,null,null,null,null,null,null,null,null,null,null,null,null,null,{"$f":"IF(636<=$B$10,IF(LEN('１学期'!LG10)=0,\"\",IF('１学期'!LG10=$B$8,IF(LEN('１学期'!LJ10)=0,\"\",'１学期'!LJ10),\"\")),\"\")","v":""},{"$f":"IF(LEN(O636)=0,\"\",IF(COUNTIF(O636:$O$1921,O636+1)>0,\"\",O636+1))","v":""},{"$f":"IFERROR(SMALL($P$1:$P$1921,635),\"\")","v":""}]
[null,null,null,null,null,null,null,null,null,null,null,null,null,null,{"$f":"IF(637<=$B$10,IF(LEN('１学期'!LG13)=0,\"\",IF('１学期'!LG13=$B$8,IF(LEN('１学期'!LJ13)=0,\"\",'１学期'!LJ13),\"\")),\"\")","v":""},{"$f":"IF(LEN(O637)=0,\"\",IF(COUNTIF(O637:$O$1921,O637+1)>0,\"\",O637+1))","v":""},{"$f":"IFERROR(SMALL($P$1:$P$1921,636),\"\")","v":""}]
[null,null,null,null,null,null,null,null,null,null,null,null,null,null,{"$f":"IF(638<=$B$10,IF(LEN('１学期'!LG16)=0,\"\",IF('１学期'!LG16=$B$8,IF(LEN('１学期'!LJ16)=0,\"\",'１学期'!LJ16),\"\")),\"\")","v":""},{"$f":"IF(LEN(O638)=0,\"\",IF(COUNTIF(O638:$O$1921,O638+1)>0,\"\",O638+1))","v":""},{"$f":"IFERROR(SMALL($P$1:$P$1921,637),\"\")","v":""}]
[null,null,null,null,null,null,null,null,null,null,null,null,null,null,{"$f":"IF(639<=$B$10,IF(LEN('１学期'!LG19)=0,\"\",IF('１学期'!LG19=$B$8,IF(LEN('１学期'!LJ19)=0,\"\",'１学期'!LJ19),\"\")),\"\")","v":""},{"$f":"IF(LEN(O639)=0,\"\",IF(COUNTIF(O639:$O$1921,O639+1)>0,\"\",O639+1))","v":""},{"$f":"IFERROR(SMALL($P$1:$P$1921,638),\"\")","v":""}]
[null,null,null,null,null,null,null,null,null,null,null,null,null,null,{"$f":"IF(640<=$B$10,IF(LEN('１学期'!LG22)=0,\"\",IF('１学期'!LG22=$B$8,IF(LEN('１学期'!LJ22)=0,\"\",'１学期'!LJ22),\"\")),\"\")","v":""},{"$f":"IF(LEN(O640)=0,\"\",IF(COUNTIF(O640:$O$1921,O640+1)>0,\"\",O640+1))","v":""},{"$f":"IFERROR(SMALL($P$1:$P$1921,639),\"\")","v":""}]
[null,null,null,null,null,null,null,null,null,null,null,null,null,null,{"$f":"IF(641<=$B$10,IF(LEN('１学期'!LG25)=0,\"\",IF('１学期'!LG25=$B$8,IF(LEN('１学期'!LJ25)=0,\"\",'１学期'!LJ25),\"\")),\"\")","v":""},{"$f":"IF(LEN(O641)=0,\"\",IF(COUNTIF(O641:$O$1921,O641+1)>0,\"\",O641+1))","v":""},{"$f":"IFERROR(SMALL($P$1:$P$1921,640),\"\")","v":""}]
[null,null,null,null,null,null,null,null,null,null,null,null,null,null,{"$f":"IF(642<=$B$10,IF(LEN('１学期'!LK6)=0,\"\",IF('１学期'!LK6=$B$8,IF(LEN('１学期'!LN6)=0,\"\",'１学期'!LN6),\"\")),\"\")","v":""},{"$f":"IF(LEN(O642)=0,\"\",IF(COUNTIF(O642:$O$1921,O642+1)>0,\"\",O642+1))","v":""},{"$f":"IFERROR(SMALL($P$1:$P$1921,641),\"\")","v":""}]
[null,null,null,null,null,null,null,null,null,null,null,null,null,null,{"$f":"IF(643<=$B$10,IF(LEN('１学期'!LK7)=0,\"\",IF('１学期'!LK7=$B$8,IF(LEN('１学期'!LN7)=0,\"\",'１学期'!LN7),\"\")),\"\")","v":""},{"$f":"IF(LEN(O643)=0,\"\",IF(COUNTIF(O643:$O$1921,O643+1)>0,\"\",O643+1))","v":""},{"$f":"IFERROR(SMALL($P$1:$P$1921,642),\"\")","v":""}]
[null,null,null,null,null,null,null,null,null,null,null,null,null,null,{"$f":"IF(644<=$B$10,IF(LEN('１学期'!LK10)=0,\"\",IF('１学期'!LK10=$B$8,IF(LEN('１学期'!LN10)=0,\"\",'１学期'!LN10),\"\")),\"\")","v":""},{"$f":"IF(LEN(O644)=0,\"\",IF(COUNTIF(O644:$O$1921,O644+1)>0,\"\",O644+1))","v":""},{"$f":"IFERROR(SMALL($P$1:$P$1921,643),\"\")","v":""}]
[null,null,null,null,null,null,null,null,null,null,null,null,null,null,{"$f":"IF(645<=$B$10,IF(LEN('１学期'!LK13)=0,\"\",IF('１学期'!LK13=$B$8,IF(LEN('１学期'!LN13)=0,\"\",'１学期'!LN13),\"\")),\"\")","v":""},{"$f":"IF(LEN(O645)=0,\"\",IF(COUNTIF(O645:$O$1921,O645+1)>0,\"\",O645+1))","v":""},{"$f":"IFERROR(SMALL($P$1:$P$1921,644),\"\")","v":""}]
[null,null,null,null,null,null,null,null,null,null,null,null,null,null,{"$f":"IF(646<=$B$10,IF(LEN('１学期'!LK16)=0,\"\",IF('１学期'!LK16=$B$8,IF(LEN('１学期'!LN16)=0,\"\",'１学期'!LN16),\"\")),\"\")","v":""},{"$f":"IF(LEN(O646)=0,\"\",IF(COUNTIF(O646:$O$1921,O646+1)>0,\"\",O646+1))","v":""},{"$f":"IFERROR(SMALL($P$1:$P$1921,645),\"\")","v":""}]
[null,null,null,null,null,null,null,null,null,null,null,null,null,null,{"$f":"IF(647<=$B$10,IF(LEN('１学期'!LK19)=0,\"\",IF('１学期'!LK19=$B$8,IF(LEN('１学期'!LN19)=0,\"\",'１学期'!LN19),\"\")),\"\")","v":""},{"$f":"IF(LEN(O647)=0,\"\",IF(COUNTIF(O647:$O$1921,O647+1)>0,\"\",O647+1))","v":""},{"$f":"IFERROR(SMALL($P$1:$P$1921,646),\"\")","v":""}]
[null,null,null,null,null,null,null,null,null,null,null,null,null,null,{"$f":"IF(648<=$B$10,IF(LEN('１学期'!LK22)=0,\"\",IF('１学期'!LK22=$B$8,IF(LEN('１学期'!LN22)=0,\"\",'１学期'!LN22),\"\")),\"\")","v":""},{"$f":"IF(LEN(O648)=0,\"\",IF(COUNTIF(O648:$O$1921,O648+1)>0,\"\",O648+1))","v":""},{"$f":"IFERROR(SMALL($P$1:$P$1921,647),\"\")","v":""}]
[null,null,null,null,null,null,null,null,null,null,null,null,null,null,{"$f":"IF(649<=$B$10,IF(LEN('１学期'!LK25)=0,\"\",IF('１学期'!LK25=$B$8,IF(LEN('１学期'!LN25)=0,\"\",'１学期'!LN25),\"\")),\"\")","v":""},{"$f":"IF(LEN(O649)=0,\"\",IF(COUNTIF(O649:$O$1921,O649+1)>0,\"\",O649+1))","v":""},{"$f":"IFERROR(SMALL($P$1:$P$1921,648),\"\")","v":""}]
[null,null,null,null,null,null,null,null,null,null,null,null,null,null,{"$f":"IF(650<=$B$10,IF(LEN('１学期'!LO6)=0,\"\",IF('１学期'!LO6=$B$8,IF(LEN('１学期'!LR6)=0,\"\",'１学期'!LR6),\"\")),\"\")","v":""},{"$f":"IF(LEN(O650)=0,\"\",IF(COUNTIF(O650:$O$1921,O650+1)>0,\"\",O650+1))","v":""},{"$f":"IFERROR(SMALL($P$1:$P$1921,649),\"\")","v":""}]
[null,null,null,null,null,null,null,null,null,null,null,null,null,null,{"$f":"IF(651<=$B$10,IF(LEN('１学期'!LO7)=0,\"\",IF('１学期'!LO7=$B$8,IF(LEN('１学期'!LR7)=0,\"\",'１学期'!LR7),\"\")),\"\")","v":""},{"$f":"IF(LEN(O651)=0,\"\",IF(COUNTIF(O651:$O$1921,O651+1)>0,\"\",O651+1))","v":""},{"$f":"IFERROR(SMALL($P$1:$P$1921,650),\"\")","v":""}]
[null,null,null,null,null,null,null,null,null,null,null,null,null,null,{"$f":"IF(652<=$B$10,IF(LEN('１学期'!LO10)=0,\"\",IF('１学期'!LO10=$B$8,IF(LEN('１学期'!LR10)=0,\"\",'１学期'!LR10),\"\")),\"\")","v":""},{"$f":"IF(LEN(O652)=0,\"\",IF(COUNTIF(O652:$O$1921,O652+1)>0,\"\",O652+1))","v":""},{"$f":"IFERROR(SMALL($P$1:$P$1921,651),\"\")","v":""}]
[null,null,null,null,null,null,null,null,null,null,null,null,null,null,{"$f":"IF(653<=$B$10,IF(LEN('１学期'!LO13)=0,\"\",IF('１学期'!LO13=$B$8,IF(LEN('１学期'!LR13)=0,\"\",'１学期'!LR13),\"\")),\"\")","v":""},{"$f":"IF(LEN(O653)=0,\"\",IF(COUNTIF(O653:$O$1921,O653+1)>0,\"\",O653+1))","v":""},{"$f":"IFERROR(SMALL($P$1:$P$1921,652),\"\")","v":""}]
[null,null,null,null,null,null,null,null,null,null,null,null,null,null,{"$f":"IF(654<=$B$10,IF(LEN('１学期'!LO16)=0,\"\",IF('１学期'!LO16=$B$8,IF(LEN('１学期'!LR16)=0,\"\",'１学期'!LR16),\"\")),\"\")","v":""},{"$f":"IF(LEN(O654)=0,\"\",IF(COUNTIF(O654:$O$1921,O654+1)>0,\"\",O654+1))","v":""},{"$f":"IFERROR(SMALL($P$1:$P$1921,653),\"\")","v":""}]
[null,null,null,null,null,null,null,null,null,null,null,null,null,null,{"$f":"IF(655<=$B$10,IF(LEN('１学期'!LO19)=0,\"\",IF('１学期'!LO19=$B$8,IF(LEN('１学期'!LR19)=0,\"\",'１学期'!LR19),\"\")),\"\")","v":""},{"$f":"IF(LEN(O655)=0,\"\",IF(COUNTIF(O655:$O$1921,O655+1)>0,\"\",O655+1))","v":""},{"$f":"IFERROR(SMALL($P$1:$P$1921,654),\"\")","v":""}]
[null,null,null,null,null,null,null,null,null,null,null,null,null,null,{"$f":"IF(656<=$B$10,IF(LEN('１学期'!LO22)=0,\"\",IF('１学期'!LO22=$B$8,IF(LEN('１学期'!LR22)=0,\"\",'１学期'!LR22),\"\")),\"\")","v":""},{"$f":"IF(LEN(O656)=0,\"\",IF(COUNTIF(O656:$O$1921,O656+1)>0,\"\",O656+1))","v":""},{"$f":"IFERROR(SMALL($P$1:$P$1921,655),\"\")","v":""}]
[null,null,null,null,null,null,null,null,null,null,null,null,null,null,{"$f":"IF(657<=$B$10,IF(LEN('１学期'!LO25)=0,\"\",IF('１学期'!LO25=$B$8,IF(LEN('１学期'!LR25)=0,\"\",'１学期'!LR25),\"\")),\"\")","v":""},{"$f":"IF(LEN(O657)=0,\"\",IF(COUNTIF(O657:$O$1921,O657+1)>0,\"\",O657+1))","v":""},{"$f":"IFERROR(SMALL($P$1:$P$1921,656),\"\")","v":""}]
[null,null,null,null,null,null,null,null,null,null,null,null,null,null,{"$f":"IF(658<=$B$10,IF(LEN('１学期'!LS6)=0,\"\",IF('１学期'!LS6=$B$8,IF(LEN('１学期'!LV6)=0,\"\",'１学期'!LV6),\"\")),\"\")","v":""},{"$f":"IF(LEN(O658)=0,\"\",IF(COUNTIF(O658:$O$1921,O658+1)>0,\"\",O658+1))","v":""},{"$f":"IFERROR(SMALL($P$1:$P$1921,657),\"\")","v":""}]
[null,null,null,null,null,null,null,null,null,null,null,null,null,null,{"$f":"IF(659<=$B$10,IF(LEN('１学期'!LS7)=0,\"\",IF('１学期'!LS7=$B$8,IF(LEN('１学期'!LV7)=0,\"\",'１学期'!LV7),\"\")),\"\")","v":""},{"$f":"IF(LEN(O659)=0,\"\",IF(COUNTIF(O659:$O$1921,O659+1)>0,\"\",O659+1))","v":""},{"$f":"IFERROR(SMALL($P$1:$P$1921,658),\"\")","v":""}]
[null,null,null,null,null,null,null,null,null,null,null,null,null,null,{"$f":"IF(660<=$B$10,IF(LEN('１学期'!LS10)=0,\"\",IF('１学期'!LS10=$B$8,IF(LEN('１学期'!LV10)=0,\"\",'１学期'!LV10),\"\")),\"\")","v":""},{"$f":"IF(LEN(O660)=0,\"\",IF(COUNTIF(O660:$O$1921,O660+1)>0,\"\",O660+1))","v":""},{"$f":"IFERROR(SMALL($P$1:$P$1921,659),\"\")","v":""}]
[null,null,null,null,null,null,null,null,null,null,null,null,null,null,{"$f":"IF(661<=$B$10,IF(LEN('１学期'!LS13)=0,\"\",IF('１学期'!LS13=$B$8,IF(LEN('１学期'!LV13)=0,\"\",'１学期'!LV13),\"\")),\"\")","v":""},{"$f":"IF(LEN(O661)=0,\"\",IF(COUNTIF(O661:$O$1921,O661+1)>0,\"\",O661+1))","v":""},{"$f":"IFERROR(SMALL($P$1:$P$1921,660),\"\")","v":""}]
[null,null,null,null,null,null,null,null,null,null,null,null,null,null,{"$f":"IF(662<=$B$10,IF(LEN('１学期'!LS16)=0,\"\",IF('１学期'!LS16=$B$8,IF(LEN('１学期'!LV16)=0,\"\",'１学期'!LV16),\"\")),\"\")","v":""},{"$f":"IF(LEN(O662)=0,\"\",IF(COUNTIF(O662:$O$1921,O662+1)>0,\"\",O662+1))","v":""},{"$f":"IFERROR(SMALL($P$1:$P$1921,661),\"\")","v":""}]
[null,null,null,null,null,null,null,null,null,null,null,null,null,null,{"$f":"IF(663<=$B$10,IF(LEN('１学期'!LS19)=0,\"\",IF('１学期'!LS19=$B$8,IF(LEN('１学期'!LV19)=0,\"\",'１学期'!LV19),\"\")),\"\")","v":""},{"$f":"IF(LEN(O663)=0,\"\",IF(COUNTIF(O663:$O$1921,O663+1)>0,\"\",O663+1))","v":""},{"$f":"IFERROR(SMALL($P$1:$P$1921,662),\"\")","v":""}]
[null,null,null,null,null,null,null,null,null,null,null,null,null,null,{"$f":"IF(664<=$B$10,IF(LEN('１学期'!LS22)=0,\"\",IF('１学期'!LS22=$B$8,IF(LEN('１学期'!LV22)=0,\"\",'１学期'!LV22),\"\")),\"\")","v":""},{"$f":"IF(LEN(O664)=0,\"\",IF(COUNTIF(O664:$O$1921,O664+1)>0,\"\",O664+1))","v":""},{"$f":"IFERROR(SMALL($P$1:$P$1921,663),\"\")","v":""}]
[null,null,null,null,null,null,null,null,null,null,null,null,null,null,{"$f":"IF(665<=$B$10,IF(LEN('１学期'!LS25)=0,\"\",IF('１学期'!LS25=$B$8,IF(LEN('１学期'!LV25)=0,\"\",'１学期'!LV25),\"\")),\"\")","v":""},{"$f":"IF(LEN(O665)=0,\"\",IF(COUNTIF(O665:$O$1921,O665+1)>0,\"\",O665+1))","v":""},{"$f":"IFERROR(SMALL($P$1:$P$1921,664),\"\")","v":""}]
[null,null,null,null,null,null,null,null,null,null,null,null,null,null,{"$f":"IF(666<=$B$10,IF(LEN('１学期'!LW6)=0,\"\",IF('１学期'!LW6=$B$8,IF(LEN('１学期'!LZ6)=0,\"\",'１学期'!LZ6),\"\")),\"\")","v":""},{"$f":"IF(LEN(O666)=0,\"\",IF(COUNTIF(O666:$O$1921,O666+1)>0,\"\",O666+1))","v":""},{"$f":"IFERROR(SMALL($P$1:$P$1921,665),\"\")","v":""}]
[null,null,null,null,null,null,null,null,null,null,null,null,null,null,{"$f":"IF(667<=$B$10,IF(LEN('１学期'!LW7)=0,\"\",IF('１学期'!LW7=$B$8,IF(LEN('１学期'!LZ7)=0,\"\",'１学期'!LZ7),\"\")),\"\")","v":""},{"$f":"IF(LEN(O667)=0,\"\",IF(COUNTIF(O667:$O$1921,O667+1)>0,\"\",O667+1))","v":""},{"$f":"IFERROR(SMALL($P$1:$P$1921,666),\"\")","v":""}]
[null,null,null,null,null,null,null,null,null,null,null,null,null,null,{"$f":"IF(668<=$B$10,IF(LEN('１学期'!LW10)=0,\"\",IF('１学期'!LW10=$B$8,IF(LEN('１学期'!LZ10)=0,\"\",'１学期'!LZ10),\"\")),\"\")","v":""},{"$f":"IF(LEN(O668)=0,\"\",IF(COUNTIF(O668:$O$1921,O668+1)>0,\"\",O668+1))","v":""},{"$f":"IFERROR(SMALL($P$1:$P$1921,667),\"\")","v":""}]
[null,null,null,null,null,null,null,null,null,null,null,null,null,null,{"$f":"IF(669<=$B$10,IF(LEN('１学期'!LW13)=0,\"\",IF('１学期'!LW13=$B$8,IF(LEN('１学期'!LZ13)=0,\"\",'１学期'!LZ13),\"\")),\"\")","v":""},{"$f":"IF(LEN(O669)=0,\"\",IF(COUNTIF(O669:$O$1921,O669+1)>0,\"\",O669+1))","v":""},{"$f":"IFERROR(SMALL($P$1:$P$1921,668),\"\")","v":""}]
[null,null,null,null,null,null,null,null,null,null,null,null,null,null,{"$f":"IF(670<=$B$10,IF(LEN('１学期'!LW16)=0,\"\",IF('１学期'!LW16=$B$8,IF(LEN('１学期'!LZ16)=0,\"\",'１学期'!LZ16),\"\")),\"\")","v":""},{"$f":"IF(LEN(O670)=0,\"\",IF(COUNTIF(O670:$O$1921,O670+1)>0,\"\",O670+1))","v":""},{"$f":"IFERROR(SMALL($P$1:$P$1921,669),\"\")","v":""}]
[null,null,null,null,null,null,null,null,null,null,null,null,null,null,{"$f":"IF(671<=$B$10,IF(LEN('１学期'!LW19)=0,\"\",IF('１学期'!LW19=$B$8,IF(LEN('１学期'!LZ19)=0,\"\",'１学期'!LZ19),\"\")),\"\")","v":""},{"$f":"IF(LEN(O671)=0,\"\",IF(COUNTIF(O671:$O$1921,O671+1)>0,\"\",O671+1))","v":""},{"$f":"IFERROR(SMALL($P$1:$P$1921,670),\"\")","v":""}]
[null,null,null,null,null,null,null,null,null,null,null,null,null,null,{"$f":"IF(672<=$B$10,IF(LEN('１学期'!LW22)=0,\"\",IF('１学期'!LW22=$B$8,IF(LEN('１学期'!LZ22)=0,\"\",'１学期'!LZ22),\"\")),\"\")","v":""},{"$f":"IF(LEN(O672)=0,\"\",IF(COUNTIF(O672:$O$1921,O672+1)>0,\"\",O672+1))","v":""},{"$f":"IFERROR(SMALL($P$1:$P$1921,671),\"\")","v":""}]
[null,null,null,null,null,null,null,null,null,null,null,null,null,null,{"$f":"IF(673<=$B$10,IF(LEN('１学期'!LW25)=0,\"\",IF('１学期'!LW25=$B$8,IF(LEN('１学期'!LZ25)=0,\"\",'１学期'!LZ25),\"\")),\"\")","v":""},{"$f":"IF(LEN(O673)=0,\"\",IF(COUNTIF(O673:$O$1921,O673+1)>0,\"\",O673+1))","v":""},{"$f":"IFERROR(SMALL($P$1:$P$1921,672),\"\")","v":""}]
[null,null,null,null,null,null,null,null,null,null,null,null,null,null,{"$f":"IF(674<=$B$10,IF(LEN('１学期'!MA6)=0,\"\",IF('１学期'!MA6=$B$8,IF(LEN('１学期'!MD6)=0,\"\",'１学期'!MD6),\"\")),\"\")","v":""},{"$f":"IF(LEN(O674)=0,\"\",IF(COUNTIF(O674:$O$1921,O674+1)>0,\"\",O674+1))","v":""},{"$f":"IFERROR(SMALL($P$1:$P$1921,673),\"\")","v":""}]
[null,null,null,null,null,null,null,null,null,null,null,null,null,null,{"$f":"IF(675<=$B$10,IF(LEN('１学期'!MA7)=0,\"\",IF('１学期'!MA7=$B$8,IF(LEN('１学期'!MD7)=0,\"\",'１学期'!MD7),\"\")),\"\")","v":""},{"$f":"IF(LEN(O675)=0,\"\",IF(COUNTIF(O675:$O$1921,O675+1)>0,\"\",O675+1))","v":""},{"$f":"IFERROR(SMALL($P$1:$P$1921,674),\"\")","v":""}]
[null,null,null,null,null,null,null,null,null,null,null,null,null,null,{"$f":"IF(676<=$B$10,IF(LEN('１学期'!MA10)=0,\"\",IF('１学期'!MA10=$B$8,IF(LEN('１学期'!MD10)=0,\"\",'１学期'!MD10),\"\")),\"\")","v":""},{"$f":"IF(LEN(O676)=0,\"\",IF(COUNTIF(O676:$O$1921,O676+1)>0,\"\",O676+1))","v":""},{"$f":"IFERROR(SMALL($P$1:$P$1921,675),\"\")","v":""}]
[null,null,null,null,null,null,null,null,null,null,null,null,null,null,{"$f":"IF(677<=$B$10,IF(LEN('１学期'!MA13)=0,\"\",IF('１学期'!MA13=$B$8,IF(LEN('１学期'!MD13)=0,\"\",'１学期'!MD13),\"\")),\"\")","v":""},{"$f":"IF(LEN(O677)=0,\"\",IF(COUNTIF(O677:$O$1921,O677+1)>0,\"\",O677+1))","v":""},{"$f":"IFERROR(SMALL($P$1:$P$1921,676),\"\")","v":""}]
[null,null,null,null,null,null,null,null,null,null,null,null,null,null,{"$f":"IF(678<=$B$10,IF(LEN('１学期'!MA16)=0,\"\",IF('１学期'!MA16=$B$8,IF(LEN('１学期'!MD16)=0,\"\",'１学期'!MD16),\"\")),\"\")","v":""},{"$f":"IF(LEN(O678)=0,\"\",IF(COUNTIF(O678:$O$1921,O678+1)>0,\"\",O678+1))","v":""},{"$f":"IFERROR(SMALL($P$1:$P$1921,677),\"\")","v":""}]
[null,null,null,null,null,null,null,null,null,null,null,null,null,null,{"$f":"IF(679<=$B$10,IF(LEN('１学期'!MA19)=0,\"\",IF('１学期'!MA19=$B$8,IF(LEN('１学期'!MD19)=0,\"\",'１学期'!MD19),\"\")),\"\")","v":""},{"$f":"IF(LEN(O679)=0,\"\",IF(COUNTIF(O679:$O$1921,O679+1)>0,\"\",O679+1))","v":""},{"$f":"IFERROR(SMALL($P$1:$P$1921,678),\"\")","v":""}]
[null,null,null,null,null,null,null,null,null,null,null,null,null,null,{"$f":"IF(680<=$B$10,IF(LEN('１学期'!MA22)=0,\"\",IF('１学期'!MA22=$B$8,IF(LEN('１学期'!MD22)=0,\"\",'１学期'!MD22),\"\")),\"\")","v":""},{"$f":"IF(LEN(O680)=0,\"\",IF(COUNTIF(O680:$O$1921,O680+1)>0,\"\",O680+1))","v":""},{"$f":"IFERROR(SMALL($P$1:$P$1921,679),\"\")","v":""}]
[null,null,null,null,null,null,null,null,null,null,null,null,null,null,{"$f":"IF(681<=$B$10,IF(LEN('１学期'!MA25)=0,\"\",IF('１学期'!MA25=$B$8,IF(LEN('１学期'!MD25)=0,\"\",'１学期'!MD25),\"\")),\"\")","v":""},{"$f":"IF(LEN(O681)=0,\"\",IF(COUNTIF(O681:$O$1921,O681+1)>0,\"\",O681+1))","v":""},{"$f":"IFERROR(SMALL($P$1:$P$1921,680),\"\")","v":""}]
[null,null,null,null,null,null,null,null,null,null,null,null,null,null,{"$f":"IF(682<=$B$10,IF(LEN('２学期'!C6)=0,\"\",IF('２学期'!C6=$B$8,IF(LEN('２学期'!F6)=0,\"\",'２学期'!F6),\"\")),\"\")","v":""},{"$f":"IF(LEN(O682)=0,\"\",IF(COUNTIF(O682:$O$1921,O682+1)>0,\"\",O682+1))","v":""},{"$f":"IFERROR(SMALL($P$1:$P$1921,681),\"\")","v":""}]
[null,null,null,null,null,null,null,null,null,null,null,null,null,null,{"$f":"IF(683<=$B$10,IF(LEN('２学期'!C7)=0,\"\",IF('２学期'!C7=$B$8,IF(LEN('２学期'!F7)=0,\"\",'２学期'!F7),\"\")),\"\")","v":""},{"$f":"IF(LEN(O683)=0,\"\",IF(COUNTIF(O683:$O$1921,O683+1)>0,\"\",O683+1))","v":""},{"$f":"IFERROR(SMALL($P$1:$P$1921,682),\"\")","v":""}]
[null,null,null,null,null,null,null,null,null,null,null,null,null,null,{"$f":"IF(684<=$B$10,IF(LEN('２学期'!C10)=0,\"\",IF('２学期'!C10=$B$8,IF(LEN('２学期'!F10)=0,\"\",'２学期'!F10),\"\")),\"\")","v":""},{"$f":"IF(LEN(O684)=0,\"\",IF(COUNTIF(O684:$O$1921,O684+1)>0,\"\",O684+1))","v":""},{"$f":"IFERROR(SMALL($P$1:$P$1921,683),\"\")","v":""}]
[null,null,null,null,null,null,null,null,null,null,null,null,null,null,{"$f":"IF(685<=$B$10,IF(LEN('２学期'!C13)=0,\"\",IF('２学期'!C13=$B$8,IF(LEN('２学期'!F13)=0,\"\",'２学期'!F13),\"\")),\"\")","v":""},{"$f":"IF(LEN(O685)=0,\"\",IF(COUNTIF(O685:$O$1921,O685+1)>0,\"\",O685+1))","v":""},{"$f":"IFERROR(SMALL($P$1:$P$1921,684),\"\")","v":""}]
[null,null,null,null,null,null,null,null,null,null,null,null,null,null,{"$f":"IF(686<=$B$10,IF(LEN('２学期'!C16)=0,\"\",IF('２学期'!C16=$B$8,IF(LEN('２学期'!F16)=0,\"\",'２学期'!F16),\"\")),\"\")","v":""},{"$f":"IF(LEN(O686)=0,\"\",IF(COUNTIF(O686:$O$1921,O686+1)>0,\"\",O686+1))","v":""},{"$f":"IFERROR(SMALL($P$1:$P$1921,685),\"\")","v":""}]
[null,null,null,null,null,null,null,null,null,null,null,null,null,null,{"$f":"IF(687<=$B$10,IF(LEN('２学期'!C19)=0,\"\",IF('２学期'!C19=$B$8,IF(LEN('２学期'!F19)=0,\"\",'２学期'!F19),\"\")),\"\")","v":""},{"$f":"IF(LEN(O687)=0,\"\",IF(COUNTIF(O687:$O$1921,O687+1)>0,\"\",O687+1))","v":""},{"$f":"IFERROR(SMALL($P$1:$P$1921,686),\"\")","v":""}]
[null,null,null,null,null,null,null,null,null,null,null,null,null,null,{"$f":"IF(688<=$B$10,IF(LEN('２学期'!C22)=0,\"\",IF('２学期'!C22=$B$8,IF(LEN('２学期'!F22)=0,\"\",'２学期'!F22),\"\")),\"\")","v":""},{"$f":"IF(LEN(O688)=0,\"\",IF(COUNTIF(O688:$O$1921,O688+1)>0,\"\",O688+1))","v":""},{"$f":"IFERROR(SMALL($P$1:$P$1921,687),\"\")","v":""}]
[null,null,null,null,null,null,null,null,null,null,null,null,null,null,{"$f":"IF(689<=$B$10,IF(LEN('２学期'!C25)=0,\"\",IF('２学期'!C25=$B$8,IF(LEN('２学期'!F25)=0,\"\",'２学期'!F25),\"\")),\"\")","v":""},{"$f":"IF(LEN(O689)=0,\"\",IF(COUNTIF(O689:$O$1921,O689+1)>0,\"\",O689+1))","v":""},{"$f":"IFERROR(SMALL($P$1:$P$1921,688),\"\")","v":""}]
[null,null,null,null,null,null,null,null,null,null,null,null,null,null,{"$f":"IF(690<=$B$10,IF(LEN('２学期'!G6)=0,\"\",IF('２学期'!G6=$B$8,IF(LEN('２学期'!J6)=0,\"\",'２学期'!J6),\"\")),\"\")","v":""},{"$f":"IF(LEN(O690)=0,\"\",IF(COUNTIF(O690:$O$1921,O690+1)>0,\"\",O690+1))","v":""},{"$f":"IFERROR(SMALL($P$1:$P$1921,689),\"\")","v":""}]
[null,null,null,null,null,null,null,null,null,null,null,null,null,null,{"$f":"IF(691<=$B$10,IF(LEN('２学期'!G7)=0,\"\",IF('２学期'!G7=$B$8,IF(LEN('２学期'!J7)=0,\"\",'２学期'!J7),\"\")),\"\")","v":""},{"$f":"IF(LEN(O691)=0,\"\",IF(COUNTIF(O691:$O$1921,O691+1)>0,\"\",O691+1))","v":""},{"$f":"IFERROR(SMALL($P$1:$P$1921,690),\"\")","v":""}]
[null,null,null,null,null,null,null,null,null,null,null,null,null,null,{"$f":"IF(692<=$B$10,IF(LEN('２学期'!G10)=0,\"\",IF('２学期'!G10=$B$8,IF(LEN('２学期'!J10)=0,\"\",'２学期'!J10),\"\")),\"\")","v":""},{"$f":"IF(LEN(O692)=0,\"\",IF(COUNTIF(O692:$O$1921,O692+1)>0,\"\",O692+1))","v":""},{"$f":"IFERROR(SMALL($P$1:$P$1921,691),\"\")","v":""}]
[null,null,null,null,null,null,null,null,null,null,null,null,null,null,{"$f":"IF(693<=$B$10,IF(LEN('２学期'!G13)=0,\"\",IF('２学期'!G13=$B$8,IF(LEN('２学期'!J13)=0,\"\",'２学期'!J13),\"\")),\"\")","v":""},{"$f":"IF(LEN(O693)=0,\"\",IF(COUNTIF(O693:$O$1921,O693+1)>0,\"\",O693+1))","v":""},{"$f":"IFERROR(SMALL($P$1:$P$1921,692),\"\")","v":""}]
[null,null,null,null,null,null,null,null,null,null,null,null,null,null,{"$f":"IF(694<=$B$10,IF(LEN('２学期'!G16)=0,\"\",IF('２学期'!G16=$B$8,IF(LEN('２学期'!J16)=0,\"\",'２学期'!J16),\"\")),\"\")","v":""},{"$f":"IF(LEN(O694)=0,\"\",IF(COUNTIF(O694:$O$1921,O694+1)>0,\"\",O694+1))","v":""},{"$f":"IFERROR(SMALL($P$1:$P$1921,693),\"\")","v":""}]
[null,null,null,null,null,null,null,null,null,null,null,null,null,null,{"$f":"IF(695<=$B$10,IF(LEN('２学期'!G19)=0,\"\",IF('２学期'!G19=$B$8,IF(LEN('２学期'!J19)=0,\"\",'２学期'!J19),\"\")),\"\")","v":""},{"$f":"IF(LEN(O695)=0,\"\",IF(COUNTIF(O695:$O$1921,O695+1)>0,\"\",O695+1))","v":""},{"$f":"IFERROR(SMALL($P$1:$P$1921,694),\"\")","v":""}]
[null,null,null,null,null,null,null,null,null,null,null,null,null,null,{"$f":"IF(696<=$B$10,IF(LEN('２学期'!G22)=0,\"\",IF('２学期'!G22=$B$8,IF(LEN('２学期'!J22)=0,\"\",'２学期'!J22),\"\")),\"\")","v":""},{"$f":"IF(LEN(O696)=0,\"\",IF(COUNTIF(O696:$O$1921,O696+1)>0,\"\",O696+1))","v":""},{"$f":"IFERROR(SMALL($P$1:$P$1921,695),\"\")","v":""}]
[null,null,null,null,null,null,null,null,null,null,null,null,null,null,{"$f":"IF(697<=$B$10,IF(LEN('２学期'!G25)=0,\"\",IF('２学期'!G25=$B$8,IF(LEN('２学期'!J25)=0,\"\",'２学期'!J25),\"\")),\"\")","v":""},{"$f":"IF(LEN(O697)=0,\"\",IF(COUNTIF(O697:$O$1921,O697+1)>0,\"\",O697+1))","v":""},{"$f":"IFERROR(SMALL($P$1:$P$1921,696),\"\")","v":""}]
[null,null,null,null,null,null,null,null,null,null,null,null,null,null,{"$f":"IF(698<=$B$10,IF(LEN('２学期'!K6)=0,\"\",IF('２学期'!K6=$B$8,IF(LEN('２学期'!N6)=0,\"\",'２学期'!N6),\"\")),\"\")","v":""},{"$f":"IF(LEN(O698)=0,\"\",IF(COUNTIF(O698:$O$1921,O698+1)>0,\"\",O698+1))","v":""},{"$f":"IFERROR(SMALL($P$1:$P$1921,697),\"\")","v":""}]
[null,null,null,null,null,null,null,null,null,null,null,null,null,null,{"$f":"IF(699<=$B$10,IF(LEN('２学期'!K7)=0,\"\",IF('２学期'!K7=$B$8,IF(LEN('２学期'!N7)=0,\"\",'２学期'!N7),\"\")),\"\")","v":""},{"$f":"IF(LEN(O699)=0,\"\",IF(COUNTIF(O699:$O$1921,O699+1)>0,\"\",O699+1))","v":""},{"$f":"IFERROR(SMALL($P$1:$P$1921,698),\"\")","v":""}]
[null,null,null,null,null,null,null,null,null,null,null,null,null,null,{"$f":"IF(700<=$B$10,IF(LEN('２学期'!K10)=0,\"\",IF('２学期'!K10=$B$8,IF(LEN('２学期'!N10)=0,\"\",'２学期'!N10),\"\")),\"\")","v":""},{"$f":"IF(LEN(O700)=0,\"\",IF(COUNTIF(O700:$O$1921,O700+1)>0,\"\",O700+1))","v":""},{"$f":"IFERROR(SMALL($P$1:$P$1921,699),\"\")","v":""}]
[null,null,null,null,null,null,null,null,null,null,null,null,null,null,{"$f":"IF(701<=$B$10,IF(LEN('２学期'!K13)=0,\"\",IF('２学期'!K13=$B$8,IF(LEN('２学期'!N13)=0,\"\",'２学期'!N13),\"\")),\"\")","v":""},{"$f":"IF(LEN(O701)=0,\"\",IF(COUNTIF(O701:$O$1921,O701+1)>0,\"\",O701+1))","v":""},{"$f":"IFERROR(SMALL($P$1:$P$1921,700),\"\")","v":""}]
[null,null,null,null,null,null,null,null,null,null,null,null,null,null,{"$f":"IF(702<=$B$10,IF(LEN('２学期'!K16)=0,\"\",IF('２学期'!K16=$B$8,IF(LEN('２学期'!N16)=0,\"\",'２学期'!N16),\"\")),\"\")","v":""},{"$f":"IF(LEN(O702)=0,\"\",IF(COUNTIF(O702:$O$1921,O702+1)>0,\"\",O702+1))","v":""},{"$f":"IFERROR(SMALL($P$1:$P$1921,701),\"\")","v":""}]
[null,null,null,null,null,null,null,null,null,null,null,null,null,null,{"$f":"IF(703<=$B$10,IF(LEN('２学期'!K19)=0,\"\",IF('２学期'!K19=$B$8,IF(LEN('２学期'!N19)=0,\"\",'２学期'!N19),\"\")),\"\")","v":""},{"$f":"IF(LEN(O703)=0,\"\",IF(COUNTIF(O703:$O$1921,O703+1)>0,\"\",O703+1))","v":""},{"$f":"IFERROR(SMALL($P$1:$P$1921,702),\"\")","v":""}]
[null,null,null,null,null,null,null,null,null,null,null,null,null,null,{"$f":"IF(704<=$B$10,IF(LEN('２学期'!K22)=0,\"\",IF('２学期'!K22=$B$8,IF(LEN('２学期'!N22)=0,\"\",'２学期'!N22),\"\")),\"\")","v":""},{"$f":"IF(LEN(O704)=0,\"\",IF(COUNTIF(O704:$O$1921,O704+1)>0,\"\",O704+1))","v":""},{"$f":"IFERROR(SMALL($P$1:$P$1921,703),\"\")","v":""}]
[null,null,null,null,null,null,null,null,null,null,null,null,null,null,{"$f":"IF(705<=$B$10,IF(LEN('２学期'!K25)=0,\"\",IF('２学期'!K25=$B$8,IF(LEN('２学期'!N25)=0,\"\",'２学期'!N25),\"\")),\"\")","v":""},{"$f":"IF(LEN(O705)=0,\"\",IF(COUNTIF(O705:$O$1921,O705+1)>0,\"\",O705+1))","v":""},{"$f":"IFERROR(SMALL($P$1:$P$1921,704),\"\")","v":""}]
[null,null,null,null,null,null,null,null,null,null,null,null,null,null,{"$f":"IF(706<=$B$10,IF(LEN('２学期'!O6)=0,\"\",IF('２学期'!O6=$B$8,IF(LEN('２学期'!R6)=0,\"\",'２学期'!R6),\"\")),\"\")","v":""},{"$f":"IF(LEN(O706)=0,\"\",IF(COUNTIF(O706:$O$1921,O706+1)>0,\"\",O706+1))","v":""},{"$f":"IFERROR(SMALL($P$1:$P$1921,705),\"\")","v":""}]
[null,null,null,null,null,null,null,null,null,null,null,null,null,null,{"$f":"IF(707<=$B$10,IF(LEN('２学期'!O7)=0,\"\",IF('２学期'!O7=$B$8,IF(LEN('２学期'!R7)=0,\"\",'２学期'!R7),\"\")),\"\")","v":""},{"$f":"IF(LEN(O707)=0,\"\",IF(COUNTIF(O707:$O$1921,O707+1)>0,\"\",O707+1))","v":""},{"$f":"IFERROR(SMALL($P$1:$P$1921,706),\"\")","v":""}]
[null,null,null,null,null,null,null,null,null,null,null,null,null,null,{"$f":"IF(708<=$B$10,IF(LEN('２学期'!O10)=0,\"\",IF('２学期'!O10=$B$8,IF(LEN('２学期'!R10)=0,\"\",'２学期'!R10),\"\")),\"\")","v":""},{"$f":"IF(LEN(O708)=0,\"\",IF(COUNTIF(O708:$O$1921,O708+1)>0,\"\",O708+1))","v":""},{"$f":"IFERROR(SMALL($P$1:$P$1921,707),\"\")","v":""}]
[null,null,null,null,null,null,null,null,null,null,null,null,null,null,{"$f":"IF(709<=$B$10,IF(LEN('２学期'!O13)=0,\"\",IF('２学期'!O13=$B$8,IF(LEN('２学期'!R13)=0,\"\",'２学期'!R13),\"\")),\"\")","v":""},{"$f":"IF(LEN(O709)=0,\"\",IF(COUNTIF(O709:$O$1921,O709+1)>0,\"\",O709+1))","v":""},{"$f":"IFERROR(SMALL($P$1:$P$1921,708),\"\")","v":""}]
[null,null,null,null,null,null,null,null,null,null,null,null,null,null,{"$f":"IF(710<=$B$10,IF(LEN('２学期'!O16)=0,\"\",IF('２学期'!O16=$B$8,IF(LEN('２学期'!R16)=0,\"\",'２学期'!R16),\"\")),\"\")","v":""},{"$f":"IF(LEN(O710)=0,\"\",IF(COUNTIF(O710:$O$1921,O710+1)>0,\"\",O710+1))","v":""},{"$f":"IFERROR(SMALL($P$1:$P$1921,709),\"\")","v":""}]
[null,null,null,null,null,null,null,null,null,null,null,null,null,null,{"$f":"IF(711<=$B$10,IF(LEN('２学期'!O19)=0,\"\",IF('２学期'!O19=$B$8,IF(LEN('２学期'!R19)=0,\"\",'２学期'!R19),\"\")),\"\")","v":""},{"$f":"IF(LEN(O711)=0,\"\",IF(COUNTIF(O711:$O$1921,O711+1)>0,\"\",O711+1))","v":""},{"$f":"IFERROR(SMALL($P$1:$P$1921,710),\"\")","v":""}]
[null,null,null,null,null,null,null,null,null,null,null,null,null,null,{"$f":"IF(712<=$B$10,IF(LEN('２学期'!O22)=0,\"\",IF('２学期'!O22=$B$8,IF(LEN('２学期'!R22)=0,\"\",'２学期'!R22),\"\")),\"\")","v":""},{"$f":"IF(LEN(O712)=0,\"\",IF(COUNTIF(O712:$O$1921,O712+1)>0,\"\",O712+1))","v":""},{"$f":"IFERROR(SMALL($P$1:$P$1921,711),\"\")","v":""}]
[null,null,null,null,null,null,null,null,null,null,null,null,null,null,{"$f":"IF(713<=$B$10,IF(LEN('２学期'!O25)=0,\"\",IF('２学期'!O25=$B$8,IF(LEN('２学期'!R25)=0,\"\",'２学期'!R25),\"\")),\"\")","v":""},{"$f":"IF(LEN(O713)=0,\"\",IF(COUNTIF(O713:$O$1921,O713+1)>0,\"\",O713+1))","v":""},{"$f":"IFERROR(SMALL($P$1:$P$1921,712),\"\")","v":""}]
[null,null,null,null,null,null,null,null,null,null,null,null,null,null,{"$f":"IF(714<=$B$10,IF(LEN('２学期'!S6)=0,\"\",IF('２学期'!S6=$B$8,IF(LEN('２学期'!V6)=0,\"\",'２学期'!V6),\"\")),\"\")","v":""},{"$f":"IF(LEN(O714)=0,\"\",IF(COUNTIF(O714:$O$1921,O714+1)>0,\"\",O714+1))","v":""},{"$f":"IFERROR(SMALL($P$1:$P$1921,713),\"\")","v":""}]
[null,null,null,null,null,null,null,null,null,null,null,null,null,null,{"$f":"IF(715<=$B$10,IF(LEN('２学期'!S7)=0,\"\",IF('２学期'!S7=$B$8,IF(LEN('２学期'!V7)=0,\"\",'２学期'!V7),\"\")),\"\")","v":""},{"$f":"IF(LEN(O715)=0,\"\",IF(COUNTIF(O715:$O$1921,O715+1)>0,\"\",O715+1))","v":""},{"$f":"IFERROR(SMALL($P$1:$P$1921,714),\"\")","v":""}]
[null,null,null,null,null,null,null,null,null,null,null,null,null,null,{"$f":"IF(716<=$B$10,IF(LEN('２学期'!S10)=0,\"\",IF('２学期'!S10=$B$8,IF(LEN('２学期'!V10)=0,\"\",'２学期'!V10),\"\")),\"\")","v":""},{"$f":"IF(LEN(O716)=0,\"\",IF(COUNTIF(O716:$O$1921,O716+1)>0,\"\",O716+1))","v":""},{"$f":"IFERROR(SMALL($P$1:$P$1921,715),\"\")","v":""}]
[null,null,null,null,null,null,null,null,null,null,null,null,null,null,{"$f":"IF(717<=$B$10,IF(LEN('２学期'!S13)=0,\"\",IF('２学期'!S13=$B$8,IF(LEN('２学期'!V13)=0,\"\",'２学期'!V13),\"\")),\"\")","v":""},{"$f":"IF(LEN(O717)=0,\"\",IF(COUNTIF(O717:$O$1921,O717+1)>0,\"\",O717+1))","v":""},{"$f":"IFERROR(SMALL($P$1:$P$1921,716),\"\")","v":""}]
[null,null,null,null,null,null,null,null,null,null,null,null,null,null,{"$f":"IF(718<=$B$10,IF(LEN('２学期'!S16)=0,\"\",IF('２学期'!S16=$B$8,IF(LEN('２学期'!V16)=0,\"\",'２学期'!V16),\"\")),\"\")","v":""},{"$f":"IF(LEN(O718)=0,\"\",IF(COUNTIF(O718:$O$1921,O718+1)>0,\"\",O718+1))","v":""},{"$f":"IFERROR(SMALL($P$1:$P$1921,717),\"\")","v":""}]
[null,null,null,null,null,null,null,null,null,null,null,null,null,null,{"$f":"IF(719<=$B$10,IF(LEN('２学期'!S19)=0,\"\",IF('２学期'!S19=$B$8,IF(LEN('２学期'!V19)=0,\"\",'２学期'!V19),\"\")),\"\")","v":""},{"$f":"IF(LEN(O719)=0,\"\",IF(COUNTIF(O719:$O$1921,O719+1)>0,\"\",O719+1))","v":""},{"$f":"IFERROR(SMALL($P$1:$P$1921,718),\"\")","v":""}]
[null,null,null,null,null,null,null,null,null,null,null,null,null,null,{"$f":"IF(720<=$B$10,IF(LEN('２学期'!S22)=0,\"\",IF('２学期'!S22=$B$8,IF(LEN('２学期'!V22)=0,\"\",'２学期'!V22),\"\")),\"\")","v":""},{"$f":"IF(LEN(O720)=0,\"\",IF(COUNTIF(O720:$O$1921,O720+1)>0,\"\",O720+1))","v":""},{"$f":"IFERROR(SMALL($P$1:$P$1921,719),\"\")","v":""}]
[null,null,null,null,null,null,null,null,null,null,null,null,null,null,{"$f":"IF(721<=$B$10,IF(LEN('２学期'!S25)=0,\"\",IF('２学期'!S25=$B$8,IF(LEN('２学期'!V25)=0,\"\",'２学期'!V25),\"\")),\"\")","v":""},{"$f":"IF(LEN(O721)=0,\"\",IF(COUNTIF(O721:$O$1921,O721+1)>0,\"\",O721+1))","v":""},{"$f":"IFERROR(SMALL($P$1:$P$1921,720),\"\")","v":""}]
[null,null,null,null,null,null,null,null,null,null,null,null,null,null,{"$f":"IF(722<=$B$10,IF(LEN('２学期'!W6)=0,\"\",IF('２学期'!W6=$B$8,IF(LEN('２学期'!Z6)=0,\"\",'２学期'!Z6),\"\")),\"\")","v":""},{"$f":"IF(LEN(O722)=0,\"\",IF(COUNTIF(O722:$O$1921,O722+1)>0,\"\",O722+1))","v":""},{"$f":"IFERROR(SMALL($P$1:$P$1921,721),\"\")","v":""}]
[null,null,null,null,null,null,null,null,null,null,null,null,null,null,{"$f":"IF(723<=$B$10,IF(LEN('２学期'!W7)=0,\"\",IF('２学期'!W7=$B$8,IF(LEN('２学期'!Z7)=0,\"\",'２学期'!Z7),\"\")),\"\")","v":""},{"$f":"IF(LEN(O723)=0,\"\",IF(COUNTIF(O723:$O$1921,O723+1)>0,\"\",O723+1))","v":""},{"$f":"IFERROR(SMALL($P$1:$P$1921,722),\"\")","v":""}]
[null,null,null,null,null,null,null,null,null,null,null,null,null,null,{"$f":"IF(724<=$B$10,IF(LEN('２学期'!W10)=0,\"\",IF('２学期'!W10=$B$8,IF(LEN('２学期'!Z10)=0,\"\",'２学期'!Z10),\"\")),\"\")","v":""},{"$f":"IF(LEN(O724)=0,\"\",IF(COUNTIF(O724:$O$1921,O724+1)>0,\"\",O724+1))","v":""},{"$f":"IFERROR(SMALL($P$1:$P$1921,723),\"\")","v":""}]
[null,null,null,null,null,null,null,null,null,null,null,null,null,null,{"$f":"IF(725<=$B$10,IF(LEN('２学期'!W13)=0,\"\",IF('２学期'!W13=$B$8,IF(LEN('２学期'!Z13)=0,\"\",'２学期'!Z13),\"\")),\"\")","v":""},{"$f":"IF(LEN(O725)=0,\"\",IF(COUNTIF(O725:$O$1921,O725+1)>0,\"\",O725+1))","v":""},{"$f":"IFERROR(SMALL($P$1:$P$1921,724),\"\")","v":""}]
[null,null,null,null,null,null,null,null,null,null,null,null,null,null,{"$f":"IF(726<=$B$10,IF(LEN('２学期'!W16)=0,\"\",IF('２学期'!W16=$B$8,IF(LEN('２学期'!Z16)=0,\"\",'２学期'!Z16),\"\")),\"\")","v":""},{"$f":"IF(LEN(O726)=0,\"\",IF(COUNTIF(O726:$O$1921,O726+1)>0,\"\",O726+1))","v":""},{"$f":"IFERROR(SMALL($P$1:$P$1921,725),\"\")","v":""}]
[null,null,null,null,null,null,null,null,null,null,null,null,null,null,{"$f":"IF(727<=$B$10,IF(LEN('２学期'!W19)=0,\"\",IF('２学期'!W19=$B$8,IF(LEN('２学期'!Z19)=0,\"\",'２学期'!Z19),\"\")),\"\")","v":""},{"$f":"IF(LEN(O727)=0,\"\",IF(COUNTIF(O727:$O$1921,O727+1)>0,\"\",O727+1))","v":""},{"$f":"IFERROR(SMALL($P$1:$P$1921,726),\"\")","v":""}]
[null,null,null,null,null,null,null,null,null,null,null,null,null,null,{"$f":"IF(728<=$B$10,IF(LEN('２学期'!W22)=0,\"\",IF('２学期'!W22=$B$8,IF(LEN('２学期'!Z22)=0,\"\",'２学期'!Z22),\"\")),\"\")","v":""},{"$f":"IF(LEN(O728)=0,\"\",IF(COUNTIF(O728:$O$1921,O728+1)>0,\"\",O728+1))","v":""},{"$f":"IFERROR(SMALL($P$1:$P$1921,727),\"\")","v":""}]
[null,null,null,null,null,null,null,null,null,null,null,null,null,null,{"$f":"IF(729<=$B$10,IF(LEN('２学期'!W25)=0,\"\",IF('２学期'!W25=$B$8,IF(LEN('２学期'!Z25)=0,\"\",'２学期'!Z25),\"\")),\"\")","v":""},{"$f":"IF(LEN(O729)=0,\"\",IF(COUNTIF(O729:$O$1921,O729+1)>0,\"\",O729+1))","v":""},{"$f":"IFERROR(SMALL($P$1:$P$1921,728),\"\")","v":""}]
[null,null,null,null,null,null,null,null,null,null,null,null,null,null,{"$f":"IF(730<=$B$10,IF(LEN('２学期'!AA6)=0,\"\",IF('２学期'!AA6=$B$8,IF(LEN('２学期'!AD6)=0,\"\",'２学期'!AD6),\"\")),\"\")","v":""},{"$f":"IF(LEN(O730)=0,\"\",IF(COUNTIF(O730:$O$1921,O730+1)>0,\"\",O730+1))","v":""},{"$f":"IFERROR(SMALL($P$1:$P$1921,729),\"\")","v":""}]
[null,null,null,null,null,null,null,null,null,null,null,null,null,null,{"$f":"IF(731<=$B$10,IF(LEN('２学期'!AA7)=0,\"\",IF('２学期'!AA7=$B$8,IF(LEN('２学期'!AD7)=0,\"\",'２学期'!AD7),\"\")),\"\")","v":""},{"$f":"IF(LEN(O731)=0,\"\",IF(COUNTIF(O731:$O$1921,O731+1)>0,\"\",O731+1))","v":""},{"$f":"IFERROR(SMALL($P$1:$P$1921,730),\"\")","v":""}]
[null,null,null,null,null,null,null,null,null,null,null,null,null,null,{"$f":"IF(732<=$B$10,IF(LEN('２学期'!AA10)=0,\"\",IF('２学期'!AA10=$B$8,IF(LEN('２学期'!AD10)=0,\"\",'２学期'!AD10),\"\")),\"\")","v":""},{"$f":"IF(LEN(O732)=0,\"\",IF(COUNTIF(O732:$O$1921,O732+1)>0,\"\",O732+1))","v":""},{"$f":"IFERROR(SMALL($P$1:$P$1921,731),\"\")","v":""}]
[null,null,null,null,null,null,null,null,null,null,null,null,null,null,{"$f":"IF(733<=$B$10,IF(LEN('２学期'!AA13)=0,\"\",IF('２学期'!AA13=$B$8,IF(LEN('２学期'!AD13)=0,\"\",'２学期'!AD13),\"\")),\"\")","v":""},{"$f":"IF(LEN(O733)=0,\"\",IF(COUNTIF(O733:$O$1921,O733+1)>0,\"\",O733+1))","v":""},{"$f":"IFERROR(SMALL($P$1:$P$1921,732),\"\")","v":""}]
[null,null,null,null,null,null,null,null,null,null,null,null,null,null,{"$f":"IF(734<=$B$10,IF(LEN('２学期'!AA16)=0,\"\",IF('２学期'!AA16=$B$8,IF(LEN('２学期'!AD16)=0,\"\",'２学期'!AD16),\"\")),\"\")","v":""},{"$f":"IF(LEN(O734)=0,\"\",IF(COUNTIF(O734:$O$1921,O734+1)>0,\"\",O734+1))","v":""},{"$f":"IFERROR(SMALL($P$1:$P$1921,733),\"\")","v":""}]
[null,null,null,null,null,null,null,null,null,null,null,null,null,null,{"$f":"IF(735<=$B$10,IF(LEN('２学期'!AA19)=0,\"\",IF('２学期'!AA19=$B$8,IF(LEN('２学期'!AD19)=0,\"\",'２学期'!AD19),\"\")),\"\")","v":""},{"$f":"IF(LEN(O735)=0,\"\",IF(COUNTIF(O735:$O$1921,O735+1)>0,\"\",O735+1))","v":""},{"$f":"IFERROR(SMALL($P$1:$P$1921,734),\"\")","v":""}]
[null,null,null,null,null,null,null,null,null,null,null,null,null,null,{"$f":"IF(736<=$B$10,IF(LEN('２学期'!AA22)=0,\"\",IF('２学期'!AA22=$B$8,IF(LEN('２学期'!AD22)=0,\"\",'２学期'!AD22),\"\")),\"\")","v":""},{"$f":"IF(LEN(O736)=0,\"\",IF(COUNTIF(O736:$O$1921,O736+1)>0,\"\",O736+1))","v":""},{"$f":"IFERROR(SMALL($P$1:$P$1921,735),\"\")","v":""}]
[null,null,null,null,null,null,null,null,null,null,null,null,null,null,{"$f":"IF(737<=$B$10,IF(LEN('２学期'!AA25)=0,\"\",IF('２学期'!AA25=$B$8,IF(LEN('２学期'!AD25)=0,\"\",'２学期'!AD25),\"\")),\"\")","v":""},{"$f":"IF(LEN(O737)=0,\"\",IF(COUNTIF(O737:$O$1921,O737+1)>0,\"\",O737+1))","v":""},{"$f":"IFERROR(SMALL($P$1:$P$1921,736),\"\")","v":""}]
[null,null,null,null,null,null,null,null,null,null,null,null,null,null,{"$f":"IF(738<=$B$10,IF(LEN('２学期'!AE6)=0,\"\",IF('２学期'!AE6=$B$8,IF(LEN('２学期'!AH6)=0,\"\",'２学期'!AH6),\"\")),\"\")","v":""},{"$f":"IF(LEN(O738)=0,\"\",IF(COUNTIF(O738:$O$1921,O738+1)>0,\"\",O738+1))","v":""},{"$f":"IFERROR(SMALL($P$1:$P$1921,737),\"\")","v":""}]
[null,null,null,null,null,null,null,null,null,null,null,null,null,null,{"$f":"IF(739<=$B$10,IF(LEN('２学期'!AE7)=0,\"\",IF('２学期'!AE7=$B$8,IF(LEN('２学期'!AH7)=0,\"\",'２学期'!AH7),\"\")),\"\")","v":""},{"$f":"IF(LEN(O739)=0,\"\",IF(COUNTIF(O739:$O$1921,O739+1)>0,\"\",O739+1))","v":""},{"$f":"IFERROR(SMALL($P$1:$P$1921,738),\"\")","v":""}]
[null,null,null,null,null,null,null,null,null,null,null,null,null,null,{"$f":"IF(740<=$B$10,IF(LEN('２学期'!AE10)=0,\"\",IF('２学期'!AE10=$B$8,IF(LEN('２学期'!AH10)=0,\"\",'２学期'!AH10),\"\")),\"\")","v":""},{"$f":"IF(LEN(O740)=0,\"\",IF(COUNTIF(O740:$O$1921,O740+1)>0,\"\",O740+1))","v":""},{"$f":"IFERROR(SMALL($P$1:$P$1921,739),\"\")","v":""}]
[null,null,null,null,null,null,null,null,null,null,null,null,null,null,{"$f":"IF(741<=$B$10,IF(LEN('２学期'!AE13)=0,\"\",IF('２学期'!AE13=$B$8,IF(LEN('２学期'!AH13)=0,\"\",'２学期'!AH13),\"\")),\"\")","v":""},{"$f":"IF(LEN(O741)=0,\"\",IF(COUNTIF(O741:$O$1921,O741+1)>0,\"\",O741+1))","v":""},{"$f":"IFERROR(SMALL($P$1:$P$1921,740),\"\")","v":""}]
[null,null,null,null,null,null,null,null,null,null,null,null,null,null,{"$f":"IF(742<=$B$10,IF(LEN('２学期'!AE16)=0,\"\",IF('２学期'!AE16=$B$8,IF(LEN('２学期'!AH16)=0,\"\",'２学期'!AH16),\"\")),\"\")","v":""},{"$f":"IF(LEN(O742)=0,\"\",IF(COUNTIF(O742:$O$1921,O742+1)>0,\"\",O742+1))","v":""},{"$f":"IFERROR(SMALL($P$1:$P$1921,741),\"\")","v":""}]
[null,null,null,null,null,null,null,null,null,null,null,null,null,null,{"$f":"IF(743<=$B$10,IF(LEN('２学期'!AE19)=0,\"\",IF('２学期'!AE19=$B$8,IF(LEN('２学期'!AH19)=0,\"\",'２学期'!AH19),\"\")),\"\")","v":""},{"$f":"IF(LEN(O743)=0,\"\",IF(COUNTIF(O743:$O$1921,O743+1)>0,\"\",O743+1))","v":""},{"$f":"IFERROR(SMALL($P$1:$P$1921,742),\"\")","v":""}]
[null,null,null,null,null,null,null,null,null,null,null,null,null,null,{"$f":"IF(744<=$B$10,IF(LEN('２学期'!AE22)=0,\"\",IF('２学期'!AE22=$B$8,IF(LEN('２学期'!AH22)=0,\"\",'２学期'!AH22),\"\")),\"\")","v":""},{"$f":"IF(LEN(O744)=0,\"\",IF(COUNTIF(O744:$O$1921,O744+1)>0,\"\",O744+1))","v":""},{"$f":"IFERROR(SMALL($P$1:$P$1921,743),\"\")","v":""}]
[null,null,null,null,null,null,null,null,null,null,null,null,null,null,{"$f":"IF(745<=$B$10,IF(LEN('２学期'!AE25)=0,\"\",IF('２学期'!AE25=$B$8,IF(LEN('２学期'!AH25)=0,\"\",'２学期'!AH25),\"\")),\"\")","v":""},{"$f":"IF(LEN(O745)=0,\"\",IF(COUNTIF(O745:$O$1921,O745+1)>0,\"\",O745+1))","v":""},{"$f":"IFERROR(SMALL($P$1:$P$1921,744),\"\")","v":""}]
[null,null,null,null,null,null,null,null,null,null,null,null,null,null,{"$f":"IF(746<=$B$10,IF(LEN('２学期'!AI6)=0,\"\",IF('２学期'!AI6=$B$8,IF(LEN('２学期'!AL6)=0,\"\",'２学期'!AL6),\"\")),\"\")","v":""},{"$f":"IF(LEN(O746)=0,\"\",IF(COUNTIF(O746:$O$1921,O746+1)>0,\"\",O746+1))","v":""},{"$f":"IFERROR(SMALL($P$1:$P$1921,745),\"\")","v":""}]
[null,null,null,null,null,null,null,null,null,null,null,null,null,null,{"$f":"IF(747<=$B$10,IF(LEN('２学期'!AI7)=0,\"\",IF('２学期'!AI7=$B$8,IF(LEN('２学期'!AL7)=0,\"\",'２学期'!AL7),\"\")),\"\")","v":""},{"$f":"IF(LEN(O747)=0,\"\",IF(COUNTIF(O747:$O$1921,O747+1)>0,\"\",O747+1))","v":""},{"$f":"IFERROR(SMALL($P$1:$P$1921,746),\"\")","v":""}]
[null,null,null,null,null,null,null,null,null,null,null,null,null,null,{"$f":"IF(748<=$B$10,IF(LEN('２学期'!AI10)=0,\"\",IF('２学期'!AI10=$B$8,IF(LEN('２学期'!AL10)=0,\"\",'２学期'!AL10),\"\")),\"\")","v":""},{"$f":"IF(LEN(O748)=0,\"\",IF(COUNTIF(O748:$O$1921,O748+1)>0,\"\",O748+1))","v":""},{"$f":"IFERROR(SMALL($P$1:$P$1921,747),\"\")","v":""}]
[null,null,null,null,null,null,null,null,null,null,null,null,null,null,{"$f":"IF(749<=$B$10,IF(LEN('２学期'!AI13)=0,\"\",IF('２学期'!AI13=$B$8,IF(LEN('２学期'!AL13)=0,\"\",'２学期'!AL13),\"\")),\"\")","v":""},{"$f":"IF(LEN(O749)=0,\"\",IF(COUNTIF(O749:$O$1921,O749+1)>0,\"\",O749+1))","v":""},{"$f":"IFERROR(SMALL($P$1:$P$1921,748),\"\")","v":""}]
[null,null,null,null,null,null,null,null,null,null,null,null,null,null,{"$f":"IF(750<=$B$10,IF(LEN('２学期'!AI16)=0,\"\",IF('２学期'!AI16=$B$8,IF(LEN('２学期'!AL16)=0,\"\",'２学期'!AL16),\"\")),\"\")","v":""},{"$f":"IF(LEN(O750)=0,\"\",IF(COUNTIF(O750:$O$1921,O750+1)>0,\"\",O750+1))","v":""},{"$f":"IFERROR(SMALL($P$1:$P$1921,749),\"\")","v":""}]
[null,null,null,null,null,null,null,null,null,null,null,null,null,null,{"$f":"IF(751<=$B$10,IF(LEN('２学期'!AI19)=0,\"\",IF('２学期'!AI19=$B$8,IF(LEN('２学期'!AL19)=0,\"\",'２学期'!AL19),\"\")),\"\")","v":""},{"$f":"IF(LEN(O751)=0,\"\",IF(COUNTIF(O751:$O$1921,O751+1)>0,\"\",O751+1))","v":""},{"$f":"IFERROR(SMALL($P$1:$P$1921,750),\"\")","v":""}]
[null,null,null,null,null,null,null,null,null,null,null,null,null,null,{"$f":"IF(752<=$B$10,IF(LEN('２学期'!AI22)=0,\"\",IF('２学期'!AI22=$B$8,IF(LEN('２学期'!AL22)=0,\"\",'２学期'!AL22),\"\")),\"\")","v":""},{"$f":"IF(LEN(O752)=0,\"\",IF(COUNTIF(O752:$O$1921,O752+1)>0,\"\",O752+1))","v":""},{"$f":"IFERROR(SMALL($P$1:$P$1921,751),\"\")","v":""}]
[null,null,null,null,null,null,null,null,null,null,null,null,null,null,{"$f":"IF(753<=$B$10,IF(LEN('２学期'!AI25)=0,\"\",IF('２学期'!AI25=$B$8,IF(LEN('２学期'!AL25)=0,\"\",'２学期'!AL25),\"\")),\"\")","v":""},{"$f":"IF(LEN(O753)=0,\"\",IF(COUNTIF(O753:$O$1921,O753+1)>0,\"\",O753+1))","v":""},{"$f":"IFERROR(SMALL($P$1:$P$1921,752),\"\")","v":""}]
[null,null,null,null,null,null,null,null,null,null,null,null,null,null,{"$f":"IF(754<=$B$10,IF(LEN('２学期'!AM6)=0,\"\",IF('２学期'!AM6=$B$8,IF(LEN('２学期'!AP6)=0,\"\",'２学期'!AP6),\"\")),\"\")","v":""},{"$f":"IF(LEN(O754)=0,\"\",IF(COUNTIF(O754:$O$1921,O754+1)>0,\"\",O754+1))","v":""},{"$f":"IFERROR(SMALL($P$1:$P$1921,753),\"\")","v":""}]
[null,null,null,null,null,null,null,null,null,null,null,null,null,null,{"$f":"IF(755<=$B$10,IF(LEN('２学期'!AM7)=0,\"\",IF('２学期'!AM7=$B$8,IF(LEN('２学期'!AP7)=0,\"\",'２学期'!AP7),\"\")),\"\")","v":""},{"$f":"IF(LEN(O755)=0,\"\",IF(COUNTIF(O755:$O$1921,O755+1)>0,\"\",O755+1))","v":""},{"$f":"IFERROR(SMALL($P$1:$P$1921,754),\"\")","v":""}]
[null,null,null,null,null,null,null,null,null,null,null,null,null,null,{"$f":"IF(756<=$B$10,IF(LEN('２学期'!AM10)=0,\"\",IF('２学期'!AM10=$B$8,IF(LEN('２学期'!AP10)=0,\"\",'２学期'!AP10),\"\")),\"\")","v":""},{"$f":"IF(LEN(O756)=0,\"\",IF(COUNTIF(O756:$O$1921,O756+1)>0,\"\",O756+1))","v":""},{"$f":"IFERROR(SMALL($P$1:$P$1921,755),\"\")","v":""}]
[null,null,null,null,null,null,null,null,null,null,null,null,null,null,{"$f":"IF(757<=$B$10,IF(LEN('２学期'!AM13)=0,\"\",IF('２学期'!AM13=$B$8,IF(LEN('２学期'!AP13)=0,\"\",'２学期'!AP13),\"\")),\"\")","v":""},{"$f":"IF(LEN(O757)=0,\"\",IF(COUNTIF(O757:$O$1921,O757+1)>0,\"\",O757+1))","v":""},{"$f":"IFERROR(SMALL($P$1:$P$1921,756),\"\")","v":""}]
[null,null,null,null,null,null,null,null,null,null,null,null,null,null,{"$f":"IF(758<=$B$10,IF(LEN('２学期'!AM16)=0,\"\",IF('２学期'!AM16=$B$8,IF(LEN('２学期'!AP16)=0,\"\",'２学期'!AP16),\"\")),\"\")","v":""},{"$f":"IF(LEN(O758)=0,\"\",IF(COUNTIF(O758:$O$1921,O758+1)>0,\"\",O758+1))","v":""},{"$f":"IFERROR(SMALL($P$1:$P$1921,757),\"\")","v":""}]
[null,null,null,null,null,null,null,null,null,null,null,null,null,null,{"$f":"IF(759<=$B$10,IF(LEN('２学期'!AM19)=0,\"\",IF('２学期'!AM19=$B$8,IF(LEN('２学期'!AP19)=0,\"\",'２学期'!AP19),\"\")),\"\")","v":""},{"$f":"IF(LEN(O759)=0,\"\",IF(COUNTIF(O759:$O$1921,O759+1)>0,\"\",O759+1))","v":""},{"$f":"IFERROR(SMALL($P$1:$P$1921,758),\"\")","v":""}]
[null,null,null,null,null,null,null,null,null,null,null,null,null,null,{"$f":"IF(760<=$B$10,IF(LEN('２学期'!AM22)=0,\"\",IF('２学期'!AM22=$B$8,IF(LEN('２学期'!AP22)=0,\"\",'２学期'!AP22),\"\")),\"\")","v":""},{"$f":"IF(LEN(O760)=0,\"\",IF(COUNTIF(O760:$O$1921,O760+1)>0,\"\",O760+1))","v":""},{"$f":"IFERROR(SMALL($P$1:$P$1921,759),\"\")","v":""}]
[null,null,null,null,null,null,null,null,null,null,null,null,null,null,{"$f":"IF(761<=$B$10,IF(LEN('２学期'!AM25)=0,\"\",IF('２学期'!AM25=$B$8,IF(LEN('２学期'!AP25)=0,\"\",'２学期'!AP25),\"\")),\"\")","v":""},{"$f":"IF(LEN(O761)=0,\"\",IF(COUNTIF(O761:$O$1921,O761+1)>0,\"\",O761+1))","v":""},{"$f":"IFERROR(SMALL($P$1:$P$1921,760),\"\")","v":""}]
[null,null,null,null,null,null,null,null,null,null,null,null,null,null,{"$f":"IF(762<=$B$10,IF(LEN('２学期'!AQ6)=0,\"\",IF('２学期'!AQ6=$B$8,IF(LEN('２学期'!AT6)=0,\"\",'２学期'!AT6),\"\")),\"\")","v":""},{"$f":"IF(LEN(O762)=0,\"\",IF(COUNTIF(O762:$O$1921,O762+1)>0,\"\",O762+1))","v":""},{"$f":"IFERROR(SMALL($P$1:$P$1921,761),\"\")","v":""}]
[null,null,null,null,null,null,null,null,null,null,null,null,null,null,{"$f":"IF(763<=$B$10,IF(LEN('２学期'!AQ7)=0,\"\",IF('２学期'!AQ7=$B$8,IF(LEN('２学期'!AT7)=0,\"\",'２学期'!AT7),\"\")),\"\")","v":""},{"$f":"IF(LEN(O763)=0,\"\",IF(COUNTIF(O763:$O$1921,O763+1)>0,\"\",O763+1))","v":""},{"$f":"IFERROR(SMALL($P$1:$P$1921,762),\"\")","v":""}]
[null,null,null,null,null,null,null,null,null,null,null,null,null,null,{"$f":"IF(764<=$B$10,IF(LEN('２学期'!AQ10)=0,\"\",IF('２学期'!AQ10=$B$8,IF(LEN('２学期'!AT10)=0,\"\",'２学期'!AT10),\"\")),\"\")","v":""},{"$f":"IF(LEN(O764)=0,\"\",IF(COUNTIF(O764:$O$1921,O764+1)>0,\"\",O764+1))","v":""},{"$f":"IFERROR(SMALL($P$1:$P$1921,763),\"\")","v":""}]
[null,null,null,null,null,null,null,null,null,null,null,null,null,null,{"$f":"IF(765<=$B$10,IF(LEN('２学期'!AQ13)=0,\"\",IF('２学期'!AQ13=$B$8,IF(LEN('２学期'!AT13)=0,\"\",'２学期'!AT13),\"\")),\"\")","v":""},{"$f":"IF(LEN(O765)=0,\"\",IF(COUNTIF(O765:$O$1921,O765+1)>0,\"\",O765+1))","v":""},{"$f":"IFERROR(SMALL($P$1:$P$1921,764),\"\")","v":""}]
[null,null,null,null,null,null,null,null,null,null,null,null,null,null,{"$f":"IF(766<=$B$10,IF(LEN('２学期'!AQ16)=0,\"\",IF('２学期'!AQ16=$B$8,IF(LEN('２学期'!AT16)=0,\"\",'２学期'!AT16),\"\")),\"\")","v":""},{"$f":"IF(LEN(O766)=0,\"\",IF(COUNTIF(O766:$O$1921,O766+1)>0,\"\",O766+1))","v":""},{"$f":"IFERROR(SMALL($P$1:$P$1921,765),\"\")","v":""}]
[null,null,null,null,null,null,null,null,null,null,null,null,null,null,{"$f":"IF(767<=$B$10,IF(LEN('２学期'!AQ19)=0,\"\",IF('２学期'!AQ19=$B$8,IF(LEN('２学期'!AT19)=0,\"\",'２学期'!AT19),\"\")),\"\")","v":""},{"$f":"IF(LEN(O767)=0,\"\",IF(COUNTIF(O767:$O$1921,O767+1)>0,\"\",O767+1))","v":""},{"$f":"IFERROR(SMALL($P$1:$P$1921,766),\"\")","v":""}]
[null,null,null,null,null,null,null,null,null,null,null,null,null,null,{"$f":"IF(768<=$B$10,IF(LEN('２学期'!AQ22)=0,\"\",IF('２学期'!AQ22=$B$8,IF(LEN('２学期'!AT22)=0,\"\",'２学期'!AT22),\"\")),\"\")","v":""},{"$f":"IF(LEN(O768)=0,\"\",IF(COUNTIF(O768:$O$1921,O768+1)>0,\"\",O768+1))","v":""},{"$f":"IFERROR(SMALL($P$1:$P$1921,767),\"\")","v":""}]
[null,null,null,null,null,null,null,null,null,null,null,null,null,null,{"$f":"IF(769<=$B$10,IF(LEN('２学期'!AQ25)=0,\"\",IF('２学期'!AQ25=$B$8,IF(LEN('２学期'!AT25)=0,\"\",'２学期'!AT25),\"\")),\"\")","v":""},{"$f":"IF(LEN(O769)=0,\"\",IF(COUNTIF(O769:$O$1921,O769+1)>0,\"\",O769+1))","v":""},{"$f":"IFERROR(SMALL($P$1:$P$1921,768),\"\")","v":""}]
[null,null,null,null,null,null,null,null,null,null,null,null,null,null,{"$f":"IF(770<=$B$10,IF(LEN('２学期'!AU6)=0,\"\",IF('２学期'!AU6=$B$8,IF(LEN('２学期'!AX6)=0,\"\",'２学期'!AX6),\"\")),\"\")","v":""},{"$f":"IF(LEN(O770)=0,\"\",IF(COUNTIF(O770:$O$1921,O770+1)>0,\"\",O770+1))","v":""},{"$f":"IFERROR(SMALL($P$1:$P$1921,769),\"\")","v":""}]
[null,null,null,null,null,null,null,null,null,null,null,null,null,null,{"$f":"IF(771<=$B$10,IF(LEN('２学期'!AU7)=0,\"\",IF('２学期'!AU7=$B$8,IF(LEN('２学期'!AX7)=0,\"\",'２学期'!AX7),\"\")),\"\")","v":""},{"$f":"IF(LEN(O771)=0,\"\",IF(COUNTIF(O771:$O$1921,O771+1)>0,\"\",O771+1))","v":""},{"$f":"IFERROR(SMALL($P$1:$P$1921,770),\"\")","v":""}]
[null,null,null,null,null,null,null,null,null,null,null,null,null,null,{"$f":"IF(772<=$B$10,IF(LEN('２学期'!AU10)=0,\"\",IF('２学期'!AU10=$B$8,IF(LEN('２学期'!AX10)=0,\"\",'２学期'!AX10),\"\")),\"\")","v":""},{"$f":"IF(LEN(O772)=0,\"\",IF(COUNTIF(O772:$O$1921,O772+1)>0,\"\",O772+1))","v":""},{"$f":"IFERROR(SMALL($P$1:$P$1921,771),\"\")","v":""}]
[null,null,null,null,null,null,null,null,null,null,null,null,null,null,{"$f":"IF(773<=$B$10,IF(LEN('２学期'!AU13)=0,\"\",IF('２学期'!AU13=$B$8,IF(LEN('２学期'!AX13)=0,\"\",'２学期'!AX13),\"\")),\"\")","v":""},{"$f":"IF(LEN(O773)=0,\"\",IF(COUNTIF(O773:$O$1921,O773+1)>0,\"\",O773+1))","v":""},{"$f":"IFERROR(SMALL($P$1:$P$1921,772),\"\")","v":""}]
[null,null,null,null,null,null,null,null,null,null,null,null,null,null,{"$f":"IF(774<=$B$10,IF(LEN('２学期'!AU16)=0,\"\",IF('２学期'!AU16=$B$8,IF(LEN('２学期'!AX16)=0,\"\",'２学期'!AX16),\"\")),\"\")","v":""},{"$f":"IF(LEN(O774)=0,\"\",IF(COUNTIF(O774:$O$1921,O774+1)>0,\"\",O774+1))","v":""},{"$f":"IFERROR(SMALL($P$1:$P$1921,773),\"\")","v":""}]
[null,null,null,null,null,null,null,null,null,null,null,null,null,null,{"$f":"IF(775<=$B$10,IF(LEN('２学期'!AU19)=0,\"\",IF('２学期'!AU19=$B$8,IF(LEN('２学期'!AX19)=0,\"\",'２学期'!AX19),\"\")),\"\")","v":""},{"$f":"IF(LEN(O775)=0,\"\",IF(COUNTIF(O775:$O$1921,O775+1)>0,\"\",O775+1))","v":""},{"$f":"IFERROR(SMALL($P$1:$P$1921,774),\"\")","v":""}]
[null,null,null,null,null,null,null,null,null,null,null,null,null,null,{"$f":"IF(776<=$B$10,IF(LEN('２学期'!AU22)=0,\"\",IF('２学期'!AU22=$B$8,IF(LEN('２学期'!AX22)=0,\"\",'２学期'!AX22),\"\")),\"\")","v":""},{"$f":"IF(LEN(O776)=0,\"\",IF(COUNTIF(O776:$O$1921,O776+1)>0,\"\",O776+1))","v":""},{"$f":"IFERROR(SMALL($P$1:$P$1921,775),\"\")","v":""}]
[null,null,null,null,null,null,null,null,null,null,null,null,null,null,{"$f":"IF(777<=$B$10,IF(LEN('２学期'!AU25)=0,\"\",IF('２学期'!AU25=$B$8,IF(LEN('２学期'!AX25)=0,\"\",'２学期'!AX25),\"\")),\"\")","v":""},{"$f":"IF(LEN(O777)=0,\"\",IF(COUNTIF(O777:$O$1921,O777+1)>0,\"\",O777+1))","v":""},{"$f":"IFERROR(SMALL($P$1:$P$1921,776),\"\")","v":""}]
[null,null,null,null,null,null,null,null,null,null,null,null,null,null,{"$f":"IF(778<=$B$10,IF(LEN('２学期'!AY6)=0,\"\",IF('２学期'!AY6=$B$8,IF(LEN('２学期'!BB6)=0,\"\",'２学期'!BB6),\"\")),\"\")","v":""},{"$f":"IF(LEN(O778)=0,\"\",IF(COUNTIF(O778:$O$1921,O778+1)>0,\"\",O778+1))","v":""},{"$f":"IFERROR(SMALL($P$1:$P$1921,777),\"\")","v":""}]
[null,null,null,null,null,null,null,null,null,null,null,null,null,null,{"$f":"IF(779<=$B$10,IF(LEN('２学期'!AY7)=0,\"\",IF('２学期'!AY7=$B$8,IF(LEN('２学期'!BB7)=0,\"\",'２学期'!BB7),\"\")),\"\")","v":""},{"$f":"IF(LEN(O779)=0,\"\",IF(COUNTIF(O779:$O$1921,O779+1)>0,\"\",O779+1))","v":""},{"$f":"IFERROR(SMALL($P$1:$P$1921,778),\"\")","v":""}]
[null,null,null,null,null,null,null,null,null,null,null,null,null,null,{"$f":"IF(780<=$B$10,IF(LEN('２学期'!AY10)=0,\"\",IF('２学期'!AY10=$B$8,IF(LEN('２学期'!BB10)=0,\"\",'２学期'!BB10),\"\")),\"\")","v":""},{"$f":"IF(LEN(O780)=0,\"\",IF(COUNTIF(O780:$O$1921,O780+1)>0,\"\",O780+1))","v":""},{"$f":"IFERROR(SMALL($P$1:$P$1921,779),\"\")","v":""}]
[null,null,null,null,null,null,null,null,null,null,null,null,null,null,{"$f":"IF(781<=$B$10,IF(LEN('２学期'!AY13)=0,\"\",IF('２学期'!AY13=$B$8,IF(LEN('２学期'!BB13)=0,\"\",'２学期'!BB13),\"\")),\"\")","v":""},{"$f":"IF(LEN(O781)=0,\"\",IF(COUNTIF(O781:$O$1921,O781+1)>0,\"\",O781+1))","v":""},{"$f":"IFERROR(SMALL($P$1:$P$1921,780),\"\")","v":""}]
[null,null,null,null,null,null,null,null,null,null,null,null,null,null,{"$f":"IF(782<=$B$10,IF(LEN('２学期'!AY16)=0,\"\",IF('２学期'!AY16=$B$8,IF(LEN('２学期'!BB16)=0,\"\",'２学期'!BB16),\"\")),\"\")","v":""},{"$f":"IF(LEN(O782)=0,\"\",IF(COUNTIF(O782:$O$1921,O782+1)>0,\"\",O782+1))","v":""},{"$f":"IFERROR(SMALL($P$1:$P$1921,781),\"\")","v":""}]
[null,null,null,null,null,null,null,null,null,null,null,null,null,null,{"$f":"IF(783<=$B$10,IF(LEN('２学期'!AY19)=0,\"\",IF('２学期'!AY19=$B$8,IF(LEN('２学期'!BB19)=0,\"\",'２学期'!BB19),\"\")),\"\")","v":""},{"$f":"IF(LEN(O783)=0,\"\",IF(COUNTIF(O783:$O$1921,O783+1)>0,\"\",O783+1))","v":""},{"$f":"IFERROR(SMALL($P$1:$P$1921,782),\"\")","v":""}]
[null,null,null,null,null,null,null,null,null,null,null,null,null,null,{"$f":"IF(784<=$B$10,IF(LEN('２学期'!AY22)=0,\"\",IF('２学期'!AY22=$B$8,IF(LEN('２学期'!BB22)=0,\"\",'２学期'!BB22),\"\")),\"\")","v":""},{"$f":"IF(LEN(O784)=0,\"\",IF(COUNTIF(O784:$O$1921,O784+1)>0,\"\",O784+1))","v":""},{"$f":"IFERROR(SMALL($P$1:$P$1921,783),\"\")","v":""}]
[null,null,null,null,null,null,null,null,null,null,null,null,null,null,{"$f":"IF(785<=$B$10,IF(LEN('２学期'!AY25)=0,\"\",IF('２学期'!AY25=$B$8,IF(LEN('２学期'!BB25)=0,\"\",'２学期'!BB25),\"\")),\"\")","v":""},{"$f":"IF(LEN(O785)=0,\"\",IF(COUNTIF(O785:$O$1921,O785+1)>0,\"\",O785+1))","v":""},{"$f":"IFERROR(SMALL($P$1:$P$1921,784),\"\")","v":""}]
[null,null,null,null,null,null,null,null,null,null,null,null,null,null,{"$f":"IF(786<=$B$10,IF(LEN('２学期'!BC6)=0,\"\",IF('２学期'!BC6=$B$8,IF(LEN('２学期'!BF6)=0,\"\",'２学期'!BF6),\"\")),\"\")","v":""},{"$f":"IF(LEN(O786)=0,\"\",IF(COUNTIF(O786:$O$1921,O786+1)>0,\"\",O786+1))","v":""},{"$f":"IFERROR(SMALL($P$1:$P$1921,785),\"\")","v":""}]
[null,null,null,null,null,null,null,null,null,null,null,null,null,null,{"$f":"IF(787<=$B$10,IF(LEN('２学期'!BC7)=0,\"\",IF('２学期'!BC7=$B$8,IF(LEN('２学期'!BF7)=0,\"\",'２学期'!BF7),\"\")),\"\")","v":""},{"$f":"IF(LEN(O787)=0,\"\",IF(COUNTIF(O787:$O$1921,O787+1)>0,\"\",O787+1))","v":""},{"$f":"IFERROR(SMALL($P$1:$P$1921,786),\"\")","v":""}]
[null,null,null,null,null,null,null,null,null,null,null,null,null,null,{"$f":"IF(788<=$B$10,IF(LEN('２学期'!BC10)=0,\"\",IF('２学期'!BC10=$B$8,IF(LEN('２学期'!BF10)=0,\"\",'２学期'!BF10),\"\")),\"\")","v":""},{"$f":"IF(LEN(O788)=0,\"\",IF(COUNTIF(O788:$O$1921,O788+1)>0,\"\",O788+1))","v":""},{"$f":"IFERROR(SMALL($P$1:$P$1921,787),\"\")","v":""}]
[null,null,null,null,null,null,null,null,null,null,null,null,null,null,{"$f":"IF(789<=$B$10,IF(LEN('２学期'!BC13)=0,\"\",IF('２学期'!BC13=$B$8,IF(LEN('２学期'!BF13)=0,\"\",'２学期'!BF13),\"\")),\"\")","v":""},{"$f":"IF(LEN(O789)=0,\"\",IF(COUNTIF(O789:$O$1921,O789+1)>0,\"\",O789+1))","v":""},{"$f":"IFERROR(SMALL($P$1:$P$1921,788),\"\")","v":""}]
[null,null,null,null,null,null,null,null,null,null,null,null,null,null,{"$f":"IF(790<=$B$10,IF(LEN('２学期'!BC16)=0,\"\",IF('２学期'!BC16=$B$8,IF(LEN('２学期'!BF16)=0,\"\",'２学期'!BF16),\"\")),\"\")","v":""},{"$f":"IF(LEN(O790)=0,\"\",IF(COUNTIF(O790:$O$1921,O790+1)>0,\"\",O790+1))","v":""},{"$f":"IFERROR(SMALL($P$1:$P$1921,789),\"\")","v":""}]
[null,null,null,null,null,null,null,null,null,null,null,null,null,null,{"$f":"IF(791<=$B$10,IF(LEN('２学期'!BC19)=0,\"\",IF('２学期'!BC19=$B$8,IF(LEN('２学期'!BF19)=0,\"\",'２学期'!BF19),\"\")),\"\")","v":""},{"$f":"IF(LEN(O791)=0,\"\",IF(COUNTIF(O791:$O$1921,O791+1)>0,\"\",O791+1))","v":""},{"$f":"IFERROR(SMALL($P$1:$P$1921,790),\"\")","v":""}]
[null,null,null,null,null,null,null,null,null,null,null,null,null,null,{"$f":"IF(792<=$B$10,IF(LEN('２学期'!BC22)=0,\"\",IF('２学期'!BC22=$B$8,IF(LEN('２学期'!BF22)=0,\"\",'２学期'!BF22),\"\")),\"\")","v":""},{"$f":"IF(LEN(O792)=0,\"\",IF(COUNTIF(O792:$O$1921,O792+1)>0,\"\",O792+1))","v":""},{"$f":"IFERROR(SMALL($P$1:$P$1921,791),\"\")","v":""}]
[null,null,null,null,null,null,null,null,null,null,null,null,null,null,{"$f":"IF(793<=$B$10,IF(LEN('２学期'!BC25)=0,\"\",IF('２学期'!BC25=$B$8,IF(LEN('２学期'!BF25)=0,\"\",'２学期'!BF25),\"\")),\"\")","v":""},{"$f":"IF(LEN(O793)=0,\"\",IF(COUNTIF(O793:$O$1921,O793+1)>0,\"\",O793+1))","v":""},{"$f":"IFERROR(SMALL($P$1:$P$1921,792),\"\")","v":""}]
[null,null,null,null,null,null,null,null,null,null,null,null,null,null,{"$f":"IF(794<=$B$10,IF(LEN('２学期'!BG6)=0,\"\",IF('２学期'!BG6=$B$8,IF(LEN('２学期'!BJ6)=0,\"\",'２学期'!BJ6),\"\")),\"\")","v":""},{"$f":"IF(LEN(O794)=0,\"\",IF(COUNTIF(O794:$O$1921,O794+1)>0,\"\",O794+1))","v":""},{"$f":"IFERROR(SMALL($P$1:$P$1921,793),\"\")","v":""}]
[null,null,null,null,null,null,null,null,null,null,null,null,null,null,{"$f":"IF(795<=$B$10,IF(LEN('２学期'!BG7)=0,\"\",IF('２学期'!BG7=$B$8,IF(LEN('２学期'!BJ7)=0,\"\",'２学期'!BJ7),\"\")),\"\")","v":""},{"$f":"IF(LEN(O795)=0,\"\",IF(COUNTIF(O795:$O$1921,O795+1)>0,\"\",O795+1))","v":""},{"$f":"IFERROR(SMALL($P$1:$P$1921,794),\"\")","v":""}]
[null,null,null,null,null,null,null,null,null,null,null,null,null,null,{"$f":"IF(796<=$B$10,IF(LEN('２学期'!BG10)=0,\"\",IF('２学期'!BG10=$B$8,IF(LEN('２学期'!BJ10)=0,\"\",'２学期'!BJ10),\"\")),\"\")","v":""},{"$f":"IF(LEN(O796)=0,\"\",IF(COUNTIF(O796:$O$1921,O796+1)>0,\"\",O796+1))","v":""},{"$f":"IFERROR(SMALL($P$1:$P$1921,795),\"\")","v":""}]
[null,null,null,null,null,null,null,null,null,null,null,null,null,null,{"$f":"IF(797<=$B$10,IF(LEN('２学期'!BG13)=0,\"\",IF('２学期'!BG13=$B$8,IF(LEN('２学期'!BJ13)=0,\"\",'２学期'!BJ13),\"\")),\"\")","v":""},{"$f":"IF(LEN(O797)=0,\"\",IF(COUNTIF(O797:$O$1921,O797+1)>0,\"\",O797+1))","v":""},{"$f":"IFERROR(SMALL($P$1:$P$1921,796),\"\")","v":""}]
[null,null,null,null,null,null,null,null,null,null,null,null,null,null,{"$f":"IF(798<=$B$10,IF(LEN('２学期'!BG16)=0,\"\",IF('２学期'!BG16=$B$8,IF(LEN('２学期'!BJ16)=0,\"\",'２学期'!BJ16),\"\")),\"\")","v":""},{"$f":"IF(LEN(O798)=0,\"\",IF(COUNTIF(O798:$O$1921,O798+1)>0,\"\",O798+1))","v":""},{"$f":"IFERROR(SMALL($P$1:$P$1921,797),\"\")","v":""}]
[null,null,null,null,null,null,null,null,null,null,null,null,null,null,{"$f":"IF(799<=$B$10,IF(LEN('２学期'!BG19)=0,\"\",IF('２学期'!BG19=$B$8,IF(LEN('２学期'!BJ19)=0,\"\",'２学期'!BJ19),\"\")),\"\")","v":""},{"$f":"IF(LEN(O799)=0,\"\",IF(COUNTIF(O799:$O$1921,O799+1)>0,\"\",O799+1))","v":""},{"$f":"IFERROR(SMALL($P$1:$P$1921,798),\"\")","v":""}]
[null,null,null,null,null,null,null,null,null,null,null,null,null,null,{"$f":"IF(800<=$B$10,IF(LEN('２学期'!BG22)=0,\"\",IF('２学期'!BG22=$B$8,IF(LEN('２学期'!BJ22)=0,\"\",'２学期'!BJ22),\"\")),\"\")","v":""},{"$f":"IF(LEN(O800)=0,\"\",IF(COUNTIF(O800:$O$1921,O800+1)>0,\"\",O800+1))","v":""},{"$f":"IFERROR(SMALL($P$1:$P$1921,799),\"\")","v":""}]
[null,null,null,null,null,null,null,null,null,null,null,null,null,null,{"$f":"IF(801<=$B$10,IF(LEN('２学期'!BG25)=0,\"\",IF('２学期'!BG25=$B$8,IF(LEN('２学期'!BJ25)=0,\"\",'２学期'!BJ25),\"\")),\"\")","v":""},{"$f":"IF(LEN(O801)=0,\"\",IF(COUNTIF(O801:$O$1921,O801+1)>0,\"\",O801+1))","v":""},{"$f":"IFERROR(SMALL($P$1:$P$1921,800),\"\")","v":""}]
[null,null,null,null,null,null,null,null,null,null,null,null,null,null,{"$f":"IF(802<=$B$10,IF(LEN('２学期'!BK6)=0,\"\",IF('２学期'!BK6=$B$8,IF(LEN('２学期'!BN6)=0,\"\",'２学期'!BN6),\"\")),\"\")","v":""},{"$f":"IF(LEN(O802)=0,\"\",IF(COUNTIF(O802:$O$1921,O802+1)>0,\"\",O802+1))","v":""},{"$f":"IFERROR(SMALL($P$1:$P$1921,801),\"\")","v":""}]
[null,null,null,null,null,null,null,null,null,null,null,null,null,null,{"$f":"IF(803<=$B$10,IF(LEN('２学期'!BK7)=0,\"\",IF('２学期'!BK7=$B$8,IF(LEN('２学期'!BN7)=0,\"\",'２学期'!BN7),\"\")),\"\")","v":""},{"$f":"IF(LEN(O803)=0,\"\",IF(COUNTIF(O803:$O$1921,O803+1)>0,\"\",O803+1))","v":""},{"$f":"IFERROR(SMALL($P$1:$P$1921,802),\"\")","v":""}]
[null,null,null,null,null,null,null,null,null,null,null,null,null,null,{"$f":"IF(804<=$B$10,IF(LEN('２学期'!BK10)=0,\"\",IF('２学期'!BK10=$B$8,IF(LEN('２学期'!BN10)=0,\"\",'２学期'!BN10),\"\")),\"\")","v":""},{"$f":"IF(LEN(O804)=0,\"\",IF(COUNTIF(O804:$O$1921,O804+1)>0,\"\",O804+1))","v":""},{"$f":"IFERROR(SMALL($P$1:$P$1921,803),\"\")","v":""}]
[null,null,null,null,null,null,null,null,null,null,null,null,null,null,{"$f":"IF(805<=$B$10,IF(LEN('２学期'!BK13)=0,\"\",IF('２学期'!BK13=$B$8,IF(LEN('２学期'!BN13)=0,\"\",'２学期'!BN13),\"\")),\"\")","v":""},{"$f":"IF(LEN(O805)=0,\"\",IF(COUNTIF(O805:$O$1921,O805+1)>0,\"\",O805+1))","v":""},{"$f":"IFERROR(SMALL($P$1:$P$1921,804),\"\")","v":""}]
[null,null,null,null,null,null,null,null,null,null,null,null,null,null,{"$f":"IF(806<=$B$10,IF(LEN('２学期'!BK16)=0,\"\",IF('２学期'!BK16=$B$8,IF(LEN('２学期'!BN16)=0,\"\",'２学期'!BN16),\"\")),\"\")","v":""},{"$f":"IF(LEN(O806)=0,\"\",IF(COUNTIF(O806:$O$1921,O806+1)>0,\"\",O806+1))","v":""},{"$f":"IFERROR(SMALL($P$1:$P$1921,805),\"\")","v":""}]
[null,null,null,null,null,null,null,null,null,null,null,null,null,null,{"$f":"IF(807<=$B$10,IF(LEN('２学期'!BK19)=0,\"\",IF('２学期'!BK19=$B$8,IF(LEN('２学期'!BN19)=0,\"\",'２学期'!BN19),\"\")),\"\")","v":""},{"$f":"IF(LEN(O807)=0,\"\",IF(COUNTIF(O807:$O$1921,O807+1)>0,\"\",O807+1))","v":""},{"$f":"IFERROR(SMALL($P$1:$P$1921,806),\"\")","v":""}]
[null,null,null,null,null,null,null,null,null,null,null,null,null,null,{"$f":"IF(808<=$B$10,IF(LEN('２学期'!BK22)=0,\"\",IF('２学期'!BK22=$B$8,IF(LEN('２学期'!BN22)=0,\"\",'２学期'!BN22),\"\")),\"\")","v":""},{"$f":"IF(LEN(O808)=0,\"\",IF(COUNTIF(O808:$O$1921,O808+1)>0,\"\",O808+1))","v":""},{"$f":"IFERROR(SMALL($P$1:$P$1921,807),\"\")","v":""}]
[null,null,null,null,null,null,null,null,null,null,null,null,null,null,{"$f":"IF(809<=$B$10,IF(LEN('２学期'!BK25)=0,\"\",IF('２学期'!BK25=$B$8,IF(LEN('２学期'!BN25)=0,\"\",'２学期'!BN25),\"\")),\"\")","v":""},{"$f":"IF(LEN(O809)=0,\"\",IF(COUNTIF(O809:$O$1921,O809+1)>0,\"\",O809+1))","v":""},{"$f":"IFERROR(SMALL($P$1:$P$1921,808),\"\")","v":""}]
[null,null,null,null,null,null,null,null,null,null,null,null,null,null,{"$f":"IF(810<=$B$10,IF(LEN('２学期'!BO6)=0,\"\",IF('２学期'!BO6=$B$8,IF(LEN('２学期'!BR6)=0,\"\",'２学期'!BR6),\"\")),\"\")","v":""},{"$f":"IF(LEN(O810)=0,\"\",IF(COUNTIF(O810:$O$1921,O810+1)>0,\"\",O810+1))","v":""},{"$f":"IFERROR(SMALL($P$1:$P$1921,809),\"\")","v":""}]
[null,null,null,null,null,null,null,null,null,null,null,null,null,null,{"$f":"IF(811<=$B$10,IF(LEN('２学期'!BO7)=0,\"\",IF('２学期'!BO7=$B$8,IF(LEN('２学期'!BR7)=0,\"\",'２学期'!BR7),\"\")),\"\")","v":""},{"$f":"IF(LEN(O811)=0,\"\",IF(COUNTIF(O811:$O$1921,O811+1)>0,\"\",O811+1))","v":""},{"$f":"IFERROR(SMALL($P$1:$P$1921,810),\"\")","v":""}]
[null,null,null,null,null,null,null,null,null,null,null,null,null,null,{"$f":"IF(812<=$B$10,IF(LEN('２学期'!BO10)=0,\"\",IF('２学期'!BO10=$B$8,IF(LEN('２学期'!BR10)=0,\"\",'２学期'!BR10),\"\")),\"\")","v":""},{"$f":"IF(LEN(O812)=0,\"\",IF(COUNTIF(O812:$O$1921,O812+1)>0,\"\",O812+1))","v":""},{"$f":"IFERROR(SMALL($P$1:$P$1921,811),\"\")","v":""}]
[null,null,null,null,null,null,null,null,null,null,null,null,null,null,{"$f":"IF(813<=$B$10,IF(LEN('２学期'!BO13)=0,\"\",IF('２学期'!BO13=$B$8,IF(LEN('２学期'!BR13)=0,\"\",'２学期'!BR13),\"\")),\"\")","v":""},{"$f":"IF(LEN(O813)=0,\"\",IF(COUNTIF(O813:$O$1921,O813+1)>0,\"\",O813+1))","v":""},{"$f":"IFERROR(SMALL($P$1:$P$1921,812),\"\")","v":""}]
[null,null,null,null,null,null,null,null,null,null,null,null,null,null,{"$f":"IF(814<=$B$10,IF(LEN('２学期'!BO16)=0,\"\",IF('２学期'!BO16=$B$8,IF(LEN('２学期'!BR16)=0,\"\",'２学期'!BR16),\"\")),\"\")","v":""},{"$f":"IF(LEN(O814)=0,\"\",IF(COUNTIF(O814:$O$1921,O814+1)>0,\"\",O814+1))","v":""},{"$f":"IFERROR(SMALL($P$1:$P$1921,813),\"\")","v":""}]
[null,null,null,null,null,null,null,null,null,null,null,null,null,null,{"$f":"IF(815<=$B$10,IF(LEN('２学期'!BO19)=0,\"\",IF('２学期'!BO19=$B$8,IF(LEN('２学期'!BR19)=0,\"\",'２学期'!BR19),\"\")),\"\")","v":""},{"$f":"IF(LEN(O815)=0,\"\",IF(COUNTIF(O815:$O$1921,O815+1)>0,\"\",O815+1))","v":""},{"$f":"IFERROR(SMALL($P$1:$P$1921,814),\"\")","v":""}]
[null,null,null,null,null,null,null,null,null,null,null,null,null,null,{"$f":"IF(816<=$B$10,IF(LEN('２学期'!BO22)=0,\"\",IF('２学期'!BO22=$B$8,IF(LEN('２学期'!BR22)=0,\"\",'２学期'!BR22),\"\")),\"\")","v":""},{"$f":"IF(LEN(O816)=0,\"\",IF(COUNTIF(O816:$O$1921,O816+1)>0,\"\",O816+1))","v":""},{"$f":"IFERROR(SMALL($P$1:$P$1921,815),\"\")","v":""}]
[null,null,null,null,null,null,null,null,null,null,null,null,null,null,{"$f":"IF(817<=$B$10,IF(LEN('２学期'!BO25)=0,\"\",IF('２学期'!BO25=$B$8,IF(LEN('２学期'!BR25)=0,\"\",'２学期'!BR25),\"\")),\"\")","v":""},{"$f":"IF(LEN(O817)=0,\"\",IF(COUNTIF(O817:$O$1921,O817+1)>0,\"\",O817+1))","v":""},{"$f":"IFERROR(SMALL($P$1:$P$1921,816),\"\")","v":""}]
[null,null,null,null,null,null,null,null,null,null,null,null,null,null,{"$f":"IF(818<=$B$10,IF(LEN('２学期'!BS6)=0,\"\",IF('２学期'!BS6=$B$8,IF(LEN('２学期'!BV6)=0,\"\",'２学期'!BV6),\"\")),\"\")","v":""},{"$f":"IF(LEN(O818)=0,\"\",IF(COUNTIF(O818:$O$1921,O818+1)>0,\"\",O818+1))","v":""},{"$f":"IFERROR(SMALL($P$1:$P$1921,817),\"\")","v":""}]
[null,null,null,null,null,null,null,null,null,null,null,null,null,null,{"$f":"IF(819<=$B$10,IF(LEN('２学期'!BS7)=0,\"\",IF('２学期'!BS7=$B$8,IF(LEN('２学期'!BV7)=0,\"\",'２学期'!BV7),\"\")),\"\")","v":""},{"$f":"IF(LEN(O819)=0,\"\",IF(COUNTIF(O819:$O$1921,O819+1)>0,\"\",O819+1))","v":""},{"$f":"IFERROR(SMALL($P$1:$P$1921,818),\"\")","v":""}]
[null,null,null,null,null,null,null,null,null,null,null,null,null,null,{"$f":"IF(820<=$B$10,IF(LEN('２学期'!BS10)=0,\"\",IF('２学期'!BS10=$B$8,IF(LEN('２学期'!BV10)=0,\"\",'２学期'!BV10),\"\")),\"\")","v":""},{"$f":"IF(LEN(O820)=0,\"\",IF(COUNTIF(O820:$O$1921,O820+1)>0,\"\",O820+1))","v":""},{"$f":"IFERROR(SMALL($P$1:$P$1921,819),\"\")","v":""}]
[null,null,null,null,null,null,null,null,null,null,null,null,null,null,{"$f":"IF(821<=$B$10,IF(LEN('２学期'!BS13)=0,\"\",IF('２学期'!BS13=$B$8,IF(LEN('２学期'!BV13)=0,\"\",'２学期'!BV13),\"\")),\"\")","v":""},{"$f":"IF(LEN(O821)=0,\"\",IF(COUNTIF(O821:$O$1921,O821+1)>0,\"\",O821+1))","v":""},{"$f":"IFERROR(SMALL($P$1:$P$1921,820),\"\")","v":""}]
[null,null,null,null,null,null,null,null,null,null,null,null,null,null,{"$f":"IF(822<=$B$10,IF(LEN('２学期'!BS16)=0,\"\",IF('２学期'!BS16=$B$8,IF(LEN('２学期'!BV16)=0,\"\",'２学期'!BV16),\"\")),\"\")","v":""},{"$f":"IF(LEN(O822)=0,\"\",IF(COUNTIF(O822:$O$1921,O822+1)>0,\"\",O822+1))","v":""},{"$f":"IFERROR(SMALL($P$1:$P$1921,821),\"\")","v":""}]
[null,null,null,null,null,null,null,null,null,null,null,null,null,null,{"$f":"IF(823<=$B$10,IF(LEN('２学期'!BS19)=0,\"\",IF('２学期'!BS19=$B$8,IF(LEN('２学期'!BV19)=0,\"\",'２学期'!BV19),\"\")),\"\")","v":""},{"$f":"IF(LEN(O823)=0,\"\",IF(COUNTIF(O823:$O$1921,O823+1)>0,\"\",O823+1))","v":""},{"$f":"IFERROR(SMALL($P$1:$P$1921,822),\"\")","v":""}]
[null,null,null,null,null,null,null,null,null,null,null,null,null,null,{"$f":"IF(824<=$B$10,IF(LEN('２学期'!BS22)=0,\"\",IF('２学期'!BS22=$B$8,IF(LEN('２学期'!BV22)=0,\"\",'２学期'!BV22),\"\")),\"\")","v":""},{"$f":"IF(LEN(O824)=0,\"\",IF(COUNTIF(O824:$O$1921,O824+1)>0,\"\",O824+1))","v":""},{"$f":"IFERROR(SMALL($P$1:$P$1921,823),\"\")","v":""}]
[null,null,null,null,null,null,null,null,null,null,null,null,null,null,{"$f":"IF(825<=$B$10,IF(LEN('２学期'!BS25)=0,\"\",IF('２学期'!BS25=$B$8,IF(LEN('２学期'!BV25)=0,\"\",'２学期'!BV25),\"\")),\"\")","v":""},{"$f":"IF(LEN(O825)=0,\"\",IF(COUNTIF(O825:$O$1921,O825+1)>0,\"\",O825+1))","v":""},{"$f":"IFERROR(SMALL($P$1:$P$1921,824),\"\")","v":""}]
[null,null,null,null,null,null,null,null,null,null,null,null,null,null,{"$f":"IF(826<=$B$10,IF(LEN('２学期'!BW6)=0,\"\",IF('２学期'!BW6=$B$8,IF(LEN('２学期'!BZ6)=0,\"\",'２学期'!BZ6),\"\")),\"\")","v":""},{"$f":"IF(LEN(O826)=0,\"\",IF(COUNTIF(O826:$O$1921,O826+1)>0,\"\",O826+1))","v":""},{"$f":"IFERROR(SMALL($P$1:$P$1921,825),\"\")","v":""}]
[null,null,null,null,null,null,null,null,null,null,null,null,null,null,{"$f":"IF(827<=$B$10,IF(LEN('２学期'!BW7)=0,\"\",IF('２学期'!BW7=$B$8,IF(LEN('２学期'!BZ7)=0,\"\",'２学期'!BZ7),\"\")),\"\")","v":""},{"$f":"IF(LEN(O827)=0,\"\",IF(COUNTIF(O827:$O$1921,O827+1)>0,\"\",O827+1))","v":""},{"$f":"IFERROR(SMALL($P$1:$P$1921,826),\"\")","v":""}]
[null,null,null,null,null,null,null,null,null,null,null,null,null,null,{"$f":"IF(828<=$B$10,IF(LEN('２学期'!BW10)=0,\"\",IF('２学期'!BW10=$B$8,IF(LEN('２学期'!BZ10)=0,\"\",'２学期'!BZ10),\"\")),\"\")","v":""},{"$f":"IF(LEN(O828)=0,\"\",IF(COUNTIF(O828:$O$1921,O828+1)>0,\"\",O828+1))","v":""},{"$f":"IFERROR(SMALL($P$1:$P$1921,827),\"\")","v":""}]
[null,null,null,null,null,null,null,null,null,null,null,null,null,null,{"$f":"IF(829<=$B$10,IF(LEN('２学期'!BW13)=0,\"\",IF('２学期'!BW13=$B$8,IF(LEN('２学期'!BZ13)=0,\"\",'２学期'!BZ13),\"\")),\"\")","v":""},{"$f":"IF(LEN(O829)=0,\"\",IF(COUNTIF(O829:$O$1921,O829+1)>0,\"\",O829+1))","v":""},{"$f":"IFERROR(SMALL($P$1:$P$1921,828),\"\")","v":""}]
[null,null,null,null,null,null,null,null,null,null,null,null,null,null,{"$f":"IF(830<=$B$10,IF(LEN('２学期'!BW16)=0,\"\",IF('２学期'!BW16=$B$8,IF(LEN('２学期'!BZ16)=0,\"\",'２学期'!BZ16),\"\")),\"\")","v":""},{"$f":"IF(LEN(O830)=0,\"\",IF(COUNTIF(O830:$O$1921,O830+1)>0,\"\",O830+1))","v":""},{"$f":"IFERROR(SMALL($P$1:$P$1921,829),\"\")","v":""}]
[null,null,null,null,null,null,null,null,null,null,null,null,null,null,{"$f":"IF(831<=$B$10,IF(LEN('２学期'!BW19)=0,\"\",IF('２学期'!BW19=$B$8,IF(LEN('２学期'!BZ19)=0,\"\",'２学期'!BZ19),\"\")),\"\")","v":""},{"$f":"IF(LEN(O831)=0,\"\",IF(COUNTIF(O831:$O$1921,O831+1)>0,\"\",O831+1))","v":""},{"$f":"IFERROR(SMALL($P$1:$P$1921,830),\"\")","v":""}]
[null,null,null,null,null,null,null,null,null,null,null,null,null,null,{"$f":"IF(832<=$B$10,IF(LEN('２学期'!BW22)=0,\"\",IF('２学期'!BW22=$B$8,IF(LEN('２学期'!BZ22)=0,\"\",'２学期'!BZ22),\"\")),\"\")","v":""},{"$f":"IF(LEN(O832)=0,\"\",IF(COUNTIF(O832:$O$1921,O832+1)>0,\"\",O832+1))","v":""},{"$f":"IFERROR(SMALL($P$1:$P$1921,831),\"\")","v":""}]
[null,null,null,null,null,null,null,null,null,null,null,null,null,null,{"$f":"IF(833<=$B$10,IF(LEN('２学期'!BW25)=0,\"\",IF('２学期'!BW25=$B$8,IF(LEN('２学期'!BZ25)=0,\"\",'２学期'!BZ25),\"\")),\"\")","v":""},{"$f":"IF(LEN(O833)=0,\"\",IF(COUNTIF(O833:$O$1921,O833+1)>0,\"\",O833+1))","v":""},{"$f":"IFERROR(SMALL($P$1:$P$1921,832),\"\")","v":""}]
[null,null,null,null,null,null,null,null,null,null,null,null,null,null,{"$f":"IF(834<=$B$10,IF(LEN('２学期'!CA6)=0,\"\",IF('２学期'!CA6=$B$8,IF(LEN('２学期'!CD6)=0,\"\",'２学期'!CD6),\"\")),\"\")","v":""},{"$f":"IF(LEN(O834)=0,\"\",IF(COUNTIF(O834:$O$1921,O834+1)>0,\"\",O834+1))","v":""},{"$f":"IFERROR(SMALL($P$1:$P$1921,833),\"\")","v":""}]
[null,null,null,null,null,null,null,null,null,null,null,null,null,null,{"$f":"IF(835<=$B$10,IF(LEN('２学期'!CA7)=0,\"\",IF('２学期'!CA7=$B$8,IF(LEN('２学期'!CD7)=0,\"\",'２学期'!CD7),\"\")),\"\")","v":""},{"$f":"IF(LEN(O835)=0,\"\",IF(COUNTIF(O835:$O$1921,O835+1)>0,\"\",O835+1))","v":""},{"$f":"IFERROR(SMALL($P$1:$P$1921,834),\"\")","v":""}]
[null,null,null,null,null,null,null,null,null,null,null,null,null,null,{"$f":"IF(836<=$B$10,IF(LEN('２学期'!CA10)=0,\"\",IF('２学期'!CA10=$B$8,IF(LEN('２学期'!CD10)=0,\"\",'２学期'!CD10),\"\")),\"\")","v":""},{"$f":"IF(LEN(O836)=0,\"\",IF(COUNTIF(O836:$O$1921,O836+1)>0,\"\",O836+1))","v":""},{"$f":"IFERROR(SMALL($P$1:$P$1921,835),\"\")","v":""}]
[null,null,null,null,null,null,null,null,null,null,null,null,null,null,{"$f":"IF(837<=$B$10,IF(LEN('２学期'!CA13)=0,\"\",IF('２学期'!CA13=$B$8,IF(LEN('２学期'!CD13)=0,\"\",'２学期'!CD13),\"\")),\"\")","v":""},{"$f":"IF(LEN(O837)=0,\"\",IF(COUNTIF(O837:$O$1921,O837+1)>0,\"\",O837+1))","v":""},{"$f":"IFERROR(SMALL($P$1:$P$1921,836),\"\")","v":""}]
[null,null,null,null,null,null,null,null,null,null,null,null,null,null,{"$f":"IF(838<=$B$10,IF(LEN('２学期'!CA16)=0,\"\",IF('２学期'!CA16=$B$8,IF(LEN('２学期'!CD16)=0,\"\",'２学期'!CD16),\"\")),\"\")","v":""},{"$f":"IF(LEN(O838)=0,\"\",IF(COUNTIF(O838:$O$1921,O838+1)>0,\"\",O838+1))","v":""},{"$f":"IFERROR(SMALL($P$1:$P$1921,837),\"\")","v":""}]
[null,null,null,null,null,null,null,null,null,null,null,null,null,null,{"$f":"IF(839<=$B$10,IF(LEN('２学期'!CA19)=0,\"\",IF('２学期'!CA19=$B$8,IF(LEN('２学期'!CD19)=0,\"\",'２学期'!CD19),\"\")),\"\")","v":""},{"$f":"IF(LEN(O839)=0,\"\",IF(COUNTIF(O839:$O$1921,O839+1)>0,\"\",O839+1))","v":""},{"$f":"IFERROR(SMALL($P$1:$P$1921,838),\"\")","v":""}]
[null,null,null,null,null,null,null,null,null,null,null,null,null,null,{"$f":"IF(840<=$B$10,IF(LEN('２学期'!CA22)=0,\"\",IF('２学期'!CA22=$B$8,IF(LEN('２学期'!CD22)=0,\"\",'２学期'!CD22),\"\")),\"\")","v":""},{"$f":"IF(LEN(O840)=0,\"\",IF(COUNTIF(O840:$O$1921,O840+1)>0,\"\",O840+1))","v":""},{"$f":"IFERROR(SMALL($P$1:$P$1921,839),\"\")","v":""}]
[null,null,null,null,null,null,null,null,null,null,null,null,null,null,{"$f":"IF(841<=$B$10,IF(LEN('２学期'!CA25)=0,\"\",IF('２学期'!CA25=$B$8,IF(LEN('２学期'!CD25)=0,\"\",'２学期'!CD25),\"\")),\"\")","v":""},{"$f":"IF(LEN(O841)=0,\"\",IF(COUNTIF(O841:$O$1921,O841+1)>0,\"\",O841+1))","v":""},{"$f":"IFERROR(SMALL($P$1:$P$1921,840),\"\")","v":""}]
[null,null,null,null,null,null,null,null,null,null,null,null,null,null,{"$f":"IF(842<=$B$10,IF(LEN('２学期'!CE6)=0,\"\",IF('２学期'!CE6=$B$8,IF(LEN('２学期'!CH6)=0,\"\",'２学期'!CH6),\"\")),\"\")","v":""},{"$f":"IF(LEN(O842)=0,\"\",IF(COUNTIF(O842:$O$1921,O842+1)>0,\"\",O842+1))","v":""},{"$f":"IFERROR(SMALL($P$1:$P$1921,841),\"\")","v":""}]
[null,null,null,null,null,null,null,null,null,null,null,null,null,null,{"$f":"IF(843<=$B$10,IF(LEN('２学期'!CE7)=0,\"\",IF('２学期'!CE7=$B$8,IF(LEN('２学期'!CH7)=0,\"\",'２学期'!CH7),\"\")),\"\")","v":""},{"$f":"IF(LEN(O843)=0,\"\",IF(COUNTIF(O843:$O$1921,O843+1)>0,\"\",O843+1))","v":""},{"$f":"IFERROR(SMALL($P$1:$P$1921,842),\"\")","v":""}]
[null,null,null,null,null,null,null,null,null,null,null,null,null,null,{"$f":"IF(844<=$B$10,IF(LEN('２学期'!CE10)=0,\"\",IF('２学期'!CE10=$B$8,IF(LEN('２学期'!CH10)=0,\"\",'２学期'!CH10),\"\")),\"\")","v":""},{"$f":"IF(LEN(O844)=0,\"\",IF(COUNTIF(O844:$O$1921,O844+1)>0,\"\",O844+1))","v":""},{"$f":"IFERROR(SMALL($P$1:$P$1921,843),\"\")","v":""}]
[null,null,null,null,null,null,null,null,null,null,null,null,null,null,{"$f":"IF(845<=$B$10,IF(LEN('２学期'!CE13)=0,\"\",IF('２学期'!CE13=$B$8,IF(LEN('２学期'!CH13)=0,\"\",'２学期'!CH13),\"\")),\"\")","v":""},{"$f":"IF(LEN(O845)=0,\"\",IF(COUNTIF(O845:$O$1921,O845+1)>0,\"\",O845+1))","v":""},{"$f":"IFERROR(SMALL($P$1:$P$1921,844),\"\")","v":""}]
[null,null,null,null,null,null,null,null,null,null,null,null,null,null,{"$f":"IF(846<=$B$10,IF(LEN('２学期'!CE16)=0,\"\",IF('２学期'!CE16=$B$8,IF(LEN('２学期'!CH16)=0,\"\",'２学期'!CH16),\"\")),\"\")","v":""},{"$f":"IF(LEN(O846)=0,\"\",IF(COUNTIF(O846:$O$1921,O846+1)>0,\"\",O846+1))","v":""},{"$f":"IFERROR(SMALL($P$1:$P$1921,845),\"\")","v":""}]
[null,null,null,null,null,null,null,null,null,null,null,null,null,null,{"$f":"IF(847<=$B$10,IF(LEN('２学期'!CE19)=0,\"\",IF('２学期'!CE19=$B$8,IF(LEN('２学期'!CH19)=0,\"\",'２学期'!CH19),\"\")),\"\")","v":""},{"$f":"IF(LEN(O847)=0,\"\",IF(COUNTIF(O847:$O$1921,O847+1)>0,\"\",O847+1))","v":""},{"$f":"IFERROR(SMALL($P$1:$P$1921,846),\"\")","v":""}]
[null,null,null,null,null,null,null,null,null,null,null,null,null,null,{"$f":"IF(848<=$B$10,IF(LEN('２学期'!CE22)=0,\"\",IF('２学期'!CE22=$B$8,IF(LEN('２学期'!CH22)=0,\"\",'２学期'!CH22),\"\")),\"\")","v":""},{"$f":"IF(LEN(O848)=0,\"\",IF(COUNTIF(O848:$O$1921,O848+1)>0,\"\",O848+1))","v":""},{"$f":"IFERROR(SMALL($P$1:$P$1921,847),\"\")","v":""}]
[null,null,null,null,null,null,null,null,null,null,null,null,null,null,{"$f":"IF(849<=$B$10,IF(LEN('２学期'!CE25)=0,\"\",IF('２学期'!CE25=$B$8,IF(LEN('２学期'!CH25)=0,\"\",'２学期'!CH25),\"\")),\"\")","v":""},{"$f":"IF(LEN(O849)=0,\"\",IF(COUNTIF(O849:$O$1921,O849+1)>0,\"\",O849+1))","v":""},{"$f":"IFERROR(SMALL($P$1:$P$1921,848),\"\")","v":""}]
[null,null,null,null,null,null,null,null,null,null,null,null,null,null,{"$f":"IF(850<=$B$10,IF(LEN('２学期'!CI6)=0,\"\",IF('２学期'!CI6=$B$8,IF(LEN('２学期'!CL6)=0,\"\",'２学期'!CL6),\"\")),\"\")","v":""},{"$f":"IF(LEN(O850)=0,\"\",IF(COUNTIF(O850:$O$1921,O850+1)>0,\"\",O850+1))","v":""},{"$f":"IFERROR(SMALL($P$1:$P$1921,849),\"\")","v":""}]
[null,null,null,null,null,null,null,null,null,null,null,null,null,null,{"$f":"IF(851<=$B$10,IF(LEN('２学期'!CI7)=0,\"\",IF('２学期'!CI7=$B$8,IF(LEN('２学期'!CL7)=0,\"\",'２学期'!CL7),\"\")),\"\")","v":""},{"$f":"IF(LEN(O851)=0,\"\",IF(COUNTIF(O851:$O$1921,O851+1)>0,\"\",O851+1))","v":""},{"$f":"IFERROR(SMALL($P$1:$P$1921,850),\"\")","v":""}]
[null,null,null,null,null,null,null,null,null,null,null,null,null,null,{"$f":"IF(852<=$B$10,IF(LEN('２学期'!CI10)=0,\"\",IF('２学期'!CI10=$B$8,IF(LEN('２学期'!CL10)=0,\"\",'２学期'!CL10),\"\")),\"\")","v":""},{"$f":"IF(LEN(O852)=0,\"\",IF(COUNTIF(O852:$O$1921,O852+1)>0,\"\",O852+1))","v":""},{"$f":"IFERROR(SMALL($P$1:$P$1921,851),\"\")","v":""}]
[null,null,null,null,null,null,null,null,null,null,null,null,null,null,{"$f":"IF(853<=$B$10,IF(LEN('２学期'!CI13)=0,\"\",IF('２学期'!CI13=$B$8,IF(LEN('２学期'!CL13)=0,\"\",'２学期'!CL13),\"\")),\"\")","v":""},{"$f":"IF(LEN(O853)=0,\"\",IF(COUNTIF(O853:$O$1921,O853+1)>0,\"\",O853+1))","v":""},{"$f":"IFERROR(SMALL($P$1:$P$1921,852),\"\")","v":""}]
[null,null,null,null,null,null,null,null,null,null,null,null,null,null,{"$f":"IF(854<=$B$10,IF(LEN('２学期'!CI16)=0,\"\",IF('２学期'!CI16=$B$8,IF(LEN('２学期'!CL16)=0,\"\",'２学期'!CL16),\"\")),\"\")","v":""},{"$f":"IF(LEN(O854)=0,\"\",IF(COUNTIF(O854:$O$1921,O854+1)>0,\"\",O854+1))","v":""},{"$f":"IFERROR(SMALL($P$1:$P$1921,853),\"\")","v":""}]
[null,null,null,null,null,null,null,null,null,null,null,null,null,null,{"$f":"IF(855<=$B$10,IF(LEN('２学期'!CI19)=0,\"\",IF('２学期'!CI19=$B$8,IF(LEN('２学期'!CL19)=0,\"\",'２学期'!CL19),\"\")),\"\")","v":""},{"$f":"IF(LEN(O855)=0,\"\",IF(COUNTIF(O855:$O$1921,O855+1)>0,\"\",O855+1))","v":""},{"$f":"IFERROR(SMALL($P$1:$P$1921,854),\"\")","v":""}]
[null,null,null,null,null,null,null,null,null,null,null,null,null,null,{"$f":"IF(856<=$B$10,IF(LEN('２学期'!CI22)=0,\"\",IF('２学期'!CI22=$B$8,IF(LEN('２学期'!CL22)=0,\"\",'２学期'!CL22),\"\")),\"\")","v":""},{"$f":"IF(LEN(O856)=0,\"\",IF(COUNTIF(O856:$O$1921,O856+1)>0,\"\",O856+1))","v":""},{"$f":"IFERROR(SMALL($P$1:$P$1921,855),\"\")","v":""}]
[null,null,null,null,null,null,null,null,null,null,null,null,null,null,{"$f":"IF(857<=$B$10,IF(LEN('２学期'!CI25)=0,\"\",IF('２学期'!CI25=$B$8,IF(LEN('２学期'!CL25)=0,\"\",'２学期'!CL25),\"\")),\"\")","v":""},{"$f":"IF(LEN(O857)=0,\"\",IF(COUNTIF(O857:$O$1921,O857+1)>0,\"\",O857+1))","v":""},{"$f":"IFERROR(SMALL($P$1:$P$1921,856),\"\")","v":""}]
[null,null,null,null,null,null,null,null,null,null,null,null,null,null,{"$f":"IF(858<=$B$10,IF(LEN('２学期'!CM6)=0,\"\",IF('２学期'!CM6=$B$8,IF(LEN('２学期'!CP6)=0,\"\",'２学期'!CP6),\"\")),\"\")","v":""},{"$f":"IF(LEN(O858)=0,\"\",IF(COUNTIF(O858:$O$1921,O858+1)>0,\"\",O858+1))","v":""},{"$f":"IFERROR(SMALL($P$1:$P$1921,857),\"\")","v":""}]
[null,null,null,null,null,null,null,null,null,null,null,null,null,null,{"$f":"IF(859<=$B$10,IF(LEN('２学期'!CM7)=0,\"\",IF('２学期'!CM7=$B$8,IF(LEN('２学期'!CP7)=0,\"\",'２学期'!CP7),\"\")),\"\")","v":""},{"$f":"IF(LEN(O859)=0,\"\",IF(COUNTIF(O859:$O$1921,O859+1)>0,\"\",O859+1))","v":""},{"$f":"IFERROR(SMALL($P$1:$P$1921,858),\"\")","v":""}]
[null,null,null,null,null,null,null,null,null,null,null,null,null,null,{"$f":"IF(860<=$B$10,IF(LEN('２学期'!CM10)=0,\"\",IF('２学期'!CM10=$B$8,IF(LEN('２学期'!CP10)=0,\"\",'２学期'!CP10),\"\")),\"\")","v":""},{"$f":"IF(LEN(O860)=0,\"\",IF(COUNTIF(O860:$O$1921,O860+1)>0,\"\",O860+1))","v":""},{"$f":"IFERROR(SMALL($P$1:$P$1921,859),\"\")","v":""}]
[null,null,null,null,null,null,null,null,null,null,null,null,null,null,{"$f":"IF(861<=$B$10,IF(LEN('２学期'!CM13)=0,\"\",IF('２学期'!CM13=$B$8,IF(LEN('２学期'!CP13)=0,\"\",'２学期'!CP13),\"\")),\"\")","v":""},{"$f":"IF(LEN(O861)=0,\"\",IF(COUNTIF(O861:$O$1921,O861+1)>0,\"\",O861+1))","v":""},{"$f":"IFERROR(SMALL($P$1:$P$1921,860),\"\")","v":""}]
[null,null,null,null,null,null,null,null,null,null,null,null,null,null,{"$f":"IF(862<=$B$10,IF(LEN('２学期'!CM16)=0,\"\",IF('２学期'!CM16=$B$8,IF(LEN('２学期'!CP16)=0,\"\",'２学期'!CP16),\"\")),\"\")","v":""},{"$f":"IF(LEN(O862)=0,\"\",IF(COUNTIF(O862:$O$1921,O862+1)>0,\"\",O862+1))","v":""},{"$f":"IFERROR(SMALL($P$1:$P$1921,861),\"\")","v":""}]
[null,null,null,null,null,null,null,null,null,null,null,null,null,null,{"$f":"IF(863<=$B$10,IF(LEN('２学期'!CM19)=0,\"\",IF('２学期'!CM19=$B$8,IF(LEN('２学期'!CP19)=0,\"\",'２学期'!CP19),\"\")),\"\")","v":""},{"$f":"IF(LEN(O863)=0,\"\",IF(COUNTIF(O863:$O$1921,O863+1)>0,\"\",O863+1))","v":""},{"$f":"IFERROR(SMALL($P$1:$P$1921,862),\"\")","v":""}]
[null,null,null,null,null,null,null,null,null,null,null,null,null,null,{"$f":"IF(864<=$B$10,IF(LEN('２学期'!CM22)=0,\"\",IF('２学期'!CM22=$B$8,IF(LEN('２学期'!CP22)=0,\"\",'２学期'!CP22),\"\")),\"\")","v":""},{"$f":"IF(LEN(O864)=0,\"\",IF(COUNTIF(O864:$O$1921,O864+1)>0,\"\",O864+1))","v":""},{"$f":"IFERROR(SMALL($P$1:$P$1921,863),\"\")","v":""}]
[null,null,null,null,null,null,null,null,null,null,null,null,null,null,{"$f":"IF(865<=$B$10,IF(LEN('２学期'!CM25)=0,\"\",IF('２学期'!CM25=$B$8,IF(LEN('２学期'!CP25)=0,\"\",'２学期'!CP25),\"\")),\"\")","v":""},{"$f":"IF(LEN(O865)=0,\"\",IF(COUNTIF(O865:$O$1921,O865+1)>0,\"\",O865+1))","v":""},{"$f":"IFERROR(SMALL($P$1:$P$1921,864),\"\")","v":""}]
[null,null,null,null,null,null,null,null,null,null,null,null,null,null,{"$f":"IF(866<=$B$10,IF(LEN('２学期'!CQ6)=0,\"\",IF('２学期'!CQ6=$B$8,IF(LEN('２学期'!CT6)=0,\"\",'２学期'!CT6),\"\")),\"\")","v":""},{"$f":"IF(LEN(O866)=0,\"\",IF(COUNTIF(O866:$O$1921,O866+1)>0,\"\",O866+1))","v":""},{"$f":"IFERROR(SMALL($P$1:$P$1921,865),\"\")","v":""}]
[null,null,null,null,null,null,null,null,null,null,null,null,null,null,{"$f":"IF(867<=$B$10,IF(LEN('２学期'!CQ7)=0,\"\",IF('２学期'!CQ7=$B$8,IF(LEN('２学期'!CT7)=0,\"\",'２学期'!CT7),\"\")),\"\")","v":""},{"$f":"IF(LEN(O867)=0,\"\",IF(COUNTIF(O867:$O$1921,O867+1)>0,\"\",O867+1))","v":""},{"$f":"IFERROR(SMALL($P$1:$P$1921,866),\"\")","v":""}]
[null,null,null,null,null,null,null,null,null,null,null,null,null,null,{"$f":"IF(868<=$B$10,IF(LEN('２学期'!CQ10)=0,\"\",IF('２学期'!CQ10=$B$8,IF(LEN('２学期'!CT10)=0,\"\",'２学期'!CT10),\"\")),\"\")","v":""},{"$f":"IF(LEN(O868)=0,\"\",IF(COUNTIF(O868:$O$1921,O868+1)>0,\"\",O868+1))","v":""},{"$f":"IFERROR(SMALL($P$1:$P$1921,867),\"\")","v":""}]
[null,null,null,null,null,null,null,null,null,null,null,null,null,null,{"$f":"IF(869<=$B$10,IF(LEN('２学期'!CQ13)=0,\"\",IF('２学期'!CQ13=$B$8,IF(LEN('２学期'!CT13)=0,\"\",'２学期'!CT13),\"\")),\"\")","v":""},{"$f":"IF(LEN(O869)=0,\"\",IF(COUNTIF(O869:$O$1921,O869+1)>0,\"\",O869+1))","v":""},{"$f":"IFERROR(SMALL($P$1:$P$1921,868),\"\")","v":""}]
[null,null,null,null,null,null,null,null,null,null,null,null,null,null,{"$f":"IF(870<=$B$10,IF(LEN('２学期'!CQ16)=0,\"\",IF('２学期'!CQ16=$B$8,IF(LEN('２学期'!CT16)=0,\"\",'２学期'!CT16),\"\")),\"\")","v":""},{"$f":"IF(LEN(O870)=0,\"\",IF(COUNTIF(O870:$O$1921,O870+1)>0,\"\",O870+1))","v":""},{"$f":"IFERROR(SMALL($P$1:$P$1921,869),\"\")","v":""}]
[null,null,null,null,null,null,null,null,null,null,null,null,null,null,{"$f":"IF(871<=$B$10,IF(LEN('２学期'!CQ19)=0,\"\",IF('２学期'!CQ19=$B$8,IF(LEN('２学期'!CT19)=0,\"\",'２学期'!CT19),\"\")),\"\")","v":""},{"$f":"IF(LEN(O871)=0,\"\",IF(COUNTIF(O871:$O$1921,O871+1)>0,\"\",O871+1))","v":""},{"$f":"IFERROR(SMALL($P$1:$P$1921,870),\"\")","v":""}]
[null,null,null,null,null,null,null,null,null,null,null,null,null,null,{"$f":"IF(872<=$B$10,IF(LEN('２学期'!CQ22)=0,\"\",IF('２学期'!CQ22=$B$8,IF(LEN('２学期'!CT22)=0,\"\",'２学期'!CT22),\"\")),\"\")","v":""},{"$f":"IF(LEN(O872)=0,\"\",IF(COUNTIF(O872:$O$1921,O872+1)>0,\"\",O872+1))","v":""},{"$f":"IFERROR(SMALL($P$1:$P$1921,871),\"\")","v":""}]
[null,null,null,null,null,null,null,null,null,null,null,null,null,null,{"$f":"IF(873<=$B$10,IF(LEN('２学期'!CQ25)=0,\"\",IF('２学期'!CQ25=$B$8,IF(LEN('２学期'!CT25)=0,\"\",'２学期'!CT25),\"\")),\"\")","v":""},{"$f":"IF(LEN(O873)=0,\"\",IF(COUNTIF(O873:$O$1921,O873+1)>0,\"\",O873+1))","v":""},{"$f":"IFERROR(SMALL($P$1:$P$1921,872),\"\")","v":""}]
[null,null,null,null,null,null,null,null,null,null,null,null,null,null,{"$f":"IF(874<=$B$10,IF(LEN('２学期'!CU6)=0,\"\",IF('２学期'!CU6=$B$8,IF(LEN('２学期'!CX6)=0,\"\",'２学期'!CX6),\"\")),\"\")","v":""},{"$f":"IF(LEN(O874)=0,\"\",IF(COUNTIF(O874:$O$1921,O874+1)>0,\"\",O874+1))","v":""},{"$f":"IFERROR(SMALL($P$1:$P$1921,873),\"\")","v":""}]
[null,null,null,null,null,null,null,null,null,null,null,null,null,null,{"$f":"IF(875<=$B$10,IF(LEN('２学期'!CU7)=0,\"\",IF('２学期'!CU7=$B$8,IF(LEN('２学期'!CX7)=0,\"\",'２学期'!CX7),\"\")),\"\")","v":""},{"$f":"IF(LEN(O875)=0,\"\",IF(COUNTIF(O875:$O$1921,O875+1)>0,\"\",O875+1))","v":""},{"$f":"IFERROR(SMALL($P$1:$P$1921,874),\"\")","v":""}]
[null,null,null,null,null,null,null,null,null,null,null,null,null,null,{"$f":"IF(876<=$B$10,IF(LEN('２学期'!CU10)=0,\"\",IF('２学期'!CU10=$B$8,IF(LEN('２学期'!CX10)=0,\"\",'２学期'!CX10),\"\")),\"\")","v":""},{"$f":"IF(LEN(O876)=0,\"\",IF(COUNTIF(O876:$O$1921,O876+1)>0,\"\",O876+1))","v":""},{"$f":"IFERROR(SMALL($P$1:$P$1921,875),\"\")","v":""}]
[null,null,null,null,null,null,null,null,null,null,null,null,null,null,{"$f":"IF(877<=$B$10,IF(LEN('２学期'!CU13)=0,\"\",IF('２学期'!CU13=$B$8,IF(LEN('２学期'!CX13)=0,\"\",'２学期'!CX13),\"\")),\"\")","v":""},{"$f":"IF(LEN(O877)=0,\"\",IF(COUNTIF(O877:$O$1921,O877+1)>0,\"\",O877+1))","v":""},{"$f":"IFERROR(SMALL($P$1:$P$1921,876),\"\")","v":""}]
[null,null,null,null,null,null,null,null,null,null,null,null,null,null,{"$f":"IF(878<=$B$10,IF(LEN('２学期'!CU16)=0,\"\",IF('２学期'!CU16=$B$8,IF(LEN('２学期'!CX16)=0,\"\",'２学期'!CX16),\"\")),\"\")","v":""},{"$f":"IF(LEN(O878)=0,\"\",IF(COUNTIF(O878:$O$1921,O878+1)>0,\"\",O878+1))","v":""},{"$f":"IFERROR(SMALL($P$1:$P$1921,877),\"\")","v":""}]
[null,null,null,null,null,null,null,null,null,null,null,null,null,null,{"$f":"IF(879<=$B$10,IF(LEN('２学期'!CU19)=0,\"\",IF('２学期'!CU19=$B$8,IF(LEN('２学期'!CX19)=0,\"\",'２学期'!CX19),\"\")),\"\")","v":""},{"$f":"IF(LEN(O879)=0,\"\",IF(COUNTIF(O879:$O$1921,O879+1)>0,\"\",O879+1))","v":""},{"$f":"IFERROR(SMALL($P$1:$P$1921,878),\"\")","v":""}]
[null,null,null,null,null,null,null,null,null,null,null,null,null,null,{"$f":"IF(880<=$B$10,IF(LEN('２学期'!CU22)=0,\"\",IF('２学期'!CU22=$B$8,IF(LEN('２学期'!CX22)=0,\"\",'２学期'!CX22),\"\")),\"\")","v":""},{"$f":"IF(LEN(O880)=0,\"\",IF(COUNTIF(O880:$O$1921,O880+1)>0,\"\",O880+1))","v":""},{"$f":"IFERROR(SMALL($P$1:$P$1921,879),\"\")","v":""}]
[null,null,null,null,null,null,null,null,null,null,null,null,null,null,{"$f":"IF(881<=$B$10,IF(LEN('２学期'!CU25)=0,\"\",IF('２学期'!CU25=$B$8,IF(LEN('２学期'!CX25)=0,\"\",'２学期'!CX25),\"\")),\"\")","v":""},{"$f":"IF(LEN(O881)=0,\"\",IF(COUNTIF(O881:$O$1921,O881+1)>0,\"\",O881+1))","v":""},{"$f":"IFERROR(SMALL($P$1:$P$1921,880),\"\")","v":""}]
[null,null,null,null,null,null,null,null,null,null,null,null,null,null,{"$f":"IF(882<=$B$10,IF(LEN('２学期'!CY6)=0,\"\",IF('２学期'!CY6=$B$8,IF(LEN('２学期'!DB6)=0,\"\",'２学期'!DB6),\"\")),\"\")","v":""},{"$f":"IF(LEN(O882)=0,\"\",IF(COUNTIF(O882:$O$1921,O882+1)>0,\"\",O882+1))","v":""},{"$f":"IFERROR(SMALL($P$1:$P$1921,881),\"\")","v":""}]
[null,null,null,null,null,null,null,null,null,null,null,null,null,null,{"$f":"IF(883<=$B$10,IF(LEN('２学期'!CY7)=0,\"\",IF('２学期'!CY7=$B$8,IF(LEN('２学期'!DB7)=0,\"\",'２学期'!DB7),\"\")),\"\")","v":""},{"$f":"IF(LEN(O883)=0,\"\",IF(COUNTIF(O883:$O$1921,O883+1)>0,\"\",O883+1))","v":""},{"$f":"IFERROR(SMALL($P$1:$P$1921,882),\"\")","v":""}]
[null,null,null,null,null,null,null,null,null,null,null,null,null,null,{"$f":"IF(884<=$B$10,IF(LEN('２学期'!CY10)=0,\"\",IF('２学期'!CY10=$B$8,IF(LEN('２学期'!DB10)=0,\"\",'２学期'!DB10),\"\")),\"\")","v":""},{"$f":"IF(LEN(O884)=0,\"\",IF(COUNTIF(O884:$O$1921,O884+1)>0,\"\",O884+1))","v":""},{"$f":"IFERROR(SMALL($P$1:$P$1921,883),\"\")","v":""}]
[null,null,null,null,null,null,null,null,null,null,null,null,null,null,{"$f":"IF(885<=$B$10,IF(LEN('２学期'!CY13)=0,\"\",IF('２学期'!CY13=$B$8,IF(LEN('２学期'!DB13)=0,\"\",'２学期'!DB13),\"\")),\"\")","v":""},{"$f":"IF(LEN(O885)=0,\"\",IF(COUNTIF(O885:$O$1921,O885+1)>0,\"\",O885+1))","v":""},{"$f":"IFERROR(SMALL($P$1:$P$1921,884),\"\")","v":""}]
[null,null,null,null,null,null,null,null,null,null,null,null,null,null,{"$f":"IF(886<=$B$10,IF(LEN('２学期'!CY16)=0,\"\",IF('２学期'!CY16=$B$8,IF(LEN('２学期'!DB16)=0,\"\",'２学期'!DB16),\"\")),\"\")","v":""},{"$f":"IF(LEN(O886)=0,\"\",IF(COUNTIF(O886:$O$1921,O886+1)>0,\"\",O886+1))","v":""},{"$f":"IFERROR(SMALL($P$1:$P$1921,885),\"\")","v":""}]
[null,null,null,null,null,null,null,null,null,null,null,null,null,null,{"$f":"IF(887<=$B$10,IF(LEN('２学期'!CY19)=0,\"\",IF('２学期'!CY19=$B$8,IF(LEN('２学期'!DB19)=0,\"\",'２学期'!DB19),\"\")),\"\")","v":""},{"$f":"IF(LEN(O887)=0,\"\",IF(COUNTIF(O887:$O$1921,O887+1)>0,\"\",O887+1))","v":""},{"$f":"IFERROR(SMALL($P$1:$P$1921,886),\"\")","v":""}]
[null,null,null,null,null,null,null,null,null,null,null,null,null,null,{"$f":"IF(888<=$B$10,IF(LEN('２学期'!CY22)=0,\"\",IF('２学期'!CY22=$B$8,IF(LEN('２学期'!DB22)=0,\"\",'２学期'!DB22),\"\")),\"\")","v":""},{"$f":"IF(LEN(O888)=0,\"\",IF(COUNTIF(O888:$O$1921,O888+1)>0,\"\",O888+1))","v":""},{"$f":"IFERROR(SMALL($P$1:$P$1921,887),\"\")","v":""}]
[null,null,null,null,null,null,null,null,null,null,null,null,null,null,{"$f":"IF(889<=$B$10,IF(LEN('２学期'!CY25)=0,\"\",IF('２学期'!CY25=$B$8,IF(LEN('２学期'!DB25)=0,\"\",'２学期'!DB25),\"\")),\"\")","v":""},{"$f":"IF(LEN(O889)=0,\"\",IF(COUNTIF(O889:$O$1921,O889+1)>0,\"\",O889+1))","v":""},{"$f":"IFERROR(SMALL($P$1:$P$1921,888),\"\")","v":""}]
[null,null,null,null,null,null,null,null,null,null,null,null,null,null,{"$f":"IF(890<=$B$10,IF(LEN('２学期'!DC6)=0,\"\",IF('２学期'!DC6=$B$8,IF(LEN('２学期'!DF6)=0,\"\",'２学期'!DF6),\"\")),\"\")","v":""},{"$f":"IF(LEN(O890)=0,\"\",IF(COUNTIF(O890:$O$1921,O890+1)>0,\"\",O890+1))","v":""},{"$f":"IFERROR(SMALL($P$1:$P$1921,889),\"\")","v":""}]
[null,null,null,null,null,null,null,null,null,null,null,null,null,null,{"$f":"IF(891<=$B$10,IF(LEN('２学期'!DC7)=0,\"\",IF('２学期'!DC7=$B$8,IF(LEN('２学期'!DF7)=0,\"\",'２学期'!DF7),\"\")),\"\")","v":""},{"$f":"IF(LEN(O891)=0,\"\",IF(COUNTIF(O891:$O$1921,O891+1)>0,\"\",O891+1))","v":""},{"$f":"IFERROR(SMALL($P$1:$P$1921,890),\"\")","v":""}]
[null,null,null,null,null,null,null,null,null,null,null,null,null,null,{"$f":"IF(892<=$B$10,IF(LEN('２学期'!DC10)=0,\"\",IF('２学期'!DC10=$B$8,IF(LEN('２学期'!DF10)=0,\"\",'２学期'!DF10),\"\")),\"\")","v":""},{"$f":"IF(LEN(O892)=0,\"\",IF(COUNTIF(O892:$O$1921,O892+1)>0,\"\",O892+1))","v":""},{"$f":"IFERROR(SMALL($P$1:$P$1921,891),\"\")","v":""}]
[null,null,null,null,null,null,null,null,null,null,null,null,null,null,{"$f":"IF(893<=$B$10,IF(LEN('２学期'!DC13)=0,\"\",IF('２学期'!DC13=$B$8,IF(LEN('２学期'!DF13)=0,\"\",'２学期'!DF13),\"\")),\"\")","v":""},{"$f":"IF(LEN(O893)=0,\"\",IF(COUNTIF(O893:$O$1921,O893+1)>0,\"\",O893+1))","v":""},{"$f":"IFERROR(SMALL($P$1:$P$1921,892),\"\")","v":""}]
[null,null,null,null,null,null,null,null,null,null,null,null,null,null,{"$f":"IF(894<=$B$10,IF(LEN('２学期'!DC16)=0,\"\",IF('２学期'!DC16=$B$8,IF(LEN('２学期'!DF16)=0,\"\",'２学期'!DF16),\"\")),\"\")","v":""},{"$f":"IF(LEN(O894)=0,\"\",IF(COUNTIF(O894:$O$1921,O894+1)>0,\"\",O894+1))","v":""},{"$f":"IFERROR(SMALL($P$1:$P$1921,893),\"\")","v":""}]
[null,null,null,null,null,null,null,null,null,null,null,null,null,null,{"$f":"IF(895<=$B$10,IF(LEN('２学期'!DC19)=0,\"\",IF('２学期'!DC19=$B$8,IF(LEN('２学期'!DF19)=0,\"\",'２学期'!DF19),\"\")),\"\")","v":""},{"$f":"IF(LEN(O895)=0,\"\",IF(COUNTIF(O895:$O$1921,O895+1)>0,\"\",O895+1))","v":""},{"$f":"IFERROR(SMALL($P$1:$P$1921,894),\"\")","v":""}]
[null,null,null,null,null,null,null,null,null,null,null,null,null,null,{"$f":"IF(896<=$B$10,IF(LEN('２学期'!DC22)=0,\"\",IF('２学期'!DC22=$B$8,IF(LEN('２学期'!DF22)=0,\"\",'２学期'!DF22),\"\")),\"\")","v":""},{"$f":"IF(LEN(O896)=0,\"\",IF(COUNTIF(O896:$O$1921,O896+1)>0,\"\",O896+1))","v":""},{"$f":"IFERROR(SMALL($P$1:$P$1921,895),\"\")","v":""}]
[null,null,null,null,null,null,null,null,null,null,null,null,null,null,{"$f":"IF(897<=$B$10,IF(LEN('２学期'!DC25)=0,\"\",IF('２学期'!DC25=$B$8,IF(LEN('２学期'!DF25)=0,\"\",'２学期'!DF25),\"\")),\"\")","v":""},{"$f":"IF(LEN(O897)=0,\"\",IF(COUNTIF(O897:$O$1921,O897+1)>0,\"\",O897+1))","v":""},{"$f":"IFERROR(SMALL($P$1:$P$1921,896),\"\")","v":""}]
[null,null,null,null,null,null,null,null,null,null,null,null,null,null,{"$f":"IF(898<=$B$10,IF(LEN('２学期'!DG6)=0,\"\",IF('２学期'!DG6=$B$8,IF(LEN('２学期'!DJ6)=0,\"\",'２学期'!DJ6),\"\")),\"\")","v":""},{"$f":"IF(LEN(O898)=0,\"\",IF(COUNTIF(O898:$O$1921,O898+1)>0,\"\",O898+1))","v":""},{"$f":"IFERROR(SMALL($P$1:$P$1921,897),\"\")","v":""}]
[null,null,null,null,null,null,null,null,null,null,null,null,null,null,{"$f":"IF(899<=$B$10,IF(LEN('２学期'!DG7)=0,\"\",IF('２学期'!DG7=$B$8,IF(LEN('２学期'!DJ7)=0,\"\",'２学期'!DJ7),\"\")),\"\")","v":""},{"$f":"IF(LEN(O899)=0,\"\",IF(COUNTIF(O899:$O$1921,O899+1)>0,\"\",O899+1))","v":""},{"$f":"IFERROR(SMALL($P$1:$P$1921,898),\"\")","v":""}]
[null,null,null,null,null,null,null,null,null,null,null,null,null,null,{"$f":"IF(900<=$B$10,IF(LEN('２学期'!DG10)=0,\"\",IF('２学期'!DG10=$B$8,IF(LEN('２学期'!DJ10)=0,\"\",'２学期'!DJ10),\"\")),\"\")","v":""},{"$f":"IF(LEN(O900)=0,\"\",IF(COUNTIF(O900:$O$1921,O900+1)>0,\"\",O900+1))","v":""},{"$f":"IFERROR(SMALL($P$1:$P$1921,899),\"\")","v":""}]
[null,null,null,null,null,null,null,null,null,null,null,null,null,null,{"$f":"IF(901<=$B$10,IF(LEN('２学期'!DG13)=0,\"\",IF('２学期'!DG13=$B$8,IF(LEN('２学期'!DJ13)=0,\"\",'２学期'!DJ13),\"\")),\"\")","v":""},{"$f":"IF(LEN(O901)=0,\"\",IF(COUNTIF(O901:$O$1921,O901+1)>0,\"\",O901+1))","v":""},{"$f":"IFERROR(SMALL($P$1:$P$1921,900),\"\")","v":""}]
[null,null,null,null,null,null,null,null,null,null,null,null,null,null,{"$f":"IF(902<=$B$10,IF(LEN('２学期'!DG16)=0,\"\",IF('２学期'!DG16=$B$8,IF(LEN('２学期'!DJ16)=0,\"\",'２学期'!DJ16),\"\")),\"\")","v":""},{"$f":"IF(LEN(O902)=0,\"\",IF(COUNTIF(O902:$O$1921,O902+1)>0,\"\",O902+1))","v":""},{"$f":"IFERROR(SMALL($P$1:$P$1921,901),\"\")","v":""}]
[null,null,null,null,null,null,null,null,null,null,null,null,null,null,{"$f":"IF(903<=$B$10,IF(LEN('２学期'!DG19)=0,\"\",IF('２学期'!DG19=$B$8,IF(LEN('２学期'!DJ19)=0,\"\",'２学期'!DJ19),\"\")),\"\")","v":""},{"$f":"IF(LEN(O903)=0,\"\",IF(COUNTIF(O903:$O$1921,O903+1)>0,\"\",O903+1))","v":""},{"$f":"IFERROR(SMALL($P$1:$P$1921,902),\"\")","v":""}]
[null,null,null,null,null,null,null,null,null,null,null,null,null,null,{"$f":"IF(904<=$B$10,IF(LEN('２学期'!DG22)=0,\"\",IF('２学期'!DG22=$B$8,IF(LEN('２学期'!DJ22)=0,\"\",'２学期'!DJ22),\"\")),\"\")","v":""},{"$f":"IF(LEN(O904)=0,\"\",IF(COUNTIF(O904:$O$1921,O904+1)>0,\"\",O904+1))","v":""},{"$f":"IFERROR(SMALL($P$1:$P$1921,903),\"\")","v":""}]
[null,null,null,null,null,null,null,null,null,null,null,null,null,null,{"$f":"IF(905<=$B$10,IF(LEN('２学期'!DG25)=0,\"\",IF('２学期'!DG25=$B$8,IF(LEN('２学期'!DJ25)=0,\"\",'２学期'!DJ25),\"\")),\"\")","v":""},{"$f":"IF(LEN(O905)=0,\"\",IF(COUNTIF(O905:$O$1921,O905+1)>0,\"\",O905+1))","v":""},{"$f":"IFERROR(SMALL($P$1:$P$1921,904),\"\")","v":""}]
[null,null,null,null,null,null,null,null,null,null,null,null,null,null,{"$f":"IF(906<=$B$10,IF(LEN('２学期'!DK6)=0,\"\",IF('２学期'!DK6=$B$8,IF(LEN('２学期'!DN6)=0,\"\",'２学期'!DN6),\"\")),\"\")","v":""},{"$f":"IF(LEN(O906)=0,\"\",IF(COUNTIF(O906:$O$1921,O906+1)>0,\"\",O906+1))","v":""},{"$f":"IFERROR(SMALL($P$1:$P$1921,905),\"\")","v":""}]
[null,null,null,null,null,null,null,null,null,null,null,null,null,null,{"$f":"IF(907<=$B$10,IF(LEN('２学期'!DK7)=0,\"\",IF('２学期'!DK7=$B$8,IF(LEN('２学期'!DN7)=0,\"\",'２学期'!DN7),\"\")),\"\")","v":""},{"$f":"IF(LEN(O907)=0,\"\",IF(COUNTIF(O907:$O$1921,O907+1)>0,\"\",O907+1))","v":""},{"$f":"IFERROR(SMALL($P$1:$P$1921,906),\"\")","v":""}]
[null,null,null,null,null,null,null,null,null,null,null,null,null,null,{"$f":"IF(908<=$B$10,IF(LEN('２学期'!DK10)=0,\"\",IF('２学期'!DK10=$B$8,IF(LEN('２学期'!DN10)=0,\"\",'２学期'!DN10),\"\")),\"\")","v":""},{"$f":"IF(LEN(O908)=0,\"\",IF(COUNTIF(O908:$O$1921,O908+1)>0,\"\",O908+1))","v":""},{"$f":"IFERROR(SMALL($P$1:$P$1921,907),\"\")","v":""}]
[null,null,null,null,null,null,null,null,null,null,null,null,null,null,{"$f":"IF(909<=$B$10,IF(LEN('２学期'!DK13)=0,\"\",IF('２学期'!DK13=$B$8,IF(LEN('２学期'!DN13)=0,\"\",'２学期'!DN13),\"\")),\"\")","v":""},{"$f":"IF(LEN(O909)=0,\"\",IF(COUNTIF(O909:$O$1921,O909+1)>0,\"\",O909+1))","v":""},{"$f":"IFERROR(SMALL($P$1:$P$1921,908),\"\")","v":""}]
[null,null,null,null,null,null,null,null,null,null,null,null,null,null,{"$f":"IF(910<=$B$10,IF(LEN('２学期'!DK16)=0,\"\",IF('２学期'!DK16=$B$8,IF(LEN('２学期'!DN16)=0,\"\",'２学期'!DN16),\"\")),\"\")","v":""},{"$f":"IF(LEN(O910)=0,\"\",IF(COUNTIF(O910:$O$1921,O910+1)>0,\"\",O910+1))","v":""},{"$f":"IFERROR(SMALL($P$1:$P$1921,909),\"\")","v":""}]
[null,null,null,null,null,null,null,null,null,null,null,null,null,null,{"$f":"IF(911<=$B$10,IF(LEN('２学期'!DK19)=0,\"\",IF('２学期'!DK19=$B$8,IF(LEN('２学期'!DN19)=0,\"\",'２学期'!DN19),\"\")),\"\")","v":""},{"$f":"IF(LEN(O911)=0,\"\",IF(COUNTIF(O911:$O$1921,O911+1)>0,\"\",O911+1))","v":""},{"$f":"IFERROR(SMALL($P$1:$P$1921,910),\"\")","v":""}]
[null,null,null,null,null,null,null,null,null,null,null,null,null,null,{"$f":"IF(912<=$B$10,IF(LEN('２学期'!DK22)=0,\"\",IF('２学期'!DK22=$B$8,IF(LEN('２学期'!DN22)=0,\"\",'２学期'!DN22),\"\")),\"\")","v":""},{"$f":"IF(LEN(O912)=0,\"\",IF(COUNTIF(O912:$O$1921,O912+1)>0,\"\",O912+1))","v":""},{"$f":"IFERROR(SMALL($P$1:$P$1921,911),\"\")","v":""}]
[null,null,null,null,null,null,null,null,null,null,null,null,null,null,{"$f":"IF(913<=$B$10,IF(LEN('２学期'!DK25)=0,\"\",IF('２学期'!DK25=$B$8,IF(LEN('２学期'!DN25)=0,\"\",'２学期'!DN25),\"\")),\"\")","v":""},{"$f":"IF(LEN(O913)=0,\"\",IF(COUNTIF(O913:$O$1921,O913+1)>0,\"\",O913+1))","v":""},{"$f":"IFERROR(SMALL($P$1:$P$1921,912),\"\")","v":""}]
[null,null,null,null,null,null,null,null,null,null,null,null,null,null,{"$f":"IF(914<=$B$10,IF(LEN('２学期'!DO6)=0,\"\",IF('２学期'!DO6=$B$8,IF(LEN('２学期'!DR6)=0,\"\",'２学期'!DR6),\"\")),\"\")","v":""},{"$f":"IF(LEN(O914)=0,\"\",IF(COUNTIF(O914:$O$1921,O914+1)>0,\"\",O914+1))","v":""},{"$f":"IFERROR(SMALL($P$1:$P$1921,913),\"\")","v":""}]
[null,null,null,null,null,null,null,null,null,null,null,null,null,null,{"$f":"IF(915<=$B$10,IF(LEN('２学期'!DO7)=0,\"\",IF('２学期'!DO7=$B$8,IF(LEN('２学期'!DR7)=0,\"\",'２学期'!DR7),\"\")),\"\")","v":""},{"$f":"IF(LEN(O915)=0,\"\",IF(COUNTIF(O915:$O$1921,O915+1)>0,\"\",O915+1))","v":""},{"$f":"IFERROR(SMALL($P$1:$P$1921,914),\"\")","v":""}]
[null,null,null,null,null,null,null,null,null,null,null,null,null,null,{"$f":"IF(916<=$B$10,IF(LEN('２学期'!DO10)=0,\"\",IF('２学期'!DO10=$B$8,IF(LEN('２学期'!DR10)=0,\"\",'２学期'!DR10),\"\")),\"\")","v":""},{"$f":"IF(LEN(O916)=0,\"\",IF(COUNTIF(O916:$O$1921,O916+1)>0,\"\",O916+1))","v":""},{"$f":"IFERROR(SMALL($P$1:$P$1921,915),\"\")","v":""}]
[null,null,null,null,null,null,null,null,null,null,null,null,null,null,{"$f":"IF(917<=$B$10,IF(LEN('２学期'!DO13)=0,\"\",IF('２学期'!DO13=$B$8,IF(LEN('２学期'!DR13)=0,\"\",'２学期'!DR13),\"\")),\"\")","v":""},{"$f":"IF(LEN(O917)=0,\"\",IF(COUNTIF(O917:$O$1921,O917+1)>0,\"\",O917+1))","v":""},{"$f":"IFERROR(SMALL($P$1:$P$1921,916),\"\")","v":""}]
[null,null,null,null,null,null,null,null,null,null,null,null,null,null,{"$f":"IF(918<=$B$10,IF(LEN('２学期'!DO16)=0,\"\",IF('２学期'!DO16=$B$8,IF(LEN('２学期'!DR16)=0,\"\",'２学期'!DR16),\"\")),\"\")","v":""},{"$f":"IF(LEN(O918)=0,\"\",IF(COUNTIF(O918:$O$1921,O918+1)>0,\"\",O918+1))","v":""},{"$f":"IFERROR(SMALL($P$1:$P$1921,917),\"\")","v":""}]
[null,null,null,null,null,null,null,null,null,null,null,null,null,null,{"$f":"IF(919<=$B$10,IF(LEN('２学期'!DO19)=0,\"\",IF('２学期'!DO19=$B$8,IF(LEN('２学期'!DR19)=0,\"\",'２学期'!DR19),\"\")),\"\")","v":""},{"$f":"IF(LEN(O919)=0,\"\",IF(COUNTIF(O919:$O$1921,O919+1)>0,\"\",O919+1))","v":""},{"$f":"IFERROR(SMALL($P$1:$P$1921,918),\"\")","v":""}]
[null,null,null,null,null,null,null,null,null,null,null,null,null,null,{"$f":"IF(920<=$B$10,IF(LEN('２学期'!DO22)=0,\"\",IF('２学期'!DO22=$B$8,IF(LEN('２学期'!DR22)=0,\"\",'２学期'!DR22),\"\")),\"\")","v":""},{"$f":"IF(LEN(O920)=0,\"\",IF(COUNTIF(O920:$O$1921,O920+1)>0,\"\",O920+1))","v":""},{"$f":"IFERROR(SMALL($P$1:$P$1921,919),\"\")","v":""}]
[null,null,null,null,null,null,null,null,null,null,null,null,null,null,{"$f":"IF(921<=$B$10,IF(LEN('２学期'!DO25)=0,\"\",IF('２学期'!DO25=$B$8,IF(LEN('２学期'!DR25)=0,\"\",'２学期'!DR25),\"\")),\"\")","v":""},{"$f":"IF(LEN(O921)=0,\"\",IF(COUNTIF(O921:$O$1921,O921+1)>0,\"\",O921+1))","v":""},{"$f":"IFERROR(SMALL($P$1:$P$1921,920),\"\")","v":""}]
[null,null,null,null,null,null,null,null,null,null,null,null,null,null,{"$f":"IF(922<=$B$10,IF(LEN('２学期'!DS6)=0,\"\",IF('２学期'!DS6=$B$8,IF(LEN('２学期'!DV6)=0,\"\",'２学期'!DV6),\"\")),\"\")","v":""},{"$f":"IF(LEN(O922)=0,\"\",IF(COUNTIF(O922:$O$1921,O922+1)>0,\"\",O922+1))","v":""},{"$f":"IFERROR(SMALL($P$1:$P$1921,921),\"\")","v":""}]
[null,null,null,null,null,null,null,null,null,null,null,null,null,null,{"$f":"IF(923<=$B$10,IF(LEN('２学期'!DS7)=0,\"\",IF('２学期'!DS7=$B$8,IF(LEN('２学期'!DV7)=0,\"\",'２学期'!DV7),\"\")),\"\")","v":""},{"$f":"IF(LEN(O923)=0,\"\",IF(COUNTIF(O923:$O$1921,O923+1)>0,\"\",O923+1))","v":""},{"$f":"IFERROR(SMALL($P$1:$P$1921,922),\"\")","v":""}]
[null,null,null,null,null,null,null,null,null,null,null,null,null,null,{"$f":"IF(924<=$B$10,IF(LEN('２学期'!DS10)=0,\"\",IF('２学期'!DS10=$B$8,IF(LEN('２学期'!DV10)=0,\"\",'２学期'!DV10),\"\")),\"\")","v":""},{"$f":"IF(LEN(O924)=0,\"\",IF(COUNTIF(O924:$O$1921,O924+1)>0,\"\",O924+1))","v":""},{"$f":"IFERROR(SMALL($P$1:$P$1921,923),\"\")","v":""}]
[null,null,null,null,null,null,null,null,null,null,null,null,null,null,{"$f":"IF(925<=$B$10,IF(LEN('２学期'!DS13)=0,\"\",IF('２学期'!DS13=$B$8,IF(LEN('２学期'!DV13)=0,\"\",'２学期'!DV13),\"\")),\"\")","v":""},{"$f":"IF(LEN(O925)=0,\"\",IF(COUNTIF(O925:$O$1921,O925+1)>0,\"\",O925+1))","v":""},{"$f":"IFERROR(SMALL($P$1:$P$1921,924),\"\")","v":""}]
[null,null,null,null,null,null,null,null,null,null,null,null,null,null,{"$f":"IF(926<=$B$10,IF(LEN('２学期'!DS16)=0,\"\",IF('２学期'!DS16=$B$8,IF(LEN('２学期'!DV16)=0,\"\",'２学期'!DV16),\"\")),\"\")","v":""},{"$f":"IF(LEN(O926)=0,\"\",IF(COUNTIF(O926:$O$1921,O926+1)>0,\"\",O926+1))","v":""},{"$f":"IFERROR(SMALL($P$1:$P$1921,925),\"\")","v":""}]
[null,null,null,null,null,null,null,null,null,null,null,null,null,null,{"$f":"IF(927<=$B$10,IF(LEN('２学期'!DS19)=0,\"\",IF('２学期'!DS19=$B$8,IF(LEN('２学期'!DV19)=0,\"\",'２学期'!DV19),\"\")),\"\")","v":""},{"$f":"IF(LEN(O927)=0,\"\",IF(COUNTIF(O927:$O$1921,O927+1)>0,\"\",O927+1))","v":""},{"$f":"IFERROR(SMALL($P$1:$P$1921,926),\"\")","v":""}]
[null,null,null,null,null,null,null,null,null,null,null,null,null,null,{"$f":"IF(928<=$B$10,IF(LEN('２学期'!DS22)=0,\"\",IF('２学期'!DS22=$B$8,IF(LEN('２学期'!DV22)=0,\"\",'２学期'!DV22),\"\")),\"\")","v":""},{"$f":"IF(LEN(O928)=0,\"\",IF(COUNTIF(O928:$O$1921,O928+1)>0,\"\",O928+1))","v":""},{"$f":"IFERROR(SMALL($P$1:$P$1921,927),\"\")","v":""}]
[null,null,null,null,null,null,null,null,null,null,null,null,null,null,{"$f":"IF(929<=$B$10,IF(LEN('２学期'!DS25)=0,\"\",IF('２学期'!DS25=$B$8,IF(LEN('２学期'!DV25)=0,\"\",'２学期'!DV25),\"\")),\"\")","v":""},{"$f":"IF(LEN(O929)=0,\"\",IF(COUNTIF(O929:$O$1921,O929+1)>0,\"\",O929+1))","v":""},{"$f":"IFERROR(SMALL($P$1:$P$1921,928),\"\")","v":""}]
[null,null,null,null,null,null,null,null,null,null,null,null,null,null,{"$f":"IF(930<=$B$10,IF(LEN('２学期'!DW6)=0,\"\",IF('２学期'!DW6=$B$8,IF(LEN('２学期'!DZ6)=0,\"\",'２学期'!DZ6),\"\")),\"\")","v":""},{"$f":"IF(LEN(O930)=0,\"\",IF(COUNTIF(O930:$O$1921,O930+1)>0,\"\",O930+1))","v":""},{"$f":"IFERROR(SMALL($P$1:$P$1921,929),\"\")","v":""}]
[null,null,null,null,null,null,null,null,null,null,null,null,null,null,{"$f":"IF(931<=$B$10,IF(LEN('２学期'!DW7)=0,\"\",IF('２学期'!DW7=$B$8,IF(LEN('２学期'!DZ7)=0,\"\",'２学期'!DZ7),\"\")),\"\")","v":""},{"$f":"IF(LEN(O931)=0,\"\",IF(COUNTIF(O931:$O$1921,O931+1)>0,\"\",O931+1))","v":""},{"$f":"IFERROR(SMALL($P$1:$P$1921,930),\"\")","v":""}]
[null,null,null,null,null,null,null,null,null,null,null,null,null,null,{"$f":"IF(932<=$B$10,IF(LEN('２学期'!DW10)=0,\"\",IF('２学期'!DW10=$B$8,IF(LEN('２学期'!DZ10)=0,\"\",'２学期'!DZ10),\"\")),\"\")","v":""},{"$f":"IF(LEN(O932)=0,\"\",IF(COUNTIF(O932:$O$1921,O932+1)>0,\"\",O932+1))","v":""},{"$f":"IFERROR(SMALL($P$1:$P$1921,931),\"\")","v":""}]
[null,null,null,null,null,null,null,null,null,null,null,null,null,null,{"$f":"IF(933<=$B$10,IF(LEN('２学期'!DW13)=0,\"\",IF('２学期'!DW13=$B$8,IF(LEN('２学期'!DZ13)=0,\"\",'２学期'!DZ13),\"\")),\"\")","v":""},{"$f":"IF(LEN(O933)=0,\"\",IF(COUNTIF(O933:$O$1921,O933+1)>0,\"\",O933+1))","v":""},{"$f":"IFERROR(SMALL($P$1:$P$1921,932),\"\")","v":""}]
[null,null,null,null,null,null,null,null,null,null,null,null,null,null,{"$f":"IF(934<=$B$10,IF(LEN('２学期'!DW16)=0,\"\",IF('２学期'!DW16=$B$8,IF(LEN('２学期'!DZ16)=0,\"\",'２学期'!DZ16),\"\")),\"\")","v":""},{"$f":"IF(LEN(O934)=0,\"\",IF(COUNTIF(O934:$O$1921,O934+1)>0,\"\",O934+1))","v":""},{"$f":"IFERROR(SMALL($P$1:$P$1921,933),\"\")","v":""}]
[null,null,null,null,null,null,null,null,null,null,null,null,null,null,{"$f":"IF(935<=$B$10,IF(LEN('２学期'!DW19)=0,\"\",IF('２学期'!DW19=$B$8,IF(LEN('２学期'!DZ19)=0,\"\",'２学期'!DZ19),\"\")),\"\")","v":""},{"$f":"IF(LEN(O935)=0,\"\",IF(COUNTIF(O935:$O$1921,O935+1)>0,\"\",O935+1))","v":""},{"$f":"IFERROR(SMALL($P$1:$P$1921,934),\"\")","v":""}]
[null,null,null,null,null,null,null,null,null,null,null,null,null,null,{"$f":"IF(936<=$B$10,IF(LEN('２学期'!DW22)=0,\"\",IF('２学期'!DW22=$B$8,IF(LEN('２学期'!DZ22)=0,\"\",'２学期'!DZ22),\"\")),\"\")","v":""},{"$f":"IF(LEN(O936)=0,\"\",IF(COUNTIF(O936:$O$1921,O936+1)>0,\"\",O936+1))","v":""},{"$f":"IFERROR(SMALL($P$1:$P$1921,935),\"\")","v":""}]
[null,null,null,null,null,null,null,null,null,null,null,null,null,null,{"$f":"IF(937<=$B$10,IF(LEN('２学期'!DW25)=0,\"\",IF('２学期'!DW25=$B$8,IF(LEN('２学期'!DZ25)=0,\"\",'２学期'!DZ25),\"\")),\"\")","v":""},{"$f":"IF(LEN(O937)=0,\"\",IF(COUNTIF(O937:$O$1921,O937+1)>0,\"\",O937+1))","v":""},{"$f":"IFERROR(SMALL($P$1:$P$1921,936),\"\")","v":""}]
[null,null,null,null,null,null,null,null,null,null,null,null,null,null,{"$f":"IF(938<=$B$10,IF(LEN('２学期'!EA6)=0,\"\",IF('２学期'!EA6=$B$8,IF(LEN('２学期'!ED6)=0,\"\",'２学期'!ED6),\"\")),\"\")","v":""},{"$f":"IF(LEN(O938)=0,\"\",IF(COUNTIF(O938:$O$1921,O938+1)>0,\"\",O938+1))","v":""},{"$f":"IFERROR(SMALL($P$1:$P$1921,937),\"\")","v":""}]
[null,null,null,null,null,null,null,null,null,null,null,null,null,null,{"$f":"IF(939<=$B$10,IF(LEN('２学期'!EA7)=0,\"\",IF('２学期'!EA7=$B$8,IF(LEN('２学期'!ED7)=0,\"\",'２学期'!ED7),\"\")),\"\")","v":""},{"$f":"IF(LEN(O939)=0,\"\",IF(COUNTIF(O939:$O$1921,O939+1)>0,\"\",O939+1))","v":""},{"$f":"IFERROR(SMALL($P$1:$P$1921,938),\"\")","v":""}]
[null,null,null,null,null,null,null,null,null,null,null,null,null,null,{"$f":"IF(940<=$B$10,IF(LEN('２学期'!EA10)=0,\"\",IF('２学期'!EA10=$B$8,IF(LEN('２学期'!ED10)=0,\"\",'２学期'!ED10),\"\")),\"\")","v":""},{"$f":"IF(LEN(O940)=0,\"\",IF(COUNTIF(O940:$O$1921,O940+1)>0,\"\",O940+1))","v":""},{"$f":"IFERROR(SMALL($P$1:$P$1921,939),\"\")","v":""}]
[null,null,null,null,null,null,null,null,null,null,null,null,null,null,{"$f":"IF(941<=$B$10,IF(LEN('２学期'!EA13)=0,\"\",IF('２学期'!EA13=$B$8,IF(LEN('２学期'!ED13)=0,\"\",'２学期'!ED13),\"\")),\"\")","v":""},{"$f":"IF(LEN(O941)=0,\"\",IF(COUNTIF(O941:$O$1921,O941+1)>0,\"\",O941+1))","v":""},{"$f":"IFERROR(SMALL($P$1:$P$1921,940),\"\")","v":""}]
[null,null,null,null,null,null,null,null,null,null,null,null,null,null,{"$f":"IF(942<=$B$10,IF(LEN('２学期'!EA16)=0,\"\",IF('２学期'!EA16=$B$8,IF(LEN('２学期'!ED16)=0,\"\",'２学期'!ED16),\"\")),\"\")","v":""},{"$f":"IF(LEN(O942)=0,\"\",IF(COUNTIF(O942:$O$1921,O942+1)>0,\"\",O942+1))","v":""},{"$f":"IFERROR(SMALL($P$1:$P$1921,941),\"\")","v":""}]
[null,null,null,null,null,null,null,null,null,null,null,null,null,null,{"$f":"IF(943<=$B$10,IF(LEN('２学期'!EA19)=0,\"\",IF('２学期'!EA19=$B$8,IF(LEN('２学期'!ED19)=0,\"\",'２学期'!ED19),\"\")),\"\")","v":""},{"$f":"IF(LEN(O943)=0,\"\",IF(COUNTIF(O943:$O$1921,O943+1)>0,\"\",O943+1))","v":""},{"$f":"IFERROR(SMALL($P$1:$P$1921,942),\"\")","v":""}]
[null,null,null,null,null,null,null,null,null,null,null,null,null,null,{"$f":"IF(944<=$B$10,IF(LEN('２学期'!EA22)=0,\"\",IF('２学期'!EA22=$B$8,IF(LEN('２学期'!ED22)=0,\"\",'２学期'!ED22),\"\")),\"\")","v":""},{"$f":"IF(LEN(O944)=0,\"\",IF(COUNTIF(O944:$O$1921,O944+1)>0,\"\",O944+1))","v":""},{"$f":"IFERROR(SMALL($P$1:$P$1921,943),\"\")","v":""}]
[null,null,null,null,null,null,null,null,null,null,null,null,null,null,{"$f":"IF(945<=$B$10,IF(LEN('２学期'!EA25)=0,\"\",IF('２学期'!EA25=$B$8,IF(LEN('２学期'!ED25)=0,\"\",'２学期'!ED25),\"\")),\"\")","v":""},{"$f":"IF(LEN(O945)=0,\"\",IF(COUNTIF(O945:$O$1921,O945+1)>0,\"\",O945+1))","v":""},{"$f":"IFERROR(SMALL($P$1:$P$1921,944),\"\")","v":""}]
[null,null,null,null,null,null,null,null,null,null,null,null,null,null,{"$f":"IF(946<=$B$10,IF(LEN('２学期'!EE6)=0,\"\",IF('２学期'!EE6=$B$8,IF(LEN('２学期'!EH6)=0,\"\",'２学期'!EH6),\"\")),\"\")","v":""},{"$f":"IF(LEN(O946)=0,\"\",IF(COUNTIF(O946:$O$1921,O946+1)>0,\"\",O946+1))","v":""},{"$f":"IFERROR(SMALL($P$1:$P$1921,945),\"\")","v":""}]
[null,null,null,null,null,null,null,null,null,null,null,null,null,null,{"$f":"IF(947<=$B$10,IF(LEN('２学期'!EE7)=0,\"\",IF('２学期'!EE7=$B$8,IF(LEN('２学期'!EH7)=0,\"\",'２学期'!EH7),\"\")),\"\")","v":""},{"$f":"IF(LEN(O947)=0,\"\",IF(COUNTIF(O947:$O$1921,O947+1)>0,\"\",O947+1))","v":""},{"$f":"IFERROR(SMALL($P$1:$P$1921,946),\"\")","v":""}]
[null,null,null,null,null,null,null,null,null,null,null,null,null,null,{"$f":"IF(948<=$B$10,IF(LEN('２学期'!EE10)=0,\"\",IF('２学期'!EE10=$B$8,IF(LEN('２学期'!EH10)=0,\"\",'２学期'!EH10),\"\")),\"\")","v":""},{"$f":"IF(LEN(O948)=0,\"\",IF(COUNTIF(O948:$O$1921,O948+1)>0,\"\",O948+1))","v":""},{"$f":"IFERROR(SMALL($P$1:$P$1921,947),\"\")","v":""}]
[null,null,null,null,null,null,null,null,null,null,null,null,null,null,{"$f":"IF(949<=$B$10,IF(LEN('２学期'!EE13)=0,\"\",IF('２学期'!EE13=$B$8,IF(LEN('２学期'!EH13)=0,\"\",'２学期'!EH13),\"\")),\"\")","v":""},{"$f":"IF(LEN(O949)=0,\"\",IF(COUNTIF(O949:$O$1921,O949+1)>0,\"\",O949+1))","v":""},{"$f":"IFERROR(SMALL($P$1:$P$1921,948),\"\")","v":""}]
[null,null,null,null,null,null,null,null,null,null,null,null,null,null,{"$f":"IF(950<=$B$10,IF(LEN('２学期'!EE16)=0,\"\",IF('２学期'!EE16=$B$8,IF(LEN('２学期'!EH16)=0,\"\",'２学期'!EH16),\"\")),\"\")","v":""},{"$f":"IF(LEN(O950)=0,\"\",IF(COUNTIF(O950:$O$1921,O950+1)>0,\"\",O950+1))","v":""},{"$f":"IFERROR(SMALL($P$1:$P$1921,949),\"\")","v":""}]
[null,null,null,null,null,null,null,null,null,null,null,null,null,null,{"$f":"IF(951<=$B$10,IF(LEN('２学期'!EE19)=0,\"\",IF('２学期'!EE19=$B$8,IF(LEN('２学期'!EH19)=0,\"\",'２学期'!EH19),\"\")),\"\")","v":""},{"$f":"IF(LEN(O951)=0,\"\",IF(COUNTIF(O951:$O$1921,O951+1)>0,\"\",O951+1))","v":""},{"$f":"IFERROR(SMALL($P$1:$P$1921,950),\"\")","v":""}]
[null,null,null,null,null,null,null,null,null,null,null,null,null,null,{"$f":"IF(952<=$B$10,IF(LEN('２学期'!EE22)=0,\"\",IF('２学期'!EE22=$B$8,IF(LEN('２学期'!EH22)=0,\"\",'２学期'!EH22),\"\")),\"\")","v":""},{"$f":"IF(LEN(O952)=0,\"\",IF(COUNTIF(O952:$O$1921,O952+1)>0,\"\",O952+1))","v":""},{"$f":"IFERROR(SMALL($P$1:$P$1921,951),\"\")","v":""}]
[null,null,null,null,null,null,null,null,null,null,null,null,null,null,{"$f":"IF(953<=$B$10,IF(LEN('２学期'!EE25)=0,\"\",IF('２学期'!EE25=$B$8,IF(LEN('２学期'!EH25)=0,\"\",'２学期'!EH25),\"\")),\"\")","v":""},{"$f":"IF(LEN(O953)=0,\"\",IF(COUNTIF(O953:$O$1921,O953+1)>0,\"\",O953+1))","v":""},{"$f":"IFERROR(SMALL($P$1:$P$1921,952),\"\")","v":""}]
[null,null,null,null,null,null,null,null,null,null,null,null,null,null,{"$f":"IF(954<=$B$10,IF(LEN('２学期'!EI6)=0,\"\",IF('２学期'!EI6=$B$8,IF(LEN('２学期'!EL6)=0,\"\",'２学期'!EL6),\"\")),\"\")","v":""},{"$f":"IF(LEN(O954)=0,\"\",IF(COUNTIF(O954:$O$1921,O954+1)>0,\"\",O954+1))","v":""},{"$f":"IFERROR(SMALL($P$1:$P$1921,953),\"\")","v":""}]
[null,null,null,null,null,null,null,null,null,null,null,null,null,null,{"$f":"IF(955<=$B$10,IF(LEN('２学期'!EI7)=0,\"\",IF('２学期'!EI7=$B$8,IF(LEN('２学期'!EL7)=0,\"\",'２学期'!EL7),\"\")),\"\")","v":""},{"$f":"IF(LEN(O955)=0,\"\",IF(COUNTIF(O955:$O$1921,O955+1)>0,\"\",O955+1))","v":""},{"$f":"IFERROR(SMALL($P$1:$P$1921,954),\"\")","v":""}]
[null,null,null,null,null,null,null,null,null,null,null,null,null,null,{"$f":"IF(956<=$B$10,IF(LEN('２学期'!EI10)=0,\"\",IF('２学期'!EI10=$B$8,IF(LEN('２学期'!EL10)=0,\"\",'２学期'!EL10),\"\")),\"\")","v":""},{"$f":"IF(LEN(O956)=0,\"\",IF(COUNTIF(O956:$O$1921,O956+1)>0,\"\",O956+1))","v":""},{"$f":"IFERROR(SMALL($P$1:$P$1921,955),\"\")","v":""}]
[null,null,null,null,null,null,null,null,null,null,null,null,null,null,{"$f":"IF(957<=$B$10,IF(LEN('２学期'!EI13)=0,\"\",IF('２学期'!EI13=$B$8,IF(LEN('２学期'!EL13)=0,\"\",'２学期'!EL13),\"\")),\"\")","v":""},{"$f":"IF(LEN(O957)=0,\"\",IF(COUNTIF(O957:$O$1921,O957+1)>0,\"\",O957+1))","v":""},{"$f":"IFERROR(SMALL($P$1:$P$1921,956),\"\")","v":""}]
[null,null,null,null,null,null,null,null,null,null,null,null,null,null,{"$f":"IF(958<=$B$10,IF(LEN('２学期'!EI16)=0,\"\",IF('２学期'!EI16=$B$8,IF(LEN('２学期'!EL16)=0,\"\",'２学期'!EL16),\"\")),\"\")","v":""},{"$f":"IF(LEN(O958)=0,\"\",IF(COUNTIF(O958:$O$1921,O958+1)>0,\"\",O958+1))","v":""},{"$f":"IFERROR(SMALL($P$1:$P$1921,957),\"\")","v":""}]
[null,null,null,null,null,null,null,null,null,null,null,null,null,null,{"$f":"IF(959<=$B$10,IF(LEN('２学期'!EI19)=0,\"\",IF('２学期'!EI19=$B$8,IF(LEN('２学期'!EL19)=0,\"\",'２学期'!EL19),\"\")),\"\")","v":""},{"$f":"IF(LEN(O959)=0,\"\",IF(COUNTIF(O959:$O$1921,O959+1)>0,\"\",O959+1))","v":""},{"$f":"IFERROR(SMALL($P$1:$P$1921,958),\"\")","v":""}]
[null,null,null,null,null,null,null,null,null,null,null,null,null,null,{"$f":"IF(960<=$B$10,IF(LEN('２学期'!EI22)=0,\"\",IF('２学期'!EI22=$B$8,IF(LEN('２学期'!EL22)=0,\"\",'２学期'!EL22),\"\")),\"\")","v":""},{"$f":"IF(LEN(O960)=0,\"\",IF(COUNTIF(O960:$O$1921,O960+1)>0,\"\",O960+1))","v":""},{"$f":"IFERROR(SMALL($P$1:$P$1921,959),\"\")","v":""}]
[null,null,null,null,null,null,null,null,null,null,null,null,null,null,{"$f":"IF(961<=$B$10,IF(LEN('２学期'!EI25)=0,\"\",IF('２学期'!EI25=$B$8,IF(LEN('２学期'!EL25)=0,\"\",'２学期'!EL25),\"\")),\"\")","v":""},{"$f":"IF(LEN(O961)=0,\"\",IF(COUNTIF(O961:$O$1921,O961+1)>0,\"\",O961+1))","v":""},{"$f":"IFERROR(SMALL($P$1:$P$1921,960),\"\")","v":""}]
[null,null,null,null,null,null,null,null,null,null,null,null,null,null,{"$f":"IF(962<=$B$10,IF(LEN('２学期'!EM6)=0,\"\",IF('２学期'!EM6=$B$8,IF(LEN('２学期'!EP6)=0,\"\",'２学期'!EP6),\"\")),\"\")","v":""},{"$f":"IF(LEN(O962)=0,\"\",IF(COUNTIF(O962:$O$1921,O962+1)>0,\"\",O962+1))","v":""},{"$f":"IFERROR(SMALL($P$1:$P$1921,961),\"\")","v":""}]
[null,null,null,null,null,null,null,null,null,null,null,null,null,null,{"$f":"IF(963<=$B$10,IF(LEN('２学期'!EM7)=0,\"\",IF('２学期'!EM7=$B$8,IF(LEN('２学期'!EP7)=0,\"\",'２学期'!EP7),\"\")),\"\")","v":""},{"$f":"IF(LEN(O963)=0,\"\",IF(COUNTIF(O963:$O$1921,O963+1)>0,\"\",O963+1))","v":""},{"$f":"IFERROR(SMALL($P$1:$P$1921,962),\"\")","v":""}]
[null,null,null,null,null,null,null,null,null,null,null,null,null,null,{"$f":"IF(964<=$B$10,IF(LEN('２学期'!EM10)=0,\"\",IF('２学期'!EM10=$B$8,IF(LEN('２学期'!EP10)=0,\"\",'２学期'!EP10),\"\")),\"\")","v":""},{"$f":"IF(LEN(O964)=0,\"\",IF(COUNTIF(O964:$O$1921,O964+1)>0,\"\",O964+1))","v":""},{"$f":"IFERROR(SMALL($P$1:$P$1921,963),\"\")","v":""}]
[null,null,null,null,null,null,null,null,null,null,null,null,null,null,{"$f":"IF(965<=$B$10,IF(LEN('２学期'!EM13)=0,\"\",IF('２学期'!EM13=$B$8,IF(LEN('２学期'!EP13)=0,\"\",'２学期'!EP13),\"\")),\"\")","v":""},{"$f":"IF(LEN(O965)=0,\"\",IF(COUNTIF(O965:$O$1921,O965+1)>0,\"\",O965+1))","v":""},{"$f":"IFERROR(SMALL($P$1:$P$1921,964),\"\")","v":""}]
[null,null,null,null,null,null,null,null,null,null,null,null,null,null,{"$f":"IF(966<=$B$10,IF(LEN('２学期'!EM16)=0,\"\",IF('２学期'!EM16=$B$8,IF(LEN('２学期'!EP16)=0,\"\",'２学期'!EP16),\"\")),\"\")","v":""},{"$f":"IF(LEN(O966)=0,\"\",IF(COUNTIF(O966:$O$1921,O966+1)>0,\"\",O966+1))","v":""},{"$f":"IFERROR(SMALL($P$1:$P$1921,965),\"\")","v":""}]
[null,null,null,null,null,null,null,null,null,null,null,null,null,null,{"$f":"IF(967<=$B$10,IF(LEN('２学期'!EM19)=0,\"\",IF('２学期'!EM19=$B$8,IF(LEN('２学期'!EP19)=0,\"\",'２学期'!EP19),\"\")),\"\")","v":""},{"$f":"IF(LEN(O967)=0,\"\",IF(COUNTIF(O967:$O$1921,O967+1)>0,\"\",O967+1))","v":""},{"$f":"IFERROR(SMALL($P$1:$P$1921,966),\"\")","v":""}]
[null,null,null,null,null,null,null,null,null,null,null,null,null,null,{"$f":"IF(968<=$B$10,IF(LEN('２学期'!EM22)=0,\"\",IF('２学期'!EM22=$B$8,IF(LEN('２学期'!EP22)=0,\"\",'２学期'!EP22),\"\")),\"\")","v":""},{"$f":"IF(LEN(O968)=0,\"\",IF(COUNTIF(O968:$O$1921,O968+1)>0,\"\",O968+1))","v":""},{"$f":"IFERROR(SMALL($P$1:$P$1921,967),\"\")","v":""}]
[null,null,null,null,null,null,null,null,null,null,null,null,null,null,{"$f":"IF(969<=$B$10,IF(LEN('２学期'!EM25)=0,\"\",IF('２学期'!EM25=$B$8,IF(LEN('２学期'!EP25)=0,\"\",'２学期'!EP25),\"\")),\"\")","v":""},{"$f":"IF(LEN(O969)=0,\"\",IF(COUNTIF(O969:$O$1921,O969+1)>0,\"\",O969+1))","v":""},{"$f":"IFERROR(SMALL($P$1:$P$1921,968),\"\")","v":""}]
[null,null,null,null,null,null,null,null,null,null,null,null,null,null,{"$f":"IF(970<=$B$10,IF(LEN('２学期'!EQ6)=0,\"\",IF('２学期'!EQ6=$B$8,IF(LEN('２学期'!ET6)=0,\"\",'２学期'!ET6),\"\")),\"\")","v":""},{"$f":"IF(LEN(O970)=0,\"\",IF(COUNTIF(O970:$O$1921,O970+1)>0,\"\",O970+1))","v":""},{"$f":"IFERROR(SMALL($P$1:$P$1921,969),\"\")","v":""}]
[null,null,null,null,null,null,null,null,null,null,null,null,null,null,{"$f":"IF(971<=$B$10,IF(LEN('２学期'!EQ7)=0,\"\",IF('２学期'!EQ7=$B$8,IF(LEN('２学期'!ET7)=0,\"\",'２学期'!ET7),\"\")),\"\")","v":""},{"$f":"IF(LEN(O971)=0,\"\",IF(COUNTIF(O971:$O$1921,O971+1)>0,\"\",O971+1))","v":""},{"$f":"IFERROR(SMALL($P$1:$P$1921,970),\"\")","v":""}]
[null,null,null,null,null,null,null,null,null,null,null,null,null,null,{"$f":"IF(972<=$B$10,IF(LEN('２学期'!EQ10)=0,\"\",IF('２学期'!EQ10=$B$8,IF(LEN('２学期'!ET10)=0,\"\",'２学期'!ET10),\"\")),\"\")","v":""},{"$f":"IF(LEN(O972)=0,\"\",IF(COUNTIF(O972:$O$1921,O972+1)>0,\"\",O972+1))","v":""},{"$f":"IFERROR(SMALL($P$1:$P$1921,971),\"\")","v":""}]
[null,null,null,null,null,null,null,null,null,null,null,null,null,null,{"$f":"IF(973<=$B$10,IF(LEN('２学期'!EQ13)=0,\"\",IF('２学期'!EQ13=$B$8,IF(LEN('２学期'!ET13)=0,\"\",'２学期'!ET13),\"\")),\"\")","v":""},{"$f":"IF(LEN(O973)=0,\"\",IF(COUNTIF(O973:$O$1921,O973+1)>0,\"\",O973+1))","v":""},{"$f":"IFERROR(SMALL($P$1:$P$1921,972),\"\")","v":""}]
[null,null,null,null,null,null,null,null,null,null,null,null,null,null,{"$f":"IF(974<=$B$10,IF(LEN('２学期'!EQ16)=0,\"\",IF('２学期'!EQ16=$B$8,IF(LEN('２学期'!ET16)=0,\"\",'２学期'!ET16),\"\")),\"\")","v":""},{"$f":"IF(LEN(O974)=0,\"\",IF(COUNTIF(O974:$O$1921,O974+1)>0,\"\",O974+1))","v":""},{"$f":"IFERROR(SMALL($P$1:$P$1921,973),\"\")","v":""}]
[null,null,null,null,null,null,null,null,null,null,null,null,null,null,{"$f":"IF(975<=$B$10,IF(LEN('２学期'!EQ19)=0,\"\",IF('２学期'!EQ19=$B$8,IF(LEN('２学期'!ET19)=0,\"\",'２学期'!ET19),\"\")),\"\")","v":""},{"$f":"IF(LEN(O975)=0,\"\",IF(COUNTIF(O975:$O$1921,O975+1)>0,\"\",O975+1))","v":""},{"$f":"IFERROR(SMALL($P$1:$P$1921,974),\"\")","v":""}]
[null,null,null,null,null,null,null,null,null,null,null,null,null,null,{"$f":"IF(976<=$B$10,IF(LEN('２学期'!EQ22)=0,\"\",IF('２学期'!EQ22=$B$8,IF(LEN('２学期'!ET22)=0,\"\",'２学期'!ET22),\"\")),\"\")","v":""},{"$f":"IF(LEN(O976)=0,\"\",IF(COUNTIF(O976:$O$1921,O976+1)>0,\"\",O976+1))","v":""},{"$f":"IFERROR(SMALL($P$1:$P$1921,975),\"\")","v":""}]
[null,null,null,null,null,null,null,null,null,null,null,null,null,null,{"$f":"IF(977<=$B$10,IF(LEN('２学期'!EQ25)=0,\"\",IF('２学期'!EQ25=$B$8,IF(LEN('２学期'!ET25)=0,\"\",'２学期'!ET25),\"\")),\"\")","v":""},{"$f":"IF(LEN(O977)=0,\"\",IF(COUNTIF(O977:$O$1921,O977+1)>0,\"\",O977+1))","v":""},{"$f":"IFERROR(SMALL($P$1:$P$1921,976),\"\")","v":""}]
[null,null,null,null,null,null,null,null,null,null,null,null,null,null,{"$f":"IF(978<=$B$10,IF(LEN('２学期'!EU6)=0,\"\",IF('２学期'!EU6=$B$8,IF(LEN('２学期'!EX6)=0,\"\",'２学期'!EX6),\"\")),\"\")","v":""},{"$f":"IF(LEN(O978)=0,\"\",IF(COUNTIF(O978:$O$1921,O978+1)>0,\"\",O978+1))","v":""},{"$f":"IFERROR(SMALL($P$1:$P$1921,977),\"\")","v":""}]
[null,null,null,null,null,null,null,null,null,null,null,null,null,null,{"$f":"IF(979<=$B$10,IF(LEN('２学期'!EU7)=0,\"\",IF('２学期'!EU7=$B$8,IF(LEN('２学期'!EX7)=0,\"\",'２学期'!EX7),\"\")),\"\")","v":""},{"$f":"IF(LEN(O979)=0,\"\",IF(COUNTIF(O979:$O$1921,O979+1)>0,\"\",O979+1))","v":""},{"$f":"IFERROR(SMALL($P$1:$P$1921,978),\"\")","v":""}]
[null,null,null,null,null,null,null,null,null,null,null,null,null,null,{"$f":"IF(980<=$B$10,IF(LEN('２学期'!EU10)=0,\"\",IF('２学期'!EU10=$B$8,IF(LEN('２学期'!EX10)=0,\"\",'２学期'!EX10),\"\")),\"\")","v":""},{"$f":"IF(LEN(O980)=0,\"\",IF(COUNTIF(O980:$O$1921,O980+1)>0,\"\",O980+1))","v":""},{"$f":"IFERROR(SMALL($P$1:$P$1921,979),\"\")","v":""}]
[null,null,null,null,null,null,null,null,null,null,null,null,null,null,{"$f":"IF(981<=$B$10,IF(LEN('２学期'!EU13)=0,\"\",IF('２学期'!EU13=$B$8,IF(LEN('２学期'!EX13)=0,\"\",'２学期'!EX13),\"\")),\"\")","v":""},{"$f":"IF(LEN(O981)=0,\"\",IF(COUNTIF(O981:$O$1921,O981+1)>0,\"\",O981+1))","v":""},{"$f":"IFERROR(SMALL($P$1:$P$1921,980),\"\")","v":""}]
[null,null,null,null,null,null,null,null,null,null,null,null,null,null,{"$f":"IF(982<=$B$10,IF(LEN('２学期'!EU16)=0,\"\",IF('２学期'!EU16=$B$8,IF(LEN('２学期'!EX16)=0,\"\",'２学期'!EX16),\"\")),\"\")","v":""},{"$f":"IF(LEN(O982)=0,\"\",IF(COUNTIF(O982:$O$1921,O982+1)>0,\"\",O982+1))","v":""},{"$f":"IFERROR(SMALL($P$1:$P$1921,981),\"\")","v":""}]
[null,null,null,null,null,null,null,null,null,null,null,null,null,null,{"$f":"IF(983<=$B$10,IF(LEN('２学期'!EU19)=0,\"\",IF('２学期'!EU19=$B$8,IF(LEN('２学期'!EX19)=0,\"\",'２学期'!EX19),\"\")),\"\")","v":""},{"$f":"IF(LEN(O983)=0,\"\",IF(COUNTIF(O983:$O$1921,O983+1)>0,\"\",O983+1))","v":""},{"$f":"IFERROR(SMALL($P$1:$P$1921,982),\"\")","v":""}]
[null,null,null,null,null,null,null,null,null,null,null,null,null,null,{"$f":"IF(984<=$B$10,IF(LEN('２学期'!EU22)=0,\"\",IF('２学期'!EU22=$B$8,IF(LEN('２学期'!EX22)=0,\"\",'２学期'!EX22),\"\")),\"\")","v":""},{"$f":"IF(LEN(O984)=0,\"\",IF(COUNTIF(O984:$O$1921,O984+1)>0,\"\",O984+1))","v":""},{"$f":"IFERROR(SMALL($P$1:$P$1921,983),\"\")","v":""}]
[null,null,null,null,null,null,null,null,null,null,null,null,null,null,{"$f":"IF(985<=$B$10,IF(LEN('２学期'!EU25)=0,\"\",IF('２学期'!EU25=$B$8,IF(LEN('２学期'!EX25)=0,\"\",'２学期'!EX25),\"\")),\"\")","v":""},{"$f":"IF(LEN(O985)=0,\"\",IF(COUNTIF(O985:$O$1921,O985+1)>0,\"\",O985+1))","v":""},{"$f":"IFERROR(SMALL($P$1:$P$1921,984),\"\")","v":""}]
[null,null,null,null,null,null,null,null,null,null,null,null,null,null,{"$f":"IF(986<=$B$10,IF(LEN('２学期'!EY6)=0,\"\",IF('２学期'!EY6=$B$8,IF(LEN('２学期'!FB6)=0,\"\",'２学期'!FB6),\"\")),\"\")","v":""},{"$f":"IF(LEN(O986)=0,\"\",IF(COUNTIF(O986:$O$1921,O986+1)>0,\"\",O986+1))","v":""},{"$f":"IFERROR(SMALL($P$1:$P$1921,985),\"\")","v":""}]
[null,null,null,null,null,null,null,null,null,null,null,null,null,null,{"$f":"IF(987<=$B$10,IF(LEN('２学期'!EY7)=0,\"\",IF('２学期'!EY7=$B$8,IF(LEN('２学期'!FB7)=0,\"\",'２学期'!FB7),\"\")),\"\")","v":""},{"$f":"IF(LEN(O987)=0,\"\",IF(COUNTIF(O987:$O$1921,O987+1)>0,\"\",O987+1))","v":""},{"$f":"IFERROR(SMALL($P$1:$P$1921,986),\"\")","v":""}]
[null,null,null,null,null,null,null,null,null,null,null,null,null,null,{"$f":"IF(988<=$B$10,IF(LEN('２学期'!EY10)=0,\"\",IF('２学期'!EY10=$B$8,IF(LEN('２学期'!FB10)=0,\"\",'２学期'!FB10),\"\")),\"\")","v":""},{"$f":"IF(LEN(O988)=0,\"\",IF(COUNTIF(O988:$O$1921,O988+1)>0,\"\",O988+1))","v":""},{"$f":"IFERROR(SMALL($P$1:$P$1921,987),\"\")","v":""}]
[null,null,null,null,null,null,null,null,null,null,null,null,null,null,{"$f":"IF(989<=$B$10,IF(LEN('２学期'!EY13)=0,\"\",IF('２学期'!EY13=$B$8,IF(LEN('２学期'!FB13)=0,\"\",'２学期'!FB13),\"\")),\"\")","v":""},{"$f":"IF(LEN(O989)=0,\"\",IF(COUNTIF(O989:$O$1921,O989+1)>0,\"\",O989+1))","v":""},{"$f":"IFERROR(SMALL($P$1:$P$1921,988),\"\")","v":""}]
[null,null,null,null,null,null,null,null,null,null,null,null,null,null,{"$f":"IF(990<=$B$10,IF(LEN('２学期'!EY16)=0,\"\",IF('２学期'!EY16=$B$8,IF(LEN('２学期'!FB16)=0,\"\",'２学期'!FB16),\"\")),\"\")","v":""},{"$f":"IF(LEN(O990)=0,\"\",IF(COUNTIF(O990:$O$1921,O990+1)>0,\"\",O990+1))","v":""},{"$f":"IFERROR(SMALL($P$1:$P$1921,989),\"\")","v":""}]
[null,null,null,null,null,null,null,null,null,null,null,null,null,null,{"$f":"IF(991<=$B$10,IF(LEN('２学期'!EY19)=0,\"\",IF('２学期'!EY19=$B$8,IF(LEN('２学期'!FB19)=0,\"\",'２学期'!FB19),\"\")),\"\")","v":""},{"$f":"IF(LEN(O991)=0,\"\",IF(COUNTIF(O991:$O$1921,O991+1)>0,\"\",O991+1))","v":""},{"$f":"IFERROR(SMALL($P$1:$P$1921,990),\"\")","v":""}]
[null,null,null,null,null,null,null,null,null,null,null,null,null,null,{"$f":"IF(992<=$B$10,IF(LEN('２学期'!EY22)=0,\"\",IF('２学期'!EY22=$B$8,IF(LEN('２学期'!FB22)=0,\"\",'２学期'!FB22),\"\")),\"\")","v":""},{"$f":"IF(LEN(O992)=0,\"\",IF(COUNTIF(O992:$O$1921,O992+1)>0,\"\",O992+1))","v":""},{"$f":"IFERROR(SMALL($P$1:$P$1921,991),\"\")","v":""}]
[null,null,null,null,null,null,null,null,null,null,null,null,null,null,{"$f":"IF(993<=$B$10,IF(LEN('２学期'!EY25)=0,\"\",IF('２学期'!EY25=$B$8,IF(LEN('２学期'!FB25)=0,\"\",'２学期'!FB25),\"\")),\"\")","v":""},{"$f":"IF(LEN(O993)=0,\"\",IF(COUNTIF(O993:$O$1921,O993+1)>0,\"\",O993+1))","v":""},{"$f":"IFERROR(SMALL($P$1:$P$1921,992),\"\")","v":""}]
[null,null,null,null,null,null,null,null,null,null,null,null,null,null,{"$f":"IF(994<=$B$10,IF(LEN('２学期'!FC6)=0,\"\",IF('２学期'!FC6=$B$8,IF(LEN('２学期'!FF6)=0,\"\",'２学期'!FF6),\"\")),\"\")","v":""},{"$f":"IF(LEN(O994)=0,\"\",IF(COUNTIF(O994:$O$1921,O994+1)>0,\"\",O994+1))","v":""},{"$f":"IFERROR(SMALL($P$1:$P$1921,993),\"\")","v":""}]
[null,null,null,null,null,null,null,null,null,null,null,null,null,null,{"$f":"IF(995<=$B$10,IF(LEN('２学期'!FC7)=0,\"\",IF('２学期'!FC7=$B$8,IF(LEN('２学期'!FF7)=0,\"\",'２学期'!FF7),\"\")),\"\")","v":""},{"$f":"IF(LEN(O995)=0,\"\",IF(COUNTIF(O995:$O$1921,O995+1)>0,\"\",O995+1))","v":""},{"$f":"IFERROR(SMALL($P$1:$P$1921,994),\"\")","v":""}]
[null,null,null,null,null,null,null,null,null,null,null,null,null,null,{"$f":"IF(996<=$B$10,IF(LEN('２学期'!FC10)=0,\"\",IF('２学期'!FC10=$B$8,IF(LEN('２学期'!FF10)=0,\"\",'２学期'!FF10),\"\")),\"\")","v":""},{"$f":"IF(LEN(O996)=0,\"\",IF(COUNTIF(O996:$O$1921,O996+1)>0,\"\",O996+1))","v":""},{"$f":"IFERROR(SMALL($P$1:$P$1921,995),\"\")","v":""}]
[null,null,null,null,null,null,null,null,null,null,null,null,null,null,{"$f":"IF(997<=$B$10,IF(LEN('２学期'!FC13)=0,\"\",IF('２学期'!FC13=$B$8,IF(LEN('２学期'!FF13)=0,\"\",'２学期'!FF13),\"\")),\"\")","v":""},{"$f":"IF(LEN(O997)=0,\"\",IF(COUNTIF(O997:$O$1921,O997+1)>0,\"\",O997+1))","v":""},{"$f":"IFERROR(SMALL($P$1:$P$1921,996),\"\")","v":""}]
[null,null,null,null,null,null,null,null,null,null,null,null,null,null,{"$f":"IF(998<=$B$10,IF(LEN('２学期'!FC16)=0,\"\",IF('２学期'!FC16=$B$8,IF(LEN('２学期'!FF16)=0,\"\",'２学期'!FF16),\"\")),\"\")","v":""},{"$f":"IF(LEN(O998)=0,\"\",IF(COUNTIF(O998:$O$1921,O998+1)>0,\"\",O998+1))","v":""},{"$f":"IFERROR(SMALL($P$1:$P$1921,997),\"\")","v":""}]
[null,null,null,null,null,null,null,null,null,null,null,null,null,null,{"$f":"IF(999<=$B$10,IF(LEN('２学期'!FC19)=0,\"\",IF('２学期'!FC19=$B$8,IF(LEN('２学期'!FF19)=0,\"\",'２学期'!FF19),\"\")),\"\")","v":""},{"$f":"IF(LEN(O999)=0,\"\",IF(COUNTIF(O999:$O$1921,O999+1)>0,\"\",O999+1))","v":""},{"$f":"IFERROR(SMALL($P$1:$P$1921,998),\"\")","v":""}]
[null,null,null,null,null,null,null,null,null,null,null,null,null,null,{"$f":"IF(1000<=$B$10,IF(LEN('２学期'!FC22)=0,\"\",IF('２学期'!FC22=$B$8,IF(LEN('２学期'!FF22)=0,\"\",'２学期'!FF22),\"\")),\"\")","v":""},{"$f":"IF(LEN(O1000)=0,\"\",IF(COUNTIF(O1000:$O$1921,O1000+1)>0,\"\",O1000+1))","v":""},{"$f":"IFERROR(SMALL($P$1:$P$1921,999),\"\")","v":""}]
[null,null,null,null,null,null,null,null,null,null,null,null,null,null,{"$f":"IF(1001<=$B$10,IF(LEN('２学期'!FC25)=0,\"\",IF('２学期'!FC25=$B$8,IF(LEN('２学期'!FF25)=0,\"\",'２学期'!FF25),\"\")),\"\")","v":""},{"$f":"IF(LEN(O1001)=0,\"\",IF(COUNTIF(O1001:$O$1921,O1001+1)>0,\"\",O1001+1))","v":""},{"$f":"IFERROR(SMALL($P$1:$P$1921,1000),\"\")","v":""}]
[null,null,null,null,null,null,null,null,null,null,null,null,null,null,{"$f":"IF(1002<=$B$10,IF(LEN('２学期'!FG6)=0,\"\",IF('２学期'!FG6=$B$8,IF(LEN('２学期'!FJ6)=0,\"\",'２学期'!FJ6),\"\")),\"\")","v":""},{"$f":"IF(LEN(O1002)=0,\"\",IF(COUNTIF(O1002:$O$1921,O1002+1)>0,\"\",O1002+1))","v":""},{"$f":"IFERROR(SMALL($P$1:$P$1921,1001),\"\")","v":""}]
[null,null,null,null,null,null,null,null,null,null,null,null,null,null,{"$f":"IF(1003<=$B$10,IF(LEN('２学期'!FG7)=0,\"\",IF('２学期'!FG7=$B$8,IF(LEN('２学期'!FJ7)=0,\"\",'２学期'!FJ7),\"\")),\"\")","v":""},{"$f":"IF(LEN(O1003)=0,\"\",IF(COUNTIF(O1003:$O$1921,O1003+1)>0,\"\",O1003+1))","v":""},{"$f":"IFERROR(SMALL($P$1:$P$1921,1002),\"\")","v":""}]
[null,null,null,null,null,null,null,null,null,null,null,null,null,null,{"$f":"IF(1004<=$B$10,IF(LEN('２学期'!FG10)=0,\"\",IF('２学期'!FG10=$B$8,IF(LEN('２学期'!FJ10)=0,\"\",'２学期'!FJ10),\"\")),\"\")","v":""},{"$f":"IF(LEN(O1004)=0,\"\",IF(COUNTIF(O1004:$O$1921,O1004+1)>0,\"\",O1004+1))","v":""},{"$f":"IFERROR(SMALL($P$1:$P$1921,1003),\"\")","v":""}]
[null,null,null,null,null,null,null,null,null,null,null,null,null,null,{"$f":"IF(1005<=$B$10,IF(LEN('２学期'!FG13)=0,\"\",IF('２学期'!FG13=$B$8,IF(LEN('２学期'!FJ13)=0,\"\",'２学期'!FJ13),\"\")),\"\")","v":""},{"$f":"IF(LEN(O1005)=0,\"\",IF(COUNTIF(O1005:$O$1921,O1005+1)>0,\"\",O1005+1))","v":""},{"$f":"IFERROR(SMALL($P$1:$P$1921,1004),\"\")","v":""}]
[null,null,null,null,null,null,null,null,null,null,null,null,null,null,{"$f":"IF(1006<=$B$10,IF(LEN('２学期'!FG16)=0,\"\",IF('２学期'!FG16=$B$8,IF(LEN('２学期'!FJ16)=0,\"\",'２学期'!FJ16),\"\")),\"\")","v":""},{"$f":"IF(LEN(O1006)=0,\"\",IF(COUNTIF(O1006:$O$1921,O1006+1)>0,\"\",O1006+1))","v":""},{"$f":"IFERROR(SMALL($P$1:$P$1921,1005),\"\")","v":""}]
[null,null,null,null,null,null,null,null,null,null,null,null,null,null,{"$f":"IF(1007<=$B$10,IF(LEN('２学期'!FG19)=0,\"\",IF('２学期'!FG19=$B$8,IF(LEN('２学期'!FJ19)=0,\"\",'２学期'!FJ19),\"\")),\"\")","v":""},{"$f":"IF(LEN(O1007)=0,\"\",IF(COUNTIF(O1007:$O$1921,O1007+1)>0,\"\",O1007+1))","v":""},{"$f":"IFERROR(SMALL($P$1:$P$1921,1006),\"\")","v":""}]
[null,null,null,null,null,null,null,null,null,null,null,null,null,null,{"$f":"IF(1008<=$B$10,IF(LEN('２学期'!FG22)=0,\"\",IF('２学期'!FG22=$B$8,IF(LEN('２学期'!FJ22)=0,\"\",'２学期'!FJ22),\"\")),\"\")","v":""},{"$f":"IF(LEN(O1008)=0,\"\",IF(COUNTIF(O1008:$O$1921,O1008+1)>0,\"\",O1008+1))","v":""},{"$f":"IFERROR(SMALL($P$1:$P$1921,1007),\"\")","v":""}]
[null,null,null,null,null,null,null,null,null,null,null,null,null,null,{"$f":"IF(1009<=$B$10,IF(LEN('２学期'!FG25)=0,\"\",IF('２学期'!FG25=$B$8,IF(LEN('２学期'!FJ25)=0,\"\",'２学期'!FJ25),\"\")),\"\")","v":""},{"$f":"IF(LEN(O1009)=0,\"\",IF(COUNTIF(O1009:$O$1921,O1009+1)>0,\"\",O1009+1))","v":""},{"$f":"IFERROR(SMALL($P$1:$P$1921,1008),\"\")","v":""}]
[null,null,null,null,null,null,null,null,null,null,null,null,null,null,{"$f":"IF(1010<=$B$10,IF(LEN('２学期'!FK6)=0,\"\",IF('２学期'!FK6=$B$8,IF(LEN('２学期'!FN6)=0,\"\",'２学期'!FN6),\"\")),\"\")","v":""},{"$f":"IF(LEN(O1010)=0,\"\",IF(COUNTIF(O1010:$O$1921,O1010+1)>0,\"\",O1010+1))","v":""},{"$f":"IFERROR(SMALL($P$1:$P$1921,1009),\"\")","v":""}]
[null,null,null,null,null,null,null,null,null,null,null,null,null,null,{"$f":"IF(1011<=$B$10,IF(LEN('２学期'!FK7)=0,\"\",IF('２学期'!FK7=$B$8,IF(LEN('２学期'!FN7)=0,\"\",'２学期'!FN7),\"\")),\"\")","v":""},{"$f":"IF(LEN(O1011)=0,\"\",IF(COUNTIF(O1011:$O$1921,O1011+1)>0,\"\",O1011+1))","v":""},{"$f":"IFERROR(SMALL($P$1:$P$1921,1010),\"\")","v":""}]
[null,null,null,null,null,null,null,null,null,null,null,null,null,null,{"$f":"IF(1012<=$B$10,IF(LEN('２学期'!FK10)=0,\"\",IF('２学期'!FK10=$B$8,IF(LEN('２学期'!FN10)=0,\"\",'２学期'!FN10),\"\")),\"\")","v":""},{"$f":"IF(LEN(O1012)=0,\"\",IF(COUNTIF(O1012:$O$1921,O1012+1)>0,\"\",O1012+1))","v":""},{"$f":"IFERROR(SMALL($P$1:$P$1921,1011),\"\")","v":""}]
[null,null,null,null,null,null,null,null,null,null,null,null,null,null,{"$f":"IF(1013<=$B$10,IF(LEN('２学期'!FK13)=0,\"\",IF('２学期'!FK13=$B$8,IF(LEN('２学期'!FN13)=0,\"\",'２学期'!FN13),\"\")),\"\")","v":""},{"$f":"IF(LEN(O1013)=0,\"\",IF(COUNTIF(O1013:$O$1921,O1013+1)>0,\"\",O1013+1))","v":""},{"$f":"IFERROR(SMALL($P$1:$P$1921,1012),\"\")","v":""}]
[null,null,null,null,null,null,null,null,null,null,null,null,null,null,{"$f":"IF(1014<=$B$10,IF(LEN('２学期'!FK16)=0,\"\",IF('２学期'!FK16=$B$8,IF(LEN('２学期'!FN16)=0,\"\",'２学期'!FN16),\"\")),\"\")","v":""},{"$f":"IF(LEN(O1014)=0,\"\",IF(COUNTIF(O1014:$O$1921,O1014+1)>0,\"\",O1014+1))","v":""},{"$f":"IFERROR(SMALL($P$1:$P$1921,1013),\"\")","v":""}]
[null,null,null,null,null,null,null,null,null,null,null,null,null,null,{"$f":"IF(1015<=$B$10,IF(LEN('２学期'!FK19)=0,\"\",IF('２学期'!FK19=$B$8,IF(LEN('２学期'!FN19)=0,\"\",'２学期'!FN19),\"\")),\"\")","v":""},{"$f":"IF(LEN(O1015)=0,\"\",IF(COUNTIF(O1015:$O$1921,O1015+1)>0,\"\",O1015+1))","v":""},{"$f":"IFERROR(SMALL($P$1:$P$1921,1014),\"\")","v":""}]
[null,null,null,null,null,null,null,null,null,null,null,null,null,null,{"$f":"IF(1016<=$B$10,IF(LEN('２学期'!FK22)=0,\"\",IF('２学期'!FK22=$B$8,IF(LEN('２学期'!FN22)=0,\"\",'２学期'!FN22),\"\")),\"\")","v":""},{"$f":"IF(LEN(O1016)=0,\"\",IF(COUNTIF(O1016:$O$1921,O1016+1)>0,\"\",O1016+1))","v":""},{"$f":"IFERROR(SMALL($P$1:$P$1921,1015),\"\")","v":""}]
[null,null,null,null,null,null,null,null,null,null,null,null,null,null,{"$f":"IF(1017<=$B$10,IF(LEN('２学期'!FK25)=0,\"\",IF('２学期'!FK25=$B$8,IF(LEN('２学期'!FN25)=0,\"\",'２学期'!FN25),\"\")),\"\")","v":""},{"$f":"IF(LEN(O1017)=0,\"\",IF(COUNTIF(O1017:$O$1921,O1017+1)>0,\"\",O1017+1))","v":""},{"$f":"IFERROR(SMALL($P$1:$P$1921,1016),\"\")","v":""}]
[null,null,null,null,null,null,null,null,null,null,null,null,null,null,{"$f":"IF(1018<=$B$10,IF(LEN('２学期'!FO6)=0,\"\",IF('２学期'!FO6=$B$8,IF(LEN('２学期'!FR6)=0,\"\",'２学期'!FR6),\"\")),\"\")","v":""},{"$f":"IF(LEN(O1018)=0,\"\",IF(COUNTIF(O1018:$O$1921,O1018+1)>0,\"\",O1018+1))","v":""},{"$f":"IFERROR(SMALL($P$1:$P$1921,1017),\"\")","v":""}]
[null,null,null,null,null,null,null,null,null,null,null,null,null,null,{"$f":"IF(1019<=$B$10,IF(LEN('２学期'!FO7)=0,\"\",IF('２学期'!FO7=$B$8,IF(LEN('２学期'!FR7)=0,\"\",'２学期'!FR7),\"\")),\"\")","v":""},{"$f":"IF(LEN(O1019)=0,\"\",IF(COUNTIF(O1019:$O$1921,O1019+1)>0,\"\",O1019+1))","v":""},{"$f":"IFERROR(SMALL($P$1:$P$1921,1018),\"\")","v":""}]
[null,null,null,null,null,null,null,null,null,null,null,null,null,null,{"$f":"IF(1020<=$B$10,IF(LEN('２学期'!FO10)=0,\"\",IF('２学期'!FO10=$B$8,IF(LEN('２学期'!FR10)=0,\"\",'２学期'!FR10),\"\")),\"\")","v":""},{"$f":"IF(LEN(O1020)=0,\"\",IF(COUNTIF(O1020:$O$1921,O1020+1)>0,\"\",O1020+1))","v":""},{"$f":"IFERROR(SMALL($P$1:$P$1921,1019),\"\")","v":""}]
[null,null,null,null,null,null,null,null,null,null,null,null,null,null,{"$f":"IF(1021<=$B$10,IF(LEN('２学期'!FO13)=0,\"\",IF('２学期'!FO13=$B$8,IF(LEN('２学期'!FR13)=0,\"\",'２学期'!FR13),\"\")),\"\")","v":""},{"$f":"IF(LEN(O1021)=0,\"\",IF(COUNTIF(O1021:$O$1921,O1021+1)>0,\"\",O1021+1))","v":""},{"$f":"IFERROR(SMALL($P$1:$P$1921,1020),\"\")","v":""}]
[null,null,null,null,null,null,null,null,null,null,null,null,null,null,{"$f":"IF(1022<=$B$10,IF(LEN('２学期'!FO16)=0,\"\",IF('２学期'!FO16=$B$8,IF(LEN('２学期'!FR16)=0,\"\",'２学期'!FR16),\"\")),\"\")","v":""},{"$f":"IF(LEN(O1022)=0,\"\",IF(COUNTIF(O1022:$O$1921,O1022+1)>0,\"\",O1022+1))","v":""},{"$f":"IFERROR(SMALL($P$1:$P$1921,1021),\"\")","v":""}]
[null,null,null,null,null,null,null,null,null,null,null,null,null,null,{"$f":"IF(1023<=$B$10,IF(LEN('２学期'!FO19)=0,\"\",IF('２学期'!FO19=$B$8,IF(LEN('２学期'!FR19)=0,\"\",'２学期'!FR19),\"\")),\"\")","v":""},{"$f":"IF(LEN(O1023)=0,\"\",IF(COUNTIF(O1023:$O$1921,O1023+1)>0,\"\",O1023+1))","v":""},{"$f":"IFERROR(SMALL($P$1:$P$1921,1022),\"\")","v":""}]
[null,null,null,null,null,null,null,null,null,null,null,null,null,null,{"$f":"IF(1024<=$B$10,IF(LEN('２学期'!FO22)=0,\"\",IF('２学期'!FO22=$B$8,IF(LEN('２学期'!FR22)=0,\"\",'２学期'!FR22),\"\")),\"\")","v":""},{"$f":"IF(LEN(O1024)=0,\"\",IF(COUNTIF(O1024:$O$1921,O1024+1)>0,\"\",O1024+1))","v":""},{"$f":"IFERROR(SMALL($P$1:$P$1921,1023),\"\")","v":""}]
[null,null,null,null,null,null,null,null,null,null,null,null,null,null,{"$f":"IF(1025<=$B$10,IF(LEN('２学期'!FO25)=0,\"\",IF('２学期'!FO25=$B$8,IF(LEN('２学期'!FR25)=0,\"\",'２学期'!FR25),\"\")),\"\")","v":""},{"$f":"IF(LEN(O1025)=0,\"\",IF(COUNTIF(O1025:$O$1921,O1025+1)>0,\"\",O1025+1))","v":""},{"$f":"IFERROR(SMALL($P$1:$P$1921,1024),\"\")","v":""}]
[null,null,null,null,null,null,null,null,null,null,null,null,null,null,{"$f":"IF(1026<=$B$10,IF(LEN('２学期'!FS6)=0,\"\",IF('２学期'!FS6=$B$8,IF(LEN('２学期'!FV6)=0,\"\",'２学期'!FV6),\"\")),\"\")","v":""},{"$f":"IF(LEN(O1026)=0,\"\",IF(COUNTIF(O1026:$O$1921,O1026+1)>0,\"\",O1026+1))","v":""},{"$f":"IFERROR(SMALL($P$1:$P$1921,1025),\"\")","v":""}]
[null,null,null,null,null,null,null,null,null,null,null,null,null,null,{"$f":"IF(1027<=$B$10,IF(LEN('２学期'!FS7)=0,\"\",IF('２学期'!FS7=$B$8,IF(LEN('２学期'!FV7)=0,\"\",'２学期'!FV7),\"\")),\"\")","v":""},{"$f":"IF(LEN(O1027)=0,\"\",IF(COUNTIF(O1027:$O$1921,O1027+1)>0,\"\",O1027+1))","v":""},{"$f":"IFERROR(SMALL($P$1:$P$1921,1026),\"\")","v":""}]
[null,null,null,null,null,null,null,null,null,null,null,null,null,null,{"$f":"IF(1028<=$B$10,IF(LEN('２学期'!FS10)=0,\"\",IF('２学期'!FS10=$B$8,IF(LEN('２学期'!FV10)=0,\"\",'２学期'!FV10),\"\")),\"\")","v":""},{"$f":"IF(LEN(O1028)=0,\"\",IF(COUNTIF(O1028:$O$1921,O1028+1)>0,\"\",O1028+1))","v":""},{"$f":"IFERROR(SMALL($P$1:$P$1921,1027),\"\")","v":""}]
[null,null,null,null,null,null,null,null,null,null,null,null,null,null,{"$f":"IF(1029<=$B$10,IF(LEN('２学期'!FS13)=0,\"\",IF('２学期'!FS13=$B$8,IF(LEN('２学期'!FV13)=0,\"\",'２学期'!FV13),\"\")),\"\")","v":""},{"$f":"IF(LEN(O1029)=0,\"\",IF(COUNTIF(O1029:$O$1921,O1029+1)>0,\"\",O1029+1))","v":""},{"$f":"IFERROR(SMALL($P$1:$P$1921,1028),\"\")","v":""}]
[null,null,null,null,null,null,null,null,null,null,null,null,null,null,{"$f":"IF(1030<=$B$10,IF(LEN('２学期'!FS16)=0,\"\",IF('２学期'!FS16=$B$8,IF(LEN('２学期'!FV16)=0,\"\",'２学期'!FV16),\"\")),\"\")","v":""},{"$f":"IF(LEN(O1030)=0,\"\",IF(COUNTIF(O1030:$O$1921,O1030+1)>0,\"\",O1030+1))","v":""},{"$f":"IFERROR(SMALL($P$1:$P$1921,1029),\"\")","v":""}]
[null,null,null,null,null,null,null,null,null,null,null,null,null,null,{"$f":"IF(1031<=$B$10,IF(LEN('２学期'!FS19)=0,\"\",IF('２学期'!FS19=$B$8,IF(LEN('２学期'!FV19)=0,\"\",'２学期'!FV19),\"\")),\"\")","v":""},{"$f":"IF(LEN(O1031)=0,\"\",IF(COUNTIF(O1031:$O$1921,O1031+1)>0,\"\",O1031+1))","v":""},{"$f":"IFERROR(SMALL($P$1:$P$1921,1030),\"\")","v":""}]
[null,null,null,null,null,null,null,null,null,null,null,null,null,null,{"$f":"IF(1032<=$B$10,IF(LEN('２学期'!FS22)=0,\"\",IF('２学期'!FS22=$B$8,IF(LEN('２学期'!FV22)=0,\"\",'２学期'!FV22),\"\")),\"\")","v":""},{"$f":"IF(LEN(O1032)=0,\"\",IF(COUNTIF(O1032:$O$1921,O1032+1)>0,\"\",O1032+1))","v":""},{"$f":"IFERROR(SMALL($P$1:$P$1921,1031),\"\")","v":""}]
[null,null,null,null,null,null,null,null,null,null,null,null,null,null,{"$f":"IF(1033<=$B$10,IF(LEN('２学期'!FS25)=0,\"\",IF('２学期'!FS25=$B$8,IF(LEN('２学期'!FV25)=0,\"\",'２学期'!FV25),\"\")),\"\")","v":""},{"$f":"IF(LEN(O1033)=0,\"\",IF(COUNTIF(O1033:$O$1921,O1033+1)>0,\"\",O1033+1))","v":""},{"$f":"IFERROR(SMALL($P$1:$P$1921,1032),\"\")","v":""}]
[null,null,null,null,null,null,null,null,null,null,null,null,null,null,{"$f":"IF(1034<=$B$10,IF(LEN('２学期'!FW6)=0,\"\",IF('２学期'!FW6=$B$8,IF(LEN('２学期'!FZ6)=0,\"\",'２学期'!FZ6),\"\")),\"\")","v":""},{"$f":"IF(LEN(O1034)=0,\"\",IF(COUNTIF(O1034:$O$1921,O1034+1)>0,\"\",O1034+1))","v":""},{"$f":"IFERROR(SMALL($P$1:$P$1921,1033),\"\")","v":""}]
[null,null,null,null,null,null,null,null,null,null,null,null,null,null,{"$f":"IF(1035<=$B$10,IF(LEN('２学期'!FW7)=0,\"\",IF('２学期'!FW7=$B$8,IF(LEN('２学期'!FZ7)=0,\"\",'２学期'!FZ7),\"\")),\"\")","v":""},{"$f":"IF(LEN(O1035)=0,\"\",IF(COUNTIF(O1035:$O$1921,O1035+1)>0,\"\",O1035+1))","v":""},{"$f":"IFERROR(SMALL($P$1:$P$1921,1034),\"\")","v":""}]
[null,null,null,null,null,null,null,null,null,null,null,null,null,null,{"$f":"IF(1036<=$B$10,IF(LEN('２学期'!FW10)=0,\"\",IF('２学期'!FW10=$B$8,IF(LEN('２学期'!FZ10)=0,\"\",'２学期'!FZ10),\"\")),\"\")","v":""},{"$f":"IF(LEN(O1036)=0,\"\",IF(COUNTIF(O1036:$O$1921,O1036+1)>0,\"\",O1036+1))","v":""},{"$f":"IFERROR(SMALL($P$1:$P$1921,1035),\"\")","v":""}]
[null,null,null,null,null,null,null,null,null,null,null,null,null,null,{"$f":"IF(1037<=$B$10,IF(LEN('２学期'!FW13)=0,\"\",IF('２学期'!FW13=$B$8,IF(LEN('２学期'!FZ13)=0,\"\",'２学期'!FZ13),\"\")),\"\")","v":""},{"$f":"IF(LEN(O1037)=0,\"\",IF(COUNTIF(O1037:$O$1921,O1037+1)>0,\"\",O1037+1))","v":""},{"$f":"IFERROR(SMALL($P$1:$P$1921,1036),\"\")","v":""}]
[null,null,null,null,null,null,null,null,null,null,null,null,null,null,{"$f":"IF(1038<=$B$10,IF(LEN('２学期'!FW16)=0,\"\",IF('２学期'!FW16=$B$8,IF(LEN('２学期'!FZ16)=0,\"\",'２学期'!FZ16),\"\")),\"\")","v":""},{"$f":"IF(LEN(O1038)=0,\"\",IF(COUNTIF(O1038:$O$1921,O1038+1)>0,\"\",O1038+1))","v":""},{"$f":"IFERROR(SMALL($P$1:$P$1921,1037),\"\")","v":""}]
[null,null,null,null,null,null,null,null,null,null,null,null,null,null,{"$f":"IF(1039<=$B$10,IF(LEN('２学期'!FW19)=0,\"\",IF('２学期'!FW19=$B$8,IF(LEN('２学期'!FZ19)=0,\"\",'２学期'!FZ19),\"\")),\"\")","v":""},{"$f":"IF(LEN(O1039)=0,\"\",IF(COUNTIF(O1039:$O$1921,O1039+1)>0,\"\",O1039+1))","v":""},{"$f":"IFERROR(SMALL($P$1:$P$1921,1038),\"\")","v":""}]
[null,null,null,null,null,null,null,null,null,null,null,null,null,null,{"$f":"IF(1040<=$B$10,IF(LEN('２学期'!FW22)=0,\"\",IF('２学期'!FW22=$B$8,IF(LEN('２学期'!FZ22)=0,\"\",'２学期'!FZ22),\"\")),\"\")","v":""},{"$f":"IF(LEN(O1040)=0,\"\",IF(COUNTIF(O1040:$O$1921,O1040+1)>0,\"\",O1040+1))","v":""},{"$f":"IFERROR(SMALL($P$1:$P$1921,1039),\"\")","v":""}]
[null,null,null,null,null,null,null,null,null,null,null,null,null,null,{"$f":"IF(1041<=$B$10,IF(LEN('２学期'!FW25)=0,\"\",IF('２学期'!FW25=$B$8,IF(LEN('２学期'!FZ25)=0,\"\",'２学期'!FZ25),\"\")),\"\")","v":""},{"$f":"IF(LEN(O1041)=0,\"\",IF(COUNTIF(O1041:$O$1921,O1041+1)>0,\"\",O1041+1))","v":""},{"$f":"IFERROR(SMALL($P$1:$P$1921,1040),\"\")","v":""}]
[null,null,null,null,null,null,null,null,null,null,null,null,null,null,{"$f":"IF(1042<=$B$10,IF(LEN('２学期'!GA6)=0,\"\",IF('２学期'!GA6=$B$8,IF(LEN('２学期'!GD6)=0,\"\",'２学期'!GD6),\"\")),\"\")","v":""},{"$f":"IF(LEN(O1042)=0,\"\",IF(COUNTIF(O1042:$O$1921,O1042+1)>0,\"\",O1042+1))","v":""},{"$f":"IFERROR(SMALL($P$1:$P$1921,1041),\"\")","v":""}]
[null,null,null,null,null,null,null,null,null,null,null,null,null,null,{"$f":"IF(1043<=$B$10,IF(LEN('２学期'!GA7)=0,\"\",IF('２学期'!GA7=$B$8,IF(LEN('２学期'!GD7)=0,\"\",'２学期'!GD7),\"\")),\"\")","v":""},{"$f":"IF(LEN(O1043)=0,\"\",IF(COUNTIF(O1043:$O$1921,O1043+1)>0,\"\",O1043+1))","v":""},{"$f":"IFERROR(SMALL($P$1:$P$1921,1042),\"\")","v":""}]
[null,null,null,null,null,null,null,null,null,null,null,null,null,null,{"$f":"IF(1044<=$B$10,IF(LEN('２学期'!GA10)=0,\"\",IF('２学期'!GA10=$B$8,IF(LEN('２学期'!GD10)=0,\"\",'２学期'!GD10),\"\")),\"\")","v":""},{"$f":"IF(LEN(O1044)=0,\"\",IF(COUNTIF(O1044:$O$1921,O1044+1)>0,\"\",O1044+1))","v":""},{"$f":"IFERROR(SMALL($P$1:$P$1921,1043),\"\")","v":""}]
[null,null,null,null,null,null,null,null,null,null,null,null,null,null,{"$f":"IF(1045<=$B$10,IF(LEN('２学期'!GA13)=0,\"\",IF('２学期'!GA13=$B$8,IF(LEN('２学期'!GD13)=0,\"\",'２学期'!GD13),\"\")),\"\")","v":""},{"$f":"IF(LEN(O1045)=0,\"\",IF(COUNTIF(O1045:$O$1921,O1045+1)>0,\"\",O1045+1))","v":""},{"$f":"IFERROR(SMALL($P$1:$P$1921,1044),\"\")","v":""}]
[null,null,null,null,null,null,null,null,null,null,null,null,null,null,{"$f":"IF(1046<=$B$10,IF(LEN('２学期'!GA16)=0,\"\",IF('２学期'!GA16=$B$8,IF(LEN('２学期'!GD16)=0,\"\",'２学期'!GD16),\"\")),\"\")","v":""},{"$f":"IF(LEN(O1046)=0,\"\",IF(COUNTIF(O1046:$O$1921,O1046+1)>0,\"\",O1046+1))","v":""},{"$f":"IFERROR(SMALL($P$1:$P$1921,1045),\"\")","v":""}]
[null,null,null,null,null,null,null,null,null,null,null,null,null,null,{"$f":"IF(1047<=$B$10,IF(LEN('２学期'!GA19)=0,\"\",IF('２学期'!GA19=$B$8,IF(LEN('２学期'!GD19)=0,\"\",'２学期'!GD19),\"\")),\"\")","v":""},{"$f":"IF(LEN(O1047)=0,\"\",IF(COUNTIF(O1047:$O$1921,O1047+1)>0,\"\",O1047+1))","v":""},{"$f":"IFERROR(SMALL($P$1:$P$1921,1046),\"\")","v":""}]
[null,null,null,null,null,null,null,null,null,null,null,null,null,null,{"$f":"IF(1048<=$B$10,IF(LEN('２学期'!GA22)=0,\"\",IF('２学期'!GA22=$B$8,IF(LEN('２学期'!GD22)=0,\"\",'２学期'!GD22),\"\")),\"\")","v":""},{"$f":"IF(LEN(O1048)=0,\"\",IF(COUNTIF(O1048:$O$1921,O1048+1)>0,\"\",O1048+1))","v":""},{"$f":"IFERROR(SMALL($P$1:$P$1921,1047),\"\")","v":""}]
[null,null,null,null,null,null,null,null,null,null,null,null,null,null,{"$f":"IF(1049<=$B$10,IF(LEN('２学期'!GA25)=0,\"\",IF('２学期'!GA25=$B$8,IF(LEN('２学期'!GD25)=0,\"\",'２学期'!GD25),\"\")),\"\")","v":""},{"$f":"IF(LEN(O1049)=0,\"\",IF(COUNTIF(O1049:$O$1921,O1049+1)>0,\"\",O1049+1))","v":""},{"$f":"IFERROR(SMALL($P$1:$P$1921,1048),\"\")","v":""}]
[null,null,null,null,null,null,null,null,null,null,null,null,null,null,{"$f":"IF(1050<=$B$10,IF(LEN('２学期'!GE6)=0,\"\",IF('２学期'!GE6=$B$8,IF(LEN('２学期'!GH6)=0,\"\",'２学期'!GH6),\"\")),\"\")","v":""},{"$f":"IF(LEN(O1050)=0,\"\",IF(COUNTIF(O1050:$O$1921,O1050+1)>0,\"\",O1050+1))","v":""},{"$f":"IFERROR(SMALL($P$1:$P$1921,1049),\"\")","v":""}]
[null,null,null,null,null,null,null,null,null,null,null,null,null,null,{"$f":"IF(1051<=$B$10,IF(LEN('２学期'!GE7)=0,\"\",IF('２学期'!GE7=$B$8,IF(LEN('２学期'!GH7)=0,\"\",'２学期'!GH7),\"\")),\"\")","v":""},{"$f":"IF(LEN(O1051)=0,\"\",IF(COUNTIF(O1051:$O$1921,O1051+1)>0,\"\",O1051+1))","v":""},{"$f":"IFERROR(SMALL($P$1:$P$1921,1050),\"\")","v":""}]
[null,null,null,null,null,null,null,null,null,null,null,null,null,null,{"$f":"IF(1052<=$B$10,IF(LEN('２学期'!GE10)=0,\"\",IF('２学期'!GE10=$B$8,IF(LEN('２学期'!GH10)=0,\"\",'２学期'!GH10),\"\")),\"\")","v":""},{"$f":"IF(LEN(O1052)=0,\"\",IF(COUNTIF(O1052:$O$1921,O1052+1)>0,\"\",O1052+1))","v":""},{"$f":"IFERROR(SMALL($P$1:$P$1921,1051),\"\")","v":""}]
[null,null,null,null,null,null,null,null,null,null,null,null,null,null,{"$f":"IF(1053<=$B$10,IF(LEN('２学期'!GE13)=0,\"\",IF('２学期'!GE13=$B$8,IF(LEN('２学期'!GH13)=0,\"\",'２学期'!GH13),\"\")),\"\")","v":""},{"$f":"IF(LEN(O1053)=0,\"\",IF(COUNTIF(O1053:$O$1921,O1053+1)>0,\"\",O1053+1))","v":""},{"$f":"IFERROR(SMALL($P$1:$P$1921,1052),\"\")","v":""}]
[null,null,null,null,null,null,null,null,null,null,null,null,null,null,{"$f":"IF(1054<=$B$10,IF(LEN('２学期'!GE16)=0,\"\",IF('２学期'!GE16=$B$8,IF(LEN('２学期'!GH16)=0,\"\",'２学期'!GH16),\"\")),\"\")","v":""},{"$f":"IF(LEN(O1054)=0,\"\",IF(COUNTIF(O1054:$O$1921,O1054+1)>0,\"\",O1054+1))","v":""},{"$f":"IFERROR(SMALL($P$1:$P$1921,1053),\"\")","v":""}]
[null,null,null,null,null,null,null,null,null,null,null,null,null,null,{"$f":"IF(1055<=$B$10,IF(LEN('２学期'!GE19)=0,\"\",IF('２学期'!GE19=$B$8,IF(LEN('２学期'!GH19)=0,\"\",'２学期'!GH19),\"\")),\"\")","v":""},{"$f":"IF(LEN(O1055)=0,\"\",IF(COUNTIF(O1055:$O$1921,O1055+1)>0,\"\",O1055+1))","v":""},{"$f":"IFERROR(SMALL($P$1:$P$1921,1054),\"\")","v":""}]
[null,null,null,null,null,null,null,null,null,null,null,null,null,null,{"$f":"IF(1056<=$B$10,IF(LEN('２学期'!GE22)=0,\"\",IF('２学期'!GE22=$B$8,IF(LEN('２学期'!GH22)=0,\"\",'２学期'!GH22),\"\")),\"\")","v":""},{"$f":"IF(LEN(O1056)=0,\"\",IF(COUNTIF(O1056:$O$1921,O1056+1)>0,\"\",O1056+1))","v":""},{"$f":"IFERROR(SMALL($P$1:$P$1921,1055),\"\")","v":""}]
[null,null,null,null,null,null,null,null,null,null,null,null,null,null,{"$f":"IF(1057<=$B$10,IF(LEN('２学期'!GE25)=0,\"\",IF('２学期'!GE25=$B$8,IF(LEN('２学期'!GH25)=0,\"\",'２学期'!GH25),\"\")),\"\")","v":""},{"$f":"IF(LEN(O1057)=0,\"\",IF(COUNTIF(O1057:$O$1921,O1057+1)>0,\"\",O1057+1))","v":""},{"$f":"IFERROR(SMALL($P$1:$P$1921,1056),\"\")","v":""}]
[null,null,null,null,null,null,null,null,null,null,null,null,null,null,{"$f":"IF(1058<=$B$10,IF(LEN('２学期'!GI6)=0,\"\",IF('２学期'!GI6=$B$8,IF(LEN('２学期'!GL6)=0,\"\",'２学期'!GL6),\"\")),\"\")","v":""},{"$f":"IF(LEN(O1058)=0,\"\",IF(COUNTIF(O1058:$O$1921,O1058+1)>0,\"\",O1058+1))","v":""},{"$f":"IFERROR(SMALL($P$1:$P$1921,1057),\"\")","v":""}]
[null,null,null,null,null,null,null,null,null,null,null,null,null,null,{"$f":"IF(1059<=$B$10,IF(LEN('２学期'!GI7)=0,\"\",IF('２学期'!GI7=$B$8,IF(LEN('２学期'!GL7)=0,\"\",'２学期'!GL7),\"\")),\"\")","v":""},{"$f":"IF(LEN(O1059)=0,\"\",IF(COUNTIF(O1059:$O$1921,O1059+1)>0,\"\",O1059+1))","v":""},{"$f":"IFERROR(SMALL($P$1:$P$1921,1058),\"\")","v":""}]
[null,null,null,null,null,null,null,null,null,null,null,null,null,null,{"$f":"IF(1060<=$B$10,IF(LEN('２学期'!GI10)=0,\"\",IF('２学期'!GI10=$B$8,IF(LEN('２学期'!GL10)=0,\"\",'２学期'!GL10),\"\")),\"\")","v":""},{"$f":"IF(LEN(O1060)=0,\"\",IF(COUNTIF(O1060:$O$1921,O1060+1)>0,\"\",O1060+1))","v":""},{"$f":"IFERROR(SMALL($P$1:$P$1921,1059),\"\")","v":""}]
[null,null,null,null,null,null,null,null,null,null,null,null,null,null,{"$f":"IF(1061<=$B$10,IF(LEN('２学期'!GI13)=0,\"\",IF('２学期'!GI13=$B$8,IF(LEN('２学期'!GL13)=0,\"\",'２学期'!GL13),\"\")),\"\")","v":""},{"$f":"IF(LEN(O1061)=0,\"\",IF(COUNTIF(O1061:$O$1921,O1061+1)>0,\"\",O1061+1))","v":""},{"$f":"IFERROR(SMALL($P$1:$P$1921,1060),\"\")","v":""}]
[null,null,null,null,null,null,null,null,null,null,null,null,null,null,{"$f":"IF(1062<=$B$10,IF(LEN('２学期'!GI16)=0,\"\",IF('２学期'!GI16=$B$8,IF(LEN('２学期'!GL16)=0,\"\",'２学期'!GL16),\"\")),\"\")","v":""},{"$f":"IF(LEN(O1062)=0,\"\",IF(COUNTIF(O1062:$O$1921,O1062+1)>0,\"\",O1062+1))","v":""},{"$f":"IFERROR(SMALL($P$1:$P$1921,1061),\"\")","v":""}]
[null,null,null,null,null,null,null,null,null,null,null,null,null,null,{"$f":"IF(1063<=$B$10,IF(LEN('２学期'!GI19)=0,\"\",IF('２学期'!GI19=$B$8,IF(LEN('２学期'!GL19)=0,\"\",'２学期'!GL19),\"\")),\"\")","v":""},{"$f":"IF(LEN(O1063)=0,\"\",IF(COUNTIF(O1063:$O$1921,O1063+1)>0,\"\",O1063+1))","v":""},{"$f":"IFERROR(SMALL($P$1:$P$1921,1062),\"\")","v":""}]
[null,null,null,null,null,null,null,null,null,null,null,null,null,null,{"$f":"IF(1064<=$B$10,IF(LEN('２学期'!GI22)=0,\"\",IF('２学期'!GI22=$B$8,IF(LEN('２学期'!GL22)=0,\"\",'２学期'!GL22),\"\")),\"\")","v":""},{"$f":"IF(LEN(O1064)=0,\"\",IF(COUNTIF(O1064:$O$1921,O1064+1)>0,\"\",O1064+1))","v":""},{"$f":"IFERROR(SMALL($P$1:$P$1921,1063),\"\")","v":""}]
[null,null,null,null,null,null,null,null,null,null,null,null,null,null,{"$f":"IF(1065<=$B$10,IF(LEN('２学期'!GI25)=0,\"\",IF('２学期'!GI25=$B$8,IF(LEN('２学期'!GL25)=0,\"\",'２学期'!GL25),\"\")),\"\")","v":""},{"$f":"IF(LEN(O1065)=0,\"\",IF(COUNTIF(O1065:$O$1921,O1065+1)>0,\"\",O1065+1))","v":""},{"$f":"IFERROR(SMALL($P$1:$P$1921,1064),\"\")","v":""}]
[null,null,null,null,null,null,null,null,null,null,null,null,null,null,{"$f":"IF(1066<=$B$10,IF(LEN('２学期'!GM6)=0,\"\",IF('２学期'!GM6=$B$8,IF(LEN('２学期'!GP6)=0,\"\",'２学期'!GP6),\"\")),\"\")","v":""},{"$f":"IF(LEN(O1066)=0,\"\",IF(COUNTIF(O1066:$O$1921,O1066+1)>0,\"\",O1066+1))","v":""},{"$f":"IFERROR(SMALL($P$1:$P$1921,1065),\"\")","v":""}]
[null,null,null,null,null,null,null,null,null,null,null,null,null,null,{"$f":"IF(1067<=$B$10,IF(LEN('２学期'!GM7)=0,\"\",IF('２学期'!GM7=$B$8,IF(LEN('２学期'!GP7)=0,\"\",'２学期'!GP7),\"\")),\"\")","v":""},{"$f":"IF(LEN(O1067)=0,\"\",IF(COUNTIF(O1067:$O$1921,O1067+1)>0,\"\",O1067+1))","v":""},{"$f":"IFERROR(SMALL($P$1:$P$1921,1066),\"\")","v":""}]
[null,null,null,null,null,null,null,null,null,null,null,null,null,null,{"$f":"IF(1068<=$B$10,IF(LEN('２学期'!GM10)=0,\"\",IF('２学期'!GM10=$B$8,IF(LEN('２学期'!GP10)=0,\"\",'２学期'!GP10),\"\")),\"\")","v":""},{"$f":"IF(LEN(O1068)=0,\"\",IF(COUNTIF(O1068:$O$1921,O1068+1)>0,\"\",O1068+1))","v":""},{"$f":"IFERROR(SMALL($P$1:$P$1921,1067),\"\")","v":""}]
[null,null,null,null,null,null,null,null,null,null,null,null,null,null,{"$f":"IF(1069<=$B$10,IF(LEN('２学期'!GM13)=0,\"\",IF('２学期'!GM13=$B$8,IF(LEN('２学期'!GP13)=0,\"\",'２学期'!GP13),\"\")),\"\")","v":""},{"$f":"IF(LEN(O1069)=0,\"\",IF(COUNTIF(O1069:$O$1921,O1069+1)>0,\"\",O1069+1))","v":""},{"$f":"IFERROR(SMALL($P$1:$P$1921,1068),\"\")","v":""}]
[null,null,null,null,null,null,null,null,null,null,null,null,null,null,{"$f":"IF(1070<=$B$10,IF(LEN('２学期'!GM16)=0,\"\",IF('２学期'!GM16=$B$8,IF(LEN('２学期'!GP16)=0,\"\",'２学期'!GP16),\"\")),\"\")","v":""},{"$f":"IF(LEN(O1070)=0,\"\",IF(COUNTIF(O1070:$O$1921,O1070+1)>0,\"\",O1070+1))","v":""},{"$f":"IFERROR(SMALL($P$1:$P$1921,1069),\"\")","v":""}]
[null,null,null,null,null,null,null,null,null,null,null,null,null,null,{"$f":"IF(1071<=$B$10,IF(LEN('２学期'!GM19)=0,\"\",IF('２学期'!GM19=$B$8,IF(LEN('２学期'!GP19)=0,\"\",'２学期'!GP19),\"\")),\"\")","v":""},{"$f":"IF(LEN(O1071)=0,\"\",IF(COUNTIF(O1071:$O$1921,O1071+1)>0,\"\",O1071+1))","v":""},{"$f":"IFERROR(SMALL($P$1:$P$1921,1070),\"\")","v":""}]
[null,null,null,null,null,null,null,null,null,null,null,null,null,null,{"$f":"IF(1072<=$B$10,IF(LEN('２学期'!GM22)=0,\"\",IF('２学期'!GM22=$B$8,IF(LEN('２学期'!GP22)=0,\"\",'２学期'!GP22),\"\")),\"\")","v":""},{"$f":"IF(LEN(O1072)=0,\"\",IF(COUNTIF(O1072:$O$1921,O1072+1)>0,\"\",O1072+1))","v":""},{"$f":"IFERROR(SMALL($P$1:$P$1921,1071),\"\")","v":""}]
[null,null,null,null,null,null,null,null,null,null,null,null,null,null,{"$f":"IF(1073<=$B$10,IF(LEN('２学期'!GM25)=0,\"\",IF('２学期'!GM25=$B$8,IF(LEN('２学期'!GP25)=0,\"\",'２学期'!GP25),\"\")),\"\")","v":""},{"$f":"IF(LEN(O1073)=0,\"\",IF(COUNTIF(O1073:$O$1921,O1073+1)>0,\"\",O1073+1))","v":""},{"$f":"IFERROR(SMALL($P$1:$P$1921,1072),\"\")","v":""}]
[null,null,null,null,null,null,null,null,null,null,null,null,null,null,{"$f":"IF(1074<=$B$10,IF(LEN('２学期'!GQ6)=0,\"\",IF('２学期'!GQ6=$B$8,IF(LEN('２学期'!GT6)=0,\"\",'２学期'!GT6),\"\")),\"\")","v":""},{"$f":"IF(LEN(O1074)=0,\"\",IF(COUNTIF(O1074:$O$1921,O1074+1)>0,\"\",O1074+1))","v":""},{"$f":"IFERROR(SMALL($P$1:$P$1921,1073),\"\")","v":""}]
[null,null,null,null,null,null,null,null,null,null,null,null,null,null,{"$f":"IF(1075<=$B$10,IF(LEN('２学期'!GQ7)=0,\"\",IF('２学期'!GQ7=$B$8,IF(LEN('２学期'!GT7)=0,\"\",'２学期'!GT7),\"\")),\"\")","v":""},{"$f":"IF(LEN(O1075)=0,\"\",IF(COUNTIF(O1075:$O$1921,O1075+1)>0,\"\",O1075+1))","v":""},{"$f":"IFERROR(SMALL($P$1:$P$1921,1074),\"\")","v":""}]
[null,null,null,null,null,null,null,null,null,null,null,null,null,null,{"$f":"IF(1076<=$B$10,IF(LEN('２学期'!GQ10)=0,\"\",IF('２学期'!GQ10=$B$8,IF(LEN('２学期'!GT10)=0,\"\",'２学期'!GT10),\"\")),\"\")","v":""},{"$f":"IF(LEN(O1076)=0,\"\",IF(COUNTIF(O1076:$O$1921,O1076+1)>0,\"\",O1076+1))","v":""},{"$f":"IFERROR(SMALL($P$1:$P$1921,1075),\"\")","v":""}]
[null,null,null,null,null,null,null,null,null,null,null,null,null,null,{"$f":"IF(1077<=$B$10,IF(LEN('２学期'!GQ13)=0,\"\",IF('２学期'!GQ13=$B$8,IF(LEN('２学期'!GT13)=0,\"\",'２学期'!GT13),\"\")),\"\")","v":""},{"$f":"IF(LEN(O1077)=0,\"\",IF(COUNTIF(O1077:$O$1921,O1077+1)>0,\"\",O1077+1))","v":""},{"$f":"IFERROR(SMALL($P$1:$P$1921,1076),\"\")","v":""}]
[null,null,null,null,null,null,null,null,null,null,null,null,null,null,{"$f":"IF(1078<=$B$10,IF(LEN('２学期'!GQ16)=0,\"\",IF('２学期'!GQ16=$B$8,IF(LEN('２学期'!GT16)=0,\"\",'２学期'!GT16),\"\")),\"\")","v":""},{"$f":"IF(LEN(O1078)=0,\"\",IF(COUNTIF(O1078:$O$1921,O1078+1)>0,\"\",O1078+1))","v":""},{"$f":"IFERROR(SMALL($P$1:$P$1921,1077),\"\")","v":""}]
[null,null,null,null,null,null,null,null,null,null,null,null,null,null,{"$f":"IF(1079<=$B$10,IF(LEN('２学期'!GQ19)=0,\"\",IF('２学期'!GQ19=$B$8,IF(LEN('２学期'!GT19)=0,\"\",'２学期'!GT19),\"\")),\"\")","v":""},{"$f":"IF(LEN(O1079)=0,\"\",IF(COUNTIF(O1079:$O$1921,O1079+1)>0,\"\",O1079+1))","v":""},{"$f":"IFERROR(SMALL($P$1:$P$1921,1078),\"\")","v":""}]
[null,null,null,null,null,null,null,null,null,null,null,null,null,null,{"$f":"IF(1080<=$B$10,IF(LEN('２学期'!GQ22)=0,\"\",IF('２学期'!GQ22=$B$8,IF(LEN('２学期'!GT22)=0,\"\",'２学期'!GT22),\"\")),\"\")","v":""},{"$f":"IF(LEN(O1080)=0,\"\",IF(COUNTIF(O1080:$O$1921,O1080+1)>0,\"\",O1080+1))","v":""},{"$f":"IFERROR(SMALL($P$1:$P$1921,1079),\"\")","v":""}]
[null,null,null,null,null,null,null,null,null,null,null,null,null,null,{"$f":"IF(1081<=$B$10,IF(LEN('２学期'!GQ25)=0,\"\",IF('２学期'!GQ25=$B$8,IF(LEN('２学期'!GT25)=0,\"\",'２学期'!GT25),\"\")),\"\")","v":""},{"$f":"IF(LEN(O1081)=0,\"\",IF(COUNTIF(O1081:$O$1921,O1081+1)>0,\"\",O1081+1))","v":""},{"$f":"IFERROR(SMALL($P$1:$P$1921,1080),\"\")","v":""}]
[null,null,null,null,null,null,null,null,null,null,null,null,null,null,{"$f":"IF(1082<=$B$10,IF(LEN('２学期'!GU6)=0,\"\",IF('２学期'!GU6=$B$8,IF(LEN('２学期'!GX6)=0,\"\",'２学期'!GX6),\"\")),\"\")","v":""},{"$f":"IF(LEN(O1082)=0,\"\",IF(COUNTIF(O1082:$O$1921,O1082+1)>0,\"\",O1082+1))","v":""},{"$f":"IFERROR(SMALL($P$1:$P$1921,1081),\"\")","v":""}]
[null,null,null,null,null,null,null,null,null,null,null,null,null,null,{"$f":"IF(1083<=$B$10,IF(LEN('２学期'!GU7)=0,\"\",IF('２学期'!GU7=$B$8,IF(LEN('２学期'!GX7)=0,\"\",'２学期'!GX7),\"\")),\"\")","v":""},{"$f":"IF(LEN(O1083)=0,\"\",IF(COUNTIF(O1083:$O$1921,O1083+1)>0,\"\",O1083+1))","v":""},{"$f":"IFERROR(SMALL($P$1:$P$1921,1082),\"\")","v":""}]
[null,null,null,null,null,null,null,null,null,null,null,null,null,null,{"$f":"IF(1084<=$B$10,IF(LEN('２学期'!GU10)=0,\"\",IF('２学期'!GU10=$B$8,IF(LEN('２学期'!GX10)=0,\"\",'２学期'!GX10),\"\")),\"\")","v":""},{"$f":"IF(LEN(O1084)=0,\"\",IF(COUNTIF(O1084:$O$1921,O1084+1)>0,\"\",O1084+1))","v":""},{"$f":"IFERROR(SMALL($P$1:$P$1921,1083),\"\")","v":""}]
[null,null,null,null,null,null,null,null,null,null,null,null,null,null,{"$f":"IF(1085<=$B$10,IF(LEN('２学期'!GU13)=0,\"\",IF('２学期'!GU13=$B$8,IF(LEN('２学期'!GX13)=0,\"\",'２学期'!GX13),\"\")),\"\")","v":""},{"$f":"IF(LEN(O1085)=0,\"\",IF(COUNTIF(O1085:$O$1921,O1085+1)>0,\"\",O1085+1))","v":""},{"$f":"IFERROR(SMALL($P$1:$P$1921,1084),\"\")","v":""}]
[null,null,null,null,null,null,null,null,null,null,null,null,null,null,{"$f":"IF(1086<=$B$10,IF(LEN('２学期'!GU16)=0,\"\",IF('２学期'!GU16=$B$8,IF(LEN('２学期'!GX16)=0,\"\",'２学期'!GX16),\"\")),\"\")","v":""},{"$f":"IF(LEN(O1086)=0,\"\",IF(COUNTIF(O1086:$O$1921,O1086+1)>0,\"\",O1086+1))","v":""},{"$f":"IFERROR(SMALL($P$1:$P$1921,1085),\"\")","v":""}]
[null,null,null,null,null,null,null,null,null,null,null,null,null,null,{"$f":"IF(1087<=$B$10,IF(LEN('２学期'!GU19)=0,\"\",IF('２学期'!GU19=$B$8,IF(LEN('２学期'!GX19)=0,\"\",'２学期'!GX19),\"\")),\"\")","v":""},{"$f":"IF(LEN(O1087)=0,\"\",IF(COUNTIF(O1087:$O$1921,O1087+1)>0,\"\",O1087+1))","v":""},{"$f":"IFERROR(SMALL($P$1:$P$1921,1086),\"\")","v":""}]
[null,null,null,null,null,null,null,null,null,null,null,null,null,null,{"$f":"IF(1088<=$B$10,IF(LEN('２学期'!GU22)=0,\"\",IF('２学期'!GU22=$B$8,IF(LEN('２学期'!GX22)=0,\"\",'２学期'!GX22),\"\")),\"\")","v":""},{"$f":"IF(LEN(O1088)=0,\"\",IF(COUNTIF(O1088:$O$1921,O1088+1)>0,\"\",O1088+1))","v":""},{"$f":"IFERROR(SMALL($P$1:$P$1921,1087),\"\")","v":""}]
[null,null,null,null,null,null,null,null,null,null,null,null,null,null,{"$f":"IF(1089<=$B$10,IF(LEN('２学期'!GU25)=0,\"\",IF('２学期'!GU25=$B$8,IF(LEN('２学期'!GX25)=0,\"\",'２学期'!GX25),\"\")),\"\")","v":""},{"$f":"IF(LEN(O1089)=0,\"\",IF(COUNTIF(O1089:$O$1921,O1089+1)>0,\"\",O1089+1))","v":""},{"$f":"IFERROR(SMALL($P$1:$P$1921,1088),\"\")","v":""}]
[null,null,null,null,null,null,null,null,null,null,null,null,null,null,{"$f":"IF(1090<=$B$10,IF(LEN('２学期'!GY6)=0,\"\",IF('２学期'!GY6=$B$8,IF(LEN('２学期'!HB6)=0,\"\",'２学期'!HB6),\"\")),\"\")","v":""},{"$f":"IF(LEN(O1090)=0,\"\",IF(COUNTIF(O1090:$O$1921,O1090+1)>0,\"\",O1090+1))","v":""},{"$f":"IFERROR(SMALL($P$1:$P$1921,1089),\"\")","v":""}]
[null,null,null,null,null,null,null,null,null,null,null,null,null,null,{"$f":"IF(1091<=$B$10,IF(LEN('２学期'!GY7)=0,\"\",IF('２学期'!GY7=$B$8,IF(LEN('２学期'!HB7)=0,\"\",'２学期'!HB7),\"\")),\"\")","v":""},{"$f":"IF(LEN(O1091)=0,\"\",IF(COUNTIF(O1091:$O$1921,O1091+1)>0,\"\",O1091+1))","v":""},{"$f":"IFERROR(SMALL($P$1:$P$1921,1090),\"\")","v":""}]
[null,null,null,null,null,null,null,null,null,null,null,null,null,null,{"$f":"IF(1092<=$B$10,IF(LEN('２学期'!GY10)=0,\"\",IF('２学期'!GY10=$B$8,IF(LEN('２学期'!HB10)=0,\"\",'２学期'!HB10),\"\")),\"\")","v":""},{"$f":"IF(LEN(O1092)=0,\"\",IF(COUNTIF(O1092:$O$1921,O1092+1)>0,\"\",O1092+1))","v":""},{"$f":"IFERROR(SMALL($P$1:$P$1921,1091),\"\")","v":""}]
[null,null,null,null,null,null,null,null,null,null,null,null,null,null,{"$f":"IF(1093<=$B$10,IF(LEN('２学期'!GY13)=0,\"\",IF('２学期'!GY13=$B$8,IF(LEN('２学期'!HB13)=0,\"\",'２学期'!HB13),\"\")),\"\")","v":""},{"$f":"IF(LEN(O1093)=0,\"\",IF(COUNTIF(O1093:$O$1921,O1093+1)>0,\"\",O1093+1))","v":""},{"$f":"IFERROR(SMALL($P$1:$P$1921,1092),\"\")","v":""}]
[null,null,null,null,null,null,null,null,null,null,null,null,null,null,{"$f":"IF(1094<=$B$10,IF(LEN('２学期'!GY16)=0,\"\",IF('２学期'!GY16=$B$8,IF(LEN('２学期'!HB16)=0,\"\",'２学期'!HB16),\"\")),\"\")","v":""},{"$f":"IF(LEN(O1094)=0,\"\",IF(COUNTIF(O1094:$O$1921,O1094+1)>0,\"\",O1094+1))","v":""},{"$f":"IFERROR(SMALL($P$1:$P$1921,1093),\"\")","v":""}]
[null,null,null,null,null,null,null,null,null,null,null,null,null,null,{"$f":"IF(1095<=$B$10,IF(LEN('２学期'!GY19)=0,\"\",IF('２学期'!GY19=$B$8,IF(LEN('２学期'!HB19)=0,\"\",'２学期'!HB19),\"\")),\"\")","v":""},{"$f":"IF(LEN(O1095)=0,\"\",IF(COUNTIF(O1095:$O$1921,O1095+1)>0,\"\",O1095+1))","v":""},{"$f":"IFERROR(SMALL($P$1:$P$1921,1094),\"\")","v":""}]
[null,null,null,null,null,null,null,null,null,null,null,null,null,null,{"$f":"IF(1096<=$B$10,IF(LEN('２学期'!GY22)=0,\"\",IF('２学期'!GY22=$B$8,IF(LEN('２学期'!HB22)=0,\"\",'２学期'!HB22),\"\")),\"\")","v":""},{"$f":"IF(LEN(O1096)=0,\"\",IF(COUNTIF(O1096:$O$1921,O1096+1)>0,\"\",O1096+1))","v":""},{"$f":"IFERROR(SMALL($P$1:$P$1921,1095),\"\")","v":""}]
[null,null,null,null,null,null,null,null,null,null,null,null,null,null,{"$f":"IF(1097<=$B$10,IF(LEN('２学期'!GY25)=0,\"\",IF('２学期'!GY25=$B$8,IF(LEN('２学期'!HB25)=0,\"\",'２学期'!HB25),\"\")),\"\")","v":""},{"$f":"IF(LEN(O1097)=0,\"\",IF(COUNTIF(O1097:$O$1921,O1097+1)>0,\"\",O1097+1))","v":""},{"$f":"IFERROR(SMALL($P$1:$P$1921,1096),\"\")","v":""}]
[null,null,null,null,null,null,null,null,null,null,null,null,null,null,{"$f":"IF(1098<=$B$10,IF(LEN('２学期'!HC6)=0,\"\",IF('２学期'!HC6=$B$8,IF(LEN('２学期'!HF6)=0,\"\",'２学期'!HF6),\"\")),\"\")","v":""},{"$f":"IF(LEN(O1098)=0,\"\",IF(COUNTIF(O1098:$O$1921,O1098+1)>0,\"\",O1098+1))","v":""},{"$f":"IFERROR(SMALL($P$1:$P$1921,1097),\"\")","v":""}]
[null,null,null,null,null,null,null,null,null,null,null,null,null,null,{"$f":"IF(1099<=$B$10,IF(LEN('２学期'!HC7)=0,\"\",IF('２学期'!HC7=$B$8,IF(LEN('２学期'!HF7)=0,\"\",'２学期'!HF7),\"\")),\"\")","v":""},{"$f":"IF(LEN(O1099)=0,\"\",IF(COUNTIF(O1099:$O$1921,O1099+1)>0,\"\",O1099+1))","v":""},{"$f":"IFERROR(SMALL($P$1:$P$1921,1098),\"\")","v":""}]
[null,null,null,null,null,null,null,null,null,null,null,null,null,null,{"$f":"IF(1100<=$B$10,IF(LEN('２学期'!HC10)=0,\"\",IF('２学期'!HC10=$B$8,IF(LEN('２学期'!HF10)=0,\"\",'２学期'!HF10),\"\")),\"\")","v":""},{"$f":"IF(LEN(O1100)=0,\"\",IF(COUNTIF(O1100:$O$1921,O1100+1)>0,\"\",O1100+1))","v":""},{"$f":"IFERROR(SMALL($P$1:$P$1921,1099),\"\")","v":""}]
[null,null,null,null,null,null,null,null,null,null,null,null,null,null,{"$f":"IF(1101<=$B$10,IF(LEN('２学期'!HC13)=0,\"\",IF('２学期'!HC13=$B$8,IF(LEN('２学期'!HF13)=0,\"\",'２学期'!HF13),\"\")),\"\")","v":""},{"$f":"IF(LEN(O1101)=0,\"\",IF(COUNTIF(O1101:$O$1921,O1101+1)>0,\"\",O1101+1))","v":""},{"$f":"IFERROR(SMALL($P$1:$P$1921,1100),\"\")","v":""}]
[null,null,null,null,null,null,null,null,null,null,null,null,null,null,{"$f":"IF(1102<=$B$10,IF(LEN('２学期'!HC16)=0,\"\",IF('２学期'!HC16=$B$8,IF(LEN('２学期'!HF16)=0,\"\",'２学期'!HF16),\"\")),\"\")","v":""},{"$f":"IF(LEN(O1102)=0,\"\",IF(COUNTIF(O1102:$O$1921,O1102+1)>0,\"\",O1102+1))","v":""},{"$f":"IFERROR(SMALL($P$1:$P$1921,1101),\"\")","v":""}]
[null,null,null,null,null,null,null,null,null,null,null,null,null,null,{"$f":"IF(1103<=$B$10,IF(LEN('２学期'!HC19)=0,\"\",IF('２学期'!HC19=$B$8,IF(LEN('２学期'!HF19)=0,\"\",'２学期'!HF19),\"\")),\"\")","v":""},{"$f":"IF(LEN(O1103)=0,\"\",IF(COUNTIF(O1103:$O$1921,O1103+1)>0,\"\",O1103+1))","v":""},{"$f":"IFERROR(SMALL($P$1:$P$1921,1102),\"\")","v":""}]
[null,null,null,null,null,null,null,null,null,null,null,null,null,null,{"$f":"IF(1104<=$B$10,IF(LEN('２学期'!HC22)=0,\"\",IF('２学期'!HC22=$B$8,IF(LEN('２学期'!HF22)=0,\"\",'２学期'!HF22),\"\")),\"\")","v":""},{"$f":"IF(LEN(O1104)=0,\"\",IF(COUNTIF(O1104:$O$1921,O1104+1)>0,\"\",O1104+1))","v":""},{"$f":"IFERROR(SMALL($P$1:$P$1921,1103),\"\")","v":""}]
[null,null,null,null,null,null,null,null,null,null,null,null,null,null,{"$f":"IF(1105<=$B$10,IF(LEN('２学期'!HC25)=0,\"\",IF('２学期'!HC25=$B$8,IF(LEN('２学期'!HF25)=0,\"\",'２学期'!HF25),\"\")),\"\")","v":""},{"$f":"IF(LEN(O1105)=0,\"\",IF(COUNTIF(O1105:$O$1921,O1105+1)>0,\"\",O1105+1))","v":""},{"$f":"IFERROR(SMALL($P$1:$P$1921,1104),\"\")","v":""}]
[null,null,null,null,null,null,null,null,null,null,null,null,null,null,{"$f":"IF(1106<=$B$10,IF(LEN('２学期'!HG6)=0,\"\",IF('２学期'!HG6=$B$8,IF(LEN('２学期'!HJ6)=0,\"\",'２学期'!HJ6),\"\")),\"\")","v":""},{"$f":"IF(LEN(O1106)=0,\"\",IF(COUNTIF(O1106:$O$1921,O1106+1)>0,\"\",O1106+1))","v":""},{"$f":"IFERROR(SMALL($P$1:$P$1921,1105),\"\")","v":""}]
[null,null,null,null,null,null,null,null,null,null,null,null,null,null,{"$f":"IF(1107<=$B$10,IF(LEN('２学期'!HG7)=0,\"\",IF('２学期'!HG7=$B$8,IF(LEN('２学期'!HJ7)=0,\"\",'２学期'!HJ7),\"\")),\"\")","v":""},{"$f":"IF(LEN(O1107)=0,\"\",IF(COUNTIF(O1107:$O$1921,O1107+1)>0,\"\",O1107+1))","v":""},{"$f":"IFERROR(SMALL($P$1:$P$1921,1106),\"\")","v":""}]
[null,null,null,null,null,null,null,null,null,null,null,null,null,null,{"$f":"IF(1108<=$B$10,IF(LEN('２学期'!HG10)=0,\"\",IF('２学期'!HG10=$B$8,IF(LEN('２学期'!HJ10)=0,\"\",'２学期'!HJ10),\"\")),\"\")","v":""},{"$f":"IF(LEN(O1108)=0,\"\",IF(COUNTIF(O1108:$O$1921,O1108+1)>0,\"\",O1108+1))","v":""},{"$f":"IFERROR(SMALL($P$1:$P$1921,1107),\"\")","v":""}]
[null,null,null,null,null,null,null,null,null,null,null,null,null,null,{"$f":"IF(1109<=$B$10,IF(LEN('２学期'!HG13)=0,\"\",IF('２学期'!HG13=$B$8,IF(LEN('２学期'!HJ13)=0,\"\",'２学期'!HJ13),\"\")),\"\")","v":""},{"$f":"IF(LEN(O1109)=0,\"\",IF(COUNTIF(O1109:$O$1921,O1109+1)>0,\"\",O1109+1))","v":""},{"$f":"IFERROR(SMALL($P$1:$P$1921,1108),\"\")","v":""}]
[null,null,null,null,null,null,null,null,null,null,null,null,null,null,{"$f":"IF(1110<=$B$10,IF(LEN('２学期'!HG16)=0,\"\",IF('２学期'!HG16=$B$8,IF(LEN('２学期'!HJ16)=0,\"\",'２学期'!HJ16),\"\")),\"\")","v":""},{"$f":"IF(LEN(O1110)=0,\"\",IF(COUNTIF(O1110:$O$1921,O1110+1)>0,\"\",O1110+1))","v":""},{"$f":"IFERROR(SMALL($P$1:$P$1921,1109),\"\")","v":""}]
[null,null,null,null,null,null,null,null,null,null,null,null,null,null,{"$f":"IF(1111<=$B$10,IF(LEN('２学期'!HG19)=0,\"\",IF('２学期'!HG19=$B$8,IF(LEN('２学期'!HJ19)=0,\"\",'２学期'!HJ19),\"\")),\"\")","v":""},{"$f":"IF(LEN(O1111)=0,\"\",IF(COUNTIF(O1111:$O$1921,O1111+1)>0,\"\",O1111+1))","v":""},{"$f":"IFERROR(SMALL($P$1:$P$1921,1110),\"\")","v":""}]
[null,null,null,null,null,null,null,null,null,null,null,null,null,null,{"$f":"IF(1112<=$B$10,IF(LEN('２学期'!HG22)=0,\"\",IF('２学期'!HG22=$B$8,IF(LEN('２学期'!HJ22)=0,\"\",'２学期'!HJ22),\"\")),\"\")","v":""},{"$f":"IF(LEN(O1112)=0,\"\",IF(COUNTIF(O1112:$O$1921,O1112+1)>0,\"\",O1112+1))","v":""},{"$f":"IFERROR(SMALL($P$1:$P$1921,1111),\"\")","v":""}]
[null,null,null,null,null,null,null,null,null,null,null,null,null,null,{"$f":"IF(1113<=$B$10,IF(LEN('２学期'!HG25)=0,\"\",IF('２学期'!HG25=$B$8,IF(LEN('２学期'!HJ25)=0,\"\",'２学期'!HJ25),\"\")),\"\")","v":""},{"$f":"IF(LEN(O1113)=0,\"\",IF(COUNTIF(O1113:$O$1921,O1113+1)>0,\"\",O1113+1))","v":""},{"$f":"IFERROR(SMALL($P$1:$P$1921,1112),\"\")","v":""}]
[null,null,null,null,null,null,null,null,null,null,null,null,null,null,{"$f":"IF(1114<=$B$10,IF(LEN('２学期'!HK6)=0,\"\",IF('２学期'!HK6=$B$8,IF(LEN('２学期'!HN6)=0,\"\",'２学期'!HN6),\"\")),\"\")","v":""},{"$f":"IF(LEN(O1114)=0,\"\",IF(COUNTIF(O1114:$O$1921,O1114+1)>0,\"\",O1114+1))","v":""},{"$f":"IFERROR(SMALL($P$1:$P$1921,1113),\"\")","v":""}]
[null,null,null,null,null,null,null,null,null,null,null,null,null,null,{"$f":"IF(1115<=$B$10,IF(LEN('２学期'!HK7)=0,\"\",IF('２学期'!HK7=$B$8,IF(LEN('２学期'!HN7)=0,\"\",'２学期'!HN7),\"\")),\"\")","v":""},{"$f":"IF(LEN(O1115)=0,\"\",IF(COUNTIF(O1115:$O$1921,O1115+1)>0,\"\",O1115+1))","v":""},{"$f":"IFERROR(SMALL($P$1:$P$1921,1114),\"\")","v":""}]
[null,null,null,null,null,null,null,null,null,null,null,null,null,null,{"$f":"IF(1116<=$B$10,IF(LEN('２学期'!HK10)=0,\"\",IF('２学期'!HK10=$B$8,IF(LEN('２学期'!HN10)=0,\"\",'２学期'!HN10),\"\")),\"\")","v":""},{"$f":"IF(LEN(O1116)=0,\"\",IF(COUNTIF(O1116:$O$1921,O1116+1)>0,\"\",O1116+1))","v":""},{"$f":"IFERROR(SMALL($P$1:$P$1921,1115),\"\")","v":""}]
[null,null,null,null,null,null,null,null,null,null,null,null,null,null,{"$f":"IF(1117<=$B$10,IF(LEN('２学期'!HK13)=0,\"\",IF('２学期'!HK13=$B$8,IF(LEN('２学期'!HN13)=0,\"\",'２学期'!HN13),\"\")),\"\")","v":""},{"$f":"IF(LEN(O1117)=0,\"\",IF(COUNTIF(O1117:$O$1921,O1117+1)>0,\"\",O1117+1))","v":""},{"$f":"IFERROR(SMALL($P$1:$P$1921,1116),\"\")","v":""}]
[null,null,null,null,null,null,null,null,null,null,null,null,null,null,{"$f":"IF(1118<=$B$10,IF(LEN('２学期'!HK16)=0,\"\",IF('２学期'!HK16=$B$8,IF(LEN('２学期'!HN16)=0,\"\",'２学期'!HN16),\"\")),\"\")","v":""},{"$f":"IF(LEN(O1118)=0,\"\",IF(COUNTIF(O1118:$O$1921,O1118+1)>0,\"\",O1118+1))","v":""},{"$f":"IFERROR(SMALL($P$1:$P$1921,1117),\"\")","v":""}]
[null,null,null,null,null,null,null,null,null,null,null,null,null,null,{"$f":"IF(1119<=$B$10,IF(LEN('２学期'!HK19)=0,\"\",IF('２学期'!HK19=$B$8,IF(LEN('２学期'!HN19)=0,\"\",'２学期'!HN19),\"\")),\"\")","v":""},{"$f":"IF(LEN(O1119)=0,\"\",IF(COUNTIF(O1119:$O$1921,O1119+1)>0,\"\",O1119+1))","v":""},{"$f":"IFERROR(SMALL($P$1:$P$1921,1118),\"\")","v":""}]
[null,null,null,null,null,null,null,null,null,null,null,null,null,null,{"$f":"IF(1120<=$B$10,IF(LEN('２学期'!HK22)=0,\"\",IF('２学期'!HK22=$B$8,IF(LEN('２学期'!HN22)=0,\"\",'２学期'!HN22),\"\")),\"\")","v":""},{"$f":"IF(LEN(O1120)=0,\"\",IF(COUNTIF(O1120:$O$1921,O1120+1)>0,\"\",O1120+1))","v":""},{"$f":"IFERROR(SMALL($P$1:$P$1921,1119),\"\")","v":""}]
[null,null,null,null,null,null,null,null,null,null,null,null,null,null,{"$f":"IF(1121<=$B$10,IF(LEN('２学期'!HK25)=0,\"\",IF('２学期'!HK25=$B$8,IF(LEN('２学期'!HN25)=0,\"\",'２学期'!HN25),\"\")),\"\")","v":""},{"$f":"IF(LEN(O1121)=0,\"\",IF(COUNTIF(O1121:$O$1921,O1121+1)>0,\"\",O1121+1))","v":""},{"$f":"IFERROR(SMALL($P$1:$P$1921,1120),\"\")","v":""}]
[null,null,null,null,null,null,null,null,null,null,null,null,null,null,{"$f":"IF(1122<=$B$10,IF(LEN('２学期'!HO6)=0,\"\",IF('２学期'!HO6=$B$8,IF(LEN('２学期'!HR6)=0,\"\",'２学期'!HR6),\"\")),\"\")","v":""},{"$f":"IF(LEN(O1122)=0,\"\",IF(COUNTIF(O1122:$O$1921,O1122+1)>0,\"\",O1122+1))","v":""},{"$f":"IFERROR(SMALL($P$1:$P$1921,1121),\"\")","v":""}]
[null,null,null,null,null,null,null,null,null,null,null,null,null,null,{"$f":"IF(1123<=$B$10,IF(LEN('２学期'!HO7)=0,\"\",IF('２学期'!HO7=$B$8,IF(LEN('２学期'!HR7)=0,\"\",'２学期'!HR7),\"\")),\"\")","v":""},{"$f":"IF(LEN(O1123)=0,\"\",IF(COUNTIF(O1123:$O$1921,O1123+1)>0,\"\",O1123+1))","v":""},{"$f":"IFERROR(SMALL($P$1:$P$1921,1122),\"\")","v":""}]
[null,null,null,null,null,null,null,null,null,null,null,null,null,null,{"$f":"IF(1124<=$B$10,IF(LEN('２学期'!HO10)=0,\"\",IF('２学期'!HO10=$B$8,IF(LEN('２学期'!HR10)=0,\"\",'２学期'!HR10),\"\")),\"\")","v":""},{"$f":"IF(LEN(O1124)=0,\"\",IF(COUNTIF(O1124:$O$1921,O1124+1)>0,\"\",O1124+1))","v":""},{"$f":"IFERROR(SMALL($P$1:$P$1921,1123),\"\")","v":""}]
[null,null,null,null,null,null,null,null,null,null,null,null,null,null,{"$f":"IF(1125<=$B$10,IF(LEN('２学期'!HO13)=0,\"\",IF('２学期'!HO13=$B$8,IF(LEN('２学期'!HR13)=0,\"\",'２学期'!HR13),\"\")),\"\")","v":""},{"$f":"IF(LEN(O1125)=0,\"\",IF(COUNTIF(O1125:$O$1921,O1125+1)>0,\"\",O1125+1))","v":""},{"$f":"IFERROR(SMALL($P$1:$P$1921,1124),\"\")","v":""}]
[null,null,null,null,null,null,null,null,null,null,null,null,null,null,{"$f":"IF(1126<=$B$10,IF(LEN('２学期'!HO16)=0,\"\",IF('２学期'!HO16=$B$8,IF(LEN('２学期'!HR16)=0,\"\",'２学期'!HR16),\"\")),\"\")","v":""},{"$f":"IF(LEN(O1126)=0,\"\",IF(COUNTIF(O1126:$O$1921,O1126+1)>0,\"\",O1126+1))","v":""},{"$f":"IFERROR(SMALL($P$1:$P$1921,1125),\"\")","v":""}]
[null,null,null,null,null,null,null,null,null,null,null,null,null,null,{"$f":"IF(1127<=$B$10,IF(LEN('２学期'!HO19)=0,\"\",IF('２学期'!HO19=$B$8,IF(LEN('２学期'!HR19)=0,\"\",'２学期'!HR19),\"\")),\"\")","v":""},{"$f":"IF(LEN(O1127)=0,\"\",IF(COUNTIF(O1127:$O$1921,O1127+1)>0,\"\",O1127+1))","v":""},{"$f":"IFERROR(SMALL($P$1:$P$1921,1126),\"\")","v":""}]
[null,null,null,null,null,null,null,null,null,null,null,null,null,null,{"$f":"IF(1128<=$B$10,IF(LEN('２学期'!HO22)=0,\"\",IF('２学期'!HO22=$B$8,IF(LEN('２学期'!HR22)=0,\"\",'２学期'!HR22),\"\")),\"\")","v":""},{"$f":"IF(LEN(O1128)=0,\"\",IF(COUNTIF(O1128:$O$1921,O1128+1)>0,\"\",O1128+1))","v":""},{"$f":"IFERROR(SMALL($P$1:$P$1921,1127),\"\")","v":""}]
[null,null,null,null,null,null,null,null,null,null,null,null,null,null,{"$f":"IF(1129<=$B$10,IF(LEN('２学期'!HO25)=0,\"\",IF('２学期'!HO25=$B$8,IF(LEN('２学期'!HR25)=0,\"\",'２学期'!HR25),\"\")),\"\")","v":""},{"$f":"IF(LEN(O1129)=0,\"\",IF(COUNTIF(O1129:$O$1921,O1129+1)>0,\"\",O1129+1))","v":""},{"$f":"IFERROR(SMALL($P$1:$P$1921,1128),\"\")","v":""}]
[null,null,null,null,null,null,null,null,null,null,null,null,null,null,{"$f":"IF(1130<=$B$10,IF(LEN('２学期'!HS6)=0,\"\",IF('２学期'!HS6=$B$8,IF(LEN('２学期'!HV6)=0,\"\",'２学期'!HV6),\"\")),\"\")","v":""},{"$f":"IF(LEN(O1130)=0,\"\",IF(COUNTIF(O1130:$O$1921,O1130+1)>0,\"\",O1130+1))","v":""},{"$f":"IFERROR(SMALL($P$1:$P$1921,1129),\"\")","v":""}]
[null,null,null,null,null,null,null,null,null,null,null,null,null,null,{"$f":"IF(1131<=$B$10,IF(LEN('２学期'!HS7)=0,\"\",IF('２学期'!HS7=$B$8,IF(LEN('２学期'!HV7)=0,\"\",'２学期'!HV7),\"\")),\"\")","v":""},{"$f":"IF(LEN(O1131)=0,\"\",IF(COUNTIF(O1131:$O$1921,O1131+1)>0,\"\",O1131+1))","v":""},{"$f":"IFERROR(SMALL($P$1:$P$1921,1130),\"\")","v":""}]
[null,null,null,null,null,null,null,null,null,null,null,null,null,null,{"$f":"IF(1132<=$B$10,IF(LEN('２学期'!HS10)=0,\"\",IF('２学期'!HS10=$B$8,IF(LEN('２学期'!HV10)=0,\"\",'２学期'!HV10),\"\")),\"\")","v":""},{"$f":"IF(LEN(O1132)=0,\"\",IF(COUNTIF(O1132:$O$1921,O1132+1)>0,\"\",O1132+1))","v":""},{"$f":"IFERROR(SMALL($P$1:$P$1921,1131),\"\")","v":""}]
[null,null,null,null,null,null,null,null,null,null,null,null,null,null,{"$f":"IF(1133<=$B$10,IF(LEN('２学期'!HS13)=0,\"\",IF('２学期'!HS13=$B$8,IF(LEN('２学期'!HV13)=0,\"\",'２学期'!HV13),\"\")),\"\")","v":""},{"$f":"IF(LEN(O1133)=0,\"\",IF(COUNTIF(O1133:$O$1921,O1133+1)>0,\"\",O1133+1))","v":""},{"$f":"IFERROR(SMALL($P$1:$P$1921,1132),\"\")","v":""}]
[null,null,null,null,null,null,null,null,null,null,null,null,null,null,{"$f":"IF(1134<=$B$10,IF(LEN('２学期'!HS16)=0,\"\",IF('２学期'!HS16=$B$8,IF(LEN('２学期'!HV16)=0,\"\",'２学期'!HV16),\"\")),\"\")","v":""},{"$f":"IF(LEN(O1134)=0,\"\",IF(COUNTIF(O1134:$O$1921,O1134+1)>0,\"\",O1134+1))","v":""},{"$f":"IFERROR(SMALL($P$1:$P$1921,1133),\"\")","v":""}]
[null,null,null,null,null,null,null,null,null,null,null,null,null,null,{"$f":"IF(1135<=$B$10,IF(LEN('２学期'!HS19)=0,\"\",IF('２学期'!HS19=$B$8,IF(LEN('２学期'!HV19)=0,\"\",'２学期'!HV19),\"\")),\"\")","v":""},{"$f":"IF(LEN(O1135)=0,\"\",IF(COUNTIF(O1135:$O$1921,O1135+1)>0,\"\",O1135+1))","v":""},{"$f":"IFERROR(SMALL($P$1:$P$1921,1134),\"\")","v":""}]
[null,null,null,null,null,null,null,null,null,null,null,null,null,null,{"$f":"IF(1136<=$B$10,IF(LEN('２学期'!HS22)=0,\"\",IF('２学期'!HS22=$B$8,IF(LEN('２学期'!HV22)=0,\"\",'２学期'!HV22),\"\")),\"\")","v":""},{"$f":"IF(LEN(O1136)=0,\"\",IF(COUNTIF(O1136:$O$1921,O1136+1)>0,\"\",O1136+1))","v":""},{"$f":"IFERROR(SMALL($P$1:$P$1921,1135),\"\")","v":""}]
[null,null,null,null,null,null,null,null,null,null,null,null,null,null,{"$f":"IF(1137<=$B$10,IF(LEN('２学期'!HS25)=0,\"\",IF('２学期'!HS25=$B$8,IF(LEN('２学期'!HV25)=0,\"\",'２学期'!HV25),\"\")),\"\")","v":""},{"$f":"IF(LEN(O1137)=0,\"\",IF(COUNTIF(O1137:$O$1921,O1137+1)>0,\"\",O1137+1))","v":""},{"$f":"IFERROR(SMALL($P$1:$P$1921,1136),\"\")","v":""}]
[null,null,null,null,null,null,null,null,null,null,null,null,null,null,{"$f":"IF(1138<=$B$10,IF(LEN('２学期'!HW6)=0,\"\",IF('２学期'!HW6=$B$8,IF(LEN('２学期'!HZ6)=0,\"\",'２学期'!HZ6),\"\")),\"\")","v":""},{"$f":"IF(LEN(O1138)=0,\"\",IF(COUNTIF(O1138:$O$1921,O1138+1)>0,\"\",O1138+1))","v":""},{"$f":"IFERROR(SMALL($P$1:$P$1921,1137),\"\")","v":""}]
[null,null,null,null,null,null,null,null,null,null,null,null,null,null,{"$f":"IF(1139<=$B$10,IF(LEN('２学期'!HW7)=0,\"\",IF('２学期'!HW7=$B$8,IF(LEN('２学期'!HZ7)=0,\"\",'２学期'!HZ7),\"\")),\"\")","v":""},{"$f":"IF(LEN(O1139)=0,\"\",IF(COUNTIF(O1139:$O$1921,O1139+1)>0,\"\",O1139+1))","v":""},{"$f":"IFERROR(SMALL($P$1:$P$1921,1138),\"\")","v":""}]
[null,null,null,null,null,null,null,null,null,null,null,null,null,null,{"$f":"IF(1140<=$B$10,IF(LEN('２学期'!HW10)=0,\"\",IF('２学期'!HW10=$B$8,IF(LEN('２学期'!HZ10)=0,\"\",'２学期'!HZ10),\"\")),\"\")","v":""},{"$f":"IF(LEN(O1140)=0,\"\",IF(COUNTIF(O1140:$O$1921,O1140+1)>0,\"\",O1140+1))","v":""},{"$f":"IFERROR(SMALL($P$1:$P$1921,1139),\"\")","v":""}]
[null,null,null,null,null,null,null,null,null,null,null,null,null,null,{"$f":"IF(1141<=$B$10,IF(LEN('２学期'!HW13)=0,\"\",IF('２学期'!HW13=$B$8,IF(LEN('２学期'!HZ13)=0,\"\",'２学期'!HZ13),\"\")),\"\")","v":""},{"$f":"IF(LEN(O1141)=0,\"\",IF(COUNTIF(O1141:$O$1921,O1141+1)>0,\"\",O1141+1))","v":""},{"$f":"IFERROR(SMALL($P$1:$P$1921,1140),\"\")","v":""}]
[null,null,null,null,null,null,null,null,null,null,null,null,null,null,{"$f":"IF(1142<=$B$10,IF(LEN('２学期'!HW16)=0,\"\",IF('２学期'!HW16=$B$8,IF(LEN('２学期'!HZ16)=0,\"\",'２学期'!HZ16),\"\")),\"\")","v":""},{"$f":"IF(LEN(O1142)=0,\"\",IF(COUNTIF(O1142:$O$1921,O1142+1)>0,\"\",O1142+1))","v":""},{"$f":"IFERROR(SMALL($P$1:$P$1921,1141),\"\")","v":""}]
[null,null,null,null,null,null,null,null,null,null,null,null,null,null,{"$f":"IF(1143<=$B$10,IF(LEN('２学期'!HW19)=0,\"\",IF('２学期'!HW19=$B$8,IF(LEN('２学期'!HZ19)=0,\"\",'２学期'!HZ19),\"\")),\"\")","v":""},{"$f":"IF(LEN(O1143)=0,\"\",IF(COUNTIF(O1143:$O$1921,O1143+1)>0,\"\",O1143+1))","v":""},{"$f":"IFERROR(SMALL($P$1:$P$1921,1142),\"\")","v":""}]
[null,null,null,null,null,null,null,null,null,null,null,null,null,null,{"$f":"IF(1144<=$B$10,IF(LEN('２学期'!HW22)=0,\"\",IF('２学期'!HW22=$B$8,IF(LEN('２学期'!HZ22)=0,\"\",'２学期'!HZ22),\"\")),\"\")","v":""},{"$f":"IF(LEN(O1144)=0,\"\",IF(COUNTIF(O1144:$O$1921,O1144+1)>0,\"\",O1144+1))","v":""},{"$f":"IFERROR(SMALL($P$1:$P$1921,1143),\"\")","v":""}]
[null,null,null,null,null,null,null,null,null,null,null,null,null,null,{"$f":"IF(1145<=$B$10,IF(LEN('２学期'!HW25)=0,\"\",IF('２学期'!HW25=$B$8,IF(LEN('２学期'!HZ25)=0,\"\",'２学期'!HZ25),\"\")),\"\")","v":""},{"$f":"IF(LEN(O1145)=0,\"\",IF(COUNTIF(O1145:$O$1921,O1145+1)>0,\"\",O1145+1))","v":""},{"$f":"IFERROR(SMALL($P$1:$P$1921,1144),\"\")","v":""}]
[null,null,null,null,null,null,null,null,null,null,null,null,null,null,{"$f":"IF(1146<=$B$10,IF(LEN('２学期'!IA6)=0,\"\",IF('２学期'!IA6=$B$8,IF(LEN('２学期'!ID6)=0,\"\",'２学期'!ID6),\"\")),\"\")","v":""},{"$f":"IF(LEN(O1146)=0,\"\",IF(COUNTIF(O1146:$O$1921,O1146+1)>0,\"\",O1146+1))","v":""},{"$f":"IFERROR(SMALL($P$1:$P$1921,1145),\"\")","v":""}]
[null,null,null,null,null,null,null,null,null,null,null,null,null,null,{"$f":"IF(1147<=$B$10,IF(LEN('２学期'!IA7)=0,\"\",IF('２学期'!IA7=$B$8,IF(LEN('２学期'!ID7)=0,\"\",'２学期'!ID7),\"\")),\"\")","v":""},{"$f":"IF(LEN(O1147)=0,\"\",IF(COUNTIF(O1147:$O$1921,O1147+1)>0,\"\",O1147+1))","v":""},{"$f":"IFERROR(SMALL($P$1:$P$1921,1146),\"\")","v":""}]
[null,null,null,null,null,null,null,null,null,null,null,null,null,null,{"$f":"IF(1148<=$B$10,IF(LEN('２学期'!IA10)=0,\"\",IF('２学期'!IA10=$B$8,IF(LEN('２学期'!ID10)=0,\"\",'２学期'!ID10),\"\")),\"\")","v":""},{"$f":"IF(LEN(O1148)=0,\"\",IF(COUNTIF(O1148:$O$1921,O1148+1)>0,\"\",O1148+1))","v":""},{"$f":"IFERROR(SMALL($P$1:$P$1921,1147),\"\")","v":""}]
[null,null,null,null,null,null,null,null,null,null,null,null,null,null,{"$f":"IF(1149<=$B$10,IF(LEN('２学期'!IA13)=0,\"\",IF('２学期'!IA13=$B$8,IF(LEN('２学期'!ID13)=0,\"\",'２学期'!ID13),\"\")),\"\")","v":""},{"$f":"IF(LEN(O1149)=0,\"\",IF(COUNTIF(O1149:$O$1921,O1149+1)>0,\"\",O1149+1))","v":""},{"$f":"IFERROR(SMALL($P$1:$P$1921,1148),\"\")","v":""}]
[null,null,null,null,null,null,null,null,null,null,null,null,null,null,{"$f":"IF(1150<=$B$10,IF(LEN('２学期'!IA16)=0,\"\",IF('２学期'!IA16=$B$8,IF(LEN('２学期'!ID16)=0,\"\",'２学期'!ID16),\"\")),\"\")","v":""},{"$f":"IF(LEN(O1150)=0,\"\",IF(COUNTIF(O1150:$O$1921,O1150+1)>0,\"\",O1150+1))","v":""},{"$f":"IFERROR(SMALL($P$1:$P$1921,1149),\"\")","v":""}]
[null,null,null,null,null,null,null,null,null,null,null,null,null,null,{"$f":"IF(1151<=$B$10,IF(LEN('２学期'!IA19)=0,\"\",IF('２学期'!IA19=$B$8,IF(LEN('２学期'!ID19)=0,\"\",'２学期'!ID19),\"\")),\"\")","v":""},{"$f":"IF(LEN(O1151)=0,\"\",IF(COUNTIF(O1151:$O$1921,O1151+1)>0,\"\",O1151+1))","v":""},{"$f":"IFERROR(SMALL($P$1:$P$1921,1150),\"\")","v":""}]
[null,null,null,null,null,null,null,null,null,null,null,null,null,null,{"$f":"IF(1152<=$B$10,IF(LEN('２学期'!IA22)=0,\"\",IF('２学期'!IA22=$B$8,IF(LEN('２学期'!ID22)=0,\"\",'２学期'!ID22),\"\")),\"\")","v":""},{"$f":"IF(LEN(O1152)=0,\"\",IF(COUNTIF(O1152:$O$1921,O1152+1)>0,\"\",O1152+1))","v":""},{"$f":"IFERROR(SMALL($P$1:$P$1921,1151),\"\")","v":""}]
[null,null,null,null,null,null,null,null,null,null,null,null,null,null,{"$f":"IF(1153<=$B$10,IF(LEN('２学期'!IA25)=0,\"\",IF('２学期'!IA25=$B$8,IF(LEN('２学期'!ID25)=0,\"\",'２学期'!ID25),\"\")),\"\")","v":""},{"$f":"IF(LEN(O1153)=0,\"\",IF(COUNTIF(O1153:$O$1921,O1153+1)>0,\"\",O1153+1))","v":""},{"$f":"IFERROR(SMALL($P$1:$P$1921,1152),\"\")","v":""}]
[null,null,null,null,null,null,null,null,null,null,null,null,null,null,{"$f":"IF(1154<=$B$10,IF(LEN('２学期'!IE6)=0,\"\",IF('２学期'!IE6=$B$8,IF(LEN('２学期'!IH6)=0,\"\",'２学期'!IH6),\"\")),\"\")","v":""},{"$f":"IF(LEN(O1154)=0,\"\",IF(COUNTIF(O1154:$O$1921,O1154+1)>0,\"\",O1154+1))","v":""},{"$f":"IFERROR(SMALL($P$1:$P$1921,1153),\"\")","v":""}]
[null,null,null,null,null,null,null,null,null,null,null,null,null,null,{"$f":"IF(1155<=$B$10,IF(LEN('２学期'!IE7)=0,\"\",IF('２学期'!IE7=$B$8,IF(LEN('２学期'!IH7)=0,\"\",'２学期'!IH7),\"\")),\"\")","v":""},{"$f":"IF(LEN(O1155)=0,\"\",IF(COUNTIF(O1155:$O$1921,O1155+1)>0,\"\",O1155+1))","v":""},{"$f":"IFERROR(SMALL($P$1:$P$1921,1154),\"\")","v":""}]
[null,null,null,null,null,null,null,null,null,null,null,null,null,null,{"$f":"IF(1156<=$B$10,IF(LEN('２学期'!IE10)=0,\"\",IF('２学期'!IE10=$B$8,IF(LEN('２学期'!IH10)=0,\"\",'２学期'!IH10),\"\")),\"\")","v":""},{"$f":"IF(LEN(O1156)=0,\"\",IF(COUNTIF(O1156:$O$1921,O1156+1)>0,\"\",O1156+1))","v":""},{"$f":"IFERROR(SMALL($P$1:$P$1921,1155),\"\")","v":""}]
[null,null,null,null,null,null,null,null,null,null,null,null,null,null,{"$f":"IF(1157<=$B$10,IF(LEN('２学期'!IE13)=0,\"\",IF('２学期'!IE13=$B$8,IF(LEN('２学期'!IH13)=0,\"\",'２学期'!IH13),\"\")),\"\")","v":""},{"$f":"IF(LEN(O1157)=0,\"\",IF(COUNTIF(O1157:$O$1921,O1157+1)>0,\"\",O1157+1))","v":""},{"$f":"IFERROR(SMALL($P$1:$P$1921,1156),\"\")","v":""}]
[null,null,null,null,null,null,null,null,null,null,null,null,null,null,{"$f":"IF(1158<=$B$10,IF(LEN('２学期'!IE16)=0,\"\",IF('２学期'!IE16=$B$8,IF(LEN('２学期'!IH16)=0,\"\",'２学期'!IH16),\"\")),\"\")","v":""},{"$f":"IF(LEN(O1158)=0,\"\",IF(COUNTIF(O1158:$O$1921,O1158+1)>0,\"\",O1158+1))","v":""},{"$f":"IFERROR(SMALL($P$1:$P$1921,1157),\"\")","v":""}]
[null,null,null,null,null,null,null,null,null,null,null,null,null,null,{"$f":"IF(1159<=$B$10,IF(LEN('２学期'!IE19)=0,\"\",IF('２学期'!IE19=$B$8,IF(LEN('２学期'!IH19)=0,\"\",'２学期'!IH19),\"\")),\"\")","v":""},{"$f":"IF(LEN(O1159)=0,\"\",IF(COUNTIF(O1159:$O$1921,O1159+1)>0,\"\",O1159+1))","v":""},{"$f":"IFERROR(SMALL($P$1:$P$1921,1158),\"\")","v":""}]
[null,null,null,null,null,null,null,null,null,null,null,null,null,null,{"$f":"IF(1160<=$B$10,IF(LEN('２学期'!IE22)=0,\"\",IF('２学期'!IE22=$B$8,IF(LEN('２学期'!IH22)=0,\"\",'２学期'!IH22),\"\")),\"\")","v":""},{"$f":"IF(LEN(O1160)=0,\"\",IF(COUNTIF(O1160:$O$1921,O1160+1)>0,\"\",O1160+1))","v":""},{"$f":"IFERROR(SMALL($P$1:$P$1921,1159),\"\")","v":""}]
[null,null,null,null,null,null,null,null,null,null,null,null,null,null,{"$f":"IF(1161<=$B$10,IF(LEN('２学期'!IE25)=0,\"\",IF('２学期'!IE25=$B$8,IF(LEN('２学期'!IH25)=0,\"\",'２学期'!IH25),\"\")),\"\")","v":""},{"$f":"IF(LEN(O1161)=0,\"\",IF(COUNTIF(O1161:$O$1921,O1161+1)>0,\"\",O1161+1))","v":""},{"$f":"IFERROR(SMALL($P$1:$P$1921,1160),\"\")","v":""}]
[null,null,null,null,null,null,null,null,null,null,null,null,null,null,{"$f":"IF(1162<=$B$10,IF(LEN('２学期'!II6)=0,\"\",IF('２学期'!II6=$B$8,IF(LEN('２学期'!IL6)=0,\"\",'２学期'!IL6),\"\")),\"\")","v":""},{"$f":"IF(LEN(O1162)=0,\"\",IF(COUNTIF(O1162:$O$1921,O1162+1)>0,\"\",O1162+1))","v":""},{"$f":"IFERROR(SMALL($P$1:$P$1921,1161),\"\")","v":""}]
[null,null,null,null,null,null,null,null,null,null,null,null,null,null,{"$f":"IF(1163<=$B$10,IF(LEN('２学期'!II7)=0,\"\",IF('２学期'!II7=$B$8,IF(LEN('２学期'!IL7)=0,\"\",'２学期'!IL7),\"\")),\"\")","v":""},{"$f":"IF(LEN(O1163)=0,\"\",IF(COUNTIF(O1163:$O$1921,O1163+1)>0,\"\",O1163+1))","v":""},{"$f":"IFERROR(SMALL($P$1:$P$1921,1162),\"\")","v":""}]
[null,null,null,null,null,null,null,null,null,null,null,null,null,null,{"$f":"IF(1164<=$B$10,IF(LEN('２学期'!II10)=0,\"\",IF('２学期'!II10=$B$8,IF(LEN('２学期'!IL10)=0,\"\",'２学期'!IL10),\"\")),\"\")","v":""},{"$f":"IF(LEN(O1164)=0,\"\",IF(COUNTIF(O1164:$O$1921,O1164+1)>0,\"\",O1164+1))","v":""},{"$f":"IFERROR(SMALL($P$1:$P$1921,1163),\"\")","v":""}]
[null,null,null,null,null,null,null,null,null,null,null,null,null,null,{"$f":"IF(1165<=$B$10,IF(LEN('２学期'!II13)=0,\"\",IF('２学期'!II13=$B$8,IF(LEN('２学期'!IL13)=0,\"\",'２学期'!IL13),\"\")),\"\")","v":""},{"$f":"IF(LEN(O1165)=0,\"\",IF(COUNTIF(O1165:$O$1921,O1165+1)>0,\"\",O1165+1))","v":""},{"$f":"IFERROR(SMALL($P$1:$P$1921,1164),\"\")","v":""}]
[null,null,null,null,null,null,null,null,null,null,null,null,null,null,{"$f":"IF(1166<=$B$10,IF(LEN('２学期'!II16)=0,\"\",IF('２学期'!II16=$B$8,IF(LEN('２学期'!IL16)=0,\"\",'２学期'!IL16),\"\")),\"\")","v":""},{"$f":"IF(LEN(O1166)=0,\"\",IF(COUNTIF(O1166:$O$1921,O1166+1)>0,\"\",O1166+1))","v":""},{"$f":"IFERROR(SMALL($P$1:$P$1921,1165),\"\")","v":""}]
[null,null,null,null,null,null,null,null,null,null,null,null,null,null,{"$f":"IF(1167<=$B$10,IF(LEN('２学期'!II19)=0,\"\",IF('２学期'!II19=$B$8,IF(LEN('２学期'!IL19)=0,\"\",'２学期'!IL19),\"\")),\"\")","v":""},{"$f":"IF(LEN(O1167)=0,\"\",IF(COUNTIF(O1167:$O$1921,O1167+1)>0,\"\",O1167+1))","v":""},{"$f":"IFERROR(SMALL($P$1:$P$1921,1166),\"\")","v":""}]
[null,null,null,null,null,null,null,null,null,null,null,null,null,null,{"$f":"IF(1168<=$B$10,IF(LEN('２学期'!II22)=0,\"\",IF('２学期'!II22=$B$8,IF(LEN('２学期'!IL22)=0,\"\",'２学期'!IL22),\"\")),\"\")","v":""},{"$f":"IF(LEN(O1168)=0,\"\",IF(COUNTIF(O1168:$O$1921,O1168+1)>0,\"\",O1168+1))","v":""},{"$f":"IFERROR(SMALL($P$1:$P$1921,1167),\"\")","v":""}]
[null,null,null,null,null,null,null,null,null,null,null,null,null,null,{"$f":"IF(1169<=$B$10,IF(LEN('２学期'!II25)=0,\"\",IF('２学期'!II25=$B$8,IF(LEN('２学期'!IL25)=0,\"\",'２学期'!IL25),\"\")),\"\")","v":""},{"$f":"IF(LEN(O1169)=0,\"\",IF(COUNTIF(O1169:$O$1921,O1169+1)>0,\"\",O1169+1))","v":""},{"$f":"IFERROR(SMALL($P$1:$P$1921,1168),\"\")","v":""}]
[null,null,null,null,null,null,null,null,null,null,null,null,null,null,{"$f":"IF(1170<=$B$10,IF(LEN('２学期'!IM6)=0,\"\",IF('２学期'!IM6=$B$8,IF(LEN('２学期'!IP6)=0,\"\",'２学期'!IP6),\"\")),\"\")","v":""},{"$f":"IF(LEN(O1170)=0,\"\",IF(COUNTIF(O1170:$O$1921,O1170+1)>0,\"\",O1170+1))","v":""},{"$f":"IFERROR(SMALL($P$1:$P$1921,1169),\"\")","v":""}]
[null,null,null,null,null,null,null,null,null,null,null,null,null,null,{"$f":"IF(1171<=$B$10,IF(LEN('２学期'!IM7)=0,\"\",IF('２学期'!IM7=$B$8,IF(LEN('２学期'!IP7)=0,\"\",'２学期'!IP7),\"\")),\"\")","v":""},{"$f":"IF(LEN(O1171)=0,\"\",IF(COUNTIF(O1171:$O$1921,O1171+1)>0,\"\",O1171+1))","v":""},{"$f":"IFERROR(SMALL($P$1:$P$1921,1170),\"\")","v":""}]
[null,null,null,null,null,null,null,null,null,null,null,null,null,null,{"$f":"IF(1172<=$B$10,IF(LEN('２学期'!IM10)=0,\"\",IF('２学期'!IM10=$B$8,IF(LEN('２学期'!IP10)=0,\"\",'２学期'!IP10),\"\")),\"\")","v":""},{"$f":"IF(LEN(O1172)=0,\"\",IF(COUNTIF(O1172:$O$1921,O1172+1)>0,\"\",O1172+1))","v":""},{"$f":"IFERROR(SMALL($P$1:$P$1921,1171),\"\")","v":""}]
[null,null,null,null,null,null,null,null,null,null,null,null,null,null,{"$f":"IF(1173<=$B$10,IF(LEN('２学期'!IM13)=0,\"\",IF('２学期'!IM13=$B$8,IF(LEN('２学期'!IP13)=0,\"\",'２学期'!IP13),\"\")),\"\")","v":""},{"$f":"IF(LEN(O1173)=0,\"\",IF(COUNTIF(O1173:$O$1921,O1173+1)>0,\"\",O1173+1))","v":""},{"$f":"IFERROR(SMALL($P$1:$P$1921,1172),\"\")","v":""}]
[null,null,null,null,null,null,null,null,null,null,null,null,null,null,{"$f":"IF(1174<=$B$10,IF(LEN('２学期'!IM16)=0,\"\",IF('２学期'!IM16=$B$8,IF(LEN('２学期'!IP16)=0,\"\",'２学期'!IP16),\"\")),\"\")","v":""},{"$f":"IF(LEN(O1174)=0,\"\",IF(COUNTIF(O1174:$O$1921,O1174+1)>0,\"\",O1174+1))","v":""},{"$f":"IFERROR(SMALL($P$1:$P$1921,1173),\"\")","v":""}]
[null,null,null,null,null,null,null,null,null,null,null,null,null,null,{"$f":"IF(1175<=$B$10,IF(LEN('２学期'!IM19)=0,\"\",IF('２学期'!IM19=$B$8,IF(LEN('２学期'!IP19)=0,\"\",'２学期'!IP19),\"\")),\"\")","v":""},{"$f":"IF(LEN(O1175)=0,\"\",IF(COUNTIF(O1175:$O$1921,O1175+1)>0,\"\",O1175+1))","v":""},{"$f":"IFERROR(SMALL($P$1:$P$1921,1174),\"\")","v":""}]
[null,null,null,null,null,null,null,null,null,null,null,null,null,null,{"$f":"IF(1176<=$B$10,IF(LEN('２学期'!IM22)=0,\"\",IF('２学期'!IM22=$B$8,IF(LEN('２学期'!IP22)=0,\"\",'２学期'!IP22),\"\")),\"\")","v":""},{"$f":"IF(LEN(O1176)=0,\"\",IF(COUNTIF(O1176:$O$1921,O1176+1)>0,\"\",O1176+1))","v":""},{"$f":"IFERROR(SMALL($P$1:$P$1921,1175),\"\")","v":""}]
[null,null,null,null,null,null,null,null,null,null,null,null,null,null,{"$f":"IF(1177<=$B$10,IF(LEN('２学期'!IM25)=0,\"\",IF('２学期'!IM25=$B$8,IF(LEN('２学期'!IP25)=0,\"\",'２学期'!IP25),\"\")),\"\")","v":""},{"$f":"IF(LEN(O1177)=0,\"\",IF(COUNTIF(O1177:$O$1921,O1177+1)>0,\"\",O1177+1))","v":""},{"$f":"IFERROR(SMALL($P$1:$P$1921,1176),\"\")","v":""}]
[null,null,null,null,null,null,null,null,null,null,null,null,null,null,{"$f":"IF(1178<=$B$10,IF(LEN('２学期'!IQ6)=0,\"\",IF('２学期'!IQ6=$B$8,IF(LEN('２学期'!IT6)=0,\"\",'２学期'!IT6),\"\")),\"\")","v":""},{"$f":"IF(LEN(O1178)=0,\"\",IF(COUNTIF(O1178:$O$1921,O1178+1)>0,\"\",O1178+1))","v":""},{"$f":"IFERROR(SMALL($P$1:$P$1921,1177),\"\")","v":""}]
[null,null,null,null,null,null,null,null,null,null,null,null,null,null,{"$f":"IF(1179<=$B$10,IF(LEN('２学期'!IQ7)=0,\"\",IF('２学期'!IQ7=$B$8,IF(LEN('２学期'!IT7)=0,\"\",'２学期'!IT7),\"\")),\"\")","v":""},{"$f":"IF(LEN(O1179)=0,\"\",IF(COUNTIF(O1179:$O$1921,O1179+1)>0,\"\",O1179+1))","v":""},{"$f":"IFERROR(SMALL($P$1:$P$1921,1178),\"\")","v":""}]
[null,null,null,null,null,null,null,null,null,null,null,null,null,null,{"$f":"IF(1180<=$B$10,IF(LEN('２学期'!IQ10)=0,\"\",IF('２学期'!IQ10=$B$8,IF(LEN('２学期'!IT10)=0,\"\",'２学期'!IT10),\"\")),\"\")","v":""},{"$f":"IF(LEN(O1180)=0,\"\",IF(COUNTIF(O1180:$O$1921,O1180+1)>0,\"\",O1180+1))","v":""},{"$f":"IFERROR(SMALL($P$1:$P$1921,1179),\"\")","v":""}]
[null,null,null,null,null,null,null,null,null,null,null,null,null,null,{"$f":"IF(1181<=$B$10,IF(LEN('２学期'!IQ13)=0,\"\",IF('２学期'!IQ13=$B$8,IF(LEN('２学期'!IT13)=0,\"\",'２学期'!IT13),\"\")),\"\")","v":""},{"$f":"IF(LEN(O1181)=0,\"\",IF(COUNTIF(O1181:$O$1921,O1181+1)>0,\"\",O1181+1))","v":""},{"$f":"IFERROR(SMALL($P$1:$P$1921,1180),\"\")","v":""}]
[null,null,null,null,null,null,null,null,null,null,null,null,null,null,{"$f":"IF(1182<=$B$10,IF(LEN('２学期'!IQ16)=0,\"\",IF('２学期'!IQ16=$B$8,IF(LEN('２学期'!IT16)=0,\"\",'２学期'!IT16),\"\")),\"\")","v":""},{"$f":"IF(LEN(O1182)=0,\"\",IF(COUNTIF(O1182:$O$1921,O1182+1)>0,\"\",O1182+1))","v":""},{"$f":"IFERROR(SMALL($P$1:$P$1921,1181),\"\")","v":""}]
[null,null,null,null,null,null,null,null,null,null,null,null,null,null,{"$f":"IF(1183<=$B$10,IF(LEN('２学期'!IQ19)=0,\"\",IF('２学期'!IQ19=$B$8,IF(LEN('２学期'!IT19)=0,\"\",'２学期'!IT19),\"\")),\"\")","v":""},{"$f":"IF(LEN(O1183)=0,\"\",IF(COUNTIF(O1183:$O$1921,O1183+1)>0,\"\",O1183+1))","v":""},{"$f":"IFERROR(SMALL($P$1:$P$1921,1182),\"\")","v":""}]
[null,null,null,null,null,null,null,null,null,null,null,null,null,null,{"$f":"IF(1184<=$B$10,IF(LEN('２学期'!IQ22)=0,\"\",IF('２学期'!IQ22=$B$8,IF(LEN('２学期'!IT22)=0,\"\",'２学期'!IT22),\"\")),\"\")","v":""},{"$f":"IF(LEN(O1184)=0,\"\",IF(COUNTIF(O1184:$O$1921,O1184+1)>0,\"\",O1184+1))","v":""},{"$f":"IFERROR(SMALL($P$1:$P$1921,1183),\"\")","v":""}]
[null,null,null,null,null,null,null,null,null,null,null,null,null,null,{"$f":"IF(1185<=$B$10,IF(LEN('２学期'!IQ25)=0,\"\",IF('２学期'!IQ25=$B$8,IF(LEN('２学期'!IT25)=0,\"\",'２学期'!IT25),\"\")),\"\")","v":""},{"$f":"IF(LEN(O1185)=0,\"\",IF(COUNTIF(O1185:$O$1921,O1185+1)>0,\"\",O1185+1))","v":""},{"$f":"IFERROR(SMALL($P$1:$P$1921,1184),\"\")","v":""}]
[null,null,null,null,null,null,null,null,null,null,null,null,null,null,{"$f":"IF(1186<=$B$10,IF(LEN('２学期'!IU6)=0,\"\",IF('２学期'!IU6=$B$8,IF(LEN('２学期'!IX6)=0,\"\",'２学期'!IX6),\"\")),\"\")","v":""},{"$f":"IF(LEN(O1186)=0,\"\",IF(COUNTIF(O1186:$O$1921,O1186+1)>0,\"\",O1186+1))","v":""},{"$f":"IFERROR(SMALL($P$1:$P$1921,1185),\"\")","v":""}]
[null,null,null,null,null,null,null,null,null,null,null,null,null,null,{"$f":"IF(1187<=$B$10,IF(LEN('２学期'!IU7)=0,\"\",IF('２学期'!IU7=$B$8,IF(LEN('２学期'!IX7)=0,\"\",'２学期'!IX7),\"\")),\"\")","v":""},{"$f":"IF(LEN(O1187)=0,\"\",IF(COUNTIF(O1187:$O$1921,O1187+1)>0,\"\",O1187+1))","v":""},{"$f":"IFERROR(SMALL($P$1:$P$1921,1186),\"\")","v":""}]
[null,null,null,null,null,null,null,null,null,null,null,null,null,null,{"$f":"IF(1188<=$B$10,IF(LEN('２学期'!IU10)=0,\"\",IF('２学期'!IU10=$B$8,IF(LEN('２学期'!IX10)=0,\"\",'２学期'!IX10),\"\")),\"\")","v":""},{"$f":"IF(LEN(O1188)=0,\"\",IF(COUNTIF(O1188:$O$1921,O1188+1)>0,\"\",O1188+1))","v":""},{"$f":"IFERROR(SMALL($P$1:$P$1921,1187),\"\")","v":""}]
[null,null,null,null,null,null,null,null,null,null,null,null,null,null,{"$f":"IF(1189<=$B$10,IF(LEN('２学期'!IU13)=0,\"\",IF('２学期'!IU13=$B$8,IF(LEN('２学期'!IX13)=0,\"\",'２学期'!IX13),\"\")),\"\")","v":""},{"$f":"IF(LEN(O1189)=0,\"\",IF(COUNTIF(O1189:$O$1921,O1189+1)>0,\"\",O1189+1))","v":""},{"$f":"IFERROR(SMALL($P$1:$P$1921,1188),\"\")","v":""}]
[null,null,null,null,null,null,null,null,null,null,null,null,null,null,{"$f":"IF(1190<=$B$10,IF(LEN('２学期'!IU16)=0,\"\",IF('２学期'!IU16=$B$8,IF(LEN('２学期'!IX16)=0,\"\",'２学期'!IX16),\"\")),\"\")","v":""},{"$f":"IF(LEN(O1190)=0,\"\",IF(COUNTIF(O1190:$O$1921,O1190+1)>0,\"\",O1190+1))","v":""},{"$f":"IFERROR(SMALL($P$1:$P$1921,1189),\"\")","v":""}]
[null,null,null,null,null,null,null,null,null,null,null,null,null,null,{"$f":"IF(1191<=$B$10,IF(LEN('２学期'!IU19)=0,\"\",IF('２学期'!IU19=$B$8,IF(LEN('２学期'!IX19)=0,\"\",'２学期'!IX19),\"\")),\"\")","v":""},{"$f":"IF(LEN(O1191)=0,\"\",IF(COUNTIF(O1191:$O$1921,O1191+1)>0,\"\",O1191+1))","v":""},{"$f":"IFERROR(SMALL($P$1:$P$1921,1190),\"\")","v":""}]
[null,null,null,null,null,null,null,null,null,null,null,null,null,null,{"$f":"IF(1192<=$B$10,IF(LEN('２学期'!IU22)=0,\"\",IF('２学期'!IU22=$B$8,IF(LEN('２学期'!IX22)=0,\"\",'２学期'!IX22),\"\")),\"\")","v":""},{"$f":"IF(LEN(O1192)=0,\"\",IF(COUNTIF(O1192:$O$1921,O1192+1)>0,\"\",O1192+1))","v":""},{"$f":"IFERROR(SMALL($P$1:$P$1921,1191),\"\")","v":""}]
[null,null,null,null,null,null,null,null,null,null,null,null,null,null,{"$f":"IF(1193<=$B$10,IF(LEN('２学期'!IU25)=0,\"\",IF('２学期'!IU25=$B$8,IF(LEN('２学期'!IX25)=0,\"\",'２学期'!IX25),\"\")),\"\")","v":""},{"$f":"IF(LEN(O1193)=0,\"\",IF(COUNTIF(O1193:$O$1921,O1193+1)>0,\"\",O1193+1))","v":""},{"$f":"IFERROR(SMALL($P$1:$P$1921,1192),\"\")","v":""}]
[null,null,null,null,null,null,null,null,null,null,null,null,null,null,{"$f":"IF(1194<=$B$10,IF(LEN('２学期'!IY6)=0,\"\",IF('２学期'!IY6=$B$8,IF(LEN('２学期'!JB6)=0,\"\",'２学期'!JB6),\"\")),\"\")","v":""},{"$f":"IF(LEN(O1194)=0,\"\",IF(COUNTIF(O1194:$O$1921,O1194+1)>0,\"\",O1194+1))","v":""},{"$f":"IFERROR(SMALL($P$1:$P$1921,1193),\"\")","v":""}]
[null,null,null,null,null,null,null,null,null,null,null,null,null,null,{"$f":"IF(1195<=$B$10,IF(LEN('２学期'!IY7)=0,\"\",IF('２学期'!IY7=$B$8,IF(LEN('２学期'!JB7)=0,\"\",'２学期'!JB7),\"\")),\"\")","v":""},{"$f":"IF(LEN(O1195)=0,\"\",IF(COUNTIF(O1195:$O$1921,O1195+1)>0,\"\",O1195+1))","v":""},{"$f":"IFERROR(SMALL($P$1:$P$1921,1194),\"\")","v":""}]
[null,null,null,null,null,null,null,null,null,null,null,null,null,null,{"$f":"IF(1196<=$B$10,IF(LEN('２学期'!IY10)=0,\"\",IF('２学期'!IY10=$B$8,IF(LEN('２学期'!JB10)=0,\"\",'２学期'!JB10),\"\")),\"\")","v":""},{"$f":"IF(LEN(O1196)=0,\"\",IF(COUNTIF(O1196:$O$1921,O1196+1)>0,\"\",O1196+1))","v":""},{"$f":"IFERROR(SMALL($P$1:$P$1921,1195),\"\")","v":""}]
[null,null,null,null,null,null,null,null,null,null,null,null,null,null,{"$f":"IF(1197<=$B$10,IF(LEN('２学期'!IY13)=0,\"\",IF('２学期'!IY13=$B$8,IF(LEN('２学期'!JB13)=0,\"\",'２学期'!JB13),\"\")),\"\")","v":""},{"$f":"IF(LEN(O1197)=0,\"\",IF(COUNTIF(O1197:$O$1921,O1197+1)>0,\"\",O1197+1))","v":""},{"$f":"IFERROR(SMALL($P$1:$P$1921,1196),\"\")","v":""}]
[null,null,null,null,null,null,null,null,null,null,null,null,null,null,{"$f":"IF(1198<=$B$10,IF(LEN('２学期'!IY16)=0,\"\",IF('２学期'!IY16=$B$8,IF(LEN('２学期'!JB16)=0,\"\",'２学期'!JB16),\"\")),\"\")","v":""},{"$f":"IF(LEN(O1198)=0,\"\",IF(COUNTIF(O1198:$O$1921,O1198+1)>0,\"\",O1198+1))","v":""},{"$f":"IFERROR(SMALL($P$1:$P$1921,1197),\"\")","v":""}]
[null,null,null,null,null,null,null,null,null,null,null,null,null,null,{"$f":"IF(1199<=$B$10,IF(LEN('２学期'!IY19)=0,\"\",IF('２学期'!IY19=$B$8,IF(LEN('２学期'!JB19)=0,\"\",'２学期'!JB19),\"\")),\"\")","v":""},{"$f":"IF(LEN(O1199)=0,\"\",IF(COUNTIF(O1199:$O$1921,O1199+1)>0,\"\",O1199+1))","v":""},{"$f":"IFERROR(SMALL($P$1:$P$1921,1198),\"\")","v":""}]
[null,null,null,null,null,null,null,null,null,null,null,null,null,null,{"$f":"IF(1200<=$B$10,IF(LEN('２学期'!IY22)=0,\"\",IF('２学期'!IY22=$B$8,IF(LEN('２学期'!JB22)=0,\"\",'２学期'!JB22),\"\")),\"\")","v":""},{"$f":"IF(LEN(O1200)=0,\"\",IF(COUNTIF(O1200:$O$1921,O1200+1)>0,\"\",O1200+1))","v":""},{"$f":"IFERROR(SMALL($P$1:$P$1921,1199),\"\")","v":""}]
[null,null,null,null,null,null,null,null,null,null,null,null,null,null,{"$f":"IF(1201<=$B$10,IF(LEN('２学期'!IY25)=0,\"\",IF('２学期'!IY25=$B$8,IF(LEN('２学期'!JB25)=0,\"\",'２学期'!JB25),\"\")),\"\")","v":""},{"$f":"IF(LEN(O1201)=0,\"\",IF(COUNTIF(O1201:$O$1921,O1201+1)>0,\"\",O1201+1))","v":""},{"$f":"IFERROR(SMALL($P$1:$P$1921,1200),\"\")","v":""}]
[null,null,null,null,null,null,null,null,null,null,null,null,null,null,{"$f":"IF(1202<=$B$10,IF(LEN('２学期'!JC6)=0,\"\",IF('２学期'!JC6=$B$8,IF(LEN('２学期'!JF6)=0,\"\",'２学期'!JF6),\"\")),\"\")","v":""},{"$f":"IF(LEN(O1202)=0,\"\",IF(COUNTIF(O1202:$O$1921,O1202+1)>0,\"\",O1202+1))","v":""},{"$f":"IFERROR(SMALL($P$1:$P$1921,1201),\"\")","v":""}]
[null,null,null,null,null,null,null,null,null,null,null,null,null,null,{"$f":"IF(1203<=$B$10,IF(LEN('２学期'!JC7)=0,\"\",IF('２学期'!JC7=$B$8,IF(LEN('２学期'!JF7)=0,\"\",'２学期'!JF7),\"\")),\"\")","v":""},{"$f":"IF(LEN(O1203)=0,\"\",IF(COUNTIF(O1203:$O$1921,O1203+1)>0,\"\",O1203+1))","v":""},{"$f":"IFERROR(SMALL($P$1:$P$1921,1202),\"\")","v":""}]
[null,null,null,null,null,null,null,null,null,null,null,null,null,null,{"$f":"IF(1204<=$B$10,IF(LEN('２学期'!JC10)=0,\"\",IF('２学期'!JC10=$B$8,IF(LEN('２学期'!JF10)=0,\"\",'２学期'!JF10),\"\")),\"\")","v":""},{"$f":"IF(LEN(O1204)=0,\"\",IF(COUNTIF(O1204:$O$1921,O1204+1)>0,\"\",O1204+1))","v":""},{"$f":"IFERROR(SMALL($P$1:$P$1921,1203),\"\")","v":""}]
[null,null,null,null,null,null,null,null,null,null,null,null,null,null,{"$f":"IF(1205<=$B$10,IF(LEN('２学期'!JC13)=0,\"\",IF('２学期'!JC13=$B$8,IF(LEN('２学期'!JF13)=0,\"\",'２学期'!JF13),\"\")),\"\")","v":""},{"$f":"IF(LEN(O1205)=0,\"\",IF(COUNTIF(O1205:$O$1921,O1205+1)>0,\"\",O1205+1))","v":""},{"$f":"IFERROR(SMALL($P$1:$P$1921,1204),\"\")","v":""}]
[null,null,null,null,null,null,null,null,null,null,null,null,null,null,{"$f":"IF(1206<=$B$10,IF(LEN('２学期'!JC16)=0,\"\",IF('２学期'!JC16=$B$8,IF(LEN('２学期'!JF16)=0,\"\",'２学期'!JF16),\"\")),\"\")","v":""},{"$f":"IF(LEN(O1206)=0,\"\",IF(COUNTIF(O1206:$O$1921,O1206+1)>0,\"\",O1206+1))","v":""},{"$f":"IFERROR(SMALL($P$1:$P$1921,1205),\"\")","v":""}]
[null,null,null,null,null,null,null,null,null,null,null,null,null,null,{"$f":"IF(1207<=$B$10,IF(LEN('２学期'!JC19)=0,\"\",IF('２学期'!JC19=$B$8,IF(LEN('２学期'!JF19)=0,\"\",'２学期'!JF19),\"\")),\"\")","v":""},{"$f":"IF(LEN(O1207)=0,\"\",IF(COUNTIF(O1207:$O$1921,O1207+1)>0,\"\",O1207+1))","v":""},{"$f":"IFERROR(SMALL($P$1:$P$1921,1206),\"\")","v":""}]
[null,null,null,null,null,null,null,null,null,null,null,null,null,null,{"$f":"IF(1208<=$B$10,IF(LEN('２学期'!JC22)=0,\"\",IF('２学期'!JC22=$B$8,IF(LEN('２学期'!JF22)=0,\"\",'２学期'!JF22),\"\")),\"\")","v":""},{"$f":"IF(LEN(O1208)=0,\"\",IF(COUNTIF(O1208:$O$1921,O1208+1)>0,\"\",O1208+1))","v":""},{"$f":"IFERROR(SMALL($P$1:$P$1921,1207),\"\")","v":""}]
[null,null,null,null,null,null,null,null,null,null,null,null,null,null,{"$f":"IF(1209<=$B$10,IF(LEN('２学期'!JC25)=0,\"\",IF('２学期'!JC25=$B$8,IF(LEN('２学期'!JF25)=0,\"\",'２学期'!JF25),\"\")),\"\")","v":""},{"$f":"IF(LEN(O1209)=0,\"\",IF(COUNTIF(O1209:$O$1921,O1209+1)>0,\"\",O1209+1))","v":""},{"$f":"IFERROR(SMALL($P$1:$P$1921,1208),\"\")","v":""}]
[null,null,null,null,null,null,null,null,null,null,null,null,null,null,{"$f":"IF(1210<=$B$10,IF(LEN('２学期'!JG6)=0,\"\",IF('２学期'!JG6=$B$8,IF(LEN('２学期'!JJ6)=0,\"\",'２学期'!JJ6),\"\")),\"\")","v":""},{"$f":"IF(LEN(O1210)=0,\"\",IF(COUNTIF(O1210:$O$1921,O1210+1)>0,\"\",O1210+1))","v":""},{"$f":"IFERROR(SMALL($P$1:$P$1921,1209),\"\")","v":""}]
[null,null,null,null,null,null,null,null,null,null,null,null,null,null,{"$f":"IF(1211<=$B$10,IF(LEN('２学期'!JG7)=0,\"\",IF('２学期'!JG7=$B$8,IF(LEN('２学期'!JJ7)=0,\"\",'２学期'!JJ7),\"\")),\"\")","v":""},{"$f":"IF(LEN(O1211)=0,\"\",IF(COUNTIF(O1211:$O$1921,O1211+1)>0,\"\",O1211+1))","v":""},{"$f":"IFERROR(SMALL($P$1:$P$1921,1210),\"\")","v":""}]
[null,null,null,null,null,null,null,null,null,null,null,null,null,null,{"$f":"IF(1212<=$B$10,IF(LEN('２学期'!JG10)=0,\"\",IF('２学期'!JG10=$B$8,IF(LEN('２学期'!JJ10)=0,\"\",'２学期'!JJ10),\"\")),\"\")","v":""},{"$f":"IF(LEN(O1212)=0,\"\",IF(COUNTIF(O1212:$O$1921,O1212+1)>0,\"\",O1212+1))","v":""},{"$f":"IFERROR(SMALL($P$1:$P$1921,1211),\"\")","v":""}]
[null,null,null,null,null,null,null,null,null,null,null,null,null,null,{"$f":"IF(1213<=$B$10,IF(LEN('２学期'!JG13)=0,\"\",IF('２学期'!JG13=$B$8,IF(LEN('２学期'!JJ13)=0,\"\",'２学期'!JJ13),\"\")),\"\")","v":""},{"$f":"IF(LEN(O1213)=0,\"\",IF(COUNTIF(O1213:$O$1921,O1213+1)>0,\"\",O1213+1))","v":""},{"$f":"IFERROR(SMALL($P$1:$P$1921,1212),\"\")","v":""}]
[null,null,null,null,null,null,null,null,null,null,null,null,null,null,{"$f":"IF(1214<=$B$10,IF(LEN('２学期'!JG16)=0,\"\",IF('２学期'!JG16=$B$8,IF(LEN('２学期'!JJ16)=0,\"\",'２学期'!JJ16),\"\")),\"\")","v":""},{"$f":"IF(LEN(O1214)=0,\"\",IF(COUNTIF(O1214:$O$1921,O1214+1)>0,\"\",O1214+1))","v":""},{"$f":"IFERROR(SMALL($P$1:$P$1921,1213),\"\")","v":""}]
[null,null,null,null,null,null,null,null,null,null,null,null,null,null,{"$f":"IF(1215<=$B$10,IF(LEN('２学期'!JG19)=0,\"\",IF('２学期'!JG19=$B$8,IF(LEN('２学期'!JJ19)=0,\"\",'２学期'!JJ19),\"\")),\"\")","v":""},{"$f":"IF(LEN(O1215)=0,\"\",IF(COUNTIF(O1215:$O$1921,O1215+1)>0,\"\",O1215+1))","v":""},{"$f":"IFERROR(SMALL($P$1:$P$1921,1214),\"\")","v":""}]
[null,null,null,null,null,null,null,null,null,null,null,null,null,null,{"$f":"IF(1216<=$B$10,IF(LEN('２学期'!JG22)=0,\"\",IF('２学期'!JG22=$B$8,IF(LEN('２学期'!JJ22)=0,\"\",'２学期'!JJ22),\"\")),\"\")","v":""},{"$f":"IF(LEN(O1216)=0,\"\",IF(COUNTIF(O1216:$O$1921,O1216+1)>0,\"\",O1216+1))","v":""},{"$f":"IFERROR(SMALL($P$1:$P$1921,1215),\"\")","v":""}]
[null,null,null,null,null,null,null,null,null,null,null,null,null,null,{"$f":"IF(1217<=$B$10,IF(LEN('２学期'!JG25)=0,\"\",IF('２学期'!JG25=$B$8,IF(LEN('２学期'!JJ25)=0,\"\",'２学期'!JJ25),\"\")),\"\")","v":""},{"$f":"IF(LEN(O1217)=0,\"\",IF(COUNTIF(O1217:$O$1921,O1217+1)>0,\"\",O1217+1))","v":""},{"$f":"IFERROR(SMALL($P$1:$P$1921,1216),\"\")","v":""}]
[null,null,null,null,null,null,null,null,null,null,null,null,null,null,{"$f":"IF(1218<=$B$10,IF(LEN('２学期'!JK6)=0,\"\",IF('２学期'!JK6=$B$8,IF(LEN('２学期'!JN6)=0,\"\",'２学期'!JN6),\"\")),\"\")","v":""},{"$f":"IF(LEN(O1218)=0,\"\",IF(COUNTIF(O1218:$O$1921,O1218+1)>0,\"\",O1218+1))","v":""},{"$f":"IFERROR(SMALL($P$1:$P$1921,1217),\"\")","v":""}]
[null,null,null,null,null,null,null,null,null,null,null,null,null,null,{"$f":"IF(1219<=$B$10,IF(LEN('２学期'!JK7)=0,\"\",IF('２学期'!JK7=$B$8,IF(LEN('２学期'!JN7)=0,\"\",'２学期'!JN7),\"\")),\"\")","v":""},{"$f":"IF(LEN(O1219)=0,\"\",IF(COUNTIF(O1219:$O$1921,O1219+1)>0,\"\",O1219+1))","v":""},{"$f":"IFERROR(SMALL($P$1:$P$1921,1218),\"\")","v":""}]
[null,null,null,null,null,null,null,null,null,null,null,null,null,null,{"$f":"IF(1220<=$B$10,IF(LEN('２学期'!JK10)=0,\"\",IF('２学期'!JK10=$B$8,IF(LEN('２学期'!JN10)=0,\"\",'２学期'!JN10),\"\")),\"\")","v":""},{"$f":"IF(LEN(O1220)=0,\"\",IF(COUNTIF(O1220:$O$1921,O1220+1)>0,\"\",O1220+1))","v":""},{"$f":"IFERROR(SMALL($P$1:$P$1921,1219),\"\")","v":""}]
[null,null,null,null,null,null,null,null,null,null,null,null,null,null,{"$f":"IF(1221<=$B$10,IF(LEN('２学期'!JK13)=0,\"\",IF('２学期'!JK13=$B$8,IF(LEN('２学期'!JN13)=0,\"\",'２学期'!JN13),\"\")),\"\")","v":""},{"$f":"IF(LEN(O1221)=0,\"\",IF(COUNTIF(O1221:$O$1921,O1221+1)>0,\"\",O1221+1))","v":""},{"$f":"IFERROR(SMALL($P$1:$P$1921,1220),\"\")","v":""}]
[null,null,null,null,null,null,null,null,null,null,null,null,null,null,{"$f":"IF(1222<=$B$10,IF(LEN('２学期'!JK16)=0,\"\",IF('２学期'!JK16=$B$8,IF(LEN('２学期'!JN16)=0,\"\",'２学期'!JN16),\"\")),\"\")","v":""},{"$f":"IF(LEN(O1222)=0,\"\",IF(COUNTIF(O1222:$O$1921,O1222+1)>0,\"\",O1222+1))","v":""},{"$f":"IFERROR(SMALL($P$1:$P$1921,1221),\"\")","v":""}]
[null,null,null,null,null,null,null,null,null,null,null,null,null,null,{"$f":"IF(1223<=$B$10,IF(LEN('２学期'!JK19)=0,\"\",IF('２学期'!JK19=$B$8,IF(LEN('２学期'!JN19)=0,\"\",'２学期'!JN19),\"\")),\"\")","v":""},{"$f":"IF(LEN(O1223)=0,\"\",IF(COUNTIF(O1223:$O$1921,O1223+1)>0,\"\",O1223+1))","v":""},{"$f":"IFERROR(SMALL($P$1:$P$1921,1222),\"\")","v":""}]
[null,null,null,null,null,null,null,null,null,null,null,null,null,null,{"$f":"IF(1224<=$B$10,IF(LEN('２学期'!JK22)=0,\"\",IF('２学期'!JK22=$B$8,IF(LEN('２学期'!JN22)=0,\"\",'２学期'!JN22),\"\")),\"\")","v":""},{"$f":"IF(LEN(O1224)=0,\"\",IF(COUNTIF(O1224:$O$1921,O1224+1)>0,\"\",O1224+1))","v":""},{"$f":"IFERROR(SMALL($P$1:$P$1921,1223),\"\")","v":""}]
[null,null,null,null,null,null,null,null,null,null,null,null,null,null,{"$f":"IF(1225<=$B$10,IF(LEN('２学期'!JK25)=0,\"\",IF('２学期'!JK25=$B$8,IF(LEN('２学期'!JN25)=0,\"\",'２学期'!JN25),\"\")),\"\")","v":""},{"$f":"IF(LEN(O1225)=0,\"\",IF(COUNTIF(O1225:$O$1921,O1225+1)>0,\"\",O1225+1))","v":""},{"$f":"IFERROR(SMALL($P$1:$P$1921,1224),\"\")","v":""}]
[null,null,null,null,null,null,null,null,null,null,null,null,null,null,{"$f":"IF(1226<=$B$10,IF(LEN('２学期'!JO6)=0,\"\",IF('２学期'!JO6=$B$8,IF(LEN('２学期'!JR6)=0,\"\",'２学期'!JR6),\"\")),\"\")","v":""},{"$f":"IF(LEN(O1226)=0,\"\",IF(COUNTIF(O1226:$O$1921,O1226+1)>0,\"\",O1226+1))","v":""},{"$f":"IFERROR(SMALL($P$1:$P$1921,1225),\"\")","v":""}]
[null,null,null,null,null,null,null,null,null,null,null,null,null,null,{"$f":"IF(1227<=$B$10,IF(LEN('２学期'!JO7)=0,\"\",IF('２学期'!JO7=$B$8,IF(LEN('２学期'!JR7)=0,\"\",'２学期'!JR7),\"\")),\"\")","v":""},{"$f":"IF(LEN(O1227)=0,\"\",IF(COUNTIF(O1227:$O$1921,O1227+1)>0,\"\",O1227+1))","v":""},{"$f":"IFERROR(SMALL($P$1:$P$1921,1226),\"\")","v":""}]
[null,null,null,null,null,null,null,null,null,null,null,null,null,null,{"$f":"IF(1228<=$B$10,IF(LEN('２学期'!JO10)=0,\"\",IF('２学期'!JO10=$B$8,IF(LEN('２学期'!JR10)=0,\"\",'２学期'!JR10),\"\")),\"\")","v":""},{"$f":"IF(LEN(O1228)=0,\"\",IF(COUNTIF(O1228:$O$1921,O1228+1)>0,\"\",O1228+1))","v":""},{"$f":"IFERROR(SMALL($P$1:$P$1921,1227),\"\")","v":""}]
[null,null,null,null,null,null,null,null,null,null,null,null,null,null,{"$f":"IF(1229<=$B$10,IF(LEN('２学期'!JO13)=0,\"\",IF('２学期'!JO13=$B$8,IF(LEN('２学期'!JR13)=0,\"\",'２学期'!JR13),\"\")),\"\")","v":""},{"$f":"IF(LEN(O1229)=0,\"\",IF(COUNTIF(O1229:$O$1921,O1229+1)>0,\"\",O1229+1))","v":""},{"$f":"IFERROR(SMALL($P$1:$P$1921,1228),\"\")","v":""}]
[null,null,null,null,null,null,null,null,null,null,null,null,null,null,{"$f":"IF(1230<=$B$10,IF(LEN('２学期'!JO16)=0,\"\",IF('２学期'!JO16=$B$8,IF(LEN('２学期'!JR16)=0,\"\",'２学期'!JR16),\"\")),\"\")","v":""},{"$f":"IF(LEN(O1230)=0,\"\",IF(COUNTIF(O1230:$O$1921,O1230+1)>0,\"\",O1230+1))","v":""},{"$f":"IFERROR(SMALL($P$1:$P$1921,1229),\"\")","v":""}]
[null,null,null,null,null,null,null,null,null,null,null,null,null,null,{"$f":"IF(1231<=$B$10,IF(LEN('２学期'!JO19)=0,\"\",IF('２学期'!JO19=$B$8,IF(LEN('２学期'!JR19)=0,\"\",'２学期'!JR19),\"\")),\"\")","v":""},{"$f":"IF(LEN(O1231)=0,\"\",IF(COUNTIF(O1231:$O$1921,O1231+1)>0,\"\",O1231+1))","v":""},{"$f":"IFERROR(SMALL($P$1:$P$1921,1230),\"\")","v":""}]
[null,null,null,null,null,null,null,null,null,null,null,null,null,null,{"$f":"IF(1232<=$B$10,IF(LEN('２学期'!JO22)=0,\"\",IF('２学期'!JO22=$B$8,IF(LEN('２学期'!JR22)=0,\"\",'２学期'!JR22),\"\")),\"\")","v":""},{"$f":"IF(LEN(O1232)=0,\"\",IF(COUNTIF(O1232:$O$1921,O1232+1)>0,\"\",O1232+1))","v":""},{"$f":"IFERROR(SMALL($P$1:$P$1921,1231),\"\")","v":""}]
[null,null,null,null,null,null,null,null,null,null,null,null,null,null,{"$f":"IF(1233<=$B$10,IF(LEN('２学期'!JO25)=0,\"\",IF('２学期'!JO25=$B$8,IF(LEN('２学期'!JR25)=0,\"\",'２学期'!JR25),\"\")),\"\")","v":""},{"$f":"IF(LEN(O1233)=0,\"\",IF(COUNTIF(O1233:$O$1921,O1233+1)>0,\"\",O1233+1))","v":""},{"$f":"IFERROR(SMALL($P$1:$P$1921,1232),\"\")","v":""}]
[null,null,null,null,null,null,null,null,null,null,null,null,null,null,{"$f":"IF(1234<=$B$10,IF(LEN('２学期'!JS6)=0,\"\",IF('２学期'!JS6=$B$8,IF(LEN('２学期'!JV6)=0,\"\",'２学期'!JV6),\"\")),\"\")","v":""},{"$f":"IF(LEN(O1234)=0,\"\",IF(COUNTIF(O1234:$O$1921,O1234+1)>0,\"\",O1234+1))","v":""},{"$f":"IFERROR(SMALL($P$1:$P$1921,1233),\"\")","v":""}]
[null,null,null,null,null,null,null,null,null,null,null,null,null,null,{"$f":"IF(1235<=$B$10,IF(LEN('２学期'!JS7)=0,\"\",IF('２学期'!JS7=$B$8,IF(LEN('２学期'!JV7)=0,\"\",'２学期'!JV7),\"\")),\"\")","v":""},{"$f":"IF(LEN(O1235)=0,\"\",IF(COUNTIF(O1235:$O$1921,O1235+1)>0,\"\",O1235+1))","v":""},{"$f":"IFERROR(SMALL($P$1:$P$1921,1234),\"\")","v":""}]
[null,null,null,null,null,null,null,null,null,null,null,null,null,null,{"$f":"IF(1236<=$B$10,IF(LEN('２学期'!JS10)=0,\"\",IF('２学期'!JS10=$B$8,IF(LEN('２学期'!JV10)=0,\"\",'２学期'!JV10),\"\")),\"\")","v":""},{"$f":"IF(LEN(O1236)=0,\"\",IF(COUNTIF(O1236:$O$1921,O1236+1)>0,\"\",O1236+1))","v":""},{"$f":"IFERROR(SMALL($P$1:$P$1921,1235),\"\")","v":""}]
[null,null,null,null,null,null,null,null,null,null,null,null,null,null,{"$f":"IF(1237<=$B$10,IF(LEN('２学期'!JS13)=0,\"\",IF('２学期'!JS13=$B$8,IF(LEN('２学期'!JV13)=0,\"\",'２学期'!JV13),\"\")),\"\")","v":""},{"$f":"IF(LEN(O1237)=0,\"\",IF(COUNTIF(O1237:$O$1921,O1237+1)>0,\"\",O1237+1))","v":""},{"$f":"IFERROR(SMALL($P$1:$P$1921,1236),\"\")","v":""}]
[null,null,null,null,null,null,null,null,null,null,null,null,null,null,{"$f":"IF(1238<=$B$10,IF(LEN('２学期'!JS16)=0,\"\",IF('２学期'!JS16=$B$8,IF(LEN('２学期'!JV16)=0,\"\",'２学期'!JV16),\"\")),\"\")","v":""},{"$f":"IF(LEN(O1238)=0,\"\",IF(COUNTIF(O1238:$O$1921,O1238+1)>0,\"\",O1238+1))","v":""},{"$f":"IFERROR(SMALL($P$1:$P$1921,1237),\"\")","v":""}]
[null,null,null,null,null,null,null,null,null,null,null,null,null,null,{"$f":"IF(1239<=$B$10,IF(LEN('２学期'!JS19)=0,\"\",IF('２学期'!JS19=$B$8,IF(LEN('２学期'!JV19)=0,\"\",'２学期'!JV19),\"\")),\"\")","v":""},{"$f":"IF(LEN(O1239)=0,\"\",IF(COUNTIF(O1239:$O$1921,O1239+1)>0,\"\",O1239+1))","v":""},{"$f":"IFERROR(SMALL($P$1:$P$1921,1238),\"\")","v":""}]
[null,null,null,null,null,null,null,null,null,null,null,null,null,null,{"$f":"IF(1240<=$B$10,IF(LEN('２学期'!JS22)=0,\"\",IF('２学期'!JS22=$B$8,IF(LEN('２学期'!JV22)=0,\"\",'２学期'!JV22),\"\")),\"\")","v":""},{"$f":"IF(LEN(O1240)=0,\"\",IF(COUNTIF(O1240:$O$1921,O1240+1)>0,\"\",O1240+1))","v":""},{"$f":"IFERROR(SMALL($P$1:$P$1921,1239),\"\")","v":""}]
[null,null,null,null,null,null,null,null,null,null,null,null,null,null,{"$f":"IF(1241<=$B$10,IF(LEN('２学期'!JS25)=0,\"\",IF('２学期'!JS25=$B$8,IF(LEN('２学期'!JV25)=0,\"\",'２学期'!JV25),\"\")),\"\")","v":""},{"$f":"IF(LEN(O1241)=0,\"\",IF(COUNTIF(O1241:$O$1921,O1241+1)>0,\"\",O1241+1))","v":""},{"$f":"IFERROR(SMALL($P$1:$P$1921,1240),\"\")","v":""}]
[null,null,null,null,null,null,null,null,null,null,null,null,null,null,{"$f":"IF(1242<=$B$10,IF(LEN('２学期'!JW6)=0,\"\",IF('２学期'!JW6=$B$8,IF(LEN('２学期'!JZ6)=0,\"\",'２学期'!JZ6),\"\")),\"\")","v":""},{"$f":"IF(LEN(O1242)=0,\"\",IF(COUNTIF(O1242:$O$1921,O1242+1)>0,\"\",O1242+1))","v":""},{"$f":"IFERROR(SMALL($P$1:$P$1921,1241),\"\")","v":""}]
[null,null,null,null,null,null,null,null,null,null,null,null,null,null,{"$f":"IF(1243<=$B$10,IF(LEN('２学期'!JW7)=0,\"\",IF('２学期'!JW7=$B$8,IF(LEN('２学期'!JZ7)=0,\"\",'２学期'!JZ7),\"\")),\"\")","v":""},{"$f":"IF(LEN(O1243)=0,\"\",IF(COUNTIF(O1243:$O$1921,O1243+1)>0,\"\",O1243+1))","v":""},{"$f":"IFERROR(SMALL($P$1:$P$1921,1242),\"\")","v":""}]
[null,null,null,null,null,null,null,null,null,null,null,null,null,null,{"$f":"IF(1244<=$B$10,IF(LEN('２学期'!JW10)=0,\"\",IF('２学期'!JW10=$B$8,IF(LEN('２学期'!JZ10)=0,\"\",'２学期'!JZ10),\"\")),\"\")","v":""},{"$f":"IF(LEN(O1244)=0,\"\",IF(COUNTIF(O1244:$O$1921,O1244+1)>0,\"\",O1244+1))","v":""},{"$f":"IFERROR(SMALL($P$1:$P$1921,1243),\"\")","v":""}]
[null,null,null,null,null,null,null,null,null,null,null,null,null,null,{"$f":"IF(1245<=$B$10,IF(LEN('２学期'!JW13)=0,\"\",IF('２学期'!JW13=$B$8,IF(LEN('２学期'!JZ13)=0,\"\",'２学期'!JZ13),\"\")),\"\")","v":""},{"$f":"IF(LEN(O1245)=0,\"\",IF(COUNTIF(O1245:$O$1921,O1245+1)>0,\"\",O1245+1))","v":""},{"$f":"IFERROR(SMALL($P$1:$P$1921,1244),\"\")","v":""}]
[null,null,null,null,null,null,null,null,null,null,null,null,null,null,{"$f":"IF(1246<=$B$10,IF(LEN('２学期'!JW16)=0,\"\",IF('２学期'!JW16=$B$8,IF(LEN('２学期'!JZ16)=0,\"\",'２学期'!JZ16),\"\")),\"\")","v":""},{"$f":"IF(LEN(O1246)=0,\"\",IF(COUNTIF(O1246:$O$1921,O1246+1)>0,\"\",O1246+1))","v":""},{"$f":"IFERROR(SMALL($P$1:$P$1921,1245),\"\")","v":""}]
[null,null,null,null,null,null,null,null,null,null,null,null,null,null,{"$f":"IF(1247<=$B$10,IF(LEN('２学期'!JW19)=0,\"\",IF('２学期'!JW19=$B$8,IF(LEN('２学期'!JZ19)=0,\"\",'２学期'!JZ19),\"\")),\"\")","v":""},{"$f":"IF(LEN(O1247)=0,\"\",IF(COUNTIF(O1247:$O$1921,O1247+1)>0,\"\",O1247+1))","v":""},{"$f":"IFERROR(SMALL($P$1:$P$1921,1246),\"\")","v":""}]
[null,null,null,null,null,null,null,null,null,null,null,null,null,null,{"$f":"IF(1248<=$B$10,IF(LEN('２学期'!JW22)=0,\"\",IF('２学期'!JW22=$B$8,IF(LEN('２学期'!JZ22)=0,\"\",'２学期'!JZ22),\"\")),\"\")","v":""},{"$f":"IF(LEN(O1248)=0,\"\",IF(COUNTIF(O1248:$O$1921,O1248+1)>0,\"\",O1248+1))","v":""},{"$f":"IFERROR(SMALL($P$1:$P$1921,1247),\"\")","v":""}]
[null,null,null,null,null,null,null,null,null,null,null,null,null,null,{"$f":"IF(1249<=$B$10,IF(LEN('２学期'!JW25)=0,\"\",IF('２学期'!JW25=$B$8,IF(LEN('２学期'!JZ25)=0,\"\",'２学期'!JZ25),\"\")),\"\")","v":""},{"$f":"IF(LEN(O1249)=0,\"\",IF(COUNTIF(O1249:$O$1921,O1249+1)>0,\"\",O1249+1))","v":""},{"$f":"IFERROR(SMALL($P$1:$P$1921,1248),\"\")","v":""}]
[null,null,null,null,null,null,null,null,null,null,null,null,null,null,{"$f":"IF(1250<=$B$10,IF(LEN('２学期'!KA6)=0,\"\",IF('２学期'!KA6=$B$8,IF(LEN('２学期'!KD6)=0,\"\",'２学期'!KD6),\"\")),\"\")","v":""},{"$f":"IF(LEN(O1250)=0,\"\",IF(COUNTIF(O1250:$O$1921,O1250+1)>0,\"\",O1250+1))","v":""},{"$f":"IFERROR(SMALL($P$1:$P$1921,1249),\"\")","v":""}]
[null,null,null,null,null,null,null,null,null,null,null,null,null,null,{"$f":"IF(1251<=$B$10,IF(LEN('２学期'!KA7)=0,\"\",IF('２学期'!KA7=$B$8,IF(LEN('２学期'!KD7)=0,\"\",'２学期'!KD7),\"\")),\"\")","v":""},{"$f":"IF(LEN(O1251)=0,\"\",IF(COUNTIF(O1251:$O$1921,O1251+1)>0,\"\",O1251+1))","v":""},{"$f":"IFERROR(SMALL($P$1:$P$1921,1250),\"\")","v":""}]
[null,null,null,null,null,null,null,null,null,null,null,null,null,null,{"$f":"IF(1252<=$B$10,IF(LEN('２学期'!KA10)=0,\"\",IF('２学期'!KA10=$B$8,IF(LEN('２学期'!KD10)=0,\"\",'２学期'!KD10),\"\")),\"\")","v":""},{"$f":"IF(LEN(O1252)=0,\"\",IF(COUNTIF(O1252:$O$1921,O1252+1)>0,\"\",O1252+1))","v":""},{"$f":"IFERROR(SMALL($P$1:$P$1921,1251),\"\")","v":""}]
[null,null,null,null,null,null,null,null,null,null,null,null,null,null,{"$f":"IF(1253<=$B$10,IF(LEN('２学期'!KA13)=0,\"\",IF('２学期'!KA13=$B$8,IF(LEN('２学期'!KD13)=0,\"\",'２学期'!KD13),\"\")),\"\")","v":""},{"$f":"IF(LEN(O1253)=0,\"\",IF(COUNTIF(O1253:$O$1921,O1253+1)>0,\"\",O1253+1))","v":""},{"$f":"IFERROR(SMALL($P$1:$P$1921,1252),\"\")","v":""}]
[null,null,null,null,null,null,null,null,null,null,null,null,null,null,{"$f":"IF(1254<=$B$10,IF(LEN('２学期'!KA16)=0,\"\",IF('２学期'!KA16=$B$8,IF(LEN('２学期'!KD16)=0,\"\",'２学期'!KD16),\"\")),\"\")","v":""},{"$f":"IF(LEN(O1254)=0,\"\",IF(COUNTIF(O1254:$O$1921,O1254+1)>0,\"\",O1254+1))","v":""},{"$f":"IFERROR(SMALL($P$1:$P$1921,1253),\"\")","v":""}]
[null,null,null,null,null,null,null,null,null,null,null,null,null,null,{"$f":"IF(1255<=$B$10,IF(LEN('２学期'!KA19)=0,\"\",IF('２学期'!KA19=$B$8,IF(LEN('２学期'!KD19)=0,\"\",'２学期'!KD19),\"\")),\"\")","v":""},{"$f":"IF(LEN(O1255)=0,\"\",IF(COUNTIF(O1255:$O$1921,O1255+1)>0,\"\",O1255+1))","v":""},{"$f":"IFERROR(SMALL($P$1:$P$1921,1254),\"\")","v":""}]
[null,null,null,null,null,null,null,null,null,null,null,null,null,null,{"$f":"IF(1256<=$B$10,IF(LEN('２学期'!KA22)=0,\"\",IF('２学期'!KA22=$B$8,IF(LEN('２学期'!KD22)=0,\"\",'２学期'!KD22),\"\")),\"\")","v":""},{"$f":"IF(LEN(O1256)=0,\"\",IF(COUNTIF(O1256:$O$1921,O1256+1)>0,\"\",O1256+1))","v":""},{"$f":"IFERROR(SMALL($P$1:$P$1921,1255),\"\")","v":""}]
[null,null,null,null,null,null,null,null,null,null,null,null,null,null,{"$f":"IF(1257<=$B$10,IF(LEN('２学期'!KA25)=0,\"\",IF('２学期'!KA25=$B$8,IF(LEN('２学期'!KD25)=0,\"\",'２学期'!KD25),\"\")),\"\")","v":""},{"$f":"IF(LEN(O1257)=0,\"\",IF(COUNTIF(O1257:$O$1921,O1257+1)>0,\"\",O1257+1))","v":""},{"$f":"IFERROR(SMALL($P$1:$P$1921,1256),\"\")","v":""}]
[null,null,null,null,null,null,null,null,null,null,null,null,null,null,{"$f":"IF(1258<=$B$10,IF(LEN('２学期'!KE6)=0,\"\",IF('２学期'!KE6=$B$8,IF(LEN('２学期'!KH6)=0,\"\",'２学期'!KH6),\"\")),\"\")","v":""},{"$f":"IF(LEN(O1258)=0,\"\",IF(COUNTIF(O1258:$O$1921,O1258+1)>0,\"\",O1258+1))","v":""},{"$f":"IFERROR(SMALL($P$1:$P$1921,1257),\"\")","v":""}]
[null,null,null,null,null,null,null,null,null,null,null,null,null,null,{"$f":"IF(1259<=$B$10,IF(LEN('２学期'!KE7)=0,\"\",IF('２学期'!KE7=$B$8,IF(LEN('２学期'!KH7)=0,\"\",'２学期'!KH7),\"\")),\"\")","v":""},{"$f":"IF(LEN(O1259)=0,\"\",IF(COUNTIF(O1259:$O$1921,O1259+1)>0,\"\",O1259+1))","v":""},{"$f":"IFERROR(SMALL($P$1:$P$1921,1258),\"\")","v":""}]
[null,null,null,null,null,null,null,null,null,null,null,null,null,null,{"$f":"IF(1260<=$B$10,IF(LEN('２学期'!KE10)=0,\"\",IF('２学期'!KE10=$B$8,IF(LEN('２学期'!KH10)=0,\"\",'２学期'!KH10),\"\")),\"\")","v":""},{"$f":"IF(LEN(O1260)=0,\"\",IF(COUNTIF(O1260:$O$1921,O1260+1)>0,\"\",O1260+1))","v":""},{"$f":"IFERROR(SMALL($P$1:$P$1921,1259),\"\")","v":""}]
[null,null,null,null,null,null,null,null,null,null,null,null,null,null,{"$f":"IF(1261<=$B$10,IF(LEN('２学期'!KE13)=0,\"\",IF('２学期'!KE13=$B$8,IF(LEN('２学期'!KH13)=0,\"\",'２学期'!KH13),\"\")),\"\")","v":""},{"$f":"IF(LEN(O1261)=0,\"\",IF(COUNTIF(O1261:$O$1921,O1261+1)>0,\"\",O1261+1))","v":""},{"$f":"IFERROR(SMALL($P$1:$P$1921,1260),\"\")","v":""}]
[null,null,null,null,null,null,null,null,null,null,null,null,null,null,{"$f":"IF(1262<=$B$10,IF(LEN('２学期'!KE16)=0,\"\",IF('２学期'!KE16=$B$8,IF(LEN('２学期'!KH16)=0,\"\",'２学期'!KH16),\"\")),\"\")","v":""},{"$f":"IF(LEN(O1262)=0,\"\",IF(COUNTIF(O1262:$O$1921,O1262+1)>0,\"\",O1262+1))","v":""},{"$f":"IFERROR(SMALL($P$1:$P$1921,1261),\"\")","v":""}]
[null,null,null,null,null,null,null,null,null,null,null,null,null,null,{"$f":"IF(1263<=$B$10,IF(LEN('２学期'!KE19)=0,\"\",IF('２学期'!KE19=$B$8,IF(LEN('２学期'!KH19)=0,\"\",'２学期'!KH19),\"\")),\"\")","v":""},{"$f":"IF(LEN(O1263)=0,\"\",IF(COUNTIF(O1263:$O$1921,O1263+1)>0,\"\",O1263+1))","v":""},{"$f":"IFERROR(SMALL($P$1:$P$1921,1262),\"\")","v":""}]
[null,null,null,null,null,null,null,null,null,null,null,null,null,null,{"$f":"IF(1264<=$B$10,IF(LEN('２学期'!KE22)=0,\"\",IF('２学期'!KE22=$B$8,IF(LEN('２学期'!KH22)=0,\"\",'２学期'!KH22),\"\")),\"\")","v":""},{"$f":"IF(LEN(O1264)=0,\"\",IF(COUNTIF(O1264:$O$1921,O1264+1)>0,\"\",O1264+1))","v":""},{"$f":"IFERROR(SMALL($P$1:$P$1921,1263),\"\")","v":""}]
[null,null,null,null,null,null,null,null,null,null,null,null,null,null,{"$f":"IF(1265<=$B$10,IF(LEN('２学期'!KE25)=0,\"\",IF('２学期'!KE25=$B$8,IF(LEN('２学期'!KH25)=0,\"\",'２学期'!KH25),\"\")),\"\")","v":""},{"$f":"IF(LEN(O1265)=0,\"\",IF(COUNTIF(O1265:$O$1921,O1265+1)>0,\"\",O1265+1))","v":""},{"$f":"IFERROR(SMALL($P$1:$P$1921,1264),\"\")","v":""}]
[null,null,null,null,null,null,null,null,null,null,null,null,null,null,{"$f":"IF(1266<=$B$10,IF(LEN('２学期'!KI6)=0,\"\",IF('２学期'!KI6=$B$8,IF(LEN('２学期'!KL6)=0,\"\",'２学期'!KL6),\"\")),\"\")","v":""},{"$f":"IF(LEN(O1266)=0,\"\",IF(COUNTIF(O1266:$O$1921,O1266+1)>0,\"\",O1266+1))","v":""},{"$f":"IFERROR(SMALL($P$1:$P$1921,1265),\"\")","v":""}]
[null,null,null,null,null,null,null,null,null,null,null,null,null,null,{"$f":"IF(1267<=$B$10,IF(LEN('２学期'!KI7)=0,\"\",IF('２学期'!KI7=$B$8,IF(LEN('２学期'!KL7)=0,\"\",'２学期'!KL7),\"\")),\"\")","v":""},{"$f":"IF(LEN(O1267)=0,\"\",IF(COUNTIF(O1267:$O$1921,O1267+1)>0,\"\",O1267+1))","v":""},{"$f":"IFERROR(SMALL($P$1:$P$1921,1266),\"\")","v":""}]
[null,null,null,null,null,null,null,null,null,null,null,null,null,null,{"$f":"IF(1268<=$B$10,IF(LEN('２学期'!KI10)=0,\"\",IF('２学期'!KI10=$B$8,IF(LEN('２学期'!KL10)=0,\"\",'２学期'!KL10),\"\")),\"\")","v":""},{"$f":"IF(LEN(O1268)=0,\"\",IF(COUNTIF(O1268:$O$1921,O1268+1)>0,\"\",O1268+1))","v":""},{"$f":"IFERROR(SMALL($P$1:$P$1921,1267),\"\")","v":""}]
[null,null,null,null,null,null,null,null,null,null,null,null,null,null,{"$f":"IF(1269<=$B$10,IF(LEN('２学期'!KI13)=0,\"\",IF('２学期'!KI13=$B$8,IF(LEN('２学期'!KL13)=0,\"\",'２学期'!KL13),\"\")),\"\")","v":""},{"$f":"IF(LEN(O1269)=0,\"\",IF(COUNTIF(O1269:$O$1921,O1269+1)>0,\"\",O1269+1))","v":""},{"$f":"IFERROR(SMALL($P$1:$P$1921,1268),\"\")","v":""}]
[null,null,null,null,null,null,null,null,null,null,null,null,null,null,{"$f":"IF(1270<=$B$10,IF(LEN('２学期'!KI16)=0,\"\",IF('２学期'!KI16=$B$8,IF(LEN('２学期'!KL16)=0,\"\",'２学期'!KL16),\"\")),\"\")","v":""},{"$f":"IF(LEN(O1270)=0,\"\",IF(COUNTIF(O1270:$O$1921,O1270+1)>0,\"\",O1270+1))","v":""},{"$f":"IFERROR(SMALL($P$1:$P$1921,1269),\"\")","v":""}]
[null,null,null,null,null,null,null,null,null,null,null,null,null,null,{"$f":"IF(1271<=$B$10,IF(LEN('２学期'!KI19)=0,\"\",IF('２学期'!KI19=$B$8,IF(LEN('２学期'!KL19)=0,\"\",'２学期'!KL19),\"\")),\"\")","v":""},{"$f":"IF(LEN(O1271)=0,\"\",IF(COUNTIF(O1271:$O$1921,O1271+1)>0,\"\",O1271+1))","v":""},{"$f":"IFERROR(SMALL($P$1:$P$1921,1270),\"\")","v":""}]
[null,null,null,null,null,null,null,null,null,null,null,null,null,null,{"$f":"IF(1272<=$B$10,IF(LEN('２学期'!KI22)=0,\"\",IF('２学期'!KI22=$B$8,IF(LEN('２学期'!KL22)=0,\"\",'２学期'!KL22),\"\")),\"\")","v":""},{"$f":"IF(LEN(O1272)=0,\"\",IF(COUNTIF(O1272:$O$1921,O1272+1)>0,\"\",O1272+1))","v":""},{"$f":"IFERROR(SMALL($P$1:$P$1921,1271),\"\")","v":""}]
[null,null,null,null,null,null,null,null,null,null,null,null,null,null,{"$f":"IF(1273<=$B$10,IF(LEN('２学期'!KI25)=0,\"\",IF('２学期'!KI25=$B$8,IF(LEN('２学期'!KL25)=0,\"\",'２学期'!KL25),\"\")),\"\")","v":""},{"$f":"IF(LEN(O1273)=0,\"\",IF(COUNTIF(O1273:$O$1921,O1273+1)>0,\"\",O1273+1))","v":""},{"$f":"IFERROR(SMALL($P$1:$P$1921,1272),\"\")","v":""}]
[null,null,null,null,null,null,null,null,null,null,null,null,null,null,{"$f":"IF(1274<=$B$10,IF(LEN('２学期'!KM6)=0,\"\",IF('２学期'!KM6=$B$8,IF(LEN('２学期'!KP6)=0,\"\",'２学期'!KP6),\"\")),\"\")","v":""},{"$f":"IF(LEN(O1274)=0,\"\",IF(COUNTIF(O1274:$O$1921,O1274+1)>0,\"\",O1274+1))","v":""},{"$f":"IFERROR(SMALL($P$1:$P$1921,1273),\"\")","v":""}]
[null,null,null,null,null,null,null,null,null,null,null,null,null,null,{"$f":"IF(1275<=$B$10,IF(LEN('２学期'!KM7)=0,\"\",IF('２学期'!KM7=$B$8,IF(LEN('２学期'!KP7)=0,\"\",'２学期'!KP7),\"\")),\"\")","v":""},{"$f":"IF(LEN(O1275)=0,\"\",IF(COUNTIF(O1275:$O$1921,O1275+1)>0,\"\",O1275+1))","v":""},{"$f":"IFERROR(SMALL($P$1:$P$1921,1274),\"\")","v":""}]
[null,null,null,null,null,null,null,null,null,null,null,null,null,null,{"$f":"IF(1276<=$B$10,IF(LEN('２学期'!KM10)=0,\"\",IF('２学期'!KM10=$B$8,IF(LEN('２学期'!KP10)=0,\"\",'２学期'!KP10),\"\")),\"\")","v":""},{"$f":"IF(LEN(O1276)=0,\"\",IF(COUNTIF(O1276:$O$1921,O1276+1)>0,\"\",O1276+1))","v":""},{"$f":"IFERROR(SMALL($P$1:$P$1921,1275),\"\")","v":""}]
[null,null,null,null,null,null,null,null,null,null,null,null,null,null,{"$f":"IF(1277<=$B$10,IF(LEN('２学期'!KM13)=0,\"\",IF('２学期'!KM13=$B$8,IF(LEN('２学期'!KP13)=0,\"\",'２学期'!KP13),\"\")),\"\")","v":""},{"$f":"IF(LEN(O1277)=0,\"\",IF(COUNTIF(O1277:$O$1921,O1277+1)>0,\"\",O1277+1))","v":""},{"$f":"IFERROR(SMALL($P$1:$P$1921,1276),\"\")","v":""}]
[null,null,null,null,null,null,null,null,null,null,null,null,null,null,{"$f":"IF(1278<=$B$10,IF(LEN('２学期'!KM16)=0,\"\",IF('２学期'!KM16=$B$8,IF(LEN('２学期'!KP16)=0,\"\",'２学期'!KP16),\"\")),\"\")","v":""},{"$f":"IF(LEN(O1278)=0,\"\",IF(COUNTIF(O1278:$O$1921,O1278+1)>0,\"\",O1278+1))","v":""},{"$f":"IFERROR(SMALL($P$1:$P$1921,1277),\"\")","v":""}]
[null,null,null,null,null,null,null,null,null,null,null,null,null,null,{"$f":"IF(1279<=$B$10,IF(LEN('２学期'!KM19)=0,\"\",IF('２学期'!KM19=$B$8,IF(LEN('２学期'!KP19)=0,\"\",'２学期'!KP19),\"\")),\"\")","v":""},{"$f":"IF(LEN(O1279)=0,\"\",IF(COUNTIF(O1279:$O$1921,O1279+1)>0,\"\",O1279+1))","v":""},{"$f":"IFERROR(SMALL($P$1:$P$1921,1278),\"\")","v":""}]
[null,null,null,null,null,null,null,null,null,null,null,null,null,null,{"$f":"IF(1280<=$B$10,IF(LEN('２学期'!KM22)=0,\"\",IF('２学期'!KM22=$B$8,IF(LEN('２学期'!KP22)=0,\"\",'２学期'!KP22),\"\")),\"\")","v":""},{"$f":"IF(LEN(O1280)=0,\"\",IF(COUNTIF(O1280:$O$1921,O1280+1)>0,\"\",O1280+1))","v":""},{"$f":"IFERROR(SMALL($P$1:$P$1921,1279),\"\")","v":""}]
[null,null,null,null,null,null,null,null,null,null,null,null,null,null,{"$f":"IF(1281<=$B$10,IF(LEN('２学期'!KM25)=0,\"\",IF('２学期'!KM25=$B$8,IF(LEN('２学期'!KP25)=0,\"\",'２学期'!KP25),\"\")),\"\")","v":""},{"$f":"IF(LEN(O1281)=0,\"\",IF(COUNTIF(O1281:$O$1921,O1281+1)>0,\"\",O1281+1))","v":""},{"$f":"IFERROR(SMALL($P$1:$P$1921,1280),\"\")","v":""}]
[null,null,null,null,null,null,null,null,null,null,null,null,null,null,{"$f":"IF(1282<=$B$10,IF(LEN('２学期'!KQ6)=0,\"\",IF('２学期'!KQ6=$B$8,IF(LEN('２学期'!KT6)=0,\"\",'２学期'!KT6),\"\")),\"\")","v":""},{"$f":"IF(LEN(O1282)=0,\"\",IF(COUNTIF(O1282:$O$1921,O1282+1)>0,\"\",O1282+1))","v":""},{"$f":"IFERROR(SMALL($P$1:$P$1921,1281),\"\")","v":""}]
[null,null,null,null,null,null,null,null,null,null,null,null,null,null,{"$f":"IF(1283<=$B$10,IF(LEN('２学期'!KQ7)=0,\"\",IF('２学期'!KQ7=$B$8,IF(LEN('２学期'!KT7)=0,\"\",'２学期'!KT7),\"\")),\"\")","v":""},{"$f":"IF(LEN(O1283)=0,\"\",IF(COUNTIF(O1283:$O$1921,O1283+1)>0,\"\",O1283+1))","v":""},{"$f":"IFERROR(SMALL($P$1:$P$1921,1282),\"\")","v":""}]
[null,null,null,null,null,null,null,null,null,null,null,null,null,null,{"$f":"IF(1284<=$B$10,IF(LEN('２学期'!KQ10)=0,\"\",IF('２学期'!KQ10=$B$8,IF(LEN('２学期'!KT10)=0,\"\",'２学期'!KT10),\"\")),\"\")","v":""},{"$f":"IF(LEN(O1284)=0,\"\",IF(COUNTIF(O1284:$O$1921,O1284+1)>0,\"\",O1284+1))","v":""},{"$f":"IFERROR(SMALL($P$1:$P$1921,1283),\"\")","v":""}]
[null,null,null,null,null,null,null,null,null,null,null,null,null,null,{"$f":"IF(1285<=$B$10,IF(LEN('２学期'!KQ13)=0,\"\",IF('２学期'!KQ13=$B$8,IF(LEN('２学期'!KT13)=0,\"\",'２学期'!KT13),\"\")),\"\")","v":""},{"$f":"IF(LEN(O1285)=0,\"\",IF(COUNTIF(O1285:$O$1921,O1285+1)>0,\"\",O1285+1))","v":""},{"$f":"IFERROR(SMALL($P$1:$P$1921,1284),\"\")","v":""}]
[null,null,null,null,null,null,null,null,null,null,null,null,null,null,{"$f":"IF(1286<=$B$10,IF(LEN('２学期'!KQ16)=0,\"\",IF('２学期'!KQ16=$B$8,IF(LEN('２学期'!KT16)=0,\"\",'２学期'!KT16),\"\")),\"\")","v":""},{"$f":"IF(LEN(O1286)=0,\"\",IF(COUNTIF(O1286:$O$1921,O1286+1)>0,\"\",O1286+1))","v":""},{"$f":"IFERROR(SMALL($P$1:$P$1921,1285),\"\")","v":""}]
[null,null,null,null,null,null,null,null,null,null,null,null,null,null,{"$f":"IF(1287<=$B$10,IF(LEN('２学期'!KQ19)=0,\"\",IF('２学期'!KQ19=$B$8,IF(LEN('２学期'!KT19)=0,\"\",'２学期'!KT19),\"\")),\"\")","v":""},{"$f":"IF(LEN(O1287)=0,\"\",IF(COUNTIF(O1287:$O$1921,O1287+1)>0,\"\",O1287+1))","v":""},{"$f":"IFERROR(SMALL($P$1:$P$1921,1286),\"\")","v":""}]
[null,null,null,null,null,null,null,null,null,null,null,null,null,null,{"$f":"IF(1288<=$B$10,IF(LEN('２学期'!KQ22)=0,\"\",IF('２学期'!KQ22=$B$8,IF(LEN('２学期'!KT22)=0,\"\",'２学期'!KT22),\"\")),\"\")","v":""},{"$f":"IF(LEN(O1288)=0,\"\",IF(COUNTIF(O1288:$O$1921,O1288+1)>0,\"\",O1288+1))","v":""},{"$f":"IFERROR(SMALL($P$1:$P$1921,1287),\"\")","v":""}]
[null,null,null,null,null,null,null,null,null,null,null,null,null,null,{"$f":"IF(1289<=$B$10,IF(LEN('２学期'!KQ25)=0,\"\",IF('２学期'!KQ25=$B$8,IF(LEN('２学期'!KT25)=0,\"\",'２学期'!KT25),\"\")),\"\")","v":""},{"$f":"IF(LEN(O1289)=0,\"\",IF(COUNTIF(O1289:$O$1921,O1289+1)>0,\"\",O1289+1))","v":""},{"$f":"IFERROR(SMALL($P$1:$P$1921,1288),\"\")","v":""}]
[null,null,null,null,null,null,null,null,null,null,null,null,null,null,{"$f":"IF(1290<=$B$10,IF(LEN('２学期'!KU6)=0,\"\",IF('２学期'!KU6=$B$8,IF(LEN('２学期'!KX6)=0,\"\",'２学期'!KX6),\"\")),\"\")","v":""},{"$f":"IF(LEN(O1290)=0,\"\",IF(COUNTIF(O1290:$O$1921,O1290+1)>0,\"\",O1290+1))","v":""},{"$f":"IFERROR(SMALL($P$1:$P$1921,1289),\"\")","v":""}]
[null,null,null,null,null,null,null,null,null,null,null,null,null,null,{"$f":"IF(1291<=$B$10,IF(LEN('２学期'!KU7)=0,\"\",IF('２学期'!KU7=$B$8,IF(LEN('２学期'!KX7)=0,\"\",'２学期'!KX7),\"\")),\"\")","v":""},{"$f":"IF(LEN(O1291)=0,\"\",IF(COUNTIF(O1291:$O$1921,O1291+1)>0,\"\",O1291+1))","v":""},{"$f":"IFERROR(SMALL($P$1:$P$1921,1290),\"\")","v":""}]
[null,null,null,null,null,null,null,null,null,null,null,null,null,null,{"$f":"IF(1292<=$B$10,IF(LEN('２学期'!KU10)=0,\"\",IF('２学期'!KU10=$B$8,IF(LEN('２学期'!KX10)=0,\"\",'２学期'!KX10),\"\")),\"\")","v":""},{"$f":"IF(LEN(O1292)=0,\"\",IF(COUNTIF(O1292:$O$1921,O1292+1)>0,\"\",O1292+1))","v":""},{"$f":"IFERROR(SMALL($P$1:$P$1921,1291),\"\")","v":""}]
[null,null,null,null,null,null,null,null,null,null,null,null,null,null,{"$f":"IF(1293<=$B$10,IF(LEN('２学期'!KU13)=0,\"\",IF('２学期'!KU13=$B$8,IF(LEN('２学期'!KX13)=0,\"\",'２学期'!KX13),\"\")),\"\")","v":""},{"$f":"IF(LEN(O1293)=0,\"\",IF(COUNTIF(O1293:$O$1921,O1293+1)>0,\"\",O1293+1))","v":""},{"$f":"IFERROR(SMALL($P$1:$P$1921,1292),\"\")","v":""}]
[null,null,null,null,null,null,null,null,null,null,null,null,null,null,{"$f":"IF(1294<=$B$10,IF(LEN('２学期'!KU16)=0,\"\",IF('２学期'!KU16=$B$8,IF(LEN('２学期'!KX16)=0,\"\",'２学期'!KX16),\"\")),\"\")","v":""},{"$f":"IF(LEN(O1294)=0,\"\",IF(COUNTIF(O1294:$O$1921,O1294+1)>0,\"\",O1294+1))","v":""},{"$f":"IFERROR(SMALL($P$1:$P$1921,1293),\"\")","v":""}]
[null,null,null,null,null,null,null,null,null,null,null,null,null,null,{"$f":"IF(1295<=$B$10,IF(LEN('２学期'!KU19)=0,\"\",IF('２学期'!KU19=$B$8,IF(LEN('２学期'!KX19)=0,\"\",'２学期'!KX19),\"\")),\"\")","v":""},{"$f":"IF(LEN(O1295)=0,\"\",IF(COUNTIF(O1295:$O$1921,O1295+1)>0,\"\",O1295+1))","v":""},{"$f":"IFERROR(SMALL($P$1:$P$1921,1294),\"\")","v":""}]
[null,null,null,null,null,null,null,null,null,null,null,null,null,null,{"$f":"IF(1296<=$B$10,IF(LEN('２学期'!KU22)=0,\"\",IF('２学期'!KU22=$B$8,IF(LEN('２学期'!KX22)=0,\"\",'２学期'!KX22),\"\")),\"\")","v":""},{"$f":"IF(LEN(O1296)=0,\"\",IF(COUNTIF(O1296:$O$1921,O1296+1)>0,\"\",O1296+1))","v":""},{"$f":"IFERROR(SMALL($P$1:$P$1921,1295),\"\")","v":""}]
[null,null,null,null,null,null,null,null,null,null,null,null,null,null,{"$f":"IF(1297<=$B$10,IF(LEN('２学期'!KU25)=0,\"\",IF('２学期'!KU25=$B$8,IF(LEN('２学期'!KX25)=0,\"\",'２学期'!KX25),\"\")),\"\")","v":""},{"$f":"IF(LEN(O1297)=0,\"\",IF(COUNTIF(O1297:$O$1921,O1297+1)>0,\"\",O1297+1))","v":""},{"$f":"IFERROR(SMALL($P$1:$P$1921,1296),\"\")","v":""}]
[null,null,null,null,null,null,null,null,null,null,null,null,null,null,{"$f":"IF(1298<=$B$10,IF(LEN('２学期'!KY6)=0,\"\",IF('２学期'!KY6=$B$8,IF(LEN('２学期'!LB6)=0,\"\",'２学期'!LB6),\"\")),\"\")","v":""},{"$f":"IF(LEN(O1298)=0,\"\",IF(COUNTIF(O1298:$O$1921,O1298+1)>0,\"\",O1298+1))","v":""},{"$f":"IFERROR(SMALL($P$1:$P$1921,1297),\"\")","v":""}]
[null,null,null,null,null,null,null,null,null,null,null,null,null,null,{"$f":"IF(1299<=$B$10,IF(LEN('２学期'!KY7)=0,\"\",IF('２学期'!KY7=$B$8,IF(LEN('２学期'!LB7)=0,\"\",'２学期'!LB7),\"\")),\"\")","v":""},{"$f":"IF(LEN(O1299)=0,\"\",IF(COUNTIF(O1299:$O$1921,O1299+1)>0,\"\",O1299+1))","v":""},{"$f":"IFERROR(SMALL($P$1:$P$1921,1298),\"\")","v":""}]
[null,null,null,null,null,null,null,null,null,null,null,null,null,null,{"$f":"IF(1300<=$B$10,IF(LEN('２学期'!KY10)=0,\"\",IF('２学期'!KY10=$B$8,IF(LEN('２学期'!LB10)=0,\"\",'２学期'!LB10),\"\")),\"\")","v":""},{"$f":"IF(LEN(O1300)=0,\"\",IF(COUNTIF(O1300:$O$1921,O1300+1)>0,\"\",O1300+1))","v":""},{"$f":"IFERROR(SMALL($P$1:$P$1921,1299),\"\")","v":""}]
[null,null,null,null,null,null,null,null,null,null,null,null,null,null,{"$f":"IF(1301<=$B$10,IF(LEN('２学期'!KY13)=0,\"\",IF('２学期'!KY13=$B$8,IF(LEN('２学期'!LB13)=0,\"\",'２学期'!LB13),\"\")),\"\")","v":""},{"$f":"IF(LEN(O1301)=0,\"\",IF(COUNTIF(O1301:$O$1921,O1301+1)>0,\"\",O1301+1))","v":""},{"$f":"IFERROR(SMALL($P$1:$P$1921,1300),\"\")","v":""}]
[null,null,null,null,null,null,null,null,null,null,null,null,null,null,{"$f":"IF(1302<=$B$10,IF(LEN('２学期'!KY16)=0,\"\",IF('２学期'!KY16=$B$8,IF(LEN('２学期'!LB16)=0,\"\",'２学期'!LB16),\"\")),\"\")","v":""},{"$f":"IF(LEN(O1302)=0,\"\",IF(COUNTIF(O1302:$O$1921,O1302+1)>0,\"\",O1302+1))","v":""},{"$f":"IFERROR(SMALL($P$1:$P$1921,1301),\"\")","v":""}]
[null,null,null,null,null,null,null,null,null,null,null,null,null,null,{"$f":"IF(1303<=$B$10,IF(LEN('２学期'!KY19)=0,\"\",IF('２学期'!KY19=$B$8,IF(LEN('２学期'!LB19)=0,\"\",'２学期'!LB19),\"\")),\"\")","v":""},{"$f":"IF(LEN(O1303)=0,\"\",IF(COUNTIF(O1303:$O$1921,O1303+1)>0,\"\",O1303+1))","v":""},{"$f":"IFERROR(SMALL($P$1:$P$1921,1302),\"\")","v":""}]
[null,null,null,null,null,null,null,null,null,null,null,null,null,null,{"$f":"IF(1304<=$B$10,IF(LEN('２学期'!KY22)=0,\"\",IF('２学期'!KY22=$B$8,IF(LEN('２学期'!LB22)=0,\"\",'２学期'!LB22),\"\")),\"\")","v":""},{"$f":"IF(LEN(O1304)=0,\"\",IF(COUNTIF(O1304:$O$1921,O1304+1)>0,\"\",O1304+1))","v":""},{"$f":"IFERROR(SMALL($P$1:$P$1921,1303),\"\")","v":""}]
[null,null,null,null,null,null,null,null,null,null,null,null,null,null,{"$f":"IF(1305<=$B$10,IF(LEN('２学期'!KY25)=0,\"\",IF('２学期'!KY25=$B$8,IF(LEN('２学期'!LB25)=0,\"\",'２学期'!LB25),\"\")),\"\")","v":""},{"$f":"IF(LEN(O1305)=0,\"\",IF(COUNTIF(O1305:$O$1921,O1305+1)>0,\"\",O1305+1))","v":""},{"$f":"IFERROR(SMALL($P$1:$P$1921,1304),\"\")","v":""}]
[null,null,null,null,null,null,null,null,null,null,null,null,null,null,{"$f":"IF(1306<=$B$10,IF(LEN('２学期'!LC6)=0,\"\",IF('２学期'!LC6=$B$8,IF(LEN('２学期'!LF6)=0,\"\",'２学期'!LF6),\"\")),\"\")","v":""},{"$f":"IF(LEN(O1306)=0,\"\",IF(COUNTIF(O1306:$O$1921,O1306+1)>0,\"\",O1306+1))","v":""},{"$f":"IFERROR(SMALL($P$1:$P$1921,1305),\"\")","v":""}]
[null,null,null,null,null,null,null,null,null,null,null,null,null,null,{"$f":"IF(1307<=$B$10,IF(LEN('２学期'!LC7)=0,\"\",IF('２学期'!LC7=$B$8,IF(LEN('２学期'!LF7)=0,\"\",'２学期'!LF7),\"\")),\"\")","v":""},{"$f":"IF(LEN(O1307)=0,\"\",IF(COUNTIF(O1307:$O$1921,O1307+1)>0,\"\",O1307+1))","v":""},{"$f":"IFERROR(SMALL($P$1:$P$1921,1306),\"\")","v":""}]
[null,null,null,null,null,null,null,null,null,null,null,null,null,null,{"$f":"IF(1308<=$B$10,IF(LEN('２学期'!LC10)=0,\"\",IF('２学期'!LC10=$B$8,IF(LEN('２学期'!LF10)=0,\"\",'２学期'!LF10),\"\")),\"\")","v":""},{"$f":"IF(LEN(O1308)=0,\"\",IF(COUNTIF(O1308:$O$1921,O1308+1)>0,\"\",O1308+1))","v":""},{"$f":"IFERROR(SMALL($P$1:$P$1921,1307),\"\")","v":""}]
[null,null,null,null,null,null,null,null,null,null,null,null,null,null,{"$f":"IF(1309<=$B$10,IF(LEN('２学期'!LC13)=0,\"\",IF('２学期'!LC13=$B$8,IF(LEN('２学期'!LF13)=0,\"\",'２学期'!LF13),\"\")),\"\")","v":""},{"$f":"IF(LEN(O1309)=0,\"\",IF(COUNTIF(O1309:$O$1921,O1309+1)>0,\"\",O1309+1))","v":""},{"$f":"IFERROR(SMALL($P$1:$P$1921,1308),\"\")","v":""}]
[null,null,null,null,null,null,null,null,null,null,null,null,null,null,{"$f":"IF(1310<=$B$10,IF(LEN('２学期'!LC16)=0,\"\",IF('２学期'!LC16=$B$8,IF(LEN('２学期'!LF16)=0,\"\",'２学期'!LF16),\"\")),\"\")","v":""},{"$f":"IF(LEN(O1310)=0,\"\",IF(COUNTIF(O1310:$O$1921,O1310+1)>0,\"\",O1310+1))","v":""},{"$f":"IFERROR(SMALL($P$1:$P$1921,1309),\"\")","v":""}]
[null,null,null,null,null,null,null,null,null,null,null,null,null,null,{"$f":"IF(1311<=$B$10,IF(LEN('２学期'!LC19)=0,\"\",IF('２学期'!LC19=$B$8,IF(LEN('２学期'!LF19)=0,\"\",'２学期'!LF19),\"\")),\"\")","v":""},{"$f":"IF(LEN(O1311)=0,\"\",IF(COUNTIF(O1311:$O$1921,O1311+1)>0,\"\",O1311+1))","v":""},{"$f":"IFERROR(SMALL($P$1:$P$1921,1310),\"\")","v":""}]
[null,null,null,null,null,null,null,null,null,null,null,null,null,null,{"$f":"IF(1312<=$B$10,IF(LEN('２学期'!LC22)=0,\"\",IF('２学期'!LC22=$B$8,IF(LEN('２学期'!LF22)=0,\"\",'２学期'!LF22),\"\")),\"\")","v":""},{"$f":"IF(LEN(O1312)=0,\"\",IF(COUNTIF(O1312:$O$1921,O1312+1)>0,\"\",O1312+1))","v":""},{"$f":"IFERROR(SMALL($P$1:$P$1921,1311),\"\")","v":""}]
[null,null,null,null,null,null,null,null,null,null,null,null,null,null,{"$f":"IF(1313<=$B$10,IF(LEN('２学期'!LC25)=0,\"\",IF('２学期'!LC25=$B$8,IF(LEN('２学期'!LF25)=0,\"\",'２学期'!LF25),\"\")),\"\")","v":""},{"$f":"IF(LEN(O1313)=0,\"\",IF(COUNTIF(O1313:$O$1921,O1313+1)>0,\"\",O1313+1))","v":""},{"$f":"IFERROR(SMALL($P$1:$P$1921,1312),\"\")","v":""}]
[null,null,null,null,null,null,null,null,null,null,null,null,null,null,{"$f":"IF(1314<=$B$10,IF(LEN('２学期'!LG6)=0,\"\",IF('２学期'!LG6=$B$8,IF(LEN('２学期'!LJ6)=0,\"\",'２学期'!LJ6),\"\")),\"\")","v":""},{"$f":"IF(LEN(O1314)=0,\"\",IF(COUNTIF(O1314:$O$1921,O1314+1)>0,\"\",O1314+1))","v":""},{"$f":"IFERROR(SMALL($P$1:$P$1921,1313),\"\")","v":""}]
[null,null,null,null,null,null,null,null,null,null,null,null,null,null,{"$f":"IF(1315<=$B$10,IF(LEN('２学期'!LG7)=0,\"\",IF('２学期'!LG7=$B$8,IF(LEN('２学期'!LJ7)=0,\"\",'２学期'!LJ7),\"\")),\"\")","v":""},{"$f":"IF(LEN(O1315)=0,\"\",IF(COUNTIF(O1315:$O$1921,O1315+1)>0,\"\",O1315+1))","v":""},{"$f":"IFERROR(SMALL($P$1:$P$1921,1314),\"\")","v":""}]
[null,null,null,null,null,null,null,null,null,null,null,null,null,null,{"$f":"IF(1316<=$B$10,IF(LEN('２学期'!LG10)=0,\"\",IF('２学期'!LG10=$B$8,IF(LEN('２学期'!LJ10)=0,\"\",'２学期'!LJ10),\"\")),\"\")","v":""},{"$f":"IF(LEN(O1316)=0,\"\",IF(COUNTIF(O1316:$O$1921,O1316+1)>0,\"\",O1316+1))","v":""},{"$f":"IFERROR(SMALL($P$1:$P$1921,1315),\"\")","v":""}]
[null,null,null,null,null,null,null,null,null,null,null,null,null,null,{"$f":"IF(1317<=$B$10,IF(LEN('２学期'!LG13)=0,\"\",IF('２学期'!LG13=$B$8,IF(LEN('２学期'!LJ13)=0,\"\",'２学期'!LJ13),\"\")),\"\")","v":""},{"$f":"IF(LEN(O1317)=0,\"\",IF(COUNTIF(O1317:$O$1921,O1317+1)>0,\"\",O1317+1))","v":""},{"$f":"IFERROR(SMALL($P$1:$P$1921,1316),\"\")","v":""}]
[null,null,null,null,null,null,null,null,null,null,null,null,null,null,{"$f":"IF(1318<=$B$10,IF(LEN('２学期'!LG16)=0,\"\",IF('２学期'!LG16=$B$8,IF(LEN('２学期'!LJ16)=0,\"\",'２学期'!LJ16),\"\")),\"\")","v":""},{"$f":"IF(LEN(O1318)=0,\"\",IF(COUNTIF(O1318:$O$1921,O1318+1)>0,\"\",O1318+1))","v":""},{"$f":"IFERROR(SMALL($P$1:$P$1921,1317),\"\")","v":""}]
[null,null,null,null,null,null,null,null,null,null,null,null,null,null,{"$f":"IF(1319<=$B$10,IF(LEN('２学期'!LG19)=0,\"\",IF('２学期'!LG19=$B$8,IF(LEN('２学期'!LJ19)=0,\"\",'２学期'!LJ19),\"\")),\"\")","v":""},{"$f":"IF(LEN(O1319)=0,\"\",IF(COUNTIF(O1319:$O$1921,O1319+1)>0,\"\",O1319+1))","v":""},{"$f":"IFERROR(SMALL($P$1:$P$1921,1318),\"\")","v":""}]
[null,null,null,null,null,null,null,null,null,null,null,null,null,null,{"$f":"IF(1320<=$B$10,IF(LEN('２学期'!LG22)=0,\"\",IF('２学期'!LG22=$B$8,IF(LEN('２学期'!LJ22)=0,\"\",'２学期'!LJ22),\"\")),\"\")","v":""},{"$f":"IF(LEN(O1320)=0,\"\",IF(COUNTIF(O1320:$O$1921,O1320+1)>0,\"\",O1320+1))","v":""},{"$f":"IFERROR(SMALL($P$1:$P$1921,1319),\"\")","v":""}]
[null,null,null,null,null,null,null,null,null,null,null,null,null,null,{"$f":"IF(1321<=$B$10,IF(LEN('２学期'!LG25)=0,\"\",IF('２学期'!LG25=$B$8,IF(LEN('２学期'!LJ25)=0,\"\",'２学期'!LJ25),\"\")),\"\")","v":""},{"$f":"IF(LEN(O1321)=0,\"\",IF(COUNTIF(O1321:$O$1921,O1321+1)>0,\"\",O1321+1))","v":""},{"$f":"IFERROR(SMALL($P$1:$P$1921,1320),\"\")","v":""}]
[null,null,null,null,null,null,null,null,null,null,null,null,null,null,{"$f":"IF(1322<=$B$10,IF(LEN('２学期'!LK6)=0,\"\",IF('２学期'!LK6=$B$8,IF(LEN('２学期'!LN6)=0,\"\",'２学期'!LN6),\"\")),\"\")","v":""},{"$f":"IF(LEN(O1322)=0,\"\",IF(COUNTIF(O1322:$O$1921,O1322+1)>0,\"\",O1322+1))","v":""},{"$f":"IFERROR(SMALL($P$1:$P$1921,1321),\"\")","v":""}]
[null,null,null,null,null,null,null,null,null,null,null,null,null,null,{"$f":"IF(1323<=$B$10,IF(LEN('２学期'!LK7)=0,\"\",IF('２学期'!LK7=$B$8,IF(LEN('２学期'!LN7)=0,\"\",'２学期'!LN7),\"\")),\"\")","v":""},{"$f":"IF(LEN(O1323)=0,\"\",IF(COUNTIF(O1323:$O$1921,O1323+1)>0,\"\",O1323+1))","v":""},{"$f":"IFERROR(SMALL($P$1:$P$1921,1322),\"\")","v":""}]
[null,null,null,null,null,null,null,null,null,null,null,null,null,null,{"$f":"IF(1324<=$B$10,IF(LEN('２学期'!LK10)=0,\"\",IF('２学期'!LK10=$B$8,IF(LEN('２学期'!LN10)=0,\"\",'２学期'!LN10),\"\")),\"\")","v":""},{"$f":"IF(LEN(O1324)=0,\"\",IF(COUNTIF(O1324:$O$1921,O1324+1)>0,\"\",O1324+1))","v":""},{"$f":"IFERROR(SMALL($P$1:$P$1921,1323),\"\")","v":""}]
[null,null,null,null,null,null,null,null,null,null,null,null,null,null,{"$f":"IF(1325<=$B$10,IF(LEN('２学期'!LK13)=0,\"\",IF('２学期'!LK13=$B$8,IF(LEN('２学期'!LN13)=0,\"\",'２学期'!LN13),\"\")),\"\")","v":""},{"$f":"IF(LEN(O1325)=0,\"\",IF(COUNTIF(O1325:$O$1921,O1325+1)>0,\"\",O1325+1))","v":""},{"$f":"IFERROR(SMALL($P$1:$P$1921,1324),\"\")","v":""}]
[null,null,null,null,null,null,null,null,null,null,null,null,null,null,{"$f":"IF(1326<=$B$10,IF(LEN('２学期'!LK16)=0,\"\",IF('２学期'!LK16=$B$8,IF(LEN('２学期'!LN16)=0,\"\",'２学期'!LN16),\"\")),\"\")","v":""},{"$f":"IF(LEN(O1326)=0,\"\",IF(COUNTIF(O1326:$O$1921,O1326+1)>0,\"\",O1326+1))","v":""},{"$f":"IFERROR(SMALL($P$1:$P$1921,1325),\"\")","v":""}]
[null,null,null,null,null,null,null,null,null,null,null,null,null,null,{"$f":"IF(1327<=$B$10,IF(LEN('２学期'!LK19)=0,\"\",IF('２学期'!LK19=$B$8,IF(LEN('２学期'!LN19)=0,\"\",'２学期'!LN19),\"\")),\"\")","v":""},{"$f":"IF(LEN(O1327)=0,\"\",IF(COUNTIF(O1327:$O$1921,O1327+1)>0,\"\",O1327+1))","v":""},{"$f":"IFERROR(SMALL($P$1:$P$1921,1326),\"\")","v":""}]
[null,null,null,null,null,null,null,null,null,null,null,null,null,null,{"$f":"IF(1328<=$B$10,IF(LEN('２学期'!LK22)=0,\"\",IF('２学期'!LK22=$B$8,IF(LEN('２学期'!LN22)=0,\"\",'２学期'!LN22),\"\")),\"\")","v":""},{"$f":"IF(LEN(O1328)=0,\"\",IF(COUNTIF(O1328:$O$1921,O1328+1)>0,\"\",O1328+1))","v":""},{"$f":"IFERROR(SMALL($P$1:$P$1921,1327),\"\")","v":""}]
[null,null,null,null,null,null,null,null,null,null,null,null,null,null,{"$f":"IF(1329<=$B$10,IF(LEN('２学期'!LK25)=0,\"\",IF('２学期'!LK25=$B$8,IF(LEN('２学期'!LN25)=0,\"\",'２学期'!LN25),\"\")),\"\")","v":""},{"$f":"IF(LEN(O1329)=0,\"\",IF(COUNTIF(O1329:$O$1921,O1329+1)>0,\"\",O1329+1))","v":""},{"$f":"IFERROR(SMALL($P$1:$P$1921,1328),\"\")","v":""}]
[null,null,null,null,null,null,null,null,null,null,null,null,null,null,{"$f":"IF(1330<=$B$10,IF(LEN('２学期'!LO6)=0,\"\",IF('２学期'!LO6=$B$8,IF(LEN('２学期'!LR6)=0,\"\",'２学期'!LR6),\"\")),\"\")","v":""},{"$f":"IF(LEN(O1330)=0,\"\",IF(COUNTIF(O1330:$O$1921,O1330+1)>0,\"\",O1330+1))","v":""},{"$f":"IFERROR(SMALL($P$1:$P$1921,1329),\"\")","v":""}]
[null,null,null,null,null,null,null,null,null,null,null,null,null,null,{"$f":"IF(1331<=$B$10,IF(LEN('２学期'!LO7)=0,\"\",IF('２学期'!LO7=$B$8,IF(LEN('２学期'!LR7)=0,\"\",'２学期'!LR7),\"\")),\"\")","v":""},{"$f":"IF(LEN(O1331)=0,\"\",IF(COUNTIF(O1331:$O$1921,O1331+1)>0,\"\",O1331+1))","v":""},{"$f":"IFERROR(SMALL($P$1:$P$1921,1330),\"\")","v":""}]
[null,null,null,null,null,null,null,null,null,null,null,null,null,null,{"$f":"IF(1332<=$B$10,IF(LEN('２学期'!LO10)=0,\"\",IF('２学期'!LO10=$B$8,IF(LEN('２学期'!LR10)=0,\"\",'２学期'!LR10),\"\")),\"\")","v":""},{"$f":"IF(LEN(O1332)=0,\"\",IF(COUNTIF(O1332:$O$1921,O1332+1)>0,\"\",O1332+1))","v":""},{"$f":"IFERROR(SMALL($P$1:$P$1921,1331),\"\")","v":""}]
[null,null,null,null,null,null,null,null,null,null,null,null,null,null,{"$f":"IF(1333<=$B$10,IF(LEN('２学期'!LO13)=0,\"\",IF('２学期'!LO13=$B$8,IF(LEN('２学期'!LR13)=0,\"\",'２学期'!LR13),\"\")),\"\")","v":""},{"$f":"IF(LEN(O1333)=0,\"\",IF(COUNTIF(O1333:$O$1921,O1333+1)>0,\"\",O1333+1))","v":""},{"$f":"IFERROR(SMALL($P$1:$P$1921,1332),\"\")","v":""}]
[null,null,null,null,null,null,null,null,null,null,null,null,null,null,{"$f":"IF(1334<=$B$10,IF(LEN('２学期'!LO16)=0,\"\",IF('２学期'!LO16=$B$8,IF(LEN('２学期'!LR16)=0,\"\",'２学期'!LR16),\"\")),\"\")","v":""},{"$f":"IF(LEN(O1334)=0,\"\",IF(COUNTIF(O1334:$O$1921,O1334+1)>0,\"\",O1334+1))","v":""},{"$f":"IFERROR(SMALL($P$1:$P$1921,1333),\"\")","v":""}]
[null,null,null,null,null,null,null,null,null,null,null,null,null,null,{"$f":"IF(1335<=$B$10,IF(LEN('２学期'!LO19)=0,\"\",IF('２学期'!LO19=$B$8,IF(LEN('２学期'!LR19)=0,\"\",'２学期'!LR19),\"\")),\"\")","v":""},{"$f":"IF(LEN(O1335)=0,\"\",IF(COUNTIF(O1335:$O$1921,O1335+1)>0,\"\",O1335+1))","v":""},{"$f":"IFERROR(SMALL($P$1:$P$1921,1334),\"\")","v":""}]
[null,null,null,null,null,null,null,null,null,null,null,null,null,null,{"$f":"IF(1336<=$B$10,IF(LEN('２学期'!LO22)=0,\"\",IF('２学期'!LO22=$B$8,IF(LEN('２学期'!LR22)=0,\"\",'２学期'!LR22),\"\")),\"\")","v":""},{"$f":"IF(LEN(O1336)=0,\"\",IF(COUNTIF(O1336:$O$1921,O1336+1)>0,\"\",O1336+1))","v":""},{"$f":"IFERROR(SMALL($P$1:$P$1921,1335),\"\")","v":""}]
[null,null,null,null,null,null,null,null,null,null,null,null,null,null,{"$f":"IF(1337<=$B$10,IF(LEN('２学期'!LO25)=0,\"\",IF('２学期'!LO25=$B$8,IF(LEN('２学期'!LR25)=0,\"\",'２学期'!LR25),\"\")),\"\")","v":""},{"$f":"IF(LEN(O1337)=0,\"\",IF(COUNTIF(O1337:$O$1921,O1337+1)>0,\"\",O1337+1))","v":""},{"$f":"IFERROR(SMALL($P$1:$P$1921,1336),\"\")","v":""}]
[null,null,null,null,null,null,null,null,null,null,null,null,null,null,{"$f":"IF(1338<=$B$10,IF(LEN('２学期'!LS6)=0,\"\",IF('２学期'!LS6=$B$8,IF(LEN('２学期'!LV6)=0,\"\",'２学期'!LV6),\"\")),\"\")","v":""},{"$f":"IF(LEN(O1338)=0,\"\",IF(COUNTIF(O1338:$O$1921,O1338+1)>0,\"\",O1338+1))","v":""},{"$f":"IFERROR(SMALL($P$1:$P$1921,1337),\"\")","v":""}]
[null,null,null,null,null,null,null,null,null,null,null,null,null,null,{"$f":"IF(1339<=$B$10,IF(LEN('２学期'!LS7)=0,\"\",IF('２学期'!LS7=$B$8,IF(LEN('２学期'!LV7)=0,\"\",'２学期'!LV7),\"\")),\"\")","v":""},{"$f":"IF(LEN(O1339)=0,\"\",IF(COUNTIF(O1339:$O$1921,O1339+1)>0,\"\",O1339+1))","v":""},{"$f":"IFERROR(SMALL($P$1:$P$1921,1338),\"\")","v":""}]
[null,null,null,null,null,null,null,null,null,null,null,null,null,null,{"$f":"IF(1340<=$B$10,IF(LEN('２学期'!LS10)=0,\"\",IF('２学期'!LS10=$B$8,IF(LEN('２学期'!LV10)=0,\"\",'２学期'!LV10),\"\")),\"\")","v":""},{"$f":"IF(LEN(O1340)=0,\"\",IF(COUNTIF(O1340:$O$1921,O1340+1)>0,\"\",O1340+1))","v":""},{"$f":"IFERROR(SMALL($P$1:$P$1921,1339),\"\")","v":""}]
[null,null,null,null,null,null,null,null,null,null,null,null,null,null,{"$f":"IF(1341<=$B$10,IF(LEN('２学期'!LS13)=0,\"\",IF('２学期'!LS13=$B$8,IF(LEN('２学期'!LV13)=0,\"\",'２学期'!LV13),\"\")),\"\")","v":""},{"$f":"IF(LEN(O1341)=0,\"\",IF(COUNTIF(O1341:$O$1921,O1341+1)>0,\"\",O1341+1))","v":""},{"$f":"IFERROR(SMALL($P$1:$P$1921,1340),\"\")","v":""}]
[null,null,null,null,null,null,null,null,null,null,null,null,null,null,{"$f":"IF(1342<=$B$10,IF(LEN('２学期'!LS16)=0,\"\",IF('２学期'!LS16=$B$8,IF(LEN('２学期'!LV16)=0,\"\",'２学期'!LV16),\"\")),\"\")","v":""},{"$f":"IF(LEN(O1342)=0,\"\",IF(COUNTIF(O1342:$O$1921,O1342+1)>0,\"\",O1342+1))","v":""},{"$f":"IFERROR(SMALL($P$1:$P$1921,1341),\"\")","v":""}]
[null,null,null,null,null,null,null,null,null,null,null,null,null,null,{"$f":"IF(1343<=$B$10,IF(LEN('２学期'!LS19)=0,\"\",IF('２学期'!LS19=$B$8,IF(LEN('２学期'!LV19)=0,\"\",'２学期'!LV19),\"\")),\"\")","v":""},{"$f":"IF(LEN(O1343)=0,\"\",IF(COUNTIF(O1343:$O$1921,O1343+1)>0,\"\",O1343+1))","v":""},{"$f":"IFERROR(SMALL($P$1:$P$1921,1342),\"\")","v":""}]
[null,null,null,null,null,null,null,null,null,null,null,null,null,null,{"$f":"IF(1344<=$B$10,IF(LEN('２学期'!LS22)=0,\"\",IF('２学期'!LS22=$B$8,IF(LEN('２学期'!LV22)=0,\"\",'２学期'!LV22),\"\")),\"\")","v":""},{"$f":"IF(LEN(O1344)=0,\"\",IF(COUNTIF(O1344:$O$1921,O1344+1)>0,\"\",O1344+1))","v":""},{"$f":"IFERROR(SMALL($P$1:$P$1921,1343),\"\")","v":""}]
[null,null,null,null,null,null,null,null,null,null,null,null,null,null,{"$f":"IF(1345<=$B$10,IF(LEN('２学期'!LS25)=0,\"\",IF('２学期'!LS25=$B$8,IF(LEN('２学期'!LV25)=0,\"\",'２学期'!LV25),\"\")),\"\")","v":""},{"$f":"IF(LEN(O1345)=0,\"\",IF(COUNTIF(O1345:$O$1921,O1345+1)>0,\"\",O1345+1))","v":""},{"$f":"IFERROR(SMALL($P$1:$P$1921,1344),\"\")","v":""}]
[null,null,null,null,null,null,null,null,null,null,null,null,null,null,{"$f":"IF(1346<=$B$10,IF(LEN('２学期'!LW6)=0,\"\",IF('２学期'!LW6=$B$8,IF(LEN('２学期'!LZ6)=0,\"\",'２学期'!LZ6),\"\")),\"\")","v":""},{"$f":"IF(LEN(O1346)=0,\"\",IF(COUNTIF(O1346:$O$1921,O1346+1)>0,\"\",O1346+1))","v":""},{"$f":"IFERROR(SMALL($P$1:$P$1921,1345),\"\")","v":""}]
[null,null,null,null,null,null,null,null,null,null,null,null,null,null,{"$f":"IF(1347<=$B$10,IF(LEN('２学期'!LW7)=0,\"\",IF('２学期'!LW7=$B$8,IF(LEN('２学期'!LZ7)=0,\"\",'２学期'!LZ7),\"\")),\"\")","v":""},{"$f":"IF(LEN(O1347)=0,\"\",IF(COUNTIF(O1347:$O$1921,O1347+1)>0,\"\",O1347+1))","v":""},{"$f":"IFERROR(SMALL($P$1:$P$1921,1346),\"\")","v":""}]
[null,null,null,null,null,null,null,null,null,null,null,null,null,null,{"$f":"IF(1348<=$B$10,IF(LEN('２学期'!LW10)=0,\"\",IF('２学期'!LW10=$B$8,IF(LEN('２学期'!LZ10)=0,\"\",'２学期'!LZ10),\"\")),\"\")","v":""},{"$f":"IF(LEN(O1348)=0,\"\",IF(COUNTIF(O1348:$O$1921,O1348+1)>0,\"\",O1348+1))","v":""},{"$f":"IFERROR(SMALL($P$1:$P$1921,1347),\"\")","v":""}]
[null,null,null,null,null,null,null,null,null,null,null,null,null,null,{"$f":"IF(1349<=$B$10,IF(LEN('２学期'!LW13)=0,\"\",IF('２学期'!LW13=$B$8,IF(LEN('２学期'!LZ13)=0,\"\",'２学期'!LZ13),\"\")),\"\")","v":""},{"$f":"IF(LEN(O1349)=0,\"\",IF(COUNTIF(O1349:$O$1921,O1349+1)>0,\"\",O1349+1))","v":""},{"$f":"IFERROR(SMALL($P$1:$P$1921,1348),\"\")","v":""}]
[null,null,null,null,null,null,null,null,null,null,null,null,null,null,{"$f":"IF(1350<=$B$10,IF(LEN('２学期'!LW16)=0,\"\",IF('２学期'!LW16=$B$8,IF(LEN('２学期'!LZ16)=0,\"\",'２学期'!LZ16),\"\")),\"\")","v":""},{"$f":"IF(LEN(O1350)=0,\"\",IF(COUNTIF(O1350:$O$1921,O1350+1)>0,\"\",O1350+1))","v":""},{"$f":"IFERROR(SMALL($P$1:$P$1921,1349),\"\")","v":""}]
[null,null,null,null,null,null,null,null,null,null,null,null,null,null,{"$f":"IF(1351<=$B$10,IF(LEN('２学期'!LW19)=0,\"\",IF('２学期'!LW19=$B$8,IF(LEN('２学期'!LZ19)=0,\"\",'２学期'!LZ19),\"\")),\"\")","v":""},{"$f":"IF(LEN(O1351)=0,\"\",IF(COUNTIF(O1351:$O$1921,O1351+1)>0,\"\",O1351+1))","v":""},{"$f":"IFERROR(SMALL($P$1:$P$1921,1350),\"\")","v":""}]
[null,null,null,null,null,null,null,null,null,null,null,null,null,null,{"$f":"IF(1352<=$B$10,IF(LEN('２学期'!LW22)=0,\"\",IF('２学期'!LW22=$B$8,IF(LEN('２学期'!LZ22)=0,\"\",'２学期'!LZ22),\"\")),\"\")","v":""},{"$f":"IF(LEN(O1352)=0,\"\",IF(COUNTIF(O1352:$O$1921,O1352+1)>0,\"\",O1352+1))","v":""},{"$f":"IFERROR(SMALL($P$1:$P$1921,1351),\"\")","v":""}]
[null,null,null,null,null,null,null,null,null,null,null,null,null,null,{"$f":"IF(1353<=$B$10,IF(LEN('２学期'!LW25)=0,\"\",IF('２学期'!LW25=$B$8,IF(LEN('２学期'!LZ25)=0,\"\",'２学期'!LZ25),\"\")),\"\")","v":""},{"$f":"IF(LEN(O1353)=0,\"\",IF(COUNTIF(O1353:$O$1921,O1353+1)>0,\"\",O1353+1))","v":""},{"$f":"IFERROR(SMALL($P$1:$P$1921,1352),\"\")","v":""}]
[null,null,null,null,null,null,null,null,null,null,null,null,null,null,{"$f":"IF(1354<=$B$10,IF(LEN('２学期'!MA6)=0,\"\",IF('２学期'!MA6=$B$8,IF(LEN('２学期'!MD6)=0,\"\",'２学期'!MD6),\"\")),\"\")","v":""},{"$f":"IF(LEN(O1354)=0,\"\",IF(COUNTIF(O1354:$O$1921,O1354+1)>0,\"\",O1354+1))","v":""},{"$f":"IFERROR(SMALL($P$1:$P$1921,1353),\"\")","v":""}]
[null,null,null,null,null,null,null,null,null,null,null,null,null,null,{"$f":"IF(1355<=$B$10,IF(LEN('２学期'!MA7)=0,\"\",IF('２学期'!MA7=$B$8,IF(LEN('２学期'!MD7)=0,\"\",'２学期'!MD7),\"\")),\"\")","v":""},{"$f":"IF(LEN(O1355)=0,\"\",IF(COUNTIF(O1355:$O$1921,O1355+1)>0,\"\",O1355+1))","v":""},{"$f":"IFERROR(SMALL($P$1:$P$1921,1354),\"\")","v":""}]
[null,null,null,null,null,null,null,null,null,null,null,null,null,null,{"$f":"IF(1356<=$B$10,IF(LEN('２学期'!MA10)=0,\"\",IF('２学期'!MA10=$B$8,IF(LEN('２学期'!MD10)=0,\"\",'２学期'!MD10),\"\")),\"\")","v":""},{"$f":"IF(LEN(O1356)=0,\"\",IF(COUNTIF(O1356:$O$1921,O1356+1)>0,\"\",O1356+1))","v":""},{"$f":"IFERROR(SMALL($P$1:$P$1921,1355),\"\")","v":""}]
[null,null,null,null,null,null,null,null,null,null,null,null,null,null,{"$f":"IF(1357<=$B$10,IF(LEN('２学期'!MA13)=0,\"\",IF('２学期'!MA13=$B$8,IF(LEN('２学期'!MD13)=0,\"\",'２学期'!MD13),\"\")),\"\")","v":""},{"$f":"IF(LEN(O1357)=0,\"\",IF(COUNTIF(O1357:$O$1921,O1357+1)>0,\"\",O1357+1))","v":""},{"$f":"IFERROR(SMALL($P$1:$P$1921,1356),\"\")","v":""}]
[null,null,null,null,null,null,null,null,null,null,null,null,null,null,{"$f":"IF(1358<=$B$10,IF(LEN('２学期'!MA16)=0,\"\",IF('２学期'!MA16=$B$8,IF(LEN('２学期'!MD16)=0,\"\",'２学期'!MD16),\"\")),\"\")","v":""},{"$f":"IF(LEN(O1358)=0,\"\",IF(COUNTIF(O1358:$O$1921,O1358+1)>0,\"\",O1358+1))","v":""},{"$f":"IFERROR(SMALL($P$1:$P$1921,1357),\"\")","v":""}]
[null,null,null,null,null,null,null,null,null,null,null,null,null,null,{"$f":"IF(1359<=$B$10,IF(LEN('２学期'!MA19)=0,\"\",IF('２学期'!MA19=$B$8,IF(LEN('２学期'!MD19)=0,\"\",'２学期'!MD19),\"\")),\"\")","v":""},{"$f":"IF(LEN(O1359)=0,\"\",IF(COUNTIF(O1359:$O$1921,O1359+1)>0,\"\",O1359+1))","v":""},{"$f":"IFERROR(SMALL($P$1:$P$1921,1358),\"\")","v":""}]
[null,null,null,null,null,null,null,null,null,null,null,null,null,null,{"$f":"IF(1360<=$B$10,IF(LEN('２学期'!MA22)=0,\"\",IF('２学期'!MA22=$B$8,IF(LEN('２学期'!MD22)=0,\"\",'２学期'!MD22),\"\")),\"\")","v":""},{"$f":"IF(LEN(O1360)=0,\"\",IF(COUNTIF(O1360:$O$1921,O1360+1)>0,\"\",O1360+1))","v":""},{"$f":"IFERROR(SMALL($P$1:$P$1921,1359),\"\")","v":""}]
[null,null,null,null,null,null,null,null,null,null,null,null,null,null,{"$f":"IF(1361<=$B$10,IF(LEN('２学期'!MA25)=0,\"\",IF('２学期'!MA25=$B$8,IF(LEN('２学期'!MD25)=0,\"\",'２学期'!MD25),\"\")),\"\")","v":""},{"$f":"IF(LEN(O1361)=0,\"\",IF(COUNTIF(O1361:$O$1921,O1361+1)>0,\"\",O1361+1))","v":""},{"$f":"IFERROR(SMALL($P$1:$P$1921,1360),\"\")","v":""}]
[null,null,null,null,null,null,null,null,null,null,null,null,null,null,{"$f":"IF(1362<=$B$10,IF(LEN('２学期'!ME6)=0,\"\",IF('２学期'!ME6=$B$8,IF(LEN('２学期'!MH6)=0,\"\",'２学期'!MH6),\"\")),\"\")","v":""},{"$f":"IF(LEN(O1362)=0,\"\",IF(COUNTIF(O1362:$O$1921,O1362+1)>0,\"\",O1362+1))","v":""},{"$f":"IFERROR(SMALL($P$1:$P$1921,1361),\"\")","v":""}]
[null,null,null,null,null,null,null,null,null,null,null,null,null,null,{"$f":"IF(1363<=$B$10,IF(LEN('２学期'!ME7)=0,\"\",IF('２学期'!ME7=$B$8,IF(LEN('２学期'!MH7)=0,\"\",'２学期'!MH7),\"\")),\"\")","v":""},{"$f":"IF(LEN(O1363)=0,\"\",IF(COUNTIF(O1363:$O$1921,O1363+1)>0,\"\",O1363+1))","v":""},{"$f":"IFERROR(SMALL($P$1:$P$1921,1362),\"\")","v":""}]
[null,null,null,null,null,null,null,null,null,null,null,null,null,null,{"$f":"IF(1364<=$B$10,IF(LEN('２学期'!ME10)=0,\"\",IF('２学期'!ME10=$B$8,IF(LEN('２学期'!MH10)=0,\"\",'２学期'!MH10),\"\")),\"\")","v":""},{"$f":"IF(LEN(O1364)=0,\"\",IF(COUNTIF(O1364:$O$1921,O1364+1)>0,\"\",O1364+1))","v":""},{"$f":"IFERROR(SMALL($P$1:$P$1921,1363),\"\")","v":""}]
[null,null,null,null,null,null,null,null,null,null,null,null,null,null,{"$f":"IF(1365<=$B$10,IF(LEN('２学期'!ME13)=0,\"\",IF('２学期'!ME13=$B$8,IF(LEN('２学期'!MH13)=0,\"\",'２学期'!MH13),\"\")),\"\")","v":""},{"$f":"IF(LEN(O1365)=0,\"\",IF(COUNTIF(O1365:$O$1921,O1365+1)>0,\"\",O1365+1))","v":""},{"$f":"IFERROR(SMALL($P$1:$P$1921,1364),\"\")","v":""}]
[null,null,null,null,null,null,null,null,null,null,null,null,null,null,{"$f":"IF(1366<=$B$10,IF(LEN('２学期'!ME16)=0,\"\",IF('２学期'!ME16=$B$8,IF(LEN('２学期'!MH16)=0,\"\",'２学期'!MH16),\"\")),\"\")","v":""},{"$f":"IF(LEN(O1366)=0,\"\",IF(COUNTIF(O1366:$O$1921,O1366+1)>0,\"\",O1366+1))","v":""},{"$f":"IFERROR(SMALL($P$1:$P$1921,1365),\"\")","v":""}]
[null,null,null,null,null,null,null,null,null,null,null,null,null,null,{"$f":"IF(1367<=$B$10,IF(LEN('２学期'!ME19)=0,\"\",IF('２学期'!ME19=$B$8,IF(LEN('２学期'!MH19)=0,\"\",'２学期'!MH19),\"\")),\"\")","v":""},{"$f":"IF(LEN(O1367)=0,\"\",IF(COUNTIF(O1367:$O$1921,O1367+1)>0,\"\",O1367+1))","v":""},{"$f":"IFERROR(SMALL($P$1:$P$1921,1366),\"\")","v":""}]
[null,null,null,null,null,null,null,null,null,null,null,null,null,null,{"$f":"IF(1368<=$B$10,IF(LEN('２学期'!ME22)=0,\"\",IF('２学期'!ME22=$B$8,IF(LEN('２学期'!MH22)=0,\"\",'２学期'!MH22),\"\")),\"\")","v":""},{"$f":"IF(LEN(O1368)=0,\"\",IF(COUNTIF(O1368:$O$1921,O1368+1)>0,\"\",O1368+1))","v":""},{"$f":"IFERROR(SMALL($P$1:$P$1921,1367),\"\")","v":""}]
[null,null,null,null,null,null,null,null,null,null,null,null,null,null,{"$f":"IF(1369<=$B$10,IF(LEN('２学期'!ME25)=0,\"\",IF('２学期'!ME25=$B$8,IF(LEN('２学期'!MH25)=0,\"\",'２学期'!MH25),\"\")),\"\")","v":""},{"$f":"IF(LEN(O1369)=0,\"\",IF(COUNTIF(O1369:$O$1921,O1369+1)>0,\"\",O1369+1))","v":""},{"$f":"IFERROR(SMALL($P$1:$P$1921,1368),\"\")","v":""}]
[null,null,null,null,null,null,null,null,null,null,null,null,null,null,{"$f":"IF(1370<=$B$10,IF(LEN('２学期'!MI6)=0,\"\",IF('２学期'!MI6=$B$8,IF(LEN('２学期'!ML6)=0,\"\",'２学期'!ML6),\"\")),\"\")","v":""},{"$f":"IF(LEN(O1370)=0,\"\",IF(COUNTIF(O1370:$O$1921,O1370+1)>0,\"\",O1370+1))","v":""},{"$f":"IFERROR(SMALL($P$1:$P$1921,1369),\"\")","v":""}]
[null,null,null,null,null,null,null,null,null,null,null,null,null,null,{"$f":"IF(1371<=$B$10,IF(LEN('２学期'!MI7)=0,\"\",IF('２学期'!MI7=$B$8,IF(LEN('２学期'!ML7)=0,\"\",'２学期'!ML7),\"\")),\"\")","v":""},{"$f":"IF(LEN(O1371)=0,\"\",IF(COUNTIF(O1371:$O$1921,O1371+1)>0,\"\",O1371+1))","v":""},{"$f":"IFERROR(SMALL($P$1:$P$1921,1370),\"\")","v":""}]
[null,null,null,null,null,null,null,null,null,null,null,null,null,null,{"$f":"IF(1372<=$B$10,IF(LEN('２学期'!MI10)=0,\"\",IF('２学期'!MI10=$B$8,IF(LEN('２学期'!ML10)=0,\"\",'２学期'!ML10),\"\")),\"\")","v":""},{"$f":"IF(LEN(O1372)=0,\"\",IF(COUNTIF(O1372:$O$1921,O1372+1)>0,\"\",O1372+1))","v":""},{"$f":"IFERROR(SMALL($P$1:$P$1921,1371),\"\")","v":""}]
[null,null,null,null,null,null,null,null,null,null,null,null,null,null,{"$f":"IF(1373<=$B$10,IF(LEN('２学期'!MI13)=0,\"\",IF('２学期'!MI13=$B$8,IF(LEN('２学期'!ML13)=0,\"\",'２学期'!ML13),\"\")),\"\")","v":""},{"$f":"IF(LEN(O1373)=0,\"\",IF(COUNTIF(O1373:$O$1921,O1373+1)>0,\"\",O1373+1))","v":""},{"$f":"IFERROR(SMALL($P$1:$P$1921,1372),\"\")","v":""}]
[null,null,null,null,null,null,null,null,null,null,null,null,null,null,{"$f":"IF(1374<=$B$10,IF(LEN('２学期'!MI16)=0,\"\",IF('２学期'!MI16=$B$8,IF(LEN('２学期'!ML16)=0,\"\",'２学期'!ML16),\"\")),\"\")","v":""},{"$f":"IF(LEN(O1374)=0,\"\",IF(COUNTIF(O1374:$O$1921,O1374+1)>0,\"\",O1374+1))","v":""},{"$f":"IFERROR(SMALL($P$1:$P$1921,1373),\"\")","v":""}]
[null,null,null,null,null,null,null,null,null,null,null,null,null,null,{"$f":"IF(1375<=$B$10,IF(LEN('２学期'!MI19)=0,\"\",IF('２学期'!MI19=$B$8,IF(LEN('２学期'!ML19)=0,\"\",'２学期'!ML19),\"\")),\"\")","v":""},{"$f":"IF(LEN(O1375)=0,\"\",IF(COUNTIF(O1375:$O$1921,O1375+1)>0,\"\",O1375+1))","v":""},{"$f":"IFERROR(SMALL($P$1:$P$1921,1374),\"\")","v":""}]
[null,null,null,null,null,null,null,null,null,null,null,null,null,null,{"$f":"IF(1376<=$B$10,IF(LEN('２学期'!MI22)=0,\"\",IF('２学期'!MI22=$B$8,IF(LEN('２学期'!ML22)=0,\"\",'２学期'!ML22),\"\")),\"\")","v":""},{"$f":"IF(LEN(O1376)=0,\"\",IF(COUNTIF(O1376:$O$1921,O1376+1)>0,\"\",O1376+1))","v":""},{"$f":"IFERROR(SMALL($P$1:$P$1921,1375),\"\")","v":""}]
[null,null,null,null,null,null,null,null,null,null,null,null,null,null,{"$f":"IF(1377<=$B$10,IF(LEN('２学期'!MI25)=0,\"\",IF('２学期'!MI25=$B$8,IF(LEN('２学期'!ML25)=0,\"\",'２学期'!ML25),\"\")),\"\")","v":""},{"$f":"IF(LEN(O1377)=0,\"\",IF(COUNTIF(O1377:$O$1921,O1377+1)>0,\"\",O1377+1))","v":""},{"$f":"IFERROR(SMALL($P$1:$P$1921,1376),\"\")","v":""}]
[null,null,null,null,null,null,null,null,null,null,null,null,null,null,{"$f":"IF(1378<=$B$10,IF(LEN('２学期'!MM6)=0,\"\",IF('２学期'!MM6=$B$8,IF(LEN('２学期'!MP6)=0,\"\",'２学期'!MP6),\"\")),\"\")","v":""},{"$f":"IF(LEN(O1378)=0,\"\",IF(COUNTIF(O1378:$O$1921,O1378+1)>0,\"\",O1378+1))","v":""},{"$f":"IFERROR(SMALL($P$1:$P$1921,1377),\"\")","v":""}]
[null,null,null,null,null,null,null,null,null,null,null,null,null,null,{"$f":"IF(1379<=$B$10,IF(LEN('２学期'!MM7)=0,\"\",IF('２学期'!MM7=$B$8,IF(LEN('２学期'!MP7)=0,\"\",'２学期'!MP7),\"\")),\"\")","v":""},{"$f":"IF(LEN(O1379)=0,\"\",IF(COUNTIF(O1379:$O$1921,O1379+1)>0,\"\",O1379+1))","v":""},{"$f":"IFERROR(SMALL($P$1:$P$1921,1378),\"\")","v":""}]
[null,null,null,null,null,null,null,null,null,null,null,null,null,null,{"$f":"IF(1380<=$B$10,IF(LEN('２学期'!MM10)=0,\"\",IF('２学期'!MM10=$B$8,IF(LEN('２学期'!MP10)=0,\"\",'２学期'!MP10),\"\")),\"\")","v":""},{"$f":"IF(LEN(O1380)=0,\"\",IF(COUNTIF(O1380:$O$1921,O1380+1)>0,\"\",O1380+1))","v":""},{"$f":"IFERROR(SMALL($P$1:$P$1921,1379),\"\")","v":""}]
[null,null,null,null,null,null,null,null,null,null,null,null,null,null,{"$f":"IF(1381<=$B$10,IF(LEN('２学期'!MM13)=0,\"\",IF('２学期'!MM13=$B$8,IF(LEN('２学期'!MP13)=0,\"\",'２学期'!MP13),\"\")),\"\")","v":""},{"$f":"IF(LEN(O1381)=0,\"\",IF(COUNTIF(O1381:$O$1921,O1381+1)>0,\"\",O1381+1))","v":""},{"$f":"IFERROR(SMALL($P$1:$P$1921,1380),\"\")","v":""}]
[null,null,null,null,null,null,null,null,null,null,null,null,null,null,{"$f":"IF(1382<=$B$10,IF(LEN('２学期'!MM16)=0,\"\",IF('２学期'!MM16=$B$8,IF(LEN('２学期'!MP16)=0,\"\",'２学期'!MP16),\"\")),\"\")","v":""},{"$f":"IF(LEN(O1382)=0,\"\",IF(COUNTIF(O1382:$O$1921,O1382+1)>0,\"\",O1382+1))","v":""},{"$f":"IFERROR(SMALL($P$1:$P$1921,1381),\"\")","v":""}]
[null,null,null,null,null,null,null,null,null,null,null,null,null,null,{"$f":"IF(1383<=$B$10,IF(LEN('２学期'!MM19)=0,\"\",IF('２学期'!MM19=$B$8,IF(LEN('２学期'!MP19)=0,\"\",'２学期'!MP19),\"\")),\"\")","v":""},{"$f":"IF(LEN(O1383)=0,\"\",IF(COUNTIF(O1383:$O$1921,O1383+1)>0,\"\",O1383+1))","v":""},{"$f":"IFERROR(SMALL($P$1:$P$1921,1382),\"\")","v":""}]
[null,null,null,null,null,null,null,null,null,null,null,null,null,null,{"$f":"IF(1384<=$B$10,IF(LEN('２学期'!MM22)=0,\"\",IF('２学期'!MM22=$B$8,IF(LEN('２学期'!MP22)=0,\"\",'２学期'!MP22),\"\")),\"\")","v":""},{"$f":"IF(LEN(O1384)=0,\"\",IF(COUNTIF(O1384:$O$1921,O1384+1)>0,\"\",O1384+1))","v":""},{"$f":"IFERROR(SMALL($P$1:$P$1921,1383),\"\")","v":""}]
[null,null,null,null,null,null,null,null,null,null,null,null,null,null,{"$f":"IF(1385<=$B$10,IF(LEN('２学期'!MM25)=0,\"\",IF('２学期'!MM25=$B$8,IF(LEN('２学期'!MP25)=0,\"\",'２学期'!MP25),\"\")),\"\")","v":""},{"$f":"IF(LEN(O1385)=0,\"\",IF(COUNTIF(O1385:$O$1921,O1385+1)>0,\"\",O1385+1))","v":""},{"$f":"IFERROR(SMALL($P$1:$P$1921,1384),\"\")","v":""}]
[null,null,null,null,null,null,null,null,null,null,null,null,null,null,{"$f":"IF(1386<=$B$10,IF(LEN('２学期'!MQ6)=0,\"\",IF('２学期'!MQ6=$B$8,IF(LEN('２学期'!MT6)=0,\"\",'２学期'!MT6),\"\")),\"\")","v":""},{"$f":"IF(LEN(O1386)=0,\"\",IF(COUNTIF(O1386:$O$1921,O1386+1)>0,\"\",O1386+1))","v":""},{"$f":"IFERROR(SMALL($P$1:$P$1921,1385),\"\")","v":""}]
[null,null,null,null,null,null,null,null,null,null,null,null,null,null,{"$f":"IF(1387<=$B$10,IF(LEN('２学期'!MQ7)=0,\"\",IF('２学期'!MQ7=$B$8,IF(LEN('２学期'!MT7)=0,\"\",'２学期'!MT7),\"\")),\"\")","v":""},{"$f":"IF(LEN(O1387)=0,\"\",IF(COUNTIF(O1387:$O$1921,O1387+1)>0,\"\",O1387+1))","v":""},{"$f":"IFERROR(SMALL($P$1:$P$1921,1386),\"\")","v":""}]
[null,null,null,null,null,null,null,null,null,null,null,null,null,null,{"$f":"IF(1388<=$B$10,IF(LEN('２学期'!MQ10)=0,\"\",IF('２学期'!MQ10=$B$8,IF(LEN('２学期'!MT10)=0,\"\",'２学期'!MT10),\"\")),\"\")","v":""},{"$f":"IF(LEN(O1388)=0,\"\",IF(COUNTIF(O1388:$O$1921,O1388+1)>0,\"\",O1388+1))","v":""},{"$f":"IFERROR(SMALL($P$1:$P$1921,1387),\"\")","v":""}]
[null,null,null,null,null,null,null,null,null,null,null,null,null,null,{"$f":"IF(1389<=$B$10,IF(LEN('２学期'!MQ13)=0,\"\",IF('２学期'!MQ13=$B$8,IF(LEN('２学期'!MT13)=0,\"\",'２学期'!MT13),\"\")),\"\")","v":""},{"$f":"IF(LEN(O1389)=0,\"\",IF(COUNTIF(O1389:$O$1921,O1389+1)>0,\"\",O1389+1))","v":""},{"$f":"IFERROR(SMALL($P$1:$P$1921,1388),\"\")","v":""}]
[null,null,null,null,null,null,null,null,null,null,null,null,null,null,{"$f":"IF(1390<=$B$10,IF(LEN('２学期'!MQ16)=0,\"\",IF('２学期'!MQ16=$B$8,IF(LEN('２学期'!MT16)=0,\"\",'２学期'!MT16),\"\")),\"\")","v":""},{"$f":"IF(LEN(O1390)=0,\"\",IF(COUNTIF(O1390:$O$1921,O1390+1)>0,\"\",O1390+1))","v":""},{"$f":"IFERROR(SMALL($P$1:$P$1921,1389),\"\")","v":""}]
[null,null,null,null,null,null,null,null,null,null,null,null,null,null,{"$f":"IF(1391<=$B$10,IF(LEN('２学期'!MQ19)=0,\"\",IF('２学期'!MQ19=$B$8,IF(LEN('２学期'!MT19)=0,\"\",'２学期'!MT19),\"\")),\"\")","v":""},{"$f":"IF(LEN(O1391)=0,\"\",IF(COUNTIF(O1391:$O$1921,O1391+1)>0,\"\",O1391+1))","v":""},{"$f":"IFERROR(SMALL($P$1:$P$1921,1390),\"\")","v":""}]
[null,null,null,null,null,null,null,null,null,null,null,null,null,null,{"$f":"IF(1392<=$B$10,IF(LEN('２学期'!MQ22)=0,\"\",IF('２学期'!MQ22=$B$8,IF(LEN('２学期'!MT22)=0,\"\",'２学期'!MT22),\"\")),\"\")","v":""},{"$f":"IF(LEN(O1392)=0,\"\",IF(COUNTIF(O1392:$O$1921,O1392+1)>0,\"\",O1392+1))","v":""},{"$f":"IFERROR(SMALL($P$1:$P$1921,1391),\"\")","v":""}]
[null,null,null,null,null,null,null,null,null,null,null,null,null,null,{"$f":"IF(1393<=$B$10,IF(LEN('２学期'!MQ25)=0,\"\",IF('２学期'!MQ25=$B$8,IF(LEN('２学期'!MT25)=0,\"\",'２学期'!MT25),\"\")),\"\")","v":""},{"$f":"IF(LEN(O1393)=0,\"\",IF(COUNTIF(O1393:$O$1921,O1393+1)>0,\"\",O1393+1))","v":""},{"$f":"IFERROR(SMALL($P$1:$P$1921,1392),\"\")","v":""}]
[null,null,null,null,null,null,null,null,null,null,null,null,null,null,{"$f":"IF(1394<=$B$10,IF(LEN('２学期'!MU6)=0,\"\",IF('２学期'!MU6=$B$8,IF(LEN('２学期'!MX6)=0,\"\",'２学期'!MX6),\"\")),\"\")","v":""},{"$f":"IF(LEN(O1394)=0,\"\",IF(COUNTIF(O1394:$O$1921,O1394+1)>0,\"\",O1394+1))","v":""},{"$f":"IFERROR(SMALL($P$1:$P$1921,1393),\"\")","v":""}]
[null,null,null,null,null,null,null,null,null,null,null,null,null,null,{"$f":"IF(1395<=$B$10,IF(LEN('２学期'!MU7)=0,\"\",IF('２学期'!MU7=$B$8,IF(LEN('２学期'!MX7)=0,\"\",'２学期'!MX7),\"\")),\"\")","v":""},{"$f":"IF(LEN(O1395)=0,\"\",IF(COUNTIF(O1395:$O$1921,O1395+1)>0,\"\",O1395+1))","v":""},{"$f":"IFERROR(SMALL($P$1:$P$1921,1394),\"\")","v":""}]
[null,null,null,null,null,null,null,null,null,null,null,null,null,null,{"$f":"IF(1396<=$B$10,IF(LEN('２学期'!MU10)=0,\"\",IF('２学期'!MU10=$B$8,IF(LEN('２学期'!MX10)=0,\"\",'２学期'!MX10),\"\")),\"\")","v":""},{"$f":"IF(LEN(O1396)=0,\"\",IF(COUNTIF(O1396:$O$1921,O1396+1)>0,\"\",O1396+1))","v":""},{"$f":"IFERROR(SMALL($P$1:$P$1921,1395),\"\")","v":""}]
[null,null,null,null,null,null,null,null,null,null,null,null,null,null,{"$f":"IF(1397<=$B$10,IF(LEN('２学期'!MU13)=0,\"\",IF('２学期'!MU13=$B$8,IF(LEN('２学期'!MX13)=0,\"\",'２学期'!MX13),\"\")),\"\")","v":""},{"$f":"IF(LEN(O1397)=0,\"\",IF(COUNTIF(O1397:$O$1921,O1397+1)>0,\"\",O1397+1))","v":""},{"$f":"IFERROR(SMALL($P$1:$P$1921,1396),\"\")","v":""}]
[null,null,null,null,null,null,null,null,null,null,null,null,null,null,{"$f":"IF(1398<=$B$10,IF(LEN('２学期'!MU16)=0,\"\",IF('２学期'!MU16=$B$8,IF(LEN('２学期'!MX16)=0,\"\",'２学期'!MX16),\"\")),\"\")","v":""},{"$f":"IF(LEN(O1398)=0,\"\",IF(COUNTIF(O1398:$O$1921,O1398+1)>0,\"\",O1398+1))","v":""},{"$f":"IFERROR(SMALL($P$1:$P$1921,1397),\"\")","v":""}]
[null,null,null,null,null,null,null,null,null,null,null,null,null,null,{"$f":"IF(1399<=$B$10,IF(LEN('２学期'!MU19)=0,\"\",IF('２学期'!MU19=$B$8,IF(LEN('２学期'!MX19)=0,\"\",'２学期'!MX19),\"\")),\"\")","v":""},{"$f":"IF(LEN(O1399)=0,\"\",IF(COUNTIF(O1399:$O$1921,O1399+1)>0,\"\",O1399+1))","v":""},{"$f":"IFERROR(SMALL($P$1:$P$1921,1398),\"\")","v":""}]
[null,null,null,null,null,null,null,null,null,null,null,null,null,null,{"$f":"IF(1400<=$B$10,IF(LEN('２学期'!MU22)=0,\"\",IF('２学期'!MU22=$B$8,IF(LEN('２学期'!MX22)=0,\"\",'２学期'!MX22),\"\")),\"\")","v":""},{"$f":"IF(LEN(O1400)=0,\"\",IF(COUNTIF(O1400:$O$1921,O1400+1)>0,\"\",O1400+1))","v":""},{"$f":"IFERROR(SMALL($P$1:$P$1921,1399),\"\")","v":""}]
[null,null,null,null,null,null,null,null,null,null,null,null,null,null,{"$f":"IF(1401<=$B$10,IF(LEN('２学期'!MU25)=0,\"\",IF('２学期'!MU25=$B$8,IF(LEN('２学期'!MX25)=0,\"\",'２学期'!MX25),\"\")),\"\")","v":""},{"$f":"IF(LEN(O1401)=0,\"\",IF(COUNTIF(O1401:$O$1921,O1401+1)>0,\"\",O1401+1))","v":""},{"$f":"IFERROR(SMALL($P$1:$P$1921,1400),\"\")","v":""}]
[null,null,null,null,null,null,null,null,null,null,null,null,null,null,{"$f":"IF(1402<=$B$10,IF(LEN('３学期'!C6)=0,\"\",IF('３学期'!C6=$B$8,IF(LEN('３学期'!F6)=0,\"\",'３学期'!F6),\"\")),\"\")","v":""},{"$f":"IF(LEN(O1402)=0,\"\",IF(COUNTIF(O1402:$O$1921,O1402+1)>0,\"\",O1402+1))","v":""}]
[null,null,null,null,null,null,null,null,null,null,null,null,null,null,{"$f":"IF(1403<=$B$10,IF(LEN('３学期'!C7)=0,\"\",IF('３学期'!C7=$B$8,IF(LEN('３学期'!F7)=0,\"\",'３学期'!F7),\"\")),\"\")","v":""},{"$f":"IF(LEN(O1403)=0,\"\",IF(COUNTIF(O1403:$O$1921,O1403+1)>0,\"\",O1403+1))","v":""}]
[null,null,null,null,null,null,null,null,null,null,null,null,null,null,{"$f":"IF(1404<=$B$10,IF(LEN('３学期'!C10)=0,\"\",IF('３学期'!C10=$B$8,IF(LEN('３学期'!F10)=0,\"\",'３学期'!F10),\"\")),\"\")","v":""},{"$f":"IF(LEN(O1404)=0,\"\",IF(COUNTIF(O1404:$O$1921,O1404+1)>0,\"\",O1404+1))","v":""}]
[null,null,null,null,null,null,null,null,null,null,null,null,null,null,{"$f":"IF(1405<=$B$10,IF(LEN('３学期'!C13)=0,\"\",IF('３学期'!C13=$B$8,IF(LEN('３学期'!F13)=0,\"\",'３学期'!F13),\"\")),\"\")","v":""},{"$f":"IF(LEN(O1405)=0,\"\",IF(COUNTIF(O1405:$O$1921,O1405+1)>0,\"\",O1405+1))","v":""}]
[null,null,null,null,null,null,null,null,null,null,null,null,null,null,{"$f":"IF(1406<=$B$10,IF(LEN('３学期'!C16)=0,\"\",IF('３学期'!C16=$B$8,IF(LEN('３学期'!F16)=0,\"\",'３学期'!F16),\"\")),\"\")","v":""},{"$f":"IF(LEN(O1406)=0,\"\",IF(COUNTIF(O1406:$O$1921,O1406+1)>0,\"\",O1406+1))","v":""}]
[null,null,null,null,null,null,null,null,null,null,null,null,null,null,{"$f":"IF(1407<=$B$10,IF(LEN('３学期'!C19)=0,\"\",IF('３学期'!C19=$B$8,IF(LEN('３学期'!F19)=0,\"\",'３学期'!F19),\"\")),\"\")","v":""},{"$f":"IF(LEN(O1407)=0,\"\",IF(COUNTIF(O1407:$O$1921,O1407+1)>0,\"\",O1407+1))","v":""}]
[null,null,null,null,null,null,null,null,null,null,null,null,null,null,{"$f":"IF(1408<=$B$10,IF(LEN('３学期'!C22)=0,\"\",IF('３学期'!C22=$B$8,IF(LEN('３学期'!F22)=0,\"\",'３学期'!F22),\"\")),\"\")","v":""},{"$f":"IF(LEN(O1408)=0,\"\",IF(COUNTIF(O1408:$O$1921,O1408+1)>0,\"\",O1408+1))","v":""}]
[null,null,null,null,null,null,null,null,null,null,null,null,null,null,{"$f":"IF(1409<=$B$10,IF(LEN('３学期'!C25)=0,\"\",IF('３学期'!C25=$B$8,IF(LEN('３学期'!F25)=0,\"\",'３学期'!F25),\"\")),\"\")","v":""},{"$f":"IF(LEN(O1409)=0,\"\",IF(COUNTIF(O1409:$O$1921,O1409+1)>0,\"\",O1409+1))","v":""}]
[null,null,null,null,null,null,null,null,null,null,null,null,null,null,{"$f":"IF(1410<=$B$10,IF(LEN('３学期'!G6)=0,\"\",IF('３学期'!G6=$B$8,IF(LEN('３学期'!J6)=0,\"\",'３学期'!J6),\"\")),\"\")","v":""},{"$f":"IF(LEN(O1410)=0,\"\",IF(COUNTIF(O1410:$O$1921,O1410+1)>0,\"\",O1410+1))","v":""}]
[null,null,null,null,null,null,null,null,null,null,null,null,null,null,{"$f":"IF(1411<=$B$10,IF(LEN('３学期'!G7)=0,\"\",IF('３学期'!G7=$B$8,IF(LEN('３学期'!J7)=0,\"\",'３学期'!J7),\"\")),\"\")","v":""},{"$f":"IF(LEN(O1411)=0,\"\",IF(COUNTIF(O1411:$O$1921,O1411+1)>0,\"\",O1411+1))","v":""}]
[null,null,null,null,null,null,null,null,null,null,null,null,null,null,{"$f":"IF(1412<=$B$10,IF(LEN('３学期'!G10)=0,\"\",IF('３学期'!G10=$B$8,IF(LEN('３学期'!J10)=0,\"\",'３学期'!J10),\"\")),\"\")","v":""},{"$f":"IF(LEN(O1412)=0,\"\",IF(COUNTIF(O1412:$O$1921,O1412+1)>0,\"\",O1412+1))","v":""}]
[null,null,null,null,null,null,null,null,null,null,null,null,null,null,{"$f":"IF(1413<=$B$10,IF(LEN('３学期'!G13)=0,\"\",IF('３学期'!G13=$B$8,IF(LEN('３学期'!J13)=0,\"\",'３学期'!J13),\"\")),\"\")","v":""},{"$f":"IF(LEN(O1413)=0,\"\",IF(COUNTIF(O1413:$O$1921,O1413+1)>0,\"\",O1413+1))","v":""}]
[null,null,null,null,null,null,null,null,null,null,null,null,null,null,{"$f":"IF(1414<=$B$10,IF(LEN('３学期'!G16)=0,\"\",IF('３学期'!G16=$B$8,IF(LEN('３学期'!J16)=0,\"\",'３学期'!J16),\"\")),\"\")","v":""},{"$f":"IF(LEN(O1414)=0,\"\",IF(COUNTIF(O1414:$O$1921,O1414+1)>0,\"\",O1414+1))","v":""}]
[null,null,null,null,null,null,null,null,null,null,null,null,null,null,{"$f":"IF(1415<=$B$10,IF(LEN('３学期'!G19)=0,\"\",IF('３学期'!G19=$B$8,IF(LEN('３学期'!J19)=0,\"\",'３学期'!J19),\"\")),\"\")","v":""},{"$f":"IF(LEN(O1415)=0,\"\",IF(COUNTIF(O1415:$O$1921,O1415+1)>0,\"\",O1415+1))","v":""}]
[null,null,null,null,null,null,null,null,null,null,null,null,null,null,{"$f":"IF(1416<=$B$10,IF(LEN('３学期'!G22)=0,\"\",IF('３学期'!G22=$B$8,IF(LEN('３学期'!J22)=0,\"\",'３学期'!J22),\"\")),\"\")","v":""},{"$f":"IF(LEN(O1416)=0,\"\",IF(COUNTIF(O1416:$O$1921,O1416+1)>0,\"\",O1416+1))","v":""}]
[null,null,null,null,null,null,null,null,null,null,null,null,null,null,{"$f":"IF(1417<=$B$10,IF(LEN('３学期'!G25)=0,\"\",IF('３学期'!G25=$B$8,IF(LEN('３学期'!J25)=0,\"\",'３学期'!J25),\"\")),\"\")","v":""},{"$f":"IF(LEN(O1417)=0,\"\",IF(COUNTIF(O1417:$O$1921,O1417+1)>0,\"\",O1417+1))","v":""}]
[null,null,null,null,null,null,null,null,null,null,null,null,null,null,{"$f":"IF(1418<=$B$10,IF(LEN('３学期'!K6)=0,\"\",IF('３学期'!K6=$B$8,IF(LEN('３学期'!N6)=0,\"\",'３学期'!N6),\"\")),\"\")","v":""},{"$f":"IF(LEN(O1418)=0,\"\",IF(COUNTIF(O1418:$O$1921,O1418+1)>0,\"\",O1418+1))","v":""}]
[null,null,null,null,null,null,null,null,null,null,null,null,null,null,{"$f":"IF(1419<=$B$10,IF(LEN('３学期'!K7)=0,\"\",IF('３学期'!K7=$B$8,IF(LEN('３学期'!N7)=0,\"\",'３学期'!N7),\"\")),\"\")","v":""},{"$f":"IF(LEN(O1419)=0,\"\",IF(COUNTIF(O1419:$O$1921,O1419+1)>0,\"\",O1419+1))","v":""}]
[null,null,null,null,null,null,null,null,null,null,null,null,null,null,{"$f":"IF(1420<=$B$10,IF(LEN('３学期'!K10)=0,\"\",IF('３学期'!K10=$B$8,IF(LEN('３学期'!N10)=0,\"\",'３学期'!N10),\"\")),\"\")","v":""},{"$f":"IF(LEN(O1420)=0,\"\",IF(COUNTIF(O1420:$O$1921,O1420+1)>0,\"\",O1420+1))","v":""}]
[null,null,null,null,null,null,null,null,null,null,null,null,null,null,{"$f":"IF(1421<=$B$10,IF(LEN('３学期'!K13)=0,\"\",IF('３学期'!K13=$B$8,IF(LEN('３学期'!N13)=0,\"\",'３学期'!N13),\"\")),\"\")","v":""},{"$f":"IF(LEN(O1421)=0,\"\",IF(COUNTIF(O1421:$O$1921,O1421+1)>0,\"\",O1421+1))","v":""}]
[null,null,null,null,null,null,null,null,null,null,null,null,null,null,{"$f":"IF(1422<=$B$10,IF(LEN('３学期'!K16)=0,\"\",IF('３学期'!K16=$B$8,IF(LEN('３学期'!N16)=0,\"\",'３学期'!N16),\"\")),\"\")","v":""},{"$f":"IF(LEN(O1422)=0,\"\",IF(COUNTIF(O1422:$O$1921,O1422+1)>0,\"\",O1422+1))","v":""}]
[null,null,null,null,null,null,null,null,null,null,null,null,null,null,{"$f":"IF(1423<=$B$10,IF(LEN('３学期'!K19)=0,\"\",IF('３学期'!K19=$B$8,IF(LEN('３学期'!N19)=0,\"\",'３学期'!N19),\"\")),\"\")","v":""},{"$f":"IF(LEN(O1423)=0,\"\",IF(COUNTIF(O1423:$O$1921,O1423+1)>0,\"\",O1423+1))","v":""}]
[null,null,null,null,null,null,null,null,null,null,null,null,null,null,{"$f":"IF(1424<=$B$10,IF(LEN('３学期'!K22)=0,\"\",IF('３学期'!K22=$B$8,IF(LEN('３学期'!N22)=0,\"\",'３学期'!N22),\"\")),\"\")","v":""},{"$f":"IF(LEN(O1424)=0,\"\",IF(COUNTIF(O1424:$O$1921,O1424+1)>0,\"\",O1424+1))","v":""}]
[null,null,null,null,null,null,null,null,null,null,null,null,null,null,{"$f":"IF(1425<=$B$10,IF(LEN('３学期'!K25)=0,\"\",IF('３学期'!K25=$B$8,IF(LEN('３学期'!N25)=0,\"\",'３学期'!N25),\"\")),\"\")","v":""},{"$f":"IF(LEN(O1425)=0,\"\",IF(COUNTIF(O1425:$O$1921,O1425+1)>0,\"\",O1425+1))","v":""}]
[null,null,null,null,null,null,null,null,null,null,null,null,null,null,{"$f":"IF(1426<=$B$10,IF(LEN('３学期'!O6)=0,\"\",IF('３学期'!O6=$B$8,IF(LEN('３学期'!R6)=0,\"\",'３学期'!R6),\"\")),\"\")","v":""},{"$f":"IF(LEN(O1426)=0,\"\",IF(COUNTIF(O1426:$O$1921,O1426+1)>0,\"\",O1426+1))","v":""}]
[null,null,null,null,null,null,null,null,null,null,null,null,null,null,{"$f":"IF(1427<=$B$10,IF(LEN('３学期'!O7)=0,\"\",IF('３学期'!O7=$B$8,IF(LEN('３学期'!R7)=0,\"\",'３学期'!R7),\"\")),\"\")","v":""},{"$f":"IF(LEN(O1427)=0,\"\",IF(COUNTIF(O1427:$O$1921,O1427+1)>0,\"\",O1427+1))","v":""}]
[null,null,null,null,null,null,null,null,null,null,null,null,null,null,{"$f":"IF(1428<=$B$10,IF(LEN('３学期'!O10)=0,\"\",IF('３学期'!O10=$B$8,IF(LEN('３学期'!R10)=0,\"\",'３学期'!R10),\"\")),\"\")","v":""},{"$f":"IF(LEN(O1428)=0,\"\",IF(COUNTIF(O1428:$O$1921,O1428+1)>0,\"\",O1428+1))","v":""}]
[null,null,null,null,null,null,null,null,null,null,null,null,null,null,{"$f":"IF(1429<=$B$10,IF(LEN('３学期'!O13)=0,\"\",IF('３学期'!O13=$B$8,IF(LEN('３学期'!R13)=0,\"\",'３学期'!R13),\"\")),\"\")","v":""},{"$f":"IF(LEN(O1429)=0,\"\",IF(COUNTIF(O1429:$O$1921,O1429+1)>0,\"\",O1429+1))","v":""}]
[null,null,null,null,null,null,null,null,null,null,null,null,null,null,{"$f":"IF(1430<=$B$10,IF(LEN('３学期'!O16)=0,\"\",IF('３学期'!O16=$B$8,IF(LEN('３学期'!R16)=0,\"\",'３学期'!R16),\"\")),\"\")","v":""},{"$f":"IF(LEN(O1430)=0,\"\",IF(COUNTIF(O1430:$O$1921,O1430+1)>0,\"\",O1430+1))","v":""}]
[null,null,null,null,null,null,null,null,null,null,null,null,null,null,{"$f":"IF(1431<=$B$10,IF(LEN('３学期'!O19)=0,\"\",IF('３学期'!O19=$B$8,IF(LEN('３学期'!R19)=0,\"\",'３学期'!R19),\"\")),\"\")","v":""},{"$f":"IF(LEN(O1431)=0,\"\",IF(COUNTIF(O1431:$O$1921,O1431+1)>0,\"\",O1431+1))","v":""}]
[null,null,null,null,null,null,null,null,null,null,null,null,null,null,{"$f":"IF(1432<=$B$10,IF(LEN('３学期'!O22)=0,\"\",IF('３学期'!O22=$B$8,IF(LEN('３学期'!R22)=0,\"\",'３学期'!R22),\"\")),\"\")","v":""},{"$f":"IF(LEN(O1432)=0,\"\",IF(COUNTIF(O1432:$O$1921,O1432+1)>0,\"\",O1432+1))","v":""}]
[null,null,null,null,null,null,null,null,null,null,null,null,null,null,{"$f":"IF(1433<=$B$10,IF(LEN('３学期'!O25)=0,\"\",IF('３学期'!O25=$B$8,IF(LEN('３学期'!R25)=0,\"\",'３学期'!R25),\"\")),\"\")","v":""},{"$f":"IF(LEN(O1433)=0,\"\",IF(COUNTIF(O1433:$O$1921,O1433+1)>0,\"\",O1433+1))","v":""}]
[null,null,null,null,null,null,null,null,null,null,null,null,null,null,{"$f":"IF(1434<=$B$10,IF(LEN('３学期'!S6)=0,\"\",IF('３学期'!S6=$B$8,IF(LEN('３学期'!V6)=0,\"\",'３学期'!V6),\"\")),\"\")","v":""},{"$f":"IF(LEN(O1434)=0,\"\",IF(COUNTIF(O1434:$O$1921,O1434+1)>0,\"\",O1434+1))","v":""}]
[null,null,null,null,null,null,null,null,null,null,null,null,null,null,{"$f":"IF(1435<=$B$10,IF(LEN('３学期'!S7)=0,\"\",IF('３学期'!S7=$B$8,IF(LEN('３学期'!V7)=0,\"\",'３学期'!V7),\"\")),\"\")","v":""},{"$f":"IF(LEN(O1435)=0,\"\",IF(COUNTIF(O1435:$O$1921,O1435+1)>0,\"\",O1435+1))","v":""}]
[null,null,null,null,null,null,null,null,null,null,null,null,null,null,{"$f":"IF(1436<=$B$10,IF(LEN('３学期'!S10)=0,\"\",IF('３学期'!S10=$B$8,IF(LEN('３学期'!V10)=0,\"\",'３学期'!V10),\"\")),\"\")","v":""},{"$f":"IF(LEN(O1436)=0,\"\",IF(COUNTIF(O1436:$O$1921,O1436+1)>0,\"\",O1436+1))","v":""}]
[null,null,null,null,null,null,null,null,null,null,null,null,null,null,{"$f":"IF(1437<=$B$10,IF(LEN('３学期'!S13)=0,\"\",IF('３学期'!S13=$B$8,IF(LEN('３学期'!V13)=0,\"\",'３学期'!V13),\"\")),\"\")","v":""},{"$f":"IF(LEN(O1437)=0,\"\",IF(COUNTIF(O1437:$O$1921,O1437+1)>0,\"\",O1437+1))","v":""}]
[null,null,null,null,null,null,null,null,null,null,null,null,null,null,{"$f":"IF(1438<=$B$10,IF(LEN('３学期'!S16)=0,\"\",IF('３学期'!S16=$B$8,IF(LEN('３学期'!V16)=0,\"\",'３学期'!V16),\"\")),\"\")","v":""},{"$f":"IF(LEN(O1438)=0,\"\",IF(COUNTIF(O1438:$O$1921,O1438+1)>0,\"\",O1438+1))","v":""}]
[null,null,null,null,null,null,null,null,null,null,null,null,null,null,{"$f":"IF(1439<=$B$10,IF(LEN('３学期'!S19)=0,\"\",IF('３学期'!S19=$B$8,IF(LEN('３学期'!V19)=0,\"\",'３学期'!V19),\"\")),\"\")","v":""},{"$f":"IF(LEN(O1439)=0,\"\",IF(COUNTIF(O1439:$O$1921,O1439+1)>0,\"\",O1439+1))","v":""}]
[null,null,null,null,null,null,null,null,null,null,null,null,null,null,{"$f":"IF(1440<=$B$10,IF(LEN('３学期'!S22)=0,\"\",IF('３学期'!S22=$B$8,IF(LEN('３学期'!V22)=0,\"\",'３学期'!V22),\"\")),\"\")","v":""},{"$f":"IF(LEN(O1440)=0,\"\",IF(COUNTIF(O1440:$O$1921,O1440+1)>0,\"\",O1440+1))","v":""}]
[null,null,null,null,null,null,null,null,null,null,null,null,null,null,{"$f":"IF(1441<=$B$10,IF(LEN('３学期'!S25)=0,\"\",IF('３学期'!S25=$B$8,IF(LEN('３学期'!V25)=0,\"\",'３学期'!V25),\"\")),\"\")","v":""},{"$f":"IF(LEN(O1441)=0,\"\",IF(COUNTIF(O1441:$O$1921,O1441+1)>0,\"\",O1441+1))","v":""}]
[null,null,null,null,null,null,null,null,null,null,null,null,null,null,{"$f":"IF(1442<=$B$10,IF(LEN('３学期'!W6)=0,\"\",IF('３学期'!W6=$B$8,IF(LEN('３学期'!Z6)=0,\"\",'３学期'!Z6),\"\")),\"\")","v":""},{"$f":"IF(LEN(O1442)=0,\"\",IF(COUNTIF(O1442:$O$1921,O1442+1)>0,\"\",O1442+1))","v":""}]
[null,null,null,null,null,null,null,null,null,null,null,null,null,null,{"$f":"IF(1443<=$B$10,IF(LEN('３学期'!W7)=0,\"\",IF('３学期'!W7=$B$8,IF(LEN('３学期'!Z7)=0,\"\",'３学期'!Z7),\"\")),\"\")","v":""},{"$f":"IF(LEN(O1443)=0,\"\",IF(COUNTIF(O1443:$O$1921,O1443+1)>0,\"\",O1443+1))","v":""}]
[null,null,null,null,null,null,null,null,null,null,null,null,null,null,{"$f":"IF(1444<=$B$10,IF(LEN('３学期'!W10)=0,\"\",IF('３学期'!W10=$B$8,IF(LEN('３学期'!Z10)=0,\"\",'３学期'!Z10),\"\")),\"\")","v":""},{"$f":"IF(LEN(O1444)=0,\"\",IF(COUNTIF(O1444:$O$1921,O1444+1)>0,\"\",O1444+1))","v":""}]
[null,null,null,null,null,null,null,null,null,null,null,null,null,null,{"$f":"IF(1445<=$B$10,IF(LEN('３学期'!W13)=0,\"\",IF('３学期'!W13=$B$8,IF(LEN('３学期'!Z13)=0,\"\",'３学期'!Z13),\"\")),\"\")","v":""},{"$f":"IF(LEN(O1445)=0,\"\",IF(COUNTIF(O1445:$O$1921,O1445+1)>0,\"\",O1445+1))","v":""}]
[null,null,null,null,null,null,null,null,null,null,null,null,null,null,{"$f":"IF(1446<=$B$10,IF(LEN('３学期'!W16)=0,\"\",IF('３学期'!W16=$B$8,IF(LEN('３学期'!Z16)=0,\"\",'３学期'!Z16),\"\")),\"\")","v":""},{"$f":"IF(LEN(O1446)=0,\"\",IF(COUNTIF(O1446:$O$1921,O1446+1)>0,\"\",O1446+1))","v":""}]
[null,null,null,null,null,null,null,null,null,null,null,null,null,null,{"$f":"IF(1447<=$B$10,IF(LEN('３学期'!W19)=0,\"\",IF('３学期'!W19=$B$8,IF(LEN('３学期'!Z19)=0,\"\",'３学期'!Z19),\"\")),\"\")","v":""},{"$f":"IF(LEN(O1447)=0,\"\",IF(COUNTIF(O1447:$O$1921,O1447+1)>0,\"\",O1447+1))","v":""}]
[null,null,null,null,null,null,null,null,null,null,null,null,null,null,{"$f":"IF(1448<=$B$10,IF(LEN('３学期'!W22)=0,\"\",IF('３学期'!W22=$B$8,IF(LEN('３学期'!Z22)=0,\"\",'３学期'!Z22),\"\")),\"\")","v":""},{"$f":"IF(LEN(O1448)=0,\"\",IF(COUNTIF(O1448:$O$1921,O1448+1)>0,\"\",O1448+1))","v":""}]
[null,null,null,null,null,null,null,null,null,null,null,null,null,null,{"$f":"IF(1449<=$B$10,IF(LEN('３学期'!W25)=0,\"\",IF('３学期'!W25=$B$8,IF(LEN('３学期'!Z25)=0,\"\",'３学期'!Z25),\"\")),\"\")","v":""},{"$f":"IF(LEN(O1449)=0,\"\",IF(COUNTIF(O1449:$O$1921,O1449+1)>0,\"\",O1449+1))","v":""}]
[null,null,null,null,null,null,null,null,null,null,null,null,null,null,{"$f":"IF(1450<=$B$10,IF(LEN('３学期'!AA6)=0,\"\",IF('３学期'!AA6=$B$8,IF(LEN('３学期'!AD6)=0,\"\",'３学期'!AD6),\"\")),\"\")","v":""},{"$f":"IF(LEN(O1450)=0,\"\",IF(COUNTIF(O1450:$O$1921,O1450+1)>0,\"\",O1450+1))","v":""}]
[null,null,null,null,null,null,null,null,null,null,null,null,null,null,{"$f":"IF(1451<=$B$10,IF(LEN('３学期'!AA7)=0,\"\",IF('３学期'!AA7=$B$8,IF(LEN('３学期'!AD7)=0,\"\",'３学期'!AD7),\"\")),\"\")","v":""},{"$f":"IF(LEN(O1451)=0,\"\",IF(COUNTIF(O1451:$O$1921,O1451+1)>0,\"\",O1451+1))","v":""}]
[null,null,null,null,null,null,null,null,null,null,null,null,null,null,{"$f":"IF(1452<=$B$10,IF(LEN('３学期'!AA10)=0,\"\",IF('３学期'!AA10=$B$8,IF(LEN('３学期'!AD10)=0,\"\",'３学期'!AD10),\"\")),\"\")","v":""},{"$f":"IF(LEN(O1452)=0,\"\",IF(COUNTIF(O1452:$O$1921,O1452+1)>0,\"\",O1452+1))","v":""}]
[null,null,null,null,null,null,null,null,null,null,null,null,null,null,{"$f":"IF(1453<=$B$10,IF(LEN('３学期'!AA13)=0,\"\",IF('３学期'!AA13=$B$8,IF(LEN('３学期'!AD13)=0,\"\",'３学期'!AD13),\"\")),\"\")","v":""},{"$f":"IF(LEN(O1453)=0,\"\",IF(COUNTIF(O1453:$O$1921,O1453+1)>0,\"\",O1453+1))","v":""}]
[null,null,null,null,null,null,null,null,null,null,null,null,null,null,{"$f":"IF(1454<=$B$10,IF(LEN('３学期'!AA16)=0,\"\",IF('３学期'!AA16=$B$8,IF(LEN('３学期'!AD16)=0,\"\",'３学期'!AD16),\"\")),\"\")","v":""},{"$f":"IF(LEN(O1454)=0,\"\",IF(COUNTIF(O1454:$O$1921,O1454+1)>0,\"\",O1454+1))","v":""}]
[null,null,null,null,null,null,null,null,null,null,null,null,null,null,{"$f":"IF(1455<=$B$10,IF(LEN('３学期'!AA19)=0,\"\",IF('３学期'!AA19=$B$8,IF(LEN('３学期'!AD19)=0,\"\",'３学期'!AD19),\"\")),\"\")","v":""},{"$f":"IF(LEN(O1455)=0,\"\",IF(COUNTIF(O1455:$O$1921,O1455+1)>0,\"\",O1455+1))","v":""}]
[null,null,null,null,null,null,null,null,null,null,null,null,null,null,{"$f":"IF(1456<=$B$10,IF(LEN('３学期'!AA22)=0,\"\",IF('３学期'!AA22=$B$8,IF(LEN('３学期'!AD22)=0,\"\",'３学期'!AD22),\"\")),\"\")","v":""},{"$f":"IF(LEN(O1456)=0,\"\",IF(COUNTIF(O1456:$O$1921,O1456+1)>0,\"\",O1456+1))","v":""}]
[null,null,null,null,null,null,null,null,null,null,null,null,null,null,{"$f":"IF(1457<=$B$10,IF(LEN('３学期'!AA25)=0,\"\",IF('３学期'!AA25=$B$8,IF(LEN('３学期'!AD25)=0,\"\",'３学期'!AD25),\"\")),\"\")","v":""},{"$f":"IF(LEN(O1457)=0,\"\",IF(COUNTIF(O1457:$O$1921,O1457+1)>0,\"\",O1457+1))","v":""}]
[null,null,null,null,null,null,null,null,null,null,null,null,null,null,{"$f":"IF(1458<=$B$10,IF(LEN('３学期'!AE6)=0,\"\",IF('３学期'!AE6=$B$8,IF(LEN('３学期'!AH6)=0,\"\",'３学期'!AH6),\"\")),\"\")","v":""},{"$f":"IF(LEN(O1458)=0,\"\",IF(COUNTIF(O1458:$O$1921,O1458+1)>0,\"\",O1458+1))","v":""}]
[null,null,null,null,null,null,null,null,null,null,null,null,null,null,{"$f":"IF(1459<=$B$10,IF(LEN('３学期'!AE7)=0,\"\",IF('３学期'!AE7=$B$8,IF(LEN('３学期'!AH7)=0,\"\",'３学期'!AH7),\"\")),\"\")","v":""},{"$f":"IF(LEN(O1459)=0,\"\",IF(COUNTIF(O1459:$O$1921,O1459+1)>0,\"\",O1459+1))","v":""}]
[null,null,null,null,null,null,null,null,null,null,null,null,null,null,{"$f":"IF(1460<=$B$10,IF(LEN('３学期'!AE10)=0,\"\",IF('３学期'!AE10=$B$8,IF(LEN('３学期'!AH10)=0,\"\",'３学期'!AH10),\"\")),\"\")","v":""},{"$f":"IF(LEN(O1460)=0,\"\",IF(COUNTIF(O1460:$O$1921,O1460+1)>0,\"\",O1460+1))","v":""}]
[null,null,null,null,null,null,null,null,null,null,null,null,null,null,{"$f":"IF(1461<=$B$10,IF(LEN('３学期'!AE13)=0,\"\",IF('３学期'!AE13=$B$8,IF(LEN('３学期'!AH13)=0,\"\",'３学期'!AH13),\"\")),\"\")","v":""},{"$f":"IF(LEN(O1461)=0,\"\",IF(COUNTIF(O1461:$O$1921,O1461+1)>0,\"\",O1461+1))","v":""}]
[null,null,null,null,null,null,null,null,null,null,null,null,null,null,{"$f":"IF(1462<=$B$10,IF(LEN('３学期'!AE16)=0,\"\",IF('３学期'!AE16=$B$8,IF(LEN('３学期'!AH16)=0,\"\",'３学期'!AH16),\"\")),\"\")","v":""},{"$f":"IF(LEN(O1462)=0,\"\",IF(COUNTIF(O1462:$O$1921,O1462+1)>0,\"\",O1462+1))","v":""}]
[null,null,null,null,null,null,null,null,null,null,null,null,null,null,{"$f":"IF(1463<=$B$10,IF(LEN('３学期'!AE19)=0,\"\",IF('３学期'!AE19=$B$8,IF(LEN('３学期'!AH19)=0,\"\",'３学期'!AH19),\"\")),\"\")","v":""},{"$f":"IF(LEN(O1463)=0,\"\",IF(COUNTIF(O1463:$O$1921,O1463+1)>0,\"\",O1463+1))","v":""}]
[null,null,null,null,null,null,null,null,null,null,null,null,null,null,{"$f":"IF(1464<=$B$10,IF(LEN('３学期'!AE22)=0,\"\",IF('３学期'!AE22=$B$8,IF(LEN('３学期'!AH22)=0,\"\",'３学期'!AH22),\"\")),\"\")","v":""},{"$f":"IF(LEN(O1464)=0,\"\",IF(COUNTIF(O1464:$O$1921,O1464+1)>0,\"\",O1464+1))","v":""}]
[null,null,null,null,null,null,null,null,null,null,null,null,null,null,{"$f":"IF(1465<=$B$10,IF(LEN('３学期'!AE25)=0,\"\",IF('３学期'!AE25=$B$8,IF(LEN('３学期'!AH25)=0,\"\",'３学期'!AH25),\"\")),\"\")","v":""},{"$f":"IF(LEN(O1465)=0,\"\",IF(COUNTIF(O1465:$O$1921,O1465+1)>0,\"\",O1465+1))","v":""}]
[null,null,null,null,null,null,null,null,null,null,null,null,null,null,{"$f":"IF(1466<=$B$10,IF(LEN('３学期'!AI6)=0,\"\",IF('３学期'!AI6=$B$8,IF(LEN('３学期'!AL6)=0,\"\",'３学期'!AL6),\"\")),\"\")","v":""},{"$f":"IF(LEN(O1466)=0,\"\",IF(COUNTIF(O1466:$O$1921,O1466+1)>0,\"\",O1466+1))","v":""}]
[null,null,null,null,null,null,null,null,null,null,null,null,null,null,{"$f":"IF(1467<=$B$10,IF(LEN('３学期'!AI7)=0,\"\",IF('３学期'!AI7=$B$8,IF(LEN('３学期'!AL7)=0,\"\",'３学期'!AL7),\"\")),\"\")","v":""},{"$f":"IF(LEN(O1467)=0,\"\",IF(COUNTIF(O1467:$O$1921,O1467+1)>0,\"\",O1467+1))","v":""}]
[null,null,null,null,null,null,null,null,null,null,null,null,null,null,{"$f":"IF(1468<=$B$10,IF(LEN('３学期'!AI10)=0,\"\",IF('３学期'!AI10=$B$8,IF(LEN('３学期'!AL10)=0,\"\",'３学期'!AL10),\"\")),\"\")","v":""},{"$f":"IF(LEN(O1468)=0,\"\",IF(COUNTIF(O1468:$O$1921,O1468+1)>0,\"\",O1468+1))","v":""}]
[null,null,null,null,null,null,null,null,null,null,null,null,null,null,{"$f":"IF(1469<=$B$10,IF(LEN('３学期'!AI13)=0,\"\",IF('３学期'!AI13=$B$8,IF(LEN('３学期'!AL13)=0,\"\",'３学期'!AL13),\"\")),\"\")","v":""},{"$f":"IF(LEN(O1469)=0,\"\",IF(COUNTIF(O1469:$O$1921,O1469+1)>0,\"\",O1469+1))","v":""}]
[null,null,null,null,null,null,null,null,null,null,null,null,null,null,{"$f":"IF(1470<=$B$10,IF(LEN('３学期'!AI16)=0,\"\",IF('３学期'!AI16=$B$8,IF(LEN('３学期'!AL16)=0,\"\",'３学期'!AL16),\"\")),\"\")","v":""},{"$f":"IF(LEN(O1470)=0,\"\",IF(COUNTIF(O1470:$O$1921,O1470+1)>0,\"\",O1470+1))","v":""}]
[null,null,null,null,null,null,null,null,null,null,null,null,null,null,{"$f":"IF(1471<=$B$10,IF(LEN('３学期'!AI19)=0,\"\",IF('３学期'!AI19=$B$8,IF(LEN('３学期'!AL19)=0,\"\",'３学期'!AL19),\"\")),\"\")","v":""},{"$f":"IF(LEN(O1471)=0,\"\",IF(COUNTIF(O1471:$O$1921,O1471+1)>0,\"\",O1471+1))","v":""}]
[null,null,null,null,null,null,null,null,null,null,null,null,null,null,{"$f":"IF(1472<=$B$10,IF(LEN('３学期'!AI22)=0,\"\",IF('３学期'!AI22=$B$8,IF(LEN('３学期'!AL22)=0,\"\",'３学期'!AL22),\"\")),\"\")","v":""},{"$f":"IF(LEN(O1472)=0,\"\",IF(COUNTIF(O1472:$O$1921,O1472+1)>0,\"\",O1472+1))","v":""}]
[null,null,null,null,null,null,null,null,null,null,null,null,null,null,{"$f":"IF(1473<=$B$10,IF(LEN('３学期'!AI25)=0,\"\",IF('３学期'!AI25=$B$8,IF(LEN('３学期'!AL25)=0,\"\",'３学期'!AL25),\"\")),\"\")","v":""},{"$f":"IF(LEN(O1473)=0,\"\",IF(COUNTIF(O1473:$O$1921,O1473+1)>0,\"\",O1473+1))","v":""}]
[null,null,null,null,null,null,null,null,null,null,null,null,null,null,{"$f":"IF(1474<=$B$10,IF(LEN('３学期'!AM6)=0,\"\",IF('３学期'!AM6=$B$8,IF(LEN('３学期'!AP6)=0,\"\",'３学期'!AP6),\"\")),\"\")","v":""},{"$f":"IF(LEN(O1474)=0,\"\",IF(COUNTIF(O1474:$O$1921,O1474+1)>0,\"\",O1474+1))","v":""}]
[null,null,null,null,null,null,null,null,null,null,null,null,null,null,{"$f":"IF(1475<=$B$10,IF(LEN('３学期'!AM7)=0,\"\",IF('３学期'!AM7=$B$8,IF(LEN('３学期'!AP7)=0,\"\",'３学期'!AP7),\"\")),\"\")","v":""},{"$f":"IF(LEN(O1475)=0,\"\",IF(COUNTIF(O1475:$O$1921,O1475+1)>0,\"\",O1475+1))","v":""}]
[null,null,null,null,null,null,null,null,null,null,null,null,null,null,{"$f":"IF(1476<=$B$10,IF(LEN('３学期'!AM10)=0,\"\",IF('３学期'!AM10=$B$8,IF(LEN('３学期'!AP10)=0,\"\",'３学期'!AP10),\"\")),\"\")","v":""},{"$f":"IF(LEN(O1476)=0,\"\",IF(COUNTIF(O1476:$O$1921,O1476+1)>0,\"\",O1476+1))","v":""}]
[null,null,null,null,null,null,null,null,null,null,null,null,null,null,{"$f":"IF(1477<=$B$10,IF(LEN('３学期'!AM13)=0,\"\",IF('３学期'!AM13=$B$8,IF(LEN('３学期'!AP13)=0,\"\",'３学期'!AP13),\"\")),\"\")","v":""},{"$f":"IF(LEN(O1477)=0,\"\",IF(COUNTIF(O1477:$O$1921,O1477+1)>0,\"\",O1477+1))","v":""}]
[null,null,null,null,null,null,null,null,null,null,null,null,null,null,{"$f":"IF(1478<=$B$10,IF(LEN('３学期'!AM16)=0,\"\",IF('３学期'!AM16=$B$8,IF(LEN('３学期'!AP16)=0,\"\",'３学期'!AP16),\"\")),\"\")","v":""},{"$f":"IF(LEN(O1478)=0,\"\",IF(COUNTIF(O1478:$O$1921,O1478+1)>0,\"\",O1478+1))","v":""}]
[null,null,null,null,null,null,null,null,null,null,null,null,null,null,{"$f":"IF(1479<=$B$10,IF(LEN('３学期'!AM19)=0,\"\",IF('３学期'!AM19=$B$8,IF(LEN('３学期'!AP19)=0,\"\",'３学期'!AP19),\"\")),\"\")","v":""},{"$f":"IF(LEN(O1479)=0,\"\",IF(COUNTIF(O1479:$O$1921,O1479+1)>0,\"\",O1479+1))","v":""}]
[null,null,null,null,null,null,null,null,null,null,null,null,null,null,{"$f":"IF(1480<=$B$10,IF(LEN('３学期'!AM22)=0,\"\",IF('３学期'!AM22=$B$8,IF(LEN('３学期'!AP22)=0,\"\",'３学期'!AP22),\"\")),\"\")","v":""},{"$f":"IF(LEN(O1480)=0,\"\",IF(COUNTIF(O1480:$O$1921,O1480+1)>0,\"\",O1480+1))","v":""}]
[null,null,null,null,null,null,null,null,null,null,null,null,null,null,{"$f":"IF(1481<=$B$10,IF(LEN('３学期'!AM25)=0,\"\",IF('３学期'!AM25=$B$8,IF(LEN('３学期'!AP25)=0,\"\",'３学期'!AP25),\"\")),\"\")","v":""},{"$f":"IF(LEN(O1481)=0,\"\",IF(COUNTIF(O1481:$O$1921,O1481+1)>0,\"\",O1481+1))","v":""}]
[null,null,null,null,null,null,null,null,null,null,null,null,null,null,{"$f":"IF(1482<=$B$10,IF(LEN('３学期'!AQ6)=0,\"\",IF('３学期'!AQ6=$B$8,IF(LEN('３学期'!AT6)=0,\"\",'３学期'!AT6),\"\")),\"\")","v":""},{"$f":"IF(LEN(O1482)=0,\"\",IF(COUNTIF(O1482:$O$1921,O1482+1)>0,\"\",O1482+1))","v":""}]
[null,null,null,null,null,null,null,null,null,null,null,null,null,null,{"$f":"IF(1483<=$B$10,IF(LEN('３学期'!AQ7)=0,\"\",IF('３学期'!AQ7=$B$8,IF(LEN('３学期'!AT7)=0,\"\",'３学期'!AT7),\"\")),\"\")","v":""},{"$f":"IF(LEN(O1483)=0,\"\",IF(COUNTIF(O1483:$O$1921,O1483+1)>0,\"\",O1483+1))","v":""}]
[null,null,null,null,null,null,null,null,null,null,null,null,null,null,{"$f":"IF(1484<=$B$10,IF(LEN('３学期'!AQ10)=0,\"\",IF('３学期'!AQ10=$B$8,IF(LEN('３学期'!AT10)=0,\"\",'３学期'!AT10),\"\")),\"\")","v":""},{"$f":"IF(LEN(O1484)=0,\"\",IF(COUNTIF(O1484:$O$1921,O1484+1)>0,\"\",O1484+1))","v":""}]
[null,null,null,null,null,null,null,null,null,null,null,null,null,null,{"$f":"IF(1485<=$B$10,IF(LEN('３学期'!AQ13)=0,\"\",IF('３学期'!AQ13=$B$8,IF(LEN('３学期'!AT13)=0,\"\",'３学期'!AT13),\"\")),\"\")","v":""},{"$f":"IF(LEN(O1485)=0,\"\",IF(COUNTIF(O1485:$O$1921,O1485+1)>0,\"\",O1485+1))","v":""}]
[null,null,null,null,null,null,null,null,null,null,null,null,null,null,{"$f":"IF(1486<=$B$10,IF(LEN('３学期'!AQ16)=0,\"\",IF('３学期'!AQ16=$B$8,IF(LEN('３学期'!AT16)=0,\"\",'３学期'!AT16),\"\")),\"\")","v":""},{"$f":"IF(LEN(O1486)=0,\"\",IF(COUNTIF(O1486:$O$1921,O1486+1)>0,\"\",O1486+1))","v":""}]
[null,null,null,null,null,null,null,null,null,null,null,null,null,null,{"$f":"IF(1487<=$B$10,IF(LEN('３学期'!AQ19)=0,\"\",IF('３学期'!AQ19=$B$8,IF(LEN('３学期'!AT19)=0,\"\",'３学期'!AT19),\"\")),\"\")","v":""},{"$f":"IF(LEN(O1487)=0,\"\",IF(COUNTIF(O1487:$O$1921,O1487+1)>0,\"\",O1487+1))","v":""}]
[null,null,null,null,null,null,null,null,null,null,null,null,null,null,{"$f":"IF(1488<=$B$10,IF(LEN('３学期'!AQ22)=0,\"\",IF('３学期'!AQ22=$B$8,IF(LEN('３学期'!AT22)=0,\"\",'３学期'!AT22),\"\")),\"\")","v":""},{"$f":"IF(LEN(O1488)=0,\"\",IF(COUNTIF(O1488:$O$1921,O1488+1)>0,\"\",O1488+1))","v":""}]
[null,null,null,null,null,null,null,null,null,null,null,null,null,null,{"$f":"IF(1489<=$B$10,IF(LEN('３学期'!AQ25)=0,\"\",IF('３学期'!AQ25=$B$8,IF(LEN('３学期'!AT25)=0,\"\",'３学期'!AT25),\"\")),\"\")","v":""},{"$f":"IF(LEN(O1489)=0,\"\",IF(COUNTIF(O1489:$O$1921,O1489+1)>0,\"\",O1489+1))","v":""}]
[null,null,null,null,null,null,null,null,null,null,null,null,null,null,{"$f":"IF(1490<=$B$10,IF(LEN('３学期'!AU6)=0,\"\",IF('３学期'!AU6=$B$8,IF(LEN('３学期'!AX6)=0,\"\",'３学期'!AX6),\"\")),\"\")","v":""},{"$f":"IF(LEN(O1490)=0,\"\",IF(COUNTIF(O1490:$O$1921,O1490+1)>0,\"\",O1490+1))","v":""}]
[null,null,null,null,null,null,null,null,null,null,null,null,null,null,{"$f":"IF(1491<=$B$10,IF(LEN('３学期'!AU7)=0,\"\",IF('３学期'!AU7=$B$8,IF(LEN('３学期'!AX7)=0,\"\",'３学期'!AX7),\"\")),\"\")","v":""},{"$f":"IF(LEN(O1491)=0,\"\",IF(COUNTIF(O1491:$O$1921,O1491+1)>0,\"\",O1491+1))","v":""}]
[null,null,null,null,null,null,null,null,null,null,null,null,null,null,{"$f":"IF(1492<=$B$10,IF(LEN('３学期'!AU10)=0,\"\",IF('３学期'!AU10=$B$8,IF(LEN('３学期'!AX10)=0,\"\",'３学期'!AX10),\"\")),\"\")","v":""},{"$f":"IF(LEN(O1492)=0,\"\",IF(COUNTIF(O1492:$O$1921,O1492+1)>0,\"\",O1492+1))","v":""}]
[null,null,null,null,null,null,null,null,null,null,null,null,null,null,{"$f":"IF(1493<=$B$10,IF(LEN('３学期'!AU13)=0,\"\",IF('３学期'!AU13=$B$8,IF(LEN('３学期'!AX13)=0,\"\",'３学期'!AX13),\"\")),\"\")","v":""},{"$f":"IF(LEN(O1493)=0,\"\",IF(COUNTIF(O1493:$O$1921,O1493+1)>0,\"\",O1493+1))","v":""}]
[null,null,null,null,null,null,null,null,null,null,null,null,null,null,{"$f":"IF(1494<=$B$10,IF(LEN('３学期'!AU16)=0,\"\",IF('３学期'!AU16=$B$8,IF(LEN('３学期'!AX16)=0,\"\",'３学期'!AX16),\"\")),\"\")","v":""},{"$f":"IF(LEN(O1494)=0,\"\",IF(COUNTIF(O1494:$O$1921,O1494+1)>0,\"\",O1494+1))","v":""}]
[null,null,null,null,null,null,null,null,null,null,null,null,null,null,{"$f":"IF(1495<=$B$10,IF(LEN('３学期'!AU19)=0,\"\",IF('３学期'!AU19=$B$8,IF(LEN('３学期'!AX19)=0,\"\",'３学期'!AX19),\"\")),\"\")","v":""},{"$f":"IF(LEN(O1495)=0,\"\",IF(COUNTIF(O1495:$O$1921,O1495+1)>0,\"\",O1495+1))","v":""}]
[null,null,null,null,null,null,null,null,null,null,null,null,null,null,{"$f":"IF(1496<=$B$10,IF(LEN('３学期'!AU22)=0,\"\",IF('３学期'!AU22=$B$8,IF(LEN('３学期'!AX22)=0,\"\",'３学期'!AX22),\"\")),\"\")","v":""},{"$f":"IF(LEN(O1496)=0,\"\",IF(COUNTIF(O1496:$O$1921,O1496+1)>0,\"\",O1496+1))","v":""}]
[null,null,null,null,null,null,null,null,null,null,null,null,null,null,{"$f":"IF(1497<=$B$10,IF(LEN('３学期'!AU25)=0,\"\",IF('３学期'!AU25=$B$8,IF(LEN('３学期'!AX25)=0,\"\",'３学期'!AX25),\"\")),\"\")","v":""},{"$f":"IF(LEN(O1497)=0,\"\",IF(COUNTIF(O1497:$O$1921,O1497+1)>0,\"\",O1497+1))","v":""}]
[null,null,null,null,null,null,null,null,null,null,null,null,null,null,{"$f":"IF(1498<=$B$10,IF(LEN('３学期'!AY6)=0,\"\",IF('３学期'!AY6=$B$8,IF(LEN('３学期'!BB6)=0,\"\",'３学期'!BB6),\"\")),\"\")","v":""},{"$f":"IF(LEN(O1498)=0,\"\",IF(COUNTIF(O1498:$O$1921,O1498+1)>0,\"\",O1498+1))","v":""}]
[null,null,null,null,null,null,null,null,null,null,null,null,null,null,{"$f":"IF(1499<=$B$10,IF(LEN('３学期'!AY7)=0,\"\",IF('３学期'!AY7=$B$8,IF(LEN('３学期'!BB7)=0,\"\",'３学期'!BB7),\"\")),\"\")","v":""},{"$f":"IF(LEN(O1499)=0,\"\",IF(COUNTIF(O1499:$O$1921,O1499+1)>0,\"\",O1499+1))","v":""}]
[null,null,null,null,null,null,null,null,null,null,null,null,null,null,{"$f":"IF(1500<=$B$10,IF(LEN('３学期'!AY10)=0,\"\",IF('３学期'!AY10=$B$8,IF(LEN('３学期'!BB10)=0,\"\",'３学期'!BB10),\"\")),\"\")","v":""},{"$f":"IF(LEN(O1500)=0,\"\",IF(COUNTIF(O1500:$O$1921,O1500+1)>0,\"\",O1500+1))","v":""}]
[null,null,null,null,null,null,null,null,null,null,null,null,null,null,{"$f":"IF(1501<=$B$10,IF(LEN('３学期'!AY13)=0,\"\",IF('３学期'!AY13=$B$8,IF(LEN('３学期'!BB13)=0,\"\",'３学期'!BB13),\"\")),\"\")","v":""},{"$f":"IF(LEN(O1501)=0,\"\",IF(COUNTIF(O1501:$O$1921,O1501+1)>0,\"\",O1501+1))","v":""}]
[null,null,null,null,null,null,null,null,null,null,null,null,null,null,{"$f":"IF(1502<=$B$10,IF(LEN('３学期'!AY16)=0,\"\",IF('３学期'!AY16=$B$8,IF(LEN('３学期'!BB16)=0,\"\",'３学期'!BB16),\"\")),\"\")","v":""},{"$f":"IF(LEN(O1502)=0,\"\",IF(COUNTIF(O1502:$O$1921,O1502+1)>0,\"\",O1502+1))","v":""}]
[null,null,null,null,null,null,null,null,null,null,null,null,null,null,{"$f":"IF(1503<=$B$10,IF(LEN('３学期'!AY19)=0,\"\",IF('３学期'!AY19=$B$8,IF(LEN('３学期'!BB19)=0,\"\",'３学期'!BB19),\"\")),\"\")","v":""},{"$f":"IF(LEN(O1503)=0,\"\",IF(COUNTIF(O1503:$O$1921,O1503+1)>0,\"\",O1503+1))","v":""}]
[null,null,null,null,null,null,null,null,null,null,null,null,null,null,{"$f":"IF(1504<=$B$10,IF(LEN('３学期'!AY22)=0,\"\",IF('３学期'!AY22=$B$8,IF(LEN('３学期'!BB22)=0,\"\",'３学期'!BB22),\"\")),\"\")","v":""},{"$f":"IF(LEN(O1504)=0,\"\",IF(COUNTIF(O1504:$O$1921,O1504+1)>0,\"\",O1504+1))","v":""}]
[null,null,null,null,null,null,null,null,null,null,null,null,null,null,{"$f":"IF(1505<=$B$10,IF(LEN('３学期'!AY25)=0,\"\",IF('３学期'!AY25=$B$8,IF(LEN('３学期'!BB25)=0,\"\",'３学期'!BB25),\"\")),\"\")","v":""},{"$f":"IF(LEN(O1505)=0,\"\",IF(COUNTIF(O1505:$O$1921,O1505+1)>0,\"\",O1505+1))","v":""}]
[null,null,null,null,null,null,null,null,null,null,null,null,null,null,{"$f":"IF(1506<=$B$10,IF(LEN('３学期'!BC6)=0,\"\",IF('３学期'!BC6=$B$8,IF(LEN('３学期'!BF6)=0,\"\",'３学期'!BF6),\"\")),\"\")","v":""},{"$f":"IF(LEN(O1506)=0,\"\",IF(COUNTIF(O1506:$O$1921,O1506+1)>0,\"\",O1506+1))","v":""}]
[null,null,null,null,null,null,null,null,null,null,null,null,null,null,{"$f":"IF(1507<=$B$10,IF(LEN('３学期'!BC7)=0,\"\",IF('３学期'!BC7=$B$8,IF(LEN('３学期'!BF7)=0,\"\",'３学期'!BF7),\"\")),\"\")","v":""},{"$f":"IF(LEN(O1507)=0,\"\",IF(COUNTIF(O1507:$O$1921,O1507+1)>0,\"\",O1507+1))","v":""}]
[null,null,null,null,null,null,null,null,null,null,null,null,null,null,{"$f":"IF(1508<=$B$10,IF(LEN('３学期'!BC10)=0,\"\",IF('３学期'!BC10=$B$8,IF(LEN('３学期'!BF10)=0,\"\",'３学期'!BF10),\"\")),\"\")","v":""},{"$f":"IF(LEN(O1508)=0,\"\",IF(COUNTIF(O1508:$O$1921,O1508+1)>0,\"\",O1508+1))","v":""}]
[null,null,null,null,null,null,null,null,null,null,null,null,null,null,{"$f":"IF(1509<=$B$10,IF(LEN('３学期'!BC13)=0,\"\",IF('３学期'!BC13=$B$8,IF(LEN('３学期'!BF13)=0,\"\",'３学期'!BF13),\"\")),\"\")","v":""},{"$f":"IF(LEN(O1509)=0,\"\",IF(COUNTIF(O1509:$O$1921,O1509+1)>0,\"\",O1509+1))","v":""}]
[null,null,null,null,null,null,null,null,null,null,null,null,null,null,{"$f":"IF(1510<=$B$10,IF(LEN('３学期'!BC16)=0,\"\",IF('３学期'!BC16=$B$8,IF(LEN('３学期'!BF16)=0,\"\",'３学期'!BF16),\"\")),\"\")","v":""},{"$f":"IF(LEN(O1510)=0,\"\",IF(COUNTIF(O1510:$O$1921,O1510+1)>0,\"\",O1510+1))","v":""}]
[null,null,null,null,null,null,null,null,null,null,null,null,null,null,{"$f":"IF(1511<=$B$10,IF(LEN('３学期'!BC19)=0,\"\",IF('３学期'!BC19=$B$8,IF(LEN('３学期'!BF19)=0,\"\",'３学期'!BF19),\"\")),\"\")","v":""},{"$f":"IF(LEN(O1511)=0,\"\",IF(COUNTIF(O1511:$O$1921,O1511+1)>0,\"\",O1511+1))","v":""}]
[null,null,null,null,null,null,null,null,null,null,null,null,null,null,{"$f":"IF(1512<=$B$10,IF(LEN('３学期'!BC22)=0,\"\",IF('３学期'!BC22=$B$8,IF(LEN('３学期'!BF22)=0,\"\",'３学期'!BF22),\"\")),\"\")","v":""},{"$f":"IF(LEN(O1512)=0,\"\",IF(COUNTIF(O1512:$O$1921,O1512+1)>0,\"\",O1512+1))","v":""}]
[null,null,null,null,null,null,null,null,null,null,null,null,null,null,{"$f":"IF(1513<=$B$10,IF(LEN('３学期'!BC25)=0,\"\",IF('３学期'!BC25=$B$8,IF(LEN('３学期'!BF25)=0,\"\",'３学期'!BF25),\"\")),\"\")","v":""},{"$f":"IF(LEN(O1513)=0,\"\",IF(COUNTIF(O1513:$O$1921,O1513+1)>0,\"\",O1513+1))","v":""}]
[null,null,null,null,null,null,null,null,null,null,null,null,null,null,{"$f":"IF(1514<=$B$10,IF(LEN('３学期'!BG6)=0,\"\",IF('３学期'!BG6=$B$8,IF(LEN('３学期'!BJ6)=0,\"\",'３学期'!BJ6),\"\")),\"\")","v":""},{"$f":"IF(LEN(O1514)=0,\"\",IF(COUNTIF(O1514:$O$1921,O1514+1)>0,\"\",O1514+1))","v":""}]
[null,null,null,null,null,null,null,null,null,null,null,null,null,null,{"$f":"IF(1515<=$B$10,IF(LEN('３学期'!BG7)=0,\"\",IF('３学期'!BG7=$B$8,IF(LEN('３学期'!BJ7)=0,\"\",'３学期'!BJ7),\"\")),\"\")","v":""},{"$f":"IF(LEN(O1515)=0,\"\",IF(COUNTIF(O1515:$O$1921,O1515+1)>0,\"\",O1515+1))","v":""}]
[null,null,null,null,null,null,null,null,null,null,null,null,null,null,{"$f":"IF(1516<=$B$10,IF(LEN('３学期'!BG10)=0,\"\",IF('３学期'!BG10=$B$8,IF(LEN('３学期'!BJ10)=0,\"\",'３学期'!BJ10),\"\")),\"\")","v":""},{"$f":"IF(LEN(O1516)=0,\"\",IF(COUNTIF(O1516:$O$1921,O1516+1)>0,\"\",O1516+1))","v":""}]
[null,null,null,null,null,null,null,null,null,null,null,null,null,null,{"$f":"IF(1517<=$B$10,IF(LEN('３学期'!BG13)=0,\"\",IF('３学期'!BG13=$B$8,IF(LEN('３学期'!BJ13)=0,\"\",'３学期'!BJ13),\"\")),\"\")","v":""},{"$f":"IF(LEN(O1517)=0,\"\",IF(COUNTIF(O1517:$O$1921,O1517+1)>0,\"\",O1517+1))","v":""}]
[null,null,null,null,null,null,null,null,null,null,null,null,null,null,{"$f":"IF(1518<=$B$10,IF(LEN('３学期'!BG16)=0,\"\",IF('３学期'!BG16=$B$8,IF(LEN('３学期'!BJ16)=0,\"\",'３学期'!BJ16),\"\")),\"\")","v":""},{"$f":"IF(LEN(O1518)=0,\"\",IF(COUNTIF(O1518:$O$1921,O1518+1)>0,\"\",O1518+1))","v":""}]
[null,null,null,null,null,null,null,null,null,null,null,null,null,null,{"$f":"IF(1519<=$B$10,IF(LEN('３学期'!BG19)=0,\"\",IF('３学期'!BG19=$B$8,IF(LEN('３学期'!BJ19)=0,\"\",'３学期'!BJ19),\"\")),\"\")","v":""},{"$f":"IF(LEN(O1519)=0,\"\",IF(COUNTIF(O1519:$O$1921,O1519+1)>0,\"\",O1519+1))","v":""}]
[null,null,null,null,null,null,null,null,null,null,null,null,null,null,{"$f":"IF(1520<=$B$10,IF(LEN('３学期'!BG22)=0,\"\",IF('３学期'!BG22=$B$8,IF(LEN('３学期'!BJ22)=0,\"\",'３学期'!BJ22),\"\")),\"\")","v":""},{"$f":"IF(LEN(O1520)=0,\"\",IF(COUNTIF(O1520:$O$1921,O1520+1)>0,\"\",O1520+1))","v":""}]
[null,null,null,null,null,null,null,null,null,null,null,null,null,null,{"$f":"IF(1521<=$B$10,IF(LEN('３学期'!BG25)=0,\"\",IF('３学期'!BG25=$B$8,IF(LEN('３学期'!BJ25)=0,\"\",'３学期'!BJ25),\"\")),\"\")","v":""},{"$f":"IF(LEN(O1521)=0,\"\",IF(COUNTIF(O1521:$O$1921,O1521+1)>0,\"\",O1521+1))","v":""}]
[null,null,null,null,null,null,null,null,null,null,null,null,null,null,{"$f":"IF(1522<=$B$10,IF(LEN('３学期'!BK6)=0,\"\",IF('３学期'!BK6=$B$8,IF(LEN('３学期'!BN6)=0,\"\",'３学期'!BN6),\"\")),\"\")","v":""},{"$f":"IF(LEN(O1522)=0,\"\",IF(COUNTIF(O1522:$O$1921,O1522+1)>0,\"\",O1522+1))","v":""}]
[null,null,null,null,null,null,null,null,null,null,null,null,null,null,{"$f":"IF(1523<=$B$10,IF(LEN('３学期'!BK7)=0,\"\",IF('３学期'!BK7=$B$8,IF(LEN('３学期'!BN7)=0,\"\",'３学期'!BN7),\"\")),\"\")","v":""},{"$f":"IF(LEN(O1523)=0,\"\",IF(COUNTIF(O1523:$O$1921,O1523+1)>0,\"\",O1523+1))","v":""}]
[null,null,null,null,null,null,null,null,null,null,null,null,null,null,{"$f":"IF(1524<=$B$10,IF(LEN('３学期'!BK10)=0,\"\",IF('３学期'!BK10=$B$8,IF(LEN('３学期'!BN10)=0,\"\",'３学期'!BN10),\"\")),\"\")","v":""},{"$f":"IF(LEN(O1524)=0,\"\",IF(COUNTIF(O1524:$O$1921,O1524+1)>0,\"\",O1524+1))","v":""}]
[null,null,null,null,null,null,null,null,null,null,null,null,null,null,{"$f":"IF(1525<=$B$10,IF(LEN('３学期'!BK13)=0,\"\",IF('３学期'!BK13=$B$8,IF(LEN('３学期'!BN13)=0,\"\",'３学期'!BN13),\"\")),\"\")","v":""},{"$f":"IF(LEN(O1525)=0,\"\",IF(COUNTIF(O1525:$O$1921,O1525+1)>0,\"\",O1525+1))","v":""}]
[null,null,null,null,null,null,null,null,null,null,null,null,null,null,{"$f":"IF(1526<=$B$10,IF(LEN('３学期'!BK16)=0,\"\",IF('３学期'!BK16=$B$8,IF(LEN('３学期'!BN16)=0,\"\",'３学期'!BN16),\"\")),\"\")","v":""},{"$f":"IF(LEN(O1526)=0,\"\",IF(COUNTIF(O1526:$O$1921,O1526+1)>0,\"\",O1526+1))","v":""}]
[null,null,null,null,null,null,null,null,null,null,null,null,null,null,{"$f":"IF(1527<=$B$10,IF(LEN('３学期'!BK19)=0,\"\",IF('３学期'!BK19=$B$8,IF(LEN('３学期'!BN19)=0,\"\",'３学期'!BN19),\"\")),\"\")","v":""},{"$f":"IF(LEN(O1527)=0,\"\",IF(COUNTIF(O1527:$O$1921,O1527+1)>0,\"\",O1527+1))","v":""}]
[null,null,null,null,null,null,null,null,null,null,null,null,null,null,{"$f":"IF(1528<=$B$10,IF(LEN('３学期'!BK22)=0,\"\",IF('３学期'!BK22=$B$8,IF(LEN('３学期'!BN22)=0,\"\",'３学期'!BN22),\"\")),\"\")","v":""},{"$f":"IF(LEN(O1528)=0,\"\",IF(COUNTIF(O1528:$O$1921,O1528+1)>0,\"\",O1528+1))","v":""}]
[null,null,null,null,null,null,null,null,null,null,null,null,null,null,{"$f":"IF(1529<=$B$10,IF(LEN('３学期'!BK25)=0,\"\",IF('３学期'!BK25=$B$8,IF(LEN('３学期'!BN25)=0,\"\",'３学期'!BN25),\"\")),\"\")","v":""},{"$f":"IF(LEN(O1529)=0,\"\",IF(COUNTIF(O1529:$O$1921,O1529+1)>0,\"\",O1529+1))","v":""}]
[null,null,null,null,null,null,null,null,null,null,null,null,null,null,{"$f":"IF(1530<=$B$10,IF(LEN('３学期'!BO6)=0,\"\",IF('３学期'!BO6=$B$8,IF(LEN('３学期'!BR6)=0,\"\",'３学期'!BR6),\"\")),\"\")","v":""},{"$f":"IF(LEN(O1530)=0,\"\",IF(COUNTIF(O1530:$O$1921,O1530+1)>0,\"\",O1530+1))","v":""}]
[null,null,null,null,null,null,null,null,null,null,null,null,null,null,{"$f":"IF(1531<=$B$10,IF(LEN('３学期'!BO7)=0,\"\",IF('３学期'!BO7=$B$8,IF(LEN('３学期'!BR7)=0,\"\",'３学期'!BR7),\"\")),\"\")","v":""},{"$f":"IF(LEN(O1531)=0,\"\",IF(COUNTIF(O1531:$O$1921,O1531+1)>0,\"\",O1531+1))","v":""}]
[null,null,null,null,null,null,null,null,null,null,null,null,null,null,{"$f":"IF(1532<=$B$10,IF(LEN('３学期'!BO10)=0,\"\",IF('３学期'!BO10=$B$8,IF(LEN('３学期'!BR10)=0,\"\",'３学期'!BR10),\"\")),\"\")","v":""},{"$f":"IF(LEN(O1532)=0,\"\",IF(COUNTIF(O1532:$O$1921,O1532+1)>0,\"\",O1532+1))","v":""}]
[null,null,null,null,null,null,null,null,null,null,null,null,null,null,{"$f":"IF(1533<=$B$10,IF(LEN('３学期'!BO13)=0,\"\",IF('３学期'!BO13=$B$8,IF(LEN('３学期'!BR13)=0,\"\",'３学期'!BR13),\"\")),\"\")","v":""},{"$f":"IF(LEN(O1533)=0,\"\",IF(COUNTIF(O1533:$O$1921,O1533+1)>0,\"\",O1533+1))","v":""}]
[null,null,null,null,null,null,null,null,null,null,null,null,null,null,{"$f":"IF(1534<=$B$10,IF(LEN('３学期'!BO16)=0,\"\",IF('３学期'!BO16=$B$8,IF(LEN('３学期'!BR16)=0,\"\",'３学期'!BR16),\"\")),\"\")","v":""},{"$f":"IF(LEN(O1534)=0,\"\",IF(COUNTIF(O1534:$O$1921,O1534+1)>0,\"\",O1534+1))","v":""}]
[null,null,null,null,null,null,null,null,null,null,null,null,null,null,{"$f":"IF(1535<=$B$10,IF(LEN('３学期'!BO19)=0,\"\",IF('３学期'!BO19=$B$8,IF(LEN('３学期'!BR19)=0,\"\",'３学期'!BR19),\"\")),\"\")","v":""},{"$f":"IF(LEN(O1535)=0,\"\",IF(COUNTIF(O1535:$O$1921,O1535+1)>0,\"\",O1535+1))","v":""}]
[null,null,null,null,null,null,null,null,null,null,null,null,null,null,{"$f":"IF(1536<=$B$10,IF(LEN('３学期'!BO22)=0,\"\",IF('３学期'!BO22=$B$8,IF(LEN('３学期'!BR22)=0,\"\",'３学期'!BR22),\"\")),\"\")","v":""},{"$f":"IF(LEN(O1536)=0,\"\",IF(COUNTIF(O1536:$O$1921,O1536+1)>0,\"\",O1536+1))","v":""}]
[null,null,null,null,null,null,null,null,null,null,null,null,null,null,{"$f":"IF(1537<=$B$10,IF(LEN('３学期'!BO25)=0,\"\",IF('３学期'!BO25=$B$8,IF(LEN('３学期'!BR25)=0,\"\",'３学期'!BR25),\"\")),\"\")","v":""},{"$f":"IF(LEN(O1537)=0,\"\",IF(COUNTIF(O1537:$O$1921,O1537+1)>0,\"\",O1537+1))","v":""}]
[null,null,null,null,null,null,null,null,null,null,null,null,null,null,{"$f":"IF(1538<=$B$10,IF(LEN('３学期'!BS6)=0,\"\",IF('３学期'!BS6=$B$8,IF(LEN('３学期'!BV6)=0,\"\",'３学期'!BV6),\"\")),\"\")","v":""},{"$f":"IF(LEN(O1538)=0,\"\",IF(COUNTIF(O1538:$O$1921,O1538+1)>0,\"\",O1538+1))","v":""}]
[null,null,null,null,null,null,null,null,null,null,null,null,null,null,{"$f":"IF(1539<=$B$10,IF(LEN('３学期'!BS7)=0,\"\",IF('３学期'!BS7=$B$8,IF(LEN('３学期'!BV7)=0,\"\",'３学期'!BV7),\"\")),\"\")","v":""},{"$f":"IF(LEN(O1539)=0,\"\",IF(COUNTIF(O1539:$O$1921,O1539+1)>0,\"\",O1539+1))","v":""}]
[null,null,null,null,null,null,null,null,null,null,null,null,null,null,{"$f":"IF(1540<=$B$10,IF(LEN('３学期'!BS10)=0,\"\",IF('３学期'!BS10=$B$8,IF(LEN('３学期'!BV10)=0,\"\",'３学期'!BV10),\"\")),\"\")","v":""},{"$f":"IF(LEN(O1540)=0,\"\",IF(COUNTIF(O1540:$O$1921,O1540+1)>0,\"\",O1540+1))","v":""}]
[null,null,null,null,null,null,null,null,null,null,null,null,null,null,{"$f":"IF(1541<=$B$10,IF(LEN('３学期'!BS13)=0,\"\",IF('３学期'!BS13=$B$8,IF(LEN('３学期'!BV13)=0,\"\",'３学期'!BV13),\"\")),\"\")","v":""},{"$f":"IF(LEN(O1541)=0,\"\",IF(COUNTIF(O1541:$O$1921,O1541+1)>0,\"\",O1541+1))","v":""}]
[null,null,null,null,null,null,null,null,null,null,null,null,null,null,{"$f":"IF(1542<=$B$10,IF(LEN('３学期'!BS16)=0,\"\",IF('３学期'!BS16=$B$8,IF(LEN('３学期'!BV16)=0,\"\",'３学期'!BV16),\"\")),\"\")","v":""},{"$f":"IF(LEN(O1542)=0,\"\",IF(COUNTIF(O1542:$O$1921,O1542+1)>0,\"\",O1542+1))","v":""}]
[null,null,null,null,null,null,null,null,null,null,null,null,null,null,{"$f":"IF(1543<=$B$10,IF(LEN('３学期'!BS19)=0,\"\",IF('３学期'!BS19=$B$8,IF(LEN('３学期'!BV19)=0,\"\",'３学期'!BV19),\"\")),\"\")","v":""},{"$f":"IF(LEN(O1543)=0,\"\",IF(COUNTIF(O1543:$O$1921,O1543+1)>0,\"\",O1543+1))","v":""}]
[null,null,null,null,null,null,null,null,null,null,null,null,null,null,{"$f":"IF(1544<=$B$10,IF(LEN('３学期'!BS22)=0,\"\",IF('３学期'!BS22=$B$8,IF(LEN('３学期'!BV22)=0,\"\",'３学期'!BV22),\"\")),\"\")","v":""},{"$f":"IF(LEN(O1544)=0,\"\",IF(COUNTIF(O1544:$O$1921,O1544+1)>0,\"\",O1544+1))","v":""}]
[null,null,null,null,null,null,null,null,null,null,null,null,null,null,{"$f":"IF(1545<=$B$10,IF(LEN('３学期'!BS25)=0,\"\",IF('３学期'!BS25=$B$8,IF(LEN('３学期'!BV25)=0,\"\",'３学期'!BV25),\"\")),\"\")","v":""},{"$f":"IF(LEN(O1545)=0,\"\",IF(COUNTIF(O1545:$O$1921,O1545+1)>0,\"\",O1545+1))","v":""}]
[null,null,null,null,null,null,null,null,null,null,null,null,null,null,{"$f":"IF(1546<=$B$10,IF(LEN('３学期'!BW6)=0,\"\",IF('３学期'!BW6=$B$8,IF(LEN('３学期'!BZ6)=0,\"\",'３学期'!BZ6),\"\")),\"\")","v":""},{"$f":"IF(LEN(O1546)=0,\"\",IF(COUNTIF(O1546:$O$1921,O1546+1)>0,\"\",O1546+1))","v":""}]
[null,null,null,null,null,null,null,null,null,null,null,null,null,null,{"$f":"IF(1547<=$B$10,IF(LEN('３学期'!BW7)=0,\"\",IF('３学期'!BW7=$B$8,IF(LEN('３学期'!BZ7)=0,\"\",'３学期'!BZ7),\"\")),\"\")","v":""},{"$f":"IF(LEN(O1547)=0,\"\",IF(COUNTIF(O1547:$O$1921,O1547+1)>0,\"\",O1547+1))","v":""}]
[null,null,null,null,null,null,null,null,null,null,null,null,null,null,{"$f":"IF(1548<=$B$10,IF(LEN('３学期'!BW10)=0,\"\",IF('３学期'!BW10=$B$8,IF(LEN('３学期'!BZ10)=0,\"\",'３学期'!BZ10),\"\")),\"\")","v":""},{"$f":"IF(LEN(O1548)=0,\"\",IF(COUNTIF(O1548:$O$1921,O1548+1)>0,\"\",O1548+1))","v":""}]
[null,null,null,null,null,null,null,null,null,null,null,null,null,null,{"$f":"IF(1549<=$B$10,IF(LEN('３学期'!BW13)=0,\"\",IF('３学期'!BW13=$B$8,IF(LEN('３学期'!BZ13)=0,\"\",'３学期'!BZ13),\"\")),\"\")","v":""},{"$f":"IF(LEN(O1549)=0,\"\",IF(COUNTIF(O1549:$O$1921,O1549+1)>0,\"\",O1549+1))","v":""}]
[null,null,null,null,null,null,null,null,null,null,null,null,null,null,{"$f":"IF(1550<=$B$10,IF(LEN('３学期'!BW16)=0,\"\",IF('３学期'!BW16=$B$8,IF(LEN('３学期'!BZ16)=0,\"\",'３学期'!BZ16),\"\")),\"\")","v":""},{"$f":"IF(LEN(O1550)=0,\"\",IF(COUNTIF(O1550:$O$1921,O1550+1)>0,\"\",O1550+1))","v":""}]
[null,null,null,null,null,null,null,null,null,null,null,null,null,null,{"$f":"IF(1551<=$B$10,IF(LEN('３学期'!BW19)=0,\"\",IF('３学期'!BW19=$B$8,IF(LEN('３学期'!BZ19)=0,\"\",'３学期'!BZ19),\"\")),\"\")","v":""},{"$f":"IF(LEN(O1551)=0,\"\",IF(COUNTIF(O1551:$O$1921,O1551+1)>0,\"\",O1551+1))","v":""}]
[null,null,null,null,null,null,null,null,null,null,null,null,null,null,{"$f":"IF(1552<=$B$10,IF(LEN('３学期'!BW22)=0,\"\",IF('３学期'!BW22=$B$8,IF(LEN('３学期'!BZ22)=0,\"\",'３学期'!BZ22),\"\")),\"\")","v":""},{"$f":"IF(LEN(O1552)=0,\"\",IF(COUNTIF(O1552:$O$1921,O1552+1)>0,\"\",O1552+1))","v":""}]
[null,null,null,null,null,null,null,null,null,null,null,null,null,null,{"$f":"IF(1553<=$B$10,IF(LEN('３学期'!BW25)=0,\"\",IF('３学期'!BW25=$B$8,IF(LEN('３学期'!BZ25)=0,\"\",'３学期'!BZ25),\"\")),\"\")","v":""},{"$f":"IF(LEN(O1553)=0,\"\",IF(COUNTIF(O1553:$O$1921,O1553+1)>0,\"\",O1553+1))","v":""}]
[null,null,null,null,null,null,null,null,null,null,null,null,null,null,{"$f":"IF(1554<=$B$10,IF(LEN('３学期'!CA6)=0,\"\",IF('３学期'!CA6=$B$8,IF(LEN('３学期'!CD6)=0,\"\",'３学期'!CD6),\"\")),\"\")","v":""},{"$f":"IF(LEN(O1554)=0,\"\",IF(COUNTIF(O1554:$O$1921,O1554+1)>0,\"\",O1554+1))","v":""}]
[null,null,null,null,null,null,null,null,null,null,null,null,null,null,{"$f":"IF(1555<=$B$10,IF(LEN('３学期'!CA7)=0,\"\",IF('３学期'!CA7=$B$8,IF(LEN('３学期'!CD7)=0,\"\",'３学期'!CD7),\"\")),\"\")","v":""},{"$f":"IF(LEN(O1555)=0,\"\",IF(COUNTIF(O1555:$O$1921,O1555+1)>0,\"\",O1555+1))","v":""}]
[null,null,null,null,null,null,null,null,null,null,null,null,null,null,{"$f":"IF(1556<=$B$10,IF(LEN('３学期'!CA10)=0,\"\",IF('３学期'!CA10=$B$8,IF(LEN('３学期'!CD10)=0,\"\",'３学期'!CD10),\"\")),\"\")","v":""},{"$f":"IF(LEN(O1556)=0,\"\",IF(COUNTIF(O1556:$O$1921,O1556+1)>0,\"\",O1556+1))","v":""}]
[null,null,null,null,null,null,null,null,null,null,null,null,null,null,{"$f":"IF(1557<=$B$10,IF(LEN('３学期'!CA13)=0,\"\",IF('３学期'!CA13=$B$8,IF(LEN('３学期'!CD13)=0,\"\",'３学期'!CD13),\"\")),\"\")","v":""},{"$f":"IF(LEN(O1557)=0,\"\",IF(COUNTIF(O1557:$O$1921,O1557+1)>0,\"\",O1557+1))","v":""}]
[null,null,null,null,null,null,null,null,null,null,null,null,null,null,{"$f":"IF(1558<=$B$10,IF(LEN('３学期'!CA16)=0,\"\",IF('３学期'!CA16=$B$8,IF(LEN('３学期'!CD16)=0,\"\",'３学期'!CD16),\"\")),\"\")","v":""},{"$f":"IF(LEN(O1558)=0,\"\",IF(COUNTIF(O1558:$O$1921,O1558+1)>0,\"\",O1558+1))","v":""}]
[null,null,null,null,null,null,null,null,null,null,null,null,null,null,{"$f":"IF(1559<=$B$10,IF(LEN('３学期'!CA19)=0,\"\",IF('３学期'!CA19=$B$8,IF(LEN('３学期'!CD19)=0,\"\",'３学期'!CD19),\"\")),\"\")","v":""},{"$f":"IF(LEN(O1559)=0,\"\",IF(COUNTIF(O1559:$O$1921,O1559+1)>0,\"\",O1559+1))","v":""}]
[null,null,null,null,null,null,null,null,null,null,null,null,null,null,{"$f":"IF(1560<=$B$10,IF(LEN('３学期'!CA22)=0,\"\",IF('３学期'!CA22=$B$8,IF(LEN('３学期'!CD22)=0,\"\",'３学期'!CD22),\"\")),\"\")","v":""},{"$f":"IF(LEN(O1560)=0,\"\",IF(COUNTIF(O1560:$O$1921,O1560+1)>0,\"\",O1560+1))","v":""}]
[null,null,null,null,null,null,null,null,null,null,null,null,null,null,{"$f":"IF(1561<=$B$10,IF(LEN('３学期'!CA25)=0,\"\",IF('３学期'!CA25=$B$8,IF(LEN('３学期'!CD25)=0,\"\",'３学期'!CD25),\"\")),\"\")","v":""},{"$f":"IF(LEN(O1561)=0,\"\",IF(COUNTIF(O1561:$O$1921,O1561+1)>0,\"\",O1561+1))","v":""}]
[null,null,null,null,null,null,null,null,null,null,null,null,null,null,{"$f":"IF(1562<=$B$10,IF(LEN('３学期'!CE6)=0,\"\",IF('３学期'!CE6=$B$8,IF(LEN('３学期'!CH6)=0,\"\",'３学期'!CH6),\"\")),\"\")","v":""},{"$f":"IF(LEN(O1562)=0,\"\",IF(COUNTIF(O1562:$O$1921,O1562+1)>0,\"\",O1562+1))","v":""}]
[null,null,null,null,null,null,null,null,null,null,null,null,null,null,{"$f":"IF(1563<=$B$10,IF(LEN('３学期'!CE7)=0,\"\",IF('３学期'!CE7=$B$8,IF(LEN('３学期'!CH7)=0,\"\",'３学期'!CH7),\"\")),\"\")","v":""},{"$f":"IF(LEN(O1563)=0,\"\",IF(COUNTIF(O1563:$O$1921,O1563+1)>0,\"\",O1563+1))","v":""}]
[null,null,null,null,null,null,null,null,null,null,null,null,null,null,{"$f":"IF(1564<=$B$10,IF(LEN('３学期'!CE10)=0,\"\",IF('３学期'!CE10=$B$8,IF(LEN('３学期'!CH10)=0,\"\",'３学期'!CH10),\"\")),\"\")","v":""},{"$f":"IF(LEN(O1564)=0,\"\",IF(COUNTIF(O1564:$O$1921,O1564+1)>0,\"\",O1564+1))","v":""}]
[null,null,null,null,null,null,null,null,null,null,null,null,null,null,{"$f":"IF(1565<=$B$10,IF(LEN('３学期'!CE13)=0,\"\",IF('３学期'!CE13=$B$8,IF(LEN('３学期'!CH13)=0,\"\",'３学期'!CH13),\"\")),\"\")","v":""},{"$f":"IF(LEN(O1565)=0,\"\",IF(COUNTIF(O1565:$O$1921,O1565+1)>0,\"\",O1565+1))","v":""}]
[null,null,null,null,null,null,null,null,null,null,null,null,null,null,{"$f":"IF(1566<=$B$10,IF(LEN('３学期'!CE16)=0,\"\",IF('３学期'!CE16=$B$8,IF(LEN('３学期'!CH16)=0,\"\",'３学期'!CH16),\"\")),\"\")","v":""},{"$f":"IF(LEN(O1566)=0,\"\",IF(COUNTIF(O1566:$O$1921,O1566+1)>0,\"\",O1566+1))","v":""}]
[null,null,null,null,null,null,null,null,null,null,null,null,null,null,{"$f":"IF(1567<=$B$10,IF(LEN('３学期'!CE19)=0,\"\",IF('３学期'!CE19=$B$8,IF(LEN('３学期'!CH19)=0,\"\",'３学期'!CH19),\"\")),\"\")","v":""},{"$f":"IF(LEN(O1567)=0,\"\",IF(COUNTIF(O1567:$O$1921,O1567+1)>0,\"\",O1567+1))","v":""}]
[null,null,null,null,null,null,null,null,null,null,null,null,null,null,{"$f":"IF(1568<=$B$10,IF(LEN('３学期'!CE22)=0,\"\",IF('３学期'!CE22=$B$8,IF(LEN('３学期'!CH22)=0,\"\",'３学期'!CH22),\"\")),\"\")","v":""},{"$f":"IF(LEN(O1568)=0,\"\",IF(COUNTIF(O1568:$O$1921,O1568+1)>0,\"\",O1568+1))","v":""}]
[null,null,null,null,null,null,null,null,null,null,null,null,null,null,{"$f":"IF(1569<=$B$10,IF(LEN('３学期'!CE25)=0,\"\",IF('３学期'!CE25=$B$8,IF(LEN('３学期'!CH25)=0,\"\",'３学期'!CH25),\"\")),\"\")","v":""},{"$f":"IF(LEN(O1569)=0,\"\",IF(COUNTIF(O1569:$O$1921,O1569+1)>0,\"\",O1569+1))","v":""}]
[null,null,null,null,null,null,null,null,null,null,null,null,null,null,{"$f":"IF(1570<=$B$10,IF(LEN('３学期'!CI6)=0,\"\",IF('３学期'!CI6=$B$8,IF(LEN('３学期'!CL6)=0,\"\",'３学期'!CL6),\"\")),\"\")","v":""},{"$f":"IF(LEN(O1570)=0,\"\",IF(COUNTIF(O1570:$O$1921,O1570+1)>0,\"\",O1570+1))","v":""}]
[null,null,null,null,null,null,null,null,null,null,null,null,null,null,{"$f":"IF(1571<=$B$10,IF(LEN('３学期'!CI7)=0,\"\",IF('３学期'!CI7=$B$8,IF(LEN('３学期'!CL7)=0,\"\",'３学期'!CL7),\"\")),\"\")","v":""},{"$f":"IF(LEN(O1571)=0,\"\",IF(COUNTIF(O1571:$O$1921,O1571+1)>0,\"\",O1571+1))","v":""}]
[null,null,null,null,null,null,null,null,null,null,null,null,null,null,{"$f":"IF(1572<=$B$10,IF(LEN('３学期'!CI10)=0,\"\",IF('３学期'!CI10=$B$8,IF(LEN('３学期'!CL10)=0,\"\",'３学期'!CL10),\"\")),\"\")","v":""},{"$f":"IF(LEN(O1572)=0,\"\",IF(COUNTIF(O1572:$O$1921,O1572+1)>0,\"\",O1572+1))","v":""}]
[null,null,null,null,null,null,null,null,null,null,null,null,null,null,{"$f":"IF(1573<=$B$10,IF(LEN('３学期'!CI13)=0,\"\",IF('３学期'!CI13=$B$8,IF(LEN('３学期'!CL13)=0,\"\",'３学期'!CL13),\"\")),\"\")","v":""},{"$f":"IF(LEN(O1573)=0,\"\",IF(COUNTIF(O1573:$O$1921,O1573+1)>0,\"\",O1573+1))","v":""}]
[null,null,null,null,null,null,null,null,null,null,null,null,null,null,{"$f":"IF(1574<=$B$10,IF(LEN('３学期'!CI16)=0,\"\",IF('３学期'!CI16=$B$8,IF(LEN('３学期'!CL16)=0,\"\",'３学期'!CL16),\"\")),\"\")","v":""},{"$f":"IF(LEN(O1574)=0,\"\",IF(COUNTIF(O1574:$O$1921,O1574+1)>0,\"\",O1574+1))","v":""}]
[null,null,null,null,null,null,null,null,null,null,null,null,null,null,{"$f":"IF(1575<=$B$10,IF(LEN('３学期'!CI19)=0,\"\",IF('３学期'!CI19=$B$8,IF(LEN('３学期'!CL19)=0,\"\",'３学期'!CL19),\"\")),\"\")","v":""},{"$f":"IF(LEN(O1575)=0,\"\",IF(COUNTIF(O1575:$O$1921,O1575+1)>0,\"\",O1575+1))","v":""}]
[null,null,null,null,null,null,null,null,null,null,null,null,null,null,{"$f":"IF(1576<=$B$10,IF(LEN('３学期'!CI22)=0,\"\",IF('３学期'!CI22=$B$8,IF(LEN('３学期'!CL22)=0,\"\",'３学期'!CL22),\"\")),\"\")","v":""},{"$f":"IF(LEN(O1576)=0,\"\",IF(COUNTIF(O1576:$O$1921,O1576+1)>0,\"\",O1576+1))","v":""}]
[null,null,null,null,null,null,null,null,null,null,null,null,null,null,{"$f":"IF(1577<=$B$10,IF(LEN('３学期'!CI25)=0,\"\",IF('３学期'!CI25=$B$8,IF(LEN('３学期'!CL25)=0,\"\",'３学期'!CL25),\"\")),\"\")","v":""},{"$f":"IF(LEN(O1577)=0,\"\",IF(COUNTIF(O1577:$O$1921,O1577+1)>0,\"\",O1577+1))","v":""}]
[null,null,null,null,null,null,null,null,null,null,null,null,null,null,{"$f":"IF(1578<=$B$10,IF(LEN('３学期'!CM6)=0,\"\",IF('３学期'!CM6=$B$8,IF(LEN('３学期'!CP6)=0,\"\",'３学期'!CP6),\"\")),\"\")","v":""},{"$f":"IF(LEN(O1578)=0,\"\",IF(COUNTIF(O1578:$O$1921,O1578+1)>0,\"\",O1578+1))","v":""}]
[null,null,null,null,null,null,null,null,null,null,null,null,null,null,{"$f":"IF(1579<=$B$10,IF(LEN('３学期'!CM7)=0,\"\",IF('３学期'!CM7=$B$8,IF(LEN('３学期'!CP7)=0,\"\",'３学期'!CP7),\"\")),\"\")","v":""},{"$f":"IF(LEN(O1579)=0,\"\",IF(COUNTIF(O1579:$O$1921,O1579+1)>0,\"\",O1579+1))","v":""}]
[null,null,null,null,null,null,null,null,null,null,null,null,null,null,{"$f":"IF(1580<=$B$10,IF(LEN('３学期'!CM10)=0,\"\",IF('３学期'!CM10=$B$8,IF(LEN('３学期'!CP10)=0,\"\",'３学期'!CP10),\"\")),\"\")","v":""},{"$f":"IF(LEN(O1580)=0,\"\",IF(COUNTIF(O1580:$O$1921,O1580+1)>0,\"\",O1580+1))","v":""}]
[null,null,null,null,null,null,null,null,null,null,null,null,null,null,{"$f":"IF(1581<=$B$10,IF(LEN('３学期'!CM13)=0,\"\",IF('３学期'!CM13=$B$8,IF(LEN('３学期'!CP13)=0,\"\",'３学期'!CP13),\"\")),\"\")","v":""},{"$f":"IF(LEN(O1581)=0,\"\",IF(COUNTIF(O1581:$O$1921,O1581+1)>0,\"\",O1581+1))","v":""}]
[null,null,null,null,null,null,null,null,null,null,null,null,null,null,{"$f":"IF(1582<=$B$10,IF(LEN('３学期'!CM16)=0,\"\",IF('３学期'!CM16=$B$8,IF(LEN('３学期'!CP16)=0,\"\",'３学期'!CP16),\"\")),\"\")","v":""},{"$f":"IF(LEN(O1582)=0,\"\",IF(COUNTIF(O1582:$O$1921,O1582+1)>0,\"\",O1582+1))","v":""}]
[null,null,null,null,null,null,null,null,null,null,null,null,null,null,{"$f":"IF(1583<=$B$10,IF(LEN('３学期'!CM19)=0,\"\",IF('３学期'!CM19=$B$8,IF(LEN('３学期'!CP19)=0,\"\",'３学期'!CP19),\"\")),\"\")","v":""},{"$f":"IF(LEN(O1583)=0,\"\",IF(COUNTIF(O1583:$O$1921,O1583+1)>0,\"\",O1583+1))","v":""}]
[null,null,null,null,null,null,null,null,null,null,null,null,null,null,{"$f":"IF(1584<=$B$10,IF(LEN('３学期'!CM22)=0,\"\",IF('３学期'!CM22=$B$8,IF(LEN('３学期'!CP22)=0,\"\",'３学期'!CP22),\"\")),\"\")","v":""},{"$f":"IF(LEN(O1584)=0,\"\",IF(COUNTIF(O1584:$O$1921,O1584+1)>0,\"\",O1584+1))","v":""}]
[null,null,null,null,null,null,null,null,null,null,null,null,null,null,{"$f":"IF(1585<=$B$10,IF(LEN('３学期'!CM25)=0,\"\",IF('３学期'!CM25=$B$8,IF(LEN('３学期'!CP25)=0,\"\",'３学期'!CP25),\"\")),\"\")","v":""},{"$f":"IF(LEN(O1585)=0,\"\",IF(COUNTIF(O1585:$O$1921,O1585+1)>0,\"\",O1585+1))","v":""}]
[null,null,null,null,null,null,null,null,null,null,null,null,null,null,{"$f":"IF(1586<=$B$10,IF(LEN('３学期'!CQ6)=0,\"\",IF('３学期'!CQ6=$B$8,IF(LEN('３学期'!CT6)=0,\"\",'３学期'!CT6),\"\")),\"\")","v":""},{"$f":"IF(LEN(O1586)=0,\"\",IF(COUNTIF(O1586:$O$1921,O1586+1)>0,\"\",O1586+1))","v":""}]
[null,null,null,null,null,null,null,null,null,null,null,null,null,null,{"$f":"IF(1587<=$B$10,IF(LEN('３学期'!CQ7)=0,\"\",IF('３学期'!CQ7=$B$8,IF(LEN('３学期'!CT7)=0,\"\",'３学期'!CT7),\"\")),\"\")","v":""},{"$f":"IF(LEN(O1587)=0,\"\",IF(COUNTIF(O1587:$O$1921,O1587+1)>0,\"\",O1587+1))","v":""}]
[null,null,null,null,null,null,null,null,null,null,null,null,null,null,{"$f":"IF(1588<=$B$10,IF(LEN('３学期'!CQ10)=0,\"\",IF('３学期'!CQ10=$B$8,IF(LEN('３学期'!CT10)=0,\"\",'３学期'!CT10),\"\")),\"\")","v":""},{"$f":"IF(LEN(O1588)=0,\"\",IF(COUNTIF(O1588:$O$1921,O1588+1)>0,\"\",O1588+1))","v":""}]
[null,null,null,null,null,null,null,null,null,null,null,null,null,null,{"$f":"IF(1589<=$B$10,IF(LEN('３学期'!CQ13)=0,\"\",IF('３学期'!CQ13=$B$8,IF(LEN('３学期'!CT13)=0,\"\",'３学期'!CT13),\"\")),\"\")","v":""},{"$f":"IF(LEN(O1589)=0,\"\",IF(COUNTIF(O1589:$O$1921,O1589+1)>0,\"\",O1589+1))","v":""}]
[null,null,null,null,null,null,null,null,null,null,null,null,null,null,{"$f":"IF(1590<=$B$10,IF(LEN('３学期'!CQ16)=0,\"\",IF('３学期'!CQ16=$B$8,IF(LEN('３学期'!CT16)=0,\"\",'３学期'!CT16),\"\")),\"\")","v":""},{"$f":"IF(LEN(O1590)=0,\"\",IF(COUNTIF(O1590:$O$1921,O1590+1)>0,\"\",O1590+1))","v":""}]
[null,null,null,null,null,null,null,null,null,null,null,null,null,null,{"$f":"IF(1591<=$B$10,IF(LEN('３学期'!CQ19)=0,\"\",IF('３学期'!CQ19=$B$8,IF(LEN('３学期'!CT19)=0,\"\",'３学期'!CT19),\"\")),\"\")","v":""},{"$f":"IF(LEN(O1591)=0,\"\",IF(COUNTIF(O1591:$O$1921,O1591+1)>0,\"\",O1591+1))","v":""}]
[null,null,null,null,null,null,null,null,null,null,null,null,null,null,{"$f":"IF(1592<=$B$10,IF(LEN('３学期'!CQ22)=0,\"\",IF('３学期'!CQ22=$B$8,IF(LEN('３学期'!CT22)=0,\"\",'３学期'!CT22),\"\")),\"\")","v":""},{"$f":"IF(LEN(O1592)=0,\"\",IF(COUNTIF(O1592:$O$1921,O1592+1)>0,\"\",O1592+1))","v":""}]
[null,null,null,null,null,null,null,null,null,null,null,null,null,null,{"$f":"IF(1593<=$B$10,IF(LEN('３学期'!CQ25)=0,\"\",IF('３学期'!CQ25=$B$8,IF(LEN('３学期'!CT25)=0,\"\",'３学期'!CT25),\"\")),\"\")","v":""},{"$f":"IF(LEN(O1593)=0,\"\",IF(COUNTIF(O1593:$O$1921,O1593+1)>0,\"\",O1593+1))","v":""}]
[null,null,null,null,null,null,null,null,null,null,null,null,null,null,{"$f":"IF(1594<=$B$10,IF(LEN('３学期'!CU6)=0,\"\",IF('３学期'!CU6=$B$8,IF(LEN('３学期'!CX6)=0,\"\",'３学期'!CX6),\"\")),\"\")","v":""},{"$f":"IF(LEN(O1594)=0,\"\",IF(COUNTIF(O1594:$O$1921,O1594+1)>0,\"\",O1594+1))","v":""}]
[null,null,null,null,null,null,null,null,null,null,null,null,null,null,{"$f":"IF(1595<=$B$10,IF(LEN('３学期'!CU7)=0,\"\",IF('３学期'!CU7=$B$8,IF(LEN('３学期'!CX7)=0,\"\",'３学期'!CX7),\"\")),\"\")","v":""},{"$f":"IF(LEN(O1595)=0,\"\",IF(COUNTIF(O1595:$O$1921,O1595+1)>0,\"\",O1595+1))","v":""}]
[null,null,null,null,null,null,null,null,null,null,null,null,null,null,{"$f":"IF(1596<=$B$10,IF(LEN('３学期'!CU10)=0,\"\",IF('３学期'!CU10=$B$8,IF(LEN('３学期'!CX10)=0,\"\",'３学期'!CX10),\"\")),\"\")","v":""},{"$f":"IF(LEN(O1596)=0,\"\",IF(COUNTIF(O1596:$O$1921,O1596+1)>0,\"\",O1596+1))","v":""}]
[null,null,null,null,null,null,null,null,null,null,null,null,null,null,{"$f":"IF(1597<=$B$10,IF(LEN('３学期'!CU13)=0,\"\",IF('３学期'!CU13=$B$8,IF(LEN('３学期'!CX13)=0,\"\",'３学期'!CX13),\"\")),\"\")","v":""},{"$f":"IF(LEN(O1597)=0,\"\",IF(COUNTIF(O1597:$O$1921,O1597+1)>0,\"\",O1597+1))","v":""}]
[null,null,null,null,null,null,null,null,null,null,null,null,null,null,{"$f":"IF(1598<=$B$10,IF(LEN('３学期'!CU16)=0,\"\",IF('３学期'!CU16=$B$8,IF(LEN('３学期'!CX16)=0,\"\",'３学期'!CX16),\"\")),\"\")","v":""},{"$f":"IF(LEN(O1598)=0,\"\",IF(COUNTIF(O1598:$O$1921,O1598+1)>0,\"\",O1598+1))","v":""}]
[null,null,null,null,null,null,null,null,null,null,null,null,null,null,{"$f":"IF(1599<=$B$10,IF(LEN('３学期'!CU19)=0,\"\",IF('３学期'!CU19=$B$8,IF(LEN('３学期'!CX19)=0,\"\",'３学期'!CX19),\"\")),\"\")","v":""},{"$f":"IF(LEN(O1599)=0,\"\",IF(COUNTIF(O1599:$O$1921,O1599+1)>0,\"\",O1599+1))","v":""}]
[null,null,null,null,null,null,null,null,null,null,null,null,null,null,{"$f":"IF(1600<=$B$10,IF(LEN('３学期'!CU22)=0,\"\",IF('３学期'!CU22=$B$8,IF(LEN('３学期'!CX22)=0,\"\",'３学期'!CX22),\"\")),\"\")","v":""},{"$f":"IF(LEN(O1600)=0,\"\",IF(COUNTIF(O1600:$O$1921,O1600+1)>0,\"\",O1600+1))","v":""}]
[null,null,null,null,null,null,null,null,null,null,null,null,null,null,{"$f":"IF(1601<=$B$10,IF(LEN('３学期'!CU25)=0,\"\",IF('３学期'!CU25=$B$8,IF(LEN('３学期'!CX25)=0,\"\",'３学期'!CX25),\"\")),\"\")","v":""},{"$f":"IF(LEN(O1601)=0,\"\",IF(COUNTIF(O1601:$O$1921,O1601+1)>0,\"\",O1601+1))","v":""}]
[null,null,null,null,null,null,null,null,null,null,null,null,null,null,{"$f":"IF(1602<=$B$10,IF(LEN('３学期'!CY6)=0,\"\",IF('３学期'!CY6=$B$8,IF(LEN('３学期'!DB6)=0,\"\",'３学期'!DB6),\"\")),\"\")","v":""},{"$f":"IF(LEN(O1602)=0,\"\",IF(COUNTIF(O1602:$O$1921,O1602+1)>0,\"\",O1602+1))","v":""}]
[null,null,null,null,null,null,null,null,null,null,null,null,null,null,{"$f":"IF(1603<=$B$10,IF(LEN('３学期'!CY7)=0,\"\",IF('３学期'!CY7=$B$8,IF(LEN('３学期'!DB7)=0,\"\",'３学期'!DB7),\"\")),\"\")","v":""},{"$f":"IF(LEN(O1603)=0,\"\",IF(COUNTIF(O1603:$O$1921,O1603+1)>0,\"\",O1603+1))","v":""}]
[null,null,null,null,null,null,null,null,null,null,null,null,null,null,{"$f":"IF(1604<=$B$10,IF(LEN('３学期'!CY10)=0,\"\",IF('３学期'!CY10=$B$8,IF(LEN('３学期'!DB10)=0,\"\",'３学期'!DB10),\"\")),\"\")","v":""},{"$f":"IF(LEN(O1604)=0,\"\",IF(COUNTIF(O1604:$O$1921,O1604+1)>0,\"\",O1604+1))","v":""}]
[null,null,null,null,null,null,null,null,null,null,null,null,null,null,{"$f":"IF(1605<=$B$10,IF(LEN('３学期'!CY13)=0,\"\",IF('３学期'!CY13=$B$8,IF(LEN('３学期'!DB13)=0,\"\",'３学期'!DB13),\"\")),\"\")","v":""},{"$f":"IF(LEN(O1605)=0,\"\",IF(COUNTIF(O1605:$O$1921,O1605+1)>0,\"\",O1605+1))","v":""}]
[null,null,null,null,null,null,null,null,null,null,null,null,null,null,{"$f":"IF(1606<=$B$10,IF(LEN('３学期'!CY16)=0,\"\",IF('３学期'!CY16=$B$8,IF(LEN('３学期'!DB16)=0,\"\",'３学期'!DB16),\"\")),\"\")","v":""},{"$f":"IF(LEN(O1606)=0,\"\",IF(COUNTIF(O1606:$O$1921,O1606+1)>0,\"\",O1606+1))","v":""}]
[null,null,null,null,null,null,null,null,null,null,null,null,null,null,{"$f":"IF(1607<=$B$10,IF(LEN('３学期'!CY19)=0,\"\",IF('３学期'!CY19=$B$8,IF(LEN('３学期'!DB19)=0,\"\",'３学期'!DB19),\"\")),\"\")","v":""},{"$f":"IF(LEN(O1607)=0,\"\",IF(COUNTIF(O1607:$O$1921,O1607+1)>0,\"\",O1607+1))","v":""}]
[null,null,null,null,null,null,null,null,null,null,null,null,null,null,{"$f":"IF(1608<=$B$10,IF(LEN('３学期'!CY22)=0,\"\",IF('３学期'!CY22=$B$8,IF(LEN('３学期'!DB22)=0,\"\",'３学期'!DB22),\"\")),\"\")","v":""},{"$f":"IF(LEN(O1608)=0,\"\",IF(COUNTIF(O1608:$O$1921,O1608+1)>0,\"\",O1608+1))","v":""}]
[null,null,null,null,null,null,null,null,null,null,null,null,null,null,{"$f":"IF(1609<=$B$10,IF(LEN('３学期'!CY25)=0,\"\",IF('３学期'!CY25=$B$8,IF(LEN('３学期'!DB25)=0,\"\",'３学期'!DB25),\"\")),\"\")","v":""},{"$f":"IF(LEN(O1609)=0,\"\",IF(COUNTIF(O1609:$O$1921,O1609+1)>0,\"\",O1609+1))","v":""}]
[null,null,null,null,null,null,null,null,null,null,null,null,null,null,{"$f":"IF(1610<=$B$10,IF(LEN('３学期'!DC6)=0,\"\",IF('３学期'!DC6=$B$8,IF(LEN('３学期'!DF6)=0,\"\",'３学期'!DF6),\"\")),\"\")","v":""},{"$f":"IF(LEN(O1610)=0,\"\",IF(COUNTIF(O1610:$O$1921,O1610+1)>0,\"\",O1610+1))","v":""}]
[null,null,null,null,null,null,null,null,null,null,null,null,null,null,{"$f":"IF(1611<=$B$10,IF(LEN('３学期'!DC7)=0,\"\",IF('３学期'!DC7=$B$8,IF(LEN('３学期'!DF7)=0,\"\",'３学期'!DF7),\"\")),\"\")","v":""},{"$f":"IF(LEN(O1611)=0,\"\",IF(COUNTIF(O1611:$O$1921,O1611+1)>0,\"\",O1611+1))","v":""}]
[null,null,null,null,null,null,null,null,null,null,null,null,null,null,{"$f":"IF(1612<=$B$10,IF(LEN('３学期'!DC10)=0,\"\",IF('３学期'!DC10=$B$8,IF(LEN('３学期'!DF10)=0,\"\",'３学期'!DF10),\"\")),\"\")","v":""},{"$f":"IF(LEN(O1612)=0,\"\",IF(COUNTIF(O1612:$O$1921,O1612+1)>0,\"\",O1612+1))","v":""}]
[null,null,null,null,null,null,null,null,null,null,null,null,null,null,{"$f":"IF(1613<=$B$10,IF(LEN('３学期'!DC13)=0,\"\",IF('３学期'!DC13=$B$8,IF(LEN('３学期'!DF13)=0,\"\",'３学期'!DF13),\"\")),\"\")","v":""},{"$f":"IF(LEN(O1613)=0,\"\",IF(COUNTIF(O1613:$O$1921,O1613+1)>0,\"\",O1613+1))","v":""}]
[null,null,null,null,null,null,null,null,null,null,null,null,null,null,{"$f":"IF(1614<=$B$10,IF(LEN('３学期'!DC16)=0,\"\",IF('３学期'!DC16=$B$8,IF(LEN('３学期'!DF16)=0,\"\",'３学期'!DF16),\"\")),\"\")","v":""},{"$f":"IF(LEN(O1614)=0,\"\",IF(COUNTIF(O1614:$O$1921,O1614+1)>0,\"\",O1614+1))","v":""}]
[null,null,null,null,null,null,null,null,null,null,null,null,null,null,{"$f":"IF(1615<=$B$10,IF(LEN('３学期'!DC19)=0,\"\",IF('３学期'!DC19=$B$8,IF(LEN('３学期'!DF19)=0,\"\",'３学期'!DF19),\"\")),\"\")","v":""},{"$f":"IF(LEN(O1615)=0,\"\",IF(COUNTIF(O1615:$O$1921,O1615+1)>0,\"\",O1615+1))","v":""}]
[null,null,null,null,null,null,null,null,null,null,null,null,null,null,{"$f":"IF(1616<=$B$10,IF(LEN('３学期'!DC22)=0,\"\",IF('３学期'!DC22=$B$8,IF(LEN('３学期'!DF22)=0,\"\",'３学期'!DF22),\"\")),\"\")","v":""},{"$f":"IF(LEN(O1616)=0,\"\",IF(COUNTIF(O1616:$O$1921,O1616+1)>0,\"\",O1616+1))","v":""}]
[null,null,null,null,null,null,null,null,null,null,null,null,null,null,{"$f":"IF(1617<=$B$10,IF(LEN('３学期'!DC25)=0,\"\",IF('３学期'!DC25=$B$8,IF(LEN('３学期'!DF25)=0,\"\",'３学期'!DF25),\"\")),\"\")","v":""},{"$f":"IF(LEN(O1617)=0,\"\",IF(COUNTIF(O1617:$O$1921,O1617+1)>0,\"\",O1617+1))","v":""}]
[null,null,null,null,null,null,null,null,null,null,null,null,null,null,{"$f":"IF(1618<=$B$10,IF(LEN('３学期'!DG6)=0,\"\",IF('３学期'!DG6=$B$8,IF(LEN('３学期'!DJ6)=0,\"\",'３学期'!DJ6),\"\")),\"\")","v":""},{"$f":"IF(LEN(O1618)=0,\"\",IF(COUNTIF(O1618:$O$1921,O1618+1)>0,\"\",O1618+1))","v":""}]
[null,null,null,null,null,null,null,null,null,null,null,null,null,null,{"$f":"IF(1619<=$B$10,IF(LEN('３学期'!DG7)=0,\"\",IF('３学期'!DG7=$B$8,IF(LEN('３学期'!DJ7)=0,\"\",'３学期'!DJ7),\"\")),\"\")","v":""},{"$f":"IF(LEN(O1619)=0,\"\",IF(COUNTIF(O1619:$O$1921,O1619+1)>0,\"\",O1619+1))","v":""}]
[null,null,null,null,null,null,null,null,null,null,null,null,null,null,{"$f":"IF(1620<=$B$10,IF(LEN('３学期'!DG10)=0,\"\",IF('３学期'!DG10=$B$8,IF(LEN('３学期'!DJ10)=0,\"\",'３学期'!DJ10),\"\")),\"\")","v":""},{"$f":"IF(LEN(O1620)=0,\"\",IF(COUNTIF(O1620:$O$1921,O1620+1)>0,\"\",O1620+1))","v":""}]
[null,null,null,null,null,null,null,null,null,null,null,null,null,null,{"$f":"IF(1621<=$B$10,IF(LEN('３学期'!DG13)=0,\"\",IF('３学期'!DG13=$B$8,IF(LEN('３学期'!DJ13)=0,\"\",'３学期'!DJ13),\"\")),\"\")","v":""},{"$f":"IF(LEN(O1621)=0,\"\",IF(COUNTIF(O1621:$O$1921,O1621+1)>0,\"\",O1621+1))","v":""}]
[null,null,null,null,null,null,null,null,null,null,null,null,null,null,{"$f":"IF(1622<=$B$10,IF(LEN('３学期'!DG16)=0,\"\",IF('３学期'!DG16=$B$8,IF(LEN('３学期'!DJ16)=0,\"\",'３学期'!DJ16),\"\")),\"\")","v":""},{"$f":"IF(LEN(O1622)=0,\"\",IF(COUNTIF(O1622:$O$1921,O1622+1)>0,\"\",O1622+1))","v":""}]
[null,null,null,null,null,null,null,null,null,null,null,null,null,null,{"$f":"IF(1623<=$B$10,IF(LEN('３学期'!DG19)=0,\"\",IF('３学期'!DG19=$B$8,IF(LEN('３学期'!DJ19)=0,\"\",'３学期'!DJ19),\"\")),\"\")","v":""},{"$f":"IF(LEN(O1623)=0,\"\",IF(COUNTIF(O1623:$O$1921,O1623+1)>0,\"\",O1623+1))","v":""}]
[null,null,null,null,null,null,null,null,null,null,null,null,null,null,{"$f":"IF(1624<=$B$10,IF(LEN('３学期'!DG22)=0,\"\",IF('３学期'!DG22=$B$8,IF(LEN('３学期'!DJ22)=0,\"\",'３学期'!DJ22),\"\")),\"\")","v":""},{"$f":"IF(LEN(O1624)=0,\"\",IF(COUNTIF(O1624:$O$1921,O1624+1)>0,\"\",O1624+1))","v":""}]
[null,null,null,null,null,null,null,null,null,null,null,null,null,null,{"$f":"IF(1625<=$B$10,IF(LEN('３学期'!DG25)=0,\"\",IF('３学期'!DG25=$B$8,IF(LEN('３学期'!DJ25)=0,\"\",'３学期'!DJ25),\"\")),\"\")","v":""},{"$f":"IF(LEN(O1625)=0,\"\",IF(COUNTIF(O1625:$O$1921,O1625+1)>0,\"\",O1625+1))","v":""}]
[null,null,null,null,null,null,null,null,null,null,null,null,null,null,{"$f":"IF(1626<=$B$10,IF(LEN('３学期'!DK6)=0,\"\",IF('３学期'!DK6=$B$8,IF(LEN('３学期'!DN6)=0,\"\",'３学期'!DN6),\"\")),\"\")","v":""},{"$f":"IF(LEN(O1626)=0,\"\",IF(COUNTIF(O1626:$O$1921,O1626+1)>0,\"\",O1626+1))","v":""}]
[null,null,null,null,null,null,null,null,null,null,null,null,null,null,{"$f":"IF(1627<=$B$10,IF(LEN('３学期'!DK7)=0,\"\",IF('３学期'!DK7=$B$8,IF(LEN('３学期'!DN7)=0,\"\",'３学期'!DN7),\"\")),\"\")","v":""},{"$f":"IF(LEN(O1627)=0,\"\",IF(COUNTIF(O1627:$O$1921,O1627+1)>0,\"\",O1627+1))","v":""}]
[null,null,null,null,null,null,null,null,null,null,null,null,null,null,{"$f":"IF(1628<=$B$10,IF(LEN('３学期'!DK10)=0,\"\",IF('３学期'!DK10=$B$8,IF(LEN('３学期'!DN10)=0,\"\",'３学期'!DN10),\"\")),\"\")","v":""},{"$f":"IF(LEN(O1628)=0,\"\",IF(COUNTIF(O1628:$O$1921,O1628+1)>0,\"\",O1628+1))","v":""}]
[null,null,null,null,null,null,null,null,null,null,null,null,null,null,{"$f":"IF(1629<=$B$10,IF(LEN('３学期'!DK13)=0,\"\",IF('３学期'!DK13=$B$8,IF(LEN('３学期'!DN13)=0,\"\",'３学期'!DN13),\"\")),\"\")","v":""},{"$f":"IF(LEN(O1629)=0,\"\",IF(COUNTIF(O1629:$O$1921,O1629+1)>0,\"\",O1629+1))","v":""}]
[null,null,null,null,null,null,null,null,null,null,null,null,null,null,{"$f":"IF(1630<=$B$10,IF(LEN('３学期'!DK16)=0,\"\",IF('３学期'!DK16=$B$8,IF(LEN('３学期'!DN16)=0,\"\",'３学期'!DN16),\"\")),\"\")","v":""},{"$f":"IF(LEN(O1630)=0,\"\",IF(COUNTIF(O1630:$O$1921,O1630+1)>0,\"\",O1630+1))","v":""}]
[null,null,null,null,null,null,null,null,null,null,null,null,null,null,{"$f":"IF(1631<=$B$10,IF(LEN('３学期'!DK19)=0,\"\",IF('３学期'!DK19=$B$8,IF(LEN('３学期'!DN19)=0,\"\",'３学期'!DN19),\"\")),\"\")","v":""},{"$f":"IF(LEN(O1631)=0,\"\",IF(COUNTIF(O1631:$O$1921,O1631+1)>0,\"\",O1631+1))","v":""}]
[null,null,null,null,null,null,null,null,null,null,null,null,null,null,{"$f":"IF(1632<=$B$10,IF(LEN('３学期'!DK22)=0,\"\",IF('３学期'!DK22=$B$8,IF(LEN('３学期'!DN22)=0,\"\",'３学期'!DN22),\"\")),\"\")","v":""},{"$f":"IF(LEN(O1632)=0,\"\",IF(COUNTIF(O1632:$O$1921,O1632+1)>0,\"\",O1632+1))","v":""}]
[null,null,null,null,null,null,null,null,null,null,null,null,null,null,{"$f":"IF(1633<=$B$10,IF(LEN('３学期'!DK25)=0,\"\",IF('３学期'!DK25=$B$8,IF(LEN('３学期'!DN25)=0,\"\",'３学期'!DN25),\"\")),\"\")","v":""},{"$f":"IF(LEN(O1633)=0,\"\",IF(COUNTIF(O1633:$O$1921,O1633+1)>0,\"\",O1633+1))","v":""}]
[null,null,null,null,null,null,null,null,null,null,null,null,null,null,{"$f":"IF(1634<=$B$10,IF(LEN('３学期'!DO6)=0,\"\",IF('３学期'!DO6=$B$8,IF(LEN('３学期'!DR6)=0,\"\",'３学期'!DR6),\"\")),\"\")","v":""},{"$f":"IF(LEN(O1634)=0,\"\",IF(COUNTIF(O1634:$O$1921,O1634+1)>0,\"\",O1634+1))","v":""}]
[null,null,null,null,null,null,null,null,null,null,null,null,null,null,{"$f":"IF(1635<=$B$10,IF(LEN('３学期'!DO7)=0,\"\",IF('３学期'!DO7=$B$8,IF(LEN('３学期'!DR7)=0,\"\",'３学期'!DR7),\"\")),\"\")","v":""},{"$f":"IF(LEN(O1635)=0,\"\",IF(COUNTIF(O1635:$O$1921,O1635+1)>0,\"\",O1635+1))","v":""}]
[null,null,null,null,null,null,null,null,null,null,null,null,null,null,{"$f":"IF(1636<=$B$10,IF(LEN('３学期'!DO10)=0,\"\",IF('３学期'!DO10=$B$8,IF(LEN('３学期'!DR10)=0,\"\",'３学期'!DR10),\"\")),\"\")","v":""},{"$f":"IF(LEN(O1636)=0,\"\",IF(COUNTIF(O1636:$O$1921,O1636+1)>0,\"\",O1636+1))","v":""}]
[null,null,null,null,null,null,null,null,null,null,null,null,null,null,{"$f":"IF(1637<=$B$10,IF(LEN('３学期'!DO13)=0,\"\",IF('３学期'!DO13=$B$8,IF(LEN('３学期'!DR13)=0,\"\",'３学期'!DR13),\"\")),\"\")","v":""},{"$f":"IF(LEN(O1637)=0,\"\",IF(COUNTIF(O1637:$O$1921,O1637+1)>0,\"\",O1637+1))","v":""}]
[null,null,null,null,null,null,null,null,null,null,null,null,null,null,{"$f":"IF(1638<=$B$10,IF(LEN('３学期'!DO16)=0,\"\",IF('３学期'!DO16=$B$8,IF(LEN('３学期'!DR16)=0,\"\",'３学期'!DR16),\"\")),\"\")","v":""},{"$f":"IF(LEN(O1638)=0,\"\",IF(COUNTIF(O1638:$O$1921,O1638+1)>0,\"\",O1638+1))","v":""}]
[null,null,null,null,null,null,null,null,null,null,null,null,null,null,{"$f":"IF(1639<=$B$10,IF(LEN('３学期'!DO19)=0,\"\",IF('３学期'!DO19=$B$8,IF(LEN('３学期'!DR19)=0,\"\",'３学期'!DR19),\"\")),\"\")","v":""},{"$f":"IF(LEN(O1639)=0,\"\",IF(COUNTIF(O1639:$O$1921,O1639+1)>0,\"\",O1639+1))","v":""}]
[null,null,null,null,null,null,null,null,null,null,null,null,null,null,{"$f":"IF(1640<=$B$10,IF(LEN('３学期'!DO22)=0,\"\",IF('３学期'!DO22=$B$8,IF(LEN('３学期'!DR22)=0,\"\",'３学期'!DR22),\"\")),\"\")","v":""},{"$f":"IF(LEN(O1640)=0,\"\",IF(COUNTIF(O1640:$O$1921,O1640+1)>0,\"\",O1640+1))","v":""}]
[null,null,null,null,null,null,null,null,null,null,null,null,null,null,{"$f":"IF(1641<=$B$10,IF(LEN('３学期'!DO25)=0,\"\",IF('３学期'!DO25=$B$8,IF(LEN('３学期'!DR25)=0,\"\",'３学期'!DR25),\"\")),\"\")","v":""},{"$f":"IF(LEN(O1641)=0,\"\",IF(COUNTIF(O1641:$O$1921,O1641+1)>0,\"\",O1641+1))","v":""}]
[null,null,null,null,null,null,null,null,null,null,null,null,null,null,{"$f":"IF(1642<=$B$10,IF(LEN('３学期'!DS6)=0,\"\",IF('３学期'!DS6=$B$8,IF(LEN('３学期'!DV6)=0,\"\",'３学期'!DV6),\"\")),\"\")","v":""},{"$f":"IF(LEN(O1642)=0,\"\",IF(COUNTIF(O1642:$O$1921,O1642+1)>0,\"\",O1642+1))","v":""}]
[null,null,null,null,null,null,null,null,null,null,null,null,null,null,{"$f":"IF(1643<=$B$10,IF(LEN('３学期'!DS7)=0,\"\",IF('３学期'!DS7=$B$8,IF(LEN('３学期'!DV7)=0,\"\",'３学期'!DV7),\"\")),\"\")","v":""},{"$f":"IF(LEN(O1643)=0,\"\",IF(COUNTIF(O1643:$O$1921,O1643+1)>0,\"\",O1643+1))","v":""}]
[null,null,null,null,null,null,null,null,null,null,null,null,null,null,{"$f":"IF(1644<=$B$10,IF(LEN('３学期'!DS10)=0,\"\",IF('３学期'!DS10=$B$8,IF(LEN('３学期'!DV10)=0,\"\",'３学期'!DV10),\"\")),\"\")","v":""},{"$f":"IF(LEN(O1644)=0,\"\",IF(COUNTIF(O1644:$O$1921,O1644+1)>0,\"\",O1644+1))","v":""}]
[null,null,null,null,null,null,null,null,null,null,null,null,null,null,{"$f":"IF(1645<=$B$10,IF(LEN('３学期'!DS13)=0,\"\",IF('３学期'!DS13=$B$8,IF(LEN('３学期'!DV13)=0,\"\",'３学期'!DV13),\"\")),\"\")","v":""},{"$f":"IF(LEN(O1645)=0,\"\",IF(COUNTIF(O1645:$O$1921,O1645+1)>0,\"\",O1645+1))","v":""}]
[null,null,null,null,null,null,null,null,null,null,null,null,null,null,{"$f":"IF(1646<=$B$10,IF(LEN('３学期'!DS16)=0,\"\",IF('３学期'!DS16=$B$8,IF(LEN('３学期'!DV16)=0,\"\",'３学期'!DV16),\"\")),\"\")","v":""},{"$f":"IF(LEN(O1646)=0,\"\",IF(COUNTIF(O1646:$O$1921,O1646+1)>0,\"\",O1646+1))","v":""}]
[null,null,null,null,null,null,null,null,null,null,null,null,null,null,{"$f":"IF(1647<=$B$10,IF(LEN('３学期'!DS19)=0,\"\",IF('３学期'!DS19=$B$8,IF(LEN('３学期'!DV19)=0,\"\",'３学期'!DV19),\"\")),\"\")","v":""},{"$f":"IF(LEN(O1647)=0,\"\",IF(COUNTIF(O1647:$O$1921,O1647+1)>0,\"\",O1647+1))","v":""}]
[null,null,null,null,null,null,null,null,null,null,null,null,null,null,{"$f":"IF(1648<=$B$10,IF(LEN('３学期'!DS22)=0,\"\",IF('３学期'!DS22=$B$8,IF(LEN('３学期'!DV22)=0,\"\",'３学期'!DV22),\"\")),\"\")","v":""},{"$f":"IF(LEN(O1648)=0,\"\",IF(COUNTIF(O1648:$O$1921,O1648+1)>0,\"\",O1648+1))","v":""}]
[null,null,null,null,null,null,null,null,null,null,null,null,null,null,{"$f":"IF(1649<=$B$10,IF(LEN('３学期'!DS25)=0,\"\",IF('３学期'!DS25=$B$8,IF(LEN('３学期'!DV25)=0,\"\",'３学期'!DV25),\"\")),\"\")","v":""},{"$f":"IF(LEN(O1649)=0,\"\",IF(COUNTIF(O1649:$O$1921,O1649+1)>0,\"\",O1649+1))","v":""}]
[null,null,null,null,null,null,null,null,null,null,null,null,null,null,{"$f":"IF(1650<=$B$10,IF(LEN('３学期'!DW6)=0,\"\",IF('３学期'!DW6=$B$8,IF(LEN('３学期'!DZ6)=0,\"\",'３学期'!DZ6),\"\")),\"\")","v":""},{"$f":"IF(LEN(O1650)=0,\"\",IF(COUNTIF(O1650:$O$1921,O1650+1)>0,\"\",O1650+1))","v":""}]
[null,null,null,null,null,null,null,null,null,null,null,null,null,null,{"$f":"IF(1651<=$B$10,IF(LEN('３学期'!DW7)=0,\"\",IF('３学期'!DW7=$B$8,IF(LEN('３学期'!DZ7)=0,\"\",'３学期'!DZ7),\"\")),\"\")","v":""},{"$f":"IF(LEN(O1651)=0,\"\",IF(COUNTIF(O1651:$O$1921,O1651+1)>0,\"\",O1651+1))","v":""}]
[null,null,null,null,null,null,null,null,null,null,null,null,null,null,{"$f":"IF(1652<=$B$10,IF(LEN('３学期'!DW10)=0,\"\",IF('３学期'!DW10=$B$8,IF(LEN('３学期'!DZ10)=0,\"\",'３学期'!DZ10),\"\")),\"\")","v":""},{"$f":"IF(LEN(O1652)=0,\"\",IF(COUNTIF(O1652:$O$1921,O1652+1)>0,\"\",O1652+1))","v":""}]
[null,null,null,null,null,null,null,null,null,null,null,null,null,null,{"$f":"IF(1653<=$B$10,IF(LEN('３学期'!DW13)=0,\"\",IF('３学期'!DW13=$B$8,IF(LEN('３学期'!DZ13)=0,\"\",'３学期'!DZ13),\"\")),\"\")","v":""},{"$f":"IF(LEN(O1653)=0,\"\",IF(COUNTIF(O1653:$O$1921,O1653+1)>0,\"\",O1653+1))","v":""}]
[null,null,null,null,null,null,null,null,null,null,null,null,null,null,{"$f":"IF(1654<=$B$10,IF(LEN('３学期'!DW16)=0,\"\",IF('３学期'!DW16=$B$8,IF(LEN('３学期'!DZ16)=0,\"\",'３学期'!DZ16),\"\")),\"\")","v":""},{"$f":"IF(LEN(O1654)=0,\"\",IF(COUNTIF(O1654:$O$1921,O1654+1)>0,\"\",O1654+1))","v":""}]
[null,null,null,null,null,null,null,null,null,null,null,null,null,null,{"$f":"IF(1655<=$B$10,IF(LEN('３学期'!DW19)=0,\"\",IF('３学期'!DW19=$B$8,IF(LEN('３学期'!DZ19)=0,\"\",'３学期'!DZ19),\"\")),\"\")","v":""},{"$f":"IF(LEN(O1655)=0,\"\",IF(COUNTIF(O1655:$O$1921,O1655+1)>0,\"\",O1655+1))","v":""}]
[null,null,null,null,null,null,null,null,null,null,null,null,null,null,{"$f":"IF(1656<=$B$10,IF(LEN('３学期'!DW22)=0,\"\",IF('３学期'!DW22=$B$8,IF(LEN('３学期'!DZ22)=0,\"\",'３学期'!DZ22),\"\")),\"\")","v":""},{"$f":"IF(LEN(O1656)=0,\"\",IF(COUNTIF(O1656:$O$1921,O1656+1)>0,\"\",O1656+1))","v":""}]
[null,null,null,null,null,null,null,null,null,null,null,null,null,null,{"$f":"IF(1657<=$B$10,IF(LEN('３学期'!DW25)=0,\"\",IF('３学期'!DW25=$B$8,IF(LEN('３学期'!DZ25)=0,\"\",'３学期'!DZ25),\"\")),\"\")","v":""},{"$f":"IF(LEN(O1657)=0,\"\",IF(COUNTIF(O1657:$O$1921,O1657+1)>0,\"\",O1657+1))","v":""}]
[null,null,null,null,null,null,null,null,null,null,null,null,null,null,{"$f":"IF(1658<=$B$10,IF(LEN('３学期'!EA6)=0,\"\",IF('３学期'!EA6=$B$8,IF(LEN('３学期'!ED6)=0,\"\",'３学期'!ED6),\"\")),\"\")","v":""},{"$f":"IF(LEN(O1658)=0,\"\",IF(COUNTIF(O1658:$O$1921,O1658+1)>0,\"\",O1658+1))","v":""}]
[null,null,null,null,null,null,null,null,null,null,null,null,null,null,{"$f":"IF(1659<=$B$10,IF(LEN('３学期'!EA7)=0,\"\",IF('３学期'!EA7=$B$8,IF(LEN('３学期'!ED7)=0,\"\",'３学期'!ED7),\"\")),\"\")","v":""},{"$f":"IF(LEN(O1659)=0,\"\",IF(COUNTIF(O1659:$O$1921,O1659+1)>0,\"\",O1659+1))","v":""}]
[null,null,null,null,null,null,null,null,null,null,null,null,null,null,{"$f":"IF(1660<=$B$10,IF(LEN('３学期'!EA10)=0,\"\",IF('３学期'!EA10=$B$8,IF(LEN('３学期'!ED10)=0,\"\",'３学期'!ED10),\"\")),\"\")","v":""},{"$f":"IF(LEN(O1660)=0,\"\",IF(COUNTIF(O1660:$O$1921,O1660+1)>0,\"\",O1660+1))","v":""}]
[null,null,null,null,null,null,null,null,null,null,null,null,null,null,{"$f":"IF(1661<=$B$10,IF(LEN('３学期'!EA13)=0,\"\",IF('３学期'!EA13=$B$8,IF(LEN('３学期'!ED13)=0,\"\",'３学期'!ED13),\"\")),\"\")","v":""},{"$f":"IF(LEN(O1661)=0,\"\",IF(COUNTIF(O1661:$O$1921,O1661+1)>0,\"\",O1661+1))","v":""}]
[null,null,null,null,null,null,null,null,null,null,null,null,null,null,{"$f":"IF(1662<=$B$10,IF(LEN('３学期'!EA16)=0,\"\",IF('３学期'!EA16=$B$8,IF(LEN('３学期'!ED16)=0,\"\",'３学期'!ED16),\"\")),\"\")","v":""},{"$f":"IF(LEN(O1662)=0,\"\",IF(COUNTIF(O1662:$O$1921,O1662+1)>0,\"\",O1662+1))","v":""}]
[null,null,null,null,null,null,null,null,null,null,null,null,null,null,{"$f":"IF(1663<=$B$10,IF(LEN('３学期'!EA19)=0,\"\",IF('３学期'!EA19=$B$8,IF(LEN('３学期'!ED19)=0,\"\",'３学期'!ED19),\"\")),\"\")","v":""},{"$f":"IF(LEN(O1663)=0,\"\",IF(COUNTIF(O1663:$O$1921,O1663+1)>0,\"\",O1663+1))","v":""}]
[null,null,null,null,null,null,null,null,null,null,null,null,null,null,{"$f":"IF(1664<=$B$10,IF(LEN('３学期'!EA22)=0,\"\",IF('３学期'!EA22=$B$8,IF(LEN('３学期'!ED22)=0,\"\",'３学期'!ED22),\"\")),\"\")","v":""},{"$f":"IF(LEN(O1664)=0,\"\",IF(COUNTIF(O1664:$O$1921,O1664+1)>0,\"\",O1664+1))","v":""}]
[null,null,null,null,null,null,null,null,null,null,null,null,null,null,{"$f":"IF(1665<=$B$10,IF(LEN('３学期'!EA25)=0,\"\",IF('３学期'!EA25=$B$8,IF(LEN('３学期'!ED25)=0,\"\",'３学期'!ED25),\"\")),\"\")","v":""},{"$f":"IF(LEN(O1665)=0,\"\",IF(COUNTIF(O1665:$O$1921,O1665+1)>0,\"\",O1665+1))","v":""}]
[null,null,null,null,null,null,null,null,null,null,null,null,null,null,{"$f":"IF(1666<=$B$10,IF(LEN('３学期'!EE6)=0,\"\",IF('３学期'!EE6=$B$8,IF(LEN('３学期'!EH6)=0,\"\",'３学期'!EH6),\"\")),\"\")","v":""},{"$f":"IF(LEN(O1666)=0,\"\",IF(COUNTIF(O1666:$O$1921,O1666+1)>0,\"\",O1666+1))","v":""}]
[null,null,null,null,null,null,null,null,null,null,null,null,null,null,{"$f":"IF(1667<=$B$10,IF(LEN('３学期'!EE7)=0,\"\",IF('３学期'!EE7=$B$8,IF(LEN('３学期'!EH7)=0,\"\",'３学期'!EH7),\"\")),\"\")","v":""},{"$f":"IF(LEN(O1667)=0,\"\",IF(COUNTIF(O1667:$O$1921,O1667+1)>0,\"\",O1667+1))","v":""}]
[null,null,null,null,null,null,null,null,null,null,null,null,null,null,{"$f":"IF(1668<=$B$10,IF(LEN('３学期'!EE10)=0,\"\",IF('３学期'!EE10=$B$8,IF(LEN('３学期'!EH10)=0,\"\",'３学期'!EH10),\"\")),\"\")","v":""},{"$f":"IF(LEN(O1668)=0,\"\",IF(COUNTIF(O1668:$O$1921,O1668+1)>0,\"\",O1668+1))","v":""}]
[null,null,null,null,null,null,null,null,null,null,null,null,null,null,{"$f":"IF(1669<=$B$10,IF(LEN('３学期'!EE13)=0,\"\",IF('３学期'!EE13=$B$8,IF(LEN('３学期'!EH13)=0,\"\",'３学期'!EH13),\"\")),\"\")","v":""},{"$f":"IF(LEN(O1669)=0,\"\",IF(COUNTIF(O1669:$O$1921,O1669+1)>0,\"\",O1669+1))","v":""}]
[null,null,null,null,null,null,null,null,null,null,null,null,null,null,{"$f":"IF(1670<=$B$10,IF(LEN('３学期'!EE16)=0,\"\",IF('３学期'!EE16=$B$8,IF(LEN('３学期'!EH16)=0,\"\",'３学期'!EH16),\"\")),\"\")","v":""},{"$f":"IF(LEN(O1670)=0,\"\",IF(COUNTIF(O1670:$O$1921,O1670+1)>0,\"\",O1670+1))","v":""}]
[null,null,null,null,null,null,null,null,null,null,null,null,null,null,{"$f":"IF(1671<=$B$10,IF(LEN('３学期'!EE19)=0,\"\",IF('３学期'!EE19=$B$8,IF(LEN('３学期'!EH19)=0,\"\",'３学期'!EH19),\"\")),\"\")","v":""},{"$f":"IF(LEN(O1671)=0,\"\",IF(COUNTIF(O1671:$O$1921,O1671+1)>0,\"\",O1671+1))","v":""}]
[null,null,null,null,null,null,null,null,null,null,null,null,null,null,{"$f":"IF(1672<=$B$10,IF(LEN('３学期'!EE22)=0,\"\",IF('３学期'!EE22=$B$8,IF(LEN('３学期'!EH22)=0,\"\",'３学期'!EH22),\"\")),\"\")","v":""},{"$f":"IF(LEN(O1672)=0,\"\",IF(COUNTIF(O1672:$O$1921,O1672+1)>0,\"\",O1672+1))","v":""}]
[null,null,null,null,null,null,null,null,null,null,null,null,null,null,{"$f":"IF(1673<=$B$10,IF(LEN('３学期'!EE25)=0,\"\",IF('３学期'!EE25=$B$8,IF(LEN('３学期'!EH25)=0,\"\",'３学期'!EH25),\"\")),\"\")","v":""},{"$f":"IF(LEN(O1673)=0,\"\",IF(COUNTIF(O1673:$O$1921,O1673+1)>0,\"\",O1673+1))","v":""}]
[null,null,null,null,null,null,null,null,null,null,null,null,null,null,{"$f":"IF(1674<=$B$10,IF(LEN('３学期'!EI6)=0,\"\",IF('３学期'!EI6=$B$8,IF(LEN('３学期'!EL6)=0,\"\",'３学期'!EL6),\"\")),\"\")","v":""},{"$f":"IF(LEN(O1674)=0,\"\",IF(COUNTIF(O1674:$O$1921,O1674+1)>0,\"\",O1674+1))","v":""}]
[null,null,null,null,null,null,null,null,null,null,null,null,null,null,{"$f":"IF(1675<=$B$10,IF(LEN('３学期'!EI7)=0,\"\",IF('３学期'!EI7=$B$8,IF(LEN('３学期'!EL7)=0,\"\",'３学期'!EL7),\"\")),\"\")","v":""},{"$f":"IF(LEN(O1675)=0,\"\",IF(COUNTIF(O1675:$O$1921,O1675+1)>0,\"\",O1675+1))","v":""}]
[null,null,null,null,null,null,null,null,null,null,null,null,null,null,{"$f":"IF(1676<=$B$10,IF(LEN('３学期'!EI10)=0,\"\",IF('３学期'!EI10=$B$8,IF(LEN('３学期'!EL10)=0,\"\",'３学期'!EL10),\"\")),\"\")","v":""},{"$f":"IF(LEN(O1676)=0,\"\",IF(COUNTIF(O1676:$O$1921,O1676+1)>0,\"\",O1676+1))","v":""}]
[null,null,null,null,null,null,null,null,null,null,null,null,null,null,{"$f":"IF(1677<=$B$10,IF(LEN('３学期'!EI13)=0,\"\",IF('３学期'!EI13=$B$8,IF(LEN('３学期'!EL13)=0,\"\",'３学期'!EL13),\"\")),\"\")","v":""},{"$f":"IF(LEN(O1677)=0,\"\",IF(COUNTIF(O1677:$O$1921,O1677+1)>0,\"\",O1677+1))","v":""}]
[null,null,null,null,null,null,null,null,null,null,null,null,null,null,{"$f":"IF(1678<=$B$10,IF(LEN('３学期'!EI16)=0,\"\",IF('３学期'!EI16=$B$8,IF(LEN('３学期'!EL16)=0,\"\",'３学期'!EL16),\"\")),\"\")","v":""},{"$f":"IF(LEN(O1678)=0,\"\",IF(COUNTIF(O1678:$O$1921,O1678+1)>0,\"\",O1678+1))","v":""}]
[null,null,null,null,null,null,null,null,null,null,null,null,null,null,{"$f":"IF(1679<=$B$10,IF(LEN('３学期'!EI19)=0,\"\",IF('３学期'!EI19=$B$8,IF(LEN('３学期'!EL19)=0,\"\",'３学期'!EL19),\"\")),\"\")","v":""},{"$f":"IF(LEN(O1679)=0,\"\",IF(COUNTIF(O1679:$O$1921,O1679+1)>0,\"\",O1679+1))","v":""}]
[null,null,null,null,null,null,null,null,null,null,null,null,null,null,{"$f":"IF(1680<=$B$10,IF(LEN('３学期'!EI22)=0,\"\",IF('３学期'!EI22=$B$8,IF(LEN('３学期'!EL22)=0,\"\",'３学期'!EL22),\"\")),\"\")","v":""},{"$f":"IF(LEN(O1680)=0,\"\",IF(COUNTIF(O1680:$O$1921,O1680+1)>0,\"\",O1680+1))","v":""}]
[null,null,null,null,null,null,null,null,null,null,null,null,null,null,{"$f":"IF(1681<=$B$10,IF(LEN('３学期'!EI25)=0,\"\",IF('３学期'!EI25=$B$8,IF(LEN('３学期'!EL25)=0,\"\",'３学期'!EL25),\"\")),\"\")","v":""},{"$f":"IF(LEN(O1681)=0,\"\",IF(COUNTIF(O1681:$O$1921,O1681+1)>0,\"\",O1681+1))","v":""}]
[null,null,null,null,null,null,null,null,null,null,null,null,null,null,{"$f":"IF(1682<=$B$10,IF(LEN('３学期'!EM6)=0,\"\",IF('３学期'!EM6=$B$8,IF(LEN('３学期'!EP6)=0,\"\",'３学期'!EP6),\"\")),\"\")","v":""},{"$f":"IF(LEN(O1682)=0,\"\",IF(COUNTIF(O1682:$O$1921,O1682+1)>0,\"\",O1682+1))","v":""}]
[null,null,null,null,null,null,null,null,null,null,null,null,null,null,{"$f":"IF(1683<=$B$10,IF(LEN('３学期'!EM7)=0,\"\",IF('３学期'!EM7=$B$8,IF(LEN('３学期'!EP7)=0,\"\",'３学期'!EP7),\"\")),\"\")","v":""},{"$f":"IF(LEN(O1683)=0,\"\",IF(COUNTIF(O1683:$O$1921,O1683+1)>0,\"\",O1683+1))","v":""}]
[null,null,null,null,null,null,null,null,null,null,null,null,null,null,{"$f":"IF(1684<=$B$10,IF(LEN('３学期'!EM10)=0,\"\",IF('３学期'!EM10=$B$8,IF(LEN('３学期'!EP10)=0,\"\",'３学期'!EP10),\"\")),\"\")","v":""},{"$f":"IF(LEN(O1684)=0,\"\",IF(COUNTIF(O1684:$O$1921,O1684+1)>0,\"\",O1684+1))","v":""}]
[null,null,null,null,null,null,null,null,null,null,null,null,null,null,{"$f":"IF(1685<=$B$10,IF(LEN('３学期'!EM13)=0,\"\",IF('３学期'!EM13=$B$8,IF(LEN('３学期'!EP13)=0,\"\",'３学期'!EP13),\"\")),\"\")","v":""},{"$f":"IF(LEN(O1685)=0,\"\",IF(COUNTIF(O1685:$O$1921,O1685+1)>0,\"\",O1685+1))","v":""}]
[null,null,null,null,null,null,null,null,null,null,null,null,null,null,{"$f":"IF(1686<=$B$10,IF(LEN('３学期'!EM16)=0,\"\",IF('３学期'!EM16=$B$8,IF(LEN('３学期'!EP16)=0,\"\",'３学期'!EP16),\"\")),\"\")","v":""},{"$f":"IF(LEN(O1686)=0,\"\",IF(COUNTIF(O1686:$O$1921,O1686+1)>0,\"\",O1686+1))","v":""}]
[null,null,null,null,null,null,null,null,null,null,null,null,null,null,{"$f":"IF(1687<=$B$10,IF(LEN('３学期'!EM19)=0,\"\",IF('３学期'!EM19=$B$8,IF(LEN('３学期'!EP19)=0,\"\",'３学期'!EP19),\"\")),\"\")","v":""},{"$f":"IF(LEN(O1687)=0,\"\",IF(COUNTIF(O1687:$O$1921,O1687+1)>0,\"\",O1687+1))","v":""}]
[null,null,null,null,null,null,null,null,null,null,null,null,null,null,{"$f":"IF(1688<=$B$10,IF(LEN('３学期'!EM22)=0,\"\",IF('３学期'!EM22=$B$8,IF(LEN('３学期'!EP22)=0,\"\",'３学期'!EP22),\"\")),\"\")","v":""},{"$f":"IF(LEN(O1688)=0,\"\",IF(COUNTIF(O1688:$O$1921,O1688+1)>0,\"\",O1688+1))","v":""}]
[null,null,null,null,null,null,null,null,null,null,null,null,null,null,{"$f":"IF(1689<=$B$10,IF(LEN('３学期'!EM25)=0,\"\",IF('３学期'!EM25=$B$8,IF(LEN('３学期'!EP25)=0,\"\",'３学期'!EP25),\"\")),\"\")","v":""},{"$f":"IF(LEN(O1689)=0,\"\",IF(COUNTIF(O1689:$O$1921,O1689+1)>0,\"\",O1689+1))","v":""}]
[null,null,null,null,null,null,null,null,null,null,null,null,null,null,{"$f":"IF(1690<=$B$10,IF(LEN('３学期'!EQ6)=0,\"\",IF('３学期'!EQ6=$B$8,IF(LEN('３学期'!ET6)=0,\"\",'３学期'!ET6),\"\")),\"\")","v":""},{"$f":"IF(LEN(O1690)=0,\"\",IF(COUNTIF(O1690:$O$1921,O1690+1)>0,\"\",O1690+1))","v":""}]
[null,null,null,null,null,null,null,null,null,null,null,null,null,null,{"$f":"IF(1691<=$B$10,IF(LEN('３学期'!EQ7)=0,\"\",IF('３学期'!EQ7=$B$8,IF(LEN('３学期'!ET7)=0,\"\",'３学期'!ET7),\"\")),\"\")","v":""},{"$f":"IF(LEN(O1691)=0,\"\",IF(COUNTIF(O1691:$O$1921,O1691+1)>0,\"\",O1691+1))","v":""}]
[null,null,null,null,null,null,null,null,null,null,null,null,null,null,{"$f":"IF(1692<=$B$10,IF(LEN('３学期'!EQ10)=0,\"\",IF('３学期'!EQ10=$B$8,IF(LEN('３学期'!ET10)=0,\"\",'３学期'!ET10),\"\")),\"\")","v":""},{"$f":"IF(LEN(O1692)=0,\"\",IF(COUNTIF(O1692:$O$1921,O1692+1)>0,\"\",O1692+1))","v":""}]
[null,null,null,null,null,null,null,null,null,null,null,null,null,null,{"$f":"IF(1693<=$B$10,IF(LEN('３学期'!EQ13)=0,\"\",IF('３学期'!EQ13=$B$8,IF(LEN('３学期'!ET13)=0,\"\",'３学期'!ET13),\"\")),\"\")","v":""},{"$f":"IF(LEN(O1693)=0,\"\",IF(COUNTIF(O1693:$O$1921,O1693+1)>0,\"\",O1693+1))","v":""}]
[null,null,null,null,null,null,null,null,null,null,null,null,null,null,{"$f":"IF(1694<=$B$10,IF(LEN('３学期'!EQ16)=0,\"\",IF('３学期'!EQ16=$B$8,IF(LEN('３学期'!ET16)=0,\"\",'３学期'!ET16),\"\")),\"\")","v":""},{"$f":"IF(LEN(O1694)=0,\"\",IF(COUNTIF(O1694:$O$1921,O1694+1)>0,\"\",O1694+1))","v":""}]
[null,null,null,null,null,null,null,null,null,null,null,null,null,null,{"$f":"IF(1695<=$B$10,IF(LEN('３学期'!EQ19)=0,\"\",IF('３学期'!EQ19=$B$8,IF(LEN('３学期'!ET19)=0,\"\",'３学期'!ET19),\"\")),\"\")","v":""},{"$f":"IF(LEN(O1695)=0,\"\",IF(COUNTIF(O1695:$O$1921,O1695+1)>0,\"\",O1695+1))","v":""}]
[null,null,null,null,null,null,null,null,null,null,null,null,null,null,{"$f":"IF(1696<=$B$10,IF(LEN('３学期'!EQ22)=0,\"\",IF('３学期'!EQ22=$B$8,IF(LEN('３学期'!ET22)=0,\"\",'３学期'!ET22),\"\")),\"\")","v":""},{"$f":"IF(LEN(O1696)=0,\"\",IF(COUNTIF(O1696:$O$1921,O1696+1)>0,\"\",O1696+1))","v":""}]
[null,null,null,null,null,null,null,null,null,null,null,null,null,null,{"$f":"IF(1697<=$B$10,IF(LEN('３学期'!EQ25)=0,\"\",IF('３学期'!EQ25=$B$8,IF(LEN('３学期'!ET25)=0,\"\",'３学期'!ET25),\"\")),\"\")","v":""},{"$f":"IF(LEN(O1697)=0,\"\",IF(COUNTIF(O1697:$O$1921,O1697+1)>0,\"\",O1697+1))","v":""}]
[null,null,null,null,null,null,null,null,null,null,null,null,null,null,{"$f":"IF(1698<=$B$10,IF(LEN('３学期'!EU6)=0,\"\",IF('３学期'!EU6=$B$8,IF(LEN('３学期'!EX6)=0,\"\",'３学期'!EX6),\"\")),\"\")","v":""},{"$f":"IF(LEN(O1698)=0,\"\",IF(COUNTIF(O1698:$O$1921,O1698+1)>0,\"\",O1698+1))","v":""}]
[null,null,null,null,null,null,null,null,null,null,null,null,null,null,{"$f":"IF(1699<=$B$10,IF(LEN('３学期'!EU7)=0,\"\",IF('３学期'!EU7=$B$8,IF(LEN('３学期'!EX7)=0,\"\",'３学期'!EX7),\"\")),\"\")","v":""},{"$f":"IF(LEN(O1699)=0,\"\",IF(COUNTIF(O1699:$O$1921,O1699+1)>0,\"\",O1699+1))","v":""}]
[null,null,null,null,null,null,null,null,null,null,null,null,null,null,{"$f":"IF(1700<=$B$10,IF(LEN('３学期'!EU10)=0,\"\",IF('３学期'!EU10=$B$8,IF(LEN('３学期'!EX10)=0,\"\",'３学期'!EX10),\"\")),\"\")","v":""},{"$f":"IF(LEN(O1700)=0,\"\",IF(COUNTIF(O1700:$O$1921,O1700+1)>0,\"\",O1700+1))","v":""}]
[null,null,null,null,null,null,null,null,null,null,null,null,null,null,{"$f":"IF(1701<=$B$10,IF(LEN('３学期'!EU13)=0,\"\",IF('３学期'!EU13=$B$8,IF(LEN('３学期'!EX13)=0,\"\",'３学期'!EX13),\"\")),\"\")","v":""},{"$f":"IF(LEN(O1701)=0,\"\",IF(COUNTIF(O1701:$O$1921,O1701+1)>0,\"\",O1701+1))","v":""}]
[null,null,null,null,null,null,null,null,null,null,null,null,null,null,{"$f":"IF(1702<=$B$10,IF(LEN('３学期'!EU16)=0,\"\",IF('３学期'!EU16=$B$8,IF(LEN('３学期'!EX16)=0,\"\",'３学期'!EX16),\"\")),\"\")","v":""},{"$f":"IF(LEN(O1702)=0,\"\",IF(COUNTIF(O1702:$O$1921,O1702+1)>0,\"\",O1702+1))","v":""}]
[null,null,null,null,null,null,null,null,null,null,null,null,null,null,{"$f":"IF(1703<=$B$10,IF(LEN('３学期'!EU19)=0,\"\",IF('３学期'!EU19=$B$8,IF(LEN('３学期'!EX19)=0,\"\",'３学期'!EX19),\"\")),\"\")","v":""},{"$f":"IF(LEN(O1703)=0,\"\",IF(COUNTIF(O1703:$O$1921,O1703+1)>0,\"\",O1703+1))","v":""}]
[null,null,null,null,null,null,null,null,null,null,null,null,null,null,{"$f":"IF(1704<=$B$10,IF(LEN('３学期'!EU22)=0,\"\",IF('３学期'!EU22=$B$8,IF(LEN('３学期'!EX22)=0,\"\",'３学期'!EX22),\"\")),\"\")","v":""},{"$f":"IF(LEN(O1704)=0,\"\",IF(COUNTIF(O1704:$O$1921,O1704+1)>0,\"\",O1704+1))","v":""}]
[null,null,null,null,null,null,null,null,null,null,null,null,null,null,{"$f":"IF(1705<=$B$10,IF(LEN('３学期'!EU25)=0,\"\",IF('３学期'!EU25=$B$8,IF(LEN('３学期'!EX25)=0,\"\",'３学期'!EX25),\"\")),\"\")","v":""},{"$f":"IF(LEN(O1705)=0,\"\",IF(COUNTIF(O1705:$O$1921,O1705+1)>0,\"\",O1705+1))","v":""}]
[null,null,null,null,null,null,null,null,null,null,null,null,null,null,{"$f":"IF(1706<=$B$10,IF(LEN('３学期'!EY6)=0,\"\",IF('３学期'!EY6=$B$8,IF(LEN('３学期'!FB6)=0,\"\",'３学期'!FB6),\"\")),\"\")","v":""},{"$f":"IF(LEN(O1706)=0,\"\",IF(COUNTIF(O1706:$O$1921,O1706+1)>0,\"\",O1706+1))","v":""}]
[null,null,null,null,null,null,null,null,null,null,null,null,null,null,{"$f":"IF(1707<=$B$10,IF(LEN('３学期'!EY7)=0,\"\",IF('３学期'!EY7=$B$8,IF(LEN('３学期'!FB7)=0,\"\",'３学期'!FB7),\"\")),\"\")","v":""},{"$f":"IF(LEN(O1707)=0,\"\",IF(COUNTIF(O1707:$O$1921,O1707+1)>0,\"\",O1707+1))","v":""}]
[null,null,null,null,null,null,null,null,null,null,null,null,null,null,{"$f":"IF(1708<=$B$10,IF(LEN('３学期'!EY10)=0,\"\",IF('３学期'!EY10=$B$8,IF(LEN('３学期'!FB10)=0,\"\",'３学期'!FB10),\"\")),\"\")","v":""},{"$f":"IF(LEN(O1708)=0,\"\",IF(COUNTIF(O1708:$O$1921,O1708+1)>0,\"\",O1708+1))","v":""}]
[null,null,null,null,null,null,null,null,null,null,null,null,null,null,{"$f":"IF(1709<=$B$10,IF(LEN('３学期'!EY13)=0,\"\",IF('３学期'!EY13=$B$8,IF(LEN('３学期'!FB13)=0,\"\",'３学期'!FB13),\"\")),\"\")","v":""},{"$f":"IF(LEN(O1709)=0,\"\",IF(COUNTIF(O1709:$O$1921,O1709+1)>0,\"\",O1709+1))","v":""}]
[null,null,null,null,null,null,null,null,null,null,null,null,null,null,{"$f":"IF(1710<=$B$10,IF(LEN('３学期'!EY16)=0,\"\",IF('３学期'!EY16=$B$8,IF(LEN('３学期'!FB16)=0,\"\",'３学期'!FB16),\"\")),\"\")","v":""},{"$f":"IF(LEN(O1710)=0,\"\",IF(COUNTIF(O1710:$O$1921,O1710+1)>0,\"\",O1710+1))","v":""}]
[null,null,null,null,null,null,null,null,null,null,null,null,null,null,{"$f":"IF(1711<=$B$10,IF(LEN('３学期'!EY19)=0,\"\",IF('３学期'!EY19=$B$8,IF(LEN('３学期'!FB19)=0,\"\",'３学期'!FB19),\"\")),\"\")","v":""},{"$f":"IF(LEN(O1711)=0,\"\",IF(COUNTIF(O1711:$O$1921,O1711+1)>0,\"\",O1711+1))","v":""}]
[null,null,null,null,null,null,null,null,null,null,null,null,null,null,{"$f":"IF(1712<=$B$10,IF(LEN('３学期'!EY22)=0,\"\",IF('３学期'!EY22=$B$8,IF(LEN('３学期'!FB22)=0,\"\",'３学期'!FB22),\"\")),\"\")","v":""},{"$f":"IF(LEN(O1712)=0,\"\",IF(COUNTIF(O1712:$O$1921,O1712+1)>0,\"\",O1712+1))","v":""}]
[null,null,null,null,null,null,null,null,null,null,null,null,null,null,{"$f":"IF(1713<=$B$10,IF(LEN('３学期'!EY25)=0,\"\",IF('３学期'!EY25=$B$8,IF(LEN('３学期'!FB25)=0,\"\",'３学期'!FB25),\"\")),\"\")","v":""},{"$f":"IF(LEN(O1713)=0,\"\",IF(COUNTIF(O1713:$O$1921,O1713+1)>0,\"\",O1713+1))","v":""}]
[null,null,null,null,null,null,null,null,null,null,null,null,null,null,{"$f":"IF(1714<=$B$10,IF(LEN('３学期'!FC6)=0,\"\",IF('３学期'!FC6=$B$8,IF(LEN('３学期'!FF6)=0,\"\",'３学期'!FF6),\"\")),\"\")","v":""},{"$f":"IF(LEN(O1714)=0,\"\",IF(COUNTIF(O1714:$O$1921,O1714+1)>0,\"\",O1714+1))","v":""}]
[null,null,null,null,null,null,null,null,null,null,null,null,null,null,{"$f":"IF(1715<=$B$10,IF(LEN('３学期'!FC7)=0,\"\",IF('３学期'!FC7=$B$8,IF(LEN('３学期'!FF7)=0,\"\",'３学期'!FF7),\"\")),\"\")","v":""},{"$f":"IF(LEN(O1715)=0,\"\",IF(COUNTIF(O1715:$O$1921,O1715+1)>0,\"\",O1715+1))","v":""}]
[null,null,null,null,null,null,null,null,null,null,null,null,null,null,{"$f":"IF(1716<=$B$10,IF(LEN('３学期'!FC10)=0,\"\",IF('３学期'!FC10=$B$8,IF(LEN('３学期'!FF10)=0,\"\",'３学期'!FF10),\"\")),\"\")","v":""},{"$f":"IF(LEN(O1716)=0,\"\",IF(COUNTIF(O1716:$O$1921,O1716+1)>0,\"\",O1716+1))","v":""}]
[null,null,null,null,null,null,null,null,null,null,null,null,null,null,{"$f":"IF(1717<=$B$10,IF(LEN('３学期'!FC13)=0,\"\",IF('３学期'!FC13=$B$8,IF(LEN('３学期'!FF13)=0,\"\",'３学期'!FF13),\"\")),\"\")","v":""},{"$f":"IF(LEN(O1717)=0,\"\",IF(COUNTIF(O1717:$O$1921,O1717+1)>0,\"\",O1717+1))","v":""}]
[null,null,null,null,null,null,null,null,null,null,null,null,null,null,{"$f":"IF(1718<=$B$10,IF(LEN('３学期'!FC16)=0,\"\",IF('３学期'!FC16=$B$8,IF(LEN('３学期'!FF16)=0,\"\",'３学期'!FF16),\"\")),\"\")","v":""},{"$f":"IF(LEN(O1718)=0,\"\",IF(COUNTIF(O1718:$O$1921,O1718+1)>0,\"\",O1718+1))","v":""}]
[null,null,null,null,null,null,null,null,null,null,null,null,null,null,{"$f":"IF(1719<=$B$10,IF(LEN('３学期'!FC19)=0,\"\",IF('３学期'!FC19=$B$8,IF(LEN('３学期'!FF19)=0,\"\",'３学期'!FF19),\"\")),\"\")","v":""},{"$f":"IF(LEN(O1719)=0,\"\",IF(COUNTIF(O1719:$O$1921,O1719+1)>0,\"\",O1719+1))","v":""}]
[null,null,null,null,null,null,null,null,null,null,null,null,null,null,{"$f":"IF(1720<=$B$10,IF(LEN('３学期'!FC22)=0,\"\",IF('３学期'!FC22=$B$8,IF(LEN('３学期'!FF22)=0,\"\",'３学期'!FF22),\"\")),\"\")","v":""},{"$f":"IF(LEN(O1720)=0,\"\",IF(COUNTIF(O1720:$O$1921,O1720+1)>0,\"\",O1720+1))","v":""}]
[null,null,null,null,null,null,null,null,null,null,null,null,null,null,{"$f":"IF(1721<=$B$10,IF(LEN('３学期'!FC25)=0,\"\",IF('３学期'!FC25=$B$8,IF(LEN('３学期'!FF25)=0,\"\",'３学期'!FF25),\"\")),\"\")","v":""},{"$f":"IF(LEN(O1721)=0,\"\",IF(COUNTIF(O1721:$O$1921,O1721+1)>0,\"\",O1721+1))","v":""}]
[null,null,null,null,null,null,null,null,null,null,null,null,null,null,{"$f":"IF(1722<=$B$10,IF(LEN('３学期'!FG6)=0,\"\",IF('３学期'!FG6=$B$8,IF(LEN('３学期'!FJ6)=0,\"\",'３学期'!FJ6),\"\")),\"\")","v":""},{"$f":"IF(LEN(O1722)=0,\"\",IF(COUNTIF(O1722:$O$1921,O1722+1)>0,\"\",O1722+1))","v":""}]
[null,null,null,null,null,null,null,null,null,null,null,null,null,null,{"$f":"IF(1723<=$B$10,IF(LEN('３学期'!FG7)=0,\"\",IF('３学期'!FG7=$B$8,IF(LEN('３学期'!FJ7)=0,\"\",'３学期'!FJ7),\"\")),\"\")","v":""},{"$f":"IF(LEN(O1723)=0,\"\",IF(COUNTIF(O1723:$O$1921,O1723+1)>0,\"\",O1723+1))","v":""}]
[null,null,null,null,null,null,null,null,null,null,null,null,null,null,{"$f":"IF(1724<=$B$10,IF(LEN('３学期'!FG10)=0,\"\",IF('３学期'!FG10=$B$8,IF(LEN('３学期'!FJ10)=0,\"\",'３学期'!FJ10),\"\")),\"\")","v":""},{"$f":"IF(LEN(O1724)=0,\"\",IF(COUNTIF(O1724:$O$1921,O1724+1)>0,\"\",O1724+1))","v":""}]
[null,null,null,null,null,null,null,null,null,null,null,null,null,null,{"$f":"IF(1725<=$B$10,IF(LEN('３学期'!FG13)=0,\"\",IF('３学期'!FG13=$B$8,IF(LEN('３学期'!FJ13)=0,\"\",'３学期'!FJ13),\"\")),\"\")","v":""},{"$f":"IF(LEN(O1725)=0,\"\",IF(COUNTIF(O1725:$O$1921,O1725+1)>0,\"\",O1725+1))","v":""}]
[null,null,null,null,null,null,null,null,null,null,null,null,null,null,{"$f":"IF(1726<=$B$10,IF(LEN('３学期'!FG16)=0,\"\",IF('３学期'!FG16=$B$8,IF(LEN('３学期'!FJ16)=0,\"\",'３学期'!FJ16),\"\")),\"\")","v":""},{"$f":"IF(LEN(O1726)=0,\"\",IF(COUNTIF(O1726:$O$1921,O1726+1)>0,\"\",O1726+1))","v":""}]
[null,null,null,null,null,null,null,null,null,null,null,null,null,null,{"$f":"IF(1727<=$B$10,IF(LEN('３学期'!FG19)=0,\"\",IF('３学期'!FG19=$B$8,IF(LEN('３学期'!FJ19)=0,\"\",'３学期'!FJ19),\"\")),\"\")","v":""},{"$f":"IF(LEN(O1727)=0,\"\",IF(COUNTIF(O1727:$O$1921,O1727+1)>0,\"\",O1727+1))","v":""}]
[null,null,null,null,null,null,null,null,null,null,null,null,null,null,{"$f":"IF(1728<=$B$10,IF(LEN('３学期'!FG22)=0,\"\",IF('３学期'!FG22=$B$8,IF(LEN('３学期'!FJ22)=0,\"\",'３学期'!FJ22),\"\")),\"\")","v":""},{"$f":"IF(LEN(O1728)=0,\"\",IF(COUNTIF(O1728:$O$1921,O1728+1)>0,\"\",O1728+1))","v":""}]
[null,null,null,null,null,null,null,null,null,null,null,null,null,null,{"$f":"IF(1729<=$B$10,IF(LEN('３学期'!FG25)=0,\"\",IF('３学期'!FG25=$B$8,IF(LEN('３学期'!FJ25)=0,\"\",'３学期'!FJ25),\"\")),\"\")","v":""},{"$f":"IF(LEN(O1729)=0,\"\",IF(COUNTIF(O1729:$O$1921,O1729+1)>0,\"\",O1729+1))","v":""}]
[null,null,null,null,null,null,null,null,null,null,null,null,null,null,{"$f":"IF(1730<=$B$10,IF(LEN('３学期'!FK6)=0,\"\",IF('３学期'!FK6=$B$8,IF(LEN('３学期'!FN6)=0,\"\",'３学期'!FN6),\"\")),\"\")","v":""},{"$f":"IF(LEN(O1730)=0,\"\",IF(COUNTIF(O1730:$O$1921,O1730+1)>0,\"\",O1730+1))","v":""}]
[null,null,null,null,null,null,null,null,null,null,null,null,null,null,{"$f":"IF(1731<=$B$10,IF(LEN('３学期'!FK7)=0,\"\",IF('３学期'!FK7=$B$8,IF(LEN('３学期'!FN7)=0,\"\",'３学期'!FN7),\"\")),\"\")","v":""},{"$f":"IF(LEN(O1731)=0,\"\",IF(COUNTIF(O1731:$O$1921,O1731+1)>0,\"\",O1731+1))","v":""}]
[null,null,null,null,null,null,null,null,null,null,null,null,null,null,{"$f":"IF(1732<=$B$10,IF(LEN('３学期'!FK10)=0,\"\",IF('３学期'!FK10=$B$8,IF(LEN('３学期'!FN10)=0,\"\",'３学期'!FN10),\"\")),\"\")","v":""},{"$f":"IF(LEN(O1732)=0,\"\",IF(COUNTIF(O1732:$O$1921,O1732+1)>0,\"\",O1732+1))","v":""}]
[null,null,null,null,null,null,null,null,null,null,null,null,null,null,{"$f":"IF(1733<=$B$10,IF(LEN('３学期'!FK13)=0,\"\",IF('３学期'!FK13=$B$8,IF(LEN('３学期'!FN13)=0,\"\",'３学期'!FN13),\"\")),\"\")","v":""},{"$f":"IF(LEN(O1733)=0,\"\",IF(COUNTIF(O1733:$O$1921,O1733+1)>0,\"\",O1733+1))","v":""}]
[null,null,null,null,null,null,null,null,null,null,null,null,null,null,{"$f":"IF(1734<=$B$10,IF(LEN('３学期'!FK16)=0,\"\",IF('３学期'!FK16=$B$8,IF(LEN('３学期'!FN16)=0,\"\",'３学期'!FN16),\"\")),\"\")","v":""},{"$f":"IF(LEN(O1734)=0,\"\",IF(COUNTIF(O1734:$O$1921,O1734+1)>0,\"\",O1734+1))","v":""}]
[null,null,null,null,null,null,null,null,null,null,null,null,null,null,{"$f":"IF(1735<=$B$10,IF(LEN('３学期'!FK19)=0,\"\",IF('３学期'!FK19=$B$8,IF(LEN('３学期'!FN19)=0,\"\",'３学期'!FN19),\"\")),\"\")","v":""},{"$f":"IF(LEN(O1735)=0,\"\",IF(COUNTIF(O1735:$O$1921,O1735+1)>0,\"\",O1735+1))","v":""}]
[null,null,null,null,null,null,null,null,null,null,null,null,null,null,{"$f":"IF(1736<=$B$10,IF(LEN('３学期'!FK22)=0,\"\",IF('３学期'!FK22=$B$8,IF(LEN('３学期'!FN22)=0,\"\",'３学期'!FN22),\"\")),\"\")","v":""},{"$f":"IF(LEN(O1736)=0,\"\",IF(COUNTIF(O1736:$O$1921,O1736+1)>0,\"\",O1736+1))","v":""}]
[null,null,null,null,null,null,null,null,null,null,null,null,null,null,{"$f":"IF(1737<=$B$10,IF(LEN('３学期'!FK25)=0,\"\",IF('３学期'!FK25=$B$8,IF(LEN('３学期'!FN25)=0,\"\",'３学期'!FN25),\"\")),\"\")","v":""},{"$f":"IF(LEN(O1737)=0,\"\",IF(COUNTIF(O1737:$O$1921,O1737+1)>0,\"\",O1737+1))","v":""}]
[null,null,null,null,null,null,null,null,null,null,null,null,null,null,{"$f":"IF(1738<=$B$10,IF(LEN('３学期'!FO6)=0,\"\",IF('３学期'!FO6=$B$8,IF(LEN('３学期'!FR6)=0,\"\",'３学期'!FR6),\"\")),\"\")","v":""},{"$f":"IF(LEN(O1738)=0,\"\",IF(COUNTIF(O1738:$O$1921,O1738+1)>0,\"\",O1738+1))","v":""}]
[null,null,null,null,null,null,null,null,null,null,null,null,null,null,{"$f":"IF(1739<=$B$10,IF(LEN('３学期'!FO7)=0,\"\",IF('３学期'!FO7=$B$8,IF(LEN('３学期'!FR7)=0,\"\",'３学期'!FR7),\"\")),\"\")","v":""},{"$f":"IF(LEN(O1739)=0,\"\",IF(COUNTIF(O1739:$O$1921,O1739+1)>0,\"\",O1739+1))","v":""}]
[null,null,null,null,null,null,null,null,null,null,null,null,null,null,{"$f":"IF(1740<=$B$10,IF(LEN('３学期'!FO10)=0,\"\",IF('３学期'!FO10=$B$8,IF(LEN('３学期'!FR10)=0,\"\",'３学期'!FR10),\"\")),\"\")","v":""},{"$f":"IF(LEN(O1740)=0,\"\",IF(COUNTIF(O1740:$O$1921,O1740+1)>0,\"\",O1740+1))","v":""}]
[null,null,null,null,null,null,null,null,null,null,null,null,null,null,{"$f":"IF(1741<=$B$10,IF(LEN('３学期'!FO13)=0,\"\",IF('３学期'!FO13=$B$8,IF(LEN('３学期'!FR13)=0,\"\",'３学期'!FR13),\"\")),\"\")","v":""},{"$f":"IF(LEN(O1741)=0,\"\",IF(COUNTIF(O1741:$O$1921,O1741+1)>0,\"\",O1741+1))","v":""}]
[null,null,null,null,null,null,null,null,null,null,null,null,null,null,{"$f":"IF(1742<=$B$10,IF(LEN('３学期'!FO16)=0,\"\",IF('３学期'!FO16=$B$8,IF(LEN('３学期'!FR16)=0,\"\",'３学期'!FR16),\"\")),\"\")","v":""},{"$f":"IF(LEN(O1742)=0,\"\",IF(COUNTIF(O1742:$O$1921,O1742+1)>0,\"\",O1742+1))","v":""}]
[null,null,null,null,null,null,null,null,null,null,null,null,null,null,{"$f":"IF(1743<=$B$10,IF(LEN('３学期'!FO19)=0,\"\",IF('３学期'!FO19=$B$8,IF(LEN('３学期'!FR19)=0,\"\",'３学期'!FR19),\"\")),\"\")","v":""},{"$f":"IF(LEN(O1743)=0,\"\",IF(COUNTIF(O1743:$O$1921,O1743+1)>0,\"\",O1743+1))","v":""}]
[null,null,null,null,null,null,null,null,null,null,null,null,null,null,{"$f":"IF(1744<=$B$10,IF(LEN('３学期'!FO22)=0,\"\",IF('３学期'!FO22=$B$8,IF(LEN('３学期'!FR22)=0,\"\",'３学期'!FR22),\"\")),\"\")","v":""},{"$f":"IF(LEN(O1744)=0,\"\",IF(COUNTIF(O1744:$O$1921,O1744+1)>0,\"\",O1744+1))","v":""}]
[null,null,null,null,null,null,null,null,null,null,null,null,null,null,{"$f":"IF(1745<=$B$10,IF(LEN('３学期'!FO25)=0,\"\",IF('３学期'!FO25=$B$8,IF(LEN('３学期'!FR25)=0,\"\",'３学期'!FR25),\"\")),\"\")","v":""},{"$f":"IF(LEN(O1745)=0,\"\",IF(COUNTIF(O1745:$O$1921,O1745+1)>0,\"\",O1745+1))","v":""}]
[null,null,null,null,null,null,null,null,null,null,null,null,null,null,{"$f":"IF(1746<=$B$10,IF(LEN('３学期'!FS6)=0,\"\",IF('３学期'!FS6=$B$8,IF(LEN('３学期'!FV6)=0,\"\",'３学期'!FV6),\"\")),\"\")","v":""},{"$f":"IF(LEN(O1746)=0,\"\",IF(COUNTIF(O1746:$O$1921,O1746+1)>0,\"\",O1746+1))","v":""}]
[null,null,null,null,null,null,null,null,null,null,null,null,null,null,{"$f":"IF(1747<=$B$10,IF(LEN('３学期'!FS7)=0,\"\",IF('３学期'!FS7=$B$8,IF(LEN('３学期'!FV7)=0,\"\",'３学期'!FV7),\"\")),\"\")","v":""},{"$f":"IF(LEN(O1747)=0,\"\",IF(COUNTIF(O1747:$O$1921,O1747+1)>0,\"\",O1747+1))","v":""}]
[null,null,null,null,null,null,null,null,null,null,null,null,null,null,{"$f":"IF(1748<=$B$10,IF(LEN('３学期'!FS10)=0,\"\",IF('３学期'!FS10=$B$8,IF(LEN('３学期'!FV10)=0,\"\",'３学期'!FV10),\"\")),\"\")","v":""},{"$f":"IF(LEN(O1748)=0,\"\",IF(COUNTIF(O1748:$O$1921,O1748+1)>0,\"\",O1748+1))","v":""}]
[null,null,null,null,null,null,null,null,null,null,null,null,null,null,{"$f":"IF(1749<=$B$10,IF(LEN('３学期'!FS13)=0,\"\",IF('３学期'!FS13=$B$8,IF(LEN('３学期'!FV13)=0,\"\",'３学期'!FV13),\"\")),\"\")","v":""},{"$f":"IF(LEN(O1749)=0,\"\",IF(COUNTIF(O1749:$O$1921,O1749+1)>0,\"\",O1749+1))","v":""}]
[null,null,null,null,null,null,null,null,null,null,null,null,null,null,{"$f":"IF(1750<=$B$10,IF(LEN('３学期'!FS16)=0,\"\",IF('３学期'!FS16=$B$8,IF(LEN('３学期'!FV16)=0,\"\",'３学期'!FV16),\"\")),\"\")","v":""},{"$f":"IF(LEN(O1750)=0,\"\",IF(COUNTIF(O1750:$O$1921,O1750+1)>0,\"\",O1750+1))","v":""}]
[null,null,null,null,null,null,null,null,null,null,null,null,null,null,{"$f":"IF(1751<=$B$10,IF(LEN('３学期'!FS19)=0,\"\",IF('３学期'!FS19=$B$8,IF(LEN('３学期'!FV19)=0,\"\",'３学期'!FV19),\"\")),\"\")","v":""},{"$f":"IF(LEN(O1751)=0,\"\",IF(COUNTIF(O1751:$O$1921,O1751+1)>0,\"\",O1751+1))","v":""}]
[null,null,null,null,null,null,null,null,null,null,null,null,null,null,{"$f":"IF(1752<=$B$10,IF(LEN('３学期'!FS22)=0,\"\",IF('３学期'!FS22=$B$8,IF(LEN('３学期'!FV22)=0,\"\",'３学期'!FV22),\"\")),\"\")","v":""},{"$f":"IF(LEN(O1752)=0,\"\",IF(COUNTIF(O1752:$O$1921,O1752+1)>0,\"\",O1752+1))","v":""}]
[null,null,null,null,null,null,null,null,null,null,null,null,null,null,{"$f":"IF(1753<=$B$10,IF(LEN('３学期'!FS25)=0,\"\",IF('３学期'!FS25=$B$8,IF(LEN('３学期'!FV25)=0,\"\",'３学期'!FV25),\"\")),\"\")","v":""},{"$f":"IF(LEN(O1753)=0,\"\",IF(COUNTIF(O1753:$O$1921,O1753+1)>0,\"\",O1753+1))","v":""}]
[null,null,null,null,null,null,null,null,null,null,null,null,null,null,{"$f":"IF(1754<=$B$10,IF(LEN('３学期'!FW6)=0,\"\",IF('３学期'!FW6=$B$8,IF(LEN('３学期'!FZ6)=0,\"\",'３学期'!FZ6),\"\")),\"\")","v":""},{"$f":"IF(LEN(O1754)=0,\"\",IF(COUNTIF(O1754:$O$1921,O1754+1)>0,\"\",O1754+1))","v":""}]
[null,null,null,null,null,null,null,null,null,null,null,null,null,null,{"$f":"IF(1755<=$B$10,IF(LEN('３学期'!FW7)=0,\"\",IF('３学期'!FW7=$B$8,IF(LEN('３学期'!FZ7)=0,\"\",'３学期'!FZ7),\"\")),\"\")","v":""},{"$f":"IF(LEN(O1755)=0,\"\",IF(COUNTIF(O1755:$O$1921,O1755+1)>0,\"\",O1755+1))","v":""}]
[null,null,null,null,null,null,null,null,null,null,null,null,null,null,{"$f":"IF(1756<=$B$10,IF(LEN('３学期'!FW10)=0,\"\",IF('３学期'!FW10=$B$8,IF(LEN('３学期'!FZ10)=0,\"\",'３学期'!FZ10),\"\")),\"\")","v":""},{"$f":"IF(LEN(O1756)=0,\"\",IF(COUNTIF(O1756:$O$1921,O1756+1)>0,\"\",O1756+1))","v":""}]
[null,null,null,null,null,null,null,null,null,null,null,null,null,null,{"$f":"IF(1757<=$B$10,IF(LEN('３学期'!FW13)=0,\"\",IF('３学期'!FW13=$B$8,IF(LEN('３学期'!FZ13)=0,\"\",'３学期'!FZ13),\"\")),\"\")","v":""},{"$f":"IF(LEN(O1757)=0,\"\",IF(COUNTIF(O1757:$O$1921,O1757+1)>0,\"\",O1757+1))","v":""}]
[null,null,null,null,null,null,null,null,null,null,null,null,null,null,{"$f":"IF(1758<=$B$10,IF(LEN('３学期'!FW16)=0,\"\",IF('３学期'!FW16=$B$8,IF(LEN('３学期'!FZ16)=0,\"\",'３学期'!FZ16),\"\")),\"\")","v":""},{"$f":"IF(LEN(O1758)=0,\"\",IF(COUNTIF(O1758:$O$1921,O1758+1)>0,\"\",O1758+1))","v":""}]
[null,null,null,null,null,null,null,null,null,null,null,null,null,null,{"$f":"IF(1759<=$B$10,IF(LEN('３学期'!FW19)=0,\"\",IF('３学期'!FW19=$B$8,IF(LEN('３学期'!FZ19)=0,\"\",'３学期'!FZ19),\"\")),\"\")","v":""},{"$f":"IF(LEN(O1759)=0,\"\",IF(COUNTIF(O1759:$O$1921,O1759+1)>0,\"\",O1759+1))","v":""}]
[null,null,null,null,null,null,null,null,null,null,null,null,null,null,{"$f":"IF(1760<=$B$10,IF(LEN('３学期'!FW22)=0,\"\",IF('３学期'!FW22=$B$8,IF(LEN('３学期'!FZ22)=0,\"\",'３学期'!FZ22),\"\")),\"\")","v":""},{"$f":"IF(LEN(O1760)=0,\"\",IF(COUNTIF(O1760:$O$1921,O1760+1)>0,\"\",O1760+1))","v":""}]
[null,null,null,null,null,null,null,null,null,null,null,null,null,null,{"$f":"IF(1761<=$B$10,IF(LEN('３学期'!FW25)=0,\"\",IF('３学期'!FW25=$B$8,IF(LEN('３学期'!FZ25)=0,\"\",'３学期'!FZ25),\"\")),\"\")","v":""},{"$f":"IF(LEN(O1761)=0,\"\",IF(COUNTIF(O1761:$O$1921,O1761+1)>0,\"\",O1761+1))","v":""}]
[null,null,null,null,null,null,null,null,null,null,null,null,null,null,{"$f":"IF(1762<=$B$10,IF(LEN('３学期'!GA6)=0,\"\",IF('３学期'!GA6=$B$8,IF(LEN('３学期'!GD6)=0,\"\",'３学期'!GD6),\"\")),\"\")","v":""},{"$f":"IF(LEN(O1762)=0,\"\",IF(COUNTIF(O1762:$O$1921,O1762+1)>0,\"\",O1762+1))","v":""}]
[null,null,null,null,null,null,null,null,null,null,null,null,null,null,{"$f":"IF(1763<=$B$10,IF(LEN('３学期'!GA7)=0,\"\",IF('３学期'!GA7=$B$8,IF(LEN('３学期'!GD7)=0,\"\",'３学期'!GD7),\"\")),\"\")","v":""},{"$f":"IF(LEN(O1763)=0,\"\",IF(COUNTIF(O1763:$O$1921,O1763+1)>0,\"\",O1763+1))","v":""}]
[null,null,null,null,null,null,null,null,null,null,null,null,null,null,{"$f":"IF(1764<=$B$10,IF(LEN('３学期'!GA10)=0,\"\",IF('３学期'!GA10=$B$8,IF(LEN('３学期'!GD10)=0,\"\",'３学期'!GD10),\"\")),\"\")","v":""},{"$f":"IF(LEN(O1764)=0,\"\",IF(COUNTIF(O1764:$O$1921,O1764+1)>0,\"\",O1764+1))","v":""}]
[null,null,null,null,null,null,null,null,null,null,null,null,null,null,{"$f":"IF(1765<=$B$10,IF(LEN('３学期'!GA13)=0,\"\",IF('３学期'!GA13=$B$8,IF(LEN('３学期'!GD13)=0,\"\",'３学期'!GD13),\"\")),\"\")","v":""},{"$f":"IF(LEN(O1765)=0,\"\",IF(COUNTIF(O1765:$O$1921,O1765+1)>0,\"\",O1765+1))","v":""}]
[null,null,null,null,null,null,null,null,null,null,null,null,null,null,{"$f":"IF(1766<=$B$10,IF(LEN('３学期'!GA16)=0,\"\",IF('３学期'!GA16=$B$8,IF(LEN('３学期'!GD16)=0,\"\",'３学期'!GD16),\"\")),\"\")","v":""},{"$f":"IF(LEN(O1766)=0,\"\",IF(COUNTIF(O1766:$O$1921,O1766+1)>0,\"\",O1766+1))","v":""}]
[null,null,null,null,null,null,null,null,null,null,null,null,null,null,{"$f":"IF(1767<=$B$10,IF(LEN('３学期'!GA19)=0,\"\",IF('３学期'!GA19=$B$8,IF(LEN('３学期'!GD19)=0,\"\",'３学期'!GD19),\"\")),\"\")","v":""},{"$f":"IF(LEN(O1767)=0,\"\",IF(COUNTIF(O1767:$O$1921,O1767+1)>0,\"\",O1767+1))","v":""}]
[null,null,null,null,null,null,null,null,null,null,null,null,null,null,{"$f":"IF(1768<=$B$10,IF(LEN('３学期'!GA22)=0,\"\",IF('３学期'!GA22=$B$8,IF(LEN('３学期'!GD22)=0,\"\",'３学期'!GD22),\"\")),\"\")","v":""},{"$f":"IF(LEN(O1768)=0,\"\",IF(COUNTIF(O1768:$O$1921,O1768+1)>0,\"\",O1768+1))","v":""}]
[null,null,null,null,null,null,null,null,null,null,null,null,null,null,{"$f":"IF(1769<=$B$10,IF(LEN('３学期'!GA25)=0,\"\",IF('３学期'!GA25=$B$8,IF(LEN('３学期'!GD25)=0,\"\",'３学期'!GD25),\"\")),\"\")","v":""},{"$f":"IF(LEN(O1769)=0,\"\",IF(COUNTIF(O1769:$O$1921,O1769+1)>0,\"\",O1769+1))","v":""}]
[null,null,null,null,null,null,null,null,null,null,null,null,null,null,{"$f":"IF(1770<=$B$10,IF(LEN('３学期'!GE6)=0,\"\",IF('３学期'!GE6=$B$8,IF(LEN('３学期'!GH6)=0,\"\",'３学期'!GH6),\"\")),\"\")","v":""},{"$f":"IF(LEN(O1770)=0,\"\",IF(COUNTIF(O1770:$O$1921,O1770+1)>0,\"\",O1770+1))","v":""}]
[null,null,null,null,null,null,null,null,null,null,null,null,null,null,{"$f":"IF(1771<=$B$10,IF(LEN('３学期'!GE7)=0,\"\",IF('３学期'!GE7=$B$8,IF(LEN('３学期'!GH7)=0,\"\",'３学期'!GH7),\"\")),\"\")","v":""},{"$f":"IF(LEN(O1771)=0,\"\",IF(COUNTIF(O1771:$O$1921,O1771+1)>0,\"\",O1771+1))","v":""}]
[null,null,null,null,null,null,null,null,null,null,null,null,null,null,{"$f":"IF(1772<=$B$10,IF(LEN('３学期'!GE10)=0,\"\",IF('３学期'!GE10=$B$8,IF(LEN('３学期'!GH10)=0,\"\",'３学期'!GH10),\"\")),\"\")","v":""},{"$f":"IF(LEN(O1772)=0,\"\",IF(COUNTIF(O1772:$O$1921,O1772+1)>0,\"\",O1772+1))","v":""}]
[null,null,null,null,null,null,null,null,null,null,null,null,null,null,{"$f":"IF(1773<=$B$10,IF(LEN('３学期'!GE13)=0,\"\",IF('３学期'!GE13=$B$8,IF(LEN('３学期'!GH13)=0,\"\",'３学期'!GH13),\"\")),\"\")","v":""},{"$f":"IF(LEN(O1773)=0,\"\",IF(COUNTIF(O1773:$O$1921,O1773+1)>0,\"\",O1773+1))","v":""}]
[null,null,null,null,null,null,null,null,null,null,null,null,null,null,{"$f":"IF(1774<=$B$10,IF(LEN('３学期'!GE16)=0,\"\",IF('３学期'!GE16=$B$8,IF(LEN('３学期'!GH16)=0,\"\",'３学期'!GH16),\"\")),\"\")","v":""},{"$f":"IF(LEN(O1774)=0,\"\",IF(COUNTIF(O1774:$O$1921,O1774+1)>0,\"\",O1774+1))","v":""}]
[null,null,null,null,null,null,null,null,null,null,null,null,null,null,{"$f":"IF(1775<=$B$10,IF(LEN('３学期'!GE19)=0,\"\",IF('３学期'!GE19=$B$8,IF(LEN('３学期'!GH19)=0,\"\",'３学期'!GH19),\"\")),\"\")","v":""},{"$f":"IF(LEN(O1775)=0,\"\",IF(COUNTIF(O1775:$O$1921,O1775+1)>0,\"\",O1775+1))","v":""}]
[null,null,null,null,null,null,null,null,null,null,null,null,null,null,{"$f":"IF(1776<=$B$10,IF(LEN('３学期'!GE22)=0,\"\",IF('３学期'!GE22=$B$8,IF(LEN('３学期'!GH22)=0,\"\",'３学期'!GH22),\"\")),\"\")","v":""},{"$f":"IF(LEN(O1776)=0,\"\",IF(COUNTIF(O1776:$O$1921,O1776+1)>0,\"\",O1776+1))","v":""}]
[null,null,null,null,null,null,null,null,null,null,null,null,null,null,{"$f":"IF(1777<=$B$10,IF(LEN('３学期'!GE25)=0,\"\",IF('３学期'!GE25=$B$8,IF(LEN('３学期'!GH25)=0,\"\",'３学期'!GH25),\"\")),\"\")","v":""},{"$f":"IF(LEN(O1777)=0,\"\",IF(COUNTIF(O1777:$O$1921,O1777+1)>0,\"\",O1777+1))","v":""}]
[null,null,null,null,null,null,null,null,null,null,null,null,null,null,{"$f":"IF(1778<=$B$10,IF(LEN('３学期'!GI6)=0,\"\",IF('３学期'!GI6=$B$8,IF(LEN('３学期'!GL6)=0,\"\",'３学期'!GL6),\"\")),\"\")","v":""},{"$f":"IF(LEN(O1778)=0,\"\",IF(COUNTIF(O1778:$O$1921,O1778+1)>0,\"\",O1778+1))","v":""}]
[null,null,null,null,null,null,null,null,null,null,null,null,null,null,{"$f":"IF(1779<=$B$10,IF(LEN('３学期'!GI7)=0,\"\",IF('３学期'!GI7=$B$8,IF(LEN('３学期'!GL7)=0,\"\",'３学期'!GL7),\"\")),\"\")","v":""},{"$f":"IF(LEN(O1779)=0,\"\",IF(COUNTIF(O1779:$O$1921,O1779+1)>0,\"\",O1779+1))","v":""}]
[null,null,null,null,null,null,null,null,null,null,null,null,null,null,{"$f":"IF(1780<=$B$10,IF(LEN('３学期'!GI10)=0,\"\",IF('３学期'!GI10=$B$8,IF(LEN('３学期'!GL10)=0,\"\",'３学期'!GL10),\"\")),\"\")","v":""},{"$f":"IF(LEN(O1780)=0,\"\",IF(COUNTIF(O1780:$O$1921,O1780+1)>0,\"\",O1780+1))","v":""}]
[null,null,null,null,null,null,null,null,null,null,null,null,null,null,{"$f":"IF(1781<=$B$10,IF(LEN('３学期'!GI13)=0,\"\",IF('３学期'!GI13=$B$8,IF(LEN('３学期'!GL13)=0,\"\",'３学期'!GL13),\"\")),\"\")","v":""},{"$f":"IF(LEN(O1781)=0,\"\",IF(COUNTIF(O1781:$O$1921,O1781+1)>0,\"\",O1781+1))","v":""}]
[null,null,null,null,null,null,null,null,null,null,null,null,null,null,{"$f":"IF(1782<=$B$10,IF(LEN('３学期'!GI16)=0,\"\",IF('３学期'!GI16=$B$8,IF(LEN('３学期'!GL16)=0,\"\",'３学期'!GL16),\"\")),\"\")","v":""},{"$f":"IF(LEN(O1782)=0,\"\",IF(COUNTIF(O1782:$O$1921,O1782+1)>0,\"\",O1782+1))","v":""}]
[null,null,null,null,null,null,null,null,null,null,null,null,null,null,{"$f":"IF(1783<=$B$10,IF(LEN('３学期'!GI19)=0,\"\",IF('３学期'!GI19=$B$8,IF(LEN('３学期'!GL19)=0,\"\",'３学期'!GL19),\"\")),\"\")","v":""},{"$f":"IF(LEN(O1783)=0,\"\",IF(COUNTIF(O1783:$O$1921,O1783+1)>0,\"\",O1783+1))","v":""}]
[null,null,null,null,null,null,null,null,null,null,null,null,null,null,{"$f":"IF(1784<=$B$10,IF(LEN('３学期'!GI22)=0,\"\",IF('３学期'!GI22=$B$8,IF(LEN('３学期'!GL22)=0,\"\",'３学期'!GL22),\"\")),\"\")","v":""},{"$f":"IF(LEN(O1784)=0,\"\",IF(COUNTIF(O1784:$O$1921,O1784+1)>0,\"\",O1784+1))","v":""}]
[null,null,null,null,null,null,null,null,null,null,null,null,null,null,{"$f":"IF(1785<=$B$10,IF(LEN('３学期'!GI25)=0,\"\",IF('３学期'!GI25=$B$8,IF(LEN('３学期'!GL25)=0,\"\",'３学期'!GL25),\"\")),\"\")","v":""},{"$f":"IF(LEN(O1785)=0,\"\",IF(COUNTIF(O1785:$O$1921,O1785+1)>0,\"\",O1785+1))","v":""}]
[null,null,null,null,null,null,null,null,null,null,null,null,null,null,{"$f":"IF(1786<=$B$10,IF(LEN('３学期'!GM6)=0,\"\",IF('３学期'!GM6=$B$8,IF(LEN('３学期'!GP6)=0,\"\",'３学期'!GP6),\"\")),\"\")","v":""},{"$f":"IF(LEN(O1786)=0,\"\",IF(COUNTIF(O1786:$O$1921,O1786+1)>0,\"\",O1786+1))","v":""}]
[null,null,null,null,null,null,null,null,null,null,null,null,null,null,{"$f":"IF(1787<=$B$10,IF(LEN('３学期'!GM7)=0,\"\",IF('３学期'!GM7=$B$8,IF(LEN('３学期'!GP7)=0,\"\",'３学期'!GP7),\"\")),\"\")","v":""},{"$f":"IF(LEN(O1787)=0,\"\",IF(COUNTIF(O1787:$O$1921,O1787+1)>0,\"\",O1787+1))","v":""}]
[null,null,null,null,null,null,null,null,null,null,null,null,null,null,{"$f":"IF(1788<=$B$10,IF(LEN('３学期'!GM10)=0,\"\",IF('３学期'!GM10=$B$8,IF(LEN('３学期'!GP10)=0,\"\",'３学期'!GP10),\"\")),\"\")","v":""},{"$f":"IF(LEN(O1788)=0,\"\",IF(COUNTIF(O1788:$O$1921,O1788+1)>0,\"\",O1788+1))","v":""}]
[null,null,null,null,null,null,null,null,null,null,null,null,null,null,{"$f":"IF(1789<=$B$10,IF(LEN('３学期'!GM13)=0,\"\",IF('３学期'!GM13=$B$8,IF(LEN('３学期'!GP13)=0,\"\",'３学期'!GP13),\"\")),\"\")","v":""},{"$f":"IF(LEN(O1789)=0,\"\",IF(COUNTIF(O1789:$O$1921,O1789+1)>0,\"\",O1789+1))","v":""}]
[null,null,null,null,null,null,null,null,null,null,null,null,null,null,{"$f":"IF(1790<=$B$10,IF(LEN('３学期'!GM16)=0,\"\",IF('３学期'!GM16=$B$8,IF(LEN('３学期'!GP16)=0,\"\",'３学期'!GP16),\"\")),\"\")","v":""},{"$f":"IF(LEN(O1790)=0,\"\",IF(COUNTIF(O1790:$O$1921,O1790+1)>0,\"\",O1790+1))","v":""}]
[null,null,null,null,null,null,null,null,null,null,null,null,null,null,{"$f":"IF(1791<=$B$10,IF(LEN('３学期'!GM19)=0,\"\",IF('３学期'!GM19=$B$8,IF(LEN('３学期'!GP19)=0,\"\",'３学期'!GP19),\"\")),\"\")","v":""},{"$f":"IF(LEN(O1791)=0,\"\",IF(COUNTIF(O1791:$O$1921,O1791+1)>0,\"\",O1791+1))","v":""}]
[null,null,null,null,null,null,null,null,null,null,null,null,null,null,{"$f":"IF(1792<=$B$10,IF(LEN('３学期'!GM22)=0,\"\",IF('３学期'!GM22=$B$8,IF(LEN('３学期'!GP22)=0,\"\",'３学期'!GP22),\"\")),\"\")","v":""},{"$f":"IF(LEN(O1792)=0,\"\",IF(COUNTIF(O1792:$O$1921,O1792+1)>0,\"\",O1792+1))","v":""}]
[null,null,null,null,null,null,null,null,null,null,null,null,null,null,{"$f":"IF(1793<=$B$10,IF(LEN('３学期'!GM25)=0,\"\",IF('３学期'!GM25=$B$8,IF(LEN('３学期'!GP25)=0,\"\",'３学期'!GP25),\"\")),\"\")","v":""},{"$f":"IF(LEN(O1793)=0,\"\",IF(COUNTIF(O1793:$O$1921,O1793+1)>0,\"\",O1793+1))","v":""}]
[null,null,null,null,null,null,null,null,null,null,null,null,null,null,{"$f":"IF(1794<=$B$10,IF(LEN('３学期'!GQ6)=0,\"\",IF('３学期'!GQ6=$B$8,IF(LEN('３学期'!GT6)=0,\"\",'３学期'!GT6),\"\")),\"\")","v":""},{"$f":"IF(LEN(O1794)=0,\"\",IF(COUNTIF(O1794:$O$1921,O1794+1)>0,\"\",O1794+1))","v":""}]
[null,null,null,null,null,null,null,null,null,null,null,null,null,null,{"$f":"IF(1795<=$B$10,IF(LEN('３学期'!GQ7)=0,\"\",IF('３学期'!GQ7=$B$8,IF(LEN('３学期'!GT7)=0,\"\",'３学期'!GT7),\"\")),\"\")","v":""},{"$f":"IF(LEN(O1795)=0,\"\",IF(COUNTIF(O1795:$O$1921,O1795+1)>0,\"\",O1795+1))","v":""}]
[null,null,null,null,null,null,null,null,null,null,null,null,null,null,{"$f":"IF(1796<=$B$10,IF(LEN('３学期'!GQ10)=0,\"\",IF('３学期'!GQ10=$B$8,IF(LEN('３学期'!GT10)=0,\"\",'３学期'!GT10),\"\")),\"\")","v":""},{"$f":"IF(LEN(O1796)=0,\"\",IF(COUNTIF(O1796:$O$1921,O1796+1)>0,\"\",O1796+1))","v":""}]
[null,null,null,null,null,null,null,null,null,null,null,null,null,null,{"$f":"IF(1797<=$B$10,IF(LEN('３学期'!GQ13)=0,\"\",IF('３学期'!GQ13=$B$8,IF(LEN('３学期'!GT13)=0,\"\",'３学期'!GT13),\"\")),\"\")","v":""},{"$f":"IF(LEN(O1797)=0,\"\",IF(COUNTIF(O1797:$O$1921,O1797+1)>0,\"\",O1797+1))","v":""}]
[null,null,null,null,null,null,null,null,null,null,null,null,null,null,{"$f":"IF(1798<=$B$10,IF(LEN('３学期'!GQ16)=0,\"\",IF('３学期'!GQ16=$B$8,IF(LEN('３学期'!GT16)=0,\"\",'３学期'!GT16),\"\")),\"\")","v":""},{"$f":"IF(LEN(O1798)=0,\"\",IF(COUNTIF(O1798:$O$1921,O1798+1)>0,\"\",O1798+1))","v":""}]
[null,null,null,null,null,null,null,null,null,null,null,null,null,null,{"$f":"IF(1799<=$B$10,IF(LEN('３学期'!GQ19)=0,\"\",IF('３学期'!GQ19=$B$8,IF(LEN('３学期'!GT19)=0,\"\",'３学期'!GT19),\"\")),\"\")","v":""},{"$f":"IF(LEN(O1799)=0,\"\",IF(COUNTIF(O1799:$O$1921,O1799+1)>0,\"\",O1799+1))","v":""}]
[null,null,null,null,null,null,null,null,null,null,null,null,null,null,{"$f":"IF(1800<=$B$10,IF(LEN('３学期'!GQ22)=0,\"\",IF('３学期'!GQ22=$B$8,IF(LEN('３学期'!GT22)=0,\"\",'３学期'!GT22),\"\")),\"\")","v":""},{"$f":"IF(LEN(O1800)=0,\"\",IF(COUNTIF(O1800:$O$1921,O1800+1)>0,\"\",O1800+1))","v":""}]
[null,null,null,null,null,null,null,null,null,null,null,null,null,null,{"$f":"IF(1801<=$B$10,IF(LEN('３学期'!GQ25)=0,\"\",IF('３学期'!GQ25=$B$8,IF(LEN('３学期'!GT25)=0,\"\",'３学期'!GT25),\"\")),\"\")","v":""},{"$f":"IF(LEN(O1801)=0,\"\",IF(COUNTIF(O1801:$O$1921,O1801+1)>0,\"\",O1801+1))","v":""}]
[null,null,null,null,null,null,null,null,null,null,null,null,null,null,{"$f":"IF(1802<=$B$10,IF(LEN('３学期'!GU6)=0,\"\",IF('３学期'!GU6=$B$8,IF(LEN('３学期'!GX6)=0,\"\",'３学期'!GX6),\"\")),\"\")","v":""},{"$f":"IF(LEN(O1802)=0,\"\",IF(COUNTIF(O1802:$O$1921,O1802+1)>0,\"\",O1802+1))","v":""}]
[null,null,null,null,null,null,null,null,null,null,null,null,null,null,{"$f":"IF(1803<=$B$10,IF(LEN('３学期'!GU7)=0,\"\",IF('３学期'!GU7=$B$8,IF(LEN('３学期'!GX7)=0,\"\",'３学期'!GX7),\"\")),\"\")","v":""},{"$f":"IF(LEN(O1803)=0,\"\",IF(COUNTIF(O1803:$O$1921,O1803+1)>0,\"\",O1803+1))","v":""}]
[null,null,null,null,null,null,null,null,null,null,null,null,null,null,{"$f":"IF(1804<=$B$10,IF(LEN('３学期'!GU10)=0,\"\",IF('３学期'!GU10=$B$8,IF(LEN('３学期'!GX10)=0,\"\",'３学期'!GX10),\"\")),\"\")","v":""},{"$f":"IF(LEN(O1804)=0,\"\",IF(COUNTIF(O1804:$O$1921,O1804+1)>0,\"\",O1804+1))","v":""}]
[null,null,null,null,null,null,null,null,null,null,null,null,null,null,{"$f":"IF(1805<=$B$10,IF(LEN('３学期'!GU13)=0,\"\",IF('３学期'!GU13=$B$8,IF(LEN('３学期'!GX13)=0,\"\",'３学期'!GX13),\"\")),\"\")","v":""},{"$f":"IF(LEN(O1805)=0,\"\",IF(COUNTIF(O1805:$O$1921,O1805+1)>0,\"\",O1805+1))","v":""}]
[null,null,null,null,null,null,null,null,null,null,null,null,null,null,{"$f":"IF(1806<=$B$10,IF(LEN('３学期'!GU16)=0,\"\",IF('３学期'!GU16=$B$8,IF(LEN('３学期'!GX16)=0,\"\",'３学期'!GX16),\"\")),\"\")","v":""},{"$f":"IF(LEN(O1806)=0,\"\",IF(COUNTIF(O1806:$O$1921,O1806+1)>0,\"\",O1806+1))","v":""}]
[null,null,null,null,null,null,null,null,null,null,null,null,null,null,{"$f":"IF(1807<=$B$10,IF(LEN('３学期'!GU19)=0,\"\",IF('３学期'!GU19=$B$8,IF(LEN('３学期'!GX19)=0,\"\",'３学期'!GX19),\"\")),\"\")","v":""},{"$f":"IF(LEN(O1807)=0,\"\",IF(COUNTIF(O1807:$O$1921,O1807+1)>0,\"\",O1807+1))","v":""}]
[null,null,null,null,null,null,null,null,null,null,null,null,null,null,{"$f":"IF(1808<=$B$10,IF(LEN('３学期'!GU22)=0,\"\",IF('３学期'!GU22=$B$8,IF(LEN('３学期'!GX22)=0,\"\",'３学期'!GX22),\"\")),\"\")","v":""},{"$f":"IF(LEN(O1808)=0,\"\",IF(COUNTIF(O1808:$O$1921,O1808+1)>0,\"\",O1808+1))","v":""}]
[null,null,null,null,null,null,null,null,null,null,null,null,null,null,{"$f":"IF(1809<=$B$10,IF(LEN('３学期'!GU25)=0,\"\",IF('３学期'!GU25=$B$8,IF(LEN('３学期'!GX25)=0,\"\",'３学期'!GX25),\"\")),\"\")","v":""},{"$f":"IF(LEN(O1809)=0,\"\",IF(COUNTIF(O1809:$O$1921,O1809+1)>0,\"\",O1809+1))","v":""}]
[null,null,null,null,null,null,null,null,null,null,null,null,null,null,{"$f":"IF(1810<=$B$10,IF(LEN('３学期'!GY6)=0,\"\",IF('３学期'!GY6=$B$8,IF(LEN('３学期'!HB6)=0,\"\",'３学期'!HB6),\"\")),\"\")","v":""},{"$f":"IF(LEN(O1810)=0,\"\",IF(COUNTIF(O1810:$O$1921,O1810+1)>0,\"\",O1810+1))","v":""}]
[null,null,null,null,null,null,null,null,null,null,null,null,null,null,{"$f":"IF(1811<=$B$10,IF(LEN('３学期'!GY7)=0,\"\",IF('３学期'!GY7=$B$8,IF(LEN('３学期'!HB7)=0,\"\",'３学期'!HB7),\"\")),\"\")","v":""},{"$f":"IF(LEN(O1811)=0,\"\",IF(COUNTIF(O1811:$O$1921,O1811+1)>0,\"\",O1811+1))","v":""}]
[null,null,null,null,null,null,null,null,null,null,null,null,null,null,{"$f":"IF(1812<=$B$10,IF(LEN('３学期'!GY10)=0,\"\",IF('３学期'!GY10=$B$8,IF(LEN('３学期'!HB10)=0,\"\",'３学期'!HB10),\"\")),\"\")","v":""},{"$f":"IF(LEN(O1812)=0,\"\",IF(COUNTIF(O1812:$O$1921,O1812+1)>0,\"\",O1812+1))","v":""}]
[null,null,null,null,null,null,null,null,null,null,null,null,null,null,{"$f":"IF(1813<=$B$10,IF(LEN('３学期'!GY13)=0,\"\",IF('３学期'!GY13=$B$8,IF(LEN('３学期'!HB13)=0,\"\",'３学期'!HB13),\"\")),\"\")","v":""},{"$f":"IF(LEN(O1813)=0,\"\",IF(COUNTIF(O1813:$O$1921,O1813+1)>0,\"\",O1813+1))","v":""}]
[null,null,null,null,null,null,null,null,null,null,null,null,null,null,{"$f":"IF(1814<=$B$10,IF(LEN('３学期'!GY16)=0,\"\",IF('３学期'!GY16=$B$8,IF(LEN('３学期'!HB16)=0,\"\",'３学期'!HB16),\"\")),\"\")","v":""},{"$f":"IF(LEN(O1814)=0,\"\",IF(COUNTIF(O1814:$O$1921,O1814+1)>0,\"\",O1814+1))","v":""}]
[null,null,null,null,null,null,null,null,null,null,null,null,null,null,{"$f":"IF(1815<=$B$10,IF(LEN('３学期'!GY19)=0,\"\",IF('３学期'!GY19=$B$8,IF(LEN('３学期'!HB19)=0,\"\",'３学期'!HB19),\"\")),\"\")","v":""},{"$f":"IF(LEN(O1815)=0,\"\",IF(COUNTIF(O1815:$O$1921,O1815+1)>0,\"\",O1815+1))","v":""}]
[null,null,null,null,null,null,null,null,null,null,null,null,null,null,{"$f":"IF(1816<=$B$10,IF(LEN('３学期'!GY22)=0,\"\",IF('３学期'!GY22=$B$8,IF(LEN('３学期'!HB22)=0,\"\",'３学期'!HB22),\"\")),\"\")","v":""},{"$f":"IF(LEN(O1816)=0,\"\",IF(COUNTIF(O1816:$O$1921,O1816+1)>0,\"\",O1816+1))","v":""}]
[null,null,null,null,null,null,null,null,null,null,null,null,null,null,{"$f":"IF(1817<=$B$10,IF(LEN('３学期'!GY25)=0,\"\",IF('３学期'!GY25=$B$8,IF(LEN('３学期'!HB25)=0,\"\",'３学期'!HB25),\"\")),\"\")","v":""},{"$f":"IF(LEN(O1817)=0,\"\",IF(COUNTIF(O1817:$O$1921,O1817+1)>0,\"\",O1817+1))","v":""}]
[null,null,null,null,null,null,null,null,null,null,null,null,null,null,{"$f":"IF(1818<=$B$10,IF(LEN('３学期'!HC6)=0,\"\",IF('３学期'!HC6=$B$8,IF(LEN('３学期'!HF6)=0,\"\",'３学期'!HF6),\"\")),\"\")","v":""},{"$f":"IF(LEN(O1818)=0,\"\",IF(COUNTIF(O1818:$O$1921,O1818+1)>0,\"\",O1818+1))","v":""}]
[null,null,null,null,null,null,null,null,null,null,null,null,null,null,{"$f":"IF(1819<=$B$10,IF(LEN('３学期'!HC7)=0,\"\",IF('３学期'!HC7=$B$8,IF(LEN('３学期'!HF7)=0,\"\",'３学期'!HF7),\"\")),\"\")","v":""},{"$f":"IF(LEN(O1819)=0,\"\",IF(COUNTIF(O1819:$O$1921,O1819+1)>0,\"\",O1819+1))","v":""}]
[null,null,null,null,null,null,null,null,null,null,null,null,null,null,{"$f":"IF(1820<=$B$10,IF(LEN('３学期'!HC10)=0,\"\",IF('３学期'!HC10=$B$8,IF(LEN('３学期'!HF10)=0,\"\",'３学期'!HF10),\"\")),\"\")","v":""},{"$f":"IF(LEN(O1820)=0,\"\",IF(COUNTIF(O1820:$O$1921,O1820+1)>0,\"\",O1820+1))","v":""}]
[null,null,null,null,null,null,null,null,null,null,null,null,null,null,{"$f":"IF(1821<=$B$10,IF(LEN('３学期'!HC13)=0,\"\",IF('３学期'!HC13=$B$8,IF(LEN('３学期'!HF13)=0,\"\",'３学期'!HF13),\"\")),\"\")","v":""},{"$f":"IF(LEN(O1821)=0,\"\",IF(COUNTIF(O1821:$O$1921,O1821+1)>0,\"\",O1821+1))","v":""}]
[null,null,null,null,null,null,null,null,null,null,null,null,null,null,{"$f":"IF(1822<=$B$10,IF(LEN('３学期'!HC16)=0,\"\",IF('３学期'!HC16=$B$8,IF(LEN('３学期'!HF16)=0,\"\",'３学期'!HF16),\"\")),\"\")","v":""},{"$f":"IF(LEN(O1822)=0,\"\",IF(COUNTIF(O1822:$O$1921,O1822+1)>0,\"\",O1822+1))","v":""}]
[null,null,null,null,null,null,null,null,null,null,null,null,null,null,{"$f":"IF(1823<=$B$10,IF(LEN('３学期'!HC19)=0,\"\",IF('３学期'!HC19=$B$8,IF(LEN('３学期'!HF19)=0,\"\",'３学期'!HF19),\"\")),\"\")","v":""},{"$f":"IF(LEN(O1823)=0,\"\",IF(COUNTIF(O1823:$O$1921,O1823+1)>0,\"\",O1823+1))","v":""}]
[null,null,null,null,null,null,null,null,null,null,null,null,null,null,{"$f":"IF(1824<=$B$10,IF(LEN('３学期'!HC22)=0,\"\",IF('３学期'!HC22=$B$8,IF(LEN('３学期'!HF22)=0,\"\",'３学期'!HF22),\"\")),\"\")","v":""},{"$f":"IF(LEN(O1824)=0,\"\",IF(COUNTIF(O1824:$O$1921,O1824+1)>0,\"\",O1824+1))","v":""}]
[null,null,null,null,null,null,null,null,null,null,null,null,null,null,{"$f":"IF(1825<=$B$10,IF(LEN('３学期'!HC25)=0,\"\",IF('３学期'!HC25=$B$8,IF(LEN('３学期'!HF25)=0,\"\",'３学期'!HF25),\"\")),\"\")","v":""},{"$f":"IF(LEN(O1825)=0,\"\",IF(COUNTIF(O1825:$O$1921,O1825+1)>0,\"\",O1825+1))","v":""}]
[null,null,null,null,null,null,null,null,null,null,null,null,null,null,{"$f":"IF(1826<=$B$10,IF(LEN('３学期'!HG6)=0,\"\",IF('３学期'!HG6=$B$8,IF(LEN('３学期'!HJ6)=0,\"\",'３学期'!HJ6),\"\")),\"\")","v":""},{"$f":"IF(LEN(O1826)=0,\"\",IF(COUNTIF(O1826:$O$1921,O1826+1)>0,\"\",O1826+1))","v":""}]
[null,null,null,null,null,null,null,null,null,null,null,null,null,null,{"$f":"IF(1827<=$B$10,IF(LEN('３学期'!HG7)=0,\"\",IF('３学期'!HG7=$B$8,IF(LEN('３学期'!HJ7)=0,\"\",'３学期'!HJ7),\"\")),\"\")","v":""},{"$f":"IF(LEN(O1827)=0,\"\",IF(COUNTIF(O1827:$O$1921,O1827+1)>0,\"\",O1827+1))","v":""}]
[null,null,null,null,null,null,null,null,null,null,null,null,null,null,{"$f":"IF(1828<=$B$10,IF(LEN('３学期'!HG10)=0,\"\",IF('３学期'!HG10=$B$8,IF(LEN('３学期'!HJ10)=0,\"\",'３学期'!HJ10),\"\")),\"\")","v":""},{"$f":"IF(LEN(O1828)=0,\"\",IF(COUNTIF(O1828:$O$1921,O1828+1)>0,\"\",O1828+1))","v":""}]
[null,null,null,null,null,null,null,null,null,null,null,null,null,null,{"$f":"IF(1829<=$B$10,IF(LEN('３学期'!HG13)=0,\"\",IF('３学期'!HG13=$B$8,IF(LEN('３学期'!HJ13)=0,\"\",'３学期'!HJ13),\"\")),\"\")","v":""},{"$f":"IF(LEN(O1829)=0,\"\",IF(COUNTIF(O1829:$O$1921,O1829+1)>0,\"\",O1829+1))","v":""}]
[null,null,null,null,null,null,null,null,null,null,null,null,null,null,{"$f":"IF(1830<=$B$10,IF(LEN('３学期'!HG16)=0,\"\",IF('３学期'!HG16=$B$8,IF(LEN('３学期'!HJ16)=0,\"\",'３学期'!HJ16),\"\")),\"\")","v":""},{"$f":"IF(LEN(O1830)=0,\"\",IF(COUNTIF(O1830:$O$1921,O1830+1)>0,\"\",O1830+1))","v":""}]
[null,null,null,null,null,null,null,null,null,null,null,null,null,null,{"$f":"IF(1831<=$B$10,IF(LEN('３学期'!HG19)=0,\"\",IF('３学期'!HG19=$B$8,IF(LEN('３学期'!HJ19)=0,\"\",'３学期'!HJ19),\"\")),\"\")","v":""},{"$f":"IF(LEN(O1831)=0,\"\",IF(COUNTIF(O1831:$O$1921,O1831+1)>0,\"\",O1831+1))","v":""}]
[null,null,null,null,null,null,null,null,null,null,null,null,null,null,{"$f":"IF(1832<=$B$10,IF(LEN('３学期'!HG22)=0,\"\",IF('３学期'!HG22=$B$8,IF(LEN('３学期'!HJ22)=0,\"\",'３学期'!HJ22),\"\")),\"\")","v":""},{"$f":"IF(LEN(O1832)=0,\"\",IF(COUNTIF(O1832:$O$1921,O1832+1)>0,\"\",O1832+1))","v":""}]
[null,null,null,null,null,null,null,null,null,null,null,null,null,null,{"$f":"IF(1833<=$B$10,IF(LEN('３学期'!HG25)=0,\"\",IF('３学期'!HG25=$B$8,IF(LEN('３学期'!HJ25)=0,\"\",'３学期'!HJ25),\"\")),\"\")","v":""},{"$f":"IF(LEN(O1833)=0,\"\",IF(COUNTIF(O1833:$O$1921,O1833+1)>0,\"\",O1833+1))","v":""}]
[null,null,null,null,null,null,null,null,null,null,null,null,null,null,{"$f":"IF(1834<=$B$10,IF(LEN('３学期'!HK6)=0,\"\",IF('３学期'!HK6=$B$8,IF(LEN('３学期'!HN6)=0,\"\",'３学期'!HN6),\"\")),\"\")","v":""},{"$f":"IF(LEN(O1834)=0,\"\",IF(COUNTIF(O1834:$O$1921,O1834+1)>0,\"\",O1834+1))","v":""}]
[null,null,null,null,null,null,null,null,null,null,null,null,null,null,{"$f":"IF(1835<=$B$10,IF(LEN('３学期'!HK7)=0,\"\",IF('３学期'!HK7=$B$8,IF(LEN('３学期'!HN7)=0,\"\",'３学期'!HN7),\"\")),\"\")","v":""},{"$f":"IF(LEN(O1835)=0,\"\",IF(COUNTIF(O1835:$O$1921,O1835+1)>0,\"\",O1835+1))","v":""}]
[null,null,null,null,null,null,null,null,null,null,null,null,null,null,{"$f":"IF(1836<=$B$10,IF(LEN('３学期'!HK10)=0,\"\",IF('３学期'!HK10=$B$8,IF(LEN('３学期'!HN10)=0,\"\",'３学期'!HN10),\"\")),\"\")","v":""},{"$f":"IF(LEN(O1836)=0,\"\",IF(COUNTIF(O1836:$O$1921,O1836+1)>0,\"\",O1836+1))","v":""}]
[null,null,null,null,null,null,null,null,null,null,null,null,null,null,{"$f":"IF(1837<=$B$10,IF(LEN('３学期'!HK13)=0,\"\",IF('３学期'!HK13=$B$8,IF(LEN('３学期'!HN13)=0,\"\",'３学期'!HN13),\"\")),\"\")","v":""},{"$f":"IF(LEN(O1837)=0,\"\",IF(COUNTIF(O1837:$O$1921,O1837+1)>0,\"\",O1837+1))","v":""}]
[null,null,null,null,null,null,null,null,null,null,null,null,null,null,{"$f":"IF(1838<=$B$10,IF(LEN('３学期'!HK16)=0,\"\",IF('３学期'!HK16=$B$8,IF(LEN('３学期'!HN16)=0,\"\",'３学期'!HN16),\"\")),\"\")","v":""},{"$f":"IF(LEN(O1838)=0,\"\",IF(COUNTIF(O1838:$O$1921,O1838+1)>0,\"\",O1838+1))","v":""}]
[null,null,null,null,null,null,null,null,null,null,null,null,null,null,{"$f":"IF(1839<=$B$10,IF(LEN('３学期'!HK19)=0,\"\",IF('３学期'!HK19=$B$8,IF(LEN('３学期'!HN19)=0,\"\",'３学期'!HN19),\"\")),\"\")","v":""},{"$f":"IF(LEN(O1839)=0,\"\",IF(COUNTIF(O1839:$O$1921,O1839+1)>0,\"\",O1839+1))","v":""}]
[null,null,null,null,null,null,null,null,null,null,null,null,null,null,{"$f":"IF(1840<=$B$10,IF(LEN('３学期'!HK22)=0,\"\",IF('３学期'!HK22=$B$8,IF(LEN('３学期'!HN22)=0,\"\",'３学期'!HN22),\"\")),\"\")","v":""},{"$f":"IF(LEN(O1840)=0,\"\",IF(COUNTIF(O1840:$O$1921,O1840+1)>0,\"\",O1840+1))","v":""}]
[null,null,null,null,null,null,null,null,null,null,null,null,null,null,{"$f":"IF(1841<=$B$10,IF(LEN('３学期'!HK25)=0,\"\",IF('３学期'!HK25=$B$8,IF(LEN('３学期'!HN25)=0,\"\",'３学期'!HN25),\"\")),\"\")","v":""},{"$f":"IF(LEN(O1841)=0,\"\",IF(COUNTIF(O1841:$O$1921,O1841+1)>0,\"\",O1841+1))","v":""}]
[null,null,null,null,null,null,null,null,null,null,null,null,null,null,{"$f":"IF(1842<=$B$10,IF(LEN('３学期'!HO6)=0,\"\",IF('３学期'!HO6=$B$8,IF(LEN('３学期'!HR6)=0,\"\",'３学期'!HR6),\"\")),\"\")","v":""},{"$f":"IF(LEN(O1842)=0,\"\",IF(COUNTIF(O1842:$O$1921,O1842+1)>0,\"\",O1842+1))","v":""}]
[null,null,null,null,null,null,null,null,null,null,null,null,null,null,{"$f":"IF(1843<=$B$10,IF(LEN('３学期'!HO7)=0,\"\",IF('３学期'!HO7=$B$8,IF(LEN('３学期'!HR7)=0,\"\",'３学期'!HR7),\"\")),\"\")","v":""},{"$f":"IF(LEN(O1843)=0,\"\",IF(COUNTIF(O1843:$O$1921,O1843+1)>0,\"\",O1843+1))","v":""}]
[null,null,null,null,null,null,null,null,null,null,null,null,null,null,{"$f":"IF(1844<=$B$10,IF(LEN('３学期'!HO10)=0,\"\",IF('３学期'!HO10=$B$8,IF(LEN('３学期'!HR10)=0,\"\",'３学期'!HR10),\"\")),\"\")","v":""},{"$f":"IF(LEN(O1844)=0,\"\",IF(COUNTIF(O1844:$O$1921,O1844+1)>0,\"\",O1844+1))","v":""}]
[null,null,null,null,null,null,null,null,null,null,null,null,null,null,{"$f":"IF(1845<=$B$10,IF(LEN('３学期'!HO13)=0,\"\",IF('３学期'!HO13=$B$8,IF(LEN('３学期'!HR13)=0,\"\",'３学期'!HR13),\"\")),\"\")","v":""},{"$f":"IF(LEN(O1845)=0,\"\",IF(COUNTIF(O1845:$O$1921,O1845+1)>0,\"\",O1845+1))","v":""}]
[null,null,null,null,null,null,null,null,null,null,null,null,null,null,{"$f":"IF(1846<=$B$10,IF(LEN('３学期'!HO16)=0,\"\",IF('３学期'!HO16=$B$8,IF(LEN('３学期'!HR16)=0,\"\",'３学期'!HR16),\"\")),\"\")","v":""},{"$f":"IF(LEN(O1846)=0,\"\",IF(COUNTIF(O1846:$O$1921,O1846+1)>0,\"\",O1846+1))","v":""}]
[null,null,null,null,null,null,null,null,null,null,null,null,null,null,{"$f":"IF(1847<=$B$10,IF(LEN('３学期'!HO19)=0,\"\",IF('３学期'!HO19=$B$8,IF(LEN('３学期'!HR19)=0,\"\",'３学期'!HR19),\"\")),\"\")","v":""},{"$f":"IF(LEN(O1847)=0,\"\",IF(COUNTIF(O1847:$O$1921,O1847+1)>0,\"\",O1847+1))","v":""}]
[null,null,null,null,null,null,null,null,null,null,null,null,null,null,{"$f":"IF(1848<=$B$10,IF(LEN('３学期'!HO22)=0,\"\",IF('３学期'!HO22=$B$8,IF(LEN('３学期'!HR22)=0,\"\",'３学期'!HR22),\"\")),\"\")","v":""},{"$f":"IF(LEN(O1848)=0,\"\",IF(COUNTIF(O1848:$O$1921,O1848+1)>0,\"\",O1848+1))","v":""}]
[null,null,null,null,null,null,null,null,null,null,null,null,null,null,{"$f":"IF(1849<=$B$10,IF(LEN('３学期'!HO25)=0,\"\",IF('３学期'!HO25=$B$8,IF(LEN('３学期'!HR25)=0,\"\",'３学期'!HR25),\"\")),\"\")","v":""},{"$f":"IF(LEN(O1849)=0,\"\",IF(COUNTIF(O1849:$O$1921,O1849+1)>0,\"\",O1849+1))","v":""}]
[null,null,null,null,null,null,null,null,null,null,null,null,null,null,{"$f":"IF(1850<=$B$10,IF(LEN('３学期'!HS6)=0,\"\",IF('３学期'!HS6=$B$8,IF(LEN('３学期'!HV6)=0,\"\",'３学期'!HV6),\"\")),\"\")","v":""},{"$f":"IF(LEN(O1850)=0,\"\",IF(COUNTIF(O1850:$O$1921,O1850+1)>0,\"\",O1850+1))","v":""}]
[null,null,null,null,null,null,null,null,null,null,null,null,null,null,{"$f":"IF(1851<=$B$10,IF(LEN('３学期'!HS7)=0,\"\",IF('３学期'!HS7=$B$8,IF(LEN('３学期'!HV7)=0,\"\",'３学期'!HV7),\"\")),\"\")","v":""},{"$f":"IF(LEN(O1851)=0,\"\",IF(COUNTIF(O1851:$O$1921,O1851+1)>0,\"\",O1851+1))","v":""}]
[null,null,null,null,null,null,null,null,null,null,null,null,null,null,{"$f":"IF(1852<=$B$10,IF(LEN('３学期'!HS10)=0,\"\",IF('３学期'!HS10=$B$8,IF(LEN('３学期'!HV10)=0,\"\",'３学期'!HV10),\"\")),\"\")","v":""},{"$f":"IF(LEN(O1852)=0,\"\",IF(COUNTIF(O1852:$O$1921,O1852+1)>0,\"\",O1852+1))","v":""}]
[null,null,null,null,null,null,null,null,null,null,null,null,null,null,{"$f":"IF(1853<=$B$10,IF(LEN('３学期'!HS13)=0,\"\",IF('３学期'!HS13=$B$8,IF(LEN('３学期'!HV13)=0,\"\",'３学期'!HV13),\"\")),\"\")","v":""},{"$f":"IF(LEN(O1853)=0,\"\",IF(COUNTIF(O1853:$O$1921,O1853+1)>0,\"\",O1853+1))","v":""}]
[null,null,null,null,null,null,null,null,null,null,null,null,null,null,{"$f":"IF(1854<=$B$10,IF(LEN('３学期'!HS16)=0,\"\",IF('３学期'!HS16=$B$8,IF(LEN('３学期'!HV16)=0,\"\",'３学期'!HV16),\"\")),\"\")","v":""},{"$f":"IF(LEN(O1854)=0,\"\",IF(COUNTIF(O1854:$O$1921,O1854+1)>0,\"\",O1854+1))","v":""}]
[null,null,null,null,null,null,null,null,null,null,null,null,null,null,{"$f":"IF(1855<=$B$10,IF(LEN('３学期'!HS19)=0,\"\",IF('３学期'!HS19=$B$8,IF(LEN('３学期'!HV19)=0,\"\",'３学期'!HV19),\"\")),\"\")","v":""},{"$f":"IF(LEN(O1855)=0,\"\",IF(COUNTIF(O1855:$O$1921,O1855+1)>0,\"\",O1855+1))","v":""}]
[null,null,null,null,null,null,null,null,null,null,null,null,null,null,{"$f":"IF(1856<=$B$10,IF(LEN('３学期'!HS22)=0,\"\",IF('３学期'!HS22=$B$8,IF(LEN('３学期'!HV22)=0,\"\",'３学期'!HV22),\"\")),\"\")","v":""},{"$f":"IF(LEN(O1856)=0,\"\",IF(COUNTIF(O1856:$O$1921,O1856+1)>0,\"\",O1856+1))","v":""}]
[null,null,null,null,null,null,null,null,null,null,null,null,null,null,{"$f":"IF(1857<=$B$10,IF(LEN('３学期'!HS25)=0,\"\",IF('３学期'!HS25=$B$8,IF(LEN('３学期'!HV25)=0,\"\",'３学期'!HV25),\"\")),\"\")","v":""},{"$f":"IF(LEN(O1857)=0,\"\",IF(COUNTIF(O1857:$O$1921,O1857+1)>0,\"\",O1857+1))","v":""}]
[null,null,null,null,null,null,null,null,null,null,null,null,null,null,{"$f":"IF(1858<=$B$10,IF(LEN('３学期'!HW6)=0,\"\",IF('３学期'!HW6=$B$8,IF(LEN('３学期'!HZ6)=0,\"\",'３学期'!HZ6),\"\")),\"\")","v":""},{"$f":"IF(LEN(O1858)=0,\"\",IF(COUNTIF(O1858:$O$1921,O1858+1)>0,\"\",O1858+1))","v":""}]
[null,null,null,null,null,null,null,null,null,null,null,null,null,null,{"$f":"IF(1859<=$B$10,IF(LEN('３学期'!HW7)=0,\"\",IF('３学期'!HW7=$B$8,IF(LEN('３学期'!HZ7)=0,\"\",'３学期'!HZ7),\"\")),\"\")","v":""},{"$f":"IF(LEN(O1859)=0,\"\",IF(COUNTIF(O1859:$O$1921,O1859+1)>0,\"\",O1859+1))","v":""}]
[null,null,null,null,null,null,null,null,null,null,null,null,null,null,{"$f":"IF(1860<=$B$10,IF(LEN('３学期'!HW10)=0,\"\",IF('３学期'!HW10=$B$8,IF(LEN('３学期'!HZ10)=0,\"\",'３学期'!HZ10),\"\")),\"\")","v":""},{"$f":"IF(LEN(O1860)=0,\"\",IF(COUNTIF(O1860:$O$1921,O1860+1)>0,\"\",O1860+1))","v":""}]
[null,null,null,null,null,null,null,null,null,null,null,null,null,null,{"$f":"IF(1861<=$B$10,IF(LEN('３学期'!HW13)=0,\"\",IF('３学期'!HW13=$B$8,IF(LEN('３学期'!HZ13)=0,\"\",'３学期'!HZ13),\"\")),\"\")","v":""},{"$f":"IF(LEN(O1861)=0,\"\",IF(COUNTIF(O1861:$O$1921,O1861+1)>0,\"\",O1861+1))","v":""}]
[null,null,null,null,null,null,null,null,null,null,null,null,null,null,{"$f":"IF(1862<=$B$10,IF(LEN('３学期'!HW16)=0,\"\",IF('３学期'!HW16=$B$8,IF(LEN('３学期'!HZ16)=0,\"\",'３学期'!HZ16),\"\")),\"\")","v":""},{"$f":"IF(LEN(O1862)=0,\"\",IF(COUNTIF(O1862:$O$1921,O1862+1)>0,\"\",O1862+1))","v":""}]
[null,null,null,null,null,null,null,null,null,null,null,null,null,null,{"$f":"IF(1863<=$B$10,IF(LEN('３学期'!HW19)=0,\"\",IF('３学期'!HW19=$B$8,IF(LEN('３学期'!HZ19)=0,\"\",'３学期'!HZ19),\"\")),\"\")","v":""},{"$f":"IF(LEN(O1863)=0,\"\",IF(COUNTIF(O1863:$O$1921,O1863+1)>0,\"\",O1863+1))","v":""}]
[null,null,null,null,null,null,null,null,null,null,null,null,null,null,{"$f":"IF(1864<=$B$10,IF(LEN('３学期'!HW22)=0,\"\",IF('３学期'!HW22=$B$8,IF(LEN('３学期'!HZ22)=0,\"\",'３学期'!HZ22),\"\")),\"\")","v":""},{"$f":"IF(LEN(O1864)=0,\"\",IF(COUNTIF(O1864:$O$1921,O1864+1)>0,\"\",O1864+1))","v":""}]
[null,null,null,null,null,null,null,null,null,null,null,null,null,null,{"$f":"IF(1865<=$B$10,IF(LEN('３学期'!HW25)=0,\"\",IF('３学期'!HW25=$B$8,IF(LEN('３学期'!HZ25)=0,\"\",'３学期'!HZ25),\"\")),\"\")","v":""},{"$f":"IF(LEN(O1865)=0,\"\",IF(COUNTIF(O1865:$O$1921,O1865+1)>0,\"\",O1865+1))","v":""}]
[null,null,null,null,null,null,null,null,null,null,null,null,null,null,{"$f":"IF(1866<=$B$10,IF(LEN('３学期'!IA6)=0,\"\",IF('３学期'!IA6=$B$8,IF(LEN('３学期'!ID6)=0,\"\",'３学期'!ID6),\"\")),\"\")","v":""},{"$f":"IF(LEN(O1866)=0,\"\",IF(COUNTIF(O1866:$O$1921,O1866+1)>0,\"\",O1866+1))","v":""}]
[null,null,null,null,null,null,null,null,null,null,null,null,null,null,{"$f":"IF(1867<=$B$10,IF(LEN('３学期'!IA7)=0,\"\",IF('３学期'!IA7=$B$8,IF(LEN('３学期'!ID7)=0,\"\",'３学期'!ID7),\"\")),\"\")","v":""},{"$f":"IF(LEN(O1867)=0,\"\",IF(COUNTIF(O1867:$O$1921,O1867+1)>0,\"\",O1867+1))","v":""}]
[null,null,null,null,null,null,null,null,null,null,null,null,null,null,{"$f":"IF(1868<=$B$10,IF(LEN('３学期'!IA10)=0,\"\",IF('３学期'!IA10=$B$8,IF(LEN('３学期'!ID10)=0,\"\",'３学期'!ID10),\"\")),\"\")","v":""},{"$f":"IF(LEN(O1868)=0,\"\",IF(COUNTIF(O1868:$O$1921,O1868+1)>0,\"\",O1868+1))","v":""}]
[null,null,null,null,null,null,null,null,null,null,null,null,null,null,{"$f":"IF(1869<=$B$10,IF(LEN('３学期'!IA13)=0,\"\",IF('３学期'!IA13=$B$8,IF(LEN('３学期'!ID13)=0,\"\",'３学期'!ID13),\"\")),\"\")","v":""},{"$f":"IF(LEN(O1869)=0,\"\",IF(COUNTIF(O1869:$O$1921,O1869+1)>0,\"\",O1869+1))","v":""}]
[null,null,null,null,null,null,null,null,null,null,null,null,null,null,{"$f":"IF(1870<=$B$10,IF(LEN('３学期'!IA16)=0,\"\",IF('３学期'!IA16=$B$8,IF(LEN('３学期'!ID16)=0,\"\",'３学期'!ID16),\"\")),\"\")","v":""},{"$f":"IF(LEN(O1870)=0,\"\",IF(COUNTIF(O1870:$O$1921,O1870+1)>0,\"\",O1870+1))","v":""}]
[null,null,null,null,null,null,null,null,null,null,null,null,null,null,{"$f":"IF(1871<=$B$10,IF(LEN('３学期'!IA19)=0,\"\",IF('３学期'!IA19=$B$8,IF(LEN('３学期'!ID19)=0,\"\",'３学期'!ID19),\"\")),\"\")","v":""},{"$f":"IF(LEN(O1871)=0,\"\",IF(COUNTIF(O1871:$O$1921,O1871+1)>0,\"\",O1871+1))","v":""}]
[null,null,null,null,null,null,null,null,null,null,null,null,null,null,{"$f":"IF(1872<=$B$10,IF(LEN('３学期'!IA22)=0,\"\",IF('３学期'!IA22=$B$8,IF(LEN('３学期'!ID22)=0,\"\",'３学期'!ID22),\"\")),\"\")","v":""},{"$f":"IF(LEN(O1872)=0,\"\",IF(COUNTIF(O1872:$O$1921,O1872+1)>0,\"\",O1872+1))","v":""}]
[null,null,null,null,null,null,null,null,null,null,null,null,null,null,{"$f":"IF(1873<=$B$10,IF(LEN('３学期'!IA25)=0,\"\",IF('３学期'!IA25=$B$8,IF(LEN('３学期'!ID25)=0,\"\",'３学期'!ID25),\"\")),\"\")","v":""},{"$f":"IF(LEN(O1873)=0,\"\",IF(COUNTIF(O1873:$O$1921,O1873+1)>0,\"\",O1873+1))","v":""}]
[null,null,null,null,null,null,null,null,null,null,null,null,null,null,{"$f":"IF(1874<=$B$10,IF(LEN('３学期'!IE6)=0,\"\",IF('３学期'!IE6=$B$8,IF(LEN('３学期'!IH6)=0,\"\",'３学期'!IH6),\"\")),\"\")","v":""},{"$f":"IF(LEN(O1874)=0,\"\",IF(COUNTIF(O1874:$O$1921,O1874+1)>0,\"\",O1874+1))","v":""}]
[null,null,null,null,null,null,null,null,null,null,null,null,null,null,{"$f":"IF(1875<=$B$10,IF(LEN('３学期'!IE7)=0,\"\",IF('３学期'!IE7=$B$8,IF(LEN('３学期'!IH7)=0,\"\",'３学期'!IH7),\"\")),\"\")","v":""},{"$f":"IF(LEN(O1875)=0,\"\",IF(COUNTIF(O1875:$O$1921,O1875+1)>0,\"\",O1875+1))","v":""}]
[null,null,null,null,null,null,null,null,null,null,null,null,null,null,{"$f":"IF(1876<=$B$10,IF(LEN('３学期'!IE10)=0,\"\",IF('３学期'!IE10=$B$8,IF(LEN('３学期'!IH10)=0,\"\",'３学期'!IH10),\"\")),\"\")","v":""},{"$f":"IF(LEN(O1876)=0,\"\",IF(COUNTIF(O1876:$O$1921,O1876+1)>0,\"\",O1876+1))","v":""}]
[null,null,null,null,null,null,null,null,null,null,null,null,null,null,{"$f":"IF(1877<=$B$10,IF(LEN('３学期'!IE13)=0,\"\",IF('３学期'!IE13=$B$8,IF(LEN('３学期'!IH13)=0,\"\",'３学期'!IH13),\"\")),\"\")","v":""},{"$f":"IF(LEN(O1877)=0,\"\",IF(COUNTIF(O1877:$O$1921,O1877+1)>0,\"\",O1877+1))","v":""}]
[null,null,null,null,null,null,null,null,null,null,null,null,null,null,{"$f":"IF(1878<=$B$10,IF(LEN('３学期'!IE16)=0,\"\",IF('３学期'!IE16=$B$8,IF(LEN('３学期'!IH16)=0,\"\",'３学期'!IH16),\"\")),\"\")","v":""},{"$f":"IF(LEN(O1878)=0,\"\",IF(COUNTIF(O1878:$O$1921,O1878+1)>0,\"\",O1878+1))","v":""}]
[null,null,null,null,null,null,null,null,null,null,null,null,null,null,{"$f":"IF(1879<=$B$10,IF(LEN('３学期'!IE19)=0,\"\",IF('３学期'!IE19=$B$8,IF(LEN('３学期'!IH19)=0,\"\",'３学期'!IH19),\"\")),\"\")","v":""},{"$f":"IF(LEN(O1879)=0,\"\",IF(COUNTIF(O1879:$O$1921,O1879+1)>0,\"\",O1879+1))","v":""}]
[null,null,null,null,null,null,null,null,null,null,null,null,null,null,{"$f":"IF(1880<=$B$10,IF(LEN('３学期'!IE22)=0,\"\",IF('３学期'!IE22=$B$8,IF(LEN('３学期'!IH22)=0,\"\",'３学期'!IH22),\"\")),\"\")","v":""},{"$f":"IF(LEN(O1880)=0,\"\",IF(COUNTIF(O1880:$O$1921,O1880+1)>0,\"\",O1880+1))","v":""}]
[null,null,null,null,null,null,null,null,null,null,null,null,null,null,{"$f":"IF(1881<=$B$10,IF(LEN('３学期'!IE25)=0,\"\",IF('３学期'!IE25=$B$8,IF(LEN('３学期'!IH25)=0,\"\",'３学期'!IH25),\"\")),\"\")","v":""},{"$f":"IF(LEN(O1881)=0,\"\",IF(COUNTIF(O1881:$O$1921,O1881+1)>0,\"\",O1881+1))","v":""}]
[null,null,null,null,null,null,null,null,null,null,null,null,null,null,{"$f":"IF(1882<=$B$10,IF(LEN('３学期'!II6)=0,\"\",IF('３学期'!II6=$B$8,IF(LEN('３学期'!IL6)=0,\"\",'３学期'!IL6),\"\")),\"\")","v":""},{"$f":"IF(LEN(O1882)=0,\"\",IF(COUNTIF(O1882:$O$1921,O1882+1)>0,\"\",O1882+1))","v":""}]
[null,null,null,null,null,null,null,null,null,null,null,null,null,null,{"$f":"IF(1883<=$B$10,IF(LEN('３学期'!II7)=0,\"\",IF('３学期'!II7=$B$8,IF(LEN('３学期'!IL7)=0,\"\",'３学期'!IL7),\"\")),\"\")","v":""},{"$f":"IF(LEN(O1883)=0,\"\",IF(COUNTIF(O1883:$O$1921,O1883+1)>0,\"\",O1883+1))","v":""}]
[null,null,null,null,null,null,null,null,null,null,null,null,null,null,{"$f":"IF(1884<=$B$10,IF(LEN('３学期'!II10)=0,\"\",IF('３学期'!II10=$B$8,IF(LEN('３学期'!IL10)=0,\"\",'３学期'!IL10),\"\")),\"\")","v":""},{"$f":"IF(LEN(O1884)=0,\"\",IF(COUNTIF(O1884:$O$1921,O1884+1)>0,\"\",O1884+1))","v":""}]
[null,null,null,null,null,null,null,null,null,null,null,null,null,null,{"$f":"IF(1885<=$B$10,IF(LEN('３学期'!II13)=0,\"\",IF('３学期'!II13=$B$8,IF(LEN('３学期'!IL13)=0,\"\",'３学期'!IL13),\"\")),\"\")","v":""},{"$f":"IF(LEN(O1885)=0,\"\",IF(COUNTIF(O1885:$O$1921,O1885+1)>0,\"\",O1885+1))","v":""}]
[null,null,null,null,null,null,null,null,null,null,null,null,null,null,{"$f":"IF(1886<=$B$10,IF(LEN('３学期'!II16)=0,\"\",IF('３学期'!II16=$B$8,IF(LEN('３学期'!IL16)=0,\"\",'３学期'!IL16),\"\")),\"\")","v":""},{"$f":"IF(LEN(O1886)=0,\"\",IF(COUNTIF(O1886:$O$1921,O1886+1)>0,\"\",O1886+1))","v":""}]
[null,null,null,null,null,null,null,null,null,null,null,null,null,null,{"$f":"IF(1887<=$B$10,IF(LEN('３学期'!II19)=0,\"\",IF('３学期'!II19=$B$8,IF(LEN('３学期'!IL19)=0,\"\",'３学期'!IL19),\"\")),\"\")","v":""},{"$f":"IF(LEN(O1887)=0,\"\",IF(COUNTIF(O1887:$O$1921,O1887+1)>0,\"\",O1887+1))","v":""}]
[null,null,null,null,null,null,null,null,null,null,null,null,null,null,{"$f":"IF(1888<=$B$10,IF(LEN('３学期'!II22)=0,\"\",IF('３学期'!II22=$B$8,IF(LEN('３学期'!IL22)=0,\"\",'３学期'!IL22),\"\")),\"\")","v":""},{"$f":"IF(LEN(O1888)=0,\"\",IF(COUNTIF(O1888:$O$1921,O1888+1)>0,\"\",O1888+1))","v":""}]
[null,null,null,null,null,null,null,null,null,null,null,null,null,null,{"$f":"IF(1889<=$B$10,IF(LEN('３学期'!II25)=0,\"\",IF('３学期'!II25=$B$8,IF(LEN('３学期'!IL25)=0,\"\",'３学期'!IL25),\"\")),\"\")","v":""},{"$f":"IF(LEN(O1889)=0,\"\",IF(COUNTIF(O1889:$O$1921,O1889+1)>0,\"\",O1889+1))","v":""}]
[null,null,null,null,null,null,null,null,null,null,null,null,null,null,{"$f":"IF(1890<=$B$10,IF(LEN('３学期'!IM6)=0,\"\",IF('３学期'!IM6=$B$8,IF(LEN('３学期'!IP6)=0,\"\",'３学期'!IP6),\"\")),\"\")","v":""},{"$f":"IF(LEN(O1890)=0,\"\",IF(COUNTIF(O1890:$O$1921,O1890+1)>0,\"\",O1890+1))","v":""}]
[null,null,null,null,null,null,null,null,null,null,null,null,null,null,{"$f":"IF(1891<=$B$10,IF(LEN('３学期'!IM7)=0,\"\",IF('３学期'!IM7=$B$8,IF(LEN('３学期'!IP7)=0,\"\",'３学期'!IP7),\"\")),\"\")","v":""},{"$f":"IF(LEN(O1891)=0,\"\",IF(COUNTIF(O1891:$O$1921,O1891+1)>0,\"\",O1891+1))","v":""}]
[null,null,null,null,null,null,null,null,null,null,null,null,null,null,{"$f":"IF(1892<=$B$10,IF(LEN('３学期'!IM10)=0,\"\",IF('３学期'!IM10=$B$8,IF(LEN('３学期'!IP10)=0,\"\",'３学期'!IP10),\"\")),\"\")","v":""},{"$f":"IF(LEN(O1892)=0,\"\",IF(COUNTIF(O1892:$O$1921,O1892+1)>0,\"\",O1892+1))","v":""}]
[null,null,null,null,null,null,null,null,null,null,null,null,null,null,{"$f":"IF(1893<=$B$10,IF(LEN('３学期'!IM13)=0,\"\",IF('３学期'!IM13=$B$8,IF(LEN('３学期'!IP13)=0,\"\",'３学期'!IP13),\"\")),\"\")","v":""},{"$f":"IF(LEN(O1893)=0,\"\",IF(COUNTIF(O1893:$O$1921,O1893+1)>0,\"\",O1893+1))","v":""}]
[null,null,null,null,null,null,null,null,null,null,null,null,null,null,{"$f":"IF(1894<=$B$10,IF(LEN('３学期'!IM16)=0,\"\",IF('３学期'!IM16=$B$8,IF(LEN('３学期'!IP16)=0,\"\",'３学期'!IP16),\"\")),\"\")","v":""},{"$f":"IF(LEN(O1894)=0,\"\",IF(COUNTIF(O1894:$O$1921,O1894+1)>0,\"\",O1894+1))","v":""}]
[null,null,null,null,null,null,null,null,null,null,null,null,null,null,{"$f":"IF(1895<=$B$10,IF(LEN('３学期'!IM19)=0,\"\",IF('３学期'!IM19=$B$8,IF(LEN('３学期'!IP19)=0,\"\",'３学期'!IP19),\"\")),\"\")","v":""},{"$f":"IF(LEN(O1895)=0,\"\",IF(COUNTIF(O1895:$O$1921,O1895+1)>0,\"\",O1895+1))","v":""}]
[null,null,null,null,null,null,null,null,null,null,null,null,null,null,{"$f":"IF(1896<=$B$10,IF(LEN('３学期'!IM22)=0,\"\",IF('３学期'!IM22=$B$8,IF(LEN('３学期'!IP22)=0,\"\",'３学期'!IP22),\"\")),\"\")","v":""},{"$f":"IF(LEN(O1896)=0,\"\",IF(COUNTIF(O1896:$O$1921,O1896+1)>0,\"\",O1896+1))","v":""}]
[null,null,null,null,null,null,null,null,null,null,null,null,null,null,{"$f":"IF(1897<=$B$10,IF(LEN('３学期'!IM25)=0,\"\",IF('３学期'!IM25=$B$8,IF(LEN('３学期'!IP25)=0,\"\",'３学期'!IP25),\"\")),\"\")","v":""},{"$f":"IF(LEN(O1897)=0,\"\",IF(COUNTIF(O1897:$O$1921,O1897+1)>0,\"\",O1897+1))","v":""}]
[null,null,null,null,null,null,null,null,null,null,null,null,null,null,{"$f":"IF(1898<=$B$10,IF(LEN('３学期'!IQ6)=0,\"\",IF('３学期'!IQ6=$B$8,IF(LEN('３学期'!IT6)=0,\"\",'３学期'!IT6),\"\")),\"\")","v":""},{"$f":"IF(LEN(O1898)=0,\"\",IF(COUNTIF(O1898:$O$1921,O1898+1)>0,\"\",O1898+1))","v":""}]
[null,null,null,null,null,null,null,null,null,null,null,null,null,null,{"$f":"IF(1899<=$B$10,IF(LEN('３学期'!IQ7)=0,\"\",IF('３学期'!IQ7=$B$8,IF(LEN('３学期'!IT7)=0,\"\",'３学期'!IT7),\"\")),\"\")","v":""},{"$f":"IF(LEN(O1899)=0,\"\",IF(COUNTIF(O1899:$O$1921,O1899+1)>0,\"\",O1899+1))","v":""}]
[null,null,null,null,null,null,null,null,null,null,null,null,null,null,{"$f":"IF(1900<=$B$10,IF(LEN('３学期'!IQ10)=0,\"\",IF('３学期'!IQ10=$B$8,IF(LEN('３学期'!IT10)=0,\"\",'３学期'!IT10),\"\")),\"\")","v":""},{"$f":"IF(LEN(O1900)=0,\"\",IF(COUNTIF(O1900:$O$1921,O1900+1)>0,\"\",O1900+1))","v":""}]
[null,null,null,null,null,null,null,null,null,null,null,null,null,null,{"$f":"IF(1901<=$B$10,IF(LEN('３学期'!IQ13)=0,\"\",IF('３学期'!IQ13=$B$8,IF(LEN('３学期'!IT13)=0,\"\",'３学期'!IT13),\"\")),\"\")","v":""},{"$f":"IF(LEN(O1901)=0,\"\",IF(COUNTIF(O1901:$O$1921,O1901+1)>0,\"\",O1901+1))","v":""}]
[null,null,null,null,null,null,null,null,null,null,null,null,null,null,{"$f":"IF(1902<=$B$10,IF(LEN('３学期'!IQ16)=0,\"\",IF('３学期'!IQ16=$B$8,IF(LEN('３学期'!IT16)=0,\"\",'３学期'!IT16),\"\")),\"\")","v":""},{"$f":"IF(LEN(O1902)=0,\"\",IF(COUNTIF(O1902:$O$1921,O1902+1)>0,\"\",O1902+1))","v":""}]
[null,null,null,null,null,null,null,null,null,null,null,null,null,null,{"$f":"IF(1903<=$B$10,IF(LEN('３学期'!IQ19)=0,\"\",IF('３学期'!IQ19=$B$8,IF(LEN('３学期'!IT19)=0,\"\",'３学期'!IT19),\"\")),\"\")","v":""},{"$f":"IF(LEN(O1903)=0,\"\",IF(COUNTIF(O1903:$O$1921,O1903+1)>0,\"\",O1903+1))","v":""}]
[null,null,null,null,null,null,null,null,null,null,null,null,null,null,{"$f":"IF(1904<=$B$10,IF(LEN('３学期'!IQ22)=0,\"\",IF('３学期'!IQ22=$B$8,IF(LEN('３学期'!IT22)=0,\"\",'３学期'!IT22),\"\")),\"\")","v":""},{"$f":"IF(LEN(O1904)=0,\"\",IF(COUNTIF(O1904:$O$1921,O1904+1)>0,\"\",O1904+1))","v":""}]
[null,null,null,null,null,null,null,null,null,null,null,null,null,null,{"$f":"IF(1905<=$B$10,IF(LEN('３学期'!IQ25)=0,\"\",IF('３学期'!IQ25=$B$8,IF(LEN('３学期'!IT25)=0,\"\",'３学期'!IT25),\"\")),\"\")","v":""},{"$f":"IF(LEN(O1905)=0,\"\",IF(COUNTIF(O1905:$O$1921,O1905+1)>0,\"\",O1905+1))","v":""}]
[null,null,null,null,null,null,null,null,null,null,null,null,null,null,{"$f":"IF(1906<=$B$10,IF(LEN('３学期'!IU6)=0,\"\",IF('３学期'!IU6=$B$8,IF(LEN('３学期'!IX6)=0,\"\",'３学期'!IX6),\"\")),\"\")","v":""},{"$f":"IF(LEN(O1906)=0,\"\",IF(COUNTIF(O1906:$O$1921,O1906+1)>0,\"\",O1906+1))","v":""}]
[null,null,null,null,null,null,null,null,null,null,null,null,null,null,{"$f":"IF(1907<=$B$10,IF(LEN('３学期'!IU7)=0,\"\",IF('３学期'!IU7=$B$8,IF(LEN('３学期'!IX7)=0,\"\",'３学期'!IX7),\"\")),\"\")","v":""},{"$f":"IF(LEN(O1907)=0,\"\",IF(COUNTIF(O1907:$O$1921,O1907+1)>0,\"\",O1907+1))","v":""}]
[null,null,null,null,null,null,null,null,null,null,null,null,null,null,{"$f":"IF(1908<=$B$10,IF(LEN('３学期'!IU10)=0,\"\",IF('３学期'!IU10=$B$8,IF(LEN('３学期'!IX10)=0,\"\",'３学期'!IX10),\"\")),\"\")","v":""},{"$f":"IF(LEN(O1908)=0,\"\",IF(COUNTIF(O1908:$O$1921,O1908+1)>0,\"\",O1908+1))","v":""}]
[null,null,null,null,null,null,null,null,null,null,null,null,null,null,{"$f":"IF(1909<=$B$10,IF(LEN('３学期'!IU13)=0,\"\",IF('３学期'!IU13=$B$8,IF(LEN('３学期'!IX13)=0,\"\",'３学期'!IX13),\"\")),\"\")","v":""},{"$f":"IF(LEN(O1909)=0,\"\",IF(COUNTIF(O1909:$O$1921,O1909+1)>0,\"\",O1909+1))","v":""}]
[null,null,null,null,null,null,null,null,null,null,null,null,null,null,{"$f":"IF(1910<=$B$10,IF(LEN('３学期'!IU16)=0,\"\",IF('３学期'!IU16=$B$8,IF(LEN('３学期'!IX16)=0,\"\",'３学期'!IX16),\"\")),\"\")","v":""},{"$f":"IF(LEN(O1910)=0,\"\",IF(COUNTIF(O1910:$O$1921,O1910+1)>0,\"\",O1910+1))","v":""}]
[null,null,null,null,null,null,null,null,null,null,null,null,null,null,{"$f":"IF(1911<=$B$10,IF(LEN('３学期'!IU19)=0,\"\",IF('３学期'!IU19=$B$8,IF(LEN('３学期'!IX19)=0,\"\",'３学期'!IX19),\"\")),\"\")","v":""},{"$f":"IF(LEN(O1911)=0,\"\",IF(COUNTIF(O1911:$O$1921,O1911+1)>0,\"\",O1911+1))","v":""}]
[null,null,null,null,null,null,null,null,null,null,null,null,null,null,{"$f":"IF(1912<=$B$10,IF(LEN('３学期'!IU22)=0,\"\",IF('３学期'!IU22=$B$8,IF(LEN('３学期'!IX22)=0,\"\",'３学期'!IX22),\"\")),\"\")","v":""},{"$f":"IF(LEN(O1912)=0,\"\",IF(COUNTIF(O1912:$O$1921,O1912+1)>0,\"\",O1912+1))","v":""}]
[null,null,null,null,null,null,null,null,null,null,null,null,null,null,{"$f":"IF(1913<=$B$10,IF(LEN('３学期'!IU25)=0,\"\",IF('３学期'!IU25=$B$8,IF(LEN('３学期'!IX25)=0,\"\",'３学期'!IX25),\"\")),\"\")","v":""},{"$f":"IF(LEN(O1913)=0,\"\",IF(COUNTIF(O1913:$O$1921,O1913+1)>0,\"\",O1913+1))","v":""}]
[null,null,null,null,null,null,null,null,null,null,null,null,null,null,{"$f":"IF(1914<=$B$10,IF(LEN('３学期'!IY6)=0,\"\",IF('３学期'!IY6=$B$8,IF(LEN('３学期'!JB6)=0,\"\",'３学期'!JB6),\"\")),\"\")","v":""},{"$f":"IF(LEN(O1914)=0,\"\",IF(COUNTIF(O1914:$O$1921,O1914+1)>0,\"\",O1914+1))","v":""}]
[null,null,null,null,null,null,null,null,null,null,null,null,null,null,{"$f":"IF(1915<=$B$10,IF(LEN('３学期'!IY7)=0,\"\",IF('３学期'!IY7=$B$8,IF(LEN('３学期'!JB7)=0,\"\",'３学期'!JB7),\"\")),\"\")","v":""},{"$f":"IF(LEN(O1915)=0,\"\",IF(COUNTIF(O1915:$O$1921,O1915+1)>0,\"\",O1915+1))","v":""}]
[null,null,null,null,null,null,null,null,null,null,null,null,null,null,{"$f":"IF(1916<=$B$10,IF(LEN('３学期'!IY10)=0,\"\",IF('３学期'!IY10=$B$8,IF(LEN('３学期'!JB10)=0,\"\",'３学期'!JB10),\"\")),\"\")","v":""},{"$f":"IF(LEN(O1916)=0,\"\",IF(COUNTIF(O1916:$O$1921,O1916+1)>0,\"\",O1916+1))","v":""}]
[null,null,null,null,null,null,null,null,null,null,null,null,null,null,{"$f":"IF(1917<=$B$10,IF(LEN('３学期'!IY13)=0,\"\",IF('３学期'!IY13=$B$8,IF(LEN('３学期'!JB13)=0,\"\",'３学期'!JB13),\"\")),\"\")","v":""},{"$f":"IF(LEN(O1917)=0,\"\",IF(COUNTIF(O1917:$O$1921,O1917+1)>0,\"\",O1917+1))","v":""}]
[null,null,null,null,null,null,null,null,null,null,null,null,null,null,{"$f":"IF(1918<=$B$10,IF(LEN('３学期'!IY16)=0,\"\",IF('３学期'!IY16=$B$8,IF(LEN('３学期'!JB16)=0,\"\",'３学期'!JB16),\"\")),\"\")","v":""},{"$f":"IF(LEN(O1918)=0,\"\",IF(COUNTIF(O1918:$O$1921,O1918+1)>0,\"\",O1918+1))","v":""}]
[null,null,null,null,null,null,null,null,null,null,null,null,null,null,{"$f":"IF(1919<=$B$10,IF(LEN('３学期'!IY19)=0,\"\",IF('３学期'!IY19=$B$8,IF(LEN('３学期'!JB19)=0,\"\",'３学期'!JB19),\"\")),\"\")","v":""},{"$f":"IF(LEN(O1919)=0,\"\",IF(COUNTIF(O1919:$O$1921,O1919+1)>0,\"\",O1919+1))","v":""}]
[null,null,null,null,null,null,null,null,null,null,null,null,null,null,{"$f":"IF(1920<=$B$10,IF(LEN('３学期'!IY22)=0,\"\",IF('３学期'!IY22=$B$8,IF(LEN('３学期'!JB22)=0,\"\",'３学期'!JB22),\"\")),\"\")","v":""},{"$f":"IF(LEN(O1920)=0,\"\",IF(COUNTIF(O1920:$O$1921,O1920+1)>0,\"\",O1920+1))","v":""}]
[null,null,null,null,null,null,null,null,null,null,null,null,null,null,{"$f":"IF(1921<=$B$10,IF(LEN('３学期'!IY25)=0,\"\",IF('３学期'!IY25=$B$8,IF(LEN('３学期'!JB25)=0,\"\",'３学期'!JB25),\"\")),\"\")","v":""},{"$f":"IF(LEN(O1921)=0,\"\",IF(COUNTIF(O1921:$O$1921,O1921+1)>0,\"\",O1921+1))","v":""}]